{"text_format":"1","workbook":"xlsx","n_sheets":3,"sheets":["説明","建玉一覧取得","制限値幅取得"],"not_rendered":{"charts":0,"images":1,"macros":1,"external_links":0,"defined_names":2,"comments":0,"pivot_tables":0},"unopened":[],"bounds":{"document_bytes":16777216,"sheet_cells":100000,"rows_first":2000,"rows_last":500,"rows_between":2000,"halvings":0,"cell_chars":16384,"cell_head_chars":4096},"cells_cut":0,"cells_raw":0,"read":"whole","date_system":"1900"}

{"sheet":"説明","index":0,"n_rows":49,"n_cols":15,"rows_kept":49,"cut":false,"hidden":false,"merged":[]}
[]
[null,"サンプルシートの説明"]
[]
[]
[]
[]
[]
[]
[]
[]
[]
[]
[]
[]
[]
[]
[]
[]
[]
[]
[]
[]
[]
[]
[null,"■使用手順",null,null,null,null,null,null,null,null,null,null,null,null,"■使用例"]
[null,"1.「信用建玉情報取得ボタン」をクリックします。",null,null,null,null,null,null,null,null,null,null,null,null,"売建玉をS安になるまでにロスカットしたいと考えており、S安の手前で自動で成行注文が発注されるようにしたい。"]
[null,null,null,null,null,null,null,null,null,null,null,null,null,null,"そこで、下限90%に到達した際に立つフラグを利用して、自動で買返済の成行注文が発注されるようにしたい。"]
[null,"2.銘柄コードや口座区分、建区分を指定し、「信用建玉情報取得ボタン」をクリックすると建玉情報を抽出することができます。"]
[]
[null,"3.閾値を入力します。条件達成でフラグが立ちます。",null,null,null,null,null,null,null,null,null,null,null,null,"★発注式の例"]
[null,"・高安更新フラグ設定：高値・安値更新時刻から、指定した時間以内は「高値更新」「安値更新」フラグが立ちます。",null,null,null,null,null,null,null,null,null,null,null,null,"※ネオトレAPIでは発注トリガーがあり、FALSE: 待機、TRUE: 発注を設定値としているため、"]
[null,"※当日の高値・安値時刻を参照しているため、始値を付けた時点で必ずフラグが立ちますのでご注意ください。",null,null,null,null,null,null,null,null,null,null,null,null,"以下の設定を行うことで自動発注を実現できます。"]
[null,"※高値・安値の価格と時刻が同じ場合は「高値更新」フラグが立ちます。",null,null,null,null,null,null,null,null,null,null,null,null,"①信用建玉シートでIF文を使用し、S安付近フラグが立ったら、TRUEを返すようにする"]
[null,"※設定値は1以上の整数を入力してください。",null,null,null,null,null,null,null,null,null,null,null,null,"※この例では、IF文入力セルはAA16、フラグを表示させるセルはZ16と仮定する"]
[null,null,null,null,null,null,null,null,null,null,null,null,null,null,"=IF(Z16=\"S安付近\",TRUE,FALSE)"]
[null,"・ロスカットフラグ設定：設定したロスカット値に達すると「ロスカット」フラグが立ちます。"]
[null,"※設定値は0~100の整数を入力してください。",null,null,null,null,null,null,null,null,null,null,null,null,"②上記IF文の結果がTRUEの場合、発注されるようにする"]
[null,null,null,null,null,null,null,null,null,null,null,null,null,null,"※建玉IDはB16セル、銘柄はコードはC16セルを参照"]
[null,"・ロスカット指値設定： ロスカット指値目安の表示を1円・5円・10円単位で設定可能です。",null,null,null,null,null,null,null,null,null,null,null,null,"=IF(AA16,SNT.MrgnCloseOrder(1,AA16,C16,3,B16,0,1000,0,,1,1,))"]
[null,null,null,null,null,null,null,null,null,null,null,null,null,null,"関数のご使用方法は以下のリンクの4.情報参照-取得関数、6.照会-取得関数をご参照ください。"]
[null,"・S高・S安接近率設定：指定した接近率で算出した価格より現在値が大きいと「S高付近」フラグが立ち、",null,null,null,null,null,null,null,null,null,null,null,null,"https://www.sbineotrade.jp/tool/api/operation.html"]
[null,null,null,"  小さいと「S安付近」フラグが立ちます。"]
[null,"※設定値は0~100の整数を入力してください。0%が値幅の基準となる前日終値、100%が値幅の上下限値になります。"]
[null,"※入力した接近率で算出する価格は、小数点第一位を四捨五入します。"]
[]
[null,"サンプルシート使用上の注意事項"]
[null,"当サンプルシートは、特定の銘柄や商品の勧誘や売買の推奨等を目的としたものではありません。"]
[null,"当サンプルシートは、株式全般の推奨や株価動向の上昇または下落を示唆するものではありません。"]
[null,"投資にあたっての最終判断はお客様ご自身でお願いいたします。"]

{"sheet":"建玉一覧取得","index":1,"n_rows":509,"n_cols":26,"rows_kept":509,"cut":false,"hidden":false,"merged":[]}
[]
[null,null,null,"ソート条件",null,null,null,null,null,null,null,null,null,null,null,null,null,null,null,null,null,null,null,"現在日時：",{"$f":"NOW()","v":"2025-10-28T17:31:21.830"}]
[null,null,null,null,"口座区分／　0：一般　1：特定　ブランクは全取得",null,null,null,null,"日経平均株価",{"$f":"_xll.SNT.IndexInst(101,\"現値\")","v":50219.18},{"$f":"_xll.SNT.IndexInst(101,\"前日比\")","v":-293.14},null,{"$f":"RIGHT(_xll.SNT.IndexInst(101,\"現値日時\"),8)","v":"15:45:03"},null,null,null,null,null,null,"①",null,"高安更新フラグ設定",5,"分以内"]
[null,null,null,null,"建区分　／　1：買建　2：売建　ブランクは全取得",null,null,null,null,"ドル円",{"$f":"_xll.SNT.ForexInst(\"USD/JPY\",\"買気配_Bid\")","v":151.965},null,null,{"$f":"RIGHT(_xll.SNT.ForexInst(\"USD/JPY\",\"買気配日時_Bid\"),8)","v":"17:31:21"},null,null,null,null,null,null,"②",null,"ロスカットフラグ設定",0.2]
[null,"出力レコード数",null,"銘柄コード","口座区分","建区分",null,null,null,null,null,null,null,null,null,null,null,null,null,null,"③",null,"ロスカット指値設定",1,"円単位"]
[null,null,null,null,null,null,null,null,"建玉概算評価合計",null,{"$f":"SUM(K10:K509)","v":0},null,null,null,null,null,null,null,null,null,"④",null,"S高・S安接近率設定",0.9]
[]
[null,null,null,null,null,null,null,null,null,null,null,null,null,null,null,null,null,null,null,null,null,"①","②","③",null,"④"]
["#","建玉ID","銘柄コード","銘柄名称","口座\n区分","建\n区分","建日","建数量\n合計","建単価",null,"概算\n評価損益","概算評価\n損益率",null,"現値","前日比","高値","フラグ用","高値\n時刻","安値","フラグ用","安値\n時刻","高安更新\nフラグ","ロスカット\nフラグ","ロスカット\n指値目安","ロスカット\n概算評価損","S高/安\nフラグ"]
[1,null,null,null,null,null,null,null,null,null,{"$f":"IFERROR(IF(F10=\"買建\",(N10-I10)*H10,(I10-N10)*H10),\"\")","v":""},{"$f":"IFERROR(K10/(I10*H10),\"\")","v":""},null,{"$f":"IF(C10=0,\"wait\",_xll.SNT.StockInst(C10,$N$9))","v":"wait"},{"$f":"N10-制限値幅取得!E5","v":{"$error":"#VALUE!"}},{"$f":"IF(C10=0,\"wait\",_xll.SNT.StockInst(C10,$P$9))","v":"wait"},{"$f":"IF(C10=0,\"\",_xll.SNT.StockInst(C10,\"高値時刻\"))","v":""},{"$f":"MID(_xll.SNT.StockInst($C10,\"高値時刻\"),12,5)","v":"ockIn"},{"$f":"IF(C10=0,\"wait\",_xll.SNT.StockInst(C10,$S$9))","v":"wait"},{"$f":"IF($C10=0,\"\",_xll.SNT.StockInst($C10,\"安値時刻\"))","v":""},{"$f":"MID(_xll.SNT.StockInst($C10,\"安値時刻\"),12,5)","v":"ockIn"},{"$f":"IFERROR(IF($Y$2-$Q10<=TIME(0,$X$3,0),\"高値更新\",IF($Y$2-$T10<=TIME(0,$X$3,0),\"安値更新\",\"\")),\"\")","v":""},{"$f":"IF(X10=\"\",\"\",IF(F10=\"買建\",IF(N10<X10,\"ﾛｽｶｯﾄ\",\"\"),IF(F10=\"売建\",IF(N10>X10,\"ﾛｽｶｯﾄ\",\"\"),\"\")))","v":""},{"$f":"IFERROR(MROUND(IF(F10=\"買建\",((I10*H10)+Y10)/H10,((I10*H10)-Y10)/H10),$X$5),\"\")","v":""},{"$f":"IF(K10<0,-(H10*I10*$X$4),\"\")","v":""},{"$f":"_xlfn.IFS(N10<制限値幅取得!I5,\"S安付近\",N10>制限値幅取得!H5,\"S高付近\",制限値幅取得!H5>N10>制限値幅取得!I5,\"\")","v":{"$error":"#VALUE!"}}]
[2,null,null,null,null,null,null,null,null,null,{"$f":"IFERROR(IF(F11=\"買建\",(N11-I11)*H11,(I11-N11)*H11),\"\")","v":""},"",null,{"$f":"IF(C11=0,\"wait\",_xll.SNT.StockInst(C11,$N$9))","v":"wait"},{"$f":"N11-制限値幅取得!E6","v":{"$error":"#VALUE!"}},{"$f":"IF(C11=0,\"wait\",_xll.SNT.StockInst(C11,$P$9))","v":"wait"},{"$f":"IF(C11=0,\"\",_xll.SNT.StockInst(C11,\"高値時刻\"))","v":""},{"$f":"MID(_xll.SNT.StockInst($C11,\"高値時刻\"),12,5)","v":"ockIn"},{"$f":"IF(C11=0,\"wait\",_xll.SNT.StockInst(C11,$S$9))","v":"wait"},{"$f":"IF($C11=0,\"\",_xll.SNT.StockInst($C11,\"安値時刻\"))","v":""},{"$f":"MID(_xll.SNT.StockInst($C11,\"安値時刻\"),12,5)","v":"ockIn"},"",{"$f":"IF(X11=\"\",\"\",IF(F11=\"買建\",IF(N11<X11,\"ﾛｽｶｯﾄ\",\"\"),IF(F11=\"売建\",IF(N11>X11,\"ﾛｽｶｯﾄ\",\"\"),\"\")))","v":""},{"$f":"IFERROR(MROUND(IF(F11=\"買建\",((I11*H11)+Y11)/H11,((I11*H11)-Y11)/H11),$X$5),\"\")","v":""},{"$f":"IF(K11<0,-(H11*I11*$X$4),\"\")","v":""},{"$f":"_xlfn.IFS(N11<制限値幅取得!I6,\"S安付近\",N11>制限値幅取得!H6,\"S高付近\",制限値幅取得!H6>N11>制限値幅取得!I6,\"\")","v":{"$error":"#VALUE!"}}]
[3,null,null,null,null,null,null,null,null,null,"","",null,{"$f":"IF(C12=0,\"wait\",_xll.SNT.StockInst(C12,$N$9))","v":"wait"},{"$f":"N12-制限値幅取得!E7","v":{"$error":"#VALUE!"}},{"$f":"IF(C12=0,\"wait\",_xll.SNT.StockInst(C12,$P$9))","v":"wait"},{"$f":"IF(C12=0,\"\",_xll.SNT.StockInst(C12,\"高値時刻\"))","v":""},{"$f":"MID(_xll.SNT.StockInst($C12,\"高値時刻\"),12,5)","v":"ockIn"},{"$f":"IF(C12=0,\"wait\",_xll.SNT.StockInst(C12,$S$9))","v":"wait"},{"$f":"IF($C12=0,\"\",_xll.SNT.StockInst($C12,\"安値時刻\"))","v":""},{"$f":"MID(_xll.SNT.StockInst($C12,\"安値時刻\"),12,5)","v":"ockIn"},{"$f":"IFERROR(IF($Y$2-$Q12<=TIME(0,$X$3,0),\"高値更新\",IF($Y$2-$T12<=TIME(0,$X$3,0),\"安値更新\",\"\")),\"\")","v":""},"","","",{"$f":"_xlfn.IFS(N12<制限値幅取得!I7,\"S安付近\",N12>制限値幅取得!H7,\"S高付近\",制限値幅取得!H7>N12>制限値幅取得!I7,\"\")","v":{"$error":"#VALUE!"}}]
[4,null,null,null,null,null,null,null,null,null,"","",null,{"$f":"IF(C13=0,\"wait\",_xll.SNT.StockInst(C13,$N$9))","v":"wait"},{"$f":"N13-制限値幅取得!E8","v":{"$error":"#VALUE!"}},{"$f":"IF(C13=0,\"wait\",_xll.SNT.StockInst(C13,$P$9))","v":"wait"},{"$f":"IF(C13=0,\"\",_xll.SNT.StockInst(C13,\"高値時刻\"))","v":""},{"$f":"MID(_xll.SNT.StockInst($C13,\"高値時刻\"),12,5)","v":"ockIn"},{"$f":"IF(C13=0,\"wait\",_xll.SNT.StockInst(C13,$S$9))","v":"wait"},{"$f":"IF($C13=0,\"\",_xll.SNT.StockInst($C13,\"安値時刻\"))","v":""},{"$f":"MID(_xll.SNT.StockInst($C13,\"安値時刻\"),12,5)","v":"ockIn"},"","","","",{"$f":"_xlfn.IFS(N13<制限値幅取得!I8,\"S安付近\",N13>制限値幅取得!H8,\"S高付近\",制限値幅取得!H8>N13>制限値幅取得!I8,\"\")","v":{"$error":"#VALUE!"}}]
[5,null,null,null,null,null,null,null,null,null,"","",null,{"$f":"IF(C14=0,\"wait\",_xll.SNT.StockInst(C14,$N$9))","v":"wait"},{"$f":"N14-制限値幅取得!E9","v":{"$error":"#VALUE!"}},{"$f":"IF(C14=0,\"wait\",_xll.SNT.StockInst(C14,$P$9))","v":"wait"},{"$f":"IF(C14=0,\"\",_xll.SNT.StockInst(C14,\"高値時刻\"))","v":""},{"$f":"MID(_xll.SNT.StockInst($C14,\"高値時刻\"),12,5)","v":"ockIn"},{"$f":"IF(C14=0,\"wait\",_xll.SNT.StockInst(C14,$S$9))","v":"wait"},{"$f":"IF($C14=0,\"\",_xll.SNT.StockInst($C14,\"安値時刻\"))","v":""},{"$f":"MID(_xll.SNT.StockInst($C14,\"安値時刻\"),12,5)","v":"ockIn"},"","","","",{"$f":"_xlfn.IFS(N14<制限値幅取得!I9,\"S安付近\",N14>制限値幅取得!H9,\"S高付近\",制限値幅取得!H9>N14>制限値幅取得!I9,\"\")","v":{"$error":"#VALUE!"}}]
[6,null,null,null,null,null,null,null,null,null,"","",null,{"$f":"IF(C15=0,\"wait\",_xll.SNT.StockInst(C15,$N$9))","v":"wait"},{"$f":"N15-制限値幅取得!E10","v":{"$error":"#VALUE!"}},{"$f":"IF(C15=0,\"wait\",_xll.SNT.StockInst(C15,$P$9))","v":"wait"},{"$f":"IF(C15=0,\"\",_xll.SNT.StockInst(C15,\"高値時刻\"))","v":""},{"$f":"MID(_xll.SNT.StockInst($C15,\"高値時刻\"),12,5)","v":"ockIn"},{"$f":"IF(C15=0,\"wait\",_xll.SNT.StockInst(C15,$S$9))","v":"wait"},{"$f":"IF($C15=0,\"\",_xll.SNT.StockInst($C15,\"安値時刻\"))","v":""},{"$f":"MID(_xll.SNT.StockInst($C15,\"安値時刻\"),12,5)","v":"ockIn"},"","","","",{"$f":"_xlfn.IFS(N15<制限値幅取得!I10,\"S安付近\",N15>制限値幅取得!H10,\"S高付近\",制限値幅取得!H10>N15>制限値幅取得!I10,\"\")","v":{"$error":"#VALUE!"}}]
[7,null,null,null,null,null,null,null,null,null,"","",null,{"$f":"IF(C16=0,\"wait\",_xll.SNT.StockInst(C16,$N$9))","v":"wait"},{"$f":"N16-制限値幅取得!E11","v":{"$error":"#VALUE!"}},{"$f":"IF(C16=0,\"wait\",_xll.SNT.StockInst(C16,$P$9))","v":"wait"},{"$f":"IF(C16=0,\"\",_xll.SNT.StockInst(C16,\"高値時刻\"))","v":""},{"$f":"MID(_xll.SNT.StockInst($C16,\"高値時刻\"),12,5)","v":"ockIn"},{"$f":"IF(C16=0,\"wait\",_xll.SNT.StockInst(C16,$S$9))","v":"wait"},{"$f":"IF($C16=0,\"\",_xll.SNT.StockInst($C16,\"安値時刻\"))","v":""},{"$f":"MID(_xll.SNT.StockInst($C16,\"安値時刻\"),12,5)","v":"ockIn"},"","","","",{"$f":"_xlfn.IFS(N16<制限値幅取得!I11,\"S安付近\",N16>制限値幅取得!H11,\"S高付近\",制限値幅取得!H11>N16>制限値幅取得!I11,\"\")","v":{"$error":"#VALUE!"}}]
[8,null,null,null,null,null,null,null,null,null,"","",null,{"$f":"IF(C17=0,\"wait\",_xll.SNT.StockInst(C17,$N$9))","v":"wait"},{"$f":"N17-制限値幅取得!E12","v":{"$error":"#VALUE!"}},{"$f":"IF(C17=0,\"wait\",_xll.SNT.StockInst(C17,$P$9))","v":"wait"},{"$f":"IF(C17=0,\"\",_xll.SNT.StockInst(C17,\"高値時刻\"))","v":""},{"$f":"MID(_xll.SNT.StockInst($C17,\"高値時刻\"),12,5)","v":"ockIn"},{"$f":"IF(C17=0,\"wait\",_xll.SNT.StockInst(C17,$S$9))","v":"wait"},{"$f":"IF($C17=0,\"\",_xll.SNT.StockInst($C17,\"安値時刻\"))","v":""},{"$f":"MID(_xll.SNT.StockInst($C17,\"安値時刻\"),12,5)","v":"ockIn"},"","","","",{"$f":"_xlfn.IFS(N17<制限値幅取得!I12,\"S安付近\",N17>制限値幅取得!H12,\"S高付近\",制限値幅取得!H12>N17>制限値幅取得!I12,\"\")","v":{"$error":"#VALUE!"}}]
[9,null,null,null,null,null,null,null,null,null,"","",null,{"$f":"IF(C18=0,\"wait\",_xll.SNT.StockInst(C18,$N$9))","v":"wait"},{"$f":"N18-制限値幅取得!E13","v":{"$error":"#VALUE!"}},{"$f":"IF(C18=0,\"wait\",_xll.SNT.StockInst(C18,$P$9))","v":"wait"},{"$f":"IF(C18=0,\"\",_xll.SNT.StockInst(C18,\"高値時刻\"))","v":""},{"$f":"MID(_xll.SNT.StockInst($C18,\"高値時刻\"),12,5)","v":"ockIn"},{"$f":"IF(C18=0,\"wait\",_xll.SNT.StockInst(C18,$S$9))","v":"wait"},{"$f":"IF($C18=0,\"\",_xll.SNT.StockInst($C18,\"安値時刻\"))","v":""},{"$f":"MID(_xll.SNT.StockInst($C18,\"安値時刻\"),12,5)","v":"ockIn"},"","","","",{"$f":"_xlfn.IFS(N18<制限値幅取得!I13,\"S安付近\",N18>制限値幅取得!H13,\"S高付近\",制限値幅取得!H13>N18>制限値幅取得!I13,\"\")","v":{"$error":"#VALUE!"}}]
[10,null,null,null,null,null,null,null,null,null,"","",null,{"$f":"IF(C19=0,\"wait\",_xll.SNT.StockInst(C19,$N$9))","v":"wait"},{"$f":"N19-制限値幅取得!E14","v":{"$error":"#VALUE!"}},{"$f":"IF(C19=0,\"wait\",_xll.SNT.StockInst(C19,$P$9))","v":"wait"},{"$f":"IF(C19=0,\"\",_xll.SNT.StockInst(C19,\"高値時刻\"))","v":""},{"$f":"MID(_xll.SNT.StockInst($C19,\"高値時刻\"),12,5)","v":"ockIn"},{"$f":"IF(C19=0,\"wait\",_xll.SNT.StockInst(C19,$S$9))","v":"wait"},{"$f":"IF($C19=0,\"\",_xll.SNT.StockInst($C19,\"安値時刻\"))","v":""},{"$f":"MID(_xll.SNT.StockInst($C19,\"安値時刻\"),12,5)","v":"ockIn"},"","","","",{"$f":"_xlfn.IFS(N19<制限値幅取得!I14,\"S安付近\",N19>制限値幅取得!H14,\"S高付近\",制限値幅取得!H14>N19>制限値幅取得!I14,\"\")","v":{"$error":"#VALUE!"}}]
[11,null,null,null,null,null,null,null,null,null,"","",null,{"$f":"IF(C20=0,\"wait\",_xll.SNT.StockInst(C20,$N$9))","v":"wait"},{"$f":"N20-制限値幅取得!E15","v":{"$error":"#VALUE!"}},{"$f":"IF(C20=0,\"wait\",_xll.SNT.StockInst(C20,$P$9))","v":"wait"},{"$f":"IF(C20=0,\"\",_xll.SNT.StockInst(C20,\"高値時刻\"))","v":""},{"$f":"MID(_xll.SNT.StockInst($C20,\"高値時刻\"),12,5)","v":"ockIn"},{"$f":"IF(C20=0,\"wait\",_xll.SNT.StockInst(C20,$S$9))","v":"wait"},{"$f":"IF($C20=0,\"\",_xll.SNT.StockInst($C20,\"安値時刻\"))","v":""},{"$f":"MID(_xll.SNT.StockInst($C20,\"安値時刻\"),12,5)","v":"ockIn"},"","","","",{"$f":"_xlfn.IFS(N20<制限値幅取得!I15,\"S安付近\",N20>制限値幅取得!H15,\"S高付近\",制限値幅取得!H15>N20>制限値幅取得!I15,\"\")","v":{"$error":"#VALUE!"}}]
[12,null,null,null,null,null,null,null,null,null,"","",null,{"$f":"IF(C21=0,\"wait\",_xll.SNT.StockInst(C21,$N$9))","v":"wait"},{"$f":"N21-制限値幅取得!E16","v":{"$error":"#VALUE!"}},{"$f":"IF(C21=0,\"wait\",_xll.SNT.StockInst(C21,$P$9))","v":"wait"},{"$f":"IF(C21=0,\"\",_xll.SNT.StockInst(C21,\"高値時刻\"))","v":""},{"$f":"MID(_xll.SNT.StockInst($C21,\"高値時刻\"),12,5)","v":"ockIn"},{"$f":"IF(C21=0,\"wait\",_xll.SNT.StockInst(C21,$S$9))","v":"wait"},{"$f":"IF($C21=0,\"\",_xll.SNT.StockInst($C21,\"安値時刻\"))","v":""},{"$f":"MID(_xll.SNT.StockInst($C21,\"安値時刻\"),12,5)","v":"ockIn"},"","","","",{"$f":"_xlfn.IFS(N21<制限値幅取得!I16,\"S安付近\",N21>制限値幅取得!H16,\"S高付近\",制限値幅取得!H16>N21>制限値幅取得!I16,\"\")","v":{"$error":"#VALUE!"}}]
[13,null,null,null,null,null,null,null,null,null,"","",null,{"$f":"IF(C22=0,\"wait\",_xll.SNT.StockInst(C22,$N$9))","v":"wait"},{"$f":"N22-制限値幅取得!E17","v":{"$error":"#VALUE!"}},{"$f":"IF(C22=0,\"wait\",_xll.SNT.StockInst(C22,$P$9))","v":"wait"},{"$f":"IF(C22=0,\"\",_xll.SNT.StockInst(C22,\"高値時刻\"))","v":""},{"$f":"MID(_xll.SNT.StockInst($C22,\"高値時刻\"),12,5)","v":"ockIn"},{"$f":"IF(C22=0,\"wait\",_xll.SNT.StockInst(C22,$S$9))","v":"wait"},{"$f":"IF($C22=0,\"\",_xll.SNT.StockInst($C22,\"安値時刻\"))","v":""},{"$f":"MID(_xll.SNT.StockInst($C22,\"安値時刻\"),12,5)","v":"ockIn"},"","","","",{"$f":"_xlfn.IFS(N22<制限値幅取得!I17,\"S安付近\",N22>制限値幅取得!H17,\"S高付近\",制限値幅取得!H17>N22>制限値幅取得!I17,\"\")","v":{"$error":"#VALUE!"}}]
[14,null,null,null,null,null,null,null,null,null,"","",null,{"$f":"IF(C23=0,\"wait\",_xll.SNT.StockInst(C23,$N$9))","v":"wait"},{"$f":"N23-制限値幅取得!E18","v":{"$error":"#VALUE!"}},{"$f":"IF(C23=0,\"wait\",_xll.SNT.StockInst(C23,$P$9))","v":"wait"},{"$f":"IF(C23=0,\"\",_xll.SNT.StockInst(C23,\"高値時刻\"))","v":""},{"$f":"MID(_xll.SNT.StockInst($C23,\"高値時刻\"),12,5)","v":"ockIn"},{"$f":"IF(C23=0,\"wait\",_xll.SNT.StockInst(C23,$S$9))","v":"wait"},{"$f":"IF($C23=0,\"\",_xll.SNT.StockInst($C23,\"安値時刻\"))","v":""},{"$f":"MID(_xll.SNT.StockInst($C23,\"安値時刻\"),12,5)","v":"ockIn"},"","","","",{"$f":"_xlfn.IFS(N23<制限値幅取得!I18,\"S安付近\",N23>制限値幅取得!H18,\"S高付近\",制限値幅取得!H18>N23>制限値幅取得!I18,\"\")","v":{"$error":"#VALUE!"}}]
[15,null,null,null,null,null,null,null,null,null,"","",null,{"$f":"IF(C24=0,\"wait\",_xll.SNT.StockInst(C24,$N$9))","v":"wait"},{"$f":"N24-制限値幅取得!E19","v":{"$error":"#VALUE!"}},{"$f":"IF(C24=0,\"wait\",_xll.SNT.StockInst(C24,$P$9))","v":"wait"},{"$f":"IF(C24=0,\"\",_xll.SNT.StockInst(C24,\"高値時刻\"))","v":""},{"$f":"MID(_xll.SNT.StockInst($C24,\"高値時刻\"),12,5)","v":"ockIn"},{"$f":"IF(C24=0,\"wait\",_xll.SNT.StockInst(C24,$S$9))","v":"wait"},{"$f":"IF($C24=0,\"\",_xll.SNT.StockInst($C24,\"安値時刻\"))","v":""},{"$f":"MID(_xll.SNT.StockInst($C24,\"安値時刻\"),12,5)","v":"ockIn"},"","","","",{"$f":"_xlfn.IFS(N24<制限値幅取得!I19,\"S安付近\",N24>制限値幅取得!H19,\"S高付近\",制限値幅取得!H19>N24>制限値幅取得!I19,\"\")","v":{"$error":"#VALUE!"}}]
[16,null,null,null,null,null,null,null,null,null,"","",null,{"$f":"IF(C25=0,\"wait\",_xll.SNT.StockInst(C25,$N$9))","v":"wait"},{"$f":"N25-制限値幅取得!E20","v":{"$error":"#VALUE!"}},{"$f":"IF(C25=0,\"wait\",_xll.SNT.StockInst(C25,$P$9))","v":"wait"},{"$f":"IF(C25=0,\"\",_xll.SNT.StockInst(C25,\"高値時刻\"))","v":""},{"$f":"MID(_xll.SNT.StockInst($C25,\"高値時刻\"),12,5)","v":"ockIn"},{"$f":"IF(C25=0,\"wait\",_xll.SNT.StockInst(C25,$S$9))","v":"wait"},{"$f":"IF($C25=0,\"\",_xll.SNT.StockInst($C25,\"安値時刻\"))","v":""},{"$f":"MID(_xll.SNT.StockInst($C25,\"安値時刻\"),12,5)","v":"ockIn"},"","","","",{"$f":"_xlfn.IFS(N25<制限値幅取得!I20,\"S安付近\",N25>制限値幅取得!H20,\"S高付近\",制限値幅取得!H20>N25>制限値幅取得!I20,\"\")","v":{"$error":"#VALUE!"}}]
[17,null,null,null,null,null,null,null,null,null,"","",null,{"$f":"IF(C26=0,\"wait\",_xll.SNT.StockInst(C26,$N$9))","v":"wait"},{"$f":"N26-制限値幅取得!E21","v":{"$error":"#VALUE!"}},{"$f":"IF(C26=0,\"wait\",_xll.SNT.StockInst(C26,$P$9))","v":"wait"},{"$f":"IF(C26=0,\"\",_xll.SNT.StockInst(C26,\"高値時刻\"))","v":""},{"$f":"MID(_xll.SNT.StockInst($C26,\"高値時刻\"),12,5)","v":"ockIn"},{"$f":"IF(C26=0,\"wait\",_xll.SNT.StockInst(C26,$S$9))","v":"wait"},{"$f":"IF($C26=0,\"\",_xll.SNT.StockInst($C26,\"安値時刻\"))","v":""},{"$f":"MID(_xll.SNT.StockInst($C26,\"安値時刻\"),12,5)","v":"ockIn"},"","","","",{"$f":"_xlfn.IFS(N26<制限値幅取得!I21,\"S安付近\",N26>制限値幅取得!H21,\"S高付近\",制限値幅取得!H21>N26>制限値幅取得!I21,\"\")","v":{"$error":"#VALUE!"}}]
[18,null,null,null,null,null,null,null,null,null,"","",null,{"$f":"IF(C27=0,\"wait\",_xll.SNT.StockInst(C27,$N$9))","v":"wait"},{"$f":"N27-制限値幅取得!E22","v":{"$error":"#VALUE!"}},{"$f":"IF(C27=0,\"wait\",_xll.SNT.StockInst(C27,$P$9))","v":"wait"},{"$f":"IF(C27=0,\"\",_xll.SNT.StockInst(C27,\"高値時刻\"))","v":""},{"$f":"MID(_xll.SNT.StockInst($C27,\"高値時刻\"),12,5)","v":"ockIn"},{"$f":"IF(C27=0,\"wait\",_xll.SNT.StockInst(C27,$S$9))","v":"wait"},{"$f":"IF($C27=0,\"\",_xll.SNT.StockInst($C27,\"安値時刻\"))","v":""},{"$f":"MID(_xll.SNT.StockInst($C27,\"安値時刻\"),12,5)","v":"ockIn"},"","","","",{"$f":"_xlfn.IFS(N27<制限値幅取得!I22,\"S安付近\",N27>制限値幅取得!H22,\"S高付近\",制限値幅取得!H22>N27>制限値幅取得!I22,\"\")","v":{"$error":"#VALUE!"}}]
[19,null,null,null,null,null,null,null,null,null,"","",null,{"$f":"IF(C28=0,\"wait\",_xll.SNT.StockInst(C28,$N$9))","v":"wait"},{"$f":"N28-制限値幅取得!E23","v":{"$error":"#VALUE!"}},{"$f":"IF(C28=0,\"wait\",_xll.SNT.StockInst(C28,$P$9))","v":"wait"},{"$f":"IF(C28=0,\"\",_xll.SNT.StockInst(C28,\"高値時刻\"))","v":""},{"$f":"MID(_xll.SNT.StockInst($C28,\"高値時刻\"),12,5)","v":"ockIn"},{"$f":"IF(C28=0,\"wait\",_xll.SNT.StockInst(C28,$S$9))","v":"wait"},{"$f":"IF($C28=0,\"\",_xll.SNT.StockInst($C28,\"安値時刻\"))","v":""},{"$f":"MID(_xll.SNT.StockInst($C28,\"安値時刻\"),12,5)","v":"ockIn"},"","","","",{"$f":"_xlfn.IFS(N28<制限値幅取得!I23,\"S安付近\",N28>制限値幅取得!H23,\"S高付近\",制限値幅取得!H23>N28>制限値幅取得!I23,\"\")","v":{"$error":"#VALUE!"}}]
[20,null,null,null,null,null,null,null,null,null,"","",null,{"$f":"IF(C29=0,\"wait\",_xll.SNT.StockInst(C29,$N$9))","v":"wait"},{"$f":"N29-制限値幅取得!E24","v":{"$error":"#VALUE!"}},{"$f":"IF(C29=0,\"wait\",_xll.SNT.StockInst(C29,$P$9))","v":"wait"},{"$f":"IF(C29=0,\"\",_xll.SNT.StockInst(C29,\"高値時刻\"))","v":""},{"$f":"MID(_xll.SNT.StockInst($C29,\"高値時刻\"),12,5)","v":"ockIn"},{"$f":"IF(C29=0,\"wait\",_xll.SNT.StockInst(C29,$S$9))","v":"wait"},{"$f":"IF($C29=0,\"\",_xll.SNT.StockInst($C29,\"安値時刻\"))","v":""},{"$f":"MID(_xll.SNT.StockInst($C29,\"安値時刻\"),12,5)","v":"ockIn"},"","","","",{"$f":"_xlfn.IFS(N29<制限値幅取得!I24,\"S安付近\",N29>制限値幅取得!H24,\"S高付近\",制限値幅取得!H24>N29>制限値幅取得!I24,\"\")","v":{"$error":"#VALUE!"}}]
[21,null,null,null,null,null,null,null,null,null,"","",null,{"$f":"IF(C30=0,\"wait\",_xll.SNT.StockInst(C30,$N$9))","v":"wait"},{"$f":"N30-制限値幅取得!E25","v":{"$error":"#VALUE!"}},{"$f":"IF(C30=0,\"wait\",_xll.SNT.StockInst(C30,$P$9))","v":"wait"},{"$f":"IF(C30=0,\"\",_xll.SNT.StockInst(C30,\"高値時刻\"))","v":""},{"$f":"MID(_xll.SNT.StockInst($C30,\"高値時刻\"),12,5)","v":"ockIn"},{"$f":"IF(C30=0,\"wait\",_xll.SNT.StockInst(C30,$S$9))","v":"wait"},{"$f":"IF($C30=0,\"\",_xll.SNT.StockInst($C30,\"安値時刻\"))","v":""},{"$f":"MID(_xll.SNT.StockInst($C30,\"安値時刻\"),12,5)","v":"ockIn"},"","","","",{"$f":"_xlfn.IFS(N30<制限値幅取得!I25,\"S安付近\",N30>制限値幅取得!H25,\"S高付近\",制限値幅取得!H25>N30>制限値幅取得!I25,\"\")","v":{"$error":"#VALUE!"}}]
[22,null,null,null,null,null,null,null,null,null,"","",null,{"$f":"IF(C31=0,\"wait\",_xll.SNT.StockInst(C31,$N$9))","v":"wait"},{"$f":"N31-制限値幅取得!E26","v":{"$error":"#VALUE!"}},{"$f":"IF(C31=0,\"wait\",_xll.SNT.StockInst(C31,$P$9))","v":"wait"},{"$f":"IF(C31=0,\"\",_xll.SNT.StockInst(C31,\"高値時刻\"))","v":""},{"$f":"MID(_xll.SNT.StockInst($C31,\"高値時刻\"),12,5)","v":"ockIn"},{"$f":"IF(C31=0,\"wait\",_xll.SNT.StockInst(C31,$S$9))","v":"wait"},{"$f":"IF($C31=0,\"\",_xll.SNT.StockInst($C31,\"安値時刻\"))","v":""},{"$f":"MID(_xll.SNT.StockInst($C31,\"安値時刻\"),12,5)","v":"ockIn"},"","","","",{"$f":"_xlfn.IFS(N31<制限値幅取得!I26,\"S安付近\",N31>制限値幅取得!H26,\"S高付近\",制限値幅取得!H26>N31>制限値幅取得!I26,\"\")","v":{"$error":"#VALUE!"}}]
[23,null,null,null,null,null,null,null,null,null,"","",null,{"$f":"IF(C32=0,\"wait\",_xll.SNT.StockInst(C32,$N$9))","v":"wait"},{"$f":"N32-制限値幅取得!E27","v":{"$error":"#VALUE!"}},{"$f":"IF(C32=0,\"wait\",_xll.SNT.StockInst(C32,$P$9))","v":"wait"},{"$f":"IF(C32=0,\"\",_xll.SNT.StockInst(C32,\"高値時刻\"))","v":""},{"$f":"MID(_xll.SNT.StockInst($C32,\"高値時刻\"),12,5)","v":"ockIn"},{"$f":"IF(C32=0,\"wait\",_xll.SNT.StockInst(C32,$S$9))","v":"wait"},{"$f":"IF($C32=0,\"\",_xll.SNT.StockInst($C32,\"安値時刻\"))","v":""},{"$f":"MID(_xll.SNT.StockInst($C32,\"安値時刻\"),12,5)","v":"ockIn"},"","","","",{"$f":"_xlfn.IFS(N32<制限値幅取得!I27,\"S安付近\",N32>制限値幅取得!H27,\"S高付近\",制限値幅取得!H27>N32>制限値幅取得!I27,\"\")","v":{"$error":"#VALUE!"}}]
[24,null,null,null,null,null,null,null,null,null,"","",null,{"$f":"IF(C33=0,\"wait\",_xll.SNT.StockInst(C33,$N$9))","v":"wait"},{"$f":"N33-制限値幅取得!E28","v":{"$error":"#VALUE!"}},{"$f":"IF(C33=0,\"wait\",_xll.SNT.StockInst(C33,$P$9))","v":"wait"},{"$f":"IF(C33=0,\"\",_xll.SNT.StockInst(C33,\"高値時刻\"))","v":""},{"$f":"MID(_xll.SNT.StockInst($C33,\"高値時刻\"),12,5)","v":"ockIn"},{"$f":"IF(C33=0,\"wait\",_xll.SNT.StockInst(C33,$S$9))","v":"wait"},{"$f":"IF($C33=0,\"\",_xll.SNT.StockInst($C33,\"安値時刻\"))","v":""},{"$f":"MID(_xll.SNT.StockInst($C33,\"安値時刻\"),12,5)","v":"ockIn"},"","","","",{"$f":"_xlfn.IFS(N33<制限値幅取得!I28,\"S安付近\",N33>制限値幅取得!H28,\"S高付近\",制限値幅取得!H28>N33>制限値幅取得!I28,\"\")","v":{"$error":"#VALUE!"}}]
[25,null,null,null,null,null,null,null,null,null,"","",null,{"$f":"IF(C34=0,\"wait\",_xll.SNT.StockInst(C34,$N$9))","v":"wait"},{"$f":"N34-制限値幅取得!E29","v":{"$error":"#VALUE!"}},{"$f":"IF(C34=0,\"wait\",_xll.SNT.StockInst(C34,$P$9))","v":"wait"},{"$f":"IF(C34=0,\"\",_xll.SNT.StockInst(C34,\"高値時刻\"))","v":""},{"$f":"MID(_xll.SNT.StockInst($C34,\"高値時刻\"),12,5)","v":"ockIn"},{"$f":"IF(C34=0,\"wait\",_xll.SNT.StockInst(C34,$S$9))","v":"wait"},{"$f":"IF($C34=0,\"\",_xll.SNT.StockInst($C34,\"安値時刻\"))","v":""},{"$f":"MID(_xll.SNT.StockInst($C34,\"安値時刻\"),12,5)","v":"ockIn"},"","","","",{"$f":"_xlfn.IFS(N34<制限値幅取得!I29,\"S安付近\",N34>制限値幅取得!H29,\"S高付近\",制限値幅取得!H29>N34>制限値幅取得!I29,\"\")","v":{"$error":"#VALUE!"}}]
[26,null,null,null,null,null,null,null,null,null,"","",null,{"$f":"IF(C35=0,\"wait\",_xll.SNT.StockInst(C35,$N$9))","v":"wait"},{"$f":"N35-制限値幅取得!E30","v":{"$error":"#VALUE!"}},{"$f":"IF(C35=0,\"wait\",_xll.SNT.StockInst(C35,$P$9))","v":"wait"},{"$f":"IF(C35=0,\"\",_xll.SNT.StockInst(C35,\"高値時刻\"))","v":""},{"$f":"MID(_xll.SNT.StockInst($C35,\"高値時刻\"),12,5)","v":"ockIn"},{"$f":"IF(C35=0,\"wait\",_xll.SNT.StockInst(C35,$S$9))","v":"wait"},{"$f":"IF($C35=0,\"\",_xll.SNT.StockInst($C35,\"安値時刻\"))","v":""},{"$f":"MID(_xll.SNT.StockInst($C35,\"安値時刻\"),12,5)","v":"ockIn"},"","","","",{"$f":"_xlfn.IFS(N35<制限値幅取得!I30,\"S安付近\",N35>制限値幅取得!H30,\"S高付近\",制限値幅取得!H30>N35>制限値幅取得!I30,\"\")","v":{"$error":"#VALUE!"}}]
[27,null,null,null,null,null,null,null,null,null,"","",null,{"$f":"IF(C36=0,\"wait\",_xll.SNT.StockInst(C36,$N$9))","v":"wait"},{"$f":"N36-制限値幅取得!E31","v":{"$error":"#VALUE!"}},{"$f":"IF(C36=0,\"wait\",_xll.SNT.StockInst(C36,$P$9))","v":"wait"},{"$f":"IF(C36=0,\"\",_xll.SNT.StockInst(C36,\"高値時刻\"))","v":""},{"$f":"MID(_xll.SNT.StockInst($C36,\"高値時刻\"),12,5)","v":"ockIn"},{"$f":"IF(C36=0,\"wait\",_xll.SNT.StockInst(C36,$S$9))","v":"wait"},{"$f":"IF($C36=0,\"\",_xll.SNT.StockInst($C36,\"安値時刻\"))","v":""},{"$f":"MID(_xll.SNT.StockInst($C36,\"安値時刻\"),12,5)","v":"ockIn"},"","","","",{"$f":"_xlfn.IFS(N36<制限値幅取得!I31,\"S安付近\",N36>制限値幅取得!H31,\"S高付近\",制限値幅取得!H31>N36>制限値幅取得!I31,\"\")","v":{"$error":"#VALUE!"}}]
[28,null,null,null,null,null,null,null,null,null,"","",null,{"$f":"IF(C37=0,\"wait\",_xll.SNT.StockInst(C37,$N$9))","v":"wait"},{"$f":"N37-制限値幅取得!E32","v":{"$error":"#VALUE!"}},{"$f":"IF(C37=0,\"wait\",_xll.SNT.StockInst(C37,$P$9))","v":"wait"},{"$f":"IF(C37=0,\"\",_xll.SNT.StockInst(C37,\"高値時刻\"))","v":""},{"$f":"MID(_xll.SNT.StockInst($C37,\"高値時刻\"),12,5)","v":"ockIn"},{"$f":"IF(C37=0,\"wait\",_xll.SNT.StockInst(C37,$S$9))","v":"wait"},{"$f":"IF($C37=0,\"\",_xll.SNT.StockInst($C37,\"安値時刻\"))","v":""},{"$f":"MID(_xll.SNT.StockInst($C37,\"安値時刻\"),12,5)","v":"ockIn"},"","","","",{"$f":"_xlfn.IFS(N37<制限値幅取得!I32,\"S安付近\",N37>制限値幅取得!H32,\"S高付近\",制限値幅取得!H32>N37>制限値幅取得!I32,\"\")","v":{"$error":"#VALUE!"}}]
[29,null,null,null,null,null,null,null,null,null,"","",null,{"$f":"IF(C38=0,\"wait\",_xll.SNT.StockInst(C38,$N$9))","v":"wait"},{"$f":"N38-制限値幅取得!E33","v":{"$error":"#VALUE!"}},{"$f":"IF(C38=0,\"wait\",_xll.SNT.StockInst(C38,$P$9))","v":"wait"},{"$f":"IF(C38=0,\"\",_xll.SNT.StockInst(C38,\"高値時刻\"))","v":""},{"$f":"MID(_xll.SNT.StockInst($C38,\"高値時刻\"),12,5)","v":"ockIn"},{"$f":"IF(C38=0,\"wait\",_xll.SNT.StockInst(C38,$S$9))","v":"wait"},{"$f":"IF($C38=0,\"\",_xll.SNT.StockInst($C38,\"安値時刻\"))","v":""},{"$f":"MID(_xll.SNT.StockInst($C38,\"安値時刻\"),12,5)","v":"ockIn"},"","","","",{"$f":"_xlfn.IFS(N38<制限値幅取得!I33,\"S安付近\",N38>制限値幅取得!H33,\"S高付近\",制限値幅取得!H33>N38>制限値幅取得!I33,\"\")","v":{"$error":"#VALUE!"}}]
[30,null,null,null,null,null,null,null,null,null,"","",null,{"$f":"IF(C39=0,\"wait\",_xll.SNT.StockInst(C39,$N$9))","v":"wait"},{"$f":"N39-制限値幅取得!E34","v":{"$error":"#VALUE!"}},{"$f":"IF(C39=0,\"wait\",_xll.SNT.StockInst(C39,$P$9))","v":"wait"},{"$f":"IF(C39=0,\"\",_xll.SNT.StockInst(C39,\"高値時刻\"))","v":""},{"$f":"MID(_xll.SNT.StockInst($C39,\"高値時刻\"),12,5)","v":"ockIn"},{"$f":"IF(C39=0,\"wait\",_xll.SNT.StockInst(C39,$S$9))","v":"wait"},{"$f":"IF($C39=0,\"\",_xll.SNT.StockInst($C39,\"安値時刻\"))","v":""},{"$f":"MID(_xll.SNT.StockInst($C39,\"安値時刻\"),12,5)","v":"ockIn"},"","","","",{"$f":"_xlfn.IFS(N39<制限値幅取得!I34,\"S安付近\",N39>制限値幅取得!H34,\"S高付近\",制限値幅取得!H34>N39>制限値幅取得!I34,\"\")","v":{"$error":"#VALUE!"}}]
[31,null,null,null,null,null,null,null,null,null,"","",null,{"$f":"IF(C40=0,\"wait\",_xll.SNT.StockInst(C40,$N$9))","v":"wait"},{"$f":"N40-制限値幅取得!E35","v":{"$error":"#VALUE!"}},{"$f":"IF(C40=0,\"wait\",_xll.SNT.StockInst(C40,$P$9))","v":"wait"},{"$f":"IF(C40=0,\"\",_xll.SNT.StockInst(C40,\"高値時刻\"))","v":""},{"$f":"MID(_xll.SNT.StockInst($C40,\"高値時刻\"),12,5)","v":"ockIn"},{"$f":"IF(C40=0,\"wait\",_xll.SNT.StockInst(C40,$S$9))","v":"wait"},{"$f":"IF($C40=0,\"\",_xll.SNT.StockInst($C40,\"安値時刻\"))","v":""},{"$f":"MID(_xll.SNT.StockInst($C40,\"安値時刻\"),12,5)","v":"ockIn"},"","","","",{"$f":"_xlfn.IFS(N40<制限値幅取得!I35,\"S安付近\",N40>制限値幅取得!H35,\"S高付近\",制限値幅取得!H35>N40>制限値幅取得!I35,\"\")","v":{"$error":"#VALUE!"}}]
[32,null,null,null,null,null,null,null,null,null,"","",null,{"$f":"IF(C41=0,\"wait\",_xll.SNT.StockInst(C41,$N$9))","v":"wait"},{"$f":"N41-制限値幅取得!E36","v":{"$error":"#VALUE!"}},{"$f":"IF(C41=0,\"wait\",_xll.SNT.StockInst(C41,$P$9))","v":"wait"},{"$f":"IF(C41=0,\"\",_xll.SNT.StockInst(C41,\"高値時刻\"))","v":""},{"$f":"MID(_xll.SNT.StockInst($C41,\"高値時刻\"),12,5)","v":"ockIn"},{"$f":"IF(C41=0,\"wait\",_xll.SNT.StockInst(C41,$S$9))","v":"wait"},{"$f":"IF($C41=0,\"\",_xll.SNT.StockInst($C41,\"安値時刻\"))","v":""},{"$f":"MID(_xll.SNT.StockInst($C41,\"安値時刻\"),12,5)","v":"ockIn"},"","","","",{"$f":"_xlfn.IFS(N41<制限値幅取得!I36,\"S安付近\",N41>制限値幅取得!H36,\"S高付近\",制限値幅取得!H36>N41>制限値幅取得!I36,\"\")","v":{"$error":"#VALUE!"}}]
[33,null,null,null,null,null,null,null,null,null,{"$f":"IFERROR(IF(F42=\"買建\",(N42-I42)*H42,(I42-N42)*H42),\"\")","v":""},{"$f":"IFERROR(K42/(I42*H42),\"\")","v":""},null,{"$f":"IF(C42=0,\"wait\",_xll.SNT.StockInst(C42,$N$9))","v":"wait"},{"$f":"N42-制限値幅取得!E37","v":{"$error":"#VALUE!"}},{"$f":"IF(C42=0,\"wait\",_xll.SNT.StockInst(C42,$P$9))","v":"wait"},{"$f":"IF(C42=0,\"\",_xll.SNT.StockInst(C42,\"高値時刻\"))","v":""},{"$f":"MID(_xll.SNT.StockInst($C42,\"高値時刻\"),12,5)","v":"ockIn"},{"$f":"IF(C42=0,\"wait\",_xll.SNT.StockInst(C42,$S$9))","v":"wait"},{"$f":"IF($C42=0,\"\",_xll.SNT.StockInst($C42,\"安値時刻\"))","v":""},{"$f":"MID(_xll.SNT.StockInst($C42,\"安値時刻\"),12,5)","v":"ockIn"},"","","","",{"$f":"_xlfn.IFS(N42<制限値幅取得!I37,\"S安付近\",N42>制限値幅取得!H37,\"S高付近\",制限値幅取得!H37>N42>制限値幅取得!I37,\"\")","v":{"$error":"#VALUE!"}}]
[34,null,null,null,null,null,null,null,null,null,"","",null,{"$f":"IF(C43=0,\"wait\",_xll.SNT.StockInst(C43,$N$9))","v":"wait"},{"$f":"N43-制限値幅取得!E38","v":{"$error":"#VALUE!"}},{"$f":"IF(C43=0,\"wait\",_xll.SNT.StockInst(C43,$P$9))","v":"wait"},{"$f":"IF(C43=0,\"\",_xll.SNT.StockInst(C43,\"高値時刻\"))","v":""},{"$f":"MID(_xll.SNT.StockInst($C43,\"高値時刻\"),12,5)","v":"ockIn"},{"$f":"IF(C43=0,\"wait\",_xll.SNT.StockInst(C43,$S$9))","v":"wait"},{"$f":"IF($C43=0,\"\",_xll.SNT.StockInst($C43,\"安値時刻\"))","v":""},{"$f":"MID(_xll.SNT.StockInst($C43,\"安値時刻\"),12,5)","v":"ockIn"},"","","","",{"$f":"_xlfn.IFS(N43<制限値幅取得!I38,\"S安付近\",N43>制限値幅取得!H38,\"S高付近\",制限値幅取得!H38>N43>制限値幅取得!I38,\"\")","v":{"$error":"#VALUE!"}}]
[35,null,null,null,null,null,null,null,null,null,"","",null,{"$f":"IF(C44=0,\"wait\",_xll.SNT.StockInst(C44,$N$9))","v":"wait"},{"$f":"N44-制限値幅取得!E39","v":{"$error":"#VALUE!"}},{"$f":"IF(C44=0,\"wait\",_xll.SNT.StockInst(C44,$P$9))","v":"wait"},{"$f":"IF(C44=0,\"\",_xll.SNT.StockInst(C44,\"高値時刻\"))","v":""},{"$f":"MID(_xll.SNT.StockInst($C44,\"高値時刻\"),12,5)","v":"ockIn"},{"$f":"IF(C44=0,\"wait\",_xll.SNT.StockInst(C44,$S$9))","v":"wait"},{"$f":"IF($C44=0,\"\",_xll.SNT.StockInst($C44,\"安値時刻\"))","v":""},{"$f":"MID(_xll.SNT.StockInst($C44,\"安値時刻\"),12,5)","v":"ockIn"},"","","","",{"$f":"_xlfn.IFS(N44<制限値幅取得!I39,\"S安付近\",N44>制限値幅取得!H39,\"S高付近\",制限値幅取得!H39>N44>制限値幅取得!I39,\"\")","v":{"$error":"#VALUE!"}}]
[36,null,null,null,null,null,null,null,null,null,"","",null,{"$f":"IF(C45=0,\"wait\",_xll.SNT.StockInst(C45,$N$9))","v":"wait"},{"$f":"N45-制限値幅取得!E40","v":{"$error":"#VALUE!"}},{"$f":"IF(C45=0,\"wait\",_xll.SNT.StockInst(C45,$P$9))","v":"wait"},{"$f":"IF(C45=0,\"\",_xll.SNT.StockInst(C45,\"高値時刻\"))","v":""},{"$f":"MID(_xll.SNT.StockInst($C45,\"高値時刻\"),12,5)","v":"ockIn"},{"$f":"IF(C45=0,\"wait\",_xll.SNT.StockInst(C45,$S$9))","v":"wait"},{"$f":"IF($C45=0,\"\",_xll.SNT.StockInst($C45,\"安値時刻\"))","v":""},{"$f":"MID(_xll.SNT.StockInst($C45,\"安値時刻\"),12,5)","v":"ockIn"},"","","","",{"$f":"_xlfn.IFS(N45<制限値幅取得!I40,\"S安付近\",N45>制限値幅取得!H40,\"S高付近\",制限値幅取得!H40>N45>制限値幅取得!I40,\"\")","v":{"$error":"#VALUE!"}}]
[37,null,null,null,null,null,null,null,null,null,"","",null,{"$f":"IF(C46=0,\"wait\",_xll.SNT.StockInst(C46,$N$9))","v":"wait"},{"$f":"N46-制限値幅取得!E41","v":{"$error":"#VALUE!"}},{"$f":"IF(C46=0,\"wait\",_xll.SNT.StockInst(C46,$P$9))","v":"wait"},{"$f":"IF(C46=0,\"\",_xll.SNT.StockInst(C46,\"高値時刻\"))","v":""},{"$f":"MID(_xll.SNT.StockInst($C46,\"高値時刻\"),12,5)","v":"ockIn"},{"$f":"IF(C46=0,\"wait\",_xll.SNT.StockInst(C46,$S$9))","v":"wait"},{"$f":"IF($C46=0,\"\",_xll.SNT.StockInst($C46,\"安値時刻\"))","v":""},{"$f":"MID(_xll.SNT.StockInst($C46,\"安値時刻\"),12,5)","v":"ockIn"},"","","","",{"$f":"_xlfn.IFS(N46<制限値幅取得!I41,\"S安付近\",N46>制限値幅取得!H41,\"S高付近\",制限値幅取得!H41>N46>制限値幅取得!I41,\"\")","v":{"$error":"#VALUE!"}}]
[38,null,null,null,null,null,null,null,null,null,"","",null,{"$f":"IF(C47=0,\"wait\",_xll.SNT.StockInst(C47,$N$9))","v":"wait"},{"$f":"N47-制限値幅取得!E42","v":{"$error":"#VALUE!"}},{"$f":"IF(C47=0,\"wait\",_xll.SNT.StockInst(C47,$P$9))","v":"wait"},{"$f":"IF(C47=0,\"\",_xll.SNT.StockInst(C47,\"高値時刻\"))","v":""},{"$f":"MID(_xll.SNT.StockInst($C47,\"高値時刻\"),12,5)","v":"ockIn"},{"$f":"IF(C47=0,\"wait\",_xll.SNT.StockInst(C47,$S$9))","v":"wait"},{"$f":"IF($C47=0,\"\",_xll.SNT.StockInst($C47,\"安値時刻\"))","v":""},{"$f":"MID(_xll.SNT.StockInst($C47,\"安値時刻\"),12,5)","v":"ockIn"},"","","","",{"$f":"_xlfn.IFS(N47<制限値幅取得!I42,\"S安付近\",N47>制限値幅取得!H42,\"S高付近\",制限値幅取得!H42>N47>制限値幅取得!I42,\"\")","v":{"$error":"#VALUE!"}}]
[39,null,null,null,null,null,null,null,null,null,"","",null,{"$f":"IF(C48=0,\"wait\",_xll.SNT.StockInst(C48,$N$9))","v":"wait"},{"$f":"N48-制限値幅取得!E43","v":{"$error":"#VALUE!"}},{"$f":"IF(C48=0,\"wait\",_xll.SNT.StockInst(C48,$P$9))","v":"wait"},{"$f":"IF(C48=0,\"\",_xll.SNT.StockInst(C48,\"高値時刻\"))","v":""},{"$f":"MID(_xll.SNT.StockInst($C48,\"高値時刻\"),12,5)","v":"ockIn"},{"$f":"IF(C48=0,\"wait\",_xll.SNT.StockInst(C48,$S$9))","v":"wait"},{"$f":"IF($C48=0,\"\",_xll.SNT.StockInst($C48,\"安値時刻\"))","v":""},{"$f":"MID(_xll.SNT.StockInst($C48,\"安値時刻\"),12,5)","v":"ockIn"},"","","","",{"$f":"_xlfn.IFS(N48<制限値幅取得!I43,\"S安付近\",N48>制限値幅取得!H43,\"S高付近\",制限値幅取得!H43>N48>制限値幅取得!I43,\"\")","v":{"$error":"#VALUE!"}}]
[40,null,null,null,null,null,null,null,null,null,"","",null,{"$f":"IF(C49=0,\"wait\",_xll.SNT.StockInst(C49,$N$9))","v":"wait"},{"$f":"N49-制限値幅取得!E44","v":{"$error":"#VALUE!"}},{"$f":"IF(C49=0,\"wait\",_xll.SNT.StockInst(C49,$P$9))","v":"wait"},{"$f":"IF(C49=0,\"\",_xll.SNT.StockInst(C49,\"高値時刻\"))","v":""},{"$f":"MID(_xll.SNT.StockInst($C49,\"高値時刻\"),12,5)","v":"ockIn"},{"$f":"IF(C49=0,\"wait\",_xll.SNT.StockInst(C49,$S$9))","v":"wait"},{"$f":"IF($C49=0,\"\",_xll.SNT.StockInst($C49,\"安値時刻\"))","v":""},{"$f":"MID(_xll.SNT.StockInst($C49,\"安値時刻\"),12,5)","v":"ockIn"},"","","","",{"$f":"_xlfn.IFS(N49<制限値幅取得!I44,\"S安付近\",N49>制限値幅取得!H44,\"S高付近\",制限値幅取得!H44>N49>制限値幅取得!I44,\"\")","v":{"$error":"#VALUE!"}}]
[41,null,null,null,null,null,null,null,null,null,"","",null,{"$f":"IF(C50=0,\"wait\",_xll.SNT.StockInst(C50,$N$9))","v":"wait"},{"$f":"N50-制限値幅取得!E45","v":{"$error":"#VALUE!"}},{"$f":"IF(C50=0,\"wait\",_xll.SNT.StockInst(C50,$P$9))","v":"wait"},{"$f":"IF(C50=0,\"\",_xll.SNT.StockInst(C50,\"高値時刻\"))","v":""},{"$f":"MID(_xll.SNT.StockInst($C50,\"高値時刻\"),12,5)","v":"ockIn"},{"$f":"IF(C50=0,\"wait\",_xll.SNT.StockInst(C50,$S$9))","v":"wait"},{"$f":"IF($C50=0,\"\",_xll.SNT.StockInst($C50,\"安値時刻\"))","v":""},{"$f":"MID(_xll.SNT.StockInst($C50,\"安値時刻\"),12,5)","v":"ockIn"},"","","","",{"$f":"_xlfn.IFS(N50<制限値幅取得!I45,\"S安付近\",N50>制限値幅取得!H45,\"S高付近\",制限値幅取得!H45>N50>制限値幅取得!I45,\"\")","v":{"$error":"#VALUE!"}}]
[42,null,null,null,null,null,null,null,null,null,"","",null,{"$f":"IF(C51=0,\"wait\",_xll.SNT.StockInst(C51,$N$9))","v":"wait"},{"$f":"N51-制限値幅取得!E46","v":{"$error":"#VALUE!"}},{"$f":"IF(C51=0,\"wait\",_xll.SNT.StockInst(C51,$P$9))","v":"wait"},{"$f":"IF(C51=0,\"\",_xll.SNT.StockInst(C51,\"高値時刻\"))","v":""},{"$f":"MID(_xll.SNT.StockInst($C51,\"高値時刻\"),12,5)","v":"ockIn"},{"$f":"IF(C51=0,\"wait\",_xll.SNT.StockInst(C51,$S$9))","v":"wait"},{"$f":"IF($C51=0,\"\",_xll.SNT.StockInst($C51,\"安値時刻\"))","v":""},{"$f":"MID(_xll.SNT.StockInst($C51,\"安値時刻\"),12,5)","v":"ockIn"},"","","","",{"$f":"_xlfn.IFS(N51<制限値幅取得!I46,\"S安付近\",N51>制限値幅取得!H46,\"S高付近\",制限値幅取得!H46>N51>制限値幅取得!I46,\"\")","v":{"$error":"#VALUE!"}}]
[43,null,null,null,null,null,null,null,null,null,"","",null,{"$f":"IF(C52=0,\"wait\",_xll.SNT.StockInst(C52,$N$9))","v":"wait"},{"$f":"N52-制限値幅取得!E47","v":{"$error":"#VALUE!"}},{"$f":"IF(C52=0,\"wait\",_xll.SNT.StockInst(C52,$P$9))","v":"wait"},{"$f":"IF(C52=0,\"\",_xll.SNT.StockInst(C52,\"高値時刻\"))","v":""},{"$f":"MID(_xll.SNT.StockInst($C52,\"高値時刻\"),12,5)","v":"ockIn"},{"$f":"IF(C52=0,\"wait\",_xll.SNT.StockInst(C52,$S$9))","v":"wait"},{"$f":"IF($C52=0,\"\",_xll.SNT.StockInst($C52,\"安値時刻\"))","v":""},{"$f":"MID(_xll.SNT.StockInst($C52,\"安値時刻\"),12,5)","v":"ockIn"},"","","","",{"$f":"_xlfn.IFS(N52<制限値幅取得!I47,\"S安付近\",N52>制限値幅取得!H47,\"S高付近\",制限値幅取得!H47>N52>制限値幅取得!I47,\"\")","v":{"$error":"#VALUE!"}}]
[44,null,null,null,null,null,null,null,null,null,"","",null,{"$f":"IF(C53=0,\"wait\",_xll.SNT.StockInst(C53,$N$9))","v":"wait"},{"$f":"N53-制限値幅取得!E48","v":{"$error":"#VALUE!"}},{"$f":"IF(C53=0,\"wait\",_xll.SNT.StockInst(C53,$P$9))","v":"wait"},{"$f":"IF(C53=0,\"\",_xll.SNT.StockInst(C53,\"高値時刻\"))","v":""},{"$f":"MID(_xll.SNT.StockInst($C53,\"高値時刻\"),12,5)","v":"ockIn"},{"$f":"IF(C53=0,\"wait\",_xll.SNT.StockInst(C53,$S$9))","v":"wait"},{"$f":"IF($C53=0,\"\",_xll.SNT.StockInst($C53,\"安値時刻\"))","v":""},{"$f":"MID(_xll.SNT.StockInst($C53,\"安値時刻\"),12,5)","v":"ockIn"},"","","","",{"$f":"_xlfn.IFS(N53<制限値幅取得!I48,\"S安付近\",N53>制限値幅取得!H48,\"S高付近\",制限値幅取得!H48>N53>制限値幅取得!I48,\"\")","v":{"$error":"#VALUE!"}}]
[45,null,null,null,null,null,null,null,null,null,"","",null,{"$f":"IF(C54=0,\"wait\",_xll.SNT.StockInst(C54,$N$9))","v":"wait"},{"$f":"N54-制限値幅取得!E49","v":{"$error":"#VALUE!"}},{"$f":"IF(C54=0,\"wait\",_xll.SNT.StockInst(C54,$P$9))","v":"wait"},{"$f":"IF(C54=0,\"\",_xll.SNT.StockInst(C54,\"高値時刻\"))","v":""},{"$f":"MID(_xll.SNT.StockInst($C54,\"高値時刻\"),12,5)","v":"ockIn"},{"$f":"IF(C54=0,\"wait\",_xll.SNT.StockInst(C54,$S$9))","v":"wait"},{"$f":"IF($C54=0,\"\",_xll.SNT.StockInst($C54,\"安値時刻\"))","v":""},{"$f":"MID(_xll.SNT.StockInst($C54,\"安値時刻\"),12,5)","v":"ockIn"},"","","","",{"$f":"_xlfn.IFS(N54<制限値幅取得!I49,\"S安付近\",N54>制限値幅取得!H49,\"S高付近\",制限値幅取得!H49>N54>制限値幅取得!I49,\"\")","v":{"$error":"#VALUE!"}}]
[46,null,null,null,null,null,null,null,null,null,"","",null,{"$f":"IF(C55=0,\"wait\",_xll.SNT.StockInst(C55,$N$9))","v":"wait"},{"$f":"N55-制限値幅取得!E50","v":{"$error":"#VALUE!"}},{"$f":"IF(C55=0,\"wait\",_xll.SNT.StockInst(C55,$P$9))","v":"wait"},{"$f":"IF(C55=0,\"\",_xll.SNT.StockInst(C55,\"高値時刻\"))","v":""},{"$f":"MID(_xll.SNT.StockInst($C55,\"高値時刻\"),12,5)","v":"ockIn"},{"$f":"IF(C55=0,\"wait\",_xll.SNT.StockInst(C55,$S$9))","v":"wait"},{"$f":"IF($C55=0,\"\",_xll.SNT.StockInst($C55,\"安値時刻\"))","v":""},{"$f":"MID(_xll.SNT.StockInst($C55,\"安値時刻\"),12,5)","v":"ockIn"},"","","","",{"$f":"_xlfn.IFS(N55<制限値幅取得!I50,\"S安付近\",N55>制限値幅取得!H50,\"S高付近\",制限値幅取得!H50>N55>制限値幅取得!I50,\"\")","v":{"$error":"#VALUE!"}}]
[47,null,null,null,null,null,null,null,null,null,"","",null,{"$f":"IF(C56=0,\"wait\",_xll.SNT.StockInst(C56,$N$9))","v":"wait"},{"$f":"N56-制限値幅取得!E51","v":{"$error":"#VALUE!"}},{"$f":"IF(C56=0,\"wait\",_xll.SNT.StockInst(C56,$P$9))","v":"wait"},{"$f":"IF(C56=0,\"\",_xll.SNT.StockInst(C56,\"高値時刻\"))","v":""},{"$f":"MID(_xll.SNT.StockInst($C56,\"高値時刻\"),12,5)","v":"ockIn"},{"$f":"IF(C56=0,\"wait\",_xll.SNT.StockInst(C56,$S$9))","v":"wait"},{"$f":"IF($C56=0,\"\",_xll.SNT.StockInst($C56,\"安値時刻\"))","v":""},{"$f":"MID(_xll.SNT.StockInst($C56,\"安値時刻\"),12,5)","v":"ockIn"},"","","","",{"$f":"_xlfn.IFS(N56<制限値幅取得!I51,\"S安付近\",N56>制限値幅取得!H51,\"S高付近\",制限値幅取得!H51>N56>制限値幅取得!I51,\"\")","v":{"$error":"#VALUE!"}}]
[48,null,null,null,null,null,null,null,null,null,"","",null,{"$f":"IF(C57=0,\"wait\",_xll.SNT.StockInst(C57,$N$9))","v":"wait"},{"$f":"N57-制限値幅取得!E52","v":{"$error":"#VALUE!"}},{"$f":"IF(C57=0,\"wait\",_xll.SNT.StockInst(C57,$P$9))","v":"wait"},{"$f":"IF(C57=0,\"\",_xll.SNT.StockInst(C57,\"高値時刻\"))","v":""},{"$f":"MID(_xll.SNT.StockInst($C57,\"高値時刻\"),12,5)","v":"ockIn"},{"$f":"IF(C57=0,\"wait\",_xll.SNT.StockInst(C57,$S$9))","v":"wait"},{"$f":"IF($C57=0,\"\",_xll.SNT.StockInst($C57,\"安値時刻\"))","v":""},{"$f":"MID(_xll.SNT.StockInst($C57,\"安値時刻\"),12,5)","v":"ockIn"},"","","","",{"$f":"_xlfn.IFS(N57<制限値幅取得!I52,\"S安付近\",N57>制限値幅取得!H52,\"S高付近\",制限値幅取得!H52>N57>制限値幅取得!I52,\"\")","v":{"$error":"#VALUE!"}}]
[49,null,null,null,null,null,null,null,null,null,"","",null,{"$f":"IF(C58=0,\"wait\",_xll.SNT.StockInst(C58,$N$9))","v":"wait"},{"$f":"N58-制限値幅取得!E53","v":{"$error":"#VALUE!"}},{"$f":"IF(C58=0,\"wait\",_xll.SNT.StockInst(C58,$P$9))","v":"wait"},{"$f":"IF(C58=0,\"\",_xll.SNT.StockInst(C58,\"高値時刻\"))","v":""},{"$f":"MID(_xll.SNT.StockInst($C58,\"高値時刻\"),12,5)","v":"ockIn"},{"$f":"IF(C58=0,\"wait\",_xll.SNT.StockInst(C58,$S$9))","v":"wait"},{"$f":"IF($C58=0,\"\",_xll.SNT.StockInst($C58,\"安値時刻\"))","v":""},{"$f":"MID(_xll.SNT.StockInst($C58,\"安値時刻\"),12,5)","v":"ockIn"},"","","","",{"$f":"_xlfn.IFS(N58<制限値幅取得!I53,\"S安付近\",N58>制限値幅取得!H53,\"S高付近\",制限値幅取得!H53>N58>制限値幅取得!I53,\"\")","v":{"$error":"#VALUE!"}}]
[50,null,null,null,null,null,null,null,null,null,"","",null,{"$f":"IF(C59=0,\"wait\",_xll.SNT.StockInst(C59,$N$9))","v":"wait"},{"$f":"N59-制限値幅取得!E54","v":{"$error":"#VALUE!"}},{"$f":"IF(C59=0,\"wait\",_xll.SNT.StockInst(C59,$P$9))","v":"wait"},{"$f":"IF(C59=0,\"\",_xll.SNT.StockInst(C59,\"高値時刻\"))","v":""},{"$f":"MID(_xll.SNT.StockInst($C59,\"高値時刻\"),12,5)","v":"ockIn"},{"$f":"IF(C59=0,\"wait\",_xll.SNT.StockInst(C59,$S$9))","v":"wait"},{"$f":"IF($C59=0,\"\",_xll.SNT.StockInst($C59,\"安値時刻\"))","v":""},{"$f":"MID(_xll.SNT.StockInst($C59,\"安値時刻\"),12,5)","v":"ockIn"},"","","","",{"$f":"_xlfn.IFS(N59<制限値幅取得!I54,\"S安付近\",N59>制限値幅取得!H54,\"S高付近\",制限値幅取得!H54>N59>制限値幅取得!I54,\"\")","v":{"$error":"#VALUE!"}}]
[51,null,null,null,null,null,null,null,null,null,"","",null,{"$f":"IF(C60=0,\"wait\",_xll.SNT.StockInst(C60,$N$9))","v":"wait"},{"$f":"N60-制限値幅取得!E55","v":{"$error":"#VALUE!"}},{"$f":"IF(C60=0,\"wait\",_xll.SNT.StockInst(C60,$P$9))","v":"wait"},{"$f":"IF(C60=0,\"\",_xll.SNT.StockInst(C60,\"高値時刻\"))","v":""},{"$f":"MID(_xll.SNT.StockInst($C60,\"高値時刻\"),12,5)","v":"ockIn"},{"$f":"IF(C60=0,\"wait\",_xll.SNT.StockInst(C60,$S$9))","v":"wait"},{"$f":"IF($C60=0,\"\",_xll.SNT.StockInst($C60,\"安値時刻\"))","v":""},{"$f":"MID(_xll.SNT.StockInst($C60,\"安値時刻\"),12,5)","v":"ockIn"},"","","","",{"$f":"_xlfn.IFS(N60<制限値幅取得!I55,\"S安付近\",N60>制限値幅取得!H55,\"S高付近\",制限値幅取得!H55>N60>制限値幅取得!I55,\"\")","v":{"$error":"#VALUE!"}}]
[52,null,null,null,null,null,null,null,null,null,"","",null,{"$f":"IF(C61=0,\"wait\",_xll.SNT.StockInst(C61,$N$9))","v":"wait"},{"$f":"N61-制限値幅取得!E56","v":{"$error":"#VALUE!"}},{"$f":"IF(C61=0,\"wait\",_xll.SNT.StockInst(C61,$P$9))","v":"wait"},{"$f":"IF(C61=0,\"\",_xll.SNT.StockInst(C61,\"高値時刻\"))","v":""},{"$f":"MID(_xll.SNT.StockInst($C61,\"高値時刻\"),12,5)","v":"ockIn"},{"$f":"IF(C61=0,\"wait\",_xll.SNT.StockInst(C61,$S$9))","v":"wait"},{"$f":"IF($C61=0,\"\",_xll.SNT.StockInst($C61,\"安値時刻\"))","v":""},{"$f":"MID(_xll.SNT.StockInst($C61,\"安値時刻\"),12,5)","v":"ockIn"},"","","","",{"$f":"_xlfn.IFS(N61<制限値幅取得!I56,\"S安付近\",N61>制限値幅取得!H56,\"S高付近\",制限値幅取得!H56>N61>制限値幅取得!I56,\"\")","v":{"$error":"#VALUE!"}}]
[53,null,null,null,null,null,null,null,null,null,"","",null,{"$f":"IF(C62=0,\"wait\",_xll.SNT.StockInst(C62,$N$9))","v":"wait"},{"$f":"N62-制限値幅取得!E57","v":{"$error":"#VALUE!"}},{"$f":"IF(C62=0,\"wait\",_xll.SNT.StockInst(C62,$P$9))","v":"wait"},{"$f":"IF(C62=0,\"\",_xll.SNT.StockInst(C62,\"高値時刻\"))","v":""},{"$f":"MID(_xll.SNT.StockInst($C62,\"高値時刻\"),12,5)","v":"ockIn"},{"$f":"IF(C62=0,\"wait\",_xll.SNT.StockInst(C62,$S$9))","v":"wait"},{"$f":"IF($C62=0,\"\",_xll.SNT.StockInst($C62,\"安値時刻\"))","v":""},{"$f":"MID(_xll.SNT.StockInst($C62,\"安値時刻\"),12,5)","v":"ockIn"},"","","","",{"$f":"_xlfn.IFS(N62<制限値幅取得!I57,\"S安付近\",N62>制限値幅取得!H57,\"S高付近\",制限値幅取得!H57>N62>制限値幅取得!I57,\"\")","v":{"$error":"#VALUE!"}}]
[54,null,null,null,null,null,null,null,null,null,"","",null,{"$f":"IF(C63=0,\"wait\",_xll.SNT.StockInst(C63,$N$9))","v":"wait"},{"$f":"N63-制限値幅取得!E58","v":{"$error":"#VALUE!"}},{"$f":"IF(C63=0,\"wait\",_xll.SNT.StockInst(C63,$P$9))","v":"wait"},{"$f":"IF(C63=0,\"\",_xll.SNT.StockInst(C63,\"高値時刻\"))","v":""},{"$f":"MID(_xll.SNT.StockInst($C63,\"高値時刻\"),12,5)","v":"ockIn"},{"$f":"IF(C63=0,\"wait\",_xll.SNT.StockInst(C63,$S$9))","v":"wait"},{"$f":"IF($C63=0,\"\",_xll.SNT.StockInst($C63,\"安値時刻\"))","v":""},{"$f":"MID(_xll.SNT.StockInst($C63,\"安値時刻\"),12,5)","v":"ockIn"},"","","","",{"$f":"_xlfn.IFS(N63<制限値幅取得!I58,\"S安付近\",N63>制限値幅取得!H58,\"S高付近\",制限値幅取得!H58>N63>制限値幅取得!I58,\"\")","v":{"$error":"#VALUE!"}}]
[55,null,null,null,null,null,null,null,null,null,"","",null,{"$f":"IF(C64=0,\"wait\",_xll.SNT.StockInst(C64,$N$9))","v":"wait"},{"$f":"N64-制限値幅取得!E59","v":{"$error":"#VALUE!"}},{"$f":"IF(C64=0,\"wait\",_xll.SNT.StockInst(C64,$P$9))","v":"wait"},{"$f":"IF(C64=0,\"\",_xll.SNT.StockInst(C64,\"高値時刻\"))","v":""},{"$f":"MID(_xll.SNT.StockInst($C64,\"高値時刻\"),12,5)","v":"ockIn"},{"$f":"IF(C64=0,\"wait\",_xll.SNT.StockInst(C64,$S$9))","v":"wait"},{"$f":"IF($C64=0,\"\",_xll.SNT.StockInst($C64,\"安値時刻\"))","v":""},{"$f":"MID(_xll.SNT.StockInst($C64,\"安値時刻\"),12,5)","v":"ockIn"},"","","","",{"$f":"_xlfn.IFS(N64<制限値幅取得!I59,\"S安付近\",N64>制限値幅取得!H59,\"S高付近\",制限値幅取得!H59>N64>制限値幅取得!I59,\"\")","v":{"$error":"#VALUE!"}}]
[56,null,null,null,null,null,null,null,null,null,"","",null,{"$f":"IF(C65=0,\"wait\",_xll.SNT.StockInst(C65,$N$9))","v":"wait"},{"$f":"N65-制限値幅取得!E60","v":{"$error":"#VALUE!"}},{"$f":"IF(C65=0,\"wait\",_xll.SNT.StockInst(C65,$P$9))","v":"wait"},{"$f":"IF(C65=0,\"\",_xll.SNT.StockInst(C65,\"高値時刻\"))","v":""},{"$f":"MID(_xll.SNT.StockInst($C65,\"高値時刻\"),12,5)","v":"ockIn"},{"$f":"IF(C65=0,\"wait\",_xll.SNT.StockInst(C65,$S$9))","v":"wait"},{"$f":"IF($C65=0,\"\",_xll.SNT.StockInst($C65,\"安値時刻\"))","v":""},{"$f":"MID(_xll.SNT.StockInst($C65,\"安値時刻\"),12,5)","v":"ockIn"},"","","","",{"$f":"_xlfn.IFS(N65<制限値幅取得!I60,\"S安付近\",N65>制限値幅取得!H60,\"S高付近\",制限値幅取得!H60>N65>制限値幅取得!I60,\"\")","v":{"$error":"#VALUE!"}}]
[57,null,null,null,null,null,null,null,null,null,"","",null,{"$f":"IF(C66=0,\"wait\",_xll.SNT.StockInst(C66,$N$9))","v":"wait"},{"$f":"N66-制限値幅取得!E61","v":{"$error":"#VALUE!"}},{"$f":"IF(C66=0,\"wait\",_xll.SNT.StockInst(C66,$P$9))","v":"wait"},{"$f":"IF(C66=0,\"\",_xll.SNT.StockInst(C66,\"高値時刻\"))","v":""},{"$f":"MID(_xll.SNT.StockInst($C66,\"高値時刻\"),12,5)","v":"ockIn"},{"$f":"IF(C66=0,\"wait\",_xll.SNT.StockInst(C66,$S$9))","v":"wait"},{"$f":"IF($C66=0,\"\",_xll.SNT.StockInst($C66,\"安値時刻\"))","v":""},{"$f":"MID(_xll.SNT.StockInst($C66,\"安値時刻\"),12,5)","v":"ockIn"},"","","","",{"$f":"_xlfn.IFS(N66<制限値幅取得!I61,\"S安付近\",N66>制限値幅取得!H61,\"S高付近\",制限値幅取得!H61>N66>制限値幅取得!I61,\"\")","v":{"$error":"#VALUE!"}}]
[58,null,null,null,null,null,null,null,null,null,"","",null,{"$f":"IF(C67=0,\"wait\",_xll.SNT.StockInst(C67,$N$9))","v":"wait"},{"$f":"N67-制限値幅取得!E62","v":{"$error":"#VALUE!"}},{"$f":"IF(C67=0,\"wait\",_xll.SNT.StockInst(C67,$P$9))","v":"wait"},{"$f":"IF(C67=0,\"\",_xll.SNT.StockInst(C67,\"高値時刻\"))","v":""},{"$f":"MID(_xll.SNT.StockInst($C67,\"高値時刻\"),12,5)","v":"ockIn"},{"$f":"IF(C67=0,\"wait\",_xll.SNT.StockInst(C67,$S$9))","v":"wait"},{"$f":"IF($C67=0,\"\",_xll.SNT.StockInst($C67,\"安値時刻\"))","v":""},{"$f":"MID(_xll.SNT.StockInst($C67,\"安値時刻\"),12,5)","v":"ockIn"},"","","","",{"$f":"_xlfn.IFS(N67<制限値幅取得!I62,\"S安付近\",N67>制限値幅取得!H62,\"S高付近\",制限値幅取得!H62>N67>制限値幅取得!I62,\"\")","v":{"$error":"#VALUE!"}}]
[59,null,null,null,null,null,null,null,null,null,"","",null,{"$f":"IF(C68=0,\"wait\",_xll.SNT.StockInst(C68,$N$9))","v":"wait"},{"$f":"N68-制限値幅取得!E63","v":{"$error":"#VALUE!"}},{"$f":"IF(C68=0,\"wait\",_xll.SNT.StockInst(C68,$P$9))","v":"wait"},{"$f":"IF(C68=0,\"\",_xll.SNT.StockInst(C68,\"高値時刻\"))","v":""},{"$f":"MID(_xll.SNT.StockInst($C68,\"高値時刻\"),12,5)","v":"ockIn"},{"$f":"IF(C68=0,\"wait\",_xll.SNT.StockInst(C68,$S$9))","v":"wait"},{"$f":"IF($C68=0,\"\",_xll.SNT.StockInst($C68,\"安値時刻\"))","v":""},{"$f":"MID(_xll.SNT.StockInst($C68,\"安値時刻\"),12,5)","v":"ockIn"},"","","","",{"$f":"_xlfn.IFS(N68<制限値幅取得!I63,\"S安付近\",N68>制限値幅取得!H63,\"S高付近\",制限値幅取得!H63>N68>制限値幅取得!I63,\"\")","v":{"$error":"#VALUE!"}}]
[60,null,null,null,null,null,null,null,null,null,"","",null,{"$f":"IF(C69=0,\"wait\",_xll.SNT.StockInst(C69,$N$9))","v":"wait"},{"$f":"N69-制限値幅取得!E64","v":{"$error":"#VALUE!"}},{"$f":"IF(C69=0,\"wait\",_xll.SNT.StockInst(C69,$P$9))","v":"wait"},{"$f":"IF(C69=0,\"\",_xll.SNT.StockInst(C69,\"高値時刻\"))","v":""},{"$f":"MID(_xll.SNT.StockInst($C69,\"高値時刻\"),12,5)","v":"ockIn"},{"$f":"IF(C69=0,\"wait\",_xll.SNT.StockInst(C69,$S$9))","v":"wait"},{"$f":"IF($C69=0,\"\",_xll.SNT.StockInst($C69,\"安値時刻\"))","v":""},{"$f":"MID(_xll.SNT.StockInst($C69,\"安値時刻\"),12,5)","v":"ockIn"},"","","","",{"$f":"_xlfn.IFS(N69<制限値幅取得!I64,\"S安付近\",N69>制限値幅取得!H64,\"S高付近\",制限値幅取得!H64>N69>制限値幅取得!I64,\"\")","v":{"$error":"#VALUE!"}}]
[61,null,null,null,null,null,null,null,null,null,"","",null,{"$f":"IF(C70=0,\"wait\",_xll.SNT.StockInst(C70,$N$9))","v":"wait"},{"$f":"N70-制限値幅取得!E65","v":{"$error":"#VALUE!"}},{"$f":"IF(C70=0,\"wait\",_xll.SNT.StockInst(C70,$P$9))","v":"wait"},{"$f":"IF(C70=0,\"\",_xll.SNT.StockInst(C70,\"高値時刻\"))","v":""},{"$f":"MID(_xll.SNT.StockInst($C70,\"高値時刻\"),12,5)","v":"ockIn"},{"$f":"IF(C70=0,\"wait\",_xll.SNT.StockInst(C70,$S$9))","v":"wait"},{"$f":"IF($C70=0,\"\",_xll.SNT.StockInst($C70,\"安値時刻\"))","v":""},{"$f":"MID(_xll.SNT.StockInst($C70,\"安値時刻\"),12,5)","v":"ockIn"},"","","","",{"$f":"_xlfn.IFS(N70<制限値幅取得!I65,\"S安付近\",N70>制限値幅取得!H65,\"S高付近\",制限値幅取得!H65>N70>制限値幅取得!I65,\"\")","v":{"$error":"#VALUE!"}}]
[62,null,null,null,null,null,null,null,null,null,"","",null,{"$f":"IF(C71=0,\"wait\",_xll.SNT.StockInst(C71,$N$9))","v":"wait"},{"$f":"N71-制限値幅取得!E66","v":{"$error":"#VALUE!"}},{"$f":"IF(C71=0,\"wait\",_xll.SNT.StockInst(C71,$P$9))","v":"wait"},{"$f":"IF(C71=0,\"\",_xll.SNT.StockInst(C71,\"高値時刻\"))","v":""},{"$f":"MID(_xll.SNT.StockInst($C71,\"高値時刻\"),12,5)","v":"ockIn"},{"$f":"IF(C71=0,\"wait\",_xll.SNT.StockInst(C71,$S$9))","v":"wait"},{"$f":"IF($C71=0,\"\",_xll.SNT.StockInst($C71,\"安値時刻\"))","v":""},{"$f":"MID(_xll.SNT.StockInst($C71,\"安値時刻\"),12,5)","v":"ockIn"},"","","","",{"$f":"_xlfn.IFS(N71<制限値幅取得!I66,\"S安付近\",N71>制限値幅取得!H66,\"S高付近\",制限値幅取得!H66>N71>制限値幅取得!I66,\"\")","v":{"$error":"#VALUE!"}}]
[63,null,null,null,null,null,null,null,null,null,"","",null,{"$f":"IF(C72=0,\"wait\",_xll.SNT.StockInst(C72,$N$9))","v":"wait"},{"$f":"N72-制限値幅取得!E67","v":{"$error":"#VALUE!"}},{"$f":"IF(C72=0,\"wait\",_xll.SNT.StockInst(C72,$P$9))","v":"wait"},{"$f":"IF(C72=0,\"\",_xll.SNT.StockInst(C72,\"高値時刻\"))","v":""},{"$f":"MID(_xll.SNT.StockInst($C72,\"高値時刻\"),12,5)","v":"ockIn"},{"$f":"IF(C72=0,\"wait\",_xll.SNT.StockInst(C72,$S$9))","v":"wait"},{"$f":"IF($C72=0,\"\",_xll.SNT.StockInst($C72,\"安値時刻\"))","v":""},{"$f":"MID(_xll.SNT.StockInst($C72,\"安値時刻\"),12,5)","v":"ockIn"},"","","","",{"$f":"_xlfn.IFS(N72<制限値幅取得!I67,\"S安付近\",N72>制限値幅取得!H67,\"S高付近\",制限値幅取得!H67>N72>制限値幅取得!I67,\"\")","v":{"$error":"#VALUE!"}}]
[64,null,null,null,null,null,null,null,null,null,"","",null,{"$f":"IF(C73=0,\"wait\",_xll.SNT.StockInst(C73,$N$9))","v":"wait"},{"$f":"N73-制限値幅取得!E68","v":{"$error":"#VALUE!"}},{"$f":"IF(C73=0,\"wait\",_xll.SNT.StockInst(C73,$P$9))","v":"wait"},{"$f":"IF(C73=0,\"\",_xll.SNT.StockInst(C73,\"高値時刻\"))","v":""},{"$f":"MID(_xll.SNT.StockInst($C73,\"高値時刻\"),12,5)","v":"ockIn"},{"$f":"IF(C73=0,\"wait\",_xll.SNT.StockInst(C73,$S$9))","v":"wait"},{"$f":"IF($C73=0,\"\",_xll.SNT.StockInst($C73,\"安値時刻\"))","v":""},{"$f":"MID(_xll.SNT.StockInst($C73,\"安値時刻\"),12,5)","v":"ockIn"},"","","","",{"$f":"_xlfn.IFS(N73<制限値幅取得!I68,\"S安付近\",N73>制限値幅取得!H68,\"S高付近\",制限値幅取得!H68>N73>制限値幅取得!I68,\"\")","v":{"$error":"#VALUE!"}}]
[65,null,null,null,null,null,null,null,null,null,{"$f":"IFERROR(IF(F74=\"買建\",(N74-I74)*H74,(I74-N74)*H74),\"\")","v":""},{"$f":"IFERROR(K74/(I74*H74),\"\")","v":""},null,{"$f":"IF(C74=0,\"wait\",_xll.SNT.StockInst(C74,$N$9))","v":"wait"},{"$f":"N74-制限値幅取得!E69","v":{"$error":"#VALUE!"}},{"$f":"IF(C74=0,\"wait\",_xll.SNT.StockInst(C74,$P$9))","v":"wait"},{"$f":"IF(C74=0,\"\",_xll.SNT.StockInst(C74,\"高値時刻\"))","v":""},{"$f":"MID(_xll.SNT.StockInst($C74,\"高値時刻\"),12,5)","v":"ockIn"},{"$f":"IF(C74=0,\"wait\",_xll.SNT.StockInst(C74,$S$9))","v":"wait"},{"$f":"IF($C74=0,\"\",_xll.SNT.StockInst($C74,\"安値時刻\"))","v":""},{"$f":"MID(_xll.SNT.StockInst($C74,\"安値時刻\"),12,5)","v":"ockIn"},{"$f":"IFERROR(IF($Y$2-$Q74<=TIME(0,$X$3,0),\"高値更新\",IF($Y$2-$T74<=TIME(0,$X$3,0),\"安値更新\",\"\")),\"\")","v":""},"","","",{"$f":"_xlfn.IFS(N74<制限値幅取得!I69,\"S安付近\",N74>制限値幅取得!H69,\"S高付近\",制限値幅取得!H69>N74>制限値幅取得!I69,\"\")","v":{"$error":"#VALUE!"}}]
[66,null,null,null,null,null,null,null,null,null,"","",null,{"$f":"IF(C75=0,\"wait\",_xll.SNT.StockInst(C75,$N$9))","v":"wait"},{"$f":"N75-制限値幅取得!E70","v":{"$error":"#VALUE!"}},{"$f":"IF(C75=0,\"wait\",_xll.SNT.StockInst(C75,$P$9))","v":"wait"},{"$f":"IF(C75=0,\"\",_xll.SNT.StockInst(C75,\"高値時刻\"))","v":""},{"$f":"MID(_xll.SNT.StockInst($C75,\"高値時刻\"),12,5)","v":"ockIn"},{"$f":"IF(C75=0,\"wait\",_xll.SNT.StockInst(C75,$S$9))","v":"wait"},{"$f":"IF($C75=0,\"\",_xll.SNT.StockInst($C75,\"安値時刻\"))","v":""},{"$f":"MID(_xll.SNT.StockInst($C75,\"安値時刻\"),12,5)","v":"ockIn"},"",{"$f":"IF(X75=\"\",\"\",IF(F75=\"買建\",IF(N75<X75,\"ﾛｽｶｯﾄ\",\"\"),IF(F75=\"売建\",IF(N75>X75,\"ﾛｽｶｯﾄ\",\"\"),\"\")))","v":""},{"$f":"IFERROR(MROUND(IF(F75=\"買建\",((I75*H75)+Y75)/H75,((I75*H75)-Y75)/H75),$X$5),\"\")","v":""},{"$f":"IF(K75<0,-(H75*I75*$X$4),\"\")","v":""},{"$f":"_xlfn.IFS(N75<制限値幅取得!I70,\"S安付近\",N75>制限値幅取得!H70,\"S高付近\",制限値幅取得!H70>N75>制限値幅取得!I70,\"\")","v":{"$error":"#VALUE!"}}]
[67,null,null,null,null,null,null,null,null,null,"","",null,{"$f":"IF(C76=0,\"wait\",_xll.SNT.StockInst(C76,$N$9))","v":"wait"},{"$f":"N76-制限値幅取得!E71","v":{"$error":"#VALUE!"}},{"$f":"IF(C76=0,\"wait\",_xll.SNT.StockInst(C76,$P$9))","v":"wait"},{"$f":"IF(C76=0,\"\",_xll.SNT.StockInst(C76,\"高値時刻\"))","v":""},{"$f":"MID(_xll.SNT.StockInst($C76,\"高値時刻\"),12,5)","v":"ockIn"},{"$f":"IF(C76=0,\"wait\",_xll.SNT.StockInst(C76,$S$9))","v":"wait"},{"$f":"IF($C76=0,\"\",_xll.SNT.StockInst($C76,\"安値時刻\"))","v":""},{"$f":"MID(_xll.SNT.StockInst($C76,\"安値時刻\"),12,5)","v":"ockIn"},"","","","",{"$f":"_xlfn.IFS(N76<制限値幅取得!I71,\"S安付近\",N76>制限値幅取得!H71,\"S高付近\",制限値幅取得!H71>N76>制限値幅取得!I71,\"\")","v":{"$error":"#VALUE!"}}]
[68,null,null,null,null,null,null,null,null,null,"","",null,{"$f":"IF(C77=0,\"wait\",_xll.SNT.StockInst(C77,$N$9))","v":"wait"},{"$f":"N77-制限値幅取得!E72","v":{"$error":"#VALUE!"}},{"$f":"IF(C77=0,\"wait\",_xll.SNT.StockInst(C77,$P$9))","v":"wait"},{"$f":"IF(C77=0,\"\",_xll.SNT.StockInst(C77,\"高値時刻\"))","v":""},{"$f":"MID(_xll.SNT.StockInst($C77,\"高値時刻\"),12,5)","v":"ockIn"},{"$f":"IF(C77=0,\"wait\",_xll.SNT.StockInst(C77,$S$9))","v":"wait"},{"$f":"IF($C77=0,\"\",_xll.SNT.StockInst($C77,\"安値時刻\"))","v":""},{"$f":"MID(_xll.SNT.StockInst($C77,\"安値時刻\"),12,5)","v":"ockIn"},"","","","",{"$f":"_xlfn.IFS(N77<制限値幅取得!I72,\"S安付近\",N77>制限値幅取得!H72,\"S高付近\",制限値幅取得!H72>N77>制限値幅取得!I72,\"\")","v":{"$error":"#VALUE!"}}]
[69,null,null,null,null,null,null,null,null,null,"","",null,{"$f":"IF(C78=0,\"wait\",_xll.SNT.StockInst(C78,$N$9))","v":"wait"},{"$f":"N78-制限値幅取得!E73","v":{"$error":"#VALUE!"}},{"$f":"IF(C78=0,\"wait\",_xll.SNT.StockInst(C78,$P$9))","v":"wait"},{"$f":"IF(C78=0,\"\",_xll.SNT.StockInst(C78,\"高値時刻\"))","v":""},{"$f":"MID(_xll.SNT.StockInst($C78,\"高値時刻\"),12,5)","v":"ockIn"},{"$f":"IF(C78=0,\"wait\",_xll.SNT.StockInst(C78,$S$9))","v":"wait"},{"$f":"IF($C78=0,\"\",_xll.SNT.StockInst($C78,\"安値時刻\"))","v":""},{"$f":"MID(_xll.SNT.StockInst($C78,\"安値時刻\"),12,5)","v":"ockIn"},"","","","",{"$f":"_xlfn.IFS(N78<制限値幅取得!I73,\"S安付近\",N78>制限値幅取得!H73,\"S高付近\",制限値幅取得!H73>N78>制限値幅取得!I73,\"\")","v":{"$error":"#VALUE!"}}]
[70,null,null,null,null,null,null,null,null,null,"","",null,{"$f":"IF(C79=0,\"wait\",_xll.SNT.StockInst(C79,$N$9))","v":"wait"},{"$f":"N79-制限値幅取得!E74","v":{"$error":"#VALUE!"}},{"$f":"IF(C79=0,\"wait\",_xll.SNT.StockInst(C79,$P$9))","v":"wait"},{"$f":"IF(C79=0,\"\",_xll.SNT.StockInst(C79,\"高値時刻\"))","v":""},{"$f":"MID(_xll.SNT.StockInst($C79,\"高値時刻\"),12,5)","v":"ockIn"},{"$f":"IF(C79=0,\"wait\",_xll.SNT.StockInst(C79,$S$9))","v":"wait"},{"$f":"IF($C79=0,\"\",_xll.SNT.StockInst($C79,\"安値時刻\"))","v":""},{"$f":"MID(_xll.SNT.StockInst($C79,\"安値時刻\"),12,5)","v":"ockIn"},"","","","",{"$f":"_xlfn.IFS(N79<制限値幅取得!I74,\"S安付近\",N79>制限値幅取得!H74,\"S高付近\",制限値幅取得!H74>N79>制限値幅取得!I74,\"\")","v":{"$error":"#VALUE!"}}]
[71,null,null,null,null,null,null,null,null,null,"","",null,{"$f":"IF(C80=0,\"wait\",_xll.SNT.StockInst(C80,$N$9))","v":"wait"},{"$f":"N80-制限値幅取得!E75","v":{"$error":"#VALUE!"}},{"$f":"IF(C80=0,\"wait\",_xll.SNT.StockInst(C80,$P$9))","v":"wait"},{"$f":"IF(C80=0,\"\",_xll.SNT.StockInst(C80,\"高値時刻\"))","v":""},{"$f":"MID(_xll.SNT.StockInst($C80,\"高値時刻\"),12,5)","v":"ockIn"},{"$f":"IF(C80=0,\"wait\",_xll.SNT.StockInst(C80,$S$9))","v":"wait"},{"$f":"IF($C80=0,\"\",_xll.SNT.StockInst($C80,\"安値時刻\"))","v":""},{"$f":"MID(_xll.SNT.StockInst($C80,\"安値時刻\"),12,5)","v":"ockIn"},"","","","",{"$f":"_xlfn.IFS(N80<制限値幅取得!I75,\"S安付近\",N80>制限値幅取得!H75,\"S高付近\",制限値幅取得!H75>N80>制限値幅取得!I75,\"\")","v":{"$error":"#VALUE!"}}]
[72,null,null,null,null,null,null,null,null,null,"","",null,{"$f":"IF(C81=0,\"wait\",_xll.SNT.StockInst(C81,$N$9))","v":"wait"},{"$f":"N81-制限値幅取得!E76","v":{"$error":"#VALUE!"}},{"$f":"IF(C81=0,\"wait\",_xll.SNT.StockInst(C81,$P$9))","v":"wait"},{"$f":"IF(C81=0,\"\",_xll.SNT.StockInst(C81,\"高値時刻\"))","v":""},{"$f":"MID(_xll.SNT.StockInst($C81,\"高値時刻\"),12,5)","v":"ockIn"},{"$f":"IF(C81=0,\"wait\",_xll.SNT.StockInst(C81,$S$9))","v":"wait"},{"$f":"IF($C81=0,\"\",_xll.SNT.StockInst($C81,\"安値時刻\"))","v":""},{"$f":"MID(_xll.SNT.StockInst($C81,\"安値時刻\"),12,5)","v":"ockIn"},"","","","",{"$f":"_xlfn.IFS(N81<制限値幅取得!I76,\"S安付近\",N81>制限値幅取得!H76,\"S高付近\",制限値幅取得!H76>N81>制限値幅取得!I76,\"\")","v":{"$error":"#VALUE!"}}]
[73,null,null,null,null,null,null,null,null,null,"","",null,{"$f":"IF(C82=0,\"wait\",_xll.SNT.StockInst(C82,$N$9))","v":"wait"},{"$f":"N82-制限値幅取得!E77","v":{"$error":"#VALUE!"}},{"$f":"IF(C82=0,\"wait\",_xll.SNT.StockInst(C82,$P$9))","v":"wait"},{"$f":"IF(C82=0,\"\",_xll.SNT.StockInst(C82,\"高値時刻\"))","v":""},{"$f":"MID(_xll.SNT.StockInst($C82,\"高値時刻\"),12,5)","v":"ockIn"},{"$f":"IF(C82=0,\"wait\",_xll.SNT.StockInst(C82,$S$9))","v":"wait"},{"$f":"IF($C82=0,\"\",_xll.SNT.StockInst($C82,\"安値時刻\"))","v":""},{"$f":"MID(_xll.SNT.StockInst($C82,\"安値時刻\"),12,5)","v":"ockIn"},"","","","",{"$f":"_xlfn.IFS(N82<制限値幅取得!I77,\"S安付近\",N82>制限値幅取得!H77,\"S高付近\",制限値幅取得!H77>N82>制限値幅取得!I77,\"\")","v":{"$error":"#VALUE!"}}]
[74,null,null,null,null,null,null,null,null,null,"","",null,{"$f":"IF(C83=0,\"wait\",_xll.SNT.StockInst(C83,$N$9))","v":"wait"},{"$f":"N83-制限値幅取得!E78","v":{"$error":"#VALUE!"}},{"$f":"IF(C83=0,\"wait\",_xll.SNT.StockInst(C83,$P$9))","v":"wait"},{"$f":"IF(C83=0,\"\",_xll.SNT.StockInst(C83,\"高値時刻\"))","v":""},{"$f":"MID(_xll.SNT.StockInst($C83,\"高値時刻\"),12,5)","v":"ockIn"},{"$f":"IF(C83=0,\"wait\",_xll.SNT.StockInst(C83,$S$9))","v":"wait"},{"$f":"IF($C83=0,\"\",_xll.SNT.StockInst($C83,\"安値時刻\"))","v":""},{"$f":"MID(_xll.SNT.StockInst($C83,\"安値時刻\"),12,5)","v":"ockIn"},"","","","",{"$f":"_xlfn.IFS(N83<制限値幅取得!I78,\"S安付近\",N83>制限値幅取得!H78,\"S高付近\",制限値幅取得!H78>N83>制限値幅取得!I78,\"\")","v":{"$error":"#VALUE!"}}]
[75,null,null,null,null,null,null,null,null,null,"","",null,{"$f":"IF(C84=0,\"wait\",_xll.SNT.StockInst(C84,$N$9))","v":"wait"},{"$f":"N84-制限値幅取得!E79","v":{"$error":"#VALUE!"}},{"$f":"IF(C84=0,\"wait\",_xll.SNT.StockInst(C84,$P$9))","v":"wait"},{"$f":"IF(C84=0,\"\",_xll.SNT.StockInst(C84,\"高値時刻\"))","v":""},{"$f":"MID(_xll.SNT.StockInst($C84,\"高値時刻\"),12,5)","v":"ockIn"},{"$f":"IF(C84=0,\"wait\",_xll.SNT.StockInst(C84,$S$9))","v":"wait"},{"$f":"IF($C84=0,\"\",_xll.SNT.StockInst($C84,\"安値時刻\"))","v":""},{"$f":"MID(_xll.SNT.StockInst($C84,\"安値時刻\"),12,5)","v":"ockIn"},"","","","",{"$f":"_xlfn.IFS(N84<制限値幅取得!I79,\"S安付近\",N84>制限値幅取得!H79,\"S高付近\",制限値幅取得!H79>N84>制限値幅取得!I79,\"\")","v":{"$error":"#VALUE!"}}]
[76,null,null,null,null,null,null,null,null,null,"","",null,{"$f":"IF(C85=0,\"wait\",_xll.SNT.StockInst(C85,$N$9))","v":"wait"},{"$f":"N85-制限値幅取得!E80","v":{"$error":"#VALUE!"}},{"$f":"IF(C85=0,\"wait\",_xll.SNT.StockInst(C85,$P$9))","v":"wait"},{"$f":"IF(C85=0,\"\",_xll.SNT.StockInst(C85,\"高値時刻\"))","v":""},{"$f":"MID(_xll.SNT.StockInst($C85,\"高値時刻\"),12,5)","v":"ockIn"},{"$f":"IF(C85=0,\"wait\",_xll.SNT.StockInst(C85,$S$9))","v":"wait"},{"$f":"IF($C85=0,\"\",_xll.SNT.StockInst($C85,\"安値時刻\"))","v":""},{"$f":"MID(_xll.SNT.StockInst($C85,\"安値時刻\"),12,5)","v":"ockIn"},"","","","",{"$f":"_xlfn.IFS(N85<制限値幅取得!I80,\"S安付近\",N85>制限値幅取得!H80,\"S高付近\",制限値幅取得!H80>N85>制限値幅取得!I80,\"\")","v":{"$error":"#VALUE!"}}]
[77,null,null,null,null,null,null,null,null,null,"","",null,{"$f":"IF(C86=0,\"wait\",_xll.SNT.StockInst(C86,$N$9))","v":"wait"},{"$f":"N86-制限値幅取得!E81","v":{"$error":"#VALUE!"}},{"$f":"IF(C86=0,\"wait\",_xll.SNT.StockInst(C86,$P$9))","v":"wait"},{"$f":"IF(C86=0,\"\",_xll.SNT.StockInst(C86,\"高値時刻\"))","v":""},{"$f":"MID(_xll.SNT.StockInst($C86,\"高値時刻\"),12,5)","v":"ockIn"},{"$f":"IF(C86=0,\"wait\",_xll.SNT.StockInst(C86,$S$9))","v":"wait"},{"$f":"IF($C86=0,\"\",_xll.SNT.StockInst($C86,\"安値時刻\"))","v":""},{"$f":"MID(_xll.SNT.StockInst($C86,\"安値時刻\"),12,5)","v":"ockIn"},"","","","",{"$f":"_xlfn.IFS(N86<制限値幅取得!I81,\"S安付近\",N86>制限値幅取得!H81,\"S高付近\",制限値幅取得!H81>N86>制限値幅取得!I81,\"\")","v":{"$error":"#VALUE!"}}]
[78,null,null,null,null,null,null,null,null,null,"","",null,{"$f":"IF(C87=0,\"wait\",_xll.SNT.StockInst(C87,$N$9))","v":"wait"},{"$f":"N87-制限値幅取得!E82","v":{"$error":"#VALUE!"}},{"$f":"IF(C87=0,\"wait\",_xll.SNT.StockInst(C87,$P$9))","v":"wait"},{"$f":"IF(C87=0,\"\",_xll.SNT.StockInst(C87,\"高値時刻\"))","v":""},{"$f":"MID(_xll.SNT.StockInst($C87,\"高値時刻\"),12,5)","v":"ockIn"},{"$f":"IF(C87=0,\"wait\",_xll.SNT.StockInst(C87,$S$9))","v":"wait"},{"$f":"IF($C87=0,\"\",_xll.SNT.StockInst($C87,\"安値時刻\"))","v":""},{"$f":"MID(_xll.SNT.StockInst($C87,\"安値時刻\"),12,5)","v":"ockIn"},"","","","",{"$f":"_xlfn.IFS(N87<制限値幅取得!I82,\"S安付近\",N87>制限値幅取得!H82,\"S高付近\",制限値幅取得!H82>N87>制限値幅取得!I82,\"\")","v":{"$error":"#VALUE!"}}]
[79,null,null,null,null,null,null,null,null,null,"","",null,{"$f":"IF(C88=0,\"wait\",_xll.SNT.StockInst(C88,$N$9))","v":"wait"},{"$f":"N88-制限値幅取得!E83","v":{"$error":"#VALUE!"}},{"$f":"IF(C88=0,\"wait\",_xll.SNT.StockInst(C88,$P$9))","v":"wait"},{"$f":"IF(C88=0,\"\",_xll.SNT.StockInst(C88,\"高値時刻\"))","v":""},{"$f":"MID(_xll.SNT.StockInst($C88,\"高値時刻\"),12,5)","v":"ockIn"},{"$f":"IF(C88=0,\"wait\",_xll.SNT.StockInst(C88,$S$9))","v":"wait"},{"$f":"IF($C88=0,\"\",_xll.SNT.StockInst($C88,\"安値時刻\"))","v":""},{"$f":"MID(_xll.SNT.StockInst($C88,\"安値時刻\"),12,5)","v":"ockIn"},"","","","",{"$f":"_xlfn.IFS(N88<制限値幅取得!I83,\"S安付近\",N88>制限値幅取得!H83,\"S高付近\",制限値幅取得!H83>N88>制限値幅取得!I83,\"\")","v":{"$error":"#VALUE!"}}]
[80,null,null,null,null,null,null,null,null,null,"","",null,{"$f":"IF(C89=0,\"wait\",_xll.SNT.StockInst(C89,$N$9))","v":"wait"},{"$f":"N89-制限値幅取得!E84","v":{"$error":"#VALUE!"}},{"$f":"IF(C89=0,\"wait\",_xll.SNT.StockInst(C89,$P$9))","v":"wait"},{"$f":"IF(C89=0,\"\",_xll.SNT.StockInst(C89,\"高値時刻\"))","v":""},{"$f":"MID(_xll.SNT.StockInst($C89,\"高値時刻\"),12,5)","v":"ockIn"},{"$f":"IF(C89=0,\"wait\",_xll.SNT.StockInst(C89,$S$9))","v":"wait"},{"$f":"IF($C89=0,\"\",_xll.SNT.StockInst($C89,\"安値時刻\"))","v":""},{"$f":"MID(_xll.SNT.StockInst($C89,\"安値時刻\"),12,5)","v":"ockIn"},"","","","",{"$f":"_xlfn.IFS(N89<制限値幅取得!I84,\"S安付近\",N89>制限値幅取得!H84,\"S高付近\",制限値幅取得!H84>N89>制限値幅取得!I84,\"\")","v":{"$error":"#VALUE!"}}]
[81,null,null,null,null,null,null,null,null,null,"","",null,{"$f":"IF(C90=0,\"wait\",_xll.SNT.StockInst(C90,$N$9))","v":"wait"},{"$f":"N90-制限値幅取得!E85","v":{"$error":"#VALUE!"}},{"$f":"IF(C90=0,\"wait\",_xll.SNT.StockInst(C90,$P$9))","v":"wait"},{"$f":"IF(C90=0,\"\",_xll.SNT.StockInst(C90,\"高値時刻\"))","v":""},{"$f":"MID(_xll.SNT.StockInst($C90,\"高値時刻\"),12,5)","v":"ockIn"},{"$f":"IF(C90=0,\"wait\",_xll.SNT.StockInst(C90,$S$9))","v":"wait"},{"$f":"IF($C90=0,\"\",_xll.SNT.StockInst($C90,\"安値時刻\"))","v":""},{"$f":"MID(_xll.SNT.StockInst($C90,\"安値時刻\"),12,5)","v":"ockIn"},"","","","",{"$f":"_xlfn.IFS(N90<制限値幅取得!I85,\"S安付近\",N90>制限値幅取得!H85,\"S高付近\",制限値幅取得!H85>N90>制限値幅取得!I85,\"\")","v":{"$error":"#VALUE!"}}]
[82,null,null,null,null,null,null,null,null,null,"","",null,{"$f":"IF(C91=0,\"wait\",_xll.SNT.StockInst(C91,$N$9))","v":"wait"},{"$f":"N91-制限値幅取得!E86","v":{"$error":"#VALUE!"}},{"$f":"IF(C91=0,\"wait\",_xll.SNT.StockInst(C91,$P$9))","v":"wait"},{"$f":"IF(C91=0,\"\",_xll.SNT.StockInst(C91,\"高値時刻\"))","v":""},{"$f":"MID(_xll.SNT.StockInst($C91,\"高値時刻\"),12,5)","v":"ockIn"},{"$f":"IF(C91=0,\"wait\",_xll.SNT.StockInst(C91,$S$9))","v":"wait"},{"$f":"IF($C91=0,\"\",_xll.SNT.StockInst($C91,\"安値時刻\"))","v":""},{"$f":"MID(_xll.SNT.StockInst($C91,\"安値時刻\"),12,5)","v":"ockIn"},"","","","",{"$f":"_xlfn.IFS(N91<制限値幅取得!I86,\"S安付近\",N91>制限値幅取得!H86,\"S高付近\",制限値幅取得!H86>N91>制限値幅取得!I86,\"\")","v":{"$error":"#VALUE!"}}]
[83,null,null,null,null,null,null,null,null,null,"","",null,{"$f":"IF(C92=0,\"wait\",_xll.SNT.StockInst(C92,$N$9))","v":"wait"},{"$f":"N92-制限値幅取得!E87","v":{"$error":"#VALUE!"}},{"$f":"IF(C92=0,\"wait\",_xll.SNT.StockInst(C92,$P$9))","v":"wait"},{"$f":"IF(C92=0,\"\",_xll.SNT.StockInst(C92,\"高値時刻\"))","v":""},{"$f":"MID(_xll.SNT.StockInst($C92,\"高値時刻\"),12,5)","v":"ockIn"},{"$f":"IF(C92=0,\"wait\",_xll.SNT.StockInst(C92,$S$9))","v":"wait"},{"$f":"IF($C92=0,\"\",_xll.SNT.StockInst($C92,\"安値時刻\"))","v":""},{"$f":"MID(_xll.SNT.StockInst($C92,\"安値時刻\"),12,5)","v":"ockIn"},"","","","",{"$f":"_xlfn.IFS(N92<制限値幅取得!I87,\"S安付近\",N92>制限値幅取得!H87,\"S高付近\",制限値幅取得!H87>N92>制限値幅取得!I87,\"\")","v":{"$error":"#VALUE!"}}]
[84,null,null,null,null,null,null,null,null,null,"","",null,{"$f":"IF(C93=0,\"wait\",_xll.SNT.StockInst(C93,$N$9))","v":"wait"},{"$f":"N93-制限値幅取得!E88","v":{"$error":"#VALUE!"}},{"$f":"IF(C93=0,\"wait\",_xll.SNT.StockInst(C93,$P$9))","v":"wait"},{"$f":"IF(C93=0,\"\",_xll.SNT.StockInst(C93,\"高値時刻\"))","v":""},{"$f":"MID(_xll.SNT.StockInst($C93,\"高値時刻\"),12,5)","v":"ockIn"},{"$f":"IF(C93=0,\"wait\",_xll.SNT.StockInst(C93,$S$9))","v":"wait"},{"$f":"IF($C93=0,\"\",_xll.SNT.StockInst($C93,\"安値時刻\"))","v":""},{"$f":"MID(_xll.SNT.StockInst($C93,\"安値時刻\"),12,5)","v":"ockIn"},"","","","",{"$f":"_xlfn.IFS(N93<制限値幅取得!I88,\"S安付近\",N93>制限値幅取得!H88,\"S高付近\",制限値幅取得!H88>N93>制限値幅取得!I88,\"\")","v":{"$error":"#VALUE!"}}]
[85,null,null,null,null,null,null,null,null,null,"","",null,{"$f":"IF(C94=0,\"wait\",_xll.SNT.StockInst(C94,$N$9))","v":"wait"},{"$f":"N94-制限値幅取得!E89","v":{"$error":"#VALUE!"}},{"$f":"IF(C94=0,\"wait\",_xll.SNT.StockInst(C94,$P$9))","v":"wait"},{"$f":"IF(C94=0,\"\",_xll.SNT.StockInst(C94,\"高値時刻\"))","v":""},{"$f":"MID(_xll.SNT.StockInst($C94,\"高値時刻\"),12,5)","v":"ockIn"},{"$f":"IF(C94=0,\"wait\",_xll.SNT.StockInst(C94,$S$9))","v":"wait"},{"$f":"IF($C94=0,\"\",_xll.SNT.StockInst($C94,\"安値時刻\"))","v":""},{"$f":"MID(_xll.SNT.StockInst($C94,\"安値時刻\"),12,5)","v":"ockIn"},"","","","",{"$f":"_xlfn.IFS(N94<制限値幅取得!I89,\"S安付近\",N94>制限値幅取得!H89,\"S高付近\",制限値幅取得!H89>N94>制限値幅取得!I89,\"\")","v":{"$error":"#VALUE!"}}]
[86,null,null,null,null,null,null,null,null,null,"","",null,{"$f":"IF(C95=0,\"wait\",_xll.SNT.StockInst(C95,$N$9))","v":"wait"},{"$f":"N95-制限値幅取得!E90","v":{"$error":"#VALUE!"}},{"$f":"IF(C95=0,\"wait\",_xll.SNT.StockInst(C95,$P$9))","v":"wait"},{"$f":"IF(C95=0,\"\",_xll.SNT.StockInst(C95,\"高値時刻\"))","v":""},{"$f":"MID(_xll.SNT.StockInst($C95,\"高値時刻\"),12,5)","v":"ockIn"},{"$f":"IF(C95=0,\"wait\",_xll.SNT.StockInst(C95,$S$9))","v":"wait"},{"$f":"IF($C95=0,\"\",_xll.SNT.StockInst($C95,\"安値時刻\"))","v":""},{"$f":"MID(_xll.SNT.StockInst($C95,\"安値時刻\"),12,5)","v":"ockIn"},"","","","",{"$f":"_xlfn.IFS(N95<制限値幅取得!I90,\"S安付近\",N95>制限値幅取得!H90,\"S高付近\",制限値幅取得!H90>N95>制限値幅取得!I90,\"\")","v":{"$error":"#VALUE!"}}]
[87,null,null,null,null,null,null,null,null,null,"","",null,{"$f":"IF(C96=0,\"wait\",_xll.SNT.StockInst(C96,$N$9))","v":"wait"},{"$f":"N96-制限値幅取得!E91","v":{"$error":"#VALUE!"}},{"$f":"IF(C96=0,\"wait\",_xll.SNT.StockInst(C96,$P$9))","v":"wait"},{"$f":"IF(C96=0,\"\",_xll.SNT.StockInst(C96,\"高値時刻\"))","v":""},{"$f":"MID(_xll.SNT.StockInst($C96,\"高値時刻\"),12,5)","v":"ockIn"},{"$f":"IF(C96=0,\"wait\",_xll.SNT.StockInst(C96,$S$9))","v":"wait"},{"$f":"IF($C96=0,\"\",_xll.SNT.StockInst($C96,\"安値時刻\"))","v":""},{"$f":"MID(_xll.SNT.StockInst($C96,\"安値時刻\"),12,5)","v":"ockIn"},"","","","",{"$f":"_xlfn.IFS(N96<制限値幅取得!I91,\"S安付近\",N96>制限値幅取得!H91,\"S高付近\",制限値幅取得!H91>N96>制限値幅取得!I91,\"\")","v":{"$error":"#VALUE!"}}]
[88,null,null,null,null,null,null,null,null,null,"","",null,{"$f":"IF(C97=0,\"wait\",_xll.SNT.StockInst(C97,$N$9))","v":"wait"},{"$f":"N97-制限値幅取得!E92","v":{"$error":"#VALUE!"}},{"$f":"IF(C97=0,\"wait\",_xll.SNT.StockInst(C97,$P$9))","v":"wait"},{"$f":"IF(C97=0,\"\",_xll.SNT.StockInst(C97,\"高値時刻\"))","v":""},{"$f":"MID(_xll.SNT.StockInst($C97,\"高値時刻\"),12,5)","v":"ockIn"},{"$f":"IF(C97=0,\"wait\",_xll.SNT.StockInst(C97,$S$9))","v":"wait"},{"$f":"IF($C97=0,\"\",_xll.SNT.StockInst($C97,\"安値時刻\"))","v":""},{"$f":"MID(_xll.SNT.StockInst($C97,\"安値時刻\"),12,5)","v":"ockIn"},"","","","",{"$f":"_xlfn.IFS(N97<制限値幅取得!I92,\"S安付近\",N97>制限値幅取得!H92,\"S高付近\",制限値幅取得!H92>N97>制限値幅取得!I92,\"\")","v":{"$error":"#VALUE!"}}]
[89,null,null,null,null,null,null,null,null,null,"","",null,{"$f":"IF(C98=0,\"wait\",_xll.SNT.StockInst(C98,$N$9))","v":"wait"},{"$f":"N98-制限値幅取得!E93","v":{"$error":"#VALUE!"}},{"$f":"IF(C98=0,\"wait\",_xll.SNT.StockInst(C98,$P$9))","v":"wait"},{"$f":"IF(C98=0,\"\",_xll.SNT.StockInst(C98,\"高値時刻\"))","v":""},{"$f":"MID(_xll.SNT.StockInst($C98,\"高値時刻\"),12,5)","v":"ockIn"},{"$f":"IF(C98=0,\"wait\",_xll.SNT.StockInst(C98,$S$9))","v":"wait"},{"$f":"IF($C98=0,\"\",_xll.SNT.StockInst($C98,\"安値時刻\"))","v":""},{"$f":"MID(_xll.SNT.StockInst($C98,\"安値時刻\"),12,5)","v":"ockIn"},"","","","",{"$f":"_xlfn.IFS(N98<制限値幅取得!I93,\"S安付近\",N98>制限値幅取得!H93,\"S高付近\",制限値幅取得!H93>N98>制限値幅取得!I93,\"\")","v":{"$error":"#VALUE!"}}]
[90,null,null,null,null,null,null,null,null,null,"","",null,{"$f":"IF(C99=0,\"wait\",_xll.SNT.StockInst(C99,$N$9))","v":"wait"},{"$f":"N99-制限値幅取得!E94","v":{"$error":"#VALUE!"}},{"$f":"IF(C99=0,\"wait\",_xll.SNT.StockInst(C99,$P$9))","v":"wait"},{"$f":"IF(C99=0,\"\",_xll.SNT.StockInst(C99,\"高値時刻\"))","v":""},{"$f":"MID(_xll.SNT.StockInst($C99,\"高値時刻\"),12,5)","v":"ockIn"},{"$f":"IF(C99=0,\"wait\",_xll.SNT.StockInst(C99,$S$9))","v":"wait"},{"$f":"IF($C99=0,\"\",_xll.SNT.StockInst($C99,\"安値時刻\"))","v":""},{"$f":"MID(_xll.SNT.StockInst($C99,\"安値時刻\"),12,5)","v":"ockIn"},"","","","",{"$f":"_xlfn.IFS(N99<制限値幅取得!I94,\"S安付近\",N99>制限値幅取得!H94,\"S高付近\",制限値幅取得!H94>N99>制限値幅取得!I94,\"\")","v":{"$error":"#VALUE!"}}]
[91,null,null,null,null,null,null,null,null,null,"","",null,{"$f":"IF(C100=0,\"wait\",_xll.SNT.StockInst(C100,$N$9))","v":"wait"},{"$f":"N100-制限値幅取得!E95","v":{"$error":"#VALUE!"}},{"$f":"IF(C100=0,\"wait\",_xll.SNT.StockInst(C100,$P$9))","v":"wait"},{"$f":"IF(C100=0,\"\",_xll.SNT.StockInst(C100,\"高値時刻\"))","v":""},{"$f":"MID(_xll.SNT.StockInst($C100,\"高値時刻\"),12,5)","v":"ockIn"},{"$f":"IF(C100=0,\"wait\",_xll.SNT.StockInst(C100,$S$9))","v":"wait"},{"$f":"IF($C100=0,\"\",_xll.SNT.StockInst($C100,\"安値時刻\"))","v":""},{"$f":"MID(_xll.SNT.StockInst($C100,\"安値時刻\"),12,5)","v":"ockIn"},"","","","",{"$f":"_xlfn.IFS(N100<制限値幅取得!I95,\"S安付近\",N100>制限値幅取得!H95,\"S高付近\",制限値幅取得!H95>N100>制限値幅取得!I95,\"\")","v":{"$error":"#VALUE!"}}]
[92,null,null,null,null,null,null,null,null,null,"","",null,{"$f":"IF(C101=0,\"wait\",_xll.SNT.StockInst(C101,$N$9))","v":"wait"},{"$f":"N101-制限値幅取得!E96","v":{"$error":"#VALUE!"}},{"$f":"IF(C101=0,\"wait\",_xll.SNT.StockInst(C101,$P$9))","v":"wait"},{"$f":"IF(C101=0,\"\",_xll.SNT.StockInst(C101,\"高値時刻\"))","v":""},{"$f":"MID(_xll.SNT.StockInst($C101,\"高値時刻\"),12,5)","v":"ockIn"},{"$f":"IF(C101=0,\"wait\",_xll.SNT.StockInst(C101,$S$9))","v":"wait"},{"$f":"IF($C101=0,\"\",_xll.SNT.StockInst($C101,\"安値時刻\"))","v":""},{"$f":"MID(_xll.SNT.StockInst($C101,\"安値時刻\"),12,5)","v":"ockIn"},"","","","",{"$f":"_xlfn.IFS(N101<制限値幅取得!I96,\"S安付近\",N101>制限値幅取得!H96,\"S高付近\",制限値幅取得!H96>N101>制限値幅取得!I96,\"\")","v":{"$error":"#VALUE!"}}]
[93,null,null,null,null,null,null,null,null,null,{"$f":"IFERROR(IF(F102=\"買建\",(N102-I102)*H102,(I102-N102)*H102),\"\")","v":""},{"$f":"IFERROR(K102/(I102*H102),\"\")","v":""},null,{"$f":"IF(C102=0,\"wait\",_xll.SNT.StockInst(C102,$N$9))","v":"wait"},{"$f":"N102-制限値幅取得!E97","v":{"$error":"#VALUE!"}},{"$f":"IF(C102=0,\"wait\",_xll.SNT.StockInst(C102,$P$9))","v":"wait"},{"$f":"IF(C102=0,\"\",_xll.SNT.StockInst(C102,\"高値時刻\"))","v":""},{"$f":"MID(_xll.SNT.StockInst($C102,\"高値時刻\"),12,5)","v":"ockIn"},{"$f":"IF(C102=0,\"wait\",_xll.SNT.StockInst(C102,$S$9))","v":"wait"},{"$f":"IF($C102=0,\"\",_xll.SNT.StockInst($C102,\"安値時刻\"))","v":""},{"$f":"MID(_xll.SNT.StockInst($C102,\"安値時刻\"),12,5)","v":"ockIn"},"","","","",{"$f":"_xlfn.IFS(N102<制限値幅取得!I97,\"S安付近\",N102>制限値幅取得!H97,\"S高付近\",制限値幅取得!H97>N102>制限値幅取得!I97,\"\")","v":{"$error":"#VALUE!"}}]
[94,null,null,null,null,null,null,null,null,null,"","",null,{"$f":"IF(C103=0,\"wait\",_xll.SNT.StockInst(C103,$N$9))","v":"wait"},{"$f":"N103-制限値幅取得!E98","v":{"$error":"#VALUE!"}},{"$f":"IF(C103=0,\"wait\",_xll.SNT.StockInst(C103,$P$9))","v":"wait"},{"$f":"IF(C103=0,\"\",_xll.SNT.StockInst(C103,\"高値時刻\"))","v":""},{"$f":"MID(_xll.SNT.StockInst($C103,\"高値時刻\"),12,5)","v":"ockIn"},{"$f":"IF(C103=0,\"wait\",_xll.SNT.StockInst(C103,$S$9))","v":"wait"},{"$f":"IF($C103=0,\"\",_xll.SNT.StockInst($C103,\"安値時刻\"))","v":""},{"$f":"MID(_xll.SNT.StockInst($C103,\"安値時刻\"),12,5)","v":"ockIn"},"","","","",{"$f":"_xlfn.IFS(N103<制限値幅取得!I98,\"S安付近\",N103>制限値幅取得!H98,\"S高付近\",制限値幅取得!H98>N103>制限値幅取得!I98,\"\")","v":{"$error":"#VALUE!"}}]
[95,null,null,null,null,null,null,null,null,null,{"$f":"IFERROR(IF(F104=\"買建\",(N104-I104)*H104,(I104-N104)*H104),\"\")","v":""},{"$f":"IFERROR(K104/(I104*H104),\"\")","v":""},null,{"$f":"IF(C104=0,\"wait\",_xll.SNT.StockInst(C104,$N$9))","v":"wait"},{"$f":"N104-制限値幅取得!E99","v":{"$error":"#VALUE!"}},{"$f":"IF(C104=0,\"wait\",_xll.SNT.StockInst(C104,$P$9))","v":"wait"},{"$f":"IF(C104=0,\"\",_xll.SNT.StockInst(C104,\"高値時刻\"))","v":""},{"$f":"MID(_xll.SNT.StockInst($C104,\"高値時刻\"),12,5)","v":"ockIn"},{"$f":"IF(C104=0,\"wait\",_xll.SNT.StockInst(C104,$S$9))","v":"wait"},{"$f":"IF($C104=0,\"\",_xll.SNT.StockInst($C104,\"安値時刻\"))","v":""},{"$f":"MID(_xll.SNT.StockInst($C104,\"安値時刻\"),12,5)","v":"ockIn"},"","","","",{"$f":"_xlfn.IFS(N104<制限値幅取得!I99,\"S安付近\",N104>制限値幅取得!H99,\"S高付近\",制限値幅取得!H99>N104>制限値幅取得!I99,\"\")","v":{"$error":"#VALUE!"}}]
[96,null,null,null,null,null,null,null,null,null,"","",null,{"$f":"IF(C105=0,\"wait\",_xll.SNT.StockInst(C105,$N$9))","v":"wait"},{"$f":"N105-制限値幅取得!E100","v":{"$error":"#VALUE!"}},{"$f":"IF(C105=0,\"wait\",_xll.SNT.StockInst(C105,$P$9))","v":"wait"},{"$f":"IF(C105=0,\"\",_xll.SNT.StockInst(C105,\"高値時刻\"))","v":""},{"$f":"MID(_xll.SNT.StockInst($C105,\"高値時刻\"),12,5)","v":"ockIn"},{"$f":"IF(C105=0,\"wait\",_xll.SNT.StockInst(C105,$S$9))","v":"wait"},{"$f":"IF($C105=0,\"\",_xll.SNT.StockInst($C105,\"安値時刻\"))","v":""},{"$f":"MID(_xll.SNT.StockInst($C105,\"安値時刻\"),12,5)","v":"ockIn"},"","","","",{"$f":"_xlfn.IFS(N105<制限値幅取得!I100,\"S安付近\",N105>制限値幅取得!H100,\"S高付近\",制限値幅取得!H100>N105>制限値幅取得!I100,\"\")","v":{"$error":"#VALUE!"}}]
[97,null,null,null,null,null,null,null,null,null,"","",null,{"$f":"IF(C106=0,\"wait\",_xll.SNT.StockInst(C106,$N$9))","v":"wait"},{"$f":"N106-制限値幅取得!E101","v":{"$error":"#VALUE!"}},{"$f":"IF(C106=0,\"wait\",_xll.SNT.StockInst(C106,$P$9))","v":"wait"},{"$f":"IF(C106=0,\"\",_xll.SNT.StockInst(C106,\"高値時刻\"))","v":""},{"$f":"MID(_xll.SNT.StockInst($C106,\"高値時刻\"),12,5)","v":"ockIn"},{"$f":"IF(C106=0,\"wait\",_xll.SNT.StockInst(C106,$S$9))","v":"wait"},{"$f":"IF($C106=0,\"\",_xll.SNT.StockInst($C106,\"安値時刻\"))","v":""},{"$f":"MID(_xll.SNT.StockInst($C106,\"安値時刻\"),12,5)","v":"ockIn"},"","","","",{"$f":"_xlfn.IFS(N106<制限値幅取得!I101,\"S安付近\",N106>制限値幅取得!H101,\"S高付近\",制限値幅取得!H101>N106>制限値幅取得!I101,\"\")","v":{"$error":"#VALUE!"}}]
[98,null,null,null,null,null,null,null,null,null,"","",null,{"$f":"IF(C107=0,\"wait\",_xll.SNT.StockInst(C107,$N$9))","v":"wait"},{"$f":"N107-制限値幅取得!E102","v":{"$error":"#VALUE!"}},{"$f":"IF(C107=0,\"wait\",_xll.SNT.StockInst(C107,$P$9))","v":"wait"},{"$f":"IF(C107=0,\"\",_xll.SNT.StockInst(C107,\"高値時刻\"))","v":""},{"$f":"MID(_xll.SNT.StockInst($C107,\"高値時刻\"),12,5)","v":"ockIn"},{"$f":"IF(C107=0,\"wait\",_xll.SNT.StockInst(C107,$S$9))","v":"wait"},{"$f":"IF($C107=0,\"\",_xll.SNT.StockInst($C107,\"安値時刻\"))","v":""},{"$f":"MID(_xll.SNT.StockInst($C107,\"安値時刻\"),12,5)","v":"ockIn"},"","","","",{"$f":"_xlfn.IFS(N107<制限値幅取得!I102,\"S安付近\",N107>制限値幅取得!H102,\"S高付近\",制限値幅取得!H102>N107>制限値幅取得!I102,\"\")","v":{"$error":"#VALUE!"}}]
[99,null,null,null,null,null,null,null,null,null,"","",null,{"$f":"IF(C108=0,\"wait\",_xll.SNT.StockInst(C108,$N$9))","v":"wait"},{"$f":"N108-制限値幅取得!E103","v":{"$error":"#VALUE!"}},{"$f":"IF(C108=0,\"wait\",_xll.SNT.StockInst(C108,$P$9))","v":"wait"},{"$f":"IF(C108=0,\"\",_xll.SNT.StockInst(C108,\"高値時刻\"))","v":""},{"$f":"MID(_xll.SNT.StockInst($C108,\"高値時刻\"),12,5)","v":"ockIn"},{"$f":"IF(C108=0,\"wait\",_xll.SNT.StockInst(C108,$S$9))","v":"wait"},{"$f":"IF($C108=0,\"\",_xll.SNT.StockInst($C108,\"安値時刻\"))","v":""},{"$f":"MID(_xll.SNT.StockInst($C108,\"安値時刻\"),12,5)","v":"ockIn"},"","","","",{"$f":"_xlfn.IFS(N108<制限値幅取得!I103,\"S安付近\",N108>制限値幅取得!H103,\"S高付近\",制限値幅取得!H103>N108>制限値幅取得!I103,\"\")","v":{"$error":"#VALUE!"}}]
[100,null,null,null,null,null,null,null,null,null,"","",null,{"$f":"IF(C109=0,\"wait\",_xll.SNT.StockInst(C109,$N$9))","v":"wait"},{"$f":"N109-制限値幅取得!E104","v":{"$error":"#VALUE!"}},{"$f":"IF(C109=0,\"wait\",_xll.SNT.StockInst(C109,$P$9))","v":"wait"},{"$f":"IF(C109=0,\"\",_xll.SNT.StockInst(C109,\"高値時刻\"))","v":""},{"$f":"MID(_xll.SNT.StockInst($C109,\"高値時刻\"),12,5)","v":"ockIn"},{"$f":"IF(C109=0,\"wait\",_xll.SNT.StockInst(C109,$S$9))","v":"wait"},{"$f":"IF($C109=0,\"\",_xll.SNT.StockInst($C109,\"安値時刻\"))","v":""},{"$f":"MID(_xll.SNT.StockInst($C109,\"安値時刻\"),12,5)","v":"ockIn"},"","","","",{"$f":"_xlfn.IFS(N109<制限値幅取得!I104,\"S安付近\",N109>制限値幅取得!H104,\"S高付近\",制限値幅取得!H104>N109>制限値幅取得!I104,\"\")","v":{"$error":"#VALUE!"}}]
[101,null,null,null,null,null,null,null,null,null,"","",null,{"$f":"IF(C110=0,\"wait\",_xll.SNT.StockInst(C110,$N$9))","v":"wait"},{"$f":"N110-制限値幅取得!E105","v":{"$error":"#VALUE!"}},{"$f":"IF(C110=0,\"wait\",_xll.SNT.StockInst(C110,$P$9))","v":"wait"},{"$f":"IF(C110=0,\"\",_xll.SNT.StockInst(C110,\"高値時刻\"))","v":""},{"$f":"MID(_xll.SNT.StockInst($C110,\"高値時刻\"),12,5)","v":"ockIn"},{"$f":"IF(C110=0,\"wait\",_xll.SNT.StockInst(C110,$S$9))","v":"wait"},{"$f":"IF($C110=0,\"\",_xll.SNT.StockInst($C110,\"安値時刻\"))","v":""},{"$f":"MID(_xll.SNT.StockInst($C110,\"安値時刻\"),12,5)","v":"ockIn"},"","","","",{"$f":"_xlfn.IFS(N110<制限値幅取得!I105,\"S安付近\",N110>制限値幅取得!H105,\"S高付近\",制限値幅取得!H105>N110>制限値幅取得!I105,\"\")","v":{"$error":"#VALUE!"}}]
[102,null,null,null,null,null,null,null,null,null,"","",null,{"$f":"IF(C111=0,\"wait\",_xll.SNT.StockInst(C111,$N$9))","v":"wait"},{"$f":"N111-制限値幅取得!E106","v":{"$error":"#VALUE!"}},{"$f":"IF(C111=0,\"wait\",_xll.SNT.StockInst(C111,$P$9))","v":"wait"},{"$f":"IF(C111=0,\"\",_xll.SNT.StockInst(C111,\"高値時刻\"))","v":""},{"$f":"MID(_xll.SNT.StockInst($C111,\"高値時刻\"),12,5)","v":"ockIn"},{"$f":"IF(C111=0,\"wait\",_xll.SNT.StockInst(C111,$S$9))","v":"wait"},{"$f":"IF($C111=0,\"\",_xll.SNT.StockInst($C111,\"安値時刻\"))","v":""},{"$f":"MID(_xll.SNT.StockInst($C111,\"安値時刻\"),12,5)","v":"ockIn"},"","","","",{"$f":"_xlfn.IFS(N111<制限値幅取得!I106,\"S安付近\",N111>制限値幅取得!H106,\"S高付近\",制限値幅取得!H106>N111>制限値幅取得!I106,\"\")","v":{"$error":"#VALUE!"}}]
[103,null,null,null,null,null,null,null,null,null,"","",null,{"$f":"IF(C112=0,\"wait\",_xll.SNT.StockInst(C112,$N$9))","v":"wait"},{"$f":"N112-制限値幅取得!E107","v":{"$error":"#VALUE!"}},{"$f":"IF(C112=0,\"wait\",_xll.SNT.StockInst(C112,$P$9))","v":"wait"},{"$f":"IF(C112=0,\"\",_xll.SNT.StockInst(C112,\"高値時刻\"))","v":""},{"$f":"MID(_xll.SNT.StockInst($C112,\"高値時刻\"),12,5)","v":"ockIn"},{"$f":"IF(C112=0,\"wait\",_xll.SNT.StockInst(C112,$S$9))","v":"wait"},{"$f":"IF($C112=0,\"\",_xll.SNT.StockInst($C112,\"安値時刻\"))","v":""},{"$f":"MID(_xll.SNT.StockInst($C112,\"安値時刻\"),12,5)","v":"ockIn"},"","","","",{"$f":"_xlfn.IFS(N112<制限値幅取得!I107,\"S安付近\",N112>制限値幅取得!H107,\"S高付近\",制限値幅取得!H107>N112>制限値幅取得!I107,\"\")","v":{"$error":"#VALUE!"}}]
[104,null,null,null,null,null,null,null,null,null,"","",null,{"$f":"IF(C113=0,\"wait\",_xll.SNT.StockInst(C113,$N$9))","v":"wait"},{"$f":"N113-制限値幅取得!E108","v":{"$error":"#VALUE!"}},{"$f":"IF(C113=0,\"wait\",_xll.SNT.StockInst(C113,$P$9))","v":"wait"},{"$f":"IF(C113=0,\"\",_xll.SNT.StockInst(C113,\"高値時刻\"))","v":""},{"$f":"MID(_xll.SNT.StockInst($C113,\"高値時刻\"),12,5)","v":"ockIn"},{"$f":"IF(C113=0,\"wait\",_xll.SNT.StockInst(C113,$S$9))","v":"wait"},{"$f":"IF($C113=0,\"\",_xll.SNT.StockInst($C113,\"安値時刻\"))","v":""},{"$f":"MID(_xll.SNT.StockInst($C113,\"安値時刻\"),12,5)","v":"ockIn"},"","","","",{"$f":"_xlfn.IFS(N113<制限値幅取得!I108,\"S安付近\",N113>制限値幅取得!H108,\"S高付近\",制限値幅取得!H108>N113>制限値幅取得!I108,\"\")","v":{"$error":"#VALUE!"}}]
[105,null,null,null,null,null,null,null,null,null,"","",null,{"$f":"IF(C114=0,\"wait\",_xll.SNT.StockInst(C114,$N$9))","v":"wait"},{"$f":"N114-制限値幅取得!E109","v":{"$error":"#VALUE!"}},{"$f":"IF(C114=0,\"wait\",_xll.SNT.StockInst(C114,$P$9))","v":"wait"},{"$f":"IF(C114=0,\"\",_xll.SNT.StockInst(C114,\"高値時刻\"))","v":""},{"$f":"MID(_xll.SNT.StockInst($C114,\"高値時刻\"),12,5)","v":"ockIn"},{"$f":"IF(C114=0,\"wait\",_xll.SNT.StockInst(C114,$S$9))","v":"wait"},{"$f":"IF($C114=0,\"\",_xll.SNT.StockInst($C114,\"安値時刻\"))","v":""},{"$f":"MID(_xll.SNT.StockInst($C114,\"安値時刻\"),12,5)","v":"ockIn"},"","","","",{"$f":"_xlfn.IFS(N114<制限値幅取得!I109,\"S安付近\",N114>制限値幅取得!H109,\"S高付近\",制限値幅取得!H109>N114>制限値幅取得!I109,\"\")","v":{"$error":"#VALUE!"}}]
[106,null,null,null,null,null,null,null,null,null,"","",null,{"$f":"IF(C115=0,\"wait\",_xll.SNT.StockInst(C115,$N$9))","v":"wait"},{"$f":"N115-制限値幅取得!E110","v":{"$error":"#VALUE!"}},{"$f":"IF(C115=0,\"wait\",_xll.SNT.StockInst(C115,$P$9))","v":"wait"},{"$f":"IF(C115=0,\"\",_xll.SNT.StockInst(C115,\"高値時刻\"))","v":""},{"$f":"MID(_xll.SNT.StockInst($C115,\"高値時刻\"),12,5)","v":"ockIn"},{"$f":"IF(C115=0,\"wait\",_xll.SNT.StockInst(C115,$S$9))","v":"wait"},{"$f":"IF($C115=0,\"\",_xll.SNT.StockInst($C115,\"安値時刻\"))","v":""},{"$f":"MID(_xll.SNT.StockInst($C115,\"安値時刻\"),12,5)","v":"ockIn"},"","","","",{"$f":"_xlfn.IFS(N115<制限値幅取得!I110,\"S安付近\",N115>制限値幅取得!H110,\"S高付近\",制限値幅取得!H110>N115>制限値幅取得!I110,\"\")","v":{"$error":"#VALUE!"}}]
[107,null,null,null,null,null,null,null,null,null,"","",null,{"$f":"IF(C116=0,\"wait\",_xll.SNT.StockInst(C116,$N$9))","v":"wait"},{"$f":"N116-制限値幅取得!E111","v":{"$error":"#VALUE!"}},{"$f":"IF(C116=0,\"wait\",_xll.SNT.StockInst(C116,$P$9))","v":"wait"},{"$f":"IF(C116=0,\"\",_xll.SNT.StockInst(C116,\"高値時刻\"))","v":""},{"$f":"MID(_xll.SNT.StockInst($C116,\"高値時刻\"),12,5)","v":"ockIn"},{"$f":"IF(C116=0,\"wait\",_xll.SNT.StockInst(C116,$S$9))","v":"wait"},{"$f":"IF($C116=0,\"\",_xll.SNT.StockInst($C116,\"安値時刻\"))","v":""},{"$f":"MID(_xll.SNT.StockInst($C116,\"安値時刻\"),12,5)","v":"ockIn"},"","","","",{"$f":"_xlfn.IFS(N116<制限値幅取得!I111,\"S安付近\",N116>制限値幅取得!H111,\"S高付近\",制限値幅取得!H111>N116>制限値幅取得!I111,\"\")","v":{"$error":"#VALUE!"}}]
[108,null,null,null,null,null,null,null,null,null,"","",null,{"$f":"IF(C117=0,\"wait\",_xll.SNT.StockInst(C117,$N$9))","v":"wait"},{"$f":"N117-制限値幅取得!E112","v":{"$error":"#VALUE!"}},{"$f":"IF(C117=0,\"wait\",_xll.SNT.StockInst(C117,$P$9))","v":"wait"},{"$f":"IF(C117=0,\"\",_xll.SNT.StockInst(C117,\"高値時刻\"))","v":""},{"$f":"MID(_xll.SNT.StockInst($C117,\"高値時刻\"),12,5)","v":"ockIn"},{"$f":"IF(C117=0,\"wait\",_xll.SNT.StockInst(C117,$S$9))","v":"wait"},{"$f":"IF($C117=0,\"\",_xll.SNT.StockInst($C117,\"安値時刻\"))","v":""},{"$f":"MID(_xll.SNT.StockInst($C117,\"安値時刻\"),12,5)","v":"ockIn"},"","","","",{"$f":"_xlfn.IFS(N117<制限値幅取得!I112,\"S安付近\",N117>制限値幅取得!H112,\"S高付近\",制限値幅取得!H112>N117>制限値幅取得!I112,\"\")","v":{"$error":"#VALUE!"}}]
[109,null,null,null,null,null,null,null,null,null,"","",null,{"$f":"IF(C118=0,\"wait\",_xll.SNT.StockInst(C118,$N$9))","v":"wait"},{"$f":"N118-制限値幅取得!E113","v":{"$error":"#VALUE!"}},{"$f":"IF(C118=0,\"wait\",_xll.SNT.StockInst(C118,$P$9))","v":"wait"},{"$f":"IF(C118=0,\"\",_xll.SNT.StockInst(C118,\"高値時刻\"))","v":""},{"$f":"MID(_xll.SNT.StockInst($C118,\"高値時刻\"),12,5)","v":"ockIn"},{"$f":"IF(C118=0,\"wait\",_xll.SNT.StockInst(C118,$S$9))","v":"wait"},{"$f":"IF($C118=0,\"\",_xll.SNT.StockInst($C118,\"安値時刻\"))","v":""},{"$f":"MID(_xll.SNT.StockInst($C118,\"安値時刻\"),12,5)","v":"ockIn"},"","","","",{"$f":"_xlfn.IFS(N118<制限値幅取得!I113,\"S安付近\",N118>制限値幅取得!H113,\"S高付近\",制限値幅取得!H113>N118>制限値幅取得!I113,\"\")","v":{"$error":"#VALUE!"}}]
[110,null,null,null,null,null,null,null,null,null,"","",null,{"$f":"IF(C119=0,\"wait\",_xll.SNT.StockInst(C119,$N$9))","v":"wait"},{"$f":"N119-制限値幅取得!E114","v":{"$error":"#VALUE!"}},{"$f":"IF(C119=0,\"wait\",_xll.SNT.StockInst(C119,$P$9))","v":"wait"},{"$f":"IF(C119=0,\"\",_xll.SNT.StockInst(C119,\"高値時刻\"))","v":""},{"$f":"MID(_xll.SNT.StockInst($C119,\"高値時刻\"),12,5)","v":"ockIn"},{"$f":"IF(C119=0,\"wait\",_xll.SNT.StockInst(C119,$S$9))","v":"wait"},{"$f":"IF($C119=0,\"\",_xll.SNT.StockInst($C119,\"安値時刻\"))","v":""},{"$f":"MID(_xll.SNT.StockInst($C119,\"安値時刻\"),12,5)","v":"ockIn"},"","","","",{"$f":"_xlfn.IFS(N119<制限値幅取得!I114,\"S安付近\",N119>制限値幅取得!H114,\"S高付近\",制限値幅取得!H114>N119>制限値幅取得!I114,\"\")","v":{"$error":"#VALUE!"}}]
[111,null,null,null,null,null,null,null,null,null,"","",null,{"$f":"IF(C120=0,\"wait\",_xll.SNT.StockInst(C120,$N$9))","v":"wait"},{"$f":"N120-制限値幅取得!E115","v":{"$error":"#VALUE!"}},{"$f":"IF(C120=0,\"wait\",_xll.SNT.StockInst(C120,$P$9))","v":"wait"},{"$f":"IF(C120=0,\"\",_xll.SNT.StockInst(C120,\"高値時刻\"))","v":""},{"$f":"MID(_xll.SNT.StockInst($C120,\"高値時刻\"),12,5)","v":"ockIn"},{"$f":"IF(C120=0,\"wait\",_xll.SNT.StockInst(C120,$S$9))","v":"wait"},{"$f":"IF($C120=0,\"\",_xll.SNT.StockInst($C120,\"安値時刻\"))","v":""},{"$f":"MID(_xll.SNT.StockInst($C120,\"安値時刻\"),12,5)","v":"ockIn"},"","","","",{"$f":"_xlfn.IFS(N120<制限値幅取得!I115,\"S安付近\",N120>制限値幅取得!H115,\"S高付近\",制限値幅取得!H115>N120>制限値幅取得!I115,\"\")","v":{"$error":"#VALUE!"}}]
[112,null,null,null,null,null,null,null,null,null,"","",null,{"$f":"IF(C121=0,\"wait\",_xll.SNT.StockInst(C121,$N$9))","v":"wait"},{"$f":"N121-制限値幅取得!E116","v":{"$error":"#VALUE!"}},{"$f":"IF(C121=0,\"wait\",_xll.SNT.StockInst(C121,$P$9))","v":"wait"},{"$f":"IF(C121=0,\"\",_xll.SNT.StockInst(C121,\"高値時刻\"))","v":""},{"$f":"MID(_xll.SNT.StockInst($C121,\"高値時刻\"),12,5)","v":"ockIn"},{"$f":"IF(C121=0,\"wait\",_xll.SNT.StockInst(C121,$S$9))","v":"wait"},{"$f":"IF($C121=0,\"\",_xll.SNT.StockInst($C121,\"安値時刻\"))","v":""},{"$f":"MID(_xll.SNT.StockInst($C121,\"安値時刻\"),12,5)","v":"ockIn"},"","","","",{"$f":"_xlfn.IFS(N121<制限値幅取得!I116,\"S安付近\",N121>制限値幅取得!H116,\"S高付近\",制限値幅取得!H116>N121>制限値幅取得!I116,\"\")","v":{"$error":"#VALUE!"}}]
[113,null,null,null,null,null,null,null,null,null,"","",null,{"$f":"IF(C122=0,\"wait\",_xll.SNT.StockInst(C122,$N$9))","v":"wait"},{"$f":"N122-制限値幅取得!E117","v":{"$error":"#VALUE!"}},{"$f":"IF(C122=0,\"wait\",_xll.SNT.StockInst(C122,$P$9))","v":"wait"},{"$f":"IF(C122=0,\"\",_xll.SNT.StockInst(C122,\"高値時刻\"))","v":""},{"$f":"MID(_xll.SNT.StockInst($C122,\"高値時刻\"),12,5)","v":"ockIn"},{"$f":"IF(C122=0,\"wait\",_xll.SNT.StockInst(C122,$S$9))","v":"wait"},{"$f":"IF($C122=0,\"\",_xll.SNT.StockInst($C122,\"安値時刻\"))","v":""},{"$f":"MID(_xll.SNT.StockInst($C122,\"安値時刻\"),12,5)","v":"ockIn"},"","","","",{"$f":"_xlfn.IFS(N122<制限値幅取得!I117,\"S安付近\",N122>制限値幅取得!H117,\"S高付近\",制限値幅取得!H117>N122>制限値幅取得!I117,\"\")","v":{"$error":"#VALUE!"}}]
[114,null,null,null,null,null,null,null,null,null,"","",null,{"$f":"IF(C123=0,\"wait\",_xll.SNT.StockInst(C123,$N$9))","v":"wait"},{"$f":"N123-制限値幅取得!E118","v":{"$error":"#VALUE!"}},{"$f":"IF(C123=0,\"wait\",_xll.SNT.StockInst(C123,$P$9))","v":"wait"},{"$f":"IF(C123=0,\"\",_xll.SNT.StockInst(C123,\"高値時刻\"))","v":""},{"$f":"MID(_xll.SNT.StockInst($C123,\"高値時刻\"),12,5)","v":"ockIn"},{"$f":"IF(C123=0,\"wait\",_xll.SNT.StockInst(C123,$S$9))","v":"wait"},{"$f":"IF($C123=0,\"\",_xll.SNT.StockInst($C123,\"安値時刻\"))","v":""},{"$f":"MID(_xll.SNT.StockInst($C123,\"安値時刻\"),12,5)","v":"ockIn"},"","","","",{"$f":"_xlfn.IFS(N123<制限値幅取得!I118,\"S安付近\",N123>制限値幅取得!H118,\"S高付近\",制限値幅取得!H118>N123>制限値幅取得!I118,\"\")","v":{"$error":"#VALUE!"}}]
[115,null,null,null,null,null,null,null,null,null,"","",null,{"$f":"IF(C124=0,\"wait\",_xll.SNT.StockInst(C124,$N$9))","v":"wait"},{"$f":"N124-制限値幅取得!E119","v":{"$error":"#VALUE!"}},{"$f":"IF(C124=0,\"wait\",_xll.SNT.StockInst(C124,$P$9))","v":"wait"},{"$f":"IF(C124=0,\"\",_xll.SNT.StockInst(C124,\"高値時刻\"))","v":""},{"$f":"MID(_xll.SNT.StockInst($C124,\"高値時刻\"),12,5)","v":"ockIn"},{"$f":"IF(C124=0,\"wait\",_xll.SNT.StockInst(C124,$S$9))","v":"wait"},{"$f":"IF($C124=0,\"\",_xll.SNT.StockInst($C124,\"安値時刻\"))","v":""},{"$f":"MID(_xll.SNT.StockInst($C124,\"安値時刻\"),12,5)","v":"ockIn"},"","","","",{"$f":"_xlfn.IFS(N124<制限値幅取得!I119,\"S安付近\",N124>制限値幅取得!H119,\"S高付近\",制限値幅取得!H119>N124>制限値幅取得!I119,\"\")","v":{"$error":"#VALUE!"}}]
[116,null,null,null,null,null,null,null,null,null,"","",null,{"$f":"IF(C125=0,\"wait\",_xll.SNT.StockInst(C125,$N$9))","v":"wait"},{"$f":"N125-制限値幅取得!E120","v":{"$error":"#VALUE!"}},{"$f":"IF(C125=0,\"wait\",_xll.SNT.StockInst(C125,$P$9))","v":"wait"},{"$f":"IF(C125=0,\"\",_xll.SNT.StockInst(C125,\"高値時刻\"))","v":""},{"$f":"MID(_xll.SNT.StockInst($C125,\"高値時刻\"),12,5)","v":"ockIn"},{"$f":"IF(C125=0,\"wait\",_xll.SNT.StockInst(C125,$S$9))","v":"wait"},{"$f":"IF($C125=0,\"\",_xll.SNT.StockInst($C125,\"安値時刻\"))","v":""},{"$f":"MID(_xll.SNT.StockInst($C125,\"安値時刻\"),12,5)","v":"ockIn"},"","","","",{"$f":"_xlfn.IFS(N125<制限値幅取得!I120,\"S安付近\",N125>制限値幅取得!H120,\"S高付近\",制限値幅取得!H120>N125>制限値幅取得!I120,\"\")","v":{"$error":"#VALUE!"}}]
[117,null,null,null,null,null,null,null,null,null,"","",null,{"$f":"IF(C126=0,\"wait\",_xll.SNT.StockInst(C126,$N$9))","v":"wait"},{"$f":"N126-制限値幅取得!E121","v":{"$error":"#VALUE!"}},{"$f":"IF(C126=0,\"wait\",_xll.SNT.StockInst(C126,$P$9))","v":"wait"},{"$f":"IF(C126=0,\"\",_xll.SNT.StockInst(C126,\"高値時刻\"))","v":""},{"$f":"MID(_xll.SNT.StockInst($C126,\"高値時刻\"),12,5)","v":"ockIn"},{"$f":"IF(C126=0,\"wait\",_xll.SNT.StockInst(C126,$S$9))","v":"wait"},{"$f":"IF($C126=0,\"\",_xll.SNT.StockInst($C126,\"安値時刻\"))","v":""},{"$f":"MID(_xll.SNT.StockInst($C126,\"安値時刻\"),12,5)","v":"ockIn"},"","","","",{"$f":"_xlfn.IFS(N126<制限値幅取得!I121,\"S安付近\",N126>制限値幅取得!H121,\"S高付近\",制限値幅取得!H121>N126>制限値幅取得!I121,\"\")","v":{"$error":"#VALUE!"}}]
[118,null,null,null,null,null,null,null,null,null,"","",null,{"$f":"IF(C127=0,\"wait\",_xll.SNT.StockInst(C127,$N$9))","v":"wait"},{"$f":"N127-制限値幅取得!E122","v":{"$error":"#VALUE!"}},{"$f":"IF(C127=0,\"wait\",_xll.SNT.StockInst(C127,$P$9))","v":"wait"},{"$f":"IF(C127=0,\"\",_xll.SNT.StockInst(C127,\"高値時刻\"))","v":""},{"$f":"MID(_xll.SNT.StockInst($C127,\"高値時刻\"),12,5)","v":"ockIn"},{"$f":"IF(C127=0,\"wait\",_xll.SNT.StockInst(C127,$S$9))","v":"wait"},{"$f":"IF($C127=0,\"\",_xll.SNT.StockInst($C127,\"安値時刻\"))","v":""},{"$f":"MID(_xll.SNT.StockInst($C127,\"安値時刻\"),12,5)","v":"ockIn"},"","","","",{"$f":"_xlfn.IFS(N127<制限値幅取得!I122,\"S安付近\",N127>制限値幅取得!H122,\"S高付近\",制限値幅取得!H122>N127>制限値幅取得!I122,\"\")","v":{"$error":"#VALUE!"}}]
[119,null,null,null,null,null,null,null,null,null,"","",null,{"$f":"IF(C128=0,\"wait\",_xll.SNT.StockInst(C128,$N$9))","v":"wait"},{"$f":"N128-制限値幅取得!E123","v":{"$error":"#VALUE!"}},{"$f":"IF(C128=0,\"wait\",_xll.SNT.StockInst(C128,$P$9))","v":"wait"},{"$f":"IF(C128=0,\"\",_xll.SNT.StockInst(C128,\"高値時刻\"))","v":""},{"$f":"MID(_xll.SNT.StockInst($C128,\"高値時刻\"),12,5)","v":"ockIn"},{"$f":"IF(C128=0,\"wait\",_xll.SNT.StockInst(C128,$S$9))","v":"wait"},{"$f":"IF($C128=0,\"\",_xll.SNT.StockInst($C128,\"安値時刻\"))","v":""},{"$f":"MID(_xll.SNT.StockInst($C128,\"安値時刻\"),12,5)","v":"ockIn"},"","","","",{"$f":"_xlfn.IFS(N128<制限値幅取得!I123,\"S安付近\",N128>制限値幅取得!H123,\"S高付近\",制限値幅取得!H123>N128>制限値幅取得!I123,\"\")","v":{"$error":"#VALUE!"}}]
[120,null,null,null,null,null,null,null,null,null,"","",null,{"$f":"IF(C129=0,\"wait\",_xll.SNT.StockInst(C129,$N$9))","v":"wait"},{"$f":"N129-制限値幅取得!E124","v":{"$error":"#VALUE!"}},{"$f":"IF(C129=0,\"wait\",_xll.SNT.StockInst(C129,$P$9))","v":"wait"},{"$f":"IF(C129=0,\"\",_xll.SNT.StockInst(C129,\"高値時刻\"))","v":""},{"$f":"MID(_xll.SNT.StockInst($C129,\"高値時刻\"),12,5)","v":"ockIn"},{"$f":"IF(C129=0,\"wait\",_xll.SNT.StockInst(C129,$S$9))","v":"wait"},{"$f":"IF($C129=0,\"\",_xll.SNT.StockInst($C129,\"安値時刻\"))","v":""},{"$f":"MID(_xll.SNT.StockInst($C129,\"安値時刻\"),12,5)","v":"ockIn"},"","","","",{"$f":"_xlfn.IFS(N129<制限値幅取得!I124,\"S安付近\",N129>制限値幅取得!H124,\"S高付近\",制限値幅取得!H124>N129>制限値幅取得!I124,\"\")","v":{"$error":"#VALUE!"}}]
[121,null,null,null,null,null,null,null,null,null,"","",null,{"$f":"IF(C130=0,\"wait\",_xll.SNT.StockInst(C130,$N$9))","v":"wait"},{"$f":"N130-制限値幅取得!E125","v":{"$error":"#VALUE!"}},{"$f":"IF(C130=0,\"wait\",_xll.SNT.StockInst(C130,$P$9))","v":"wait"},{"$f":"IF(C130=0,\"\",_xll.SNT.StockInst(C130,\"高値時刻\"))","v":""},{"$f":"MID(_xll.SNT.StockInst($C130,\"高値時刻\"),12,5)","v":"ockIn"},{"$f":"IF(C130=0,\"wait\",_xll.SNT.StockInst(C130,$S$9))","v":"wait"},{"$f":"IF($C130=0,\"\",_xll.SNT.StockInst($C130,\"安値時刻\"))","v":""},{"$f":"MID(_xll.SNT.StockInst($C130,\"安値時刻\"),12,5)","v":"ockIn"},"","","","",{"$f":"_xlfn.IFS(N130<制限値幅取得!I125,\"S安付近\",N130>制限値幅取得!H125,\"S高付近\",制限値幅取得!H125>N130>制限値幅取得!I125,\"\")","v":{"$error":"#VALUE!"}}]
[122,null,null,null,null,null,null,null,null,null,"","",null,{"$f":"IF(C131=0,\"wait\",_xll.SNT.StockInst(C131,$N$9))","v":"wait"},{"$f":"N131-制限値幅取得!E126","v":{"$error":"#VALUE!"}},{"$f":"IF(C131=0,\"wait\",_xll.SNT.StockInst(C131,$P$9))","v":"wait"},{"$f":"IF(C131=0,\"\",_xll.SNT.StockInst(C131,\"高値時刻\"))","v":""},{"$f":"MID(_xll.SNT.StockInst($C131,\"高値時刻\"),12,5)","v":"ockIn"},{"$f":"IF(C131=0,\"wait\",_xll.SNT.StockInst(C131,$S$9))","v":"wait"},{"$f":"IF($C131=0,\"\",_xll.SNT.StockInst($C131,\"安値時刻\"))","v":""},{"$f":"MID(_xll.SNT.StockInst($C131,\"安値時刻\"),12,5)","v":"ockIn"},"","","","",{"$f":"_xlfn.IFS(N131<制限値幅取得!I126,\"S安付近\",N131>制限値幅取得!H126,\"S高付近\",制限値幅取得!H126>N131>制限値幅取得!I126,\"\")","v":{"$error":"#VALUE!"}}]
[123,null,null,null,null,null,null,null,null,null,"","",null,{"$f":"IF(C132=0,\"wait\",_xll.SNT.StockInst(C132,$N$9))","v":"wait"},{"$f":"N132-制限値幅取得!E127","v":{"$error":"#VALUE!"}},{"$f":"IF(C132=0,\"wait\",_xll.SNT.StockInst(C132,$P$9))","v":"wait"},{"$f":"IF(C132=0,\"\",_xll.SNT.StockInst(C132,\"高値時刻\"))","v":""},{"$f":"MID(_xll.SNT.StockInst($C132,\"高値時刻\"),12,5)","v":"ockIn"},{"$f":"IF(C132=0,\"wait\",_xll.SNT.StockInst(C132,$S$9))","v":"wait"},{"$f":"IF($C132=0,\"\",_xll.SNT.StockInst($C132,\"安値時刻\"))","v":""},{"$f":"MID(_xll.SNT.StockInst($C132,\"安値時刻\"),12,5)","v":"ockIn"},"","","","",{"$f":"_xlfn.IFS(N132<制限値幅取得!I127,\"S安付近\",N132>制限値幅取得!H127,\"S高付近\",制限値幅取得!H127>N132>制限値幅取得!I127,\"\")","v":{"$error":"#VALUE!"}}]
[124,null,null,null,null,null,null,null,null,null,"","",null,{"$f":"IF(C133=0,\"wait\",_xll.SNT.StockInst(C133,$N$9))","v":"wait"},{"$f":"N133-制限値幅取得!E128","v":{"$error":"#VALUE!"}},{"$f":"IF(C133=0,\"wait\",_xll.SNT.StockInst(C133,$P$9))","v":"wait"},{"$f":"IF(C133=0,\"\",_xll.SNT.StockInst(C133,\"高値時刻\"))","v":""},{"$f":"MID(_xll.SNT.StockInst($C133,\"高値時刻\"),12,5)","v":"ockIn"},{"$f":"IF(C133=0,\"wait\",_xll.SNT.StockInst(C133,$S$9))","v":"wait"},{"$f":"IF($C133=0,\"\",_xll.SNT.StockInst($C133,\"安値時刻\"))","v":""},{"$f":"MID(_xll.SNT.StockInst($C133,\"安値時刻\"),12,5)","v":"ockIn"},"","","","",{"$f":"_xlfn.IFS(N133<制限値幅取得!I128,\"S安付近\",N133>制限値幅取得!H128,\"S高付近\",制限値幅取得!H128>N133>制限値幅取得!I128,\"\")","v":{"$error":"#VALUE!"}}]
[125,null,null,null,null,null,null,null,null,null,"","",null,{"$f":"IF(C134=0,\"wait\",_xll.SNT.StockInst(C134,$N$9))","v":"wait"},{"$f":"N134-制限値幅取得!E129","v":{"$error":"#VALUE!"}},{"$f":"IF(C134=0,\"wait\",_xll.SNT.StockInst(C134,$P$9))","v":"wait"},{"$f":"IF(C134=0,\"\",_xll.SNT.StockInst(C134,\"高値時刻\"))","v":""},{"$f":"MID(_xll.SNT.StockInst($C134,\"高値時刻\"),12,5)","v":"ockIn"},{"$f":"IF(C134=0,\"wait\",_xll.SNT.StockInst(C134,$S$9))","v":"wait"},{"$f":"IF($C134=0,\"\",_xll.SNT.StockInst($C134,\"安値時刻\"))","v":""},{"$f":"MID(_xll.SNT.StockInst($C134,\"安値時刻\"),12,5)","v":"ockIn"},"","","","",{"$f":"_xlfn.IFS(N134<制限値幅取得!I129,\"S安付近\",N134>制限値幅取得!H129,\"S高付近\",制限値幅取得!H129>N134>制限値幅取得!I129,\"\")","v":{"$error":"#VALUE!"}}]
[126,null,null,null,null,null,null,null,null,null,"","",null,{"$f":"IF(C135=0,\"wait\",_xll.SNT.StockInst(C135,$N$9))","v":"wait"},{"$f":"N135-制限値幅取得!E130","v":{"$error":"#VALUE!"}},{"$f":"IF(C135=0,\"wait\",_xll.SNT.StockInst(C135,$P$9))","v":"wait"},{"$f":"IF(C135=0,\"\",_xll.SNT.StockInst(C135,\"高値時刻\"))","v":""},{"$f":"MID(_xll.SNT.StockInst($C135,\"高値時刻\"),12,5)","v":"ockIn"},{"$f":"IF(C135=0,\"wait\",_xll.SNT.StockInst(C135,$S$9))","v":"wait"},{"$f":"IF($C135=0,\"\",_xll.SNT.StockInst($C135,\"安値時刻\"))","v":""},{"$f":"MID(_xll.SNT.StockInst($C135,\"安値時刻\"),12,5)","v":"ockIn"},"","","","",{"$f":"_xlfn.IFS(N135<制限値幅取得!I130,\"S安付近\",N135>制限値幅取得!H130,\"S高付近\",制限値幅取得!H130>N135>制限値幅取得!I130,\"\")","v":{"$error":"#VALUE!"}}]
[127,null,null,null,null,null,null,null,null,null,"","",null,{"$f":"IF(C136=0,\"wait\",_xll.SNT.StockInst(C136,$N$9))","v":"wait"},{"$f":"N136-制限値幅取得!E131","v":{"$error":"#VALUE!"}},{"$f":"IF(C136=0,\"wait\",_xll.SNT.StockInst(C136,$P$9))","v":"wait"},{"$f":"IF(C136=0,\"\",_xll.SNT.StockInst(C136,\"高値時刻\"))","v":""},{"$f":"MID(_xll.SNT.StockInst($C136,\"高値時刻\"),12,5)","v":"ockIn"},{"$f":"IF(C136=0,\"wait\",_xll.SNT.StockInst(C136,$S$9))","v":"wait"},{"$f":"IF($C136=0,\"\",_xll.SNT.StockInst($C136,\"安値時刻\"))","v":""},{"$f":"MID(_xll.SNT.StockInst($C136,\"安値時刻\"),12,5)","v":"ockIn"},"","","","",{"$f":"_xlfn.IFS(N136<制限値幅取得!I131,\"S安付近\",N136>制限値幅取得!H131,\"S高付近\",制限値幅取得!H131>N136>制限値幅取得!I131,\"\")","v":{"$error":"#VALUE!"}}]
[128,null,null,null,null,null,null,null,null,null,"","",null,{"$f":"IF(C137=0,\"wait\",_xll.SNT.StockInst(C137,$N$9))","v":"wait"},{"$f":"N137-制限値幅取得!E132","v":{"$error":"#VALUE!"}},{"$f":"IF(C137=0,\"wait\",_xll.SNT.StockInst(C137,$P$9))","v":"wait"},{"$f":"IF(C137=0,\"\",_xll.SNT.StockInst(C137,\"高値時刻\"))","v":""},{"$f":"MID(_xll.SNT.StockInst($C137,\"高値時刻\"),12,5)","v":"ockIn"},{"$f":"IF(C137=0,\"wait\",_xll.SNT.StockInst(C137,$S$9))","v":"wait"},{"$f":"IF($C137=0,\"\",_xll.SNT.StockInst($C137,\"安値時刻\"))","v":""},{"$f":"MID(_xll.SNT.StockInst($C137,\"安値時刻\"),12,5)","v":"ockIn"},"","","","",{"$f":"_xlfn.IFS(N137<制限値幅取得!I132,\"S安付近\",N137>制限値幅取得!H132,\"S高付近\",制限値幅取得!H132>N137>制限値幅取得!I132,\"\")","v":{"$error":"#VALUE!"}}]
[129,null,null,null,null,null,null,null,null,null,"","",null,{"$f":"IF(C138=0,\"wait\",_xll.SNT.StockInst(C138,$N$9))","v":"wait"},{"$f":"N138-制限値幅取得!E133","v":{"$error":"#VALUE!"}},{"$f":"IF(C138=0,\"wait\",_xll.SNT.StockInst(C138,$P$9))","v":"wait"},{"$f":"IF(C138=0,\"\",_xll.SNT.StockInst(C138,\"高値時刻\"))","v":""},{"$f":"MID(_xll.SNT.StockInst($C138,\"高値時刻\"),12,5)","v":"ockIn"},{"$f":"IF(C138=0,\"wait\",_xll.SNT.StockInst(C138,$S$9))","v":"wait"},{"$f":"IF($C138=0,\"\",_xll.SNT.StockInst($C138,\"安値時刻\"))","v":""},{"$f":"MID(_xll.SNT.StockInst($C138,\"安値時刻\"),12,5)","v":"ockIn"},{"$f":"IFERROR(IF($Y$2-$Q138<=TIME(0,$X$3,0),\"高値更新\",IF($Y$2-$T138<=TIME(0,$X$3,0),\"安値更新\",\"\")),\"\")","v":""},"","","",{"$f":"_xlfn.IFS(N138<制限値幅取得!I133,\"S安付近\",N138>制限値幅取得!H133,\"S高付近\",制限値幅取得!H133>N138>制限値幅取得!I133,\"\")","v":{"$error":"#VALUE!"}}]
[130,null,null,null,null,null,null,null,null,null,"","",null,{"$f":"IF(C139=0,\"wait\",_xll.SNT.StockInst(C139,$N$9))","v":"wait"},{"$f":"N139-制限値幅取得!E134","v":{"$error":"#VALUE!"}},{"$f":"IF(C139=0,\"wait\",_xll.SNT.StockInst(C139,$P$9))","v":"wait"},{"$f":"IF(C139=0,\"\",_xll.SNT.StockInst(C139,\"高値時刻\"))","v":""},{"$f":"MID(_xll.SNT.StockInst($C139,\"高値時刻\"),12,5)","v":"ockIn"},{"$f":"IF(C139=0,\"wait\",_xll.SNT.StockInst(C139,$S$9))","v":"wait"},{"$f":"IF($C139=0,\"\",_xll.SNT.StockInst($C139,\"安値時刻\"))","v":""},{"$f":"MID(_xll.SNT.StockInst($C139,\"安値時刻\"),12,5)","v":"ockIn"},"",{"$f":"IF(X139=\"\",\"\",IF(F139=\"買建\",IF(N139<X139,\"ﾛｽｶｯﾄ\",\"\"),IF(F139=\"売建\",IF(N139>X139,\"ﾛｽｶｯﾄ\",\"\"),\"\")))","v":""},{"$f":"IFERROR(MROUND(IF(F139=\"買建\",((I139*H139)+Y139)/H139,((I139*H139)-Y139)/H139),$X$5),\"\")","v":""},{"$f":"IF(K139<0,-(H139*I139*$X$4),\"\")","v":""},{"$f":"_xlfn.IFS(N139<制限値幅取得!I134,\"S安付近\",N139>制限値幅取得!H134,\"S高付近\",制限値幅取得!H134>N139>制限値幅取得!I134,\"\")","v":{"$error":"#VALUE!"}}]
[131,null,null,null,null,null,null,null,null,null,"","",null,{"$f":"IF(C140=0,\"wait\",_xll.SNT.StockInst(C140,$N$9))","v":"wait"},{"$f":"N140-制限値幅取得!E135","v":{"$error":"#VALUE!"}},{"$f":"IF(C140=0,\"wait\",_xll.SNT.StockInst(C140,$P$9))","v":"wait"},{"$f":"IF(C140=0,\"\",_xll.SNT.StockInst(C140,\"高値時刻\"))","v":""},{"$f":"MID(_xll.SNT.StockInst($C140,\"高値時刻\"),12,5)","v":"ockIn"},{"$f":"IF(C140=0,\"wait\",_xll.SNT.StockInst(C140,$S$9))","v":"wait"},{"$f":"IF($C140=0,\"\",_xll.SNT.StockInst($C140,\"安値時刻\"))","v":""},{"$f":"MID(_xll.SNT.StockInst($C140,\"安値時刻\"),12,5)","v":"ockIn"},"","","","",{"$f":"_xlfn.IFS(N140<制限値幅取得!I135,\"S安付近\",N140>制限値幅取得!H135,\"S高付近\",制限値幅取得!H135>N140>制限値幅取得!I135,\"\")","v":{"$error":"#VALUE!"}}]
[132,null,null,null,null,null,null,null,null,null,"","",null,{"$f":"IF(C141=0,\"wait\",_xll.SNT.StockInst(C141,$N$9))","v":"wait"},{"$f":"N141-制限値幅取得!E136","v":{"$error":"#VALUE!"}},{"$f":"IF(C141=0,\"wait\",_xll.SNT.StockInst(C141,$P$9))","v":"wait"},{"$f":"IF(C141=0,\"\",_xll.SNT.StockInst(C141,\"高値時刻\"))","v":""},{"$f":"MID(_xll.SNT.StockInst($C141,\"高値時刻\"),12,5)","v":"ockIn"},{"$f":"IF(C141=0,\"wait\",_xll.SNT.StockInst(C141,$S$9))","v":"wait"},{"$f":"IF($C141=0,\"\",_xll.SNT.StockInst($C141,\"安値時刻\"))","v":""},{"$f":"MID(_xll.SNT.StockInst($C141,\"安値時刻\"),12,5)","v":"ockIn"},"","","","",{"$f":"_xlfn.IFS(N141<制限値幅取得!I136,\"S安付近\",N141>制限値幅取得!H136,\"S高付近\",制限値幅取得!H136>N141>制限値幅取得!I136,\"\")","v":{"$error":"#VALUE!"}}]
[133,null,null,null,null,null,null,null,null,null,"","",null,{"$f":"IF(C142=0,\"wait\",_xll.SNT.StockInst(C142,$N$9))","v":"wait"},{"$f":"N142-制限値幅取得!E137","v":{"$error":"#VALUE!"}},{"$f":"IF(C142=0,\"wait\",_xll.SNT.StockInst(C142,$P$9))","v":"wait"},{"$f":"IF(C142=0,\"\",_xll.SNT.StockInst(C142,\"高値時刻\"))","v":""},{"$f":"MID(_xll.SNT.StockInst($C142,\"高値時刻\"),12,5)","v":"ockIn"},{"$f":"IF(C142=0,\"wait\",_xll.SNT.StockInst(C142,$S$9))","v":"wait"},{"$f":"IF($C142=0,\"\",_xll.SNT.StockInst($C142,\"安値時刻\"))","v":""},{"$f":"MID(_xll.SNT.StockInst($C142,\"安値時刻\"),12,5)","v":"ockIn"},"","","","",{"$f":"_xlfn.IFS(N142<制限値幅取得!I137,\"S安付近\",N142>制限値幅取得!H137,\"S高付近\",制限値幅取得!H137>N142>制限値幅取得!I137,\"\")","v":{"$error":"#VALUE!"}}]
[134,null,null,null,null,null,null,null,null,null,"","",null,{"$f":"IF(C143=0,\"wait\",_xll.SNT.StockInst(C143,$N$9))","v":"wait"},{"$f":"N143-制限値幅取得!E138","v":{"$error":"#VALUE!"}},{"$f":"IF(C143=0,\"wait\",_xll.SNT.StockInst(C143,$P$9))","v":"wait"},{"$f":"IF(C143=0,\"\",_xll.SNT.StockInst(C143,\"高値時刻\"))","v":""},{"$f":"MID(_xll.SNT.StockInst($C143,\"高値時刻\"),12,5)","v":"ockIn"},{"$f":"IF(C143=0,\"wait\",_xll.SNT.StockInst(C143,$S$9))","v":"wait"},{"$f":"IF($C143=0,\"\",_xll.SNT.StockInst($C143,\"安値時刻\"))","v":""},{"$f":"MID(_xll.SNT.StockInst($C143,\"安値時刻\"),12,5)","v":"ockIn"},"","","","",{"$f":"_xlfn.IFS(N143<制限値幅取得!I138,\"S安付近\",N143>制限値幅取得!H138,\"S高付近\",制限値幅取得!H138>N143>制限値幅取得!I138,\"\")","v":{"$error":"#VALUE!"}}]
[135,null,null,null,null,null,null,null,null,null,"","",null,{"$f":"IF(C144=0,\"wait\",_xll.SNT.StockInst(C144,$N$9))","v":"wait"},{"$f":"N144-制限値幅取得!E139","v":{"$error":"#VALUE!"}},{"$f":"IF(C144=0,\"wait\",_xll.SNT.StockInst(C144,$P$9))","v":"wait"},{"$f":"IF(C144=0,\"\",_xll.SNT.StockInst(C144,\"高値時刻\"))","v":""},{"$f":"MID(_xll.SNT.StockInst($C144,\"高値時刻\"),12,5)","v":"ockIn"},{"$f":"IF(C144=0,\"wait\",_xll.SNT.StockInst(C144,$S$9))","v":"wait"},{"$f":"IF($C144=0,\"\",_xll.SNT.StockInst($C144,\"安値時刻\"))","v":""},{"$f":"MID(_xll.SNT.StockInst($C144,\"安値時刻\"),12,5)","v":"ockIn"},"","","","",{"$f":"_xlfn.IFS(N144<制限値幅取得!I139,\"S安付近\",N144>制限値幅取得!H139,\"S高付近\",制限値幅取得!H139>N144>制限値幅取得!I139,\"\")","v":{"$error":"#VALUE!"}}]
[136,null,null,null,null,null,null,null,null,null,"","",null,{"$f":"IF(C145=0,\"wait\",_xll.SNT.StockInst(C145,$N$9))","v":"wait"},{"$f":"N145-制限値幅取得!E140","v":{"$error":"#VALUE!"}},{"$f":"IF(C145=0,\"wait\",_xll.SNT.StockInst(C145,$P$9))","v":"wait"},{"$f":"IF(C145=0,\"\",_xll.SNT.StockInst(C145,\"高値時刻\"))","v":""},{"$f":"MID(_xll.SNT.StockInst($C145,\"高値時刻\"),12,5)","v":"ockIn"},{"$f":"IF(C145=0,\"wait\",_xll.SNT.StockInst(C145,$S$9))","v":"wait"},{"$f":"IF($C145=0,\"\",_xll.SNT.StockInst($C145,\"安値時刻\"))","v":""},{"$f":"MID(_xll.SNT.StockInst($C145,\"安値時刻\"),12,5)","v":"ockIn"},"","","","",{"$f":"_xlfn.IFS(N145<制限値幅取得!I140,\"S安付近\",N145>制限値幅取得!H140,\"S高付近\",制限値幅取得!H140>N145>制限値幅取得!I140,\"\")","v":{"$error":"#VALUE!"}}]
[137,null,null,null,null,null,null,null,null,null,"","",null,{"$f":"IF(C146=0,\"wait\",_xll.SNT.StockInst(C146,$N$9))","v":"wait"},{"$f":"N146-制限値幅取得!E141","v":{"$error":"#VALUE!"}},{"$f":"IF(C146=0,\"wait\",_xll.SNT.StockInst(C146,$P$9))","v":"wait"},{"$f":"IF(C146=0,\"\",_xll.SNT.StockInst(C146,\"高値時刻\"))","v":""},{"$f":"MID(_xll.SNT.StockInst($C146,\"高値時刻\"),12,5)","v":"ockIn"},{"$f":"IF(C146=0,\"wait\",_xll.SNT.StockInst(C146,$S$9))","v":"wait"},{"$f":"IF($C146=0,\"\",_xll.SNT.StockInst($C146,\"安値時刻\"))","v":""},{"$f":"MID(_xll.SNT.StockInst($C146,\"安値時刻\"),12,5)","v":"ockIn"},"","","","",{"$f":"_xlfn.IFS(N146<制限値幅取得!I141,\"S安付近\",N146>制限値幅取得!H141,\"S高付近\",制限値幅取得!H141>N146>制限値幅取得!I141,\"\")","v":{"$error":"#VALUE!"}}]
[138,null,null,null,null,null,null,null,null,null,"","",null,{"$f":"IF(C147=0,\"wait\",_xll.SNT.StockInst(C147,$N$9))","v":"wait"},{"$f":"N147-制限値幅取得!E142","v":{"$error":"#VALUE!"}},{"$f":"IF(C147=0,\"wait\",_xll.SNT.StockInst(C147,$P$9))","v":"wait"},{"$f":"IF(C147=0,\"\",_xll.SNT.StockInst(C147,\"高値時刻\"))","v":""},{"$f":"MID(_xll.SNT.StockInst($C147,\"高値時刻\"),12,5)","v":"ockIn"},{"$f":"IF(C147=0,\"wait\",_xll.SNT.StockInst(C147,$S$9))","v":"wait"},{"$f":"IF($C147=0,\"\",_xll.SNT.StockInst($C147,\"安値時刻\"))","v":""},{"$f":"MID(_xll.SNT.StockInst($C147,\"安値時刻\"),12,5)","v":"ockIn"},"","","","",{"$f":"_xlfn.IFS(N147<制限値幅取得!I142,\"S安付近\",N147>制限値幅取得!H142,\"S高付近\",制限値幅取得!H142>N147>制限値幅取得!I142,\"\")","v":{"$error":"#VALUE!"}}]
[139,null,null,null,null,null,null,null,null,null,"","",null,{"$f":"IF(C148=0,\"wait\",_xll.SNT.StockInst(C148,$N$9))","v":"wait"},{"$f":"N148-制限値幅取得!E143","v":{"$error":"#VALUE!"}},{"$f":"IF(C148=0,\"wait\",_xll.SNT.StockInst(C148,$P$9))","v":"wait"},{"$f":"IF(C148=0,\"\",_xll.SNT.StockInst(C148,\"高値時刻\"))","v":""},{"$f":"MID(_xll.SNT.StockInst($C148,\"高値時刻\"),12,5)","v":"ockIn"},{"$f":"IF(C148=0,\"wait\",_xll.SNT.StockInst(C148,$S$9))","v":"wait"},{"$f":"IF($C148=0,\"\",_xll.SNT.StockInst($C148,\"安値時刻\"))","v":""},{"$f":"MID(_xll.SNT.StockInst($C148,\"安値時刻\"),12,5)","v":"ockIn"},"","","","",{"$f":"_xlfn.IFS(N148<制限値幅取得!I143,\"S安付近\",N148>制限値幅取得!H143,\"S高付近\",制限値幅取得!H143>N148>制限値幅取得!I143,\"\")","v":{"$error":"#VALUE!"}}]
[140,null,null,null,null,null,null,null,null,null,"","",null,{"$f":"IF(C149=0,\"wait\",_xll.SNT.StockInst(C149,$N$9))","v":"wait"},{"$f":"N149-制限値幅取得!E144","v":{"$error":"#VALUE!"}},{"$f":"IF(C149=0,\"wait\",_xll.SNT.StockInst(C149,$P$9))","v":"wait"},{"$f":"IF(C149=0,\"\",_xll.SNT.StockInst(C149,\"高値時刻\"))","v":""},{"$f":"MID(_xll.SNT.StockInst($C149,\"高値時刻\"),12,5)","v":"ockIn"},{"$f":"IF(C149=0,\"wait\",_xll.SNT.StockInst(C149,$S$9))","v":"wait"},{"$f":"IF($C149=0,\"\",_xll.SNT.StockInst($C149,\"安値時刻\"))","v":""},{"$f":"MID(_xll.SNT.StockInst($C149,\"安値時刻\"),12,5)","v":"ockIn"},"","","","",{"$f":"_xlfn.IFS(N149<制限値幅取得!I144,\"S安付近\",N149>制限値幅取得!H144,\"S高付近\",制限値幅取得!H144>N149>制限値幅取得!I144,\"\")","v":{"$error":"#VALUE!"}}]
[141,null,null,null,null,null,null,null,null,null,"","",null,{"$f":"IF(C150=0,\"wait\",_xll.SNT.StockInst(C150,$N$9))","v":"wait"},{"$f":"N150-制限値幅取得!E145","v":{"$error":"#VALUE!"}},{"$f":"IF(C150=0,\"wait\",_xll.SNT.StockInst(C150,$P$9))","v":"wait"},{"$f":"IF(C150=0,\"\",_xll.SNT.StockInst(C150,\"高値時刻\"))","v":""},{"$f":"MID(_xll.SNT.StockInst($C150,\"高値時刻\"),12,5)","v":"ockIn"},{"$f":"IF(C150=0,\"wait\",_xll.SNT.StockInst(C150,$S$9))","v":"wait"},{"$f":"IF($C150=0,\"\",_xll.SNT.StockInst($C150,\"安値時刻\"))","v":""},{"$f":"MID(_xll.SNT.StockInst($C150,\"安値時刻\"),12,5)","v":"ockIn"},"","","","",{"$f":"_xlfn.IFS(N150<制限値幅取得!I145,\"S安付近\",N150>制限値幅取得!H145,\"S高付近\",制限値幅取得!H145>N150>制限値幅取得!I145,\"\")","v":{"$error":"#VALUE!"}}]
[142,null,null,null,null,null,null,null,null,null,"","",null,{"$f":"IF(C151=0,\"wait\",_xll.SNT.StockInst(C151,$N$9))","v":"wait"},{"$f":"N151-制限値幅取得!E146","v":{"$error":"#VALUE!"}},{"$f":"IF(C151=0,\"wait\",_xll.SNT.StockInst(C151,$P$9))","v":"wait"},{"$f":"IF(C151=0,\"\",_xll.SNT.StockInst(C151,\"高値時刻\"))","v":""},{"$f":"MID(_xll.SNT.StockInst($C151,\"高値時刻\"),12,5)","v":"ockIn"},{"$f":"IF(C151=0,\"wait\",_xll.SNT.StockInst(C151,$S$9))","v":"wait"},{"$f":"IF($C151=0,\"\",_xll.SNT.StockInst($C151,\"安値時刻\"))","v":""},{"$f":"MID(_xll.SNT.StockInst($C151,\"安値時刻\"),12,5)","v":"ockIn"},"","","","",{"$f":"_xlfn.IFS(N151<制限値幅取得!I146,\"S安付近\",N151>制限値幅取得!H146,\"S高付近\",制限値幅取得!H146>N151>制限値幅取得!I146,\"\")","v":{"$error":"#VALUE!"}}]
[143,null,null,null,null,null,null,null,null,null,"","",null,{"$f":"IF(C152=0,\"wait\",_xll.SNT.StockInst(C152,$N$9))","v":"wait"},{"$f":"N152-制限値幅取得!E147","v":{"$error":"#VALUE!"}},{"$f":"IF(C152=0,\"wait\",_xll.SNT.StockInst(C152,$P$9))","v":"wait"},{"$f":"IF(C152=0,\"\",_xll.SNT.StockInst(C152,\"高値時刻\"))","v":""},{"$f":"MID(_xll.SNT.StockInst($C152,\"高値時刻\"),12,5)","v":"ockIn"},{"$f":"IF(C152=0,\"wait\",_xll.SNT.StockInst(C152,$S$9))","v":"wait"},{"$f":"IF($C152=0,\"\",_xll.SNT.StockInst($C152,\"安値時刻\"))","v":""},{"$f":"MID(_xll.SNT.StockInst($C152,\"安値時刻\"),12,5)","v":"ockIn"},"","","","",{"$f":"_xlfn.IFS(N152<制限値幅取得!I147,\"S安付近\",N152>制限値幅取得!H147,\"S高付近\",制限値幅取得!H147>N152>制限値幅取得!I147,\"\")","v":{"$error":"#VALUE!"}}]
[144,null,null,null,null,null,null,null,null,null,"","",null,{"$f":"IF(C153=0,\"wait\",_xll.SNT.StockInst(C153,$N$9))","v":"wait"},{"$f":"N153-制限値幅取得!E148","v":{"$error":"#VALUE!"}},{"$f":"IF(C153=0,\"wait\",_xll.SNT.StockInst(C153,$P$9))","v":"wait"},{"$f":"IF(C153=0,\"\",_xll.SNT.StockInst(C153,\"高値時刻\"))","v":""},{"$f":"MID(_xll.SNT.StockInst($C153,\"高値時刻\"),12,5)","v":"ockIn"},{"$f":"IF(C153=0,\"wait\",_xll.SNT.StockInst(C153,$S$9))","v":"wait"},{"$f":"IF($C153=0,\"\",_xll.SNT.StockInst($C153,\"安値時刻\"))","v":""},{"$f":"MID(_xll.SNT.StockInst($C153,\"安値時刻\"),12,5)","v":"ockIn"},"","","","",{"$f":"_xlfn.IFS(N153<制限値幅取得!I148,\"S安付近\",N153>制限値幅取得!H148,\"S高付近\",制限値幅取得!H148>N153>制限値幅取得!I148,\"\")","v":{"$error":"#VALUE!"}}]
[145,null,null,null,null,null,null,null,null,null,"","",null,{"$f":"IF(C154=0,\"wait\",_xll.SNT.StockInst(C154,$N$9))","v":"wait"},{"$f":"N154-制限値幅取得!E149","v":{"$error":"#VALUE!"}},{"$f":"IF(C154=0,\"wait\",_xll.SNT.StockInst(C154,$P$9))","v":"wait"},{"$f":"IF(C154=0,\"\",_xll.SNT.StockInst(C154,\"高値時刻\"))","v":""},{"$f":"MID(_xll.SNT.StockInst($C154,\"高値時刻\"),12,5)","v":"ockIn"},{"$f":"IF(C154=0,\"wait\",_xll.SNT.StockInst(C154,$S$9))","v":"wait"},{"$f":"IF($C154=0,\"\",_xll.SNT.StockInst($C154,\"安値時刻\"))","v":""},{"$f":"MID(_xll.SNT.StockInst($C154,\"安値時刻\"),12,5)","v":"ockIn"},"","","","",{"$f":"_xlfn.IFS(N154<制限値幅取得!I149,\"S安付近\",N154>制限値幅取得!H149,\"S高付近\",制限値幅取得!H149>N154>制限値幅取得!I149,\"\")","v":{"$error":"#VALUE!"}}]
[146,null,null,null,null,null,null,null,null,null,"","",null,{"$f":"IF(C155=0,\"wait\",_xll.SNT.StockInst(C155,$N$9))","v":"wait"},{"$f":"N155-制限値幅取得!E150","v":{"$error":"#VALUE!"}},{"$f":"IF(C155=0,\"wait\",_xll.SNT.StockInst(C155,$P$9))","v":"wait"},{"$f":"IF(C155=0,\"\",_xll.SNT.StockInst(C155,\"高値時刻\"))","v":""},{"$f":"MID(_xll.SNT.StockInst($C155,\"高値時刻\"),12,5)","v":"ockIn"},{"$f":"IF(C155=0,\"wait\",_xll.SNT.StockInst(C155,$S$9))","v":"wait"},{"$f":"IF($C155=0,\"\",_xll.SNT.StockInst($C155,\"安値時刻\"))","v":""},{"$f":"MID(_xll.SNT.StockInst($C155,\"安値時刻\"),12,5)","v":"ockIn"},"","","","",{"$f":"_xlfn.IFS(N155<制限値幅取得!I150,\"S安付近\",N155>制限値幅取得!H150,\"S高付近\",制限値幅取得!H150>N155>制限値幅取得!I150,\"\")","v":{"$error":"#VALUE!"}}]
[147,null,null,null,null,null,null,null,null,null,"","",null,{"$f":"IF(C156=0,\"wait\",_xll.SNT.StockInst(C156,$N$9))","v":"wait"},{"$f":"N156-制限値幅取得!E151","v":{"$error":"#VALUE!"}},{"$f":"IF(C156=0,\"wait\",_xll.SNT.StockInst(C156,$P$9))","v":"wait"},{"$f":"IF(C156=0,\"\",_xll.SNT.StockInst(C156,\"高値時刻\"))","v":""},{"$f":"MID(_xll.SNT.StockInst($C156,\"高値時刻\"),12,5)","v":"ockIn"},{"$f":"IF(C156=0,\"wait\",_xll.SNT.StockInst(C156,$S$9))","v":"wait"},{"$f":"IF($C156=0,\"\",_xll.SNT.StockInst($C156,\"安値時刻\"))","v":""},{"$f":"MID(_xll.SNT.StockInst($C156,\"安値時刻\"),12,5)","v":"ockIn"},"","","","",{"$f":"_xlfn.IFS(N156<制限値幅取得!I151,\"S安付近\",N156>制限値幅取得!H151,\"S高付近\",制限値幅取得!H151>N156>制限値幅取得!I151,\"\")","v":{"$error":"#VALUE!"}}]
[148,null,null,null,null,null,null,null,null,null,"","",null,{"$f":"IF(C157=0,\"wait\",_xll.SNT.StockInst(C157,$N$9))","v":"wait"},{"$f":"N157-制限値幅取得!E152","v":{"$error":"#VALUE!"}},{"$f":"IF(C157=0,\"wait\",_xll.SNT.StockInst(C157,$P$9))","v":"wait"},{"$f":"IF(C157=0,\"\",_xll.SNT.StockInst(C157,\"高値時刻\"))","v":""},{"$f":"MID(_xll.SNT.StockInst($C157,\"高値時刻\"),12,5)","v":"ockIn"},{"$f":"IF(C157=0,\"wait\",_xll.SNT.StockInst(C157,$S$9))","v":"wait"},{"$f":"IF($C157=0,\"\",_xll.SNT.StockInst($C157,\"安値時刻\"))","v":""},{"$f":"MID(_xll.SNT.StockInst($C157,\"安値時刻\"),12,5)","v":"ockIn"},"","","","",{"$f":"_xlfn.IFS(N157<制限値幅取得!I152,\"S安付近\",N157>制限値幅取得!H152,\"S高付近\",制限値幅取得!H152>N157>制限値幅取得!I152,\"\")","v":{"$error":"#VALUE!"}}]
[149,null,null,null,null,null,null,null,null,null,"","",null,{"$f":"IF(C158=0,\"wait\",_xll.SNT.StockInst(C158,$N$9))","v":"wait"},{"$f":"N158-制限値幅取得!E153","v":{"$error":"#VALUE!"}},{"$f":"IF(C158=0,\"wait\",_xll.SNT.StockInst(C158,$P$9))","v":"wait"},{"$f":"IF(C158=0,\"\",_xll.SNT.StockInst(C158,\"高値時刻\"))","v":""},{"$f":"MID(_xll.SNT.StockInst($C158,\"高値時刻\"),12,5)","v":"ockIn"},{"$f":"IF(C158=0,\"wait\",_xll.SNT.StockInst(C158,$S$9))","v":"wait"},{"$f":"IF($C158=0,\"\",_xll.SNT.StockInst($C158,\"安値時刻\"))","v":""},{"$f":"MID(_xll.SNT.StockInst($C158,\"安値時刻\"),12,5)","v":"ockIn"},"","","","",{"$f":"_xlfn.IFS(N158<制限値幅取得!I153,\"S安付近\",N158>制限値幅取得!H153,\"S高付近\",制限値幅取得!H153>N158>制限値幅取得!I153,\"\")","v":{"$error":"#VALUE!"}}]
[150,null,null,null,null,null,null,null,null,null,"","",null,{"$f":"IF(C159=0,\"wait\",_xll.SNT.StockInst(C159,$N$9))","v":"wait"},{"$f":"N159-制限値幅取得!E154","v":{"$error":"#VALUE!"}},{"$f":"IF(C159=0,\"wait\",_xll.SNT.StockInst(C159,$P$9))","v":"wait"},{"$f":"IF(C159=0,\"\",_xll.SNT.StockInst(C159,\"高値時刻\"))","v":""},{"$f":"MID(_xll.SNT.StockInst($C159,\"高値時刻\"),12,5)","v":"ockIn"},{"$f":"IF(C159=0,\"wait\",_xll.SNT.StockInst(C159,$S$9))","v":"wait"},{"$f":"IF($C159=0,\"\",_xll.SNT.StockInst($C159,\"安値時刻\"))","v":""},{"$f":"MID(_xll.SNT.StockInst($C159,\"安値時刻\"),12,5)","v":"ockIn"},"","","","",{"$f":"_xlfn.IFS(N159<制限値幅取得!I154,\"S安付近\",N159>制限値幅取得!H154,\"S高付近\",制限値幅取得!H154>N159>制限値幅取得!I154,\"\")","v":{"$error":"#VALUE!"}}]
[151,null,null,null,null,null,null,null,null,null,"","",null,{"$f":"IF(C160=0,\"wait\",_xll.SNT.StockInst(C160,$N$9))","v":"wait"},{"$f":"N160-制限値幅取得!E155","v":{"$error":"#VALUE!"}},{"$f":"IF(C160=0,\"wait\",_xll.SNT.StockInst(C160,$P$9))","v":"wait"},{"$f":"IF(C160=0,\"\",_xll.SNT.StockInst(C160,\"高値時刻\"))","v":""},{"$f":"MID(_xll.SNT.StockInst($C160,\"高値時刻\"),12,5)","v":"ockIn"},{"$f":"IF(C160=0,\"wait\",_xll.SNT.StockInst(C160,$S$9))","v":"wait"},{"$f":"IF($C160=0,\"\",_xll.SNT.StockInst($C160,\"安値時刻\"))","v":""},{"$f":"MID(_xll.SNT.StockInst($C160,\"安値時刻\"),12,5)","v":"ockIn"},"","","","",{"$f":"_xlfn.IFS(N160<制限値幅取得!I155,\"S安付近\",N160>制限値幅取得!H155,\"S高付近\",制限値幅取得!H155>N160>制限値幅取得!I155,\"\")","v":{"$error":"#VALUE!"}}]
[152,null,null,null,null,null,null,null,null,null,"","",null,{"$f":"IF(C161=0,\"wait\",_xll.SNT.StockInst(C161,$N$9))","v":"wait"},{"$f":"N161-制限値幅取得!E156","v":{"$error":"#VALUE!"}},{"$f":"IF(C161=0,\"wait\",_xll.SNT.StockInst(C161,$P$9))","v":"wait"},{"$f":"IF(C161=0,\"\",_xll.SNT.StockInst(C161,\"高値時刻\"))","v":""},{"$f":"MID(_xll.SNT.StockInst($C161,\"高値時刻\"),12,5)","v":"ockIn"},{"$f":"IF(C161=0,\"wait\",_xll.SNT.StockInst(C161,$S$9))","v":"wait"},{"$f":"IF($C161=0,\"\",_xll.SNT.StockInst($C161,\"安値時刻\"))","v":""},{"$f":"MID(_xll.SNT.StockInst($C161,\"安値時刻\"),12,5)","v":"ockIn"},"","","","",{"$f":"_xlfn.IFS(N161<制限値幅取得!I156,\"S安付近\",N161>制限値幅取得!H156,\"S高付近\",制限値幅取得!H156>N161>制限値幅取得!I156,\"\")","v":{"$error":"#VALUE!"}}]
[153,null,null,null,null,null,null,null,null,null,"","",null,{"$f":"IF(C162=0,\"wait\",_xll.SNT.StockInst(C162,$N$9))","v":"wait"},{"$f":"N162-制限値幅取得!E157","v":{"$error":"#VALUE!"}},{"$f":"IF(C162=0,\"wait\",_xll.SNT.StockInst(C162,$P$9))","v":"wait"},{"$f":"IF(C162=0,\"\",_xll.SNT.StockInst(C162,\"高値時刻\"))","v":""},{"$f":"MID(_xll.SNT.StockInst($C162,\"高値時刻\"),12,5)","v":"ockIn"},{"$f":"IF(C162=0,\"wait\",_xll.SNT.StockInst(C162,$S$9))","v":"wait"},{"$f":"IF($C162=0,\"\",_xll.SNT.StockInst($C162,\"安値時刻\"))","v":""},{"$f":"MID(_xll.SNT.StockInst($C162,\"安値時刻\"),12,5)","v":"ockIn"},"","","","",{"$f":"_xlfn.IFS(N162<制限値幅取得!I157,\"S安付近\",N162>制限値幅取得!H157,\"S高付近\",制限値幅取得!H157>N162>制限値幅取得!I157,\"\")","v":{"$error":"#VALUE!"}}]
[154,null,null,null,null,null,null,null,null,null,"","",null,{"$f":"IF(C163=0,\"wait\",_xll.SNT.StockInst(C163,$N$9))","v":"wait"},{"$f":"N163-制限値幅取得!E158","v":{"$error":"#VALUE!"}},{"$f":"IF(C163=0,\"wait\",_xll.SNT.StockInst(C163,$P$9))","v":"wait"},{"$f":"IF(C163=0,\"\",_xll.SNT.StockInst(C163,\"高値時刻\"))","v":""},{"$f":"MID(_xll.SNT.StockInst($C163,\"高値時刻\"),12,5)","v":"ockIn"},{"$f":"IF(C163=0,\"wait\",_xll.SNT.StockInst(C163,$S$9))","v":"wait"},{"$f":"IF($C163=0,\"\",_xll.SNT.StockInst($C163,\"安値時刻\"))","v":""},{"$f":"MID(_xll.SNT.StockInst($C163,\"安値時刻\"),12,5)","v":"ockIn"},"","","","",{"$f":"_xlfn.IFS(N163<制限値幅取得!I158,\"S安付近\",N163>制限値幅取得!H158,\"S高付近\",制限値幅取得!H158>N163>制限値幅取得!I158,\"\")","v":{"$error":"#VALUE!"}}]
[155,null,null,null,null,null,null,null,null,null,"","",null,{"$f":"IF(C164=0,\"wait\",_xll.SNT.StockInst(C164,$N$9))","v":"wait"},{"$f":"N164-制限値幅取得!E159","v":{"$error":"#VALUE!"}},{"$f":"IF(C164=0,\"wait\",_xll.SNT.StockInst(C164,$P$9))","v":"wait"},{"$f":"IF(C164=0,\"\",_xll.SNT.StockInst(C164,\"高値時刻\"))","v":""},{"$f":"MID(_xll.SNT.StockInst($C164,\"高値時刻\"),12,5)","v":"ockIn"},{"$f":"IF(C164=0,\"wait\",_xll.SNT.StockInst(C164,$S$9))","v":"wait"},{"$f":"IF($C164=0,\"\",_xll.SNT.StockInst($C164,\"安値時刻\"))","v":""},{"$f":"MID(_xll.SNT.StockInst($C164,\"安値時刻\"),12,5)","v":"ockIn"},"","","","",{"$f":"_xlfn.IFS(N164<制限値幅取得!I159,\"S安付近\",N164>制限値幅取得!H159,\"S高付近\",制限値幅取得!H159>N164>制限値幅取得!I159,\"\")","v":{"$error":"#VALUE!"}}]
[156,null,null,null,null,null,null,null,null,null,"","",null,{"$f":"IF(C165=0,\"wait\",_xll.SNT.StockInst(C165,$N$9))","v":"wait"},{"$f":"N165-制限値幅取得!E160","v":{"$error":"#VALUE!"}},{"$f":"IF(C165=0,\"wait\",_xll.SNT.StockInst(C165,$P$9))","v":"wait"},{"$f":"IF(C165=0,\"\",_xll.SNT.StockInst(C165,\"高値時刻\"))","v":""},{"$f":"MID(_xll.SNT.StockInst($C165,\"高値時刻\"),12,5)","v":"ockIn"},{"$f":"IF(C165=0,\"wait\",_xll.SNT.StockInst(C165,$S$9))","v":"wait"},{"$f":"IF($C165=0,\"\",_xll.SNT.StockInst($C165,\"安値時刻\"))","v":""},{"$f":"MID(_xll.SNT.StockInst($C165,\"安値時刻\"),12,5)","v":"ockIn"},"","","","",{"$f":"_xlfn.IFS(N165<制限値幅取得!I160,\"S安付近\",N165>制限値幅取得!H160,\"S高付近\",制限値幅取得!H160>N165>制限値幅取得!I160,\"\")","v":{"$error":"#VALUE!"}}]
[157,null,null,null,null,null,null,null,null,null,"","",null,{"$f":"IF(C166=0,\"wait\",_xll.SNT.StockInst(C166,$N$9))","v":"wait"},{"$f":"N166-制限値幅取得!E161","v":{"$error":"#VALUE!"}},{"$f":"IF(C166=0,\"wait\",_xll.SNT.StockInst(C166,$P$9))","v":"wait"},{"$f":"IF(C166=0,\"\",_xll.SNT.StockInst(C166,\"高値時刻\"))","v":""},{"$f":"MID(_xll.SNT.StockInst($C166,\"高値時刻\"),12,5)","v":"ockIn"},{"$f":"IF(C166=0,\"wait\",_xll.SNT.StockInst(C166,$S$9))","v":"wait"},{"$f":"IF($C166=0,\"\",_xll.SNT.StockInst($C166,\"安値時刻\"))","v":""},{"$f":"MID(_xll.SNT.StockInst($C166,\"安値時刻\"),12,5)","v":"ockIn"},"","","","",{"$f":"_xlfn.IFS(N166<制限値幅取得!I161,\"S安付近\",N166>制限値幅取得!H161,\"S高付近\",制限値幅取得!H161>N166>制限値幅取得!I161,\"\")","v":{"$error":"#VALUE!"}}]
[158,null,null,null,null,null,null,null,null,null,"","",null,{"$f":"IF(C167=0,\"wait\",_xll.SNT.StockInst(C167,$N$9))","v":"wait"},{"$f":"N167-制限値幅取得!E162","v":{"$error":"#VALUE!"}},{"$f":"IF(C167=0,\"wait\",_xll.SNT.StockInst(C167,$P$9))","v":"wait"},{"$f":"IF(C167=0,\"\",_xll.SNT.StockInst(C167,\"高値時刻\"))","v":""},{"$f":"MID(_xll.SNT.StockInst($C167,\"高値時刻\"),12,5)","v":"ockIn"},{"$f":"IF(C167=0,\"wait\",_xll.SNT.StockInst(C167,$S$9))","v":"wait"},{"$f":"IF($C167=0,\"\",_xll.SNT.StockInst($C167,\"安値時刻\"))","v":""},{"$f":"MID(_xll.SNT.StockInst($C167,\"安値時刻\"),12,5)","v":"ockIn"},"","","","",{"$f":"_xlfn.IFS(N167<制限値幅取得!I162,\"S安付近\",N167>制限値幅取得!H162,\"S高付近\",制限値幅取得!H162>N167>制限値幅取得!I162,\"\")","v":{"$error":"#VALUE!"}}]
[159,null,null,null,null,null,null,null,null,null,{"$f":"IFERROR(IF(F168=\"買建\",(N168-I168)*H168,(I168-N168)*H168),\"\")","v":""},{"$f":"IFERROR(K168/(I168*H168),\"\")","v":""},null,{"$f":"IF(C168=0,\"wait\",_xll.SNT.StockInst(C168,$N$9))","v":"wait"},{"$f":"N168-制限値幅取得!E163","v":{"$error":"#VALUE!"}},{"$f":"IF(C168=0,\"wait\",_xll.SNT.StockInst(C168,$P$9))","v":"wait"},{"$f":"IF(C168=0,\"\",_xll.SNT.StockInst(C168,\"高値時刻\"))","v":""},{"$f":"MID(_xll.SNT.StockInst($C168,\"高値時刻\"),12,5)","v":"ockIn"},{"$f":"IF(C168=0,\"wait\",_xll.SNT.StockInst(C168,$S$9))","v":"wait"},{"$f":"IF($C168=0,\"\",_xll.SNT.StockInst($C168,\"安値時刻\"))","v":""},{"$f":"MID(_xll.SNT.StockInst($C168,\"安値時刻\"),12,5)","v":"ockIn"},"","","","",{"$f":"_xlfn.IFS(N168<制限値幅取得!I163,\"S安付近\",N168>制限値幅取得!H163,\"S高付近\",制限値幅取得!H163>N168>制限値幅取得!I163,\"\")","v":{"$error":"#VALUE!"}}]
[160,null,null,null,null,null,null,null,null,null,"","",null,{"$f":"IF(C169=0,\"wait\",_xll.SNT.StockInst(C169,$N$9))","v":"wait"},{"$f":"N169-制限値幅取得!E164","v":{"$error":"#VALUE!"}},{"$f":"IF(C169=0,\"wait\",_xll.SNT.StockInst(C169,$P$9))","v":"wait"},{"$f":"IF(C169=0,\"\",_xll.SNT.StockInst(C169,\"高値時刻\"))","v":""},{"$f":"MID(_xll.SNT.StockInst($C169,\"高値時刻\"),12,5)","v":"ockIn"},{"$f":"IF(C169=0,\"wait\",_xll.SNT.StockInst(C169,$S$9))","v":"wait"},{"$f":"IF($C169=0,\"\",_xll.SNT.StockInst($C169,\"安値時刻\"))","v":""},{"$f":"MID(_xll.SNT.StockInst($C169,\"安値時刻\"),12,5)","v":"ockIn"},"","","","",{"$f":"_xlfn.IFS(N169<制限値幅取得!I164,\"S安付近\",N169>制限値幅取得!H164,\"S高付近\",制限値幅取得!H164>N169>制限値幅取得!I164,\"\")","v":{"$error":"#VALUE!"}}]
[161,null,null,null,null,null,null,null,null,null,"","",null,{"$f":"IF(C170=0,\"wait\",_xll.SNT.StockInst(C170,$N$9))","v":"wait"},{"$f":"N170-制限値幅取得!E165","v":{"$error":"#VALUE!"}},{"$f":"IF(C170=0,\"wait\",_xll.SNT.StockInst(C170,$P$9))","v":"wait"},{"$f":"IF(C170=0,\"\",_xll.SNT.StockInst(C170,\"高値時刻\"))","v":""},{"$f":"MID(_xll.SNT.StockInst($C170,\"高値時刻\"),12,5)","v":"ockIn"},{"$f":"IF(C170=0,\"wait\",_xll.SNT.StockInst(C170,$S$9))","v":"wait"},{"$f":"IF($C170=0,\"\",_xll.SNT.StockInst($C170,\"安値時刻\"))","v":""},{"$f":"MID(_xll.SNT.StockInst($C170,\"安値時刻\"),12,5)","v":"ockIn"},"","","","",{"$f":"_xlfn.IFS(N170<制限値幅取得!I165,\"S安付近\",N170>制限値幅取得!H165,\"S高付近\",制限値幅取得!H165>N170>制限値幅取得!I165,\"\")","v":{"$error":"#VALUE!"}}]
[162,null,null,null,null,null,null,null,null,null,"","",null,{"$f":"IF(C171=0,\"wait\",_xll.SNT.StockInst(C171,$N$9))","v":"wait"},{"$f":"N171-制限値幅取得!E166","v":{"$error":"#VALUE!"}},{"$f":"IF(C171=0,\"wait\",_xll.SNT.StockInst(C171,$P$9))","v":"wait"},{"$f":"IF(C171=0,\"\",_xll.SNT.StockInst(C171,\"高値時刻\"))","v":""},{"$f":"MID(_xll.SNT.StockInst($C171,\"高値時刻\"),12,5)","v":"ockIn"},{"$f":"IF(C171=0,\"wait\",_xll.SNT.StockInst(C171,$S$9))","v":"wait"},{"$f":"IF($C171=0,\"\",_xll.SNT.StockInst($C171,\"安値時刻\"))","v":""},{"$f":"MID(_xll.SNT.StockInst($C171,\"安値時刻\"),12,5)","v":"ockIn"},"","","","",{"$f":"_xlfn.IFS(N171<制限値幅取得!I166,\"S安付近\",N171>制限値幅取得!H166,\"S高付近\",制限値幅取得!H166>N171>制限値幅取得!I166,\"\")","v":{"$error":"#VALUE!"}}]
[163,null,null,null,null,null,null,null,null,null,"","",null,{"$f":"IF(C172=0,\"wait\",_xll.SNT.StockInst(C172,$N$9))","v":"wait"},{"$f":"N172-制限値幅取得!E167","v":{"$error":"#VALUE!"}},{"$f":"IF(C172=0,\"wait\",_xll.SNT.StockInst(C172,$P$9))","v":"wait"},{"$f":"IF(C172=0,\"\",_xll.SNT.StockInst(C172,\"高値時刻\"))","v":""},{"$f":"MID(_xll.SNT.StockInst($C172,\"高値時刻\"),12,5)","v":"ockIn"},{"$f":"IF(C172=0,\"wait\",_xll.SNT.StockInst(C172,$S$9))","v":"wait"},{"$f":"IF($C172=0,\"\",_xll.SNT.StockInst($C172,\"安値時刻\"))","v":""},{"$f":"MID(_xll.SNT.StockInst($C172,\"安値時刻\"),12,5)","v":"ockIn"},"","","","",{"$f":"_xlfn.IFS(N172<制限値幅取得!I167,\"S安付近\",N172>制限値幅取得!H167,\"S高付近\",制限値幅取得!H167>N172>制限値幅取得!I167,\"\")","v":{"$error":"#VALUE!"}}]
[164,null,null,null,null,null,null,null,null,null,"","",null,{"$f":"IF(C173=0,\"wait\",_xll.SNT.StockInst(C173,$N$9))","v":"wait"},{"$f":"N173-制限値幅取得!E168","v":{"$error":"#VALUE!"}},{"$f":"IF(C173=0,\"wait\",_xll.SNT.StockInst(C173,$P$9))","v":"wait"},{"$f":"IF(C173=0,\"\",_xll.SNT.StockInst(C173,\"高値時刻\"))","v":""},{"$f":"MID(_xll.SNT.StockInst($C173,\"高値時刻\"),12,5)","v":"ockIn"},{"$f":"IF(C173=0,\"wait\",_xll.SNT.StockInst(C173,$S$9))","v":"wait"},{"$f":"IF($C173=0,\"\",_xll.SNT.StockInst($C173,\"安値時刻\"))","v":""},{"$f":"MID(_xll.SNT.StockInst($C173,\"安値時刻\"),12,5)","v":"ockIn"},"","","","",{"$f":"_xlfn.IFS(N173<制限値幅取得!I168,\"S安付近\",N173>制限値幅取得!H168,\"S高付近\",制限値幅取得!H168>N173>制限値幅取得!I168,\"\")","v":{"$error":"#VALUE!"}}]
[165,null,null,null,null,null,null,null,null,null,"","",null,{"$f":"IF(C174=0,\"wait\",_xll.SNT.StockInst(C174,$N$9))","v":"wait"},{"$f":"N174-制限値幅取得!E169","v":{"$error":"#VALUE!"}},{"$f":"IF(C174=0,\"wait\",_xll.SNT.StockInst(C174,$P$9))","v":"wait"},{"$f":"IF(C174=0,\"\",_xll.SNT.StockInst(C174,\"高値時刻\"))","v":""},{"$f":"MID(_xll.SNT.StockInst($C174,\"高値時刻\"),12,5)","v":"ockIn"},{"$f":"IF(C174=0,\"wait\",_xll.SNT.StockInst(C174,$S$9))","v":"wait"},{"$f":"IF($C174=0,\"\",_xll.SNT.StockInst($C174,\"安値時刻\"))","v":""},{"$f":"MID(_xll.SNT.StockInst($C174,\"安値時刻\"),12,5)","v":"ockIn"},"","","","",{"$f":"_xlfn.IFS(N174<制限値幅取得!I169,\"S安付近\",N174>制限値幅取得!H169,\"S高付近\",制限値幅取得!H169>N174>制限値幅取得!I169,\"\")","v":{"$error":"#VALUE!"}}]
[166,null,null,null,null,null,null,null,null,null,"","",null,{"$f":"IF(C175=0,\"wait\",_xll.SNT.StockInst(C175,$N$9))","v":"wait"},{"$f":"N175-制限値幅取得!E170","v":{"$error":"#VALUE!"}},{"$f":"IF(C175=0,\"wait\",_xll.SNT.StockInst(C175,$P$9))","v":"wait"},{"$f":"IF(C175=0,\"\",_xll.SNT.StockInst(C175,\"高値時刻\"))","v":""},{"$f":"MID(_xll.SNT.StockInst($C175,\"高値時刻\"),12,5)","v":"ockIn"},{"$f":"IF(C175=0,\"wait\",_xll.SNT.StockInst(C175,$S$9))","v":"wait"},{"$f":"IF($C175=0,\"\",_xll.SNT.StockInst($C175,\"安値時刻\"))","v":""},{"$f":"MID(_xll.SNT.StockInst($C175,\"安値時刻\"),12,5)","v":"ockIn"},"","","","",{"$f":"_xlfn.IFS(N175<制限値幅取得!I170,\"S安付近\",N175>制限値幅取得!H170,\"S高付近\",制限値幅取得!H170>N175>制限値幅取得!I170,\"\")","v":{"$error":"#VALUE!"}}]
[167,null,null,null,null,null,null,null,null,null,"","",null,{"$f":"IF(C176=0,\"wait\",_xll.SNT.StockInst(C176,$N$9))","v":"wait"},{"$f":"N176-制限値幅取得!E171","v":{"$error":"#VALUE!"}},{"$f":"IF(C176=0,\"wait\",_xll.SNT.StockInst(C176,$P$9))","v":"wait"},{"$f":"IF(C176=0,\"\",_xll.SNT.StockInst(C176,\"高値時刻\"))","v":""},{"$f":"MID(_xll.SNT.StockInst($C176,\"高値時刻\"),12,5)","v":"ockIn"},{"$f":"IF(C176=0,\"wait\",_xll.SNT.StockInst(C176,$S$9))","v":"wait"},{"$f":"IF($C176=0,\"\",_xll.SNT.StockInst($C176,\"安値時刻\"))","v":""},{"$f":"MID(_xll.SNT.StockInst($C176,\"安値時刻\"),12,5)","v":"ockIn"},"","","","",{"$f":"_xlfn.IFS(N176<制限値幅取得!I171,\"S安付近\",N176>制限値幅取得!H171,\"S高付近\",制限値幅取得!H171>N176>制限値幅取得!I171,\"\")","v":{"$error":"#VALUE!"}}]
[168,null,null,null,null,null,null,null,null,null,"","",null,{"$f":"IF(C177=0,\"wait\",_xll.SNT.StockInst(C177,$N$9))","v":"wait"},{"$f":"N177-制限値幅取得!E172","v":{"$error":"#VALUE!"}},{"$f":"IF(C177=0,\"wait\",_xll.SNT.StockInst(C177,$P$9))","v":"wait"},{"$f":"IF(C177=0,\"\",_xll.SNT.StockInst(C177,\"高値時刻\"))","v":""},{"$f":"MID(_xll.SNT.StockInst($C177,\"高値時刻\"),12,5)","v":"ockIn"},{"$f":"IF(C177=0,\"wait\",_xll.SNT.StockInst(C177,$S$9))","v":"wait"},{"$f":"IF($C177=0,\"\",_xll.SNT.StockInst($C177,\"安値時刻\"))","v":""},{"$f":"MID(_xll.SNT.StockInst($C177,\"安値時刻\"),12,5)","v":"ockIn"},"","","","",{"$f":"_xlfn.IFS(N177<制限値幅取得!I172,\"S安付近\",N177>制限値幅取得!H172,\"S高付近\",制限値幅取得!H172>N177>制限値幅取得!I172,\"\")","v":{"$error":"#VALUE!"}}]
[169,null,null,null,null,null,null,null,null,null,"","",null,{"$f":"IF(C178=0,\"wait\",_xll.SNT.StockInst(C178,$N$9))","v":"wait"},{"$f":"N178-制限値幅取得!E173","v":{"$error":"#VALUE!"}},{"$f":"IF(C178=0,\"wait\",_xll.SNT.StockInst(C178,$P$9))","v":"wait"},{"$f":"IF(C178=0,\"\",_xll.SNT.StockInst(C178,\"高値時刻\"))","v":""},{"$f":"MID(_xll.SNT.StockInst($C178,\"高値時刻\"),12,5)","v":"ockIn"},{"$f":"IF(C178=0,\"wait\",_xll.SNT.StockInst(C178,$S$9))","v":"wait"},{"$f":"IF($C178=0,\"\",_xll.SNT.StockInst($C178,\"安値時刻\"))","v":""},{"$f":"MID(_xll.SNT.StockInst($C178,\"安値時刻\"),12,5)","v":"ockIn"},"","","","",{"$f":"_xlfn.IFS(N178<制限値幅取得!I173,\"S安付近\",N178>制限値幅取得!H173,\"S高付近\",制限値幅取得!H173>N178>制限値幅取得!I173,\"\")","v":{"$error":"#VALUE!"}}]
[170,null,null,null,null,null,null,null,null,null,"","",null,{"$f":"IF(C179=0,\"wait\",_xll.SNT.StockInst(C179,$N$9))","v":"wait"},{"$f":"N179-制限値幅取得!E174","v":{"$error":"#VALUE!"}},{"$f":"IF(C179=0,\"wait\",_xll.SNT.StockInst(C179,$P$9))","v":"wait"},{"$f":"IF(C179=0,\"\",_xll.SNT.StockInst(C179,\"高値時刻\"))","v":""},{"$f":"MID(_xll.SNT.StockInst($C179,\"高値時刻\"),12,5)","v":"ockIn"},{"$f":"IF(C179=0,\"wait\",_xll.SNT.StockInst(C179,$S$9))","v":"wait"},{"$f":"IF($C179=0,\"\",_xll.SNT.StockInst($C179,\"安値時刻\"))","v":""},{"$f":"MID(_xll.SNT.StockInst($C179,\"安値時刻\"),12,5)","v":"ockIn"},"","","","",{"$f":"_xlfn.IFS(N179<制限値幅取得!I174,\"S安付近\",N179>制限値幅取得!H174,\"S高付近\",制限値幅取得!H174>N179>制限値幅取得!I174,\"\")","v":{"$error":"#VALUE!"}}]
[171,null,null,null,null,null,null,null,null,null,"","",null,{"$f":"IF(C180=0,\"wait\",_xll.SNT.StockInst(C180,$N$9))","v":"wait"},{"$f":"N180-制限値幅取得!E175","v":{"$error":"#VALUE!"}},{"$f":"IF(C180=0,\"wait\",_xll.SNT.StockInst(C180,$P$9))","v":"wait"},{"$f":"IF(C180=0,\"\",_xll.SNT.StockInst(C180,\"高値時刻\"))","v":""},{"$f":"MID(_xll.SNT.StockInst($C180,\"高値時刻\"),12,5)","v":"ockIn"},{"$f":"IF(C180=0,\"wait\",_xll.SNT.StockInst(C180,$S$9))","v":"wait"},{"$f":"IF($C180=0,\"\",_xll.SNT.StockInst($C180,\"安値時刻\"))","v":""},{"$f":"MID(_xll.SNT.StockInst($C180,\"安値時刻\"),12,5)","v":"ockIn"},"","","","",{"$f":"_xlfn.IFS(N180<制限値幅取得!I175,\"S安付近\",N180>制限値幅取得!H175,\"S高付近\",制限値幅取得!H175>N180>制限値幅取得!I175,\"\")","v":{"$error":"#VALUE!"}}]
[172,null,null,null,null,null,null,null,null,null,"","",null,{"$f":"IF(C181=0,\"wait\",_xll.SNT.StockInst(C181,$N$9))","v":"wait"},{"$f":"N181-制限値幅取得!E176","v":{"$error":"#VALUE!"}},{"$f":"IF(C181=0,\"wait\",_xll.SNT.StockInst(C181,$P$9))","v":"wait"},{"$f":"IF(C181=0,\"\",_xll.SNT.StockInst(C181,\"高値時刻\"))","v":""},{"$f":"MID(_xll.SNT.StockInst($C181,\"高値時刻\"),12,5)","v":"ockIn"},{"$f":"IF(C181=0,\"wait\",_xll.SNT.StockInst(C181,$S$9))","v":"wait"},{"$f":"IF($C181=0,\"\",_xll.SNT.StockInst($C181,\"安値時刻\"))","v":""},{"$f":"MID(_xll.SNT.StockInst($C181,\"安値時刻\"),12,5)","v":"ockIn"},"","","","",{"$f":"_xlfn.IFS(N181<制限値幅取得!I176,\"S安付近\",N181>制限値幅取得!H176,\"S高付近\",制限値幅取得!H176>N181>制限値幅取得!I176,\"\")","v":{"$error":"#VALUE!"}}]
[173,null,null,null,null,null,null,null,null,null,"","",null,{"$f":"IF(C182=0,\"wait\",_xll.SNT.StockInst(C182,$N$9))","v":"wait"},{"$f":"N182-制限値幅取得!E177","v":{"$error":"#VALUE!"}},{"$f":"IF(C182=0,\"wait\",_xll.SNT.StockInst(C182,$P$9))","v":"wait"},{"$f":"IF(C182=0,\"\",_xll.SNT.StockInst(C182,\"高値時刻\"))","v":""},{"$f":"MID(_xll.SNT.StockInst($C182,\"高値時刻\"),12,5)","v":"ockIn"},{"$f":"IF(C182=0,\"wait\",_xll.SNT.StockInst(C182,$S$9))","v":"wait"},{"$f":"IF($C182=0,\"\",_xll.SNT.StockInst($C182,\"安値時刻\"))","v":""},{"$f":"MID(_xll.SNT.StockInst($C182,\"安値時刻\"),12,5)","v":"ockIn"},"","","","",{"$f":"_xlfn.IFS(N182<制限値幅取得!I177,\"S安付近\",N182>制限値幅取得!H177,\"S高付近\",制限値幅取得!H177>N182>制限値幅取得!I177,\"\")","v":{"$error":"#VALUE!"}}]
[174,null,null,null,null,null,null,null,null,null,"","",null,{"$f":"IF(C183=0,\"wait\",_xll.SNT.StockInst(C183,$N$9))","v":"wait"},{"$f":"N183-制限値幅取得!E178","v":{"$error":"#VALUE!"}},{"$f":"IF(C183=0,\"wait\",_xll.SNT.StockInst(C183,$P$9))","v":"wait"},{"$f":"IF(C183=0,\"\",_xll.SNT.StockInst(C183,\"高値時刻\"))","v":""},{"$f":"MID(_xll.SNT.StockInst($C183,\"高値時刻\"),12,5)","v":"ockIn"},{"$f":"IF(C183=0,\"wait\",_xll.SNT.StockInst(C183,$S$9))","v":"wait"},{"$f":"IF($C183=0,\"\",_xll.SNT.StockInst($C183,\"安値時刻\"))","v":""},{"$f":"MID(_xll.SNT.StockInst($C183,\"安値時刻\"),12,5)","v":"ockIn"},"","","","",{"$f":"_xlfn.IFS(N183<制限値幅取得!I178,\"S安付近\",N183>制限値幅取得!H178,\"S高付近\",制限値幅取得!H178>N183>制限値幅取得!I178,\"\")","v":{"$error":"#VALUE!"}}]
[175,null,null,null,null,null,null,null,null,null,"","",null,{"$f":"IF(C184=0,\"wait\",_xll.SNT.StockInst(C184,$N$9))","v":"wait"},{"$f":"N184-制限値幅取得!E179","v":{"$error":"#VALUE!"}},{"$f":"IF(C184=0,\"wait\",_xll.SNT.StockInst(C184,$P$9))","v":"wait"},{"$f":"IF(C184=0,\"\",_xll.SNT.StockInst(C184,\"高値時刻\"))","v":""},{"$f":"MID(_xll.SNT.StockInst($C184,\"高値時刻\"),12,5)","v":"ockIn"},{"$f":"IF(C184=0,\"wait\",_xll.SNT.StockInst(C184,$S$9))","v":"wait"},{"$f":"IF($C184=0,\"\",_xll.SNT.StockInst($C184,\"安値時刻\"))","v":""},{"$f":"MID(_xll.SNT.StockInst($C184,\"安値時刻\"),12,5)","v":"ockIn"},"","","","",{"$f":"_xlfn.IFS(N184<制限値幅取得!I179,\"S安付近\",N184>制限値幅取得!H179,\"S高付近\",制限値幅取得!H179>N184>制限値幅取得!I179,\"\")","v":{"$error":"#VALUE!"}}]
[176,null,null,null,null,null,null,null,null,null,"","",null,{"$f":"IF(C185=0,\"wait\",_xll.SNT.StockInst(C185,$N$9))","v":"wait"},{"$f":"N185-制限値幅取得!E180","v":{"$error":"#VALUE!"}},{"$f":"IF(C185=0,\"wait\",_xll.SNT.StockInst(C185,$P$9))","v":"wait"},{"$f":"IF(C185=0,\"\",_xll.SNT.StockInst(C185,\"高値時刻\"))","v":""},{"$f":"MID(_xll.SNT.StockInst($C185,\"高値時刻\"),12,5)","v":"ockIn"},{"$f":"IF(C185=0,\"wait\",_xll.SNT.StockInst(C185,$S$9))","v":"wait"},{"$f":"IF($C185=0,\"\",_xll.SNT.StockInst($C185,\"安値時刻\"))","v":""},{"$f":"MID(_xll.SNT.StockInst($C185,\"安値時刻\"),12,5)","v":"ockIn"},"","","","",{"$f":"_xlfn.IFS(N185<制限値幅取得!I180,\"S安付近\",N185>制限値幅取得!H180,\"S高付近\",制限値幅取得!H180>N185>制限値幅取得!I180,\"\")","v":{"$error":"#VALUE!"}}]
[177,null,null,null,null,null,null,null,null,null,"","",null,{"$f":"IF(C186=0,\"wait\",_xll.SNT.StockInst(C186,$N$9))","v":"wait"},{"$f":"N186-制限値幅取得!E181","v":{"$error":"#VALUE!"}},{"$f":"IF(C186=0,\"wait\",_xll.SNT.StockInst(C186,$P$9))","v":"wait"},{"$f":"IF(C186=0,\"\",_xll.SNT.StockInst(C186,\"高値時刻\"))","v":""},{"$f":"MID(_xll.SNT.StockInst($C186,\"高値時刻\"),12,5)","v":"ockIn"},{"$f":"IF(C186=0,\"wait\",_xll.SNT.StockInst(C186,$S$9))","v":"wait"},{"$f":"IF($C186=0,\"\",_xll.SNT.StockInst($C186,\"安値時刻\"))","v":""},{"$f":"MID(_xll.SNT.StockInst($C186,\"安値時刻\"),12,5)","v":"ockIn"},"","","","",{"$f":"_xlfn.IFS(N186<制限値幅取得!I181,\"S安付近\",N186>制限値幅取得!H181,\"S高付近\",制限値幅取得!H181>N186>制限値幅取得!I181,\"\")","v":{"$error":"#VALUE!"}}]
[178,null,null,null,null,null,null,null,null,null,"","",null,{"$f":"IF(C187=0,\"wait\",_xll.SNT.StockInst(C187,$N$9))","v":"wait"},{"$f":"N187-制限値幅取得!E182","v":{"$error":"#VALUE!"}},{"$f":"IF(C187=0,\"wait\",_xll.SNT.StockInst(C187,$P$9))","v":"wait"},{"$f":"IF(C187=0,\"\",_xll.SNT.StockInst(C187,\"高値時刻\"))","v":""},{"$f":"MID(_xll.SNT.StockInst($C187,\"高値時刻\"),12,5)","v":"ockIn"},{"$f":"IF(C187=0,\"wait\",_xll.SNT.StockInst(C187,$S$9))","v":"wait"},{"$f":"IF($C187=0,\"\",_xll.SNT.StockInst($C187,\"安値時刻\"))","v":""},{"$f":"MID(_xll.SNT.StockInst($C187,\"安値時刻\"),12,5)","v":"ockIn"},"","","","",{"$f":"_xlfn.IFS(N187<制限値幅取得!I182,\"S安付近\",N187>制限値幅取得!H182,\"S高付近\",制限値幅取得!H182>N187>制限値幅取得!I182,\"\")","v":{"$error":"#VALUE!"}}]
[179,null,null,null,null,null,null,null,null,null,"","",null,{"$f":"IF(C188=0,\"wait\",_xll.SNT.StockInst(C188,$N$9))","v":"wait"},{"$f":"N188-制限値幅取得!E183","v":{"$error":"#VALUE!"}},{"$f":"IF(C188=0,\"wait\",_xll.SNT.StockInst(C188,$P$9))","v":"wait"},{"$f":"IF(C188=0,\"\",_xll.SNT.StockInst(C188,\"高値時刻\"))","v":""},{"$f":"MID(_xll.SNT.StockInst($C188,\"高値時刻\"),12,5)","v":"ockIn"},{"$f":"IF(C188=0,\"wait\",_xll.SNT.StockInst(C188,$S$9))","v":"wait"},{"$f":"IF($C188=0,\"\",_xll.SNT.StockInst($C188,\"安値時刻\"))","v":""},{"$f":"MID(_xll.SNT.StockInst($C188,\"安値時刻\"),12,5)","v":"ockIn"},"","","","",{"$f":"_xlfn.IFS(N188<制限値幅取得!I183,\"S安付近\",N188>制限値幅取得!H183,\"S高付近\",制限値幅取得!H183>N188>制限値幅取得!I183,\"\")","v":{"$error":"#VALUE!"}}]
[180,null,null,null,null,null,null,null,null,null,"","",null,{"$f":"IF(C189=0,\"wait\",_xll.SNT.StockInst(C189,$N$9))","v":"wait"},{"$f":"N189-制限値幅取得!E184","v":{"$error":"#VALUE!"}},{"$f":"IF(C189=0,\"wait\",_xll.SNT.StockInst(C189,$P$9))","v":"wait"},{"$f":"IF(C189=0,\"\",_xll.SNT.StockInst(C189,\"高値時刻\"))","v":""},{"$f":"MID(_xll.SNT.StockInst($C189,\"高値時刻\"),12,5)","v":"ockIn"},{"$f":"IF(C189=0,\"wait\",_xll.SNT.StockInst(C189,$S$9))","v":"wait"},{"$f":"IF($C189=0,\"\",_xll.SNT.StockInst($C189,\"安値時刻\"))","v":""},{"$f":"MID(_xll.SNT.StockInst($C189,\"安値時刻\"),12,5)","v":"ockIn"},"","","","",{"$f":"_xlfn.IFS(N189<制限値幅取得!I184,\"S安付近\",N189>制限値幅取得!H184,\"S高付近\",制限値幅取得!H184>N189>制限値幅取得!I184,\"\")","v":{"$error":"#VALUE!"}}]
[181,null,null,null,null,null,null,null,null,null,"","",null,{"$f":"IF(C190=0,\"wait\",_xll.SNT.StockInst(C190,$N$9))","v":"wait"},{"$f":"N190-制限値幅取得!E185","v":{"$error":"#VALUE!"}},{"$f":"IF(C190=0,\"wait\",_xll.SNT.StockInst(C190,$P$9))","v":"wait"},{"$f":"IF(C190=0,\"\",_xll.SNT.StockInst(C190,\"高値時刻\"))","v":""},{"$f":"MID(_xll.SNT.StockInst($C190,\"高値時刻\"),12,5)","v":"ockIn"},{"$f":"IF(C190=0,\"wait\",_xll.SNT.StockInst(C190,$S$9))","v":"wait"},{"$f":"IF($C190=0,\"\",_xll.SNT.StockInst($C190,\"安値時刻\"))","v":""},{"$f":"MID(_xll.SNT.StockInst($C190,\"安値時刻\"),12,5)","v":"ockIn"},"","","","",{"$f":"_xlfn.IFS(N190<制限値幅取得!I185,\"S安付近\",N190>制限値幅取得!H185,\"S高付近\",制限値幅取得!H185>N190>制限値幅取得!I185,\"\")","v":{"$error":"#VALUE!"}}]
[182,null,null,null,null,null,null,null,null,null,"","",null,{"$f":"IF(C191=0,\"wait\",_xll.SNT.StockInst(C191,$N$9))","v":"wait"},{"$f":"N191-制限値幅取得!E186","v":{"$error":"#VALUE!"}},{"$f":"IF(C191=0,\"wait\",_xll.SNT.StockInst(C191,$P$9))","v":"wait"},{"$f":"IF(C191=0,\"\",_xll.SNT.StockInst(C191,\"高値時刻\"))","v":""},{"$f":"MID(_xll.SNT.StockInst($C191,\"高値時刻\"),12,5)","v":"ockIn"},{"$f":"IF(C191=0,\"wait\",_xll.SNT.StockInst(C191,$S$9))","v":"wait"},{"$f":"IF($C191=0,\"\",_xll.SNT.StockInst($C191,\"安値時刻\"))","v":""},{"$f":"MID(_xll.SNT.StockInst($C191,\"安値時刻\"),12,5)","v":"ockIn"},"","","","",{"$f":"_xlfn.IFS(N191<制限値幅取得!I186,\"S安付近\",N191>制限値幅取得!H186,\"S高付近\",制限値幅取得!H186>N191>制限値幅取得!I186,\"\")","v":{"$error":"#VALUE!"}}]
[183,null,null,null,null,null,null,null,null,null,"","",null,{"$f":"IF(C192=0,\"wait\",_xll.SNT.StockInst(C192,$N$9))","v":"wait"},{"$f":"N192-制限値幅取得!E187","v":{"$error":"#VALUE!"}},{"$f":"IF(C192=0,\"wait\",_xll.SNT.StockInst(C192,$P$9))","v":"wait"},{"$f":"IF(C192=0,\"\",_xll.SNT.StockInst(C192,\"高値時刻\"))","v":""},{"$f":"MID(_xll.SNT.StockInst($C192,\"高値時刻\"),12,5)","v":"ockIn"},{"$f":"IF(C192=0,\"wait\",_xll.SNT.StockInst(C192,$S$9))","v":"wait"},{"$f":"IF($C192=0,\"\",_xll.SNT.StockInst($C192,\"安値時刻\"))","v":""},{"$f":"MID(_xll.SNT.StockInst($C192,\"安値時刻\"),12,5)","v":"ockIn"},"","","","",{"$f":"_xlfn.IFS(N192<制限値幅取得!I187,\"S安付近\",N192>制限値幅取得!H187,\"S高付近\",制限値幅取得!H187>N192>制限値幅取得!I187,\"\")","v":{"$error":"#VALUE!"}}]
[184,null,null,null,null,null,null,null,null,null,"","",null,{"$f":"IF(C193=0,\"wait\",_xll.SNT.StockInst(C193,$N$9))","v":"wait"},{"$f":"N193-制限値幅取得!E188","v":{"$error":"#VALUE!"}},{"$f":"IF(C193=0,\"wait\",_xll.SNT.StockInst(C193,$P$9))","v":"wait"},{"$f":"IF(C193=0,\"\",_xll.SNT.StockInst(C193,\"高値時刻\"))","v":""},{"$f":"MID(_xll.SNT.StockInst($C193,\"高値時刻\"),12,5)","v":"ockIn"},{"$f":"IF(C193=0,\"wait\",_xll.SNT.StockInst(C193,$S$9))","v":"wait"},{"$f":"IF($C193=0,\"\",_xll.SNT.StockInst($C193,\"安値時刻\"))","v":""},{"$f":"MID(_xll.SNT.StockInst($C193,\"安値時刻\"),12,5)","v":"ockIn"},"","","","",{"$f":"_xlfn.IFS(N193<制限値幅取得!I188,\"S安付近\",N193>制限値幅取得!H188,\"S高付近\",制限値幅取得!H188>N193>制限値幅取得!I188,\"\")","v":{"$error":"#VALUE!"}}]
[185,null,null,null,null,null,null,null,null,null,"","",null,{"$f":"IF(C194=0,\"wait\",_xll.SNT.StockInst(C194,$N$9))","v":"wait"},{"$f":"N194-制限値幅取得!E189","v":{"$error":"#VALUE!"}},{"$f":"IF(C194=0,\"wait\",_xll.SNT.StockInst(C194,$P$9))","v":"wait"},{"$f":"IF(C194=0,\"\",_xll.SNT.StockInst(C194,\"高値時刻\"))","v":""},{"$f":"MID(_xll.SNT.StockInst($C194,\"高値時刻\"),12,5)","v":"ockIn"},{"$f":"IF(C194=0,\"wait\",_xll.SNT.StockInst(C194,$S$9))","v":"wait"},{"$f":"IF($C194=0,\"\",_xll.SNT.StockInst($C194,\"安値時刻\"))","v":""},{"$f":"MID(_xll.SNT.StockInst($C194,\"安値時刻\"),12,5)","v":"ockIn"},"","","","",{"$f":"_xlfn.IFS(N194<制限値幅取得!I189,\"S安付近\",N194>制限値幅取得!H189,\"S高付近\",制限値幅取得!H189>N194>制限値幅取得!I189,\"\")","v":{"$error":"#VALUE!"}}]
[186,null,null,null,null,null,null,null,null,null,"","",null,{"$f":"IF(C195=0,\"wait\",_xll.SNT.StockInst(C195,$N$9))","v":"wait"},{"$f":"N195-制限値幅取得!E190","v":{"$error":"#VALUE!"}},{"$f":"IF(C195=0,\"wait\",_xll.SNT.StockInst(C195,$P$9))","v":"wait"},{"$f":"IF(C195=0,\"\",_xll.SNT.StockInst(C195,\"高値時刻\"))","v":""},{"$f":"MID(_xll.SNT.StockInst($C195,\"高値時刻\"),12,5)","v":"ockIn"},{"$f":"IF(C195=0,\"wait\",_xll.SNT.StockInst(C195,$S$9))","v":"wait"},{"$f":"IF($C195=0,\"\",_xll.SNT.StockInst($C195,\"安値時刻\"))","v":""},{"$f":"MID(_xll.SNT.StockInst($C195,\"安値時刻\"),12,5)","v":"ockIn"},"","","","",{"$f":"_xlfn.IFS(N195<制限値幅取得!I190,\"S安付近\",N195>制限値幅取得!H190,\"S高付近\",制限値幅取得!H190>N195>制限値幅取得!I190,\"\")","v":{"$error":"#VALUE!"}}]
[187,null,null,null,null,null,null,null,null,null,"","",null,{"$f":"IF(C196=0,\"wait\",_xll.SNT.StockInst(C196,$N$9))","v":"wait"},{"$f":"N196-制限値幅取得!E191","v":{"$error":"#VALUE!"}},{"$f":"IF(C196=0,\"wait\",_xll.SNT.StockInst(C196,$P$9))","v":"wait"},{"$f":"IF(C196=0,\"\",_xll.SNT.StockInst(C196,\"高値時刻\"))","v":""},{"$f":"MID(_xll.SNT.StockInst($C196,\"高値時刻\"),12,5)","v":"ockIn"},{"$f":"IF(C196=0,\"wait\",_xll.SNT.StockInst(C196,$S$9))","v":"wait"},{"$f":"IF($C196=0,\"\",_xll.SNT.StockInst($C196,\"安値時刻\"))","v":""},{"$f":"MID(_xll.SNT.StockInst($C196,\"安値時刻\"),12,5)","v":"ockIn"},"","","","",{"$f":"_xlfn.IFS(N196<制限値幅取得!I191,\"S安付近\",N196>制限値幅取得!H191,\"S高付近\",制限値幅取得!H191>N196>制限値幅取得!I191,\"\")","v":{"$error":"#VALUE!"}}]
[188,null,null,null,null,null,null,null,null,null,"","",null,{"$f":"IF(C197=0,\"wait\",_xll.SNT.StockInst(C197,$N$9))","v":"wait"},{"$f":"N197-制限値幅取得!E192","v":{"$error":"#VALUE!"}},{"$f":"IF(C197=0,\"wait\",_xll.SNT.StockInst(C197,$P$9))","v":"wait"},{"$f":"IF(C197=0,\"\",_xll.SNT.StockInst(C197,\"高値時刻\"))","v":""},{"$f":"MID(_xll.SNT.StockInst($C197,\"高値時刻\"),12,5)","v":"ockIn"},{"$f":"IF(C197=0,\"wait\",_xll.SNT.StockInst(C197,$S$9))","v":"wait"},{"$f":"IF($C197=0,\"\",_xll.SNT.StockInst($C197,\"安値時刻\"))","v":""},{"$f":"MID(_xll.SNT.StockInst($C197,\"安値時刻\"),12,5)","v":"ockIn"},"","","","",{"$f":"_xlfn.IFS(N197<制限値幅取得!I192,\"S安付近\",N197>制限値幅取得!H192,\"S高付近\",制限値幅取得!H192>N197>制限値幅取得!I192,\"\")","v":{"$error":"#VALUE!"}}]
[189,null,null,null,null,null,null,null,null,null,"","",null,{"$f":"IF(C198=0,\"wait\",_xll.SNT.StockInst(C198,$N$9))","v":"wait"},{"$f":"N198-制限値幅取得!E193","v":{"$error":"#VALUE!"}},{"$f":"IF(C198=0,\"wait\",_xll.SNT.StockInst(C198,$P$9))","v":"wait"},{"$f":"IF(C198=0,\"\",_xll.SNT.StockInst(C198,\"高値時刻\"))","v":""},{"$f":"MID(_xll.SNT.StockInst($C198,\"高値時刻\"),12,5)","v":"ockIn"},{"$f":"IF(C198=0,\"wait\",_xll.SNT.StockInst(C198,$S$9))","v":"wait"},{"$f":"IF($C198=0,\"\",_xll.SNT.StockInst($C198,\"安値時刻\"))","v":""},{"$f":"MID(_xll.SNT.StockInst($C198,\"安値時刻\"),12,5)","v":"ockIn"},"","","","",{"$f":"_xlfn.IFS(N198<制限値幅取得!I193,\"S安付近\",N198>制限値幅取得!H193,\"S高付近\",制限値幅取得!H193>N198>制限値幅取得!I193,\"\")","v":{"$error":"#VALUE!"}}]
[190,null,null,null,null,null,null,null,null,null,"","",null,{"$f":"IF(C199=0,\"wait\",_xll.SNT.StockInst(C199,$N$9))","v":"wait"},{"$f":"N199-制限値幅取得!E194","v":{"$error":"#VALUE!"}},{"$f":"IF(C199=0,\"wait\",_xll.SNT.StockInst(C199,$P$9))","v":"wait"},{"$f":"IF(C199=0,\"\",_xll.SNT.StockInst(C199,\"高値時刻\"))","v":""},{"$f":"MID(_xll.SNT.StockInst($C199,\"高値時刻\"),12,5)","v":"ockIn"},{"$f":"IF(C199=0,\"wait\",_xll.SNT.StockInst(C199,$S$9))","v":"wait"},{"$f":"IF($C199=0,\"\",_xll.SNT.StockInst($C199,\"安値時刻\"))","v":""},{"$f":"MID(_xll.SNT.StockInst($C199,\"安値時刻\"),12,5)","v":"ockIn"},"","","","",{"$f":"_xlfn.IFS(N199<制限値幅取得!I194,\"S安付近\",N199>制限値幅取得!H194,\"S高付近\",制限値幅取得!H194>N199>制限値幅取得!I194,\"\")","v":{"$error":"#VALUE!"}}]
[191,null,null,null,null,null,null,null,null,null,"","",null,{"$f":"IF(C200=0,\"wait\",_xll.SNT.StockInst(C200,$N$9))","v":"wait"},{"$f":"N200-制限値幅取得!E195","v":{"$error":"#VALUE!"}},{"$f":"IF(C200=0,\"wait\",_xll.SNT.StockInst(C200,$P$9))","v":"wait"},{"$f":"IF(C200=0,\"\",_xll.SNT.StockInst(C200,\"高値時刻\"))","v":""},{"$f":"MID(_xll.SNT.StockInst($C200,\"高値時刻\"),12,5)","v":"ockIn"},{"$f":"IF(C200=0,\"wait\",_xll.SNT.StockInst(C200,$S$9))","v":"wait"},{"$f":"IF($C200=0,\"\",_xll.SNT.StockInst($C200,\"安値時刻\"))","v":""},{"$f":"MID(_xll.SNT.StockInst($C200,\"安値時刻\"),12,5)","v":"ockIn"},"","","","",{"$f":"_xlfn.IFS(N200<制限値幅取得!I195,\"S安付近\",N200>制限値幅取得!H195,\"S高付近\",制限値幅取得!H195>N200>制限値幅取得!I195,\"\")","v":{"$error":"#VALUE!"}}]
[192,null,null,null,null,null,null,null,null,null,"","",null,{"$f":"IF(C201=0,\"wait\",_xll.SNT.StockInst(C201,$N$9))","v":"wait"},{"$f":"N201-制限値幅取得!E196","v":{"$error":"#VALUE!"}},{"$f":"IF(C201=0,\"wait\",_xll.SNT.StockInst(C201,$P$9))","v":"wait"},{"$f":"IF(C201=0,\"\",_xll.SNT.StockInst(C201,\"高値時刻\"))","v":""},{"$f":"MID(_xll.SNT.StockInst($C201,\"高値時刻\"),12,5)","v":"ockIn"},{"$f":"IF(C201=0,\"wait\",_xll.SNT.StockInst(C201,$S$9))","v":"wait"},{"$f":"IF($C201=0,\"\",_xll.SNT.StockInst($C201,\"安値時刻\"))","v":""},{"$f":"MID(_xll.SNT.StockInst($C201,\"安値時刻\"),12,5)","v":"ockIn"},"","","","",{"$f":"_xlfn.IFS(N201<制限値幅取得!I196,\"S安付近\",N201>制限値幅取得!H196,\"S高付近\",制限値幅取得!H196>N201>制限値幅取得!I196,\"\")","v":{"$error":"#VALUE!"}}]
[193,null,null,null,null,null,null,null,null,null,"","",null,{"$f":"IF(C202=0,\"wait\",_xll.SNT.StockInst(C202,$N$9))","v":"wait"},{"$f":"N202-制限値幅取得!E197","v":{"$error":"#VALUE!"}},{"$f":"IF(C202=0,\"wait\",_xll.SNT.StockInst(C202,$P$9))","v":"wait"},{"$f":"IF(C202=0,\"\",_xll.SNT.StockInst(C202,\"高値時刻\"))","v":""},{"$f":"MID(_xll.SNT.StockInst($C202,\"高値時刻\"),12,5)","v":"ockIn"},{"$f":"IF(C202=0,\"wait\",_xll.SNT.StockInst(C202,$S$9))","v":"wait"},{"$f":"IF($C202=0,\"\",_xll.SNT.StockInst($C202,\"安値時刻\"))","v":""},{"$f":"MID(_xll.SNT.StockInst($C202,\"安値時刻\"),12,5)","v":"ockIn"},{"$f":"IFERROR(IF($Y$2-$Q202<=TIME(0,$X$3,0),\"高値更新\",IF($Y$2-$T202<=TIME(0,$X$3,0),\"安値更新\",\"\")),\"\")","v":""},"","","",{"$f":"_xlfn.IFS(N202<制限値幅取得!I197,\"S安付近\",N202>制限値幅取得!H197,\"S高付近\",制限値幅取得!H197>N202>制限値幅取得!I197,\"\")","v":{"$error":"#VALUE!"}}]
[194,null,null,null,null,null,null,null,null,null,"","",null,{"$f":"IF(C203=0,\"wait\",_xll.SNT.StockInst(C203,$N$9))","v":"wait"},{"$f":"N203-制限値幅取得!E198","v":{"$error":"#VALUE!"}},{"$f":"IF(C203=0,\"wait\",_xll.SNT.StockInst(C203,$P$9))","v":"wait"},{"$f":"IF(C203=0,\"\",_xll.SNT.StockInst(C203,\"高値時刻\"))","v":""},{"$f":"MID(_xll.SNT.StockInst($C203,\"高値時刻\"),12,5)","v":"ockIn"},{"$f":"IF(C203=0,\"wait\",_xll.SNT.StockInst(C203,$S$9))","v":"wait"},{"$f":"IF($C203=0,\"\",_xll.SNT.StockInst($C203,\"安値時刻\"))","v":""},{"$f":"MID(_xll.SNT.StockInst($C203,\"安値時刻\"),12,5)","v":"ockIn"},"",{"$f":"IF(X203=\"\",\"\",IF(F203=\"買建\",IF(N203<X203,\"ﾛｽｶｯﾄ\",\"\"),IF(F203=\"売建\",IF(N203>X203,\"ﾛｽｶｯﾄ\",\"\"),\"\")))","v":""},{"$f":"IFERROR(MROUND(IF(F203=\"買建\",((I203*H203)+Y203)/H203,((I203*H203)-Y203)/H203),$X$5),\"\")","v":""},{"$f":"IF(K203<0,-(H203*I203*$X$4),\"\")","v":""},{"$f":"_xlfn.IFS(N203<制限値幅取得!I198,\"S安付近\",N203>制限値幅取得!H198,\"S高付近\",制限値幅取得!H198>N203>制限値幅取得!I198,\"\")","v":{"$error":"#VALUE!"}}]
[195,null,null,null,null,null,null,null,null,null,"","",null,{"$f":"IF(C204=0,\"wait\",_xll.SNT.StockInst(C204,$N$9))","v":"wait"},{"$f":"N204-制限値幅取得!E199","v":{"$error":"#VALUE!"}},{"$f":"IF(C204=0,\"wait\",_xll.SNT.StockInst(C204,$P$9))","v":"wait"},{"$f":"IF(C204=0,\"\",_xll.SNT.StockInst(C204,\"高値時刻\"))","v":""},{"$f":"MID(_xll.SNT.StockInst($C204,\"高値時刻\"),12,5)","v":"ockIn"},{"$f":"IF(C204=0,\"wait\",_xll.SNT.StockInst(C204,$S$9))","v":"wait"},{"$f":"IF($C204=0,\"\",_xll.SNT.StockInst($C204,\"安値時刻\"))","v":""},{"$f":"MID(_xll.SNT.StockInst($C204,\"安値時刻\"),12,5)","v":"ockIn"},"","","","",{"$f":"_xlfn.IFS(N204<制限値幅取得!I199,\"S安付近\",N204>制限値幅取得!H199,\"S高付近\",制限値幅取得!H199>N204>制限値幅取得!I199,\"\")","v":{"$error":"#VALUE!"}}]
[196,null,null,null,null,null,null,null,null,null,"","",null,{"$f":"IF(C205=0,\"wait\",_xll.SNT.StockInst(C205,$N$9))","v":"wait"},{"$f":"N205-制限値幅取得!E200","v":{"$error":"#VALUE!"}},{"$f":"IF(C205=0,\"wait\",_xll.SNT.StockInst(C205,$P$9))","v":"wait"},{"$f":"IF(C205=0,\"\",_xll.SNT.StockInst(C205,\"高値時刻\"))","v":""},{"$f":"MID(_xll.SNT.StockInst($C205,\"高値時刻\"),12,5)","v":"ockIn"},{"$f":"IF(C205=0,\"wait\",_xll.SNT.StockInst(C205,$S$9))","v":"wait"},{"$f":"IF($C205=0,\"\",_xll.SNT.StockInst($C205,\"安値時刻\"))","v":""},{"$f":"MID(_xll.SNT.StockInst($C205,\"安値時刻\"),12,5)","v":"ockIn"},"","","","",{"$f":"_xlfn.IFS(N205<制限値幅取得!I200,\"S安付近\",N205>制限値幅取得!H200,\"S高付近\",制限値幅取得!H200>N205>制限値幅取得!I200,\"\")","v":{"$error":"#VALUE!"}}]
[197,null,null,null,null,null,null,null,null,null,"","",null,{"$f":"IF(C206=0,\"wait\",_xll.SNT.StockInst(C206,$N$9))","v":"wait"},{"$f":"N206-制限値幅取得!E201","v":{"$error":"#VALUE!"}},{"$f":"IF(C206=0,\"wait\",_xll.SNT.StockInst(C206,$P$9))","v":"wait"},{"$f":"IF(C206=0,\"\",_xll.SNT.StockInst(C206,\"高値時刻\"))","v":""},{"$f":"MID(_xll.SNT.StockInst($C206,\"高値時刻\"),12,5)","v":"ockIn"},{"$f":"IF(C206=0,\"wait\",_xll.SNT.StockInst(C206,$S$9))","v":"wait"},{"$f":"IF($C206=0,\"\",_xll.SNT.StockInst($C206,\"安値時刻\"))","v":""},{"$f":"MID(_xll.SNT.StockInst($C206,\"安値時刻\"),12,5)","v":"ockIn"},"","","","",{"$f":"_xlfn.IFS(N206<制限値幅取得!I201,\"S安付近\",N206>制限値幅取得!H201,\"S高付近\",制限値幅取得!H201>N206>制限値幅取得!I201,\"\")","v":{"$error":"#VALUE!"}}]
[198,null,null,null,null,null,null,null,null,null,"","",null,{"$f":"IF(C207=0,\"wait\",_xll.SNT.StockInst(C207,$N$9))","v":"wait"},{"$f":"N207-制限値幅取得!E202","v":{"$error":"#VALUE!"}},{"$f":"IF(C207=0,\"wait\",_xll.SNT.StockInst(C207,$P$9))","v":"wait"},{"$f":"IF(C207=0,\"\",_xll.SNT.StockInst(C207,\"高値時刻\"))","v":""},{"$f":"MID(_xll.SNT.StockInst($C207,\"高値時刻\"),12,5)","v":"ockIn"},{"$f":"IF(C207=0,\"wait\",_xll.SNT.StockInst(C207,$S$9))","v":"wait"},{"$f":"IF($C207=0,\"\",_xll.SNT.StockInst($C207,\"安値時刻\"))","v":""},{"$f":"MID(_xll.SNT.StockInst($C207,\"安値時刻\"),12,5)","v":"ockIn"},"","","","",{"$f":"_xlfn.IFS(N207<制限値幅取得!I202,\"S安付近\",N207>制限値幅取得!H202,\"S高付近\",制限値幅取得!H202>N207>制限値幅取得!I202,\"\")","v":{"$error":"#VALUE!"}}]
[199,null,null,null,null,null,null,null,null,null,"","",null,{"$f":"IF(C208=0,\"wait\",_xll.SNT.StockInst(C208,$N$9))","v":"wait"},{"$f":"N208-制限値幅取得!E203","v":{"$error":"#VALUE!"}},{"$f":"IF(C208=0,\"wait\",_xll.SNT.StockInst(C208,$P$9))","v":"wait"},{"$f":"IF(C208=0,\"\",_xll.SNT.StockInst(C208,\"高値時刻\"))","v":""},{"$f":"MID(_xll.SNT.StockInst($C208,\"高値時刻\"),12,5)","v":"ockIn"},{"$f":"IF(C208=0,\"wait\",_xll.SNT.StockInst(C208,$S$9))","v":"wait"},{"$f":"IF($C208=0,\"\",_xll.SNT.StockInst($C208,\"安値時刻\"))","v":""},{"$f":"MID(_xll.SNT.StockInst($C208,\"安値時刻\"),12,5)","v":"ockIn"},"","","","",{"$f":"_xlfn.IFS(N208<制限値幅取得!I203,\"S安付近\",N208>制限値幅取得!H203,\"S高付近\",制限値幅取得!H203>N208>制限値幅取得!I203,\"\")","v":{"$error":"#VALUE!"}}]
[200,null,null,null,null,null,null,null,null,null,"","",null,{"$f":"IF(C209=0,\"wait\",_xll.SNT.StockInst(C209,$N$9))","v":"wait"},{"$f":"N209-制限値幅取得!E204","v":{"$error":"#VALUE!"}},{"$f":"IF(C209=0,\"wait\",_xll.SNT.StockInst(C209,$P$9))","v":"wait"},{"$f":"IF(C209=0,\"\",_xll.SNT.StockInst(C209,\"高値時刻\"))","v":""},{"$f":"MID(_xll.SNT.StockInst($C209,\"高値時刻\"),12,5)","v":"ockIn"},{"$f":"IF(C209=0,\"wait\",_xll.SNT.StockInst(C209,$S$9))","v":"wait"},{"$f":"IF($C209=0,\"\",_xll.SNT.StockInst($C209,\"安値時刻\"))","v":""},{"$f":"MID(_xll.SNT.StockInst($C209,\"安値時刻\"),12,5)","v":"ockIn"},"","","","",{"$f":"_xlfn.IFS(N209<制限値幅取得!I204,\"S安付近\",N209>制限値幅取得!H204,\"S高付近\",制限値幅取得!H204>N209>制限値幅取得!I204,\"\")","v":{"$error":"#VALUE!"}}]
[201,null,null,null,null,null,null,null,null,null,"","",null,{"$f":"IF(C210=0,\"wait\",_xll.SNT.StockInst(C210,$N$9))","v":"wait"},{"$f":"N210-制限値幅取得!E205","v":{"$error":"#VALUE!"}},{"$f":"IF(C210=0,\"wait\",_xll.SNT.StockInst(C210,$P$9))","v":"wait"},{"$f":"IF(C210=0,\"\",_xll.SNT.StockInst(C210,\"高値時刻\"))","v":""},{"$f":"MID(_xll.SNT.StockInst($C210,\"高値時刻\"),12,5)","v":"ockIn"},{"$f":"IF(C210=0,\"wait\",_xll.SNT.StockInst(C210,$S$9))","v":"wait"},{"$f":"IF($C210=0,\"\",_xll.SNT.StockInst($C210,\"安値時刻\"))","v":""},{"$f":"MID(_xll.SNT.StockInst($C210,\"安値時刻\"),12,5)","v":"ockIn"},"","","","",{"$f":"_xlfn.IFS(N210<制限値幅取得!I205,\"S安付近\",N210>制限値幅取得!H205,\"S高付近\",制限値幅取得!H205>N210>制限値幅取得!I205,\"\")","v":{"$error":"#VALUE!"}}]
[202,null,null,null,null,null,null,null,null,null,"","",null,{"$f":"IF(C211=0,\"wait\",_xll.SNT.StockInst(C211,$N$9))","v":"wait"},{"$f":"N211-制限値幅取得!E206","v":{"$error":"#VALUE!"}},{"$f":"IF(C211=0,\"wait\",_xll.SNT.StockInst(C211,$P$9))","v":"wait"},{"$f":"IF(C211=0,\"\",_xll.SNT.StockInst(C211,\"高値時刻\"))","v":""},{"$f":"MID(_xll.SNT.StockInst($C211,\"高値時刻\"),12,5)","v":"ockIn"},{"$f":"IF(C211=0,\"wait\",_xll.SNT.StockInst(C211,$S$9))","v":"wait"},{"$f":"IF($C211=0,\"\",_xll.SNT.StockInst($C211,\"安値時刻\"))","v":""},{"$f":"MID(_xll.SNT.StockInst($C211,\"安値時刻\"),12,5)","v":"ockIn"},"","","","",{"$f":"_xlfn.IFS(N211<制限値幅取得!I206,\"S安付近\",N211>制限値幅取得!H206,\"S高付近\",制限値幅取得!H206>N211>制限値幅取得!I206,\"\")","v":{"$error":"#VALUE!"}}]
[203,null,null,null,null,null,null,null,null,null,"","",null,{"$f":"IF(C212=0,\"wait\",_xll.SNT.StockInst(C212,$N$9))","v":"wait"},{"$f":"N212-制限値幅取得!E207","v":{"$error":"#VALUE!"}},{"$f":"IF(C212=0,\"wait\",_xll.SNT.StockInst(C212,$P$9))","v":"wait"},{"$f":"IF(C212=0,\"\",_xll.SNT.StockInst(C212,\"高値時刻\"))","v":""},{"$f":"MID(_xll.SNT.StockInst($C212,\"高値時刻\"),12,5)","v":"ockIn"},{"$f":"IF(C212=0,\"wait\",_xll.SNT.StockInst(C212,$S$9))","v":"wait"},{"$f":"IF($C212=0,\"\",_xll.SNT.StockInst($C212,\"安値時刻\"))","v":""},{"$f":"MID(_xll.SNT.StockInst($C212,\"安値時刻\"),12,5)","v":"ockIn"},"","","","",{"$f":"_xlfn.IFS(N212<制限値幅取得!I207,\"S安付近\",N212>制限値幅取得!H207,\"S高付近\",制限値幅取得!H207>N212>制限値幅取得!I207,\"\")","v":{"$error":"#VALUE!"}}]
[204,null,null,null,null,null,null,null,null,null,"","",null,{"$f":"IF(C213=0,\"wait\",_xll.SNT.StockInst(C213,$N$9))","v":"wait"},{"$f":"N213-制限値幅取得!E208","v":{"$error":"#VALUE!"}},{"$f":"IF(C213=0,\"wait\",_xll.SNT.StockInst(C213,$P$9))","v":"wait"},{"$f":"IF(C213=0,\"\",_xll.SNT.StockInst(C213,\"高値時刻\"))","v":""},{"$f":"MID(_xll.SNT.StockInst($C213,\"高値時刻\"),12,5)","v":"ockIn"},{"$f":"IF(C213=0,\"wait\",_xll.SNT.StockInst(C213,$S$9))","v":"wait"},{"$f":"IF($C213=0,\"\",_xll.SNT.StockInst($C213,\"安値時刻\"))","v":""},{"$f":"MID(_xll.SNT.StockInst($C213,\"安値時刻\"),12,5)","v":"ockIn"},"","","","",{"$f":"_xlfn.IFS(N213<制限値幅取得!I208,\"S安付近\",N213>制限値幅取得!H208,\"S高付近\",制限値幅取得!H208>N213>制限値幅取得!I208,\"\")","v":{"$error":"#VALUE!"}}]
[205,null,null,null,null,null,null,null,null,null,"","",null,{"$f":"IF(C214=0,\"wait\",_xll.SNT.StockInst(C214,$N$9))","v":"wait"},{"$f":"N214-制限値幅取得!E209","v":{"$error":"#VALUE!"}},{"$f":"IF(C214=0,\"wait\",_xll.SNT.StockInst(C214,$P$9))","v":"wait"},{"$f":"IF(C214=0,\"\",_xll.SNT.StockInst(C214,\"高値時刻\"))","v":""},{"$f":"MID(_xll.SNT.StockInst($C214,\"高値時刻\"),12,5)","v":"ockIn"},{"$f":"IF(C214=0,\"wait\",_xll.SNT.StockInst(C214,$S$9))","v":"wait"},{"$f":"IF($C214=0,\"\",_xll.SNT.StockInst($C214,\"安値時刻\"))","v":""},{"$f":"MID(_xll.SNT.StockInst($C214,\"安値時刻\"),12,5)","v":"ockIn"},"","","","",{"$f":"_xlfn.IFS(N214<制限値幅取得!I209,\"S安付近\",N214>制限値幅取得!H209,\"S高付近\",制限値幅取得!H209>N214>制限値幅取得!I209,\"\")","v":{"$error":"#VALUE!"}}]
[206,null,null,null,null,null,null,null,null,null,"","",null,{"$f":"IF(C215=0,\"wait\",_xll.SNT.StockInst(C215,$N$9))","v":"wait"},{"$f":"N215-制限値幅取得!E210","v":{"$error":"#VALUE!"}},{"$f":"IF(C215=0,\"wait\",_xll.SNT.StockInst(C215,$P$9))","v":"wait"},{"$f":"IF(C215=0,\"\",_xll.SNT.StockInst(C215,\"高値時刻\"))","v":""},{"$f":"MID(_xll.SNT.StockInst($C215,\"高値時刻\"),12,5)","v":"ockIn"},{"$f":"IF(C215=0,\"wait\",_xll.SNT.StockInst(C215,$S$9))","v":"wait"},{"$f":"IF($C215=0,\"\",_xll.SNT.StockInst($C215,\"安値時刻\"))","v":""},{"$f":"MID(_xll.SNT.StockInst($C215,\"安値時刻\"),12,5)","v":"ockIn"},"","","","",{"$f":"_xlfn.IFS(N215<制限値幅取得!I210,\"S安付近\",N215>制限値幅取得!H210,\"S高付近\",制限値幅取得!H210>N215>制限値幅取得!I210,\"\")","v":{"$error":"#VALUE!"}}]
[207,null,null,null,null,null,null,null,null,null,"","",null,{"$f":"IF(C216=0,\"wait\",_xll.SNT.StockInst(C216,$N$9))","v":"wait"},{"$f":"N216-制限値幅取得!E211","v":{"$error":"#VALUE!"}},{"$f":"IF(C216=0,\"wait\",_xll.SNT.StockInst(C216,$P$9))","v":"wait"},{"$f":"IF(C216=0,\"\",_xll.SNT.StockInst(C216,\"高値時刻\"))","v":""},{"$f":"MID(_xll.SNT.StockInst($C216,\"高値時刻\"),12,5)","v":"ockIn"},{"$f":"IF(C216=0,\"wait\",_xll.SNT.StockInst(C216,$S$9))","v":"wait"},{"$f":"IF($C216=0,\"\",_xll.SNT.StockInst($C216,\"安値時刻\"))","v":""},{"$f":"MID(_xll.SNT.StockInst($C216,\"安値時刻\"),12,5)","v":"ockIn"},"","","","",{"$f":"_xlfn.IFS(N216<制限値幅取得!I211,\"S安付近\",N216>制限値幅取得!H211,\"S高付近\",制限値幅取得!H211>N216>制限値幅取得!I211,\"\")","v":{"$error":"#VALUE!"}}]
[208,null,null,null,null,null,null,null,null,null,"","",null,{"$f":"IF(C217=0,\"wait\",_xll.SNT.StockInst(C217,$N$9))","v":"wait"},{"$f":"N217-制限値幅取得!E212","v":{"$error":"#VALUE!"}},{"$f":"IF(C217=0,\"wait\",_xll.SNT.StockInst(C217,$P$9))","v":"wait"},{"$f":"IF(C217=0,\"\",_xll.SNT.StockInst(C217,\"高値時刻\"))","v":""},{"$f":"MID(_xll.SNT.StockInst($C217,\"高値時刻\"),12,5)","v":"ockIn"},{"$f":"IF(C217=0,\"wait\",_xll.SNT.StockInst(C217,$S$9))","v":"wait"},{"$f":"IF($C217=0,\"\",_xll.SNT.StockInst($C217,\"安値時刻\"))","v":""},{"$f":"MID(_xll.SNT.StockInst($C217,\"安値時刻\"),12,5)","v":"ockIn"},"","","","",{"$f":"_xlfn.IFS(N217<制限値幅取得!I212,\"S安付近\",N217>制限値幅取得!H212,\"S高付近\",制限値幅取得!H212>N217>制限値幅取得!I212,\"\")","v":{"$error":"#VALUE!"}}]
[209,null,null,null,null,null,null,null,null,null,"","",null,{"$f":"IF(C218=0,\"wait\",_xll.SNT.StockInst(C218,$N$9))","v":"wait"},{"$f":"N218-制限値幅取得!E213","v":{"$error":"#VALUE!"}},{"$f":"IF(C218=0,\"wait\",_xll.SNT.StockInst(C218,$P$9))","v":"wait"},{"$f":"IF(C218=0,\"\",_xll.SNT.StockInst(C218,\"高値時刻\"))","v":""},{"$f":"MID(_xll.SNT.StockInst($C218,\"高値時刻\"),12,5)","v":"ockIn"},{"$f":"IF(C218=0,\"wait\",_xll.SNT.StockInst(C218,$S$9))","v":"wait"},{"$f":"IF($C218=0,\"\",_xll.SNT.StockInst($C218,\"安値時刻\"))","v":""},{"$f":"MID(_xll.SNT.StockInst($C218,\"安値時刻\"),12,5)","v":"ockIn"},"","","","",{"$f":"_xlfn.IFS(N218<制限値幅取得!I213,\"S安付近\",N218>制限値幅取得!H213,\"S高付近\",制限値幅取得!H213>N218>制限値幅取得!I213,\"\")","v":{"$error":"#VALUE!"}}]
[210,null,null,null,null,null,null,null,null,null,"","",null,{"$f":"IF(C219=0,\"wait\",_xll.SNT.StockInst(C219,$N$9))","v":"wait"},{"$f":"N219-制限値幅取得!E214","v":{"$error":"#VALUE!"}},{"$f":"IF(C219=0,\"wait\",_xll.SNT.StockInst(C219,$P$9))","v":"wait"},{"$f":"IF(C219=0,\"\",_xll.SNT.StockInst(C219,\"高値時刻\"))","v":""},{"$f":"MID(_xll.SNT.StockInst($C219,\"高値時刻\"),12,5)","v":"ockIn"},{"$f":"IF(C219=0,\"wait\",_xll.SNT.StockInst(C219,$S$9))","v":"wait"},{"$f":"IF($C219=0,\"\",_xll.SNT.StockInst($C219,\"安値時刻\"))","v":""},{"$f":"MID(_xll.SNT.StockInst($C219,\"安値時刻\"),12,5)","v":"ockIn"},"","","","",{"$f":"_xlfn.IFS(N219<制限値幅取得!I214,\"S安付近\",N219>制限値幅取得!H214,\"S高付近\",制限値幅取得!H214>N219>制限値幅取得!I214,\"\")","v":{"$error":"#VALUE!"}}]
[211,null,null,null,null,null,null,null,null,null,"","",null,{"$f":"IF(C220=0,\"wait\",_xll.SNT.StockInst(C220,$N$9))","v":"wait"},{"$f":"N220-制限値幅取得!E215","v":{"$error":"#VALUE!"}},{"$f":"IF(C220=0,\"wait\",_xll.SNT.StockInst(C220,$P$9))","v":"wait"},{"$f":"IF(C220=0,\"\",_xll.SNT.StockInst(C220,\"高値時刻\"))","v":""},{"$f":"MID(_xll.SNT.StockInst($C220,\"高値時刻\"),12,5)","v":"ockIn"},{"$f":"IF(C220=0,\"wait\",_xll.SNT.StockInst(C220,$S$9))","v":"wait"},{"$f":"IF($C220=0,\"\",_xll.SNT.StockInst($C220,\"安値時刻\"))","v":""},{"$f":"MID(_xll.SNT.StockInst($C220,\"安値時刻\"),12,5)","v":"ockIn"},"","","","",{"$f":"_xlfn.IFS(N220<制限値幅取得!I215,\"S安付近\",N220>制限値幅取得!H215,\"S高付近\",制限値幅取得!H215>N220>制限値幅取得!I215,\"\")","v":{"$error":"#VALUE!"}}]
[212,null,null,null,null,null,null,null,null,null,"","",null,{"$f":"IF(C221=0,\"wait\",_xll.SNT.StockInst(C221,$N$9))","v":"wait"},{"$f":"N221-制限値幅取得!E216","v":{"$error":"#VALUE!"}},{"$f":"IF(C221=0,\"wait\",_xll.SNT.StockInst(C221,$P$9))","v":"wait"},{"$f":"IF(C221=0,\"\",_xll.SNT.StockInst(C221,\"高値時刻\"))","v":""},{"$f":"MID(_xll.SNT.StockInst($C221,\"高値時刻\"),12,5)","v":"ockIn"},{"$f":"IF(C221=0,\"wait\",_xll.SNT.StockInst(C221,$S$9))","v":"wait"},{"$f":"IF($C221=0,\"\",_xll.SNT.StockInst($C221,\"安値時刻\"))","v":""},{"$f":"MID(_xll.SNT.StockInst($C221,\"安値時刻\"),12,5)","v":"ockIn"},"","","","",{"$f":"_xlfn.IFS(N221<制限値幅取得!I216,\"S安付近\",N221>制限値幅取得!H216,\"S高付近\",制限値幅取得!H216>N221>制限値幅取得!I216,\"\")","v":{"$error":"#VALUE!"}}]
[213,null,null,null,null,null,null,null,null,null,"","",null,{"$f":"IF(C222=0,\"wait\",_xll.SNT.StockInst(C222,$N$9))","v":"wait"},{"$f":"N222-制限値幅取得!E217","v":{"$error":"#VALUE!"}},{"$f":"IF(C222=0,\"wait\",_xll.SNT.StockInst(C222,$P$9))","v":"wait"},{"$f":"IF(C222=0,\"\",_xll.SNT.StockInst(C222,\"高値時刻\"))","v":""},{"$f":"MID(_xll.SNT.StockInst($C222,\"高値時刻\"),12,5)","v":"ockIn"},{"$f":"IF(C222=0,\"wait\",_xll.SNT.StockInst(C222,$S$9))","v":"wait"},{"$f":"IF($C222=0,\"\",_xll.SNT.StockInst($C222,\"安値時刻\"))","v":""},{"$f":"MID(_xll.SNT.StockInst($C222,\"安値時刻\"),12,5)","v":"ockIn"},"","","","",{"$f":"_xlfn.IFS(N222<制限値幅取得!I217,\"S安付近\",N222>制限値幅取得!H217,\"S高付近\",制限値幅取得!H217>N222>制限値幅取得!I217,\"\")","v":{"$error":"#VALUE!"}}]
[214,null,null,null,null,null,null,null,null,null,"","",null,{"$f":"IF(C223=0,\"wait\",_xll.SNT.StockInst(C223,$N$9))","v":"wait"},{"$f":"N223-制限値幅取得!E218","v":{"$error":"#VALUE!"}},{"$f":"IF(C223=0,\"wait\",_xll.SNT.StockInst(C223,$P$9))","v":"wait"},{"$f":"IF(C223=0,\"\",_xll.SNT.StockInst(C223,\"高値時刻\"))","v":""},{"$f":"MID(_xll.SNT.StockInst($C223,\"高値時刻\"),12,5)","v":"ockIn"},{"$f":"IF(C223=0,\"wait\",_xll.SNT.StockInst(C223,$S$9))","v":"wait"},{"$f":"IF($C223=0,\"\",_xll.SNT.StockInst($C223,\"安値時刻\"))","v":""},{"$f":"MID(_xll.SNT.StockInst($C223,\"安値時刻\"),12,5)","v":"ockIn"},"","","","",{"$f":"_xlfn.IFS(N223<制限値幅取得!I218,\"S安付近\",N223>制限値幅取得!H218,\"S高付近\",制限値幅取得!H218>N223>制限値幅取得!I218,\"\")","v":{"$error":"#VALUE!"}}]
[215,null,null,null,null,null,null,null,null,null,"","",null,{"$f":"IF(C224=0,\"wait\",_xll.SNT.StockInst(C224,$N$9))","v":"wait"},{"$f":"N224-制限値幅取得!E219","v":{"$error":"#VALUE!"}},{"$f":"IF(C224=0,\"wait\",_xll.SNT.StockInst(C224,$P$9))","v":"wait"},{"$f":"IF(C224=0,\"\",_xll.SNT.StockInst(C224,\"高値時刻\"))","v":""},{"$f":"MID(_xll.SNT.StockInst($C224,\"高値時刻\"),12,5)","v":"ockIn"},{"$f":"IF(C224=0,\"wait\",_xll.SNT.StockInst(C224,$S$9))","v":"wait"},{"$f":"IF($C224=0,\"\",_xll.SNT.StockInst($C224,\"安値時刻\"))","v":""},{"$f":"MID(_xll.SNT.StockInst($C224,\"安値時刻\"),12,5)","v":"ockIn"},"","","","",{"$f":"_xlfn.IFS(N224<制限値幅取得!I219,\"S安付近\",N224>制限値幅取得!H219,\"S高付近\",制限値幅取得!H219>N224>制限値幅取得!I219,\"\")","v":{"$error":"#VALUE!"}}]
[216,null,null,null,null,null,null,null,null,null,"","",null,{"$f":"IF(C225=0,\"wait\",_xll.SNT.StockInst(C225,$N$9))","v":"wait"},{"$f":"N225-制限値幅取得!E220","v":{"$error":"#VALUE!"}},{"$f":"IF(C225=0,\"wait\",_xll.SNT.StockInst(C225,$P$9))","v":"wait"},{"$f":"IF(C225=0,\"\",_xll.SNT.StockInst(C225,\"高値時刻\"))","v":""},{"$f":"MID(_xll.SNT.StockInst($C225,\"高値時刻\"),12,5)","v":"ockIn"},{"$f":"IF(C225=0,\"wait\",_xll.SNT.StockInst(C225,$S$9))","v":"wait"},{"$f":"IF($C225=0,\"\",_xll.SNT.StockInst($C225,\"安値時刻\"))","v":""},{"$f":"MID(_xll.SNT.StockInst($C225,\"安値時刻\"),12,5)","v":"ockIn"},"","","","",{"$f":"_xlfn.IFS(N225<制限値幅取得!I220,\"S安付近\",N225>制限値幅取得!H220,\"S高付近\",制限値幅取得!H220>N225>制限値幅取得!I220,\"\")","v":{"$error":"#VALUE!"}}]
[217,null,null,null,null,null,null,null,null,null,"","",null,{"$f":"IF(C226=0,\"wait\",_xll.SNT.StockInst(C226,$N$9))","v":"wait"},{"$f":"N226-制限値幅取得!E221","v":{"$error":"#VALUE!"}},{"$f":"IF(C226=0,\"wait\",_xll.SNT.StockInst(C226,$P$9))","v":"wait"},{"$f":"IF(C226=0,\"\",_xll.SNT.StockInst(C226,\"高値時刻\"))","v":""},{"$f":"MID(_xll.SNT.StockInst($C226,\"高値時刻\"),12,5)","v":"ockIn"},{"$f":"IF(C226=0,\"wait\",_xll.SNT.StockInst(C226,$S$9))","v":"wait"},{"$f":"IF($C226=0,\"\",_xll.SNT.StockInst($C226,\"安値時刻\"))","v":""},{"$f":"MID(_xll.SNT.StockInst($C226,\"安値時刻\"),12,5)","v":"ockIn"},"","","","",{"$f":"_xlfn.IFS(N226<制限値幅取得!I221,\"S安付近\",N226>制限値幅取得!H221,\"S高付近\",制限値幅取得!H221>N226>制限値幅取得!I221,\"\")","v":{"$error":"#VALUE!"}}]
[218,null,null,null,null,null,null,null,null,null,"","",null,{"$f":"IF(C227=0,\"wait\",_xll.SNT.StockInst(C227,$N$9))","v":"wait"},{"$f":"N227-制限値幅取得!E222","v":{"$error":"#VALUE!"}},{"$f":"IF(C227=0,\"wait\",_xll.SNT.StockInst(C227,$P$9))","v":"wait"},{"$f":"IF(C227=0,\"\",_xll.SNT.StockInst(C227,\"高値時刻\"))","v":""},{"$f":"MID(_xll.SNT.StockInst($C227,\"高値時刻\"),12,5)","v":"ockIn"},{"$f":"IF(C227=0,\"wait\",_xll.SNT.StockInst(C227,$S$9))","v":"wait"},{"$f":"IF($C227=0,\"\",_xll.SNT.StockInst($C227,\"安値時刻\"))","v":""},{"$f":"MID(_xll.SNT.StockInst($C227,\"安値時刻\"),12,5)","v":"ockIn"},"","","","",{"$f":"_xlfn.IFS(N227<制限値幅取得!I222,\"S安付近\",N227>制限値幅取得!H222,\"S高付近\",制限値幅取得!H222>N227>制限値幅取得!I222,\"\")","v":{"$error":"#VALUE!"}}]
[219,null,null,null,null,null,null,null,null,null,"","",null,{"$f":"IF(C228=0,\"wait\",_xll.SNT.StockInst(C228,$N$9))","v":"wait"},{"$f":"N228-制限値幅取得!E223","v":{"$error":"#VALUE!"}},{"$f":"IF(C228=0,\"wait\",_xll.SNT.StockInst(C228,$P$9))","v":"wait"},{"$f":"IF(C228=0,\"\",_xll.SNT.StockInst(C228,\"高値時刻\"))","v":""},{"$f":"MID(_xll.SNT.StockInst($C228,\"高値時刻\"),12,5)","v":"ockIn"},{"$f":"IF(C228=0,\"wait\",_xll.SNT.StockInst(C228,$S$9))","v":"wait"},{"$f":"IF($C228=0,\"\",_xll.SNT.StockInst($C228,\"安値時刻\"))","v":""},{"$f":"MID(_xll.SNT.StockInst($C228,\"安値時刻\"),12,5)","v":"ockIn"},"","","","",{"$f":"_xlfn.IFS(N228<制限値幅取得!I223,\"S安付近\",N228>制限値幅取得!H223,\"S高付近\",制限値幅取得!H223>N228>制限値幅取得!I223,\"\")","v":{"$error":"#VALUE!"}}]
[220,null,null,null,null,null,null,null,null,null,"","",null,{"$f":"IF(C229=0,\"wait\",_xll.SNT.StockInst(C229,$N$9))","v":"wait"},{"$f":"N229-制限値幅取得!E224","v":{"$error":"#VALUE!"}},{"$f":"IF(C229=0,\"wait\",_xll.SNT.StockInst(C229,$P$9))","v":"wait"},{"$f":"IF(C229=0,\"\",_xll.SNT.StockInst(C229,\"高値時刻\"))","v":""},{"$f":"MID(_xll.SNT.StockInst($C229,\"高値時刻\"),12,5)","v":"ockIn"},{"$f":"IF(C229=0,\"wait\",_xll.SNT.StockInst(C229,$S$9))","v":"wait"},{"$f":"IF($C229=0,\"\",_xll.SNT.StockInst($C229,\"安値時刻\"))","v":""},{"$f":"MID(_xll.SNT.StockInst($C229,\"安値時刻\"),12,5)","v":"ockIn"},"","","","",{"$f":"_xlfn.IFS(N229<制限値幅取得!I224,\"S安付近\",N229>制限値幅取得!H224,\"S高付近\",制限値幅取得!H224>N229>制限値幅取得!I224,\"\")","v":{"$error":"#VALUE!"}}]
[221,null,null,null,null,null,null,null,null,null,"","",null,{"$f":"IF(C230=0,\"wait\",_xll.SNT.StockInst(C230,$N$9))","v":"wait"},{"$f":"N230-制限値幅取得!E225","v":{"$error":"#VALUE!"}},{"$f":"IF(C230=0,\"wait\",_xll.SNT.StockInst(C230,$P$9))","v":"wait"},{"$f":"IF(C230=0,\"\",_xll.SNT.StockInst(C230,\"高値時刻\"))","v":""},{"$f":"MID(_xll.SNT.StockInst($C230,\"高値時刻\"),12,5)","v":"ockIn"},{"$f":"IF(C230=0,\"wait\",_xll.SNT.StockInst(C230,$S$9))","v":"wait"},{"$f":"IF($C230=0,\"\",_xll.SNT.StockInst($C230,\"安値時刻\"))","v":""},{"$f":"MID(_xll.SNT.StockInst($C230,\"安値時刻\"),12,5)","v":"ockIn"},"","","","",{"$f":"_xlfn.IFS(N230<制限値幅取得!I225,\"S安付近\",N230>制限値幅取得!H225,\"S高付近\",制限値幅取得!H225>N230>制限値幅取得!I225,\"\")","v":{"$error":"#VALUE!"}}]
[222,null,null,null,null,null,null,null,null,null,"","",null,{"$f":"IF(C231=0,\"wait\",_xll.SNT.StockInst(C231,$N$9))","v":"wait"},{"$f":"N231-制限値幅取得!E226","v":{"$error":"#VALUE!"}},{"$f":"IF(C231=0,\"wait\",_xll.SNT.StockInst(C231,$P$9))","v":"wait"},{"$f":"IF(C231=0,\"\",_xll.SNT.StockInst(C231,\"高値時刻\"))","v":""},{"$f":"MID(_xll.SNT.StockInst($C231,\"高値時刻\"),12,5)","v":"ockIn"},{"$f":"IF(C231=0,\"wait\",_xll.SNT.StockInst(C231,$S$9))","v":"wait"},{"$f":"IF($C231=0,\"\",_xll.SNT.StockInst($C231,\"安値時刻\"))","v":""},{"$f":"MID(_xll.SNT.StockInst($C231,\"安値時刻\"),12,5)","v":"ockIn"},"","","","",{"$f":"_xlfn.IFS(N231<制限値幅取得!I226,\"S安付近\",N231>制限値幅取得!H226,\"S高付近\",制限値幅取得!H226>N231>制限値幅取得!I226,\"\")","v":{"$error":"#VALUE!"}}]
[223,null,null,null,null,null,null,null,null,null,{"$f":"IFERROR(IF(F232=\"買建\",(N232-I232)*H232,(I232-N232)*H232),\"\")","v":""},{"$f":"IFERROR(K232/(I232*H232),\"\")","v":""},null,{"$f":"IF(C232=0,\"wait\",_xll.SNT.StockInst(C232,$N$9))","v":"wait"},{"$f":"N232-制限値幅取得!E227","v":{"$error":"#VALUE!"}},{"$f":"IF(C232=0,\"wait\",_xll.SNT.StockInst(C232,$P$9))","v":"wait"},{"$f":"IF(C232=0,\"\",_xll.SNT.StockInst(C232,\"高値時刻\"))","v":""},{"$f":"MID(_xll.SNT.StockInst($C232,\"高値時刻\"),12,5)","v":"ockIn"},{"$f":"IF(C232=0,\"wait\",_xll.SNT.StockInst(C232,$S$9))","v":"wait"},{"$f":"IF($C232=0,\"\",_xll.SNT.StockInst($C232,\"安値時刻\"))","v":""},{"$f":"MID(_xll.SNT.StockInst($C232,\"安値時刻\"),12,5)","v":"ockIn"},"","","","",{"$f":"_xlfn.IFS(N232<制限値幅取得!I227,\"S安付近\",N232>制限値幅取得!H227,\"S高付近\",制限値幅取得!H227>N232>制限値幅取得!I227,\"\")","v":{"$error":"#VALUE!"}}]
[224,null,null,null,null,null,null,null,null,null,"","",null,{"$f":"IF(C233=0,\"wait\",_xll.SNT.StockInst(C233,$N$9))","v":"wait"},{"$f":"N233-制限値幅取得!E228","v":{"$error":"#VALUE!"}},{"$f":"IF(C233=0,\"wait\",_xll.SNT.StockInst(C233,$P$9))","v":"wait"},{"$f":"IF(C233=0,\"\",_xll.SNT.StockInst(C233,\"高値時刻\"))","v":""},{"$f":"MID(_xll.SNT.StockInst($C233,\"高値時刻\"),12,5)","v":"ockIn"},{"$f":"IF(C233=0,\"wait\",_xll.SNT.StockInst(C233,$S$9))","v":"wait"},{"$f":"IF($C233=0,\"\",_xll.SNT.StockInst($C233,\"安値時刻\"))","v":""},{"$f":"MID(_xll.SNT.StockInst($C233,\"安値時刻\"),12,5)","v":"ockIn"},"","","","",{"$f":"_xlfn.IFS(N233<制限値幅取得!I228,\"S安付近\",N233>制限値幅取得!H228,\"S高付近\",制限値幅取得!H228>N233>制限値幅取得!I228,\"\")","v":{"$error":"#VALUE!"}}]
[225,null,null,null,null,null,null,null,null,null,"","",null,{"$f":"IF(C234=0,\"wait\",_xll.SNT.StockInst(C234,$N$9))","v":"wait"},{"$f":"N234-制限値幅取得!E229","v":{"$error":"#VALUE!"}},{"$f":"IF(C234=0,\"wait\",_xll.SNT.StockInst(C234,$P$9))","v":"wait"},{"$f":"IF(C234=0,\"\",_xll.SNT.StockInst(C234,\"高値時刻\"))","v":""},{"$f":"MID(_xll.SNT.StockInst($C234,\"高値時刻\"),12,5)","v":"ockIn"},{"$f":"IF(C234=0,\"wait\",_xll.SNT.StockInst(C234,$S$9))","v":"wait"},{"$f":"IF($C234=0,\"\",_xll.SNT.StockInst($C234,\"安値時刻\"))","v":""},{"$f":"MID(_xll.SNT.StockInst($C234,\"安値時刻\"),12,5)","v":"ockIn"},"","","","",{"$f":"_xlfn.IFS(N234<制限値幅取得!I229,\"S安付近\",N234>制限値幅取得!H229,\"S高付近\",制限値幅取得!H229>N234>制限値幅取得!I229,\"\")","v":{"$error":"#VALUE!"}}]
[226,null,null,null,null,null,null,null,null,null,"","",null,{"$f":"IF(C235=0,\"wait\",_xll.SNT.StockInst(C235,$N$9))","v":"wait"},{"$f":"N235-制限値幅取得!E230","v":{"$error":"#VALUE!"}},{"$f":"IF(C235=0,\"wait\",_xll.SNT.StockInst(C235,$P$9))","v":"wait"},{"$f":"IF(C235=0,\"\",_xll.SNT.StockInst(C235,\"高値時刻\"))","v":""},{"$f":"MID(_xll.SNT.StockInst($C235,\"高値時刻\"),12,5)","v":"ockIn"},{"$f":"IF(C235=0,\"wait\",_xll.SNT.StockInst(C235,$S$9))","v":"wait"},{"$f":"IF($C235=0,\"\",_xll.SNT.StockInst($C235,\"安値時刻\"))","v":""},{"$f":"MID(_xll.SNT.StockInst($C235,\"安値時刻\"),12,5)","v":"ockIn"},"","","","",{"$f":"_xlfn.IFS(N235<制限値幅取得!I230,\"S安付近\",N235>制限値幅取得!H230,\"S高付近\",制限値幅取得!H230>N235>制限値幅取得!I230,\"\")","v":{"$error":"#VALUE!"}}]
[227,null,null,null,null,null,null,null,null,null,"","",null,{"$f":"IF(C236=0,\"wait\",_xll.SNT.StockInst(C236,$N$9))","v":"wait"},{"$f":"N236-制限値幅取得!E231","v":{"$error":"#VALUE!"}},{"$f":"IF(C236=0,\"wait\",_xll.SNT.StockInst(C236,$P$9))","v":"wait"},{"$f":"IF(C236=0,\"\",_xll.SNT.StockInst(C236,\"高値時刻\"))","v":""},{"$f":"MID(_xll.SNT.StockInst($C236,\"高値時刻\"),12,5)","v":"ockIn"},{"$f":"IF(C236=0,\"wait\",_xll.SNT.StockInst(C236,$S$9))","v":"wait"},{"$f":"IF($C236=0,\"\",_xll.SNT.StockInst($C236,\"安値時刻\"))","v":""},{"$f":"MID(_xll.SNT.StockInst($C236,\"安値時刻\"),12,5)","v":"ockIn"},"","","","",{"$f":"_xlfn.IFS(N236<制限値幅取得!I231,\"S安付近\",N236>制限値幅取得!H231,\"S高付近\",制限値幅取得!H231>N236>制限値幅取得!I231,\"\")","v":{"$error":"#VALUE!"}}]
[228,null,null,null,null,null,null,null,null,null,"","",null,{"$f":"IF(C237=0,\"wait\",_xll.SNT.StockInst(C237,$N$9))","v":"wait"},{"$f":"N237-制限値幅取得!E232","v":{"$error":"#VALUE!"}},{"$f":"IF(C237=0,\"wait\",_xll.SNT.StockInst(C237,$P$9))","v":"wait"},{"$f":"IF(C237=0,\"\",_xll.SNT.StockInst(C237,\"高値時刻\"))","v":""},{"$f":"MID(_xll.SNT.StockInst($C237,\"高値時刻\"),12,5)","v":"ockIn"},{"$f":"IF(C237=0,\"wait\",_xll.SNT.StockInst(C237,$S$9))","v":"wait"},{"$f":"IF($C237=0,\"\",_xll.SNT.StockInst($C237,\"安値時刻\"))","v":""},{"$f":"MID(_xll.SNT.StockInst($C237,\"安値時刻\"),12,5)","v":"ockIn"},"","","","",{"$f":"_xlfn.IFS(N237<制限値幅取得!I232,\"S安付近\",N237>制限値幅取得!H232,\"S高付近\",制限値幅取得!H232>N237>制限値幅取得!I232,\"\")","v":{"$error":"#VALUE!"}}]
[229,null,null,null,null,null,null,null,null,null,"","",null,{"$f":"IF(C238=0,\"wait\",_xll.SNT.StockInst(C238,$N$9))","v":"wait"},{"$f":"N238-制限値幅取得!E233","v":{"$error":"#VALUE!"}},{"$f":"IF(C238=0,\"wait\",_xll.SNT.StockInst(C238,$P$9))","v":"wait"},{"$f":"IF(C238=0,\"\",_xll.SNT.StockInst(C238,\"高値時刻\"))","v":""},{"$f":"MID(_xll.SNT.StockInst($C238,\"高値時刻\"),12,5)","v":"ockIn"},{"$f":"IF(C238=0,\"wait\",_xll.SNT.StockInst(C238,$S$9))","v":"wait"},{"$f":"IF($C238=0,\"\",_xll.SNT.StockInst($C238,\"安値時刻\"))","v":""},{"$f":"MID(_xll.SNT.StockInst($C238,\"安値時刻\"),12,5)","v":"ockIn"},"","","","",{"$f":"_xlfn.IFS(N238<制限値幅取得!I233,\"S安付近\",N238>制限値幅取得!H233,\"S高付近\",制限値幅取得!H233>N238>制限値幅取得!I233,\"\")","v":{"$error":"#VALUE!"}}]
[230,null,null,null,null,null,null,null,null,null,"","",null,{"$f":"IF(C239=0,\"wait\",_xll.SNT.StockInst(C239,$N$9))","v":"wait"},{"$f":"N239-制限値幅取得!E234","v":{"$error":"#VALUE!"}},{"$f":"IF(C239=0,\"wait\",_xll.SNT.StockInst(C239,$P$9))","v":"wait"},{"$f":"IF(C239=0,\"\",_xll.SNT.StockInst(C239,\"高値時刻\"))","v":""},{"$f":"MID(_xll.SNT.StockInst($C239,\"高値時刻\"),12,5)","v":"ockIn"},{"$f":"IF(C239=0,\"wait\",_xll.SNT.StockInst(C239,$S$9))","v":"wait"},{"$f":"IF($C239=0,\"\",_xll.SNT.StockInst($C239,\"安値時刻\"))","v":""},{"$f":"MID(_xll.SNT.StockInst($C239,\"安値時刻\"),12,5)","v":"ockIn"},"","","","",{"$f":"_xlfn.IFS(N239<制限値幅取得!I234,\"S安付近\",N239>制限値幅取得!H234,\"S高付近\",制限値幅取得!H234>N239>制限値幅取得!I234,\"\")","v":{"$error":"#VALUE!"}}]
[231,null,null,null,null,null,null,null,null,null,"","",null,{"$f":"IF(C240=0,\"wait\",_xll.SNT.StockInst(C240,$N$9))","v":"wait"},{"$f":"N240-制限値幅取得!E235","v":{"$error":"#VALUE!"}},{"$f":"IF(C240=0,\"wait\",_xll.SNT.StockInst(C240,$P$9))","v":"wait"},{"$f":"IF(C240=0,\"\",_xll.SNT.StockInst(C240,\"高値時刻\"))","v":""},{"$f":"MID(_xll.SNT.StockInst($C240,\"高値時刻\"),12,5)","v":"ockIn"},{"$f":"IF(C240=0,\"wait\",_xll.SNT.StockInst(C240,$S$9))","v":"wait"},{"$f":"IF($C240=0,\"\",_xll.SNT.StockInst($C240,\"安値時刻\"))","v":""},{"$f":"MID(_xll.SNT.StockInst($C240,\"安値時刻\"),12,5)","v":"ockIn"},"","","","",{"$f":"_xlfn.IFS(N240<制限値幅取得!I235,\"S安付近\",N240>制限値幅取得!H235,\"S高付近\",制限値幅取得!H235>N240>制限値幅取得!I235,\"\")","v":{"$error":"#VALUE!"}}]
[232,null,null,null,null,null,null,null,null,null,"","",null,{"$f":"IF(C241=0,\"wait\",_xll.SNT.StockInst(C241,$N$9))","v":"wait"},{"$f":"N241-制限値幅取得!E236","v":{"$error":"#VALUE!"}},{"$f":"IF(C241=0,\"wait\",_xll.SNT.StockInst(C241,$P$9))","v":"wait"},{"$f":"IF(C241=0,\"\",_xll.SNT.StockInst(C241,\"高値時刻\"))","v":""},{"$f":"MID(_xll.SNT.StockInst($C241,\"高値時刻\"),12,5)","v":"ockIn"},{"$f":"IF(C241=0,\"wait\",_xll.SNT.StockInst(C241,$S$9))","v":"wait"},{"$f":"IF($C241=0,\"\",_xll.SNT.StockInst($C241,\"安値時刻\"))","v":""},{"$f":"MID(_xll.SNT.StockInst($C241,\"安値時刻\"),12,5)","v":"ockIn"},"","","","",{"$f":"_xlfn.IFS(N241<制限値幅取得!I236,\"S安付近\",N241>制限値幅取得!H236,\"S高付近\",制限値幅取得!H236>N241>制限値幅取得!I236,\"\")","v":{"$error":"#VALUE!"}}]
[233,null,null,null,null,null,null,null,null,null,"","",null,{"$f":"IF(C242=0,\"wait\",_xll.SNT.StockInst(C242,$N$9))","v":"wait"},{"$f":"N242-制限値幅取得!E237","v":{"$error":"#VALUE!"}},{"$f":"IF(C242=0,\"wait\",_xll.SNT.StockInst(C242,$P$9))","v":"wait"},{"$f":"IF(C242=0,\"\",_xll.SNT.StockInst(C242,\"高値時刻\"))","v":""},{"$f":"MID(_xll.SNT.StockInst($C242,\"高値時刻\"),12,5)","v":"ockIn"},{"$f":"IF(C242=0,\"wait\",_xll.SNT.StockInst(C242,$S$9))","v":"wait"},{"$f":"IF($C242=0,\"\",_xll.SNT.StockInst($C242,\"安値時刻\"))","v":""},{"$f":"MID(_xll.SNT.StockInst($C242,\"安値時刻\"),12,5)","v":"ockIn"},"","","","",{"$f":"_xlfn.IFS(N242<制限値幅取得!I237,\"S安付近\",N242>制限値幅取得!H237,\"S高付近\",制限値幅取得!H237>N242>制限値幅取得!I237,\"\")","v":{"$error":"#VALUE!"}}]
[234,null,null,null,null,null,null,null,null,null,"","",null,{"$f":"IF(C243=0,\"wait\",_xll.SNT.StockInst(C243,$N$9))","v":"wait"},{"$f":"N243-制限値幅取得!E238","v":{"$error":"#VALUE!"}},{"$f":"IF(C243=0,\"wait\",_xll.SNT.StockInst(C243,$P$9))","v":"wait"},{"$f":"IF(C243=0,\"\",_xll.SNT.StockInst(C243,\"高値時刻\"))","v":""},{"$f":"MID(_xll.SNT.StockInst($C243,\"高値時刻\"),12,5)","v":"ockIn"},{"$f":"IF(C243=0,\"wait\",_xll.SNT.StockInst(C243,$S$9))","v":"wait"},{"$f":"IF($C243=0,\"\",_xll.SNT.StockInst($C243,\"安値時刻\"))","v":""},{"$f":"MID(_xll.SNT.StockInst($C243,\"安値時刻\"),12,5)","v":"ockIn"},"","","","",{"$f":"_xlfn.IFS(N243<制限値幅取得!I238,\"S安付近\",N243>制限値幅取得!H238,\"S高付近\",制限値幅取得!H238>N243>制限値幅取得!I238,\"\")","v":{"$error":"#VALUE!"}}]
[235,null,null,null,null,null,null,null,null,null,"","",null,{"$f":"IF(C244=0,\"wait\",_xll.SNT.StockInst(C244,$N$9))","v":"wait"},{"$f":"N244-制限値幅取得!E239","v":{"$error":"#VALUE!"}},{"$f":"IF(C244=0,\"wait\",_xll.SNT.StockInst(C244,$P$9))","v":"wait"},{"$f":"IF(C244=0,\"\",_xll.SNT.StockInst(C244,\"高値時刻\"))","v":""},{"$f":"MID(_xll.SNT.StockInst($C244,\"高値時刻\"),12,5)","v":"ockIn"},{"$f":"IF(C244=0,\"wait\",_xll.SNT.StockInst(C244,$S$9))","v":"wait"},{"$f":"IF($C244=0,\"\",_xll.SNT.StockInst($C244,\"安値時刻\"))","v":""},{"$f":"MID(_xll.SNT.StockInst($C244,\"安値時刻\"),12,5)","v":"ockIn"},"","","","",{"$f":"_xlfn.IFS(N244<制限値幅取得!I239,\"S安付近\",N244>制限値幅取得!H239,\"S高付近\",制限値幅取得!H239>N244>制限値幅取得!I239,\"\")","v":{"$error":"#VALUE!"}}]
[236,null,null,null,null,null,null,null,null,null,"","",null,{"$f":"IF(C245=0,\"wait\",_xll.SNT.StockInst(C245,$N$9))","v":"wait"},{"$f":"N245-制限値幅取得!E240","v":{"$error":"#VALUE!"}},{"$f":"IF(C245=0,\"wait\",_xll.SNT.StockInst(C245,$P$9))","v":"wait"},{"$f":"IF(C245=0,\"\",_xll.SNT.StockInst(C245,\"高値時刻\"))","v":""},{"$f":"MID(_xll.SNT.StockInst($C245,\"高値時刻\"),12,5)","v":"ockIn"},{"$f":"IF(C245=0,\"wait\",_xll.SNT.StockInst(C245,$S$9))","v":"wait"},{"$f":"IF($C245=0,\"\",_xll.SNT.StockInst($C245,\"安値時刻\"))","v":""},{"$f":"MID(_xll.SNT.StockInst($C245,\"安値時刻\"),12,5)","v":"ockIn"},"","","","",{"$f":"_xlfn.IFS(N245<制限値幅取得!I240,\"S安付近\",N245>制限値幅取得!H240,\"S高付近\",制限値幅取得!H240>N245>制限値幅取得!I240,\"\")","v":{"$error":"#VALUE!"}}]
[237,null,null,null,null,null,null,null,null,null,"","",null,{"$f":"IF(C246=0,\"wait\",_xll.SNT.StockInst(C246,$N$9))","v":"wait"},{"$f":"N246-制限値幅取得!E241","v":{"$error":"#VALUE!"}},{"$f":"IF(C246=0,\"wait\",_xll.SNT.StockInst(C246,$P$9))","v":"wait"},{"$f":"IF(C246=0,\"\",_xll.SNT.StockInst(C246,\"高値時刻\"))","v":""},{"$f":"MID(_xll.SNT.StockInst($C246,\"高値時刻\"),12,5)","v":"ockIn"},{"$f":"IF(C246=0,\"wait\",_xll.SNT.StockInst(C246,$S$9))","v":"wait"},{"$f":"IF($C246=0,\"\",_xll.SNT.StockInst($C246,\"安値時刻\"))","v":""},{"$f":"MID(_xll.SNT.StockInst($C246,\"安値時刻\"),12,5)","v":"ockIn"},"","","","",{"$f":"_xlfn.IFS(N246<制限値幅取得!I241,\"S安付近\",N246>制限値幅取得!H241,\"S高付近\",制限値幅取得!H241>N246>制限値幅取得!I241,\"\")","v":{"$error":"#VALUE!"}}]
[238,null,null,null,null,null,null,null,null,null,"","",null,{"$f":"IF(C247=0,\"wait\",_xll.SNT.StockInst(C247,$N$9))","v":"wait"},{"$f":"N247-制限値幅取得!E242","v":{"$error":"#VALUE!"}},{"$f":"IF(C247=0,\"wait\",_xll.SNT.StockInst(C247,$P$9))","v":"wait"},{"$f":"IF(C247=0,\"\",_xll.SNT.StockInst(C247,\"高値時刻\"))","v":""},{"$f":"MID(_xll.SNT.StockInst($C247,\"高値時刻\"),12,5)","v":"ockIn"},{"$f":"IF(C247=0,\"wait\",_xll.SNT.StockInst(C247,$S$9))","v":"wait"},{"$f":"IF($C247=0,\"\",_xll.SNT.StockInst($C247,\"安値時刻\"))","v":""},{"$f":"MID(_xll.SNT.StockInst($C247,\"安値時刻\"),12,5)","v":"ockIn"},"","","","",{"$f":"_xlfn.IFS(N247<制限値幅取得!I242,\"S安付近\",N247>制限値幅取得!H242,\"S高付近\",制限値幅取得!H242>N247>制限値幅取得!I242,\"\")","v":{"$error":"#VALUE!"}}]
[239,null,null,null,null,null,null,null,null,null,"","",null,{"$f":"IF(C248=0,\"wait\",_xll.SNT.StockInst(C248,$N$9))","v":"wait"},{"$f":"N248-制限値幅取得!E243","v":{"$error":"#VALUE!"}},{"$f":"IF(C248=0,\"wait\",_xll.SNT.StockInst(C248,$P$9))","v":"wait"},{"$f":"IF(C248=0,\"\",_xll.SNT.StockInst(C248,\"高値時刻\"))","v":""},{"$f":"MID(_xll.SNT.StockInst($C248,\"高値時刻\"),12,5)","v":"ockIn"},{"$f":"IF(C248=0,\"wait\",_xll.SNT.StockInst(C248,$S$9))","v":"wait"},{"$f":"IF($C248=0,\"\",_xll.SNT.StockInst($C248,\"安値時刻\"))","v":""},{"$f":"MID(_xll.SNT.StockInst($C248,\"安値時刻\"),12,5)","v":"ockIn"},"","","","",{"$f":"_xlfn.IFS(N248<制限値幅取得!I243,\"S安付近\",N248>制限値幅取得!H243,\"S高付近\",制限値幅取得!H243>N248>制限値幅取得!I243,\"\")","v":{"$error":"#VALUE!"}}]
[240,null,null,null,null,null,null,null,null,null,"","",null,{"$f":"IF(C249=0,\"wait\",_xll.SNT.StockInst(C249,$N$9))","v":"wait"},{"$f":"N249-制限値幅取得!E244","v":{"$error":"#VALUE!"}},{"$f":"IF(C249=0,\"wait\",_xll.SNT.StockInst(C249,$P$9))","v":"wait"},{"$f":"IF(C249=0,\"\",_xll.SNT.StockInst(C249,\"高値時刻\"))","v":""},{"$f":"MID(_xll.SNT.StockInst($C249,\"高値時刻\"),12,5)","v":"ockIn"},{"$f":"IF(C249=0,\"wait\",_xll.SNT.StockInst(C249,$S$9))","v":"wait"},{"$f":"IF($C249=0,\"\",_xll.SNT.StockInst($C249,\"安値時刻\"))","v":""},{"$f":"MID(_xll.SNT.StockInst($C249,\"安値時刻\"),12,5)","v":"ockIn"},"","","","",{"$f":"_xlfn.IFS(N249<制限値幅取得!I244,\"S安付近\",N249>制限値幅取得!H244,\"S高付近\",制限値幅取得!H244>N249>制限値幅取得!I244,\"\")","v":{"$error":"#VALUE!"}}]
[241,null,null,null,null,null,null,null,null,null,"","",null,{"$f":"IF(C250=0,\"wait\",_xll.SNT.StockInst(C250,$N$9))","v":"wait"},{"$f":"N250-制限値幅取得!E245","v":{"$error":"#VALUE!"}},{"$f":"IF(C250=0,\"wait\",_xll.SNT.StockInst(C250,$P$9))","v":"wait"},{"$f":"IF(C250=0,\"\",_xll.SNT.StockInst(C250,\"高値時刻\"))","v":""},{"$f":"MID(_xll.SNT.StockInst($C250,\"高値時刻\"),12,5)","v":"ockIn"},{"$f":"IF(C250=0,\"wait\",_xll.SNT.StockInst(C250,$S$9))","v":"wait"},{"$f":"IF($C250=0,\"\",_xll.SNT.StockInst($C250,\"安値時刻\"))","v":""},{"$f":"MID(_xll.SNT.StockInst($C250,\"安値時刻\"),12,5)","v":"ockIn"},"","","","",{"$f":"_xlfn.IFS(N250<制限値幅取得!I245,\"S安付近\",N250>制限値幅取得!H245,\"S高付近\",制限値幅取得!H245>N250>制限値幅取得!I245,\"\")","v":{"$error":"#VALUE!"}}]
[242,null,null,null,null,null,null,null,null,null,"","",null,{"$f":"IF(C251=0,\"wait\",_xll.SNT.StockInst(C251,$N$9))","v":"wait"},{"$f":"N251-制限値幅取得!E246","v":{"$error":"#VALUE!"}},{"$f":"IF(C251=0,\"wait\",_xll.SNT.StockInst(C251,$P$9))","v":"wait"},{"$f":"IF(C251=0,\"\",_xll.SNT.StockInst(C251,\"高値時刻\"))","v":""},{"$f":"MID(_xll.SNT.StockInst($C251,\"高値時刻\"),12,5)","v":"ockIn"},{"$f":"IF(C251=0,\"wait\",_xll.SNT.StockInst(C251,$S$9))","v":"wait"},{"$f":"IF($C251=0,\"\",_xll.SNT.StockInst($C251,\"安値時刻\"))","v":""},{"$f":"MID(_xll.SNT.StockInst($C251,\"安値時刻\"),12,5)","v":"ockIn"},"","","","",{"$f":"_xlfn.IFS(N251<制限値幅取得!I246,\"S安付近\",N251>制限値幅取得!H246,\"S高付近\",制限値幅取得!H246>N251>制限値幅取得!I246,\"\")","v":{"$error":"#VALUE!"}}]
[243,null,null,null,null,null,null,null,null,null,"","",null,{"$f":"IF(C252=0,\"wait\",_xll.SNT.StockInst(C252,$N$9))","v":"wait"},{"$f":"N252-制限値幅取得!E247","v":{"$error":"#VALUE!"}},{"$f":"IF(C252=0,\"wait\",_xll.SNT.StockInst(C252,$P$9))","v":"wait"},{"$f":"IF(C252=0,\"\",_xll.SNT.StockInst(C252,\"高値時刻\"))","v":""},{"$f":"MID(_xll.SNT.StockInst($C252,\"高値時刻\"),12,5)","v":"ockIn"},{"$f":"IF(C252=0,\"wait\",_xll.SNT.StockInst(C252,$S$9))","v":"wait"},{"$f":"IF($C252=0,\"\",_xll.SNT.StockInst($C252,\"安値時刻\"))","v":""},{"$f":"MID(_xll.SNT.StockInst($C252,\"安値時刻\"),12,5)","v":"ockIn"},"","","","",{"$f":"_xlfn.IFS(N252<制限値幅取得!I247,\"S安付近\",N252>制限値幅取得!H247,\"S高付近\",制限値幅取得!H247>N252>制限値幅取得!I247,\"\")","v":{"$error":"#VALUE!"}}]
[244,null,null,null,null,null,null,null,null,null,"","",null,{"$f":"IF(C253=0,\"wait\",_xll.SNT.StockInst(C253,$N$9))","v":"wait"},{"$f":"N253-制限値幅取得!E248","v":{"$error":"#VALUE!"}},{"$f":"IF(C253=0,\"wait\",_xll.SNT.StockInst(C253,$P$9))","v":"wait"},{"$f":"IF(C253=0,\"\",_xll.SNT.StockInst(C253,\"高値時刻\"))","v":""},{"$f":"MID(_xll.SNT.StockInst($C253,\"高値時刻\"),12,5)","v":"ockIn"},{"$f":"IF(C253=0,\"wait\",_xll.SNT.StockInst(C253,$S$9))","v":"wait"},{"$f":"IF($C253=0,\"\",_xll.SNT.StockInst($C253,\"安値時刻\"))","v":""},{"$f":"MID(_xll.SNT.StockInst($C253,\"安値時刻\"),12,5)","v":"ockIn"},"","","","",{"$f":"_xlfn.IFS(N253<制限値幅取得!I248,\"S安付近\",N253>制限値幅取得!H248,\"S高付近\",制限値幅取得!H248>N253>制限値幅取得!I248,\"\")","v":{"$error":"#VALUE!"}}]
[245,null,null,null,null,null,null,null,null,null,"","",null,{"$f":"IF(C254=0,\"wait\",_xll.SNT.StockInst(C254,$N$9))","v":"wait"},{"$f":"N254-制限値幅取得!E249","v":{"$error":"#VALUE!"}},{"$f":"IF(C254=0,\"wait\",_xll.SNT.StockInst(C254,$P$9))","v":"wait"},{"$f":"IF(C254=0,\"\",_xll.SNT.StockInst(C254,\"高値時刻\"))","v":""},{"$f":"MID(_xll.SNT.StockInst($C254,\"高値時刻\"),12,5)","v":"ockIn"},{"$f":"IF(C254=0,\"wait\",_xll.SNT.StockInst(C254,$S$9))","v":"wait"},{"$f":"IF($C254=0,\"\",_xll.SNT.StockInst($C254,\"安値時刻\"))","v":""},{"$f":"MID(_xll.SNT.StockInst($C254,\"安値時刻\"),12,5)","v":"ockIn"},"","","","",{"$f":"_xlfn.IFS(N254<制限値幅取得!I249,\"S安付近\",N254>制限値幅取得!H249,\"S高付近\",制限値幅取得!H249>N254>制限値幅取得!I249,\"\")","v":{"$error":"#VALUE!"}}]
[246,null,null,null,null,null,null,null,null,null,"","",null,{"$f":"IF(C255=0,\"wait\",_xll.SNT.StockInst(C255,$N$9))","v":"wait"},{"$f":"N255-制限値幅取得!E250","v":{"$error":"#VALUE!"}},{"$f":"IF(C255=0,\"wait\",_xll.SNT.StockInst(C255,$P$9))","v":"wait"},{"$f":"IF(C255=0,\"\",_xll.SNT.StockInst(C255,\"高値時刻\"))","v":""},{"$f":"MID(_xll.SNT.StockInst($C255,\"高値時刻\"),12,5)","v":"ockIn"},{"$f":"IF(C255=0,\"wait\",_xll.SNT.StockInst(C255,$S$9))","v":"wait"},{"$f":"IF($C255=0,\"\",_xll.SNT.StockInst($C255,\"安値時刻\"))","v":""},{"$f":"MID(_xll.SNT.StockInst($C255,\"安値時刻\"),12,5)","v":"ockIn"},"","","","",{"$f":"_xlfn.IFS(N255<制限値幅取得!I250,\"S安付近\",N255>制限値幅取得!H250,\"S高付近\",制限値幅取得!H250>N255>制限値幅取得!I250,\"\")","v":{"$error":"#VALUE!"}}]
[247,null,null,null,null,null,null,null,null,null,"","",null,{"$f":"IF(C256=0,\"wait\",_xll.SNT.StockInst(C256,$N$9))","v":"wait"},{"$f":"N256-制限値幅取得!E251","v":{"$error":"#VALUE!"}},{"$f":"IF(C256=0,\"wait\",_xll.SNT.StockInst(C256,$P$9))","v":"wait"},{"$f":"IF(C256=0,\"\",_xll.SNT.StockInst(C256,\"高値時刻\"))","v":""},{"$f":"MID(_xll.SNT.StockInst($C256,\"高値時刻\"),12,5)","v":"ockIn"},{"$f":"IF(C256=0,\"wait\",_xll.SNT.StockInst(C256,$S$9))","v":"wait"},{"$f":"IF($C256=0,\"\",_xll.SNT.StockInst($C256,\"安値時刻\"))","v":""},{"$f":"MID(_xll.SNT.StockInst($C256,\"安値時刻\"),12,5)","v":"ockIn"},"","","","",{"$f":"_xlfn.IFS(N256<制限値幅取得!I251,\"S安付近\",N256>制限値幅取得!H251,\"S高付近\",制限値幅取得!H251>N256>制限値幅取得!I251,\"\")","v":{"$error":"#VALUE!"}}]
[248,null,null,null,null,null,null,null,null,null,"","",null,{"$f":"IF(C257=0,\"wait\",_xll.SNT.StockInst(C257,$N$9))","v":"wait"},{"$f":"N257-制限値幅取得!E252","v":{"$error":"#VALUE!"}},{"$f":"IF(C257=0,\"wait\",_xll.SNT.StockInst(C257,$P$9))","v":"wait"},{"$f":"IF(C257=0,\"\",_xll.SNT.StockInst(C257,\"高値時刻\"))","v":""},{"$f":"MID(_xll.SNT.StockInst($C257,\"高値時刻\"),12,5)","v":"ockIn"},{"$f":"IF(C257=0,\"wait\",_xll.SNT.StockInst(C257,$S$9))","v":"wait"},{"$f":"IF($C257=0,\"\",_xll.SNT.StockInst($C257,\"安値時刻\"))","v":""},{"$f":"MID(_xll.SNT.StockInst($C257,\"安値時刻\"),12,5)","v":"ockIn"},"","","","",{"$f":"_xlfn.IFS(N257<制限値幅取得!I252,\"S安付近\",N257>制限値幅取得!H252,\"S高付近\",制限値幅取得!H252>N257>制限値幅取得!I252,\"\")","v":{"$error":"#VALUE!"}}]
[249,null,null,null,null,null,null,null,null,null,"","",null,{"$f":"IF(C258=0,\"wait\",_xll.SNT.StockInst(C258,$N$9))","v":"wait"},{"$f":"N258-制限値幅取得!E253","v":{"$error":"#VALUE!"}},{"$f":"IF(C258=0,\"wait\",_xll.SNT.StockInst(C258,$P$9))","v":"wait"},{"$f":"IF(C258=0,\"\",_xll.SNT.StockInst(C258,\"高値時刻\"))","v":""},{"$f":"MID(_xll.SNT.StockInst($C258,\"高値時刻\"),12,5)","v":"ockIn"},{"$f":"IF(C258=0,\"wait\",_xll.SNT.StockInst(C258,$S$9))","v":"wait"},{"$f":"IF($C258=0,\"\",_xll.SNT.StockInst($C258,\"安値時刻\"))","v":""},{"$f":"MID(_xll.SNT.StockInst($C258,\"安値時刻\"),12,5)","v":"ockIn"},"","","","",{"$f":"_xlfn.IFS(N258<制限値幅取得!I253,\"S安付近\",N258>制限値幅取得!H253,\"S高付近\",制限値幅取得!H253>N258>制限値幅取得!I253,\"\")","v":{"$error":"#VALUE!"}}]
[250,null,null,null,null,null,null,null,null,null,"","",null,{"$f":"IF(C259=0,\"wait\",_xll.SNT.StockInst(C259,$N$9))","v":"wait"},{"$f":"N259-制限値幅取得!E254","v":{"$error":"#VALUE!"}},{"$f":"IF(C259=0,\"wait\",_xll.SNT.StockInst(C259,$P$9))","v":"wait"},{"$f":"IF(C259=0,\"\",_xll.SNT.StockInst(C259,\"高値時刻\"))","v":""},{"$f":"MID(_xll.SNT.StockInst($C259,\"高値時刻\"),12,5)","v":"ockIn"},{"$f":"IF(C259=0,\"wait\",_xll.SNT.StockInst(C259,$S$9))","v":"wait"},{"$f":"IF($C259=0,\"\",_xll.SNT.StockInst($C259,\"安値時刻\"))","v":""},{"$f":"MID(_xll.SNT.StockInst($C259,\"安値時刻\"),12,5)","v":"ockIn"},"","","","",{"$f":"_xlfn.IFS(N259<制限値幅取得!I254,\"S安付近\",N259>制限値幅取得!H254,\"S高付近\",制限値幅取得!H254>N259>制限値幅取得!I254,\"\")","v":{"$error":"#VALUE!"}}]
[251,null,null,null,null,null,null,null,null,null,"","",null,{"$f":"IF(C260=0,\"wait\",_xll.SNT.StockInst(C260,$N$9))","v":"wait"},{"$f":"N260-制限値幅取得!E255","v":{"$error":"#VALUE!"}},{"$f":"IF(C260=0,\"wait\",_xll.SNT.StockInst(C260,$P$9))","v":"wait"},{"$f":"IF(C260=0,\"\",_xll.SNT.StockInst(C260,\"高値時刻\"))","v":""},{"$f":"MID(_xll.SNT.StockInst($C260,\"高値時刻\"),12,5)","v":"ockIn"},{"$f":"IF(C260=0,\"wait\",_xll.SNT.StockInst(C260,$S$9))","v":"wait"},{"$f":"IF($C260=0,\"\",_xll.SNT.StockInst($C260,\"安値時刻\"))","v":""},{"$f":"MID(_xll.SNT.StockInst($C260,\"安値時刻\"),12,5)","v":"ockIn"},"","","","",{"$f":"_xlfn.IFS(N260<制限値幅取得!I255,\"S安付近\",N260>制限値幅取得!H255,\"S高付近\",制限値幅取得!H255>N260>制限値幅取得!I255,\"\")","v":{"$error":"#VALUE!"}}]
[252,null,null,null,null,null,null,null,null,null,"","",null,{"$f":"IF(C261=0,\"wait\",_xll.SNT.StockInst(C261,$N$9))","v":"wait"},{"$f":"N261-制限値幅取得!E256","v":{"$error":"#VALUE!"}},{"$f":"IF(C261=0,\"wait\",_xll.SNT.StockInst(C261,$P$9))","v":"wait"},{"$f":"IF(C261=0,\"\",_xll.SNT.StockInst(C261,\"高値時刻\"))","v":""},{"$f":"MID(_xll.SNT.StockInst($C261,\"高値時刻\"),12,5)","v":"ockIn"},{"$f":"IF(C261=0,\"wait\",_xll.SNT.StockInst(C261,$S$9))","v":"wait"},{"$f":"IF($C261=0,\"\",_xll.SNT.StockInst($C261,\"安値時刻\"))","v":""},{"$f":"MID(_xll.SNT.StockInst($C261,\"安値時刻\"),12,5)","v":"ockIn"},"","","","",{"$f":"_xlfn.IFS(N261<制限値幅取得!I256,\"S安付近\",N261>制限値幅取得!H256,\"S高付近\",制限値幅取得!H256>N261>制限値幅取得!I256,\"\")","v":{"$error":"#VALUE!"}}]
[253,null,null,null,null,null,null,null,null,null,"","",null,{"$f":"IF(C262=0,\"wait\",_xll.SNT.StockInst(C262,$N$9))","v":"wait"},{"$f":"N262-制限値幅取得!E257","v":{"$error":"#VALUE!"}},{"$f":"IF(C262=0,\"wait\",_xll.SNT.StockInst(C262,$P$9))","v":"wait"},{"$f":"IF(C262=0,\"\",_xll.SNT.StockInst(C262,\"高値時刻\"))","v":""},{"$f":"MID(_xll.SNT.StockInst($C262,\"高値時刻\"),12,5)","v":"ockIn"},{"$f":"IF(C262=0,\"wait\",_xll.SNT.StockInst(C262,$S$9))","v":"wait"},{"$f":"IF($C262=0,\"\",_xll.SNT.StockInst($C262,\"安値時刻\"))","v":""},{"$f":"MID(_xll.SNT.StockInst($C262,\"安値時刻\"),12,5)","v":"ockIn"},"","","","",{"$f":"_xlfn.IFS(N262<制限値幅取得!I257,\"S安付近\",N262>制限値幅取得!H257,\"S高付近\",制限値幅取得!H257>N262>制限値幅取得!I257,\"\")","v":{"$error":"#VALUE!"}}]
[254,null,null,null,null,null,null,null,null,null,"","",null,{"$f":"IF(C263=0,\"wait\",_xll.SNT.StockInst(C263,$N$9))","v":"wait"},{"$f":"N263-制限値幅取得!E258","v":{"$error":"#VALUE!"}},{"$f":"IF(C263=0,\"wait\",_xll.SNT.StockInst(C263,$P$9))","v":"wait"},{"$f":"IF(C263=0,\"\",_xll.SNT.StockInst(C263,\"高値時刻\"))","v":""},{"$f":"MID(_xll.SNT.StockInst($C263,\"高値時刻\"),12,5)","v":"ockIn"},{"$f":"IF(C263=0,\"wait\",_xll.SNT.StockInst(C263,$S$9))","v":"wait"},{"$f":"IF($C263=0,\"\",_xll.SNT.StockInst($C263,\"安値時刻\"))","v":""},{"$f":"MID(_xll.SNT.StockInst($C263,\"安値時刻\"),12,5)","v":"ockIn"},"","","","",{"$f":"_xlfn.IFS(N263<制限値幅取得!I258,\"S安付近\",N263>制限値幅取得!H258,\"S高付近\",制限値幅取得!H258>N263>制限値幅取得!I258,\"\")","v":{"$error":"#VALUE!"}}]
[255,null,null,null,null,null,null,null,null,null,"","",null,{"$f":"IF(C264=0,\"wait\",_xll.SNT.StockInst(C264,$N$9))","v":"wait"},{"$f":"N264-制限値幅取得!E259","v":{"$error":"#VALUE!"}},{"$f":"IF(C264=0,\"wait\",_xll.SNT.StockInst(C264,$P$9))","v":"wait"},{"$f":"IF(C264=0,\"\",_xll.SNT.StockInst(C264,\"高値時刻\"))","v":""},{"$f":"MID(_xll.SNT.StockInst($C264,\"高値時刻\"),12,5)","v":"ockIn"},{"$f":"IF(C264=0,\"wait\",_xll.SNT.StockInst(C264,$S$9))","v":"wait"},{"$f":"IF($C264=0,\"\",_xll.SNT.StockInst($C264,\"安値時刻\"))","v":""},{"$f":"MID(_xll.SNT.StockInst($C264,\"安値時刻\"),12,5)","v":"ockIn"},"","","","",{"$f":"_xlfn.IFS(N264<制限値幅取得!I259,\"S安付近\",N264>制限値幅取得!H259,\"S高付近\",制限値幅取得!H259>N264>制限値幅取得!I259,\"\")","v":{"$error":"#VALUE!"}}]
[256,null,null,null,null,null,null,null,null,null,"","",null,{"$f":"IF(C265=0,\"wait\",_xll.SNT.StockInst(C265,$N$9))","v":"wait"},{"$f":"N265-制限値幅取得!E260","v":{"$error":"#VALUE!"}},{"$f":"IF(C265=0,\"wait\",_xll.SNT.StockInst(C265,$P$9))","v":"wait"},{"$f":"IF(C265=0,\"\",_xll.SNT.StockInst(C265,\"高値時刻\"))","v":""},{"$f":"MID(_xll.SNT.StockInst($C265,\"高値時刻\"),12,5)","v":"ockIn"},{"$f":"IF(C265=0,\"wait\",_xll.SNT.StockInst(C265,$S$9))","v":"wait"},{"$f":"IF($C265=0,\"\",_xll.SNT.StockInst($C265,\"安値時刻\"))","v":""},{"$f":"MID(_xll.SNT.StockInst($C265,\"安値時刻\"),12,5)","v":"ockIn"},"","","","",{"$f":"_xlfn.IFS(N265<制限値幅取得!I260,\"S安付近\",N265>制限値幅取得!H260,\"S高付近\",制限値幅取得!H260>N265>制限値幅取得!I260,\"\")","v":{"$error":"#VALUE!"}}]
[257,null,null,null,null,null,null,null,null,null,"","",null,{"$f":"IF(C266=0,\"wait\",_xll.SNT.StockInst(C266,$N$9))","v":"wait"},{"$f":"N266-制限値幅取得!E261","v":{"$error":"#VALUE!"}},{"$f":"IF(C266=0,\"wait\",_xll.SNT.StockInst(C266,$P$9))","v":"wait"},{"$f":"IF(C266=0,\"\",_xll.SNT.StockInst(C266,\"高値時刻\"))","v":""},{"$f":"MID(_xll.SNT.StockInst($C266,\"高値時刻\"),12,5)","v":"ockIn"},{"$f":"IF(C266=0,\"wait\",_xll.SNT.StockInst(C266,$S$9))","v":"wait"},{"$f":"IF($C266=0,\"\",_xll.SNT.StockInst($C266,\"安値時刻\"))","v":""},{"$f":"MID(_xll.SNT.StockInst($C266,\"安値時刻\"),12,5)","v":"ockIn"},{"$f":"IFERROR(IF($Y$2-$Q266<=TIME(0,$X$3,0),\"高値更新\",IF($Y$2-$T266<=TIME(0,$X$3,0),\"安値更新\",\"\")),\"\")","v":""},"","","",{"$f":"_xlfn.IFS(N266<制限値幅取得!I261,\"S安付近\",N266>制限値幅取得!H261,\"S高付近\",制限値幅取得!H261>N266>制限値幅取得!I261,\"\")","v":{"$error":"#VALUE!"}}]
[258,null,null,null,null,null,null,null,null,null,"","",null,{"$f":"IF(C267=0,\"wait\",_xll.SNT.StockInst(C267,$N$9))","v":"wait"},{"$f":"N267-制限値幅取得!E262","v":{"$error":"#VALUE!"}},{"$f":"IF(C267=0,\"wait\",_xll.SNT.StockInst(C267,$P$9))","v":"wait"},{"$f":"IF(C267=0,\"\",_xll.SNT.StockInst(C267,\"高値時刻\"))","v":""},{"$f":"MID(_xll.SNT.StockInst($C267,\"高値時刻\"),12,5)","v":"ockIn"},{"$f":"IF(C267=0,\"wait\",_xll.SNT.StockInst(C267,$S$9))","v":"wait"},{"$f":"IF($C267=0,\"\",_xll.SNT.StockInst($C267,\"安値時刻\"))","v":""},{"$f":"MID(_xll.SNT.StockInst($C267,\"安値時刻\"),12,5)","v":"ockIn"},"",{"$f":"IF(X267=\"\",\"\",IF(F267=\"買建\",IF(N267<X267,\"ﾛｽｶｯﾄ\",\"\"),IF(F267=\"売建\",IF(N267>X267,\"ﾛｽｶｯﾄ\",\"\"),\"\")))","v":""},{"$f":"IFERROR(MROUND(IF(F267=\"買建\",((I267*H267)+Y267)/H267,((I267*H267)-Y267)/H267),$X$5),\"\")","v":""},{"$f":"IF(K267<0,-(H267*I267*$X$4),\"\")","v":""},{"$f":"_xlfn.IFS(N267<制限値幅取得!I262,\"S安付近\",N267>制限値幅取得!H262,\"S高付近\",制限値幅取得!H262>N267>制限値幅取得!I262,\"\")","v":{"$error":"#VALUE!"}}]
[259,null,null,null,null,null,null,null,null,null,"","",null,{"$f":"IF(C268=0,\"wait\",_xll.SNT.StockInst(C268,$N$9))","v":"wait"},{"$f":"N268-制限値幅取得!E263","v":{"$error":"#VALUE!"}},{"$f":"IF(C268=0,\"wait\",_xll.SNT.StockInst(C268,$P$9))","v":"wait"},{"$f":"IF(C268=0,\"\",_xll.SNT.StockInst(C268,\"高値時刻\"))","v":""},{"$f":"MID(_xll.SNT.StockInst($C268,\"高値時刻\"),12,5)","v":"ockIn"},{"$f":"IF(C268=0,\"wait\",_xll.SNT.StockInst(C268,$S$9))","v":"wait"},{"$f":"IF($C268=0,\"\",_xll.SNT.StockInst($C268,\"安値時刻\"))","v":""},{"$f":"MID(_xll.SNT.StockInst($C268,\"安値時刻\"),12,5)","v":"ockIn"},"","","","",{"$f":"_xlfn.IFS(N268<制限値幅取得!I263,\"S安付近\",N268>制限値幅取得!H263,\"S高付近\",制限値幅取得!H263>N268>制限値幅取得!I263,\"\")","v":{"$error":"#VALUE!"}}]
[260,null,null,null,null,null,null,null,null,null,"","",null,{"$f":"IF(C269=0,\"wait\",_xll.SNT.StockInst(C269,$N$9))","v":"wait"},{"$f":"N269-制限値幅取得!E264","v":{"$error":"#VALUE!"}},{"$f":"IF(C269=0,\"wait\",_xll.SNT.StockInst(C269,$P$9))","v":"wait"},{"$f":"IF(C269=0,\"\",_xll.SNT.StockInst(C269,\"高値時刻\"))","v":""},{"$f":"MID(_xll.SNT.StockInst($C269,\"高値時刻\"),12,5)","v":"ockIn"},{"$f":"IF(C269=0,\"wait\",_xll.SNT.StockInst(C269,$S$9))","v":"wait"},{"$f":"IF($C269=0,\"\",_xll.SNT.StockInst($C269,\"安値時刻\"))","v":""},{"$f":"MID(_xll.SNT.StockInst($C269,\"安値時刻\"),12,5)","v":"ockIn"},"","","","",{"$f":"_xlfn.IFS(N269<制限値幅取得!I264,\"S安付近\",N269>制限値幅取得!H264,\"S高付近\",制限値幅取得!H264>N269>制限値幅取得!I264,\"\")","v":{"$error":"#VALUE!"}}]
[261,null,null,null,null,null,null,null,null,null,"","",null,{"$f":"IF(C270=0,\"wait\",_xll.SNT.StockInst(C270,$N$9))","v":"wait"},{"$f":"N270-制限値幅取得!E265","v":{"$error":"#VALUE!"}},{"$f":"IF(C270=0,\"wait\",_xll.SNT.StockInst(C270,$P$9))","v":"wait"},{"$f":"IF(C270=0,\"\",_xll.SNT.StockInst(C270,\"高値時刻\"))","v":""},{"$f":"MID(_xll.SNT.StockInst($C270,\"高値時刻\"),12,5)","v":"ockIn"},{"$f":"IF(C270=0,\"wait\",_xll.SNT.StockInst(C270,$S$9))","v":"wait"},{"$f":"IF($C270=0,\"\",_xll.SNT.StockInst($C270,\"安値時刻\"))","v":""},{"$f":"MID(_xll.SNT.StockInst($C270,\"安値時刻\"),12,5)","v":"ockIn"},"","","","",{"$f":"_xlfn.IFS(N270<制限値幅取得!I265,\"S安付近\",N270>制限値幅取得!H265,\"S高付近\",制限値幅取得!H265>N270>制限値幅取得!I265,\"\")","v":{"$error":"#VALUE!"}}]
[262,null,null,null,null,null,null,null,null,null,"","",null,{"$f":"IF(C271=0,\"wait\",_xll.SNT.StockInst(C271,$N$9))","v":"wait"},{"$f":"N271-制限値幅取得!E266","v":{"$error":"#VALUE!"}},{"$f":"IF(C271=0,\"wait\",_xll.SNT.StockInst(C271,$P$9))","v":"wait"},{"$f":"IF(C271=0,\"\",_xll.SNT.StockInst(C271,\"高値時刻\"))","v":""},{"$f":"MID(_xll.SNT.StockInst($C271,\"高値時刻\"),12,5)","v":"ockIn"},{"$f":"IF(C271=0,\"wait\",_xll.SNT.StockInst(C271,$S$9))","v":"wait"},{"$f":"IF($C271=0,\"\",_xll.SNT.StockInst($C271,\"安値時刻\"))","v":""},{"$f":"MID(_xll.SNT.StockInst($C271,\"安値時刻\"),12,5)","v":"ockIn"},"","","","",{"$f":"_xlfn.IFS(N271<制限値幅取得!I266,\"S安付近\",N271>制限値幅取得!H266,\"S高付近\",制限値幅取得!H266>N271>制限値幅取得!I266,\"\")","v":{"$error":"#VALUE!"}}]
[263,null,null,null,null,null,null,null,null,null,"","",null,{"$f":"IF(C272=0,\"wait\",_xll.SNT.StockInst(C272,$N$9))","v":"wait"},{"$f":"N272-制限値幅取得!E267","v":{"$error":"#VALUE!"}},{"$f":"IF(C272=0,\"wait\",_xll.SNT.StockInst(C272,$P$9))","v":"wait"},{"$f":"IF(C272=0,\"\",_xll.SNT.StockInst(C272,\"高値時刻\"))","v":""},{"$f":"MID(_xll.SNT.StockInst($C272,\"高値時刻\"),12,5)","v":"ockIn"},{"$f":"IF(C272=0,\"wait\",_xll.SNT.StockInst(C272,$S$9))","v":"wait"},{"$f":"IF($C272=0,\"\",_xll.SNT.StockInst($C272,\"安値時刻\"))","v":""},{"$f":"MID(_xll.SNT.StockInst($C272,\"安値時刻\"),12,5)","v":"ockIn"},"","","","",{"$f":"_xlfn.IFS(N272<制限値幅取得!I267,\"S安付近\",N272>制限値幅取得!H267,\"S高付近\",制限値幅取得!H267>N272>制限値幅取得!I267,\"\")","v":{"$error":"#VALUE!"}}]
[264,null,null,null,null,null,null,null,null,null,"","",null,{"$f":"IF(C273=0,\"wait\",_xll.SNT.StockInst(C273,$N$9))","v":"wait"},{"$f":"N273-制限値幅取得!E268","v":{"$error":"#VALUE!"}},{"$f":"IF(C273=0,\"wait\",_xll.SNT.StockInst(C273,$P$9))","v":"wait"},{"$f":"IF(C273=0,\"\",_xll.SNT.StockInst(C273,\"高値時刻\"))","v":""},{"$f":"MID(_xll.SNT.StockInst($C273,\"高値時刻\"),12,5)","v":"ockIn"},{"$f":"IF(C273=0,\"wait\",_xll.SNT.StockInst(C273,$S$9))","v":"wait"},{"$f":"IF($C273=0,\"\",_xll.SNT.StockInst($C273,\"安値時刻\"))","v":""},{"$f":"MID(_xll.SNT.StockInst($C273,\"安値時刻\"),12,5)","v":"ockIn"},"","","","",{"$f":"_xlfn.IFS(N273<制限値幅取得!I268,\"S安付近\",N273>制限値幅取得!H268,\"S高付近\",制限値幅取得!H268>N273>制限値幅取得!I268,\"\")","v":{"$error":"#VALUE!"}}]
[265,null,null,null,null,null,null,null,null,null,"","",null,{"$f":"IF(C274=0,\"wait\",_xll.SNT.StockInst(C274,$N$9))","v":"wait"},{"$f":"N274-制限値幅取得!E269","v":{"$error":"#VALUE!"}},{"$f":"IF(C274=0,\"wait\",_xll.SNT.StockInst(C274,$P$9))","v":"wait"},{"$f":"IF(C274=0,\"\",_xll.SNT.StockInst(C274,\"高値時刻\"))","v":""},{"$f":"MID(_xll.SNT.StockInst($C274,\"高値時刻\"),12,5)","v":"ockIn"},{"$f":"IF(C274=0,\"wait\",_xll.SNT.StockInst(C274,$S$9))","v":"wait"},{"$f":"IF($C274=0,\"\",_xll.SNT.StockInst($C274,\"安値時刻\"))","v":""},{"$f":"MID(_xll.SNT.StockInst($C274,\"安値時刻\"),12,5)","v":"ockIn"},"","","","",{"$f":"_xlfn.IFS(N274<制限値幅取得!I269,\"S安付近\",N274>制限値幅取得!H269,\"S高付近\",制限値幅取得!H269>N274>制限値幅取得!I269,\"\")","v":{"$error":"#VALUE!"}}]
[266,null,null,null,null,null,null,null,null,null,"","",null,{"$f":"IF(C275=0,\"wait\",_xll.SNT.StockInst(C275,$N$9))","v":"wait"},{"$f":"N275-制限値幅取得!E270","v":{"$error":"#VALUE!"}},{"$f":"IF(C275=0,\"wait\",_xll.SNT.StockInst(C275,$P$9))","v":"wait"},{"$f":"IF(C275=0,\"\",_xll.SNT.StockInst(C275,\"高値時刻\"))","v":""},{"$f":"MID(_xll.SNT.StockInst($C275,\"高値時刻\"),12,5)","v":"ockIn"},{"$f":"IF(C275=0,\"wait\",_xll.SNT.StockInst(C275,$S$9))","v":"wait"},{"$f":"IF($C275=0,\"\",_xll.SNT.StockInst($C275,\"安値時刻\"))","v":""},{"$f":"MID(_xll.SNT.StockInst($C275,\"安値時刻\"),12,5)","v":"ockIn"},"","","","",{"$f":"_xlfn.IFS(N275<制限値幅取得!I270,\"S安付近\",N275>制限値幅取得!H270,\"S高付近\",制限値幅取得!H270>N275>制限値幅取得!I270,\"\")","v":{"$error":"#VALUE!"}}]
[267,null,null,null,null,null,null,null,null,null,"","",null,{"$f":"IF(C276=0,\"wait\",_xll.SNT.StockInst(C276,$N$9))","v":"wait"},{"$f":"N276-制限値幅取得!E271","v":{"$error":"#VALUE!"}},{"$f":"IF(C276=0,\"wait\",_xll.SNT.StockInst(C276,$P$9))","v":"wait"},{"$f":"IF(C276=0,\"\",_xll.SNT.StockInst(C276,\"高値時刻\"))","v":""},{"$f":"MID(_xll.SNT.StockInst($C276,\"高値時刻\"),12,5)","v":"ockIn"},{"$f":"IF(C276=0,\"wait\",_xll.SNT.StockInst(C276,$S$9))","v":"wait"},{"$f":"IF($C276=0,\"\",_xll.SNT.StockInst($C276,\"安値時刻\"))","v":""},{"$f":"MID(_xll.SNT.StockInst($C276,\"安値時刻\"),12,5)","v":"ockIn"},"","","","",{"$f":"_xlfn.IFS(N276<制限値幅取得!I271,\"S安付近\",N276>制限値幅取得!H271,\"S高付近\",制限値幅取得!H271>N276>制限値幅取得!I271,\"\")","v":{"$error":"#VALUE!"}}]
[268,null,null,null,null,null,null,null,null,null,"","",null,{"$f":"IF(C277=0,\"wait\",_xll.SNT.StockInst(C277,$N$9))","v":"wait"},{"$f":"N277-制限値幅取得!E272","v":{"$error":"#VALUE!"}},{"$f":"IF(C277=0,\"wait\",_xll.SNT.StockInst(C277,$P$9))","v":"wait"},{"$f":"IF(C277=0,\"\",_xll.SNT.StockInst(C277,\"高値時刻\"))","v":""},{"$f":"MID(_xll.SNT.StockInst($C277,\"高値時刻\"),12,5)","v":"ockIn"},{"$f":"IF(C277=0,\"wait\",_xll.SNT.StockInst(C277,$S$9))","v":"wait"},{"$f":"IF($C277=0,\"\",_xll.SNT.StockInst($C277,\"安値時刻\"))","v":""},{"$f":"MID(_xll.SNT.StockInst($C277,\"安値時刻\"),12,5)","v":"ockIn"},"","","","",{"$f":"_xlfn.IFS(N277<制限値幅取得!I272,\"S安付近\",N277>制限値幅取得!H272,\"S高付近\",制限値幅取得!H272>N277>制限値幅取得!I272,\"\")","v":{"$error":"#VALUE!"}}]
[269,null,null,null,null,null,null,null,null,null,"","",null,{"$f":"IF(C278=0,\"wait\",_xll.SNT.StockInst(C278,$N$9))","v":"wait"},{"$f":"N278-制限値幅取得!E273","v":{"$error":"#VALUE!"}},{"$f":"IF(C278=0,\"wait\",_xll.SNT.StockInst(C278,$P$9))","v":"wait"},{"$f":"IF(C278=0,\"\",_xll.SNT.StockInst(C278,\"高値時刻\"))","v":""},{"$f":"MID(_xll.SNT.StockInst($C278,\"高値時刻\"),12,5)","v":"ockIn"},{"$f":"IF(C278=0,\"wait\",_xll.SNT.StockInst(C278,$S$9))","v":"wait"},{"$f":"IF($C278=0,\"\",_xll.SNT.StockInst($C278,\"安値時刻\"))","v":""},{"$f":"MID(_xll.SNT.StockInst($C278,\"安値時刻\"),12,5)","v":"ockIn"},"","","","",{"$f":"_xlfn.IFS(N278<制限値幅取得!I273,\"S安付近\",N278>制限値幅取得!H273,\"S高付近\",制限値幅取得!H273>N278>制限値幅取得!I273,\"\")","v":{"$error":"#VALUE!"}}]
[270,null,null,null,null,null,null,null,null,null,"","",null,{"$f":"IF(C279=0,\"wait\",_xll.SNT.StockInst(C279,$N$9))","v":"wait"},{"$f":"N279-制限値幅取得!E274","v":{"$error":"#VALUE!"}},{"$f":"IF(C279=0,\"wait\",_xll.SNT.StockInst(C279,$P$9))","v":"wait"},{"$f":"IF(C279=0,\"\",_xll.SNT.StockInst(C279,\"高値時刻\"))","v":""},{"$f":"MID(_xll.SNT.StockInst($C279,\"高値時刻\"),12,5)","v":"ockIn"},{"$f":"IF(C279=0,\"wait\",_xll.SNT.StockInst(C279,$S$9))","v":"wait"},{"$f":"IF($C279=0,\"\",_xll.SNT.StockInst($C279,\"安値時刻\"))","v":""},{"$f":"MID(_xll.SNT.StockInst($C279,\"安値時刻\"),12,5)","v":"ockIn"},"","","","",{"$f":"_xlfn.IFS(N279<制限値幅取得!I274,\"S安付近\",N279>制限値幅取得!H274,\"S高付近\",制限値幅取得!H274>N279>制限値幅取得!I274,\"\")","v":{"$error":"#VALUE!"}}]
[271,null,null,null,null,null,null,null,null,null,"","",null,{"$f":"IF(C280=0,\"wait\",_xll.SNT.StockInst(C280,$N$9))","v":"wait"},{"$f":"N280-制限値幅取得!E275","v":{"$error":"#VALUE!"}},{"$f":"IF(C280=0,\"wait\",_xll.SNT.StockInst(C280,$P$9))","v":"wait"},{"$f":"IF(C280=0,\"\",_xll.SNT.StockInst(C280,\"高値時刻\"))","v":""},{"$f":"MID(_xll.SNT.StockInst($C280,\"高値時刻\"),12,5)","v":"ockIn"},{"$f":"IF(C280=0,\"wait\",_xll.SNT.StockInst(C280,$S$9))","v":"wait"},{"$f":"IF($C280=0,\"\",_xll.SNT.StockInst($C280,\"安値時刻\"))","v":""},{"$f":"MID(_xll.SNT.StockInst($C280,\"安値時刻\"),12,5)","v":"ockIn"},"","","","",{"$f":"_xlfn.IFS(N280<制限値幅取得!I275,\"S安付近\",N280>制限値幅取得!H275,\"S高付近\",制限値幅取得!H275>N280>制限値幅取得!I275,\"\")","v":{"$error":"#VALUE!"}}]
[272,null,null,null,null,null,null,null,null,null,"","",null,{"$f":"IF(C281=0,\"wait\",_xll.SNT.StockInst(C281,$N$9))","v":"wait"},{"$f":"N281-制限値幅取得!E276","v":{"$error":"#VALUE!"}},{"$f":"IF(C281=0,\"wait\",_xll.SNT.StockInst(C281,$P$9))","v":"wait"},{"$f":"IF(C281=0,\"\",_xll.SNT.StockInst(C281,\"高値時刻\"))","v":""},{"$f":"MID(_xll.SNT.StockInst($C281,\"高値時刻\"),12,5)","v":"ockIn"},{"$f":"IF(C281=0,\"wait\",_xll.SNT.StockInst(C281,$S$9))","v":"wait"},{"$f":"IF($C281=0,\"\",_xll.SNT.StockInst($C281,\"安値時刻\"))","v":""},{"$f":"MID(_xll.SNT.StockInst($C281,\"安値時刻\"),12,5)","v":"ockIn"},"","","","",{"$f":"_xlfn.IFS(N281<制限値幅取得!I276,\"S安付近\",N281>制限値幅取得!H276,\"S高付近\",制限値幅取得!H276>N281>制限値幅取得!I276,\"\")","v":{"$error":"#VALUE!"}}]
[273,null,null,null,null,null,null,null,null,null,"","",null,{"$f":"IF(C282=0,\"wait\",_xll.SNT.StockInst(C282,$N$9))","v":"wait"},{"$f":"N282-制限値幅取得!E277","v":{"$error":"#VALUE!"}},{"$f":"IF(C282=0,\"wait\",_xll.SNT.StockInst(C282,$P$9))","v":"wait"},{"$f":"IF(C282=0,\"\",_xll.SNT.StockInst(C282,\"高値時刻\"))","v":""},{"$f":"MID(_xll.SNT.StockInst($C282,\"高値時刻\"),12,5)","v":"ockIn"},{"$f":"IF(C282=0,\"wait\",_xll.SNT.StockInst(C282,$S$9))","v":"wait"},{"$f":"IF($C282=0,\"\",_xll.SNT.StockInst($C282,\"安値時刻\"))","v":""},{"$f":"MID(_xll.SNT.StockInst($C282,\"安値時刻\"),12,5)","v":"ockIn"},"","","","",{"$f":"_xlfn.IFS(N282<制限値幅取得!I277,\"S安付近\",N282>制限値幅取得!H277,\"S高付近\",制限値幅取得!H277>N282>制限値幅取得!I277,\"\")","v":{"$error":"#VALUE!"}}]
[274,null,null,null,null,null,null,null,null,null,"","",null,{"$f":"IF(C283=0,\"wait\",_xll.SNT.StockInst(C283,$N$9))","v":"wait"},{"$f":"N283-制限値幅取得!E278","v":{"$error":"#VALUE!"}},{"$f":"IF(C283=0,\"wait\",_xll.SNT.StockInst(C283,$P$9))","v":"wait"},{"$f":"IF(C283=0,\"\",_xll.SNT.StockInst(C283,\"高値時刻\"))","v":""},{"$f":"MID(_xll.SNT.StockInst($C283,\"高値時刻\"),12,5)","v":"ockIn"},{"$f":"IF(C283=0,\"wait\",_xll.SNT.StockInst(C283,$S$9))","v":"wait"},{"$f":"IF($C283=0,\"\",_xll.SNT.StockInst($C283,\"安値時刻\"))","v":""},{"$f":"MID(_xll.SNT.StockInst($C283,\"安値時刻\"),12,5)","v":"ockIn"},"","","","",{"$f":"_xlfn.IFS(N283<制限値幅取得!I278,\"S安付近\",N283>制限値幅取得!H278,\"S高付近\",制限値幅取得!H278>N283>制限値幅取得!I278,\"\")","v":{"$error":"#VALUE!"}}]
[275,null,null,null,null,null,null,null,null,null,"","",null,{"$f":"IF(C284=0,\"wait\",_xll.SNT.StockInst(C284,$N$9))","v":"wait"},{"$f":"N284-制限値幅取得!E279","v":{"$error":"#VALUE!"}},{"$f":"IF(C284=0,\"wait\",_xll.SNT.StockInst(C284,$P$9))","v":"wait"},{"$f":"IF(C284=0,\"\",_xll.SNT.StockInst(C284,\"高値時刻\"))","v":""},{"$f":"MID(_xll.SNT.StockInst($C284,\"高値時刻\"),12,5)","v":"ockIn"},{"$f":"IF(C284=0,\"wait\",_xll.SNT.StockInst(C284,$S$9))","v":"wait"},{"$f":"IF($C284=0,\"\",_xll.SNT.StockInst($C284,\"安値時刻\"))","v":""},{"$f":"MID(_xll.SNT.StockInst($C284,\"安値時刻\"),12,5)","v":"ockIn"},"","","","",{"$f":"_xlfn.IFS(N284<制限値幅取得!I279,\"S安付近\",N284>制限値幅取得!H279,\"S高付近\",制限値幅取得!H279>N284>制限値幅取得!I279,\"\")","v":{"$error":"#VALUE!"}}]
[276,null,null,null,null,null,null,null,null,null,"","",null,{"$f":"IF(C285=0,\"wait\",_xll.SNT.StockInst(C285,$N$9))","v":"wait"},{"$f":"N285-制限値幅取得!E280","v":{"$error":"#VALUE!"}},{"$f":"IF(C285=0,\"wait\",_xll.SNT.StockInst(C285,$P$9))","v":"wait"},{"$f":"IF(C285=0,\"\",_xll.SNT.StockInst(C285,\"高値時刻\"))","v":""},{"$f":"MID(_xll.SNT.StockInst($C285,\"高値時刻\"),12,5)","v":"ockIn"},{"$f":"IF(C285=0,\"wait\",_xll.SNT.StockInst(C285,$S$9))","v":"wait"},{"$f":"IF($C285=0,\"\",_xll.SNT.StockInst($C285,\"安値時刻\"))","v":""},{"$f":"MID(_xll.SNT.StockInst($C285,\"安値時刻\"),12,5)","v":"ockIn"},"","","","",{"$f":"_xlfn.IFS(N285<制限値幅取得!I280,\"S安付近\",N285>制限値幅取得!H280,\"S高付近\",制限値幅取得!H280>N285>制限値幅取得!I280,\"\")","v":{"$error":"#VALUE!"}}]
[277,null,null,null,null,null,null,null,null,null,"","",null,{"$f":"IF(C286=0,\"wait\",_xll.SNT.StockInst(C286,$N$9))","v":"wait"},{"$f":"N286-制限値幅取得!E281","v":{"$error":"#VALUE!"}},{"$f":"IF(C286=0,\"wait\",_xll.SNT.StockInst(C286,$P$9))","v":"wait"},{"$f":"IF(C286=0,\"\",_xll.SNT.StockInst(C286,\"高値時刻\"))","v":""},{"$f":"MID(_xll.SNT.StockInst($C286,\"高値時刻\"),12,5)","v":"ockIn"},{"$f":"IF(C286=0,\"wait\",_xll.SNT.StockInst(C286,$S$9))","v":"wait"},{"$f":"IF($C286=0,\"\",_xll.SNT.StockInst($C286,\"安値時刻\"))","v":""},{"$f":"MID(_xll.SNT.StockInst($C286,\"安値時刻\"),12,5)","v":"ockIn"},"","","","",{"$f":"_xlfn.IFS(N286<制限値幅取得!I281,\"S安付近\",N286>制限値幅取得!H281,\"S高付近\",制限値幅取得!H281>N286>制限値幅取得!I281,\"\")","v":{"$error":"#VALUE!"}}]
[278,null,null,null,null,null,null,null,null,null,"","",null,{"$f":"IF(C287=0,\"wait\",_xll.SNT.StockInst(C287,$N$9))","v":"wait"},{"$f":"N287-制限値幅取得!E282","v":{"$error":"#VALUE!"}},{"$f":"IF(C287=0,\"wait\",_xll.SNT.StockInst(C287,$P$9))","v":"wait"},{"$f":"IF(C287=0,\"\",_xll.SNT.StockInst(C287,\"高値時刻\"))","v":""},{"$f":"MID(_xll.SNT.StockInst($C287,\"高値時刻\"),12,5)","v":"ockIn"},{"$f":"IF(C287=0,\"wait\",_xll.SNT.StockInst(C287,$S$9))","v":"wait"},{"$f":"IF($C287=0,\"\",_xll.SNT.StockInst($C287,\"安値時刻\"))","v":""},{"$f":"MID(_xll.SNT.StockInst($C287,\"安値時刻\"),12,5)","v":"ockIn"},"","","","",{"$f":"_xlfn.IFS(N287<制限値幅取得!I282,\"S安付近\",N287>制限値幅取得!H282,\"S高付近\",制限値幅取得!H282>N287>制限値幅取得!I282,\"\")","v":{"$error":"#VALUE!"}}]
[279,null,null,null,null,null,null,null,null,null,"","",null,{"$f":"IF(C288=0,\"wait\",_xll.SNT.StockInst(C288,$N$9))","v":"wait"},{"$f":"N288-制限値幅取得!E283","v":{"$error":"#VALUE!"}},{"$f":"IF(C288=0,\"wait\",_xll.SNT.StockInst(C288,$P$9))","v":"wait"},{"$f":"IF(C288=0,\"\",_xll.SNT.StockInst(C288,\"高値時刻\"))","v":""},{"$f":"MID(_xll.SNT.StockInst($C288,\"高値時刻\"),12,5)","v":"ockIn"},{"$f":"IF(C288=0,\"wait\",_xll.SNT.StockInst(C288,$S$9))","v":"wait"},{"$f":"IF($C288=0,\"\",_xll.SNT.StockInst($C288,\"安値時刻\"))","v":""},{"$f":"MID(_xll.SNT.StockInst($C288,\"安値時刻\"),12,5)","v":"ockIn"},"","","","",{"$f":"_xlfn.IFS(N288<制限値幅取得!I283,\"S安付近\",N288>制限値幅取得!H283,\"S高付近\",制限値幅取得!H283>N288>制限値幅取得!I283,\"\")","v":{"$error":"#VALUE!"}}]
[280,null,null,null,null,null,null,null,null,null,"","",null,{"$f":"IF(C289=0,\"wait\",_xll.SNT.StockInst(C289,$N$9))","v":"wait"},{"$f":"N289-制限値幅取得!E284","v":{"$error":"#VALUE!"}},{"$f":"IF(C289=0,\"wait\",_xll.SNT.StockInst(C289,$P$9))","v":"wait"},{"$f":"IF(C289=0,\"\",_xll.SNT.StockInst(C289,\"高値時刻\"))","v":""},{"$f":"MID(_xll.SNT.StockInst($C289,\"高値時刻\"),12,5)","v":"ockIn"},{"$f":"IF(C289=0,\"wait\",_xll.SNT.StockInst(C289,$S$9))","v":"wait"},{"$f":"IF($C289=0,\"\",_xll.SNT.StockInst($C289,\"安値時刻\"))","v":""},{"$f":"MID(_xll.SNT.StockInst($C289,\"安値時刻\"),12,5)","v":"ockIn"},"","","","",{"$f":"_xlfn.IFS(N289<制限値幅取得!I284,\"S安付近\",N289>制限値幅取得!H284,\"S高付近\",制限値幅取得!H284>N289>制限値幅取得!I284,\"\")","v":{"$error":"#VALUE!"}}]
[281,null,null,null,null,null,null,null,null,null,"","",null,{"$f":"IF(C290=0,\"wait\",_xll.SNT.StockInst(C290,$N$9))","v":"wait"},{"$f":"N290-制限値幅取得!E285","v":{"$error":"#VALUE!"}},{"$f":"IF(C290=0,\"wait\",_xll.SNT.StockInst(C290,$P$9))","v":"wait"},{"$f":"IF(C290=0,\"\",_xll.SNT.StockInst(C290,\"高値時刻\"))","v":""},{"$f":"MID(_xll.SNT.StockInst($C290,\"高値時刻\"),12,5)","v":"ockIn"},{"$f":"IF(C290=0,\"wait\",_xll.SNT.StockInst(C290,$S$9))","v":"wait"},{"$f":"IF($C290=0,\"\",_xll.SNT.StockInst($C290,\"安値時刻\"))","v":""},{"$f":"MID(_xll.SNT.StockInst($C290,\"安値時刻\"),12,5)","v":"ockIn"},"","","","",{"$f":"_xlfn.IFS(N290<制限値幅取得!I285,\"S安付近\",N290>制限値幅取得!H285,\"S高付近\",制限値幅取得!H285>N290>制限値幅取得!I285,\"\")","v":{"$error":"#VALUE!"}}]
[282,null,null,null,null,null,null,null,null,null,"","",null,{"$f":"IF(C291=0,\"wait\",_xll.SNT.StockInst(C291,$N$9))","v":"wait"},{"$f":"N291-制限値幅取得!E286","v":{"$error":"#VALUE!"}},{"$f":"IF(C291=0,\"wait\",_xll.SNT.StockInst(C291,$P$9))","v":"wait"},{"$f":"IF(C291=0,\"\",_xll.SNT.StockInst(C291,\"高値時刻\"))","v":""},{"$f":"MID(_xll.SNT.StockInst($C291,\"高値時刻\"),12,5)","v":"ockIn"},{"$f":"IF(C291=0,\"wait\",_xll.SNT.StockInst(C291,$S$9))","v":"wait"},{"$f":"IF($C291=0,\"\",_xll.SNT.StockInst($C291,\"安値時刻\"))","v":""},{"$f":"MID(_xll.SNT.StockInst($C291,\"安値時刻\"),12,5)","v":"ockIn"},"","","","",{"$f":"_xlfn.IFS(N291<制限値幅取得!I286,\"S安付近\",N291>制限値幅取得!H286,\"S高付近\",制限値幅取得!H286>N291>制限値幅取得!I286,\"\")","v":{"$error":"#VALUE!"}}]
[283,null,null,null,null,null,null,null,null,null,"","",null,{"$f":"IF(C292=0,\"wait\",_xll.SNT.StockInst(C292,$N$9))","v":"wait"},{"$f":"N292-制限値幅取得!E287","v":{"$error":"#VALUE!"}},{"$f":"IF(C292=0,\"wait\",_xll.SNT.StockInst(C292,$P$9))","v":"wait"},{"$f":"IF(C292=0,\"\",_xll.SNT.StockInst(C292,\"高値時刻\"))","v":""},{"$f":"MID(_xll.SNT.StockInst($C292,\"高値時刻\"),12,5)","v":"ockIn"},{"$f":"IF(C292=0,\"wait\",_xll.SNT.StockInst(C292,$S$9))","v":"wait"},{"$f":"IF($C292=0,\"\",_xll.SNT.StockInst($C292,\"安値時刻\"))","v":""},{"$f":"MID(_xll.SNT.StockInst($C292,\"安値時刻\"),12,5)","v":"ockIn"},"","","","",{"$f":"_xlfn.IFS(N292<制限値幅取得!I287,\"S安付近\",N292>制限値幅取得!H287,\"S高付近\",制限値幅取得!H287>N292>制限値幅取得!I287,\"\")","v":{"$error":"#VALUE!"}}]
[284,null,null,null,null,null,null,null,null,null,"","",null,{"$f":"IF(C293=0,\"wait\",_xll.SNT.StockInst(C293,$N$9))","v":"wait"},{"$f":"N293-制限値幅取得!E288","v":{"$error":"#VALUE!"}},{"$f":"IF(C293=0,\"wait\",_xll.SNT.StockInst(C293,$P$9))","v":"wait"},{"$f":"IF(C293=0,\"\",_xll.SNT.StockInst(C293,\"高値時刻\"))","v":""},{"$f":"MID(_xll.SNT.StockInst($C293,\"高値時刻\"),12,5)","v":"ockIn"},{"$f":"IF(C293=0,\"wait\",_xll.SNT.StockInst(C293,$S$9))","v":"wait"},{"$f":"IF($C293=0,\"\",_xll.SNT.StockInst($C293,\"安値時刻\"))","v":""},{"$f":"MID(_xll.SNT.StockInst($C293,\"安値時刻\"),12,5)","v":"ockIn"},"","","","",{"$f":"_xlfn.IFS(N293<制限値幅取得!I288,\"S安付近\",N293>制限値幅取得!H288,\"S高付近\",制限値幅取得!H288>N293>制限値幅取得!I288,\"\")","v":{"$error":"#VALUE!"}}]
[285,null,null,null,null,null,null,null,null,null,"","",null,{"$f":"IF(C294=0,\"wait\",_xll.SNT.StockInst(C294,$N$9))","v":"wait"},{"$f":"N294-制限値幅取得!E289","v":{"$error":"#VALUE!"}},{"$f":"IF(C294=0,\"wait\",_xll.SNT.StockInst(C294,$P$9))","v":"wait"},{"$f":"IF(C294=0,\"\",_xll.SNT.StockInst(C294,\"高値時刻\"))","v":""},{"$f":"MID(_xll.SNT.StockInst($C294,\"高値時刻\"),12,5)","v":"ockIn"},{"$f":"IF(C294=0,\"wait\",_xll.SNT.StockInst(C294,$S$9))","v":"wait"},{"$f":"IF($C294=0,\"\",_xll.SNT.StockInst($C294,\"安値時刻\"))","v":""},{"$f":"MID(_xll.SNT.StockInst($C294,\"安値時刻\"),12,5)","v":"ockIn"},"","","","",{"$f":"_xlfn.IFS(N294<制限値幅取得!I289,\"S安付近\",N294>制限値幅取得!H289,\"S高付近\",制限値幅取得!H289>N294>制限値幅取得!I289,\"\")","v":{"$error":"#VALUE!"}}]
[286,null,null,null,null,null,null,null,null,null,"","",null,{"$f":"IF(C295=0,\"wait\",_xll.SNT.StockInst(C295,$N$9))","v":"wait"},{"$f":"N295-制限値幅取得!E290","v":{"$error":"#VALUE!"}},{"$f":"IF(C295=0,\"wait\",_xll.SNT.StockInst(C295,$P$9))","v":"wait"},{"$f":"IF(C295=0,\"\",_xll.SNT.StockInst(C295,\"高値時刻\"))","v":""},{"$f":"MID(_xll.SNT.StockInst($C295,\"高値時刻\"),12,5)","v":"ockIn"},{"$f":"IF(C295=0,\"wait\",_xll.SNT.StockInst(C295,$S$9))","v":"wait"},{"$f":"IF($C295=0,\"\",_xll.SNT.StockInst($C295,\"安値時刻\"))","v":""},{"$f":"MID(_xll.SNT.StockInst($C295,\"安値時刻\"),12,5)","v":"ockIn"},"","","","",{"$f":"_xlfn.IFS(N295<制限値幅取得!I290,\"S安付近\",N295>制限値幅取得!H290,\"S高付近\",制限値幅取得!H290>N295>制限値幅取得!I290,\"\")","v":{"$error":"#VALUE!"}}]
[287,null,null,null,null,null,null,null,null,null,{"$f":"IFERROR(IF(F296=\"買建\",(N296-I296)*H296,(I296-N296)*H296),\"\")","v":""},{"$f":"IFERROR(K296/(I296*H296),\"\")","v":""},null,{"$f":"IF(C296=0,\"wait\",_xll.SNT.StockInst(C296,$N$9))","v":"wait"},{"$f":"N296-制限値幅取得!E291","v":{"$error":"#VALUE!"}},{"$f":"IF(C296=0,\"wait\",_xll.SNT.StockInst(C296,$P$9))","v":"wait"},{"$f":"IF(C296=0,\"\",_xll.SNT.StockInst(C296,\"高値時刻\"))","v":""},{"$f":"MID(_xll.SNT.StockInst($C296,\"高値時刻\"),12,5)","v":"ockIn"},{"$f":"IF(C296=0,\"wait\",_xll.SNT.StockInst(C296,$S$9))","v":"wait"},{"$f":"IF($C296=0,\"\",_xll.SNT.StockInst($C296,\"安値時刻\"))","v":""},{"$f":"MID(_xll.SNT.StockInst($C296,\"安値時刻\"),12,5)","v":"ockIn"},"","","","",{"$f":"_xlfn.IFS(N296<制限値幅取得!I291,\"S安付近\",N296>制限値幅取得!H291,\"S高付近\",制限値幅取得!H291>N296>制限値幅取得!I291,\"\")","v":{"$error":"#VALUE!"}}]
[288,null,null,null,null,null,null,null,null,null,"","",null,{"$f":"IF(C297=0,\"wait\",_xll.SNT.StockInst(C297,$N$9))","v":"wait"},{"$f":"N297-制限値幅取得!E292","v":{"$error":"#VALUE!"}},{"$f":"IF(C297=0,\"wait\",_xll.SNT.StockInst(C297,$P$9))","v":"wait"},{"$f":"IF(C297=0,\"\",_xll.SNT.StockInst(C297,\"高値時刻\"))","v":""},{"$f":"MID(_xll.SNT.StockInst($C297,\"高値時刻\"),12,5)","v":"ockIn"},{"$f":"IF(C297=0,\"wait\",_xll.SNT.StockInst(C297,$S$9))","v":"wait"},{"$f":"IF($C297=0,\"\",_xll.SNT.StockInst($C297,\"安値時刻\"))","v":""},{"$f":"MID(_xll.SNT.StockInst($C297,\"安値時刻\"),12,5)","v":"ockIn"},"","","","",{"$f":"_xlfn.IFS(N297<制限値幅取得!I292,\"S安付近\",N297>制限値幅取得!H292,\"S高付近\",制限値幅取得!H292>N297>制限値幅取得!I292,\"\")","v":{"$error":"#VALUE!"}}]
[289,null,null,null,null,null,null,null,null,null,"","",null,{"$f":"IF(C298=0,\"wait\",_xll.SNT.StockInst(C298,$N$9))","v":"wait"},{"$f":"N298-制限値幅取得!E293","v":{"$error":"#VALUE!"}},{"$f":"IF(C298=0,\"wait\",_xll.SNT.StockInst(C298,$P$9))","v":"wait"},{"$f":"IF(C298=0,\"\",_xll.SNT.StockInst(C298,\"高値時刻\"))","v":""},{"$f":"MID(_xll.SNT.StockInst($C298,\"高値時刻\"),12,5)","v":"ockIn"},{"$f":"IF(C298=0,\"wait\",_xll.SNT.StockInst(C298,$S$9))","v":"wait"},{"$f":"IF($C298=0,\"\",_xll.SNT.StockInst($C298,\"安値時刻\"))","v":""},{"$f":"MID(_xll.SNT.StockInst($C298,\"安値時刻\"),12,5)","v":"ockIn"},"","","","",{"$f":"_xlfn.IFS(N298<制限値幅取得!I293,\"S安付近\",N298>制限値幅取得!H293,\"S高付近\",制限値幅取得!H293>N298>制限値幅取得!I293,\"\")","v":{"$error":"#VALUE!"}}]
[290,null,null,null,null,null,null,null,null,null,"","",null,{"$f":"IF(C299=0,\"wait\",_xll.SNT.StockInst(C299,$N$9))","v":"wait"},{"$f":"N299-制限値幅取得!E294","v":{"$error":"#VALUE!"}},{"$f":"IF(C299=0,\"wait\",_xll.SNT.StockInst(C299,$P$9))","v":"wait"},{"$f":"IF(C299=0,\"\",_xll.SNT.StockInst(C299,\"高値時刻\"))","v":""},{"$f":"MID(_xll.SNT.StockInst($C299,\"高値時刻\"),12,5)","v":"ockIn"},{"$f":"IF(C299=0,\"wait\",_xll.SNT.StockInst(C299,$S$9))","v":"wait"},{"$f":"IF($C299=0,\"\",_xll.SNT.StockInst($C299,\"安値時刻\"))","v":""},{"$f":"MID(_xll.SNT.StockInst($C299,\"安値時刻\"),12,5)","v":"ockIn"},"","","","",{"$f":"_xlfn.IFS(N299<制限値幅取得!I294,\"S安付近\",N299>制限値幅取得!H294,\"S高付近\",制限値幅取得!H294>N299>制限値幅取得!I294,\"\")","v":{"$error":"#VALUE!"}}]
[291,null,null,null,null,null,null,null,null,null,"","",null,{"$f":"IF(C300=0,\"wait\",_xll.SNT.StockInst(C300,$N$9))","v":"wait"},{"$f":"N300-制限値幅取得!E295","v":{"$error":"#VALUE!"}},{"$f":"IF(C300=0,\"wait\",_xll.SNT.StockInst(C300,$P$9))","v":"wait"},{"$f":"IF(C300=0,\"\",_xll.SNT.StockInst(C300,\"高値時刻\"))","v":""},{"$f":"MID(_xll.SNT.StockInst($C300,\"高値時刻\"),12,5)","v":"ockIn"},{"$f":"IF(C300=0,\"wait\",_xll.SNT.StockInst(C300,$S$9))","v":"wait"},{"$f":"IF($C300=0,\"\",_xll.SNT.StockInst($C300,\"安値時刻\"))","v":""},{"$f":"MID(_xll.SNT.StockInst($C300,\"安値時刻\"),12,5)","v":"ockIn"},"","","","",{"$f":"_xlfn.IFS(N300<制限値幅取得!I295,\"S安付近\",N300>制限値幅取得!H295,\"S高付近\",制限値幅取得!H295>N300>制限値幅取得!I295,\"\")","v":{"$error":"#VALUE!"}}]
[292,null,null,null,null,null,null,null,null,null,"","",null,{"$f":"IF(C301=0,\"wait\",_xll.SNT.StockInst(C301,$N$9))","v":"wait"},{"$f":"N301-制限値幅取得!E296","v":{"$error":"#VALUE!"}},{"$f":"IF(C301=0,\"wait\",_xll.SNT.StockInst(C301,$P$9))","v":"wait"},{"$f":"IF(C301=0,\"\",_xll.SNT.StockInst(C301,\"高値時刻\"))","v":""},{"$f":"MID(_xll.SNT.StockInst($C301,\"高値時刻\"),12,5)","v":"ockIn"},{"$f":"IF(C301=0,\"wait\",_xll.SNT.StockInst(C301,$S$9))","v":"wait"},{"$f":"IF($C301=0,\"\",_xll.SNT.StockInst($C301,\"安値時刻\"))","v":""},{"$f":"MID(_xll.SNT.StockInst($C301,\"安値時刻\"),12,5)","v":"ockIn"},"","","","",{"$f":"_xlfn.IFS(N301<制限値幅取得!I296,\"S安付近\",N301>制限値幅取得!H296,\"S高付近\",制限値幅取得!H296>N301>制限値幅取得!I296,\"\")","v":{"$error":"#VALUE!"}}]
[293,null,null,null,null,null,null,null,null,null,"","",null,{"$f":"IF(C302=0,\"wait\",_xll.SNT.StockInst(C302,$N$9))","v":"wait"},{"$f":"N302-制限値幅取得!E297","v":{"$error":"#VALUE!"}},{"$f":"IF(C302=0,\"wait\",_xll.SNT.StockInst(C302,$P$9))","v":"wait"},{"$f":"IF(C302=0,\"\",_xll.SNT.StockInst(C302,\"高値時刻\"))","v":""},{"$f":"MID(_xll.SNT.StockInst($C302,\"高値時刻\"),12,5)","v":"ockIn"},{"$f":"IF(C302=0,\"wait\",_xll.SNT.StockInst(C302,$S$9))","v":"wait"},{"$f":"IF($C302=0,\"\",_xll.SNT.StockInst($C302,\"安値時刻\"))","v":""},{"$f":"MID(_xll.SNT.StockInst($C302,\"安値時刻\"),12,5)","v":"ockIn"},"","","","",{"$f":"_xlfn.IFS(N302<制限値幅取得!I297,\"S安付近\",N302>制限値幅取得!H297,\"S高付近\",制限値幅取得!H297>N302>制限値幅取得!I297,\"\")","v":{"$error":"#VALUE!"}}]
[294,null,null,null,null,null,null,null,null,null,"","",null,{"$f":"IF(C303=0,\"wait\",_xll.SNT.StockInst(C303,$N$9))","v":"wait"},{"$f":"N303-制限値幅取得!E298","v":{"$error":"#VALUE!"}},{"$f":"IF(C303=0,\"wait\",_xll.SNT.StockInst(C303,$P$9))","v":"wait"},{"$f":"IF(C303=0,\"\",_xll.SNT.StockInst(C303,\"高値時刻\"))","v":""},{"$f":"MID(_xll.SNT.StockInst($C303,\"高値時刻\"),12,5)","v":"ockIn"},{"$f":"IF(C303=0,\"wait\",_xll.SNT.StockInst(C303,$S$9))","v":"wait"},{"$f":"IF($C303=0,\"\",_xll.SNT.StockInst($C303,\"安値時刻\"))","v":""},{"$f":"MID(_xll.SNT.StockInst($C303,\"安値時刻\"),12,5)","v":"ockIn"},"","","","",{"$f":"_xlfn.IFS(N303<制限値幅取得!I298,\"S安付近\",N303>制限値幅取得!H298,\"S高付近\",制限値幅取得!H298>N303>制限値幅取得!I298,\"\")","v":{"$error":"#VALUE!"}}]
[295,null,null,null,null,null,null,null,null,null,"","",null,{"$f":"IF(C304=0,\"wait\",_xll.SNT.StockInst(C304,$N$9))","v":"wait"},{"$f":"N304-制限値幅取得!E299","v":{"$error":"#VALUE!"}},{"$f":"IF(C304=0,\"wait\",_xll.SNT.StockInst(C304,$P$9))","v":"wait"},{"$f":"IF(C304=0,\"\",_xll.SNT.StockInst(C304,\"高値時刻\"))","v":""},{"$f":"MID(_xll.SNT.StockInst($C304,\"高値時刻\"),12,5)","v":"ockIn"},{"$f":"IF(C304=0,\"wait\",_xll.SNT.StockInst(C304,$S$9))","v":"wait"},{"$f":"IF($C304=0,\"\",_xll.SNT.StockInst($C304,\"安値時刻\"))","v":""},{"$f":"MID(_xll.SNT.StockInst($C304,\"安値時刻\"),12,5)","v":"ockIn"},"","","","",{"$f":"_xlfn.IFS(N304<制限値幅取得!I299,\"S安付近\",N304>制限値幅取得!H299,\"S高付近\",制限値幅取得!H299>N304>制限値幅取得!I299,\"\")","v":{"$error":"#VALUE!"}}]
[296,null,null,null,null,null,null,null,null,null,"","",null,{"$f":"IF(C305=0,\"wait\",_xll.SNT.StockInst(C305,$N$9))","v":"wait"},{"$f":"N305-制限値幅取得!E300","v":{"$error":"#VALUE!"}},{"$f":"IF(C305=0,\"wait\",_xll.SNT.StockInst(C305,$P$9))","v":"wait"},{"$f":"IF(C305=0,\"\",_xll.SNT.StockInst(C305,\"高値時刻\"))","v":""},{"$f":"MID(_xll.SNT.StockInst($C305,\"高値時刻\"),12,5)","v":"ockIn"},{"$f":"IF(C305=0,\"wait\",_xll.SNT.StockInst(C305,$S$9))","v":"wait"},{"$f":"IF($C305=0,\"\",_xll.SNT.StockInst($C305,\"安値時刻\"))","v":""},{"$f":"MID(_xll.SNT.StockInst($C305,\"安値時刻\"),12,5)","v":"ockIn"},"","","","",{"$f":"_xlfn.IFS(N305<制限値幅取得!I300,\"S安付近\",N305>制限値幅取得!H300,\"S高付近\",制限値幅取得!H300>N305>制限値幅取得!I300,\"\")","v":{"$error":"#VALUE!"}}]
[297,null,null,null,null,null,null,null,null,null,"","",null,{"$f":"IF(C306=0,\"wait\",_xll.SNT.StockInst(C306,$N$9))","v":"wait"},{"$f":"N306-制限値幅取得!E301","v":{"$error":"#VALUE!"}},{"$f":"IF(C306=0,\"wait\",_xll.SNT.StockInst(C306,$P$9))","v":"wait"},{"$f":"IF(C306=0,\"\",_xll.SNT.StockInst(C306,\"高値時刻\"))","v":""},{"$f":"MID(_xll.SNT.StockInst($C306,\"高値時刻\"),12,5)","v":"ockIn"},{"$f":"IF(C306=0,\"wait\",_xll.SNT.StockInst(C306,$S$9))","v":"wait"},{"$f":"IF($C306=0,\"\",_xll.SNT.StockInst($C306,\"安値時刻\"))","v":""},{"$f":"MID(_xll.SNT.StockInst($C306,\"安値時刻\"),12,5)","v":"ockIn"},"","","","",{"$f":"_xlfn.IFS(N306<制限値幅取得!I301,\"S安付近\",N306>制限値幅取得!H301,\"S高付近\",制限値幅取得!H301>N306>制限値幅取得!I301,\"\")","v":{"$error":"#VALUE!"}}]
[298,null,null,null,null,null,null,null,null,null,"","",null,{"$f":"IF(C307=0,\"wait\",_xll.SNT.StockInst(C307,$N$9))","v":"wait"},{"$f":"N307-制限値幅取得!E302","v":{"$error":"#VALUE!"}},{"$f":"IF(C307=0,\"wait\",_xll.SNT.StockInst(C307,$P$9))","v":"wait"},{"$f":"IF(C307=0,\"\",_xll.SNT.StockInst(C307,\"高値時刻\"))","v":""},{"$f":"MID(_xll.SNT.StockInst($C307,\"高値時刻\"),12,5)","v":"ockIn"},{"$f":"IF(C307=0,\"wait\",_xll.SNT.StockInst(C307,$S$9))","v":"wait"},{"$f":"IF($C307=0,\"\",_xll.SNT.StockInst($C307,\"安値時刻\"))","v":""},{"$f":"MID(_xll.SNT.StockInst($C307,\"安値時刻\"),12,5)","v":"ockIn"},"","","","",{"$f":"_xlfn.IFS(N307<制限値幅取得!I302,\"S安付近\",N307>制限値幅取得!H302,\"S高付近\",制限値幅取得!H302>N307>制限値幅取得!I302,\"\")","v":{"$error":"#VALUE!"}}]
[299,null,null,null,null,null,null,null,null,null,"","",null,{"$f":"IF(C308=0,\"wait\",_xll.SNT.StockInst(C308,$N$9))","v":"wait"},{"$f":"N308-制限値幅取得!E303","v":{"$error":"#VALUE!"}},{"$f":"IF(C308=0,\"wait\",_xll.SNT.StockInst(C308,$P$9))","v":"wait"},{"$f":"IF(C308=0,\"\",_xll.SNT.StockInst(C308,\"高値時刻\"))","v":""},{"$f":"MID(_xll.SNT.StockInst($C308,\"高値時刻\"),12,5)","v":"ockIn"},{"$f":"IF(C308=0,\"wait\",_xll.SNT.StockInst(C308,$S$9))","v":"wait"},{"$f":"IF($C308=0,\"\",_xll.SNT.StockInst($C308,\"安値時刻\"))","v":""},{"$f":"MID(_xll.SNT.StockInst($C308,\"安値時刻\"),12,5)","v":"ockIn"},"","","","",{"$f":"_xlfn.IFS(N308<制限値幅取得!I303,\"S安付近\",N308>制限値幅取得!H303,\"S高付近\",制限値幅取得!H303>N308>制限値幅取得!I303,\"\")","v":{"$error":"#VALUE!"}}]
[300,null,null,null,null,null,null,null,null,null,"","",null,{"$f":"IF(C309=0,\"wait\",_xll.SNT.StockInst(C309,$N$9))","v":"wait"},{"$f":"N309-制限値幅取得!E304","v":{"$error":"#VALUE!"}},{"$f":"IF(C309=0,\"wait\",_xll.SNT.StockInst(C309,$P$9))","v":"wait"},{"$f":"IF(C309=0,\"\",_xll.SNT.StockInst(C309,\"高値時刻\"))","v":""},{"$f":"MID(_xll.SNT.StockInst($C309,\"高値時刻\"),12,5)","v":"ockIn"},{"$f":"IF(C309=0,\"wait\",_xll.SNT.StockInst(C309,$S$9))","v":"wait"},{"$f":"IF($C309=0,\"\",_xll.SNT.StockInst($C309,\"安値時刻\"))","v":""},{"$f":"MID(_xll.SNT.StockInst($C309,\"安値時刻\"),12,5)","v":"ockIn"},"","","","",{"$f":"_xlfn.IFS(N309<制限値幅取得!I304,\"S安付近\",N309>制限値幅取得!H304,\"S高付近\",制限値幅取得!H304>N309>制限値幅取得!I304,\"\")","v":{"$error":"#VALUE!"}}]
[301,null,null,null,null,null,null,null,null,null,"","",null,{"$f":"IF(C310=0,\"wait\",_xll.SNT.StockInst(C310,$N$9))","v":"wait"},{"$f":"N310-制限値幅取得!E305","v":{"$error":"#VALUE!"}},{"$f":"IF(C310=0,\"wait\",_xll.SNT.StockInst(C310,$P$9))","v":"wait"},{"$f":"IF(C310=0,\"\",_xll.SNT.StockInst(C310,\"高値時刻\"))","v":""},{"$f":"MID(_xll.SNT.StockInst($C310,\"高値時刻\"),12,5)","v":"ockIn"},{"$f":"IF(C310=0,\"wait\",_xll.SNT.StockInst(C310,$S$9))","v":"wait"},{"$f":"IF($C310=0,\"\",_xll.SNT.StockInst($C310,\"安値時刻\"))","v":""},{"$f":"MID(_xll.SNT.StockInst($C310,\"安値時刻\"),12,5)","v":"ockIn"},"","","","",{"$f":"_xlfn.IFS(N310<制限値幅取得!I305,\"S安付近\",N310>制限値幅取得!H305,\"S高付近\",制限値幅取得!H305>N310>制限値幅取得!I305,\"\")","v":{"$error":"#VALUE!"}}]
[302,null,null,null,null,null,null,null,null,null,"","",null,{"$f":"IF(C311=0,\"wait\",_xll.SNT.StockInst(C311,$N$9))","v":"wait"},{"$f":"N311-制限値幅取得!E306","v":{"$error":"#VALUE!"}},{"$f":"IF(C311=0,\"wait\",_xll.SNT.StockInst(C311,$P$9))","v":"wait"},{"$f":"IF(C311=0,\"\",_xll.SNT.StockInst(C311,\"高値時刻\"))","v":""},{"$f":"MID(_xll.SNT.StockInst($C311,\"高値時刻\"),12,5)","v":"ockIn"},{"$f":"IF(C311=0,\"wait\",_xll.SNT.StockInst(C311,$S$9))","v":"wait"},{"$f":"IF($C311=0,\"\",_xll.SNT.StockInst($C311,\"安値時刻\"))","v":""},{"$f":"MID(_xll.SNT.StockInst($C311,\"安値時刻\"),12,5)","v":"ockIn"},"","","","",{"$f":"_xlfn.IFS(N311<制限値幅取得!I306,\"S安付近\",N311>制限値幅取得!H306,\"S高付近\",制限値幅取得!H306>N311>制限値幅取得!I306,\"\")","v":{"$error":"#VALUE!"}}]
[303,null,null,null,null,null,null,null,null,null,"","",null,{"$f":"IF(C312=0,\"wait\",_xll.SNT.StockInst(C312,$N$9))","v":"wait"},{"$f":"N312-制限値幅取得!E307","v":{"$error":"#VALUE!"}},{"$f":"IF(C312=0,\"wait\",_xll.SNT.StockInst(C312,$P$9))","v":"wait"},{"$f":"IF(C312=0,\"\",_xll.SNT.StockInst(C312,\"高値時刻\"))","v":""},{"$f":"MID(_xll.SNT.StockInst($C312,\"高値時刻\"),12,5)","v":"ockIn"},{"$f":"IF(C312=0,\"wait\",_xll.SNT.StockInst(C312,$S$9))","v":"wait"},{"$f":"IF($C312=0,\"\",_xll.SNT.StockInst($C312,\"安値時刻\"))","v":""},{"$f":"MID(_xll.SNT.StockInst($C312,\"安値時刻\"),12,5)","v":"ockIn"},"","","","",{"$f":"_xlfn.IFS(N312<制限値幅取得!I307,\"S安付近\",N312>制限値幅取得!H307,\"S高付近\",制限値幅取得!H307>N312>制限値幅取得!I307,\"\")","v":{"$error":"#VALUE!"}}]
[304,null,null,null,null,null,null,null,null,null,"","",null,{"$f":"IF(C313=0,\"wait\",_xll.SNT.StockInst(C313,$N$9))","v":"wait"},{"$f":"N313-制限値幅取得!E308","v":{"$error":"#VALUE!"}},{"$f":"IF(C313=0,\"wait\",_xll.SNT.StockInst(C313,$P$9))","v":"wait"},{"$f":"IF(C313=0,\"\",_xll.SNT.StockInst(C313,\"高値時刻\"))","v":""},{"$f":"MID(_xll.SNT.StockInst($C313,\"高値時刻\"),12,5)","v":"ockIn"},{"$f":"IF(C313=0,\"wait\",_xll.SNT.StockInst(C313,$S$9))","v":"wait"},{"$f":"IF($C313=0,\"\",_xll.SNT.StockInst($C313,\"安値時刻\"))","v":""},{"$f":"MID(_xll.SNT.StockInst($C313,\"安値時刻\"),12,5)","v":"ockIn"},"","","","",{"$f":"_xlfn.IFS(N313<制限値幅取得!I308,\"S安付近\",N313>制限値幅取得!H308,\"S高付近\",制限値幅取得!H308>N313>制限値幅取得!I308,\"\")","v":{"$error":"#VALUE!"}}]
[305,null,null,null,null,null,null,null,null,null,"","",null,{"$f":"IF(C314=0,\"wait\",_xll.SNT.StockInst(C314,$N$9))","v":"wait"},{"$f":"N314-制限値幅取得!E309","v":{"$error":"#VALUE!"}},{"$f":"IF(C314=0,\"wait\",_xll.SNT.StockInst(C314,$P$9))","v":"wait"},{"$f":"IF(C314=0,\"\",_xll.SNT.StockInst(C314,\"高値時刻\"))","v":""},{"$f":"MID(_xll.SNT.StockInst($C314,\"高値時刻\"),12,5)","v":"ockIn"},{"$f":"IF(C314=0,\"wait\",_xll.SNT.StockInst(C314,$S$9))","v":"wait"},{"$f":"IF($C314=0,\"\",_xll.SNT.StockInst($C314,\"安値時刻\"))","v":""},{"$f":"MID(_xll.SNT.StockInst($C314,\"安値時刻\"),12,5)","v":"ockIn"},"","","","",{"$f":"_xlfn.IFS(N314<制限値幅取得!I309,\"S安付近\",N314>制限値幅取得!H309,\"S高付近\",制限値幅取得!H309>N314>制限値幅取得!I309,\"\")","v":{"$error":"#VALUE!"}}]
[306,null,null,null,null,null,null,null,null,null,"","",null,{"$f":"IF(C315=0,\"wait\",_xll.SNT.StockInst(C315,$N$9))","v":"wait"},{"$f":"N315-制限値幅取得!E310","v":{"$error":"#VALUE!"}},{"$f":"IF(C315=0,\"wait\",_xll.SNT.StockInst(C315,$P$9))","v":"wait"},{"$f":"IF(C315=0,\"\",_xll.SNT.StockInst(C315,\"高値時刻\"))","v":""},{"$f":"MID(_xll.SNT.StockInst($C315,\"高値時刻\"),12,5)","v":"ockIn"},{"$f":"IF(C315=0,\"wait\",_xll.SNT.StockInst(C315,$S$9))","v":"wait"},{"$f":"IF($C315=0,\"\",_xll.SNT.StockInst($C315,\"安値時刻\"))","v":""},{"$f":"MID(_xll.SNT.StockInst($C315,\"安値時刻\"),12,5)","v":"ockIn"},"","","","",{"$f":"_xlfn.IFS(N315<制限値幅取得!I310,\"S安付近\",N315>制限値幅取得!H310,\"S高付近\",制限値幅取得!H310>N315>制限値幅取得!I310,\"\")","v":{"$error":"#VALUE!"}}]
[307,null,null,null,null,null,null,null,null,null,"","",null,{"$f":"IF(C316=0,\"wait\",_xll.SNT.StockInst(C316,$N$9))","v":"wait"},{"$f":"N316-制限値幅取得!E311","v":{"$error":"#VALUE!"}},{"$f":"IF(C316=0,\"wait\",_xll.SNT.StockInst(C316,$P$9))","v":"wait"},{"$f":"IF(C316=0,\"\",_xll.SNT.StockInst(C316,\"高値時刻\"))","v":""},{"$f":"MID(_xll.SNT.StockInst($C316,\"高値時刻\"),12,5)","v":"ockIn"},{"$f":"IF(C316=0,\"wait\",_xll.SNT.StockInst(C316,$S$9))","v":"wait"},{"$f":"IF($C316=0,\"\",_xll.SNT.StockInst($C316,\"安値時刻\"))","v":""},{"$f":"MID(_xll.SNT.StockInst($C316,\"安値時刻\"),12,5)","v":"ockIn"},"","","","",{"$f":"_xlfn.IFS(N316<制限値幅取得!I311,\"S安付近\",N316>制限値幅取得!H311,\"S高付近\",制限値幅取得!H311>N316>制限値幅取得!I311,\"\")","v":{"$error":"#VALUE!"}}]
[308,null,null,null,null,null,null,null,null,null,"","",null,{"$f":"IF(C317=0,\"wait\",_xll.SNT.StockInst(C317,$N$9))","v":"wait"},{"$f":"N317-制限値幅取得!E312","v":{"$error":"#VALUE!"}},{"$f":"IF(C317=0,\"wait\",_xll.SNT.StockInst(C317,$P$9))","v":"wait"},{"$f":"IF(C317=0,\"\",_xll.SNT.StockInst(C317,\"高値時刻\"))","v":""},{"$f":"MID(_xll.SNT.StockInst($C317,\"高値時刻\"),12,5)","v":"ockIn"},{"$f":"IF(C317=0,\"wait\",_xll.SNT.StockInst(C317,$S$9))","v":"wait"},{"$f":"IF($C317=0,\"\",_xll.SNT.StockInst($C317,\"安値時刻\"))","v":""},{"$f":"MID(_xll.SNT.StockInst($C317,\"安値時刻\"),12,5)","v":"ockIn"},"","","","",{"$f":"_xlfn.IFS(N317<制限値幅取得!I312,\"S安付近\",N317>制限値幅取得!H312,\"S高付近\",制限値幅取得!H312>N317>制限値幅取得!I312,\"\")","v":{"$error":"#VALUE!"}}]
[309,null,null,null,null,null,null,null,null,null,"","",null,{"$f":"IF(C318=0,\"wait\",_xll.SNT.StockInst(C318,$N$9))","v":"wait"},{"$f":"N318-制限値幅取得!E313","v":{"$error":"#VALUE!"}},{"$f":"IF(C318=0,\"wait\",_xll.SNT.StockInst(C318,$P$9))","v":"wait"},{"$f":"IF(C318=0,\"\",_xll.SNT.StockInst(C318,\"高値時刻\"))","v":""},{"$f":"MID(_xll.SNT.StockInst($C318,\"高値時刻\"),12,5)","v":"ockIn"},{"$f":"IF(C318=0,\"wait\",_xll.SNT.StockInst(C318,$S$9))","v":"wait"},{"$f":"IF($C318=0,\"\",_xll.SNT.StockInst($C318,\"安値時刻\"))","v":""},{"$f":"MID(_xll.SNT.StockInst($C318,\"安値時刻\"),12,5)","v":"ockIn"},"","","","",{"$f":"_xlfn.IFS(N318<制限値幅取得!I313,\"S安付近\",N318>制限値幅取得!H313,\"S高付近\",制限値幅取得!H313>N318>制限値幅取得!I313,\"\")","v":{"$error":"#VALUE!"}}]
[310,null,null,null,null,null,null,null,null,null,"","",null,{"$f":"IF(C319=0,\"wait\",_xll.SNT.StockInst(C319,$N$9))","v":"wait"},{"$f":"N319-制限値幅取得!E314","v":{"$error":"#VALUE!"}},{"$f":"IF(C319=0,\"wait\",_xll.SNT.StockInst(C319,$P$9))","v":"wait"},{"$f":"IF(C319=0,\"\",_xll.SNT.StockInst(C319,\"高値時刻\"))","v":""},{"$f":"MID(_xll.SNT.StockInst($C319,\"高値時刻\"),12,5)","v":"ockIn"},{"$f":"IF(C319=0,\"wait\",_xll.SNT.StockInst(C319,$S$9))","v":"wait"},{"$f":"IF($C319=0,\"\",_xll.SNT.StockInst($C319,\"安値時刻\"))","v":""},{"$f":"MID(_xll.SNT.StockInst($C319,\"安値時刻\"),12,5)","v":"ockIn"},"","","","",{"$f":"_xlfn.IFS(N319<制限値幅取得!I314,\"S安付近\",N319>制限値幅取得!H314,\"S高付近\",制限値幅取得!H314>N319>制限値幅取得!I314,\"\")","v":{"$error":"#VALUE!"}}]
[311,null,null,null,null,null,null,null,null,null,"","",null,{"$f":"IF(C320=0,\"wait\",_xll.SNT.StockInst(C320,$N$9))","v":"wait"},{"$f":"N320-制限値幅取得!E315","v":{"$error":"#VALUE!"}},{"$f":"IF(C320=0,\"wait\",_xll.SNT.StockInst(C320,$P$9))","v":"wait"},{"$f":"IF(C320=0,\"\",_xll.SNT.StockInst(C320,\"高値時刻\"))","v":""},{"$f":"MID(_xll.SNT.StockInst($C320,\"高値時刻\"),12,5)","v":"ockIn"},{"$f":"IF(C320=0,\"wait\",_xll.SNT.StockInst(C320,$S$9))","v":"wait"},{"$f":"IF($C320=0,\"\",_xll.SNT.StockInst($C320,\"安値時刻\"))","v":""},{"$f":"MID(_xll.SNT.StockInst($C320,\"安値時刻\"),12,5)","v":"ockIn"},"","","","",{"$f":"_xlfn.IFS(N320<制限値幅取得!I315,\"S安付近\",N320>制限値幅取得!H315,\"S高付近\",制限値幅取得!H315>N320>制限値幅取得!I315,\"\")","v":{"$error":"#VALUE!"}}]
[312,null,null,null,null,null,null,null,null,null,"","",null,{"$f":"IF(C321=0,\"wait\",_xll.SNT.StockInst(C321,$N$9))","v":"wait"},{"$f":"N321-制限値幅取得!E316","v":{"$error":"#VALUE!"}},{"$f":"IF(C321=0,\"wait\",_xll.SNT.StockInst(C321,$P$9))","v":"wait"},{"$f":"IF(C321=0,\"\",_xll.SNT.StockInst(C321,\"高値時刻\"))","v":""},{"$f":"MID(_xll.SNT.StockInst($C321,\"高値時刻\"),12,5)","v":"ockIn"},{"$f":"IF(C321=0,\"wait\",_xll.SNT.StockInst(C321,$S$9))","v":"wait"},{"$f":"IF($C321=0,\"\",_xll.SNT.StockInst($C321,\"安値時刻\"))","v":""},{"$f":"MID(_xll.SNT.StockInst($C321,\"安値時刻\"),12,5)","v":"ockIn"},"","","","",{"$f":"_xlfn.IFS(N321<制限値幅取得!I316,\"S安付近\",N321>制限値幅取得!H316,\"S高付近\",制限値幅取得!H316>N321>制限値幅取得!I316,\"\")","v":{"$error":"#VALUE!"}}]
[313,null,null,null,null,null,null,null,null,null,"","",null,{"$f":"IF(C322=0,\"wait\",_xll.SNT.StockInst(C322,$N$9))","v":"wait"},{"$f":"N322-制限値幅取得!E317","v":{"$error":"#VALUE!"}},{"$f":"IF(C322=0,\"wait\",_xll.SNT.StockInst(C322,$P$9))","v":"wait"},{"$f":"IF(C322=0,\"\",_xll.SNT.StockInst(C322,\"高値時刻\"))","v":""},{"$f":"MID(_xll.SNT.StockInst($C322,\"高値時刻\"),12,5)","v":"ockIn"},{"$f":"IF(C322=0,\"wait\",_xll.SNT.StockInst(C322,$S$9))","v":"wait"},{"$f":"IF($C322=0,\"\",_xll.SNT.StockInst($C322,\"安値時刻\"))","v":""},{"$f":"MID(_xll.SNT.StockInst($C322,\"安値時刻\"),12,5)","v":"ockIn"},"","","","",{"$f":"_xlfn.IFS(N322<制限値幅取得!I317,\"S安付近\",N322>制限値幅取得!H317,\"S高付近\",制限値幅取得!H317>N322>制限値幅取得!I317,\"\")","v":{"$error":"#VALUE!"}}]
[314,null,null,null,null,null,null,null,null,null,"","",null,{"$f":"IF(C323=0,\"wait\",_xll.SNT.StockInst(C323,$N$9))","v":"wait"},{"$f":"N323-制限値幅取得!E318","v":{"$error":"#VALUE!"}},{"$f":"IF(C323=0,\"wait\",_xll.SNT.StockInst(C323,$P$9))","v":"wait"},{"$f":"IF(C323=0,\"\",_xll.SNT.StockInst(C323,\"高値時刻\"))","v":""},{"$f":"MID(_xll.SNT.StockInst($C323,\"高値時刻\"),12,5)","v":"ockIn"},{"$f":"IF(C323=0,\"wait\",_xll.SNT.StockInst(C323,$S$9))","v":"wait"},{"$f":"IF($C323=0,\"\",_xll.SNT.StockInst($C323,\"安値時刻\"))","v":""},{"$f":"MID(_xll.SNT.StockInst($C323,\"安値時刻\"),12,5)","v":"ockIn"},"","","","",{"$f":"_xlfn.IFS(N323<制限値幅取得!I318,\"S安付近\",N323>制限値幅取得!H318,\"S高付近\",制限値幅取得!H318>N323>制限値幅取得!I318,\"\")","v":{"$error":"#VALUE!"}}]
[315,null,null,null,null,null,null,null,null,null,"","",null,{"$f":"IF(C324=0,\"wait\",_xll.SNT.StockInst(C324,$N$9))","v":"wait"},{"$f":"N324-制限値幅取得!E319","v":{"$error":"#VALUE!"}},{"$f":"IF(C324=0,\"wait\",_xll.SNT.StockInst(C324,$P$9))","v":"wait"},{"$f":"IF(C324=0,\"\",_xll.SNT.StockInst(C324,\"高値時刻\"))","v":""},{"$f":"MID(_xll.SNT.StockInst($C324,\"高値時刻\"),12,5)","v":"ockIn"},{"$f":"IF(C324=0,\"wait\",_xll.SNT.StockInst(C324,$S$9))","v":"wait"},{"$f":"IF($C324=0,\"\",_xll.SNT.StockInst($C324,\"安値時刻\"))","v":""},{"$f":"MID(_xll.SNT.StockInst($C324,\"安値時刻\"),12,5)","v":"ockIn"},"","","","",{"$f":"_xlfn.IFS(N324<制限値幅取得!I319,\"S安付近\",N324>制限値幅取得!H319,\"S高付近\",制限値幅取得!H319>N324>制限値幅取得!I319,\"\")","v":{"$error":"#VALUE!"}}]
[316,null,null,null,null,null,null,null,null,null,"","",null,{"$f":"IF(C325=0,\"wait\",_xll.SNT.StockInst(C325,$N$9))","v":"wait"},{"$f":"N325-制限値幅取得!E320","v":{"$error":"#VALUE!"}},{"$f":"IF(C325=0,\"wait\",_xll.SNT.StockInst(C325,$P$9))","v":"wait"},{"$f":"IF(C325=0,\"\",_xll.SNT.StockInst(C325,\"高値時刻\"))","v":""},{"$f":"MID(_xll.SNT.StockInst($C325,\"高値時刻\"),12,5)","v":"ockIn"},{"$f":"IF(C325=0,\"wait\",_xll.SNT.StockInst(C325,$S$9))","v":"wait"},{"$f":"IF($C325=0,\"\",_xll.SNT.StockInst($C325,\"安値時刻\"))","v":""},{"$f":"MID(_xll.SNT.StockInst($C325,\"安値時刻\"),12,5)","v":"ockIn"},"","","","",{"$f":"_xlfn.IFS(N325<制限値幅取得!I320,\"S安付近\",N325>制限値幅取得!H320,\"S高付近\",制限値幅取得!H320>N325>制限値幅取得!I320,\"\")","v":{"$error":"#VALUE!"}}]
[317,null,null,null,null,null,null,null,null,null,"","",null,{"$f":"IF(C326=0,\"wait\",_xll.SNT.StockInst(C326,$N$9))","v":"wait"},{"$f":"N326-制限値幅取得!E321","v":{"$error":"#VALUE!"}},{"$f":"IF(C326=0,\"wait\",_xll.SNT.StockInst(C326,$P$9))","v":"wait"},{"$f":"IF(C326=0,\"\",_xll.SNT.StockInst(C326,\"高値時刻\"))","v":""},{"$f":"MID(_xll.SNT.StockInst($C326,\"高値時刻\"),12,5)","v":"ockIn"},{"$f":"IF(C326=0,\"wait\",_xll.SNT.StockInst(C326,$S$9))","v":"wait"},{"$f":"IF($C326=0,\"\",_xll.SNT.StockInst($C326,\"安値時刻\"))","v":""},{"$f":"MID(_xll.SNT.StockInst($C326,\"安値時刻\"),12,5)","v":"ockIn"},"","","","",{"$f":"_xlfn.IFS(N326<制限値幅取得!I321,\"S安付近\",N326>制限値幅取得!H321,\"S高付近\",制限値幅取得!H321>N326>制限値幅取得!I321,\"\")","v":{"$error":"#VALUE!"}}]
[318,null,null,null,null,null,null,null,null,null,"","",null,{"$f":"IF(C327=0,\"wait\",_xll.SNT.StockInst(C327,$N$9))","v":"wait"},{"$f":"N327-制限値幅取得!E322","v":{"$error":"#VALUE!"}},{"$f":"IF(C327=0,\"wait\",_xll.SNT.StockInst(C327,$P$9))","v":"wait"},{"$f":"IF(C327=0,\"\",_xll.SNT.StockInst(C327,\"高値時刻\"))","v":""},{"$f":"MID(_xll.SNT.StockInst($C327,\"高値時刻\"),12,5)","v":"ockIn"},{"$f":"IF(C327=0,\"wait\",_xll.SNT.StockInst(C327,$S$9))","v":"wait"},{"$f":"IF($C327=0,\"\",_xll.SNT.StockInst($C327,\"安値時刻\"))","v":""},{"$f":"MID(_xll.SNT.StockInst($C327,\"安値時刻\"),12,5)","v":"ockIn"},"","","","",{"$f":"_xlfn.IFS(N327<制限値幅取得!I322,\"S安付近\",N327>制限値幅取得!H322,\"S高付近\",制限値幅取得!H322>N327>制限値幅取得!I322,\"\")","v":{"$error":"#VALUE!"}}]
[319,null,null,null,null,null,null,null,null,null,"","",null,{"$f":"IF(C328=0,\"wait\",_xll.SNT.StockInst(C328,$N$9))","v":"wait"},{"$f":"N328-制限値幅取得!E323","v":{"$error":"#VALUE!"}},{"$f":"IF(C328=0,\"wait\",_xll.SNT.StockInst(C328,$P$9))","v":"wait"},{"$f":"IF(C328=0,\"\",_xll.SNT.StockInst(C328,\"高値時刻\"))","v":""},{"$f":"MID(_xll.SNT.StockInst($C328,\"高値時刻\"),12,5)","v":"ockIn"},{"$f":"IF(C328=0,\"wait\",_xll.SNT.StockInst(C328,$S$9))","v":"wait"},{"$f":"IF($C328=0,\"\",_xll.SNT.StockInst($C328,\"安値時刻\"))","v":""},{"$f":"MID(_xll.SNT.StockInst($C328,\"安値時刻\"),12,5)","v":"ockIn"},"","","","",{"$f":"_xlfn.IFS(N328<制限値幅取得!I323,\"S安付近\",N328>制限値幅取得!H323,\"S高付近\",制限値幅取得!H323>N328>制限値幅取得!I323,\"\")","v":{"$error":"#VALUE!"}}]
[320,null,null,null,null,null,null,null,null,null,"","",null,{"$f":"IF(C329=0,\"wait\",_xll.SNT.StockInst(C329,$N$9))","v":"wait"},{"$f":"N329-制限値幅取得!E324","v":{"$error":"#VALUE!"}},{"$f":"IF(C329=0,\"wait\",_xll.SNT.StockInst(C329,$P$9))","v":"wait"},{"$f":"IF(C329=0,\"\",_xll.SNT.StockInst(C329,\"高値時刻\"))","v":""},{"$f":"MID(_xll.SNT.StockInst($C329,\"高値時刻\"),12,5)","v":"ockIn"},{"$f":"IF(C329=0,\"wait\",_xll.SNT.StockInst(C329,$S$9))","v":"wait"},{"$f":"IF($C329=0,\"\",_xll.SNT.StockInst($C329,\"安値時刻\"))","v":""},{"$f":"MID(_xll.SNT.StockInst($C329,\"安値時刻\"),12,5)","v":"ockIn"},"","","","",{"$f":"_xlfn.IFS(N329<制限値幅取得!I324,\"S安付近\",N329>制限値幅取得!H324,\"S高付近\",制限値幅取得!H324>N329>制限値幅取得!I324,\"\")","v":{"$error":"#VALUE!"}}]
[321,null,null,null,null,null,null,null,null,null,"","",null,{"$f":"IF(C330=0,\"wait\",_xll.SNT.StockInst(C330,$N$9))","v":"wait"},{"$f":"N330-制限値幅取得!E325","v":{"$error":"#VALUE!"}},{"$f":"IF(C330=0,\"wait\",_xll.SNT.StockInst(C330,$P$9))","v":"wait"},{"$f":"IF(C330=0,\"\",_xll.SNT.StockInst(C330,\"高値時刻\"))","v":""},{"$f":"MID(_xll.SNT.StockInst($C330,\"高値時刻\"),12,5)","v":"ockIn"},{"$f":"IF(C330=0,\"wait\",_xll.SNT.StockInst(C330,$S$9))","v":"wait"},{"$f":"IF($C330=0,\"\",_xll.SNT.StockInst($C330,\"安値時刻\"))","v":""},{"$f":"MID(_xll.SNT.StockInst($C330,\"安値時刻\"),12,5)","v":"ockIn"},{"$f":"IFERROR(IF($Y$2-$Q330<=TIME(0,$X$3,0),\"高値更新\",IF($Y$2-$T330<=TIME(0,$X$3,0),\"安値更新\",\"\")),\"\")","v":""},"","","",{"$f":"_xlfn.IFS(N330<制限値幅取得!I325,\"S安付近\",N330>制限値幅取得!H325,\"S高付近\",制限値幅取得!H325>N330>制限値幅取得!I325,\"\")","v":{"$error":"#VALUE!"}}]
[322,null,null,null,null,null,null,null,null,null,"","",null,{"$f":"IF(C331=0,\"wait\",_xll.SNT.StockInst(C331,$N$9))","v":"wait"},{"$f":"N331-制限値幅取得!E326","v":{"$error":"#VALUE!"}},{"$f":"IF(C331=0,\"wait\",_xll.SNT.StockInst(C331,$P$9))","v":"wait"},{"$f":"IF(C331=0,\"\",_xll.SNT.StockInst(C331,\"高値時刻\"))","v":""},{"$f":"MID(_xll.SNT.StockInst($C331,\"高値時刻\"),12,5)","v":"ockIn"},{"$f":"IF(C331=0,\"wait\",_xll.SNT.StockInst(C331,$S$9))","v":"wait"},{"$f":"IF($C331=0,\"\",_xll.SNT.StockInst($C331,\"安値時刻\"))","v":""},{"$f":"MID(_xll.SNT.StockInst($C331,\"安値時刻\"),12,5)","v":"ockIn"},"",{"$f":"IF(X331=\"\",\"\",IF(F331=\"買建\",IF(N331<X331,\"ﾛｽｶｯﾄ\",\"\"),IF(F331=\"売建\",IF(N331>X331,\"ﾛｽｶｯﾄ\",\"\"),\"\")))","v":""},{"$f":"IFERROR(MROUND(IF(F331=\"買建\",((I331*H331)+Y331)/H331,((I331*H331)-Y331)/H331),$X$5),\"\")","v":""},{"$f":"IF(K331<0,-(H331*I331*$X$4),\"\")","v":""},{"$f":"_xlfn.IFS(N331<制限値幅取得!I326,\"S安付近\",N331>制限値幅取得!H326,\"S高付近\",制限値幅取得!H326>N331>制限値幅取得!I326,\"\")","v":{"$error":"#VALUE!"}}]
[323,null,null,null,null,null,null,null,null,null,"","",null,{"$f":"IF(C332=0,\"wait\",_xll.SNT.StockInst(C332,$N$9))","v":"wait"},{"$f":"N332-制限値幅取得!E327","v":{"$error":"#VALUE!"}},{"$f":"IF(C332=0,\"wait\",_xll.SNT.StockInst(C332,$P$9))","v":"wait"},{"$f":"IF(C332=0,\"\",_xll.SNT.StockInst(C332,\"高値時刻\"))","v":""},{"$f":"MID(_xll.SNT.StockInst($C332,\"高値時刻\"),12,5)","v":"ockIn"},{"$f":"IF(C332=0,\"wait\",_xll.SNT.StockInst(C332,$S$9))","v":"wait"},{"$f":"IF($C332=0,\"\",_xll.SNT.StockInst($C332,\"安値時刻\"))","v":""},{"$f":"MID(_xll.SNT.StockInst($C332,\"安値時刻\"),12,5)","v":"ockIn"},"","","","",{"$f":"_xlfn.IFS(N332<制限値幅取得!I327,\"S安付近\",N332>制限値幅取得!H327,\"S高付近\",制限値幅取得!H327>N332>制限値幅取得!I327,\"\")","v":{"$error":"#VALUE!"}}]
[324,null,null,null,null,null,null,null,null,null,"","",null,{"$f":"IF(C333=0,\"wait\",_xll.SNT.StockInst(C333,$N$9))","v":"wait"},{"$f":"N333-制限値幅取得!E328","v":{"$error":"#VALUE!"}},{"$f":"IF(C333=0,\"wait\",_xll.SNT.StockInst(C333,$P$9))","v":"wait"},{"$f":"IF(C333=0,\"\",_xll.SNT.StockInst(C333,\"高値時刻\"))","v":""},{"$f":"MID(_xll.SNT.StockInst($C333,\"高値時刻\"),12,5)","v":"ockIn"},{"$f":"IF(C333=0,\"wait\",_xll.SNT.StockInst(C333,$S$9))","v":"wait"},{"$f":"IF($C333=0,\"\",_xll.SNT.StockInst($C333,\"安値時刻\"))","v":""},{"$f":"MID(_xll.SNT.StockInst($C333,\"安値時刻\"),12,5)","v":"ockIn"},"","","","",{"$f":"_xlfn.IFS(N333<制限値幅取得!I328,\"S安付近\",N333>制限値幅取得!H328,\"S高付近\",制限値幅取得!H328>N333>制限値幅取得!I328,\"\")","v":{"$error":"#VALUE!"}}]
[325,null,null,null,null,null,null,null,null,null,"","",null,{"$f":"IF(C334=0,\"wait\",_xll.SNT.StockInst(C334,$N$9))","v":"wait"},{"$f":"N334-制限値幅取得!E329","v":{"$error":"#VALUE!"}},{"$f":"IF(C334=0,\"wait\",_xll.SNT.StockInst(C334,$P$9))","v":"wait"},{"$f":"IF(C334=0,\"\",_xll.SNT.StockInst(C334,\"高値時刻\"))","v":""},{"$f":"MID(_xll.SNT.StockInst($C334,\"高値時刻\"),12,5)","v":"ockIn"},{"$f":"IF(C334=0,\"wait\",_xll.SNT.StockInst(C334,$S$9))","v":"wait"},{"$f":"IF($C334=0,\"\",_xll.SNT.StockInst($C334,\"安値時刻\"))","v":""},{"$f":"MID(_xll.SNT.StockInst($C334,\"安値時刻\"),12,5)","v":"ockIn"},"","","","",{"$f":"_xlfn.IFS(N334<制限値幅取得!I329,\"S安付近\",N334>制限値幅取得!H329,\"S高付近\",制限値幅取得!H329>N334>制限値幅取得!I329,\"\")","v":{"$error":"#VALUE!"}}]
[326,null,null,null,null,null,null,null,null,null,"","",null,{"$f":"IF(C335=0,\"wait\",_xll.SNT.StockInst(C335,$N$9))","v":"wait"},{"$f":"N335-制限値幅取得!E330","v":{"$error":"#VALUE!"}},{"$f":"IF(C335=0,\"wait\",_xll.SNT.StockInst(C335,$P$9))","v":"wait"},{"$f":"IF(C335=0,\"\",_xll.SNT.StockInst(C335,\"高値時刻\"))","v":""},{"$f":"MID(_xll.SNT.StockInst($C335,\"高値時刻\"),12,5)","v":"ockIn"},{"$f":"IF(C335=0,\"wait\",_xll.SNT.StockInst(C335,$S$9))","v":"wait"},{"$f":"IF($C335=0,\"\",_xll.SNT.StockInst($C335,\"安値時刻\"))","v":""},{"$f":"MID(_xll.SNT.StockInst($C335,\"安値時刻\"),12,5)","v":"ockIn"},"","","","",{"$f":"_xlfn.IFS(N335<制限値幅取得!I330,\"S安付近\",N335>制限値幅取得!H330,\"S高付近\",制限値幅取得!H330>N335>制限値幅取得!I330,\"\")","v":{"$error":"#VALUE!"}}]
[327,null,null,null,null,null,null,null,null,null,"","",null,{"$f":"IF(C336=0,\"wait\",_xll.SNT.StockInst(C336,$N$9))","v":"wait"},{"$f":"N336-制限値幅取得!E331","v":{"$error":"#VALUE!"}},{"$f":"IF(C336=0,\"wait\",_xll.SNT.StockInst(C336,$P$9))","v":"wait"},{"$f":"IF(C336=0,\"\",_xll.SNT.StockInst(C336,\"高値時刻\"))","v":""},{"$f":"MID(_xll.SNT.StockInst($C336,\"高値時刻\"),12,5)","v":"ockIn"},{"$f":"IF(C336=0,\"wait\",_xll.SNT.StockInst(C336,$S$9))","v":"wait"},{"$f":"IF($C336=0,\"\",_xll.SNT.StockInst($C336,\"安値時刻\"))","v":""},{"$f":"MID(_xll.SNT.StockInst($C336,\"安値時刻\"),12,5)","v":"ockIn"},"","","","",{"$f":"_xlfn.IFS(N336<制限値幅取得!I331,\"S安付近\",N336>制限値幅取得!H331,\"S高付近\",制限値幅取得!H331>N336>制限値幅取得!I331,\"\")","v":{"$error":"#VALUE!"}}]
[328,null,null,null,null,null,null,null,null,null,"","",null,{"$f":"IF(C337=0,\"wait\",_xll.SNT.StockInst(C337,$N$9))","v":"wait"},{"$f":"N337-制限値幅取得!E332","v":{"$error":"#VALUE!"}},{"$f":"IF(C337=0,\"wait\",_xll.SNT.StockInst(C337,$P$9))","v":"wait"},{"$f":"IF(C337=0,\"\",_xll.SNT.StockInst(C337,\"高値時刻\"))","v":""},{"$f":"MID(_xll.SNT.StockInst($C337,\"高値時刻\"),12,5)","v":"ockIn"},{"$f":"IF(C337=0,\"wait\",_xll.SNT.StockInst(C337,$S$9))","v":"wait"},{"$f":"IF($C337=0,\"\",_xll.SNT.StockInst($C337,\"安値時刻\"))","v":""},{"$f":"MID(_xll.SNT.StockInst($C337,\"安値時刻\"),12,5)","v":"ockIn"},"","","","",{"$f":"_xlfn.IFS(N337<制限値幅取得!I332,\"S安付近\",N337>制限値幅取得!H332,\"S高付近\",制限値幅取得!H332>N337>制限値幅取得!I332,\"\")","v":{"$error":"#VALUE!"}}]
[329,null,null,null,null,null,null,null,null,null,"","",null,{"$f":"IF(C338=0,\"wait\",_xll.SNT.StockInst(C338,$N$9))","v":"wait"},{"$f":"N338-制限値幅取得!E333","v":{"$error":"#VALUE!"}},{"$f":"IF(C338=0,\"wait\",_xll.SNT.StockInst(C338,$P$9))","v":"wait"},{"$f":"IF(C338=0,\"\",_xll.SNT.StockInst(C338,\"高値時刻\"))","v":""},{"$f":"MID(_xll.SNT.StockInst($C338,\"高値時刻\"),12,5)","v":"ockIn"},{"$f":"IF(C338=0,\"wait\",_xll.SNT.StockInst(C338,$S$9))","v":"wait"},{"$f":"IF($C338=0,\"\",_xll.SNT.StockInst($C338,\"安値時刻\"))","v":""},{"$f":"MID(_xll.SNT.StockInst($C338,\"安値時刻\"),12,5)","v":"ockIn"},"","","","",{"$f":"_xlfn.IFS(N338<制限値幅取得!I333,\"S安付近\",N338>制限値幅取得!H333,\"S高付近\",制限値幅取得!H333>N338>制限値幅取得!I333,\"\")","v":{"$error":"#VALUE!"}}]
[330,null,null,null,null,null,null,null,null,null,"","",null,{"$f":"IF(C339=0,\"wait\",_xll.SNT.StockInst(C339,$N$9))","v":"wait"},{"$f":"N339-制限値幅取得!E334","v":{"$error":"#VALUE!"}},{"$f":"IF(C339=0,\"wait\",_xll.SNT.StockInst(C339,$P$9))","v":"wait"},{"$f":"IF(C339=0,\"\",_xll.SNT.StockInst(C339,\"高値時刻\"))","v":""},{"$f":"MID(_xll.SNT.StockInst($C339,\"高値時刻\"),12,5)","v":"ockIn"},{"$f":"IF(C339=0,\"wait\",_xll.SNT.StockInst(C339,$S$9))","v":"wait"},{"$f":"IF($C339=0,\"\",_xll.SNT.StockInst($C339,\"安値時刻\"))","v":""},{"$f":"MID(_xll.SNT.StockInst($C339,\"安値時刻\"),12,5)","v":"ockIn"},"","","","",{"$f":"_xlfn.IFS(N339<制限値幅取得!I334,\"S安付近\",N339>制限値幅取得!H334,\"S高付近\",制限値幅取得!H334>N339>制限値幅取得!I334,\"\")","v":{"$error":"#VALUE!"}}]
[331,null,null,null,null,null,null,null,null,null,"","",null,{"$f":"IF(C340=0,\"wait\",_xll.SNT.StockInst(C340,$N$9))","v":"wait"},{"$f":"N340-制限値幅取得!E335","v":{"$error":"#VALUE!"}},{"$f":"IF(C340=0,\"wait\",_xll.SNT.StockInst(C340,$P$9))","v":"wait"},{"$f":"IF(C340=0,\"\",_xll.SNT.StockInst(C340,\"高値時刻\"))","v":""},{"$f":"MID(_xll.SNT.StockInst($C340,\"高値時刻\"),12,5)","v":"ockIn"},{"$f":"IF(C340=0,\"wait\",_xll.SNT.StockInst(C340,$S$9))","v":"wait"},{"$f":"IF($C340=0,\"\",_xll.SNT.StockInst($C340,\"安値時刻\"))","v":""},{"$f":"MID(_xll.SNT.StockInst($C340,\"安値時刻\"),12,5)","v":"ockIn"},"","","","",{"$f":"_xlfn.IFS(N340<制限値幅取得!I335,\"S安付近\",N340>制限値幅取得!H335,\"S高付近\",制限値幅取得!H335>N340>制限値幅取得!I335,\"\")","v":{"$error":"#VALUE!"}}]
[332,null,null,null,null,null,null,null,null,null,"","",null,{"$f":"IF(C341=0,\"wait\",_xll.SNT.StockInst(C341,$N$9))","v":"wait"},{"$f":"N341-制限値幅取得!E336","v":{"$error":"#VALUE!"}},{"$f":"IF(C341=0,\"wait\",_xll.SNT.StockInst(C341,$P$9))","v":"wait"},{"$f":"IF(C341=0,\"\",_xll.SNT.StockInst(C341,\"高値時刻\"))","v":""},{"$f":"MID(_xll.SNT.StockInst($C341,\"高値時刻\"),12,5)","v":"ockIn"},{"$f":"IF(C341=0,\"wait\",_xll.SNT.StockInst(C341,$S$9))","v":"wait"},{"$f":"IF($C341=0,\"\",_xll.SNT.StockInst($C341,\"安値時刻\"))","v":""},{"$f":"MID(_xll.SNT.StockInst($C341,\"安値時刻\"),12,5)","v":"ockIn"},"","","","",{"$f":"_xlfn.IFS(N341<制限値幅取得!I336,\"S安付近\",N341>制限値幅取得!H336,\"S高付近\",制限値幅取得!H336>N341>制限値幅取得!I336,\"\")","v":{"$error":"#VALUE!"}}]
[333,null,null,null,null,null,null,null,null,null,"","",null,{"$f":"IF(C342=0,\"wait\",_xll.SNT.StockInst(C342,$N$9))","v":"wait"},{"$f":"N342-制限値幅取得!E337","v":{"$error":"#VALUE!"}},{"$f":"IF(C342=0,\"wait\",_xll.SNT.StockInst(C342,$P$9))","v":"wait"},{"$f":"IF(C342=0,\"\",_xll.SNT.StockInst(C342,\"高値時刻\"))","v":""},{"$f":"MID(_xll.SNT.StockInst($C342,\"高値時刻\"),12,5)","v":"ockIn"},{"$f":"IF(C342=0,\"wait\",_xll.SNT.StockInst(C342,$S$9))","v":"wait"},{"$f":"IF($C342=0,\"\",_xll.SNT.StockInst($C342,\"安値時刻\"))","v":""},{"$f":"MID(_xll.SNT.StockInst($C342,\"安値時刻\"),12,5)","v":"ockIn"},"","","","",{"$f":"_xlfn.IFS(N342<制限値幅取得!I337,\"S安付近\",N342>制限値幅取得!H337,\"S高付近\",制限値幅取得!H337>N342>制限値幅取得!I337,\"\")","v":{"$error":"#VALUE!"}}]
[334,null,null,null,null,null,null,null,null,null,"","",null,{"$f":"IF(C343=0,\"wait\",_xll.SNT.StockInst(C343,$N$9))","v":"wait"},{"$f":"N343-制限値幅取得!E338","v":{"$error":"#VALUE!"}},{"$f":"IF(C343=0,\"wait\",_xll.SNT.StockInst(C343,$P$9))","v":"wait"},{"$f":"IF(C343=0,\"\",_xll.SNT.StockInst(C343,\"高値時刻\"))","v":""},{"$f":"MID(_xll.SNT.StockInst($C343,\"高値時刻\"),12,5)","v":"ockIn"},{"$f":"IF(C343=0,\"wait\",_xll.SNT.StockInst(C343,$S$9))","v":"wait"},{"$f":"IF($C343=0,\"\",_xll.SNT.StockInst($C343,\"安値時刻\"))","v":""},{"$f":"MID(_xll.SNT.StockInst($C343,\"安値時刻\"),12,5)","v":"ockIn"},"","","","",{"$f":"_xlfn.IFS(N343<制限値幅取得!I338,\"S安付近\",N343>制限値幅取得!H338,\"S高付近\",制限値幅取得!H338>N343>制限値幅取得!I338,\"\")","v":{"$error":"#VALUE!"}}]
[335,null,null,null,null,null,null,null,null,null,"","",null,{"$f":"IF(C344=0,\"wait\",_xll.SNT.StockInst(C344,$N$9))","v":"wait"},{"$f":"N344-制限値幅取得!E339","v":{"$error":"#VALUE!"}},{"$f":"IF(C344=0,\"wait\",_xll.SNT.StockInst(C344,$P$9))","v":"wait"},{"$f":"IF(C344=0,\"\",_xll.SNT.StockInst(C344,\"高値時刻\"))","v":""},{"$f":"MID(_xll.SNT.StockInst($C344,\"高値時刻\"),12,5)","v":"ockIn"},{"$f":"IF(C344=0,\"wait\",_xll.SNT.StockInst(C344,$S$9))","v":"wait"},{"$f":"IF($C344=0,\"\",_xll.SNT.StockInst($C344,\"安値時刻\"))","v":""},{"$f":"MID(_xll.SNT.StockInst($C344,\"安値時刻\"),12,5)","v":"ockIn"},"","","","",{"$f":"_xlfn.IFS(N344<制限値幅取得!I339,\"S安付近\",N344>制限値幅取得!H339,\"S高付近\",制限値幅取得!H339>N344>制限値幅取得!I339,\"\")","v":{"$error":"#VALUE!"}}]
[336,null,null,null,null,null,null,null,null,null,"","",null,{"$f":"IF(C345=0,\"wait\",_xll.SNT.StockInst(C345,$N$9))","v":"wait"},{"$f":"N345-制限値幅取得!E340","v":{"$error":"#VALUE!"}},{"$f":"IF(C345=0,\"wait\",_xll.SNT.StockInst(C345,$P$9))","v":"wait"},{"$f":"IF(C345=0,\"\",_xll.SNT.StockInst(C345,\"高値時刻\"))","v":""},{"$f":"MID(_xll.SNT.StockInst($C345,\"高値時刻\"),12,5)","v":"ockIn"},{"$f":"IF(C345=0,\"wait\",_xll.SNT.StockInst(C345,$S$9))","v":"wait"},{"$f":"IF($C345=0,\"\",_xll.SNT.StockInst($C345,\"安値時刻\"))","v":""},{"$f":"MID(_xll.SNT.StockInst($C345,\"安値時刻\"),12,5)","v":"ockIn"},"","","","",{"$f":"_xlfn.IFS(N345<制限値幅取得!I340,\"S安付近\",N345>制限値幅取得!H340,\"S高付近\",制限値幅取得!H340>N345>制限値幅取得!I340,\"\")","v":{"$error":"#VALUE!"}}]
[337,null,null,null,null,null,null,null,null,null,"","",null,{"$f":"IF(C346=0,\"wait\",_xll.SNT.StockInst(C346,$N$9))","v":"wait"},{"$f":"N346-制限値幅取得!E341","v":{"$error":"#VALUE!"}},{"$f":"IF(C346=0,\"wait\",_xll.SNT.StockInst(C346,$P$9))","v":"wait"},{"$f":"IF(C346=0,\"\",_xll.SNT.StockInst(C346,\"高値時刻\"))","v":""},{"$f":"MID(_xll.SNT.StockInst($C346,\"高値時刻\"),12,5)","v":"ockIn"},{"$f":"IF(C346=0,\"wait\",_xll.SNT.StockInst(C346,$S$9))","v":"wait"},{"$f":"IF($C346=0,\"\",_xll.SNT.StockInst($C346,\"安値時刻\"))","v":""},{"$f":"MID(_xll.SNT.StockInst($C346,\"安値時刻\"),12,5)","v":"ockIn"},"","","","",{"$f":"_xlfn.IFS(N346<制限値幅取得!I341,\"S安付近\",N346>制限値幅取得!H341,\"S高付近\",制限値幅取得!H341>N346>制限値幅取得!I341,\"\")","v":{"$error":"#VALUE!"}}]
[338,null,null,null,null,null,null,null,null,null,"","",null,{"$f":"IF(C347=0,\"wait\",_xll.SNT.StockInst(C347,$N$9))","v":"wait"},{"$f":"N347-制限値幅取得!E342","v":{"$error":"#VALUE!"}},{"$f":"IF(C347=0,\"wait\",_xll.SNT.StockInst(C347,$P$9))","v":"wait"},{"$f":"IF(C347=0,\"\",_xll.SNT.StockInst(C347,\"高値時刻\"))","v":""},{"$f":"MID(_xll.SNT.StockInst($C347,\"高値時刻\"),12,5)","v":"ockIn"},{"$f":"IF(C347=0,\"wait\",_xll.SNT.StockInst(C347,$S$9))","v":"wait"},{"$f":"IF($C347=0,\"\",_xll.SNT.StockInst($C347,\"安値時刻\"))","v":""},{"$f":"MID(_xll.SNT.StockInst($C347,\"安値時刻\"),12,5)","v":"ockIn"},"","","","",{"$f":"_xlfn.IFS(N347<制限値幅取得!I342,\"S安付近\",N347>制限値幅取得!H342,\"S高付近\",制限値幅取得!H342>N347>制限値幅取得!I342,\"\")","v":{"$error":"#VALUE!"}}]
[339,null,null,null,null,null,null,null,null,null,"","",null,{"$f":"IF(C348=0,\"wait\",_xll.SNT.StockInst(C348,$N$9))","v":"wait"},{"$f":"N348-制限値幅取得!E343","v":{"$error":"#VALUE!"}},{"$f":"IF(C348=0,\"wait\",_xll.SNT.StockInst(C348,$P$9))","v":"wait"},{"$f":"IF(C348=0,\"\",_xll.SNT.StockInst(C348,\"高値時刻\"))","v":""},{"$f":"MID(_xll.SNT.StockInst($C348,\"高値時刻\"),12,5)","v":"ockIn"},{"$f":"IF(C348=0,\"wait\",_xll.SNT.StockInst(C348,$S$9))","v":"wait"},{"$f":"IF($C348=0,\"\",_xll.SNT.StockInst($C348,\"安値時刻\"))","v":""},{"$f":"MID(_xll.SNT.StockInst($C348,\"安値時刻\"),12,5)","v":"ockIn"},"","","","",{"$f":"_xlfn.IFS(N348<制限値幅取得!I343,\"S安付近\",N348>制限値幅取得!H343,\"S高付近\",制限値幅取得!H343>N348>制限値幅取得!I343,\"\")","v":{"$error":"#VALUE!"}}]
[340,null,null,null,null,null,null,null,null,null,"","",null,{"$f":"IF(C349=0,\"wait\",_xll.SNT.StockInst(C349,$N$9))","v":"wait"},{"$f":"N349-制限値幅取得!E344","v":{"$error":"#VALUE!"}},{"$f":"IF(C349=0,\"wait\",_xll.SNT.StockInst(C349,$P$9))","v":"wait"},{"$f":"IF(C349=0,\"\",_xll.SNT.StockInst(C349,\"高値時刻\"))","v":""},{"$f":"MID(_xll.SNT.StockInst($C349,\"高値時刻\"),12,5)","v":"ockIn"},{"$f":"IF(C349=0,\"wait\",_xll.SNT.StockInst(C349,$S$9))","v":"wait"},{"$f":"IF($C349=0,\"\",_xll.SNT.StockInst($C349,\"安値時刻\"))","v":""},{"$f":"MID(_xll.SNT.StockInst($C349,\"安値時刻\"),12,5)","v":"ockIn"},"","","","",{"$f":"_xlfn.IFS(N349<制限値幅取得!I344,\"S安付近\",N349>制限値幅取得!H344,\"S高付近\",制限値幅取得!H344>N349>制限値幅取得!I344,\"\")","v":{"$error":"#VALUE!"}}]
[341,null,null,null,null,null,null,null,null,null,"","",null,{"$f":"IF(C350=0,\"wait\",_xll.SNT.StockInst(C350,$N$9))","v":"wait"},{"$f":"N350-制限値幅取得!E345","v":{"$error":"#VALUE!"}},{"$f":"IF(C350=0,\"wait\",_xll.SNT.StockInst(C350,$P$9))","v":"wait"},{"$f":"IF(C350=0,\"\",_xll.SNT.StockInst(C350,\"高値時刻\"))","v":""},{"$f":"MID(_xll.SNT.StockInst($C350,\"高値時刻\"),12,5)","v":"ockIn"},{"$f":"IF(C350=0,\"wait\",_xll.SNT.StockInst(C350,$S$9))","v":"wait"},{"$f":"IF($C350=0,\"\",_xll.SNT.StockInst($C350,\"安値時刻\"))","v":""},{"$f":"MID(_xll.SNT.StockInst($C350,\"安値時刻\"),12,5)","v":"ockIn"},"","","","",{"$f":"_xlfn.IFS(N350<制限値幅取得!I345,\"S安付近\",N350>制限値幅取得!H345,\"S高付近\",制限値幅取得!H345>N350>制限値幅取得!I345,\"\")","v":{"$error":"#VALUE!"}}]
[342,null,null,null,null,null,null,null,null,null,"","",null,{"$f":"IF(C351=0,\"wait\",_xll.SNT.StockInst(C351,$N$9))","v":"wait"},{"$f":"N351-制限値幅取得!E346","v":{"$error":"#VALUE!"}},{"$f":"IF(C351=0,\"wait\",_xll.SNT.StockInst(C351,$P$9))","v":"wait"},{"$f":"IF(C351=0,\"\",_xll.SNT.StockInst(C351,\"高値時刻\"))","v":""},{"$f":"MID(_xll.SNT.StockInst($C351,\"高値時刻\"),12,5)","v":"ockIn"},{"$f":"IF(C351=0,\"wait\",_xll.SNT.StockInst(C351,$S$9))","v":"wait"},{"$f":"IF($C351=0,\"\",_xll.SNT.StockInst($C351,\"安値時刻\"))","v":""},{"$f":"MID(_xll.SNT.StockInst($C351,\"安値時刻\"),12,5)","v":"ockIn"},"","","","",{"$f":"_xlfn.IFS(N351<制限値幅取得!I346,\"S安付近\",N351>制限値幅取得!H346,\"S高付近\",制限値幅取得!H346>N351>制限値幅取得!I346,\"\")","v":{"$error":"#VALUE!"}}]
[343,null,null,null,null,null,null,null,null,null,"","",null,{"$f":"IF(C352=0,\"wait\",_xll.SNT.StockInst(C352,$N$9))","v":"wait"},{"$f":"N352-制限値幅取得!E347","v":{"$error":"#VALUE!"}},{"$f":"IF(C352=0,\"wait\",_xll.SNT.StockInst(C352,$P$9))","v":"wait"},{"$f":"IF(C352=0,\"\",_xll.SNT.StockInst(C352,\"高値時刻\"))","v":""},{"$f":"MID(_xll.SNT.StockInst($C352,\"高値時刻\"),12,5)","v":"ockIn"},{"$f":"IF(C352=0,\"wait\",_xll.SNT.StockInst(C352,$S$9))","v":"wait"},{"$f":"IF($C352=0,\"\",_xll.SNT.StockInst($C352,\"安値時刻\"))","v":""},{"$f":"MID(_xll.SNT.StockInst($C352,\"安値時刻\"),12,5)","v":"ockIn"},"","","","",{"$f":"_xlfn.IFS(N352<制限値幅取得!I347,\"S安付近\",N352>制限値幅取得!H347,\"S高付近\",制限値幅取得!H347>N352>制限値幅取得!I347,\"\")","v":{"$error":"#VALUE!"}}]
[344,null,null,null,null,null,null,null,null,null,"","",null,{"$f":"IF(C353=0,\"wait\",_xll.SNT.StockInst(C353,$N$9))","v":"wait"},{"$f":"N353-制限値幅取得!E348","v":{"$error":"#VALUE!"}},{"$f":"IF(C353=0,\"wait\",_xll.SNT.StockInst(C353,$P$9))","v":"wait"},{"$f":"IF(C353=0,\"\",_xll.SNT.StockInst(C353,\"高値時刻\"))","v":""},{"$f":"MID(_xll.SNT.StockInst($C353,\"高値時刻\"),12,5)","v":"ockIn"},{"$f":"IF(C353=0,\"wait\",_xll.SNT.StockInst(C353,$S$9))","v":"wait"},{"$f":"IF($C353=0,\"\",_xll.SNT.StockInst($C353,\"安値時刻\"))","v":""},{"$f":"MID(_xll.SNT.StockInst($C353,\"安値時刻\"),12,5)","v":"ockIn"},"","","","",{"$f":"_xlfn.IFS(N353<制限値幅取得!I348,\"S安付近\",N353>制限値幅取得!H348,\"S高付近\",制限値幅取得!H348>N353>制限値幅取得!I348,\"\")","v":{"$error":"#VALUE!"}}]
[345,null,null,null,null,null,null,null,null,null,"","",null,{"$f":"IF(C354=0,\"wait\",_xll.SNT.StockInst(C354,$N$9))","v":"wait"},{"$f":"N354-制限値幅取得!E349","v":{"$error":"#VALUE!"}},{"$f":"IF(C354=0,\"wait\",_xll.SNT.StockInst(C354,$P$9))","v":"wait"},{"$f":"IF(C354=0,\"\",_xll.SNT.StockInst(C354,\"高値時刻\"))","v":""},{"$f":"MID(_xll.SNT.StockInst($C354,\"高値時刻\"),12,5)","v":"ockIn"},{"$f":"IF(C354=0,\"wait\",_xll.SNT.StockInst(C354,$S$9))","v":"wait"},{"$f":"IF($C354=0,\"\",_xll.SNT.StockInst($C354,\"安値時刻\"))","v":""},{"$f":"MID(_xll.SNT.StockInst($C354,\"安値時刻\"),12,5)","v":"ockIn"},"","","","",{"$f":"_xlfn.IFS(N354<制限値幅取得!I349,\"S安付近\",N354>制限値幅取得!H349,\"S高付近\",制限値幅取得!H349>N354>制限値幅取得!I349,\"\")","v":{"$error":"#VALUE!"}}]
[346,null,null,null,null,null,null,null,null,null,"","",null,{"$f":"IF(C355=0,\"wait\",_xll.SNT.StockInst(C355,$N$9))","v":"wait"},{"$f":"N355-制限値幅取得!E350","v":{"$error":"#VALUE!"}},{"$f":"IF(C355=0,\"wait\",_xll.SNT.StockInst(C355,$P$9))","v":"wait"},{"$f":"IF(C355=0,\"\",_xll.SNT.StockInst(C355,\"高値時刻\"))","v":""},{"$f":"MID(_xll.SNT.StockInst($C355,\"高値時刻\"),12,5)","v":"ockIn"},{"$f":"IF(C355=0,\"wait\",_xll.SNT.StockInst(C355,$S$9))","v":"wait"},{"$f":"IF($C355=0,\"\",_xll.SNT.StockInst($C355,\"安値時刻\"))","v":""},{"$f":"MID(_xll.SNT.StockInst($C355,\"安値時刻\"),12,5)","v":"ockIn"},"","","","",{"$f":"_xlfn.IFS(N355<制限値幅取得!I350,\"S安付近\",N355>制限値幅取得!H350,\"S高付近\",制限値幅取得!H350>N355>制限値幅取得!I350,\"\")","v":{"$error":"#VALUE!"}}]
[347,null,null,null,null,null,null,null,null,null,"","",null,{"$f":"IF(C356=0,\"wait\",_xll.SNT.StockInst(C356,$N$9))","v":"wait"},{"$f":"N356-制限値幅取得!E351","v":{"$error":"#VALUE!"}},{"$f":"IF(C356=0,\"wait\",_xll.SNT.StockInst(C356,$P$9))","v":"wait"},{"$f":"IF(C356=0,\"\",_xll.SNT.StockInst(C356,\"高値時刻\"))","v":""},{"$f":"MID(_xll.SNT.StockInst($C356,\"高値時刻\"),12,5)","v":"ockIn"},{"$f":"IF(C356=0,\"wait\",_xll.SNT.StockInst(C356,$S$9))","v":"wait"},{"$f":"IF($C356=0,\"\",_xll.SNT.StockInst($C356,\"安値時刻\"))","v":""},{"$f":"MID(_xll.SNT.StockInst($C356,\"安値時刻\"),12,5)","v":"ockIn"},"","","","",{"$f":"_xlfn.IFS(N356<制限値幅取得!I351,\"S安付近\",N356>制限値幅取得!H351,\"S高付近\",制限値幅取得!H351>N356>制限値幅取得!I351,\"\")","v":{"$error":"#VALUE!"}}]
[348,null,null,null,null,null,null,null,null,null,"","",null,{"$f":"IF(C357=0,\"wait\",_xll.SNT.StockInst(C357,$N$9))","v":"wait"},{"$f":"N357-制限値幅取得!E352","v":{"$error":"#VALUE!"}},{"$f":"IF(C357=0,\"wait\",_xll.SNT.StockInst(C357,$P$9))","v":"wait"},{"$f":"IF(C357=0,\"\",_xll.SNT.StockInst(C357,\"高値時刻\"))","v":""},{"$f":"MID(_xll.SNT.StockInst($C357,\"高値時刻\"),12,5)","v":"ockIn"},{"$f":"IF(C357=0,\"wait\",_xll.SNT.StockInst(C357,$S$9))","v":"wait"},{"$f":"IF($C357=0,\"\",_xll.SNT.StockInst($C357,\"安値時刻\"))","v":""},{"$f":"MID(_xll.SNT.StockInst($C357,\"安値時刻\"),12,5)","v":"ockIn"},"","","","",{"$f":"_xlfn.IFS(N357<制限値幅取得!I352,\"S安付近\",N357>制限値幅取得!H352,\"S高付近\",制限値幅取得!H352>N357>制限値幅取得!I352,\"\")","v":{"$error":"#VALUE!"}}]
[349,null,null,null,null,null,null,null,null,null,"","",null,{"$f":"IF(C358=0,\"wait\",_xll.SNT.StockInst(C358,$N$9))","v":"wait"},{"$f":"N358-制限値幅取得!E353","v":{"$error":"#VALUE!"}},{"$f":"IF(C358=0,\"wait\",_xll.SNT.StockInst(C358,$P$9))","v":"wait"},{"$f":"IF(C358=0,\"\",_xll.SNT.StockInst(C358,\"高値時刻\"))","v":""},{"$f":"MID(_xll.SNT.StockInst($C358,\"高値時刻\"),12,5)","v":"ockIn"},{"$f":"IF(C358=0,\"wait\",_xll.SNT.StockInst(C358,$S$9))","v":"wait"},{"$f":"IF($C358=0,\"\",_xll.SNT.StockInst($C358,\"安値時刻\"))","v":""},{"$f":"MID(_xll.SNT.StockInst($C358,\"安値時刻\"),12,5)","v":"ockIn"},"","","","",{"$f":"_xlfn.IFS(N358<制限値幅取得!I353,\"S安付近\",N358>制限値幅取得!H353,\"S高付近\",制限値幅取得!H353>N358>制限値幅取得!I353,\"\")","v":{"$error":"#VALUE!"}}]
[350,null,null,null,null,null,null,null,null,null,"","",null,{"$f":"IF(C359=0,\"wait\",_xll.SNT.StockInst(C359,$N$9))","v":"wait"},{"$f":"N359-制限値幅取得!E354","v":{"$error":"#VALUE!"}},{"$f":"IF(C359=0,\"wait\",_xll.SNT.StockInst(C359,$P$9))","v":"wait"},{"$f":"IF(C359=0,\"\",_xll.SNT.StockInst(C359,\"高値時刻\"))","v":""},{"$f":"MID(_xll.SNT.StockInst($C359,\"高値時刻\"),12,5)","v":"ockIn"},{"$f":"IF(C359=0,\"wait\",_xll.SNT.StockInst(C359,$S$9))","v":"wait"},{"$f":"IF($C359=0,\"\",_xll.SNT.StockInst($C359,\"安値時刻\"))","v":""},{"$f":"MID(_xll.SNT.StockInst($C359,\"安値時刻\"),12,5)","v":"ockIn"},"","","","",{"$f":"_xlfn.IFS(N359<制限値幅取得!I354,\"S安付近\",N359>制限値幅取得!H354,\"S高付近\",制限値幅取得!H354>N359>制限値幅取得!I354,\"\")","v":{"$error":"#VALUE!"}}]
[351,null,null,null,null,null,null,null,null,null,{"$f":"IFERROR(IF(F360=\"買建\",(N360-I360)*H360,(I360-N360)*H360),\"\")","v":""},{"$f":"IFERROR(K360/(I360*H360),\"\")","v":""},null,{"$f":"IF(C360=0,\"wait\",_xll.SNT.StockInst(C360,$N$9))","v":"wait"},{"$f":"N360-制限値幅取得!E355","v":{"$error":"#VALUE!"}},{"$f":"IF(C360=0,\"wait\",_xll.SNT.StockInst(C360,$P$9))","v":"wait"},{"$f":"IF(C360=0,\"\",_xll.SNT.StockInst(C360,\"高値時刻\"))","v":""},{"$f":"MID(_xll.SNT.StockInst($C360,\"高値時刻\"),12,5)","v":"ockIn"},{"$f":"IF(C360=0,\"wait\",_xll.SNT.StockInst(C360,$S$9))","v":"wait"},{"$f":"IF($C360=0,\"\",_xll.SNT.StockInst($C360,\"安値時刻\"))","v":""},{"$f":"MID(_xll.SNT.StockInst($C360,\"安値時刻\"),12,5)","v":"ockIn"},"","","","",{"$f":"_xlfn.IFS(N360<制限値幅取得!I355,\"S安付近\",N360>制限値幅取得!H355,\"S高付近\",制限値幅取得!H355>N360>制限値幅取得!I355,\"\")","v":{"$error":"#VALUE!"}}]
[352,null,null,null,null,null,null,null,null,null,"","",null,{"$f":"IF(C361=0,\"wait\",_xll.SNT.StockInst(C361,$N$9))","v":"wait"},{"$f":"N361-制限値幅取得!E356","v":{"$error":"#VALUE!"}},{"$f":"IF(C361=0,\"wait\",_xll.SNT.StockInst(C361,$P$9))","v":"wait"},{"$f":"IF(C361=0,\"\",_xll.SNT.StockInst(C361,\"高値時刻\"))","v":""},{"$f":"MID(_xll.SNT.StockInst($C361,\"高値時刻\"),12,5)","v":"ockIn"},{"$f":"IF(C361=0,\"wait\",_xll.SNT.StockInst(C361,$S$9))","v":"wait"},{"$f":"IF($C361=0,\"\",_xll.SNT.StockInst($C361,\"安値時刻\"))","v":""},{"$f":"MID(_xll.SNT.StockInst($C361,\"安値時刻\"),12,5)","v":"ockIn"},"","","","",{"$f":"_xlfn.IFS(N361<制限値幅取得!I356,\"S安付近\",N361>制限値幅取得!H356,\"S高付近\",制限値幅取得!H356>N361>制限値幅取得!I356,\"\")","v":{"$error":"#VALUE!"}}]
[353,null,null,null,null,null,null,null,null,null,"","",null,{"$f":"IF(C362=0,\"wait\",_xll.SNT.StockInst(C362,$N$9))","v":"wait"},{"$f":"N362-制限値幅取得!E357","v":{"$error":"#VALUE!"}},{"$f":"IF(C362=0,\"wait\",_xll.SNT.StockInst(C362,$P$9))","v":"wait"},{"$f":"IF(C362=0,\"\",_xll.SNT.StockInst(C362,\"高値時刻\"))","v":""},{"$f":"MID(_xll.SNT.StockInst($C362,\"高値時刻\"),12,5)","v":"ockIn"},{"$f":"IF(C362=0,\"wait\",_xll.SNT.StockInst(C362,$S$9))","v":"wait"},{"$f":"IF($C362=0,\"\",_xll.SNT.StockInst($C362,\"安値時刻\"))","v":""},{"$f":"MID(_xll.SNT.StockInst($C362,\"安値時刻\"),12,5)","v":"ockIn"},"","","","",{"$f":"_xlfn.IFS(N362<制限値幅取得!I357,\"S安付近\",N362>制限値幅取得!H357,\"S高付近\",制限値幅取得!H357>N362>制限値幅取得!I357,\"\")","v":{"$error":"#VALUE!"}}]
[354,null,null,null,null,null,null,null,null,null,"","",null,{"$f":"IF(C363=0,\"wait\",_xll.SNT.StockInst(C363,$N$9))","v":"wait"},{"$f":"N363-制限値幅取得!E358","v":{"$error":"#VALUE!"}},{"$f":"IF(C363=0,\"wait\",_xll.SNT.StockInst(C363,$P$9))","v":"wait"},{"$f":"IF(C363=0,\"\",_xll.SNT.StockInst(C363,\"高値時刻\"))","v":""},{"$f":"MID(_xll.SNT.StockInst($C363,\"高値時刻\"),12,5)","v":"ockIn"},{"$f":"IF(C363=0,\"wait\",_xll.SNT.StockInst(C363,$S$9))","v":"wait"},{"$f":"IF($C363=0,\"\",_xll.SNT.StockInst($C363,\"安値時刻\"))","v":""},{"$f":"MID(_xll.SNT.StockInst($C363,\"安値時刻\"),12,5)","v":"ockIn"},"","","","",{"$f":"_xlfn.IFS(N363<制限値幅取得!I358,\"S安付近\",N363>制限値幅取得!H358,\"S高付近\",制限値幅取得!H358>N363>制限値幅取得!I358,\"\")","v":{"$error":"#VALUE!"}}]
[355,null,null,null,null,null,null,null,null,null,"","",null,{"$f":"IF(C364=0,\"wait\",_xll.SNT.StockInst(C364,$N$9))","v":"wait"},{"$f":"N364-制限値幅取得!E359","v":{"$error":"#VALUE!"}},{"$f":"IF(C364=0,\"wait\",_xll.SNT.StockInst(C364,$P$9))","v":"wait"},{"$f":"IF(C364=0,\"\",_xll.SNT.StockInst(C364,\"高値時刻\"))","v":""},{"$f":"MID(_xll.SNT.StockInst($C364,\"高値時刻\"),12,5)","v":"ockIn"},{"$f":"IF(C364=0,\"wait\",_xll.SNT.StockInst(C364,$S$9))","v":"wait"},{"$f":"IF($C364=0,\"\",_xll.SNT.StockInst($C364,\"安値時刻\"))","v":""},{"$f":"MID(_xll.SNT.StockInst($C364,\"安値時刻\"),12,5)","v":"ockIn"},"","","","",{"$f":"_xlfn.IFS(N364<制限値幅取得!I359,\"S安付近\",N364>制限値幅取得!H359,\"S高付近\",制限値幅取得!H359>N364>制限値幅取得!I359,\"\")","v":{"$error":"#VALUE!"}}]
[356,null,null,null,null,null,null,null,null,null,"","",null,{"$f":"IF(C365=0,\"wait\",_xll.SNT.StockInst(C365,$N$9))","v":"wait"},{"$f":"N365-制限値幅取得!E360","v":{"$error":"#VALUE!"}},{"$f":"IF(C365=0,\"wait\",_xll.SNT.StockInst(C365,$P$9))","v":"wait"},{"$f":"IF(C365=0,\"\",_xll.SNT.StockInst(C365,\"高値時刻\"))","v":""},{"$f":"MID(_xll.SNT.StockInst($C365,\"高値時刻\"),12,5)","v":"ockIn"},{"$f":"IF(C365=0,\"wait\",_xll.SNT.StockInst(C365,$S$9))","v":"wait"},{"$f":"IF($C365=0,\"\",_xll.SNT.StockInst($C365,\"安値時刻\"))","v":""},{"$f":"MID(_xll.SNT.StockInst($C365,\"安値時刻\"),12,5)","v":"ockIn"},"","","","",{"$f":"_xlfn.IFS(N365<制限値幅取得!I360,\"S安付近\",N365>制限値幅取得!H360,\"S高付近\",制限値幅取得!H360>N365>制限値幅取得!I360,\"\")","v":{"$error":"#VALUE!"}}]
[357,null,null,null,null,null,null,null,null,null,"","",null,{"$f":"IF(C366=0,\"wait\",_xll.SNT.StockInst(C366,$N$9))","v":"wait"},{"$f":"N366-制限値幅取得!E361","v":{"$error":"#VALUE!"}},{"$f":"IF(C366=0,\"wait\",_xll.SNT.StockInst(C366,$P$9))","v":"wait"},{"$f":"IF(C366=0,\"\",_xll.SNT.StockInst(C366,\"高値時刻\"))","v":""},{"$f":"MID(_xll.SNT.StockInst($C366,\"高値時刻\"),12,5)","v":"ockIn"},{"$f":"IF(C366=0,\"wait\",_xll.SNT.StockInst(C366,$S$9))","v":"wait"},{"$f":"IF($C366=0,\"\",_xll.SNT.StockInst($C366,\"安値時刻\"))","v":""},{"$f":"MID(_xll.SNT.StockInst($C366,\"安値時刻\"),12,5)","v":"ockIn"},"","","","",{"$f":"_xlfn.IFS(N366<制限値幅取得!I361,\"S安付近\",N366>制限値幅取得!H361,\"S高付近\",制限値幅取得!H361>N366>制限値幅取得!I361,\"\")","v":{"$error":"#VALUE!"}}]
[358,null,null,null,null,null,null,null,null,null,"","",null,{"$f":"IF(C367=0,\"wait\",_xll.SNT.StockInst(C367,$N$9))","v":"wait"},{"$f":"N367-制限値幅取得!E362","v":{"$error":"#VALUE!"}},{"$f":"IF(C367=0,\"wait\",_xll.SNT.StockInst(C367,$P$9))","v":"wait"},{"$f":"IF(C367=0,\"\",_xll.SNT.StockInst(C367,\"高値時刻\"))","v":""},{"$f":"MID(_xll.SNT.StockInst($C367,\"高値時刻\"),12,5)","v":"ockIn"},{"$f":"IF(C367=0,\"wait\",_xll.SNT.StockInst(C367,$S$9))","v":"wait"},{"$f":"IF($C367=0,\"\",_xll.SNT.StockInst($C367,\"安値時刻\"))","v":""},{"$f":"MID(_xll.SNT.StockInst($C367,\"安値時刻\"),12,5)","v":"ockIn"},"","","","",{"$f":"_xlfn.IFS(N367<制限値幅取得!I362,\"S安付近\",N367>制限値幅取得!H362,\"S高付近\",制限値幅取得!H362>N367>制限値幅取得!I362,\"\")","v":{"$error":"#VALUE!"}}]
[359,null,null,null,null,null,null,null,null,null,"","",null,{"$f":"IF(C368=0,\"wait\",_xll.SNT.StockInst(C368,$N$9))","v":"wait"},{"$f":"N368-制限値幅取得!E363","v":{"$error":"#VALUE!"}},{"$f":"IF(C368=0,\"wait\",_xll.SNT.StockInst(C368,$P$9))","v":"wait"},{"$f":"IF(C368=0,\"\",_xll.SNT.StockInst(C368,\"高値時刻\"))","v":""},{"$f":"MID(_xll.SNT.StockInst($C368,\"高値時刻\"),12,5)","v":"ockIn"},{"$f":"IF(C368=0,\"wait\",_xll.SNT.StockInst(C368,$S$9))","v":"wait"},{"$f":"IF($C368=0,\"\",_xll.SNT.StockInst($C368,\"安値時刻\"))","v":""},{"$f":"MID(_xll.SNT.StockInst($C368,\"安値時刻\"),12,5)","v":"ockIn"},"","","","",{"$f":"_xlfn.IFS(N368<制限値幅取得!I363,\"S安付近\",N368>制限値幅取得!H363,\"S高付近\",制限値幅取得!H363>N368>制限値幅取得!I363,\"\")","v":{"$error":"#VALUE!"}}]
[360,null,null,null,null,null,null,null,null,null,"","",null,{"$f":"IF(C369=0,\"wait\",_xll.SNT.StockInst(C369,$N$9))","v":"wait"},{"$f":"N369-制限値幅取得!E364","v":{"$error":"#VALUE!"}},{"$f":"IF(C369=0,\"wait\",_xll.SNT.StockInst(C369,$P$9))","v":"wait"},{"$f":"IF(C369=0,\"\",_xll.SNT.StockInst(C369,\"高値時刻\"))","v":""},{"$f":"MID(_xll.SNT.StockInst($C369,\"高値時刻\"),12,5)","v":"ockIn"},{"$f":"IF(C369=0,\"wait\",_xll.SNT.StockInst(C369,$S$9))","v":"wait"},{"$f":"IF($C369=0,\"\",_xll.SNT.StockInst($C369,\"安値時刻\"))","v":""},{"$f":"MID(_xll.SNT.StockInst($C369,\"安値時刻\"),12,5)","v":"ockIn"},"","","","",{"$f":"_xlfn.IFS(N369<制限値幅取得!I364,\"S安付近\",N369>制限値幅取得!H364,\"S高付近\",制限値幅取得!H364>N369>制限値幅取得!I364,\"\")","v":{"$error":"#VALUE!"}}]
[361,null,null,null,null,null,null,null,null,null,"","",null,{"$f":"IF(C370=0,\"wait\",_xll.SNT.StockInst(C370,$N$9))","v":"wait"},{"$f":"N370-制限値幅取得!E365","v":{"$error":"#VALUE!"}},{"$f":"IF(C370=0,\"wait\",_xll.SNT.StockInst(C370,$P$9))","v":"wait"},{"$f":"IF(C370=0,\"\",_xll.SNT.StockInst(C370,\"高値時刻\"))","v":""},{"$f":"MID(_xll.SNT.StockInst($C370,\"高値時刻\"),12,5)","v":"ockIn"},{"$f":"IF(C370=0,\"wait\",_xll.SNT.StockInst(C370,$S$9))","v":"wait"},{"$f":"IF($C370=0,\"\",_xll.SNT.StockInst($C370,\"安値時刻\"))","v":""},{"$f":"MID(_xll.SNT.StockInst($C370,\"安値時刻\"),12,5)","v":"ockIn"},"","","","",{"$f":"_xlfn.IFS(N370<制限値幅取得!I365,\"S安付近\",N370>制限値幅取得!H365,\"S高付近\",制限値幅取得!H365>N370>制限値幅取得!I365,\"\")","v":{"$error":"#VALUE!"}}]
[362,null,null,null,null,null,null,null,null,null,"","",null,{"$f":"IF(C371=0,\"wait\",_xll.SNT.StockInst(C371,$N$9))","v":"wait"},{"$f":"N371-制限値幅取得!E366","v":{"$error":"#VALUE!"}},{"$f":"IF(C371=0,\"wait\",_xll.SNT.StockInst(C371,$P$9))","v":"wait"},{"$f":"IF(C371=0,\"\",_xll.SNT.StockInst(C371,\"高値時刻\"))","v":""},{"$f":"MID(_xll.SNT.StockInst($C371,\"高値時刻\"),12,5)","v":"ockIn"},{"$f":"IF(C371=0,\"wait\",_xll.SNT.StockInst(C371,$S$9))","v":"wait"},{"$f":"IF($C371=0,\"\",_xll.SNT.StockInst($C371,\"安値時刻\"))","v":""},{"$f":"MID(_xll.SNT.StockInst($C371,\"安値時刻\"),12,5)","v":"ockIn"},"","","","",{"$f":"_xlfn.IFS(N371<制限値幅取得!I366,\"S安付近\",N371>制限値幅取得!H366,\"S高付近\",制限値幅取得!H366>N371>制限値幅取得!I366,\"\")","v":{"$error":"#VALUE!"}}]
[363,null,null,null,null,null,null,null,null,null,"","",null,{"$f":"IF(C372=0,\"wait\",_xll.SNT.StockInst(C372,$N$9))","v":"wait"},{"$f":"N372-制限値幅取得!E367","v":{"$error":"#VALUE!"}},{"$f":"IF(C372=0,\"wait\",_xll.SNT.StockInst(C372,$P$9))","v":"wait"},{"$f":"IF(C372=0,\"\",_xll.SNT.StockInst(C372,\"高値時刻\"))","v":""},{"$f":"MID(_xll.SNT.StockInst($C372,\"高値時刻\"),12,5)","v":"ockIn"},{"$f":"IF(C372=0,\"wait\",_xll.SNT.StockInst(C372,$S$9))","v":"wait"},{"$f":"IF($C372=0,\"\",_xll.SNT.StockInst($C372,\"安値時刻\"))","v":""},{"$f":"MID(_xll.SNT.StockInst($C372,\"安値時刻\"),12,5)","v":"ockIn"},"","","","",{"$f":"_xlfn.IFS(N372<制限値幅取得!I367,\"S安付近\",N372>制限値幅取得!H367,\"S高付近\",制限値幅取得!H367>N372>制限値幅取得!I367,\"\")","v":{"$error":"#VALUE!"}}]
[364,null,null,null,null,null,null,null,null,null,"","",null,{"$f":"IF(C373=0,\"wait\",_xll.SNT.StockInst(C373,$N$9))","v":"wait"},{"$f":"N373-制限値幅取得!E368","v":{"$error":"#VALUE!"}},{"$f":"IF(C373=0,\"wait\",_xll.SNT.StockInst(C373,$P$9))","v":"wait"},{"$f":"IF(C373=0,\"\",_xll.SNT.StockInst(C373,\"高値時刻\"))","v":""},{"$f":"MID(_xll.SNT.StockInst($C373,\"高値時刻\"),12,5)","v":"ockIn"},{"$f":"IF(C373=0,\"wait\",_xll.SNT.StockInst(C373,$S$9))","v":"wait"},{"$f":"IF($C373=0,\"\",_xll.SNT.StockInst($C373,\"安値時刻\"))","v":""},{"$f":"MID(_xll.SNT.StockInst($C373,\"安値時刻\"),12,5)","v":"ockIn"},"","","","",{"$f":"_xlfn.IFS(N373<制限値幅取得!I368,\"S安付近\",N373>制限値幅取得!H368,\"S高付近\",制限値幅取得!H368>N373>制限値幅取得!I368,\"\")","v":{"$error":"#VALUE!"}}]
[365,null,null,null,null,null,null,null,null,null,"","",null,{"$f":"IF(C374=0,\"wait\",_xll.SNT.StockInst(C374,$N$9))","v":"wait"},{"$f":"N374-制限値幅取得!E369","v":{"$error":"#VALUE!"}},{"$f":"IF(C374=0,\"wait\",_xll.SNT.StockInst(C374,$P$9))","v":"wait"},{"$f":"IF(C374=0,\"\",_xll.SNT.StockInst(C374,\"高値時刻\"))","v":""},{"$f":"MID(_xll.SNT.StockInst($C374,\"高値時刻\"),12,5)","v":"ockIn"},{"$f":"IF(C374=0,\"wait\",_xll.SNT.StockInst(C374,$S$9))","v":"wait"},{"$f":"IF($C374=0,\"\",_xll.SNT.StockInst($C374,\"安値時刻\"))","v":""},{"$f":"MID(_xll.SNT.StockInst($C374,\"安値時刻\"),12,5)","v":"ockIn"},"","","","",{"$f":"_xlfn.IFS(N374<制限値幅取得!I369,\"S安付近\",N374>制限値幅取得!H369,\"S高付近\",制限値幅取得!H369>N374>制限値幅取得!I369,\"\")","v":{"$error":"#VALUE!"}}]
[366,null,null,null,null,null,null,null,null,null,"","",null,{"$f":"IF(C375=0,\"wait\",_xll.SNT.StockInst(C375,$N$9))","v":"wait"},{"$f":"N375-制限値幅取得!E370","v":{"$error":"#VALUE!"}},{"$f":"IF(C375=0,\"wait\",_xll.SNT.StockInst(C375,$P$9))","v":"wait"},{"$f":"IF(C375=0,\"\",_xll.SNT.StockInst(C375,\"高値時刻\"))","v":""},{"$f":"MID(_xll.SNT.StockInst($C375,\"高値時刻\"),12,5)","v":"ockIn"},{"$f":"IF(C375=0,\"wait\",_xll.SNT.StockInst(C375,$S$9))","v":"wait"},{"$f":"IF($C375=0,\"\",_xll.SNT.StockInst($C375,\"安値時刻\"))","v":""},{"$f":"MID(_xll.SNT.StockInst($C375,\"安値時刻\"),12,5)","v":"ockIn"},"","","","",{"$f":"_xlfn.IFS(N375<制限値幅取得!I370,\"S安付近\",N375>制限値幅取得!H370,\"S高付近\",制限値幅取得!H370>N375>制限値幅取得!I370,\"\")","v":{"$error":"#VALUE!"}}]
[367,null,null,null,null,null,null,null,null,null,"","",null,{"$f":"IF(C376=0,\"wait\",_xll.SNT.StockInst(C376,$N$9))","v":"wait"},{"$f":"N376-制限値幅取得!E371","v":{"$error":"#VALUE!"}},{"$f":"IF(C376=0,\"wait\",_xll.SNT.StockInst(C376,$P$9))","v":"wait"},{"$f":"IF(C376=0,\"\",_xll.SNT.StockInst(C376,\"高値時刻\"))","v":""},{"$f":"MID(_xll.SNT.StockInst($C376,\"高値時刻\"),12,5)","v":"ockIn"},{"$f":"IF(C376=0,\"wait\",_xll.SNT.StockInst(C376,$S$9))","v":"wait"},{"$f":"IF($C376=0,\"\",_xll.SNT.StockInst($C376,\"安値時刻\"))","v":""},{"$f":"MID(_xll.SNT.StockInst($C376,\"安値時刻\"),12,5)","v":"ockIn"},"","","","",{"$f":"_xlfn.IFS(N376<制限値幅取得!I371,\"S安付近\",N376>制限値幅取得!H371,\"S高付近\",制限値幅取得!H371>N376>制限値幅取得!I371,\"\")","v":{"$error":"#VALUE!"}}]
[368,null,null,null,null,null,null,null,null,null,"","",null,{"$f":"IF(C377=0,\"wait\",_xll.SNT.StockInst(C377,$N$9))","v":"wait"},{"$f":"N377-制限値幅取得!E372","v":{"$error":"#VALUE!"}},{"$f":"IF(C377=0,\"wait\",_xll.SNT.StockInst(C377,$P$9))","v":"wait"},{"$f":"IF(C377=0,\"\",_xll.SNT.StockInst(C377,\"高値時刻\"))","v":""},{"$f":"MID(_xll.SNT.StockInst($C377,\"高値時刻\"),12,5)","v":"ockIn"},{"$f":"IF(C377=0,\"wait\",_xll.SNT.StockInst(C377,$S$9))","v":"wait"},{"$f":"IF($C377=0,\"\",_xll.SNT.StockInst($C377,\"安値時刻\"))","v":""},{"$f":"MID(_xll.SNT.StockInst($C377,\"安値時刻\"),12,5)","v":"ockIn"},"","","","",{"$f":"_xlfn.IFS(N377<制限値幅取得!I372,\"S安付近\",N377>制限値幅取得!H372,\"S高付近\",制限値幅取得!H372>N377>制限値幅取得!I372,\"\")","v":{"$error":"#VALUE!"}}]
[369,null,null,null,null,null,null,null,null,null,"","",null,{"$f":"IF(C378=0,\"wait\",_xll.SNT.StockInst(C378,$N$9))","v":"wait"},{"$f":"N378-制限値幅取得!E373","v":{"$error":"#VALUE!"}},{"$f":"IF(C378=0,\"wait\",_xll.SNT.StockInst(C378,$P$9))","v":"wait"},{"$f":"IF(C378=0,\"\",_xll.SNT.StockInst(C378,\"高値時刻\"))","v":""},{"$f":"MID(_xll.SNT.StockInst($C378,\"高値時刻\"),12,5)","v":"ockIn"},{"$f":"IF(C378=0,\"wait\",_xll.SNT.StockInst(C378,$S$9))","v":"wait"},{"$f":"IF($C378=0,\"\",_xll.SNT.StockInst($C378,\"安値時刻\"))","v":""},{"$f":"MID(_xll.SNT.StockInst($C378,\"安値時刻\"),12,5)","v":"ockIn"},"","","","",{"$f":"_xlfn.IFS(N378<制限値幅取得!I373,\"S安付近\",N378>制限値幅取得!H373,\"S高付近\",制限値幅取得!H373>N378>制限値幅取得!I373,\"\")","v":{"$error":"#VALUE!"}}]
[370,null,null,null,null,null,null,null,null,null,"","",null,{"$f":"IF(C379=0,\"wait\",_xll.SNT.StockInst(C379,$N$9))","v":"wait"},{"$f":"N379-制限値幅取得!E374","v":{"$error":"#VALUE!"}},{"$f":"IF(C379=0,\"wait\",_xll.SNT.StockInst(C379,$P$9))","v":"wait"},{"$f":"IF(C379=0,\"\",_xll.SNT.StockInst(C379,\"高値時刻\"))","v":""},{"$f":"MID(_xll.SNT.StockInst($C379,\"高値時刻\"),12,5)","v":"ockIn"},{"$f":"IF(C379=0,\"wait\",_xll.SNT.StockInst(C379,$S$9))","v":"wait"},{"$f":"IF($C379=0,\"\",_xll.SNT.StockInst($C379,\"安値時刻\"))","v":""},{"$f":"MID(_xll.SNT.StockInst($C379,\"安値時刻\"),12,5)","v":"ockIn"},"","","","",{"$f":"_xlfn.IFS(N379<制限値幅取得!I374,\"S安付近\",N379>制限値幅取得!H374,\"S高付近\",制限値幅取得!H374>N379>制限値幅取得!I374,\"\")","v":{"$error":"#VALUE!"}}]
[371,null,null,null,null,null,null,null,null,null,"","",null,{"$f":"IF(C380=0,\"wait\",_xll.SNT.StockInst(C380,$N$9))","v":"wait"},{"$f":"N380-制限値幅取得!E375","v":{"$error":"#VALUE!"}},{"$f":"IF(C380=0,\"wait\",_xll.SNT.StockInst(C380,$P$9))","v":"wait"},{"$f":"IF(C380=0,\"\",_xll.SNT.StockInst(C380,\"高値時刻\"))","v":""},{"$f":"MID(_xll.SNT.StockInst($C380,\"高値時刻\"),12,5)","v":"ockIn"},{"$f":"IF(C380=0,\"wait\",_xll.SNT.StockInst(C380,$S$9))","v":"wait"},{"$f":"IF($C380=0,\"\",_xll.SNT.StockInst($C380,\"安値時刻\"))","v":""},{"$f":"MID(_xll.SNT.StockInst($C380,\"安値時刻\"),12,5)","v":"ockIn"},"","","","",{"$f":"_xlfn.IFS(N380<制限値幅取得!I375,\"S安付近\",N380>制限値幅取得!H375,\"S高付近\",制限値幅取得!H375>N380>制限値幅取得!I375,\"\")","v":{"$error":"#VALUE!"}}]
[372,null,null,null,null,null,null,null,null,null,"","",null,{"$f":"IF(C381=0,\"wait\",_xll.SNT.StockInst(C381,$N$9))","v":"wait"},{"$f":"N381-制限値幅取得!E376","v":{"$error":"#VALUE!"}},{"$f":"IF(C381=0,\"wait\",_xll.SNT.StockInst(C381,$P$9))","v":"wait"},{"$f":"IF(C381=0,\"\",_xll.SNT.StockInst(C381,\"高値時刻\"))","v":""},{"$f":"MID(_xll.SNT.StockInst($C381,\"高値時刻\"),12,5)","v":"ockIn"},{"$f":"IF(C381=0,\"wait\",_xll.SNT.StockInst(C381,$S$9))","v":"wait"},{"$f":"IF($C381=0,\"\",_xll.SNT.StockInst($C381,\"安値時刻\"))","v":""},{"$f":"MID(_xll.SNT.StockInst($C381,\"安値時刻\"),12,5)","v":"ockIn"},"","","","",{"$f":"_xlfn.IFS(N381<制限値幅取得!I376,\"S安付近\",N381>制限値幅取得!H376,\"S高付近\",制限値幅取得!H376>N381>制限値幅取得!I376,\"\")","v":{"$error":"#VALUE!"}}]
[373,null,null,null,null,null,null,null,null,null,"","",null,{"$f":"IF(C382=0,\"wait\",_xll.SNT.StockInst(C382,$N$9))","v":"wait"},{"$f":"N382-制限値幅取得!E377","v":{"$error":"#VALUE!"}},{"$f":"IF(C382=0,\"wait\",_xll.SNT.StockInst(C382,$P$9))","v":"wait"},{"$f":"IF(C382=0,\"\",_xll.SNT.StockInst(C382,\"高値時刻\"))","v":""},{"$f":"MID(_xll.SNT.StockInst($C382,\"高値時刻\"),12,5)","v":"ockIn"},{"$f":"IF(C382=0,\"wait\",_xll.SNT.StockInst(C382,$S$9))","v":"wait"},{"$f":"IF($C382=0,\"\",_xll.SNT.StockInst($C382,\"安値時刻\"))","v":""},{"$f":"MID(_xll.SNT.StockInst($C382,\"安値時刻\"),12,5)","v":"ockIn"},"","","","",{"$f":"_xlfn.IFS(N382<制限値幅取得!I377,\"S安付近\",N382>制限値幅取得!H377,\"S高付近\",制限値幅取得!H377>N382>制限値幅取得!I377,\"\")","v":{"$error":"#VALUE!"}}]
[374,null,null,null,null,null,null,null,null,null,"","",null,{"$f":"IF(C383=0,\"wait\",_xll.SNT.StockInst(C383,$N$9))","v":"wait"},{"$f":"N383-制限値幅取得!E378","v":{"$error":"#VALUE!"}},{"$f":"IF(C383=0,\"wait\",_xll.SNT.StockInst(C383,$P$9))","v":"wait"},{"$f":"IF(C383=0,\"\",_xll.SNT.StockInst(C383,\"高値時刻\"))","v":""},{"$f":"MID(_xll.SNT.StockInst($C383,\"高値時刻\"),12,5)","v":"ockIn"},{"$f":"IF(C383=0,\"wait\",_xll.SNT.StockInst(C383,$S$9))","v":"wait"},{"$f":"IF($C383=0,\"\",_xll.SNT.StockInst($C383,\"安値時刻\"))","v":""},{"$f":"MID(_xll.SNT.StockInst($C383,\"安値時刻\"),12,5)","v":"ockIn"},"","","","",{"$f":"_xlfn.IFS(N383<制限値幅取得!I378,\"S安付近\",N383>制限値幅取得!H378,\"S高付近\",制限値幅取得!H378>N383>制限値幅取得!I378,\"\")","v":{"$error":"#VALUE!"}}]
[375,null,null,null,null,null,null,null,null,null,"","",null,{"$f":"IF(C384=0,\"wait\",_xll.SNT.StockInst(C384,$N$9))","v":"wait"},{"$f":"N384-制限値幅取得!E379","v":{"$error":"#VALUE!"}},{"$f":"IF(C384=0,\"wait\",_xll.SNT.StockInst(C384,$P$9))","v":"wait"},{"$f":"IF(C384=0,\"\",_xll.SNT.StockInst(C384,\"高値時刻\"))","v":""},{"$f":"MID(_xll.SNT.StockInst($C384,\"高値時刻\"),12,5)","v":"ockIn"},{"$f":"IF(C384=0,\"wait\",_xll.SNT.StockInst(C384,$S$9))","v":"wait"},{"$f":"IF($C384=0,\"\",_xll.SNT.StockInst($C384,\"安値時刻\"))","v":""},{"$f":"MID(_xll.SNT.StockInst($C384,\"安値時刻\"),12,5)","v":"ockIn"},"","","","",{"$f":"_xlfn.IFS(N384<制限値幅取得!I379,\"S安付近\",N384>制限値幅取得!H379,\"S高付近\",制限値幅取得!H379>N384>制限値幅取得!I379,\"\")","v":{"$error":"#VALUE!"}}]
[376,null,null,null,null,null,null,null,null,null,"","",null,{"$f":"IF(C385=0,\"wait\",_xll.SNT.StockInst(C385,$N$9))","v":"wait"},{"$f":"N385-制限値幅取得!E380","v":{"$error":"#VALUE!"}},{"$f":"IF(C385=0,\"wait\",_xll.SNT.StockInst(C385,$P$9))","v":"wait"},{"$f":"IF(C385=0,\"\",_xll.SNT.StockInst(C385,\"高値時刻\"))","v":""},{"$f":"MID(_xll.SNT.StockInst($C385,\"高値時刻\"),12,5)","v":"ockIn"},{"$f":"IF(C385=0,\"wait\",_xll.SNT.StockInst(C385,$S$9))","v":"wait"},{"$f":"IF($C385=0,\"\",_xll.SNT.StockInst($C385,\"安値時刻\"))","v":""},{"$f":"MID(_xll.SNT.StockInst($C385,\"安値時刻\"),12,5)","v":"ockIn"},"","","","",{"$f":"_xlfn.IFS(N385<制限値幅取得!I380,\"S安付近\",N385>制限値幅取得!H380,\"S高付近\",制限値幅取得!H380>N385>制限値幅取得!I380,\"\")","v":{"$error":"#VALUE!"}}]
[377,null,null,null,null,null,null,null,null,null,"","",null,{"$f":"IF(C386=0,\"wait\",_xll.SNT.StockInst(C386,$N$9))","v":"wait"},{"$f":"N386-制限値幅取得!E381","v":{"$error":"#VALUE!"}},{"$f":"IF(C386=0,\"wait\",_xll.SNT.StockInst(C386,$P$9))","v":"wait"},{"$f":"IF(C386=0,\"\",_xll.SNT.StockInst(C386,\"高値時刻\"))","v":""},{"$f":"MID(_xll.SNT.StockInst($C386,\"高値時刻\"),12,5)","v":"ockIn"},{"$f":"IF(C386=0,\"wait\",_xll.SNT.StockInst(C386,$S$9))","v":"wait"},{"$f":"IF($C386=0,\"\",_xll.SNT.StockInst($C386,\"安値時刻\"))","v":""},{"$f":"MID(_xll.SNT.StockInst($C386,\"安値時刻\"),12,5)","v":"ockIn"},"","","","",{"$f":"_xlfn.IFS(N386<制限値幅取得!I381,\"S安付近\",N386>制限値幅取得!H381,\"S高付近\",制限値幅取得!H381>N386>制限値幅取得!I381,\"\")","v":{"$error":"#VALUE!"}}]
[378,null,null,null,null,null,null,null,null,null,"","",null,{"$f":"IF(C387=0,\"wait\",_xll.SNT.StockInst(C387,$N$9))","v":"wait"},{"$f":"N387-制限値幅取得!E382","v":{"$error":"#VALUE!"}},{"$f":"IF(C387=0,\"wait\",_xll.SNT.StockInst(C387,$P$9))","v":"wait"},{"$f":"IF(C387=0,\"\",_xll.SNT.StockInst(C387,\"高値時刻\"))","v":""},{"$f":"MID(_xll.SNT.StockInst($C387,\"高値時刻\"),12,5)","v":"ockIn"},{"$f":"IF(C387=0,\"wait\",_xll.SNT.StockInst(C387,$S$9))","v":"wait"},{"$f":"IF($C387=0,\"\",_xll.SNT.StockInst($C387,\"安値時刻\"))","v":""},{"$f":"MID(_xll.SNT.StockInst($C387,\"安値時刻\"),12,5)","v":"ockIn"},"","","","",{"$f":"_xlfn.IFS(N387<制限値幅取得!I382,\"S安付近\",N387>制限値幅取得!H382,\"S高付近\",制限値幅取得!H382>N387>制限値幅取得!I382,\"\")","v":{"$error":"#VALUE!"}}]
[379,null,null,null,null,null,null,null,null,null,"","",null,{"$f":"IF(C388=0,\"wait\",_xll.SNT.StockInst(C388,$N$9))","v":"wait"},{"$f":"N388-制限値幅取得!E383","v":{"$error":"#VALUE!"}},{"$f":"IF(C388=0,\"wait\",_xll.SNT.StockInst(C388,$P$9))","v":"wait"},{"$f":"IF(C388=0,\"\",_xll.SNT.StockInst(C388,\"高値時刻\"))","v":""},{"$f":"MID(_xll.SNT.StockInst($C388,\"高値時刻\"),12,5)","v":"ockIn"},{"$f":"IF(C388=0,\"wait\",_xll.SNT.StockInst(C388,$S$9))","v":"wait"},{"$f":"IF($C388=0,\"\",_xll.SNT.StockInst($C388,\"安値時刻\"))","v":""},{"$f":"MID(_xll.SNT.StockInst($C388,\"安値時刻\"),12,5)","v":"ockIn"},"","","","",{"$f":"_xlfn.IFS(N388<制限値幅取得!I383,\"S安付近\",N388>制限値幅取得!H383,\"S高付近\",制限値幅取得!H383>N388>制限値幅取得!I383,\"\")","v":{"$error":"#VALUE!"}}]
[380,null,null,null,null,null,null,null,null,null,"","",null,{"$f":"IF(C389=0,\"wait\",_xll.SNT.StockInst(C389,$N$9))","v":"wait"},{"$f":"N389-制限値幅取得!E384","v":{"$error":"#VALUE!"}},{"$f":"IF(C389=0,\"wait\",_xll.SNT.StockInst(C389,$P$9))","v":"wait"},{"$f":"IF(C389=0,\"\",_xll.SNT.StockInst(C389,\"高値時刻\"))","v":""},{"$f":"MID(_xll.SNT.StockInst($C389,\"高値時刻\"),12,5)","v":"ockIn"},{"$f":"IF(C389=0,\"wait\",_xll.SNT.StockInst(C389,$S$9))","v":"wait"},{"$f":"IF($C389=0,\"\",_xll.SNT.StockInst($C389,\"安値時刻\"))","v":""},{"$f":"MID(_xll.SNT.StockInst($C389,\"安値時刻\"),12,5)","v":"ockIn"},"","","","",{"$f":"_xlfn.IFS(N389<制限値幅取得!I384,\"S安付近\",N389>制限値幅取得!H384,\"S高付近\",制限値幅取得!H384>N389>制限値幅取得!I384,\"\")","v":{"$error":"#VALUE!"}}]
[381,null,null,null,null,null,null,null,null,null,"","",null,{"$f":"IF(C390=0,\"wait\",_xll.SNT.StockInst(C390,$N$9))","v":"wait"},{"$f":"N390-制限値幅取得!E385","v":{"$error":"#VALUE!"}},{"$f":"IF(C390=0,\"wait\",_xll.SNT.StockInst(C390,$P$9))","v":"wait"},{"$f":"IF(C390=0,\"\",_xll.SNT.StockInst(C390,\"高値時刻\"))","v":""},{"$f":"MID(_xll.SNT.StockInst($C390,\"高値時刻\"),12,5)","v":"ockIn"},{"$f":"IF(C390=0,\"wait\",_xll.SNT.StockInst(C390,$S$9))","v":"wait"},{"$f":"IF($C390=0,\"\",_xll.SNT.StockInst($C390,\"安値時刻\"))","v":""},{"$f":"MID(_xll.SNT.StockInst($C390,\"安値時刻\"),12,5)","v":"ockIn"},"","","","",{"$f":"_xlfn.IFS(N390<制限値幅取得!I385,\"S安付近\",N390>制限値幅取得!H385,\"S高付近\",制限値幅取得!H385>N390>制限値幅取得!I385,\"\")","v":{"$error":"#VALUE!"}}]
[382,null,null,null,null,null,null,null,null,null,"","",null,{"$f":"IF(C391=0,\"wait\",_xll.SNT.StockInst(C391,$N$9))","v":"wait"},{"$f":"N391-制限値幅取得!E386","v":{"$error":"#VALUE!"}},{"$f":"IF(C391=0,\"wait\",_xll.SNT.StockInst(C391,$P$9))","v":"wait"},{"$f":"IF(C391=0,\"\",_xll.SNT.StockInst(C391,\"高値時刻\"))","v":""},{"$f":"MID(_xll.SNT.StockInst($C391,\"高値時刻\"),12,5)","v":"ockIn"},{"$f":"IF(C391=0,\"wait\",_xll.SNT.StockInst(C391,$S$9))","v":"wait"},{"$f":"IF($C391=0,\"\",_xll.SNT.StockInst($C391,\"安値時刻\"))","v":""},{"$f":"MID(_xll.SNT.StockInst($C391,\"安値時刻\"),12,5)","v":"ockIn"},"","","","",{"$f":"_xlfn.IFS(N391<制限値幅取得!I386,\"S安付近\",N391>制限値幅取得!H386,\"S高付近\",制限値幅取得!H386>N391>制限値幅取得!I386,\"\")","v":{"$error":"#VALUE!"}}]
[383,null,null,null,null,null,null,null,null,null,"","",null,{"$f":"IF(C392=0,\"wait\",_xll.SNT.StockInst(C392,$N$9))","v":"wait"},{"$f":"N392-制限値幅取得!E387","v":{"$error":"#VALUE!"}},{"$f":"IF(C392=0,\"wait\",_xll.SNT.StockInst(C392,$P$9))","v":"wait"},{"$f":"IF(C392=0,\"\",_xll.SNT.StockInst(C392,\"高値時刻\"))","v":""},{"$f":"MID(_xll.SNT.StockInst($C392,\"高値時刻\"),12,5)","v":"ockIn"},{"$f":"IF(C392=0,\"wait\",_xll.SNT.StockInst(C392,$S$9))","v":"wait"},{"$f":"IF($C392=0,\"\",_xll.SNT.StockInst($C392,\"安値時刻\"))","v":""},{"$f":"MID(_xll.SNT.StockInst($C392,\"安値時刻\"),12,5)","v":"ockIn"},"","","","",{"$f":"_xlfn.IFS(N392<制限値幅取得!I387,\"S安付近\",N392>制限値幅取得!H387,\"S高付近\",制限値幅取得!H387>N392>制限値幅取得!I387,\"\")","v":{"$error":"#VALUE!"}}]
[384,null,null,null,null,null,null,null,null,null,"","",null,{"$f":"IF(C393=0,\"wait\",_xll.SNT.StockInst(C393,$N$9))","v":"wait"},{"$f":"N393-制限値幅取得!E388","v":{"$error":"#VALUE!"}},{"$f":"IF(C393=0,\"wait\",_xll.SNT.StockInst(C393,$P$9))","v":"wait"},{"$f":"IF(C393=0,\"\",_xll.SNT.StockInst(C393,\"高値時刻\"))","v":""},{"$f":"MID(_xll.SNT.StockInst($C393,\"高値時刻\"),12,5)","v":"ockIn"},{"$f":"IF(C393=0,\"wait\",_xll.SNT.StockInst(C393,$S$9))","v":"wait"},{"$f":"IF($C393=0,\"\",_xll.SNT.StockInst($C393,\"安値時刻\"))","v":""},{"$f":"MID(_xll.SNT.StockInst($C393,\"安値時刻\"),12,5)","v":"ockIn"},"","","","",{"$f":"_xlfn.IFS(N393<制限値幅取得!I388,\"S安付近\",N393>制限値幅取得!H388,\"S高付近\",制限値幅取得!H388>N393>制限値幅取得!I388,\"\")","v":{"$error":"#VALUE!"}}]
[385,null,null,null,null,null,null,null,null,null,"","",null,{"$f":"IF(C394=0,\"wait\",_xll.SNT.StockInst(C394,$N$9))","v":"wait"},{"$f":"N394-制限値幅取得!E389","v":{"$error":"#VALUE!"}},{"$f":"IF(C394=0,\"wait\",_xll.SNT.StockInst(C394,$P$9))","v":"wait"},{"$f":"IF(C394=0,\"\",_xll.SNT.StockInst(C394,\"高値時刻\"))","v":""},{"$f":"MID(_xll.SNT.StockInst($C394,\"高値時刻\"),12,5)","v":"ockIn"},{"$f":"IF(C394=0,\"wait\",_xll.SNT.StockInst(C394,$S$9))","v":"wait"},{"$f":"IF($C394=0,\"\",_xll.SNT.StockInst($C394,\"安値時刻\"))","v":""},{"$f":"MID(_xll.SNT.StockInst($C394,\"安値時刻\"),12,5)","v":"ockIn"},{"$f":"IFERROR(IF($Y$2-$Q394<=TIME(0,$X$3,0),\"高値更新\",IF($Y$2-$T394<=TIME(0,$X$3,0),\"安値更新\",\"\")),\"\")","v":""},"","","",{"$f":"_xlfn.IFS(N394<制限値幅取得!I389,\"S安付近\",N394>制限値幅取得!H389,\"S高付近\",制限値幅取得!H389>N394>制限値幅取得!I389,\"\")","v":{"$error":"#VALUE!"}}]
[386,null,null,null,null,null,null,null,null,null,"","",null,{"$f":"IF(C395=0,\"wait\",_xll.SNT.StockInst(C395,$N$9))","v":"wait"},{"$f":"N395-制限値幅取得!E390","v":{"$error":"#VALUE!"}},{"$f":"IF(C395=0,\"wait\",_xll.SNT.StockInst(C395,$P$9))","v":"wait"},{"$f":"IF(C395=0,\"\",_xll.SNT.StockInst(C395,\"高値時刻\"))","v":""},{"$f":"MID(_xll.SNT.StockInst($C395,\"高値時刻\"),12,5)","v":"ockIn"},{"$f":"IF(C395=0,\"wait\",_xll.SNT.StockInst(C395,$S$9))","v":"wait"},{"$f":"IF($C395=0,\"\",_xll.SNT.StockInst($C395,\"安値時刻\"))","v":""},{"$f":"MID(_xll.SNT.StockInst($C395,\"安値時刻\"),12,5)","v":"ockIn"},"",{"$f":"IF(X395=\"\",\"\",IF(F395=\"買建\",IF(N395<X395,\"ﾛｽｶｯﾄ\",\"\"),IF(F395=\"売建\",IF(N395>X395,\"ﾛｽｶｯﾄ\",\"\"),\"\")))","v":""},{"$f":"IFERROR(MROUND(IF(F395=\"買建\",((I395*H395)+Y395)/H395,((I395*H395)-Y395)/H395),$X$5),\"\")","v":""},{"$f":"IF(K395<0,-(H395*I395*$X$4),\"\")","v":""},{"$f":"_xlfn.IFS(N395<制限値幅取得!I390,\"S安付近\",N395>制限値幅取得!H390,\"S高付近\",制限値幅取得!H390>N395>制限値幅取得!I390,\"\")","v":{"$error":"#VALUE!"}}]
[387,null,null,null,null,null,null,null,null,null,"","",null,{"$f":"IF(C396=0,\"wait\",_xll.SNT.StockInst(C396,$N$9))","v":"wait"},{"$f":"N396-制限値幅取得!E391","v":{"$error":"#VALUE!"}},{"$f":"IF(C396=0,\"wait\",_xll.SNT.StockInst(C396,$P$9))","v":"wait"},{"$f":"IF(C396=0,\"\",_xll.SNT.StockInst(C396,\"高値時刻\"))","v":""},{"$f":"MID(_xll.SNT.StockInst($C396,\"高値時刻\"),12,5)","v":"ockIn"},{"$f":"IF(C396=0,\"wait\",_xll.SNT.StockInst(C396,$S$9))","v":"wait"},{"$f":"IF($C396=0,\"\",_xll.SNT.StockInst($C396,\"安値時刻\"))","v":""},{"$f":"MID(_xll.SNT.StockInst($C396,\"安値時刻\"),12,5)","v":"ockIn"},"","","","",{"$f":"_xlfn.IFS(N396<制限値幅取得!I391,\"S安付近\",N396>制限値幅取得!H391,\"S高付近\",制限値幅取得!H391>N396>制限値幅取得!I391,\"\")","v":{"$error":"#VALUE!"}}]
[388,null,null,null,null,null,null,null,null,null,"","",null,{"$f":"IF(C397=0,\"wait\",_xll.SNT.StockInst(C397,$N$9))","v":"wait"},{"$f":"N397-制限値幅取得!E392","v":{"$error":"#VALUE!"}},{"$f":"IF(C397=0,\"wait\",_xll.SNT.StockInst(C397,$P$9))","v":"wait"},{"$f":"IF(C397=0,\"\",_xll.SNT.StockInst(C397,\"高値時刻\"))","v":""},{"$f":"MID(_xll.SNT.StockInst($C397,\"高値時刻\"),12,5)","v":"ockIn"},{"$f":"IF(C397=0,\"wait\",_xll.SNT.StockInst(C397,$S$9))","v":"wait"},{"$f":"IF($C397=0,\"\",_xll.SNT.StockInst($C397,\"安値時刻\"))","v":""},{"$f":"MID(_xll.SNT.StockInst($C397,\"安値時刻\"),12,5)","v":"ockIn"},"","","","",{"$f":"_xlfn.IFS(N397<制限値幅取得!I392,\"S安付近\",N397>制限値幅取得!H392,\"S高付近\",制限値幅取得!H392>N397>制限値幅取得!I392,\"\")","v":{"$error":"#VALUE!"}}]
[389,null,null,null,null,null,null,null,null,null,"","",null,{"$f":"IF(C398=0,\"wait\",_xll.SNT.StockInst(C398,$N$9))","v":"wait"},{"$f":"N398-制限値幅取得!E393","v":{"$error":"#VALUE!"}},{"$f":"IF(C398=0,\"wait\",_xll.SNT.StockInst(C398,$P$9))","v":"wait"},{"$f":"IF(C398=0,\"\",_xll.SNT.StockInst(C398,\"高値時刻\"))","v":""},{"$f":"MID(_xll.SNT.StockInst($C398,\"高値時刻\"),12,5)","v":"ockIn"},{"$f":"IF(C398=0,\"wait\",_xll.SNT.StockInst(C398,$S$9))","v":"wait"},{"$f":"IF($C398=0,\"\",_xll.SNT.StockInst($C398,\"安値時刻\"))","v":""},{"$f":"MID(_xll.SNT.StockInst($C398,\"安値時刻\"),12,5)","v":"ockIn"},"","","","",{"$f":"_xlfn.IFS(N398<制限値幅取得!I393,\"S安付近\",N398>制限値幅取得!H393,\"S高付近\",制限値幅取得!H393>N398>制限値幅取得!I393,\"\")","v":{"$error":"#VALUE!"}}]
[390,null,null,null,null,null,null,null,null,null,"","",null,{"$f":"IF(C399=0,\"wait\",_xll.SNT.StockInst(C399,$N$9))","v":"wait"},{"$f":"N399-制限値幅取得!E394","v":{"$error":"#VALUE!"}},{"$f":"IF(C399=0,\"wait\",_xll.SNT.StockInst(C399,$P$9))","v":"wait"},{"$f":"IF(C399=0,\"\",_xll.SNT.StockInst(C399,\"高値時刻\"))","v":""},{"$f":"MID(_xll.SNT.StockInst($C399,\"高値時刻\"),12,5)","v":"ockIn"},{"$f":"IF(C399=0,\"wait\",_xll.SNT.StockInst(C399,$S$9))","v":"wait"},{"$f":"IF($C399=0,\"\",_xll.SNT.StockInst($C399,\"安値時刻\"))","v":""},{"$f":"MID(_xll.SNT.StockInst($C399,\"安値時刻\"),12,5)","v":"ockIn"},"","","","",{"$f":"_xlfn.IFS(N399<制限値幅取得!I394,\"S安付近\",N399>制限値幅取得!H394,\"S高付近\",制限値幅取得!H394>N399>制限値幅取得!I394,\"\")","v":{"$error":"#VALUE!"}}]
[391,null,null,null,null,null,null,null,null,null,"","",null,{"$f":"IF(C400=0,\"wait\",_xll.SNT.StockInst(C400,$N$9))","v":"wait"},{"$f":"N400-制限値幅取得!E395","v":{"$error":"#VALUE!"}},{"$f":"IF(C400=0,\"wait\",_xll.SNT.StockInst(C400,$P$9))","v":"wait"},{"$f":"IF(C400=0,\"\",_xll.SNT.StockInst(C400,\"高値時刻\"))","v":""},{"$f":"MID(_xll.SNT.StockInst($C400,\"高値時刻\"),12,5)","v":"ockIn"},{"$f":"IF(C400=0,\"wait\",_xll.SNT.StockInst(C400,$S$9))","v":"wait"},{"$f":"IF($C400=0,\"\",_xll.SNT.StockInst($C400,\"安値時刻\"))","v":""},{"$f":"MID(_xll.SNT.StockInst($C400,\"安値時刻\"),12,5)","v":"ockIn"},"","","","",{"$f":"_xlfn.IFS(N400<制限値幅取得!I395,\"S安付近\",N400>制限値幅取得!H395,\"S高付近\",制限値幅取得!H395>N400>制限値幅取得!I395,\"\")","v":{"$error":"#VALUE!"}}]
[392,null,null,null,null,null,null,null,null,null,"","",null,{"$f":"IF(C401=0,\"wait\",_xll.SNT.StockInst(C401,$N$9))","v":"wait"},{"$f":"N401-制限値幅取得!E396","v":{"$error":"#VALUE!"}},{"$f":"IF(C401=0,\"wait\",_xll.SNT.StockInst(C401,$P$9))","v":"wait"},{"$f":"IF(C401=0,\"\",_xll.SNT.StockInst(C401,\"高値時刻\"))","v":""},{"$f":"MID(_xll.SNT.StockInst($C401,\"高値時刻\"),12,5)","v":"ockIn"},{"$f":"IF(C401=0,\"wait\",_xll.SNT.StockInst(C401,$S$9))","v":"wait"},{"$f":"IF($C401=0,\"\",_xll.SNT.StockInst($C401,\"安値時刻\"))","v":""},{"$f":"MID(_xll.SNT.StockInst($C401,\"安値時刻\"),12,5)","v":"ockIn"},"","","","",{"$f":"_xlfn.IFS(N401<制限値幅取得!I396,\"S安付近\",N401>制限値幅取得!H396,\"S高付近\",制限値幅取得!H396>N401>制限値幅取得!I396,\"\")","v":{"$error":"#VALUE!"}}]
[393,null,null,null,null,null,null,null,null,null,"","",null,{"$f":"IF(C402=0,\"wait\",_xll.SNT.StockInst(C402,$N$9))","v":"wait"},{"$f":"N402-制限値幅取得!E397","v":{"$error":"#VALUE!"}},{"$f":"IF(C402=0,\"wait\",_xll.SNT.StockInst(C402,$P$9))","v":"wait"},{"$f":"IF(C402=0,\"\",_xll.SNT.StockInst(C402,\"高値時刻\"))","v":""},{"$f":"MID(_xll.SNT.StockInst($C402,\"高値時刻\"),12,5)","v":"ockIn"},{"$f":"IF(C402=0,\"wait\",_xll.SNT.StockInst(C402,$S$9))","v":"wait"},{"$f":"IF($C402=0,\"\",_xll.SNT.StockInst($C402,\"安値時刻\"))","v":""},{"$f":"MID(_xll.SNT.StockInst($C402,\"安値時刻\"),12,5)","v":"ockIn"},"","","","",{"$f":"_xlfn.IFS(N402<制限値幅取得!I397,\"S安付近\",N402>制限値幅取得!H397,\"S高付近\",制限値幅取得!H397>N402>制限値幅取得!I397,\"\")","v":{"$error":"#VALUE!"}}]
[394,null,null,null,null,null,null,null,null,null,"","",null,{"$f":"IF(C403=0,\"wait\",_xll.SNT.StockInst(C403,$N$9))","v":"wait"},{"$f":"N403-制限値幅取得!E398","v":{"$error":"#VALUE!"}},{"$f":"IF(C403=0,\"wait\",_xll.SNT.StockInst(C403,$P$9))","v":"wait"},{"$f":"IF(C403=0,\"\",_xll.SNT.StockInst(C403,\"高値時刻\"))","v":""},{"$f":"MID(_xll.SNT.StockInst($C403,\"高値時刻\"),12,5)","v":"ockIn"},{"$f":"IF(C403=0,\"wait\",_xll.SNT.StockInst(C403,$S$9))","v":"wait"},{"$f":"IF($C403=0,\"\",_xll.SNT.StockInst($C403,\"安値時刻\"))","v":""},{"$f":"MID(_xll.SNT.StockInst($C403,\"安値時刻\"),12,5)","v":"ockIn"},"","","","",{"$f":"_xlfn.IFS(N403<制限値幅取得!I398,\"S安付近\",N403>制限値幅取得!H398,\"S高付近\",制限値幅取得!H398>N403>制限値幅取得!I398,\"\")","v":{"$error":"#VALUE!"}}]
[395,null,null,null,null,null,null,null,null,null,"","",null,{"$f":"IF(C404=0,\"wait\",_xll.SNT.StockInst(C404,$N$9))","v":"wait"},{"$f":"N404-制限値幅取得!E399","v":{"$error":"#VALUE!"}},{"$f":"IF(C404=0,\"wait\",_xll.SNT.StockInst(C404,$P$9))","v":"wait"},{"$f":"IF(C404=0,\"\",_xll.SNT.StockInst(C404,\"高値時刻\"))","v":""},{"$f":"MID(_xll.SNT.StockInst($C404,\"高値時刻\"),12,5)","v":"ockIn"},{"$f":"IF(C404=0,\"wait\",_xll.SNT.StockInst(C404,$S$9))","v":"wait"},{"$f":"IF($C404=0,\"\",_xll.SNT.StockInst($C404,\"安値時刻\"))","v":""},{"$f":"MID(_xll.SNT.StockInst($C404,\"安値時刻\"),12,5)","v":"ockIn"},"","","","",{"$f":"_xlfn.IFS(N404<制限値幅取得!I399,\"S安付近\",N404>制限値幅取得!H399,\"S高付近\",制限値幅取得!H399>N404>制限値幅取得!I399,\"\")","v":{"$error":"#VALUE!"}}]
[396,null,null,null,null,null,null,null,null,null,"","",null,{"$f":"IF(C405=0,\"wait\",_xll.SNT.StockInst(C405,$N$9))","v":"wait"},{"$f":"N405-制限値幅取得!E400","v":{"$error":"#VALUE!"}},{"$f":"IF(C405=0,\"wait\",_xll.SNT.StockInst(C405,$P$9))","v":"wait"},{"$f":"IF(C405=0,\"\",_xll.SNT.StockInst(C405,\"高値時刻\"))","v":""},{"$f":"MID(_xll.SNT.StockInst($C405,\"高値時刻\"),12,5)","v":"ockIn"},{"$f":"IF(C405=0,\"wait\",_xll.SNT.StockInst(C405,$S$9))","v":"wait"},{"$f":"IF($C405=0,\"\",_xll.SNT.StockInst($C405,\"安値時刻\"))","v":""},{"$f":"MID(_xll.SNT.StockInst($C405,\"安値時刻\"),12,5)","v":"ockIn"},"","","","",{"$f":"_xlfn.IFS(N405<制限値幅取得!I400,\"S安付近\",N405>制限値幅取得!H400,\"S高付近\",制限値幅取得!H400>N405>制限値幅取得!I400,\"\")","v":{"$error":"#VALUE!"}}]
[397,null,null,null,null,null,null,null,null,null,"","",null,{"$f":"IF(C406=0,\"wait\",_xll.SNT.StockInst(C406,$N$9))","v":"wait"},{"$f":"N406-制限値幅取得!E401","v":{"$error":"#VALUE!"}},{"$f":"IF(C406=0,\"wait\",_xll.SNT.StockInst(C406,$P$9))","v":"wait"},{"$f":"IF(C406=0,\"\",_xll.SNT.StockInst(C406,\"高値時刻\"))","v":""},{"$f":"MID(_xll.SNT.StockInst($C406,\"高値時刻\"),12,5)","v":"ockIn"},{"$f":"IF(C406=0,\"wait\",_xll.SNT.StockInst(C406,$S$9))","v":"wait"},{"$f":"IF($C406=0,\"\",_xll.SNT.StockInst($C406,\"安値時刻\"))","v":""},{"$f":"MID(_xll.SNT.StockInst($C406,\"安値時刻\"),12,5)","v":"ockIn"},"","","","",{"$f":"_xlfn.IFS(N406<制限値幅取得!I401,\"S安付近\",N406>制限値幅取得!H401,\"S高付近\",制限値幅取得!H401>N406>制限値幅取得!I401,\"\")","v":{"$error":"#VALUE!"}}]
[398,null,null,null,null,null,null,null,null,null,"","",null,{"$f":"IF(C407=0,\"wait\",_xll.SNT.StockInst(C407,$N$9))","v":"wait"},{"$f":"N407-制限値幅取得!E402","v":{"$error":"#VALUE!"}},{"$f":"IF(C407=0,\"wait\",_xll.SNT.StockInst(C407,$P$9))","v":"wait"},{"$f":"IF(C407=0,\"\",_xll.SNT.StockInst(C407,\"高値時刻\"))","v":""},{"$f":"MID(_xll.SNT.StockInst($C407,\"高値時刻\"),12,5)","v":"ockIn"},{"$f":"IF(C407=0,\"wait\",_xll.SNT.StockInst(C407,$S$9))","v":"wait"},{"$f":"IF($C407=0,\"\",_xll.SNT.StockInst($C407,\"安値時刻\"))","v":""},{"$f":"MID(_xll.SNT.StockInst($C407,\"安値時刻\"),12,5)","v":"ockIn"},"","","","",{"$f":"_xlfn.IFS(N407<制限値幅取得!I402,\"S安付近\",N407>制限値幅取得!H402,\"S高付近\",制限値幅取得!H402>N407>制限値幅取得!I402,\"\")","v":{"$error":"#VALUE!"}}]
[399,null,null,null,null,null,null,null,null,null,"","",null,{"$f":"IF(C408=0,\"wait\",_xll.SNT.StockInst(C408,$N$9))","v":"wait"},{"$f":"N408-制限値幅取得!E403","v":{"$error":"#VALUE!"}},{"$f":"IF(C408=0,\"wait\",_xll.SNT.StockInst(C408,$P$9))","v":"wait"},{"$f":"IF(C408=0,\"\",_xll.SNT.StockInst(C408,\"高値時刻\"))","v":""},{"$f":"MID(_xll.SNT.StockInst($C408,\"高値時刻\"),12,5)","v":"ockIn"},{"$f":"IF(C408=0,\"wait\",_xll.SNT.StockInst(C408,$S$9))","v":"wait"},{"$f":"IF($C408=0,\"\",_xll.SNT.StockInst($C408,\"安値時刻\"))","v":""},{"$f":"MID(_xll.SNT.StockInst($C408,\"安値時刻\"),12,5)","v":"ockIn"},"","","","",{"$f":"_xlfn.IFS(N408<制限値幅取得!I403,\"S安付近\",N408>制限値幅取得!H403,\"S高付近\",制限値幅取得!H403>N408>制限値幅取得!I403,\"\")","v":{"$error":"#VALUE!"}}]
[400,null,null,null,null,null,null,null,null,null,"","",null,{"$f":"IF(C409=0,\"wait\",_xll.SNT.StockInst(C409,$N$9))","v":"wait"},{"$f":"N409-制限値幅取得!E404","v":{"$error":"#VALUE!"}},{"$f":"IF(C409=0,\"wait\",_xll.SNT.StockInst(C409,$P$9))","v":"wait"},{"$f":"IF(C409=0,\"\",_xll.SNT.StockInst(C409,\"高値時刻\"))","v":""},{"$f":"MID(_xll.SNT.StockInst($C409,\"高値時刻\"),12,5)","v":"ockIn"},{"$f":"IF(C409=0,\"wait\",_xll.SNT.StockInst(C409,$S$9))","v":"wait"},{"$f":"IF($C409=0,\"\",_xll.SNT.StockInst($C409,\"安値時刻\"))","v":""},{"$f":"MID(_xll.SNT.StockInst($C409,\"安値時刻\"),12,5)","v":"ockIn"},"","","","",{"$f":"_xlfn.IFS(N409<制限値幅取得!I404,\"S安付近\",N409>制限値幅取得!H404,\"S高付近\",制限値幅取得!H404>N409>制限値幅取得!I404,\"\")","v":{"$error":"#VALUE!"}}]
[401,null,null,null,null,null,null,null,null,null,"","",null,{"$f":"IF(C410=0,\"wait\",_xll.SNT.StockInst(C410,$N$9))","v":"wait"},{"$f":"N410-制限値幅取得!E405","v":{"$error":"#VALUE!"}},{"$f":"IF(C410=0,\"wait\",_xll.SNT.StockInst(C410,$P$9))","v":"wait"},{"$f":"IF(C410=0,\"\",_xll.SNT.StockInst(C410,\"高値時刻\"))","v":""},{"$f":"MID(_xll.SNT.StockInst($C410,\"高値時刻\"),12,5)","v":"ockIn"},{"$f":"IF(C410=0,\"wait\",_xll.SNT.StockInst(C410,$S$9))","v":"wait"},{"$f":"IF($C410=0,\"\",_xll.SNT.StockInst($C410,\"安値時刻\"))","v":""},{"$f":"MID(_xll.SNT.StockInst($C410,\"安値時刻\"),12,5)","v":"ockIn"},"","","","",{"$f":"_xlfn.IFS(N410<制限値幅取得!I405,\"S安付近\",N410>制限値幅取得!H405,\"S高付近\",制限値幅取得!H405>N410>制限値幅取得!I405,\"\")","v":{"$error":"#VALUE!"}}]
[402,null,null,null,null,null,null,null,null,null,"","",null,{"$f":"IF(C411=0,\"wait\",_xll.SNT.StockInst(C411,$N$9))","v":"wait"},{"$f":"N411-制限値幅取得!E406","v":{"$error":"#VALUE!"}},{"$f":"IF(C411=0,\"wait\",_xll.SNT.StockInst(C411,$P$9))","v":"wait"},{"$f":"IF(C411=0,\"\",_xll.SNT.StockInst(C411,\"高値時刻\"))","v":""},{"$f":"MID(_xll.SNT.StockInst($C411,\"高値時刻\"),12,5)","v":"ockIn"},{"$f":"IF(C411=0,\"wait\",_xll.SNT.StockInst(C411,$S$9))","v":"wait"},{"$f":"IF($C411=0,\"\",_xll.SNT.StockInst($C411,\"安値時刻\"))","v":""},{"$f":"MID(_xll.SNT.StockInst($C411,\"安値時刻\"),12,5)","v":"ockIn"},"","","","",{"$f":"_xlfn.IFS(N411<制限値幅取得!I406,\"S安付近\",N411>制限値幅取得!H406,\"S高付近\",制限値幅取得!H406>N411>制限値幅取得!I406,\"\")","v":{"$error":"#VALUE!"}}]
[403,null,null,null,null,null,null,null,null,null,"","",null,{"$f":"IF(C412=0,\"wait\",_xll.SNT.StockInst(C412,$N$9))","v":"wait"},{"$f":"N412-制限値幅取得!E407","v":{"$error":"#VALUE!"}},{"$f":"IF(C412=0,\"wait\",_xll.SNT.StockInst(C412,$P$9))","v":"wait"},{"$f":"IF(C412=0,\"\",_xll.SNT.StockInst(C412,\"高値時刻\"))","v":""},{"$f":"MID(_xll.SNT.StockInst($C412,\"高値時刻\"),12,5)","v":"ockIn"},{"$f":"IF(C412=0,\"wait\",_xll.SNT.StockInst(C412,$S$9))","v":"wait"},{"$f":"IF($C412=0,\"\",_xll.SNT.StockInst($C412,\"安値時刻\"))","v":""},{"$f":"MID(_xll.SNT.StockInst($C412,\"安値時刻\"),12,5)","v":"ockIn"},"","","","",{"$f":"_xlfn.IFS(N412<制限値幅取得!I407,\"S安付近\",N412>制限値幅取得!H407,\"S高付近\",制限値幅取得!H407>N412>制限値幅取得!I407,\"\")","v":{"$error":"#VALUE!"}}]
[404,null,null,null,null,null,null,null,null,null,"","",null,{"$f":"IF(C413=0,\"wait\",_xll.SNT.StockInst(C413,$N$9))","v":"wait"},{"$f":"N413-制限値幅取得!E408","v":{"$error":"#VALUE!"}},{"$f":"IF(C413=0,\"wait\",_xll.SNT.StockInst(C413,$P$9))","v":"wait"},{"$f":"IF(C413=0,\"\",_xll.SNT.StockInst(C413,\"高値時刻\"))","v":""},{"$f":"MID(_xll.SNT.StockInst($C413,\"高値時刻\"),12,5)","v":"ockIn"},{"$f":"IF(C413=0,\"wait\",_xll.SNT.StockInst(C413,$S$9))","v":"wait"},{"$f":"IF($C413=0,\"\",_xll.SNT.StockInst($C413,\"安値時刻\"))","v":""},{"$f":"MID(_xll.SNT.StockInst($C413,\"安値時刻\"),12,5)","v":"ockIn"},"","","","",{"$f":"_xlfn.IFS(N413<制限値幅取得!I408,\"S安付近\",N413>制限値幅取得!H408,\"S高付近\",制限値幅取得!H408>N413>制限値幅取得!I408,\"\")","v":{"$error":"#VALUE!"}}]
[405,null,null,null,null,null,null,null,null,null,"","",null,{"$f":"IF(C414=0,\"wait\",_xll.SNT.StockInst(C414,$N$9))","v":"wait"},{"$f":"N414-制限値幅取得!E409","v":{"$error":"#VALUE!"}},{"$f":"IF(C414=0,\"wait\",_xll.SNT.StockInst(C414,$P$9))","v":"wait"},{"$f":"IF(C414=0,\"\",_xll.SNT.StockInst(C414,\"高値時刻\"))","v":""},{"$f":"MID(_xll.SNT.StockInst($C414,\"高値時刻\"),12,5)","v":"ockIn"},{"$f":"IF(C414=0,\"wait\",_xll.SNT.StockInst(C414,$S$9))","v":"wait"},{"$f":"IF($C414=0,\"\",_xll.SNT.StockInst($C414,\"安値時刻\"))","v":""},{"$f":"MID(_xll.SNT.StockInst($C414,\"安値時刻\"),12,5)","v":"ockIn"},"","","","",{"$f":"_xlfn.IFS(N414<制限値幅取得!I409,\"S安付近\",N414>制限値幅取得!H409,\"S高付近\",制限値幅取得!H409>N414>制限値幅取得!I409,\"\")","v":{"$error":"#VALUE!"}}]
[406,null,null,null,null,null,null,null,null,null,"","",null,{"$f":"IF(C415=0,\"wait\",_xll.SNT.StockInst(C415,$N$9))","v":"wait"},{"$f":"N415-制限値幅取得!E410","v":{"$error":"#VALUE!"}},{"$f":"IF(C415=0,\"wait\",_xll.SNT.StockInst(C415,$P$9))","v":"wait"},{"$f":"IF(C415=0,\"\",_xll.SNT.StockInst(C415,\"高値時刻\"))","v":""},{"$f":"MID(_xll.SNT.StockInst($C415,\"高値時刻\"),12,5)","v":"ockIn"},{"$f":"IF(C415=0,\"wait\",_xll.SNT.StockInst(C415,$S$9))","v":"wait"},{"$f":"IF($C415=0,\"\",_xll.SNT.StockInst($C415,\"安値時刻\"))","v":""},{"$f":"MID(_xll.SNT.StockInst($C415,\"安値時刻\"),12,5)","v":"ockIn"},"","","","",{"$f":"_xlfn.IFS(N415<制限値幅取得!I410,\"S安付近\",N415>制限値幅取得!H410,\"S高付近\",制限値幅取得!H410>N415>制限値幅取得!I410,\"\")","v":{"$error":"#VALUE!"}}]
[407,null,null,null,null,null,null,null,null,null,"","",null,{"$f":"IF(C416=0,\"wait\",_xll.SNT.StockInst(C416,$N$9))","v":"wait"},{"$f":"N416-制限値幅取得!E411","v":{"$error":"#VALUE!"}},{"$f":"IF(C416=0,\"wait\",_xll.SNT.StockInst(C416,$P$9))","v":"wait"},{"$f":"IF(C416=0,\"\",_xll.SNT.StockInst(C416,\"高値時刻\"))","v":""},{"$f":"MID(_xll.SNT.StockInst($C416,\"高値時刻\"),12,5)","v":"ockIn"},{"$f":"IF(C416=0,\"wait\",_xll.SNT.StockInst(C416,$S$9))","v":"wait"},{"$f":"IF($C416=0,\"\",_xll.SNT.StockInst($C416,\"安値時刻\"))","v":""},{"$f":"MID(_xll.SNT.StockInst($C416,\"安値時刻\"),12,5)","v":"ockIn"},"","","","",{"$f":"_xlfn.IFS(N416<制限値幅取得!I411,\"S安付近\",N416>制限値幅取得!H411,\"S高付近\",制限値幅取得!H411>N416>制限値幅取得!I411,\"\")","v":{"$error":"#VALUE!"}}]
[408,null,null,null,null,null,null,null,null,null,"","",null,{"$f":"IF(C417=0,\"wait\",_xll.SNT.StockInst(C417,$N$9))","v":"wait"},{"$f":"N417-制限値幅取得!E412","v":{"$error":"#VALUE!"}},{"$f":"IF(C417=0,\"wait\",_xll.SNT.StockInst(C417,$P$9))","v":"wait"},{"$f":"IF(C417=0,\"\",_xll.SNT.StockInst(C417,\"高値時刻\"))","v":""},{"$f":"MID(_xll.SNT.StockInst($C417,\"高値時刻\"),12,5)","v":"ockIn"},{"$f":"IF(C417=0,\"wait\",_xll.SNT.StockInst(C417,$S$9))","v":"wait"},{"$f":"IF($C417=0,\"\",_xll.SNT.StockInst($C417,\"安値時刻\"))","v":""},{"$f":"MID(_xll.SNT.StockInst($C417,\"安値時刻\"),12,5)","v":"ockIn"},"","","","",{"$f":"_xlfn.IFS(N417<制限値幅取得!I412,\"S安付近\",N417>制限値幅取得!H412,\"S高付近\",制限値幅取得!H412>N417>制限値幅取得!I412,\"\")","v":{"$error":"#VALUE!"}}]
[409,null,null,null,null,null,null,null,null,null,"","",null,{"$f":"IF(C418=0,\"wait\",_xll.SNT.StockInst(C418,$N$9))","v":"wait"},{"$f":"N418-制限値幅取得!E413","v":{"$error":"#VALUE!"}},{"$f":"IF(C418=0,\"wait\",_xll.SNT.StockInst(C418,$P$9))","v":"wait"},{"$f":"IF(C418=0,\"\",_xll.SNT.StockInst(C418,\"高値時刻\"))","v":""},{"$f":"MID(_xll.SNT.StockInst($C418,\"高値時刻\"),12,5)","v":"ockIn"},{"$f":"IF(C418=0,\"wait\",_xll.SNT.StockInst(C418,$S$9))","v":"wait"},{"$f":"IF($C418=0,\"\",_xll.SNT.StockInst($C418,\"安値時刻\"))","v":""},{"$f":"MID(_xll.SNT.StockInst($C418,\"安値時刻\"),12,5)","v":"ockIn"},"","","","",{"$f":"_xlfn.IFS(N418<制限値幅取得!I413,\"S安付近\",N418>制限値幅取得!H413,\"S高付近\",制限値幅取得!H413>N418>制限値幅取得!I413,\"\")","v":{"$error":"#VALUE!"}}]
[410,null,null,null,null,null,null,null,null,null,"","",null,{"$f":"IF(C419=0,\"wait\",_xll.SNT.StockInst(C419,$N$9))","v":"wait"},{"$f":"N419-制限値幅取得!E414","v":{"$error":"#VALUE!"}},{"$f":"IF(C419=0,\"wait\",_xll.SNT.StockInst(C419,$P$9))","v":"wait"},{"$f":"IF(C419=0,\"\",_xll.SNT.StockInst(C419,\"高値時刻\"))","v":""},{"$f":"MID(_xll.SNT.StockInst($C419,\"高値時刻\"),12,5)","v":"ockIn"},{"$f":"IF(C419=0,\"wait\",_xll.SNT.StockInst(C419,$S$9))","v":"wait"},{"$f":"IF($C419=0,\"\",_xll.SNT.StockInst($C419,\"安値時刻\"))","v":""},{"$f":"MID(_xll.SNT.StockInst($C419,\"安値時刻\"),12,5)","v":"ockIn"},"","","","",{"$f":"_xlfn.IFS(N419<制限値幅取得!I414,\"S安付近\",N419>制限値幅取得!H414,\"S高付近\",制限値幅取得!H414>N419>制限値幅取得!I414,\"\")","v":{"$error":"#VALUE!"}}]
[411,null,null,null,null,null,null,null,null,null,"","",null,{"$f":"IF(C420=0,\"wait\",_xll.SNT.StockInst(C420,$N$9))","v":"wait"},{"$f":"N420-制限値幅取得!E415","v":{"$error":"#VALUE!"}},{"$f":"IF(C420=0,\"wait\",_xll.SNT.StockInst(C420,$P$9))","v":"wait"},{"$f":"IF(C420=0,\"\",_xll.SNT.StockInst(C420,\"高値時刻\"))","v":""},{"$f":"MID(_xll.SNT.StockInst($C420,\"高値時刻\"),12,5)","v":"ockIn"},{"$f":"IF(C420=0,\"wait\",_xll.SNT.StockInst(C420,$S$9))","v":"wait"},{"$f":"IF($C420=0,\"\",_xll.SNT.StockInst($C420,\"安値時刻\"))","v":""},{"$f":"MID(_xll.SNT.StockInst($C420,\"安値時刻\"),12,5)","v":"ockIn"},"","","","",{"$f":"_xlfn.IFS(N420<制限値幅取得!I415,\"S安付近\",N420>制限値幅取得!H415,\"S高付近\",制限値幅取得!H415>N420>制限値幅取得!I415,\"\")","v":{"$error":"#VALUE!"}}]
[412,null,null,null,null,null,null,null,null,null,"","",null,{"$f":"IF(C421=0,\"wait\",_xll.SNT.StockInst(C421,$N$9))","v":"wait"},{"$f":"N421-制限値幅取得!E416","v":{"$error":"#VALUE!"}},{"$f":"IF(C421=0,\"wait\",_xll.SNT.StockInst(C421,$P$9))","v":"wait"},{"$f":"IF(C421=0,\"\",_xll.SNT.StockInst(C421,\"高値時刻\"))","v":""},{"$f":"MID(_xll.SNT.StockInst($C421,\"高値時刻\"),12,5)","v":"ockIn"},{"$f":"IF(C421=0,\"wait\",_xll.SNT.StockInst(C421,$S$9))","v":"wait"},{"$f":"IF($C421=0,\"\",_xll.SNT.StockInst($C421,\"安値時刻\"))","v":""},{"$f":"MID(_xll.SNT.StockInst($C421,\"安値時刻\"),12,5)","v":"ockIn"},"","","","",{"$f":"_xlfn.IFS(N421<制限値幅取得!I416,\"S安付近\",N421>制限値幅取得!H416,\"S高付近\",制限値幅取得!H416>N421>制限値幅取得!I416,\"\")","v":{"$error":"#VALUE!"}}]
[413,null,null,null,null,null,null,null,null,null,"","",null,{"$f":"IF(C422=0,\"wait\",_xll.SNT.StockInst(C422,$N$9))","v":"wait"},{"$f":"N422-制限値幅取得!E417","v":{"$error":"#VALUE!"}},{"$f":"IF(C422=0,\"wait\",_xll.SNT.StockInst(C422,$P$9))","v":"wait"},{"$f":"IF(C422=0,\"\",_xll.SNT.StockInst(C422,\"高値時刻\"))","v":""},{"$f":"MID(_xll.SNT.StockInst($C422,\"高値時刻\"),12,5)","v":"ockIn"},{"$f":"IF(C422=0,\"wait\",_xll.SNT.StockInst(C422,$S$9))","v":"wait"},{"$f":"IF($C422=0,\"\",_xll.SNT.StockInst($C422,\"安値時刻\"))","v":""},{"$f":"MID(_xll.SNT.StockInst($C422,\"安値時刻\"),12,5)","v":"ockIn"},"","","","",{"$f":"_xlfn.IFS(N422<制限値幅取得!I417,\"S安付近\",N422>制限値幅取得!H417,\"S高付近\",制限値幅取得!H417>N422>制限値幅取得!I417,\"\")","v":{"$error":"#VALUE!"}}]
[414,null,null,null,null,null,null,null,null,null,"","",null,{"$f":"IF(C423=0,\"wait\",_xll.SNT.StockInst(C423,$N$9))","v":"wait"},{"$f":"N423-制限値幅取得!E418","v":{"$error":"#VALUE!"}},{"$f":"IF(C423=0,\"wait\",_xll.SNT.StockInst(C423,$P$9))","v":"wait"},{"$f":"IF(C423=0,\"\",_xll.SNT.StockInst(C423,\"高値時刻\"))","v":""},{"$f":"MID(_xll.SNT.StockInst($C423,\"高値時刻\"),12,5)","v":"ockIn"},{"$f":"IF(C423=0,\"wait\",_xll.SNT.StockInst(C423,$S$9))","v":"wait"},{"$f":"IF($C423=0,\"\",_xll.SNT.StockInst($C423,\"安値時刻\"))","v":""},{"$f":"MID(_xll.SNT.StockInst($C423,\"安値時刻\"),12,5)","v":"ockIn"},"","","","",{"$f":"_xlfn.IFS(N423<制限値幅取得!I418,\"S安付近\",N423>制限値幅取得!H418,\"S高付近\",制限値幅取得!H418>N423>制限値幅取得!I418,\"\")","v":{"$error":"#VALUE!"}}]
[415,null,null,null,null,null,null,null,null,null,{"$f":"IFERROR(IF(F424=\"買建\",(N424-I424)*H424,(I424-N424)*H424),\"\")","v":""},{"$f":"IFERROR(K424/(I424*H424),\"\")","v":""},null,{"$f":"IF(C424=0,\"wait\",_xll.SNT.StockInst(C424,$N$9))","v":"wait"},{"$f":"N424-制限値幅取得!E419","v":{"$error":"#VALUE!"}},{"$f":"IF(C424=0,\"wait\",_xll.SNT.StockInst(C424,$P$9))","v":"wait"},{"$f":"IF(C424=0,\"\",_xll.SNT.StockInst(C424,\"高値時刻\"))","v":""},{"$f":"MID(_xll.SNT.StockInst($C424,\"高値時刻\"),12,5)","v":"ockIn"},{"$f":"IF(C424=0,\"wait\",_xll.SNT.StockInst(C424,$S$9))","v":"wait"},{"$f":"IF($C424=0,\"\",_xll.SNT.StockInst($C424,\"安値時刻\"))","v":""},{"$f":"MID(_xll.SNT.StockInst($C424,\"安値時刻\"),12,5)","v":"ockIn"},"","","","",{"$f":"_xlfn.IFS(N424<制限値幅取得!I419,\"S安付近\",N424>制限値幅取得!H419,\"S高付近\",制限値幅取得!H419>N424>制限値幅取得!I419,\"\")","v":{"$error":"#VALUE!"}}]
[416,null,null,null,null,null,null,null,null,null,"","",null,{"$f":"IF(C425=0,\"wait\",_xll.SNT.StockInst(C425,$N$9))","v":"wait"},{"$f":"N425-制限値幅取得!E420","v":{"$error":"#VALUE!"}},{"$f":"IF(C425=0,\"wait\",_xll.SNT.StockInst(C425,$P$9))","v":"wait"},{"$f":"IF(C425=0,\"\",_xll.SNT.StockInst(C425,\"高値時刻\"))","v":""},{"$f":"MID(_xll.SNT.StockInst($C425,\"高値時刻\"),12,5)","v":"ockIn"},{"$f":"IF(C425=0,\"wait\",_xll.SNT.StockInst(C425,$S$9))","v":"wait"},{"$f":"IF($C425=0,\"\",_xll.SNT.StockInst($C425,\"安値時刻\"))","v":""},{"$f":"MID(_xll.SNT.StockInst($C425,\"安値時刻\"),12,5)","v":"ockIn"},"","","","",{"$f":"_xlfn.IFS(N425<制限値幅取得!I420,\"S安付近\",N425>制限値幅取得!H420,\"S高付近\",制限値幅取得!H420>N425>制限値幅取得!I420,\"\")","v":{"$error":"#VALUE!"}}]
[417,null,null,null,null,null,null,null,null,null,"","",null,{"$f":"IF(C426=0,\"wait\",_xll.SNT.StockInst(C426,$N$9))","v":"wait"},{"$f":"N426-制限値幅取得!E421","v":{"$error":"#VALUE!"}},{"$f":"IF(C426=0,\"wait\",_xll.SNT.StockInst(C426,$P$9))","v":"wait"},{"$f":"IF(C426=0,\"\",_xll.SNT.StockInst(C426,\"高値時刻\"))","v":""},{"$f":"MID(_xll.SNT.StockInst($C426,\"高値時刻\"),12,5)","v":"ockIn"},{"$f":"IF(C426=0,\"wait\",_xll.SNT.StockInst(C426,$S$9))","v":"wait"},{"$f":"IF($C426=0,\"\",_xll.SNT.StockInst($C426,\"安値時刻\"))","v":""},{"$f":"MID(_xll.SNT.StockInst($C426,\"安値時刻\"),12,5)","v":"ockIn"},"","","","",{"$f":"_xlfn.IFS(N426<制限値幅取得!I421,\"S安付近\",N426>制限値幅取得!H421,\"S高付近\",制限値幅取得!H421>N426>制限値幅取得!I421,\"\")","v":{"$error":"#VALUE!"}}]
[418,null,null,null,null,null,null,null,null,null,"","",null,{"$f":"IF(C427=0,\"wait\",_xll.SNT.StockInst(C427,$N$9))","v":"wait"},{"$f":"N427-制限値幅取得!E422","v":{"$error":"#VALUE!"}},{"$f":"IF(C427=0,\"wait\",_xll.SNT.StockInst(C427,$P$9))","v":"wait"},{"$f":"IF(C427=0,\"\",_xll.SNT.StockInst(C427,\"高値時刻\"))","v":""},{"$f":"MID(_xll.SNT.StockInst($C427,\"高値時刻\"),12,5)","v":"ockIn"},{"$f":"IF(C427=0,\"wait\",_xll.SNT.StockInst(C427,$S$9))","v":"wait"},{"$f":"IF($C427=0,\"\",_xll.SNT.StockInst($C427,\"安値時刻\"))","v":""},{"$f":"MID(_xll.SNT.StockInst($C427,\"安値時刻\"),12,5)","v":"ockIn"},"","","","",{"$f":"_xlfn.IFS(N427<制限値幅取得!I422,\"S安付近\",N427>制限値幅取得!H422,\"S高付近\",制限値幅取得!H422>N427>制限値幅取得!I422,\"\")","v":{"$error":"#VALUE!"}}]
[419,null,null,null,null,null,null,null,null,null,"","",null,{"$f":"IF(C428=0,\"wait\",_xll.SNT.StockInst(C428,$N$9))","v":"wait"},{"$f":"N428-制限値幅取得!E423","v":{"$error":"#VALUE!"}},{"$f":"IF(C428=0,\"wait\",_xll.SNT.StockInst(C428,$P$9))","v":"wait"},{"$f":"IF(C428=0,\"\",_xll.SNT.StockInst(C428,\"高値時刻\"))","v":""},{"$f":"MID(_xll.SNT.StockInst($C428,\"高値時刻\"),12,5)","v":"ockIn"},{"$f":"IF(C428=0,\"wait\",_xll.SNT.StockInst(C428,$S$9))","v":"wait"},{"$f":"IF($C428=0,\"\",_xll.SNT.StockInst($C428,\"安値時刻\"))","v":""},{"$f":"MID(_xll.SNT.StockInst($C428,\"安値時刻\"),12,5)","v":"ockIn"},"","","","",{"$f":"_xlfn.IFS(N428<制限値幅取得!I423,\"S安付近\",N428>制限値幅取得!H423,\"S高付近\",制限値幅取得!H423>N428>制限値幅取得!I423,\"\")","v":{"$error":"#VALUE!"}}]
[420,null,null,null,null,null,null,null,null,null,"","",null,{"$f":"IF(C429=0,\"wait\",_xll.SNT.StockInst(C429,$N$9))","v":"wait"},{"$f":"N429-制限値幅取得!E424","v":{"$error":"#VALUE!"}},{"$f":"IF(C429=0,\"wait\",_xll.SNT.StockInst(C429,$P$9))","v":"wait"},{"$f":"IF(C429=0,\"\",_xll.SNT.StockInst(C429,\"高値時刻\"))","v":""},{"$f":"MID(_xll.SNT.StockInst($C429,\"高値時刻\"),12,5)","v":"ockIn"},{"$f":"IF(C429=0,\"wait\",_xll.SNT.StockInst(C429,$S$9))","v":"wait"},{"$f":"IF($C429=0,\"\",_xll.SNT.StockInst($C429,\"安値時刻\"))","v":""},{"$f":"MID(_xll.SNT.StockInst($C429,\"安値時刻\"),12,5)","v":"ockIn"},"","","","",{"$f":"_xlfn.IFS(N429<制限値幅取得!I424,\"S安付近\",N429>制限値幅取得!H424,\"S高付近\",制限値幅取得!H424>N429>制限値幅取得!I424,\"\")","v":{"$error":"#VALUE!"}}]
[421,null,null,null,null,null,null,null,null,null,"","",null,{"$f":"IF(C430=0,\"wait\",_xll.SNT.StockInst(C430,$N$9))","v":"wait"},{"$f":"N430-制限値幅取得!E425","v":{"$error":"#VALUE!"}},{"$f":"IF(C430=0,\"wait\",_xll.SNT.StockInst(C430,$P$9))","v":"wait"},{"$f":"IF(C430=0,\"\",_xll.SNT.StockInst(C430,\"高値時刻\"))","v":""},{"$f":"MID(_xll.SNT.StockInst($C430,\"高値時刻\"),12,5)","v":"ockIn"},{"$f":"IF(C430=0,\"wait\",_xll.SNT.StockInst(C430,$S$9))","v":"wait"},{"$f":"IF($C430=0,\"\",_xll.SNT.StockInst($C430,\"安値時刻\"))","v":""},{"$f":"MID(_xll.SNT.StockInst($C430,\"安値時刻\"),12,5)","v":"ockIn"},"","","","",{"$f":"_xlfn.IFS(N430<制限値幅取得!I425,\"S安付近\",N430>制限値幅取得!H425,\"S高付近\",制限値幅取得!H425>N430>制限値幅取得!I425,\"\")","v":{"$error":"#VALUE!"}}]
[422,null,null,null,null,null,null,null,null,null,"","",null,{"$f":"IF(C431=0,\"wait\",_xll.SNT.StockInst(C431,$N$9))","v":"wait"},{"$f":"N431-制限値幅取得!E426","v":{"$error":"#VALUE!"}},{"$f":"IF(C431=0,\"wait\",_xll.SNT.StockInst(C431,$P$9))","v":"wait"},{"$f":"IF(C431=0,\"\",_xll.SNT.StockInst(C431,\"高値時刻\"))","v":""},{"$f":"MID(_xll.SNT.StockInst($C431,\"高値時刻\"),12,5)","v":"ockIn"},{"$f":"IF(C431=0,\"wait\",_xll.SNT.StockInst(C431,$S$9))","v":"wait"},{"$f":"IF($C431=0,\"\",_xll.SNT.StockInst($C431,\"安値時刻\"))","v":""},{"$f":"MID(_xll.SNT.StockInst($C431,\"安値時刻\"),12,5)","v":"ockIn"},"","","","",{"$f":"_xlfn.IFS(N431<制限値幅取得!I426,\"S安付近\",N431>制限値幅取得!H426,\"S高付近\",制限値幅取得!H426>N431>制限値幅取得!I426,\"\")","v":{"$error":"#VALUE!"}}]
[423,null,null,null,null,null,null,null,null,null,"","",null,{"$f":"IF(C432=0,\"wait\",_xll.SNT.StockInst(C432,$N$9))","v":"wait"},{"$f":"N432-制限値幅取得!E427","v":{"$error":"#VALUE!"}},{"$f":"IF(C432=0,\"wait\",_xll.SNT.StockInst(C432,$P$9))","v":"wait"},{"$f":"IF(C432=0,\"\",_xll.SNT.StockInst(C432,\"高値時刻\"))","v":""},{"$f":"MID(_xll.SNT.StockInst($C432,\"高値時刻\"),12,5)","v":"ockIn"},{"$f":"IF(C432=0,\"wait\",_xll.SNT.StockInst(C432,$S$9))","v":"wait"},{"$f":"IF($C432=0,\"\",_xll.SNT.StockInst($C432,\"安値時刻\"))","v":""},{"$f":"MID(_xll.SNT.StockInst($C432,\"安値時刻\"),12,5)","v":"ockIn"},"","","","",{"$f":"_xlfn.IFS(N432<制限値幅取得!I427,\"S安付近\",N432>制限値幅取得!H427,\"S高付近\",制限値幅取得!H427>N432>制限値幅取得!I427,\"\")","v":{"$error":"#VALUE!"}}]
[424,null,null,null,null,null,null,null,null,null,"","",null,{"$f":"IF(C433=0,\"wait\",_xll.SNT.StockInst(C433,$N$9))","v":"wait"},{"$f":"N433-制限値幅取得!E428","v":{"$error":"#VALUE!"}},{"$f":"IF(C433=0,\"wait\",_xll.SNT.StockInst(C433,$P$9))","v":"wait"},{"$f":"IF(C433=0,\"\",_xll.SNT.StockInst(C433,\"高値時刻\"))","v":""},{"$f":"MID(_xll.SNT.StockInst($C433,\"高値時刻\"),12,5)","v":"ockIn"},{"$f":"IF(C433=0,\"wait\",_xll.SNT.StockInst(C433,$S$9))","v":"wait"},{"$f":"IF($C433=0,\"\",_xll.SNT.StockInst($C433,\"安値時刻\"))","v":""},{"$f":"MID(_xll.SNT.StockInst($C433,\"安値時刻\"),12,5)","v":"ockIn"},"","","","",{"$f":"_xlfn.IFS(N433<制限値幅取得!I428,\"S安付近\",N433>制限値幅取得!H428,\"S高付近\",制限値幅取得!H428>N433>制限値幅取得!I428,\"\")","v":{"$error":"#VALUE!"}}]
[425,null,null,null,null,null,null,null,null,null,"","",null,{"$f":"IF(C434=0,\"wait\",_xll.SNT.StockInst(C434,$N$9))","v":"wait"},{"$f":"N434-制限値幅取得!E429","v":{"$error":"#VALUE!"}},{"$f":"IF(C434=0,\"wait\",_xll.SNT.StockInst(C434,$P$9))","v":"wait"},{"$f":"IF(C434=0,\"\",_xll.SNT.StockInst(C434,\"高値時刻\"))","v":""},{"$f":"MID(_xll.SNT.StockInst($C434,\"高値時刻\"),12,5)","v":"ockIn"},{"$f":"IF(C434=0,\"wait\",_xll.SNT.StockInst(C434,$S$9))","v":"wait"},{"$f":"IF($C434=0,\"\",_xll.SNT.StockInst($C434,\"安値時刻\"))","v":""},{"$f":"MID(_xll.SNT.StockInst($C434,\"安値時刻\"),12,5)","v":"ockIn"},"","","","",{"$f":"_xlfn.IFS(N434<制限値幅取得!I429,\"S安付近\",N434>制限値幅取得!H429,\"S高付近\",制限値幅取得!H429>N434>制限値幅取得!I429,\"\")","v":{"$error":"#VALUE!"}}]
[426,null,null,null,null,null,null,null,null,null,"","",null,{"$f":"IF(C435=0,\"wait\",_xll.SNT.StockInst(C435,$N$9))","v":"wait"},{"$f":"N435-制限値幅取得!E430","v":{"$error":"#VALUE!"}},{"$f":"IF(C435=0,\"wait\",_xll.SNT.StockInst(C435,$P$9))","v":"wait"},{"$f":"IF(C435=0,\"\",_xll.SNT.StockInst(C435,\"高値時刻\"))","v":""},{"$f":"MID(_xll.SNT.StockInst($C435,\"高値時刻\"),12,5)","v":"ockIn"},{"$f":"IF(C435=0,\"wait\",_xll.SNT.StockInst(C435,$S$9))","v":"wait"},{"$f":"IF($C435=0,\"\",_xll.SNT.StockInst($C435,\"安値時刻\"))","v":""},{"$f":"MID(_xll.SNT.StockInst($C435,\"安値時刻\"),12,5)","v":"ockIn"},"","","","",{"$f":"_xlfn.IFS(N435<制限値幅取得!I430,\"S安付近\",N435>制限値幅取得!H430,\"S高付近\",制限値幅取得!H430>N435>制限値幅取得!I430,\"\")","v":{"$error":"#VALUE!"}}]
[427,null,null,null,null,null,null,null,null,null,"","",null,{"$f":"IF(C436=0,\"wait\",_xll.SNT.StockInst(C436,$N$9))","v":"wait"},{"$f":"N436-制限値幅取得!E431","v":{"$error":"#VALUE!"}},{"$f":"IF(C436=0,\"wait\",_xll.SNT.StockInst(C436,$P$9))","v":"wait"},{"$f":"IF(C436=0,\"\",_xll.SNT.StockInst(C436,\"高値時刻\"))","v":""},{"$f":"MID(_xll.SNT.StockInst($C436,\"高値時刻\"),12,5)","v":"ockIn"},{"$f":"IF(C436=0,\"wait\",_xll.SNT.StockInst(C436,$S$9))","v":"wait"},{"$f":"IF($C436=0,\"\",_xll.SNT.StockInst($C436,\"安値時刻\"))","v":""},{"$f":"MID(_xll.SNT.StockInst($C436,\"安値時刻\"),12,5)","v":"ockIn"},"","","","",{"$f":"_xlfn.IFS(N436<制限値幅取得!I431,\"S安付近\",N436>制限値幅取得!H431,\"S高付近\",制限値幅取得!H431>N436>制限値幅取得!I431,\"\")","v":{"$error":"#VALUE!"}}]
[428,null,null,null,null,null,null,null,null,null,"","",null,{"$f":"IF(C437=0,\"wait\",_xll.SNT.StockInst(C437,$N$9))","v":"wait"},{"$f":"N437-制限値幅取得!E432","v":{"$error":"#VALUE!"}},{"$f":"IF(C437=0,\"wait\",_xll.SNT.StockInst(C437,$P$9))","v":"wait"},{"$f":"IF(C437=0,\"\",_xll.SNT.StockInst(C437,\"高値時刻\"))","v":""},{"$f":"MID(_xll.SNT.StockInst($C437,\"高値時刻\"),12,5)","v":"ockIn"},{"$f":"IF(C437=0,\"wait\",_xll.SNT.StockInst(C437,$S$9))","v":"wait"},{"$f":"IF($C437=0,\"\",_xll.SNT.StockInst($C437,\"安値時刻\"))","v":""},{"$f":"MID(_xll.SNT.StockInst($C437,\"安値時刻\"),12,5)","v":"ockIn"},"","","","",{"$f":"_xlfn.IFS(N437<制限値幅取得!I432,\"S安付近\",N437>制限値幅取得!H432,\"S高付近\",制限値幅取得!H432>N437>制限値幅取得!I432,\"\")","v":{"$error":"#VALUE!"}}]
[429,null,null,null,null,null,null,null,null,null,"","",null,{"$f":"IF(C438=0,\"wait\",_xll.SNT.StockInst(C438,$N$9))","v":"wait"},{"$f":"N438-制限値幅取得!E433","v":{"$error":"#VALUE!"}},{"$f":"IF(C438=0,\"wait\",_xll.SNT.StockInst(C438,$P$9))","v":"wait"},{"$f":"IF(C438=0,\"\",_xll.SNT.StockInst(C438,\"高値時刻\"))","v":""},{"$f":"MID(_xll.SNT.StockInst($C438,\"高値時刻\"),12,5)","v":"ockIn"},{"$f":"IF(C438=0,\"wait\",_xll.SNT.StockInst(C438,$S$9))","v":"wait"},{"$f":"IF($C438=0,\"\",_xll.SNT.StockInst($C438,\"安値時刻\"))","v":""},{"$f":"MID(_xll.SNT.StockInst($C438,\"安値時刻\"),12,5)","v":"ockIn"},"","","","",{"$f":"_xlfn.IFS(N438<制限値幅取得!I433,\"S安付近\",N438>制限値幅取得!H433,\"S高付近\",制限値幅取得!H433>N438>制限値幅取得!I433,\"\")","v":{"$error":"#VALUE!"}}]
[430,null,null,null,null,null,null,null,null,null,"","",null,{"$f":"IF(C439=0,\"wait\",_xll.SNT.StockInst(C439,$N$9))","v":"wait"},{"$f":"N439-制限値幅取得!E434","v":{"$error":"#VALUE!"}},{"$f":"IF(C439=0,\"wait\",_xll.SNT.StockInst(C439,$P$9))","v":"wait"},{"$f":"IF(C439=0,\"\",_xll.SNT.StockInst(C439,\"高値時刻\"))","v":""},{"$f":"MID(_xll.SNT.StockInst($C439,\"高値時刻\"),12,5)","v":"ockIn"},{"$f":"IF(C439=0,\"wait\",_xll.SNT.StockInst(C439,$S$9))","v":"wait"},{"$f":"IF($C439=0,\"\",_xll.SNT.StockInst($C439,\"安値時刻\"))","v":""},{"$f":"MID(_xll.SNT.StockInst($C439,\"安値時刻\"),12,5)","v":"ockIn"},"","","","",{"$f":"_xlfn.IFS(N439<制限値幅取得!I434,\"S安付近\",N439>制限値幅取得!H434,\"S高付近\",制限値幅取得!H434>N439>制限値幅取得!I434,\"\")","v":{"$error":"#VALUE!"}}]
[431,null,null,null,null,null,null,null,null,null,"","",null,{"$f":"IF(C440=0,\"wait\",_xll.SNT.StockInst(C440,$N$9))","v":"wait"},{"$f":"N440-制限値幅取得!E435","v":{"$error":"#VALUE!"}},{"$f":"IF(C440=0,\"wait\",_xll.SNT.StockInst(C440,$P$9))","v":"wait"},{"$f":"IF(C440=0,\"\",_xll.SNT.StockInst(C440,\"高値時刻\"))","v":""},{"$f":"MID(_xll.SNT.StockInst($C440,\"高値時刻\"),12,5)","v":"ockIn"},{"$f":"IF(C440=0,\"wait\",_xll.SNT.StockInst(C440,$S$9))","v":"wait"},{"$f":"IF($C440=0,\"\",_xll.SNT.StockInst($C440,\"安値時刻\"))","v":""},{"$f":"MID(_xll.SNT.StockInst($C440,\"安値時刻\"),12,5)","v":"ockIn"},"","","","",{"$f":"_xlfn.IFS(N440<制限値幅取得!I435,\"S安付近\",N440>制限値幅取得!H435,\"S高付近\",制限値幅取得!H435>N440>制限値幅取得!I435,\"\")","v":{"$error":"#VALUE!"}}]
[432,null,null,null,null,null,null,null,null,null,"","",null,{"$f":"IF(C441=0,\"wait\",_xll.SNT.StockInst(C441,$N$9))","v":"wait"},{"$f":"N441-制限値幅取得!E436","v":{"$error":"#VALUE!"}},{"$f":"IF(C441=0,\"wait\",_xll.SNT.StockInst(C441,$P$9))","v":"wait"},{"$f":"IF(C441=0,\"\",_xll.SNT.StockInst(C441,\"高値時刻\"))","v":""},{"$f":"MID(_xll.SNT.StockInst($C441,\"高値時刻\"),12,5)","v":"ockIn"},{"$f":"IF(C441=0,\"wait\",_xll.SNT.StockInst(C441,$S$9))","v":"wait"},{"$f":"IF($C441=0,\"\",_xll.SNT.StockInst($C441,\"安値時刻\"))","v":""},{"$f":"MID(_xll.SNT.StockInst($C441,\"安値時刻\"),12,5)","v":"ockIn"},"","","","",{"$f":"_xlfn.IFS(N441<制限値幅取得!I436,\"S安付近\",N441>制限値幅取得!H436,\"S高付近\",制限値幅取得!H436>N441>制限値幅取得!I436,\"\")","v":{"$error":"#VALUE!"}}]
[433,null,null,null,null,null,null,null,null,null,"","",null,{"$f":"IF(C442=0,\"wait\",_xll.SNT.StockInst(C442,$N$9))","v":"wait"},{"$f":"N442-制限値幅取得!E437","v":{"$error":"#VALUE!"}},{"$f":"IF(C442=0,\"wait\",_xll.SNT.StockInst(C442,$P$9))","v":"wait"},{"$f":"IF(C442=0,\"\",_xll.SNT.StockInst(C442,\"高値時刻\"))","v":""},{"$f":"MID(_xll.SNT.StockInst($C442,\"高値時刻\"),12,5)","v":"ockIn"},{"$f":"IF(C442=0,\"wait\",_xll.SNT.StockInst(C442,$S$9))","v":"wait"},{"$f":"IF($C442=0,\"\",_xll.SNT.StockInst($C442,\"安値時刻\"))","v":""},{"$f":"MID(_xll.SNT.StockInst($C442,\"安値時刻\"),12,5)","v":"ockIn"},"","","","",{"$f":"_xlfn.IFS(N442<制限値幅取得!I437,\"S安付近\",N442>制限値幅取得!H437,\"S高付近\",制限値幅取得!H437>N442>制限値幅取得!I437,\"\")","v":{"$error":"#VALUE!"}}]
[434,null,null,null,null,null,null,null,null,null,"","",null,{"$f":"IF(C443=0,\"wait\",_xll.SNT.StockInst(C443,$N$9))","v":"wait"},{"$f":"N443-制限値幅取得!E438","v":{"$error":"#VALUE!"}},{"$f":"IF(C443=0,\"wait\",_xll.SNT.StockInst(C443,$P$9))","v":"wait"},{"$f":"IF(C443=0,\"\",_xll.SNT.StockInst(C443,\"高値時刻\"))","v":""},{"$f":"MID(_xll.SNT.StockInst($C443,\"高値時刻\"),12,5)","v":"ockIn"},{"$f":"IF(C443=0,\"wait\",_xll.SNT.StockInst(C443,$S$9))","v":"wait"},{"$f":"IF($C443=0,\"\",_xll.SNT.StockInst($C443,\"安値時刻\"))","v":""},{"$f":"MID(_xll.SNT.StockInst($C443,\"安値時刻\"),12,5)","v":"ockIn"},"","","","",{"$f":"_xlfn.IFS(N443<制限値幅取得!I438,\"S安付近\",N443>制限値幅取得!H438,\"S高付近\",制限値幅取得!H438>N443>制限値幅取得!I438,\"\")","v":{"$error":"#VALUE!"}}]
[435,null,null,null,null,null,null,null,null,null,"","",null,{"$f":"IF(C444=0,\"wait\",_xll.SNT.StockInst(C444,$N$9))","v":"wait"},{"$f":"N444-制限値幅取得!E439","v":{"$error":"#VALUE!"}},{"$f":"IF(C444=0,\"wait\",_xll.SNT.StockInst(C444,$P$9))","v":"wait"},{"$f":"IF(C444=0,\"\",_xll.SNT.StockInst(C444,\"高値時刻\"))","v":""},{"$f":"MID(_xll.SNT.StockInst($C444,\"高値時刻\"),12,5)","v":"ockIn"},{"$f":"IF(C444=0,\"wait\",_xll.SNT.StockInst(C444,$S$9))","v":"wait"},{"$f":"IF($C444=0,\"\",_xll.SNT.StockInst($C444,\"安値時刻\"))","v":""},{"$f":"MID(_xll.SNT.StockInst($C444,\"安値時刻\"),12,5)","v":"ockIn"},"","","","",{"$f":"_xlfn.IFS(N444<制限値幅取得!I439,\"S安付近\",N444>制限値幅取得!H439,\"S高付近\",制限値幅取得!H439>N444>制限値幅取得!I439,\"\")","v":{"$error":"#VALUE!"}}]
[436,null,null,null,null,null,null,null,null,null,"","",null,{"$f":"IF(C445=0,\"wait\",_xll.SNT.StockInst(C445,$N$9))","v":"wait"},{"$f":"N445-制限値幅取得!E440","v":{"$error":"#VALUE!"}},{"$f":"IF(C445=0,\"wait\",_xll.SNT.StockInst(C445,$P$9))","v":"wait"},{"$f":"IF(C445=0,\"\",_xll.SNT.StockInst(C445,\"高値時刻\"))","v":""},{"$f":"MID(_xll.SNT.StockInst($C445,\"高値時刻\"),12,5)","v":"ockIn"},{"$f":"IF(C445=0,\"wait\",_xll.SNT.StockInst(C445,$S$9))","v":"wait"},{"$f":"IF($C445=0,\"\",_xll.SNT.StockInst($C445,\"安値時刻\"))","v":""},{"$f":"MID(_xll.SNT.StockInst($C445,\"安値時刻\"),12,5)","v":"ockIn"},"","","","",{"$f":"_xlfn.IFS(N445<制限値幅取得!I440,\"S安付近\",N445>制限値幅取得!H440,\"S高付近\",制限値幅取得!H440>N445>制限値幅取得!I440,\"\")","v":{"$error":"#VALUE!"}}]
[437,null,null,null,null,null,null,null,null,null,"","",null,{"$f":"IF(C446=0,\"wait\",_xll.SNT.StockInst(C446,$N$9))","v":"wait"},{"$f":"N446-制限値幅取得!E441","v":{"$error":"#VALUE!"}},{"$f":"IF(C446=0,\"wait\",_xll.SNT.StockInst(C446,$P$9))","v":"wait"},{"$f":"IF(C446=0,\"\",_xll.SNT.StockInst(C446,\"高値時刻\"))","v":""},{"$f":"MID(_xll.SNT.StockInst($C446,\"高値時刻\"),12,5)","v":"ockIn"},{"$f":"IF(C446=0,\"wait\",_xll.SNT.StockInst(C446,$S$9))","v":"wait"},{"$f":"IF($C446=0,\"\",_xll.SNT.StockInst($C446,\"安値時刻\"))","v":""},{"$f":"MID(_xll.SNT.StockInst($C446,\"安値時刻\"),12,5)","v":"ockIn"},"","","","",{"$f":"_xlfn.IFS(N446<制限値幅取得!I441,\"S安付近\",N446>制限値幅取得!H441,\"S高付近\",制限値幅取得!H441>N446>制限値幅取得!I441,\"\")","v":{"$error":"#VALUE!"}}]
[438,null,null,null,null,null,null,null,null,null,"","",null,{"$f":"IF(C447=0,\"wait\",_xll.SNT.StockInst(C447,$N$9))","v":"wait"},{"$f":"N447-制限値幅取得!E442","v":{"$error":"#VALUE!"}},{"$f":"IF(C447=0,\"wait\",_xll.SNT.StockInst(C447,$P$9))","v":"wait"},{"$f":"IF(C447=0,\"\",_xll.SNT.StockInst(C447,\"高値時刻\"))","v":""},{"$f":"MID(_xll.SNT.StockInst($C447,\"高値時刻\"),12,5)","v":"ockIn"},{"$f":"IF(C447=0,\"wait\",_xll.SNT.StockInst(C447,$S$9))","v":"wait"},{"$f":"IF($C447=0,\"\",_xll.SNT.StockInst($C447,\"安値時刻\"))","v":""},{"$f":"MID(_xll.SNT.StockInst($C447,\"安値時刻\"),12,5)","v":"ockIn"},"","","","",{"$f":"_xlfn.IFS(N447<制限値幅取得!I442,\"S安付近\",N447>制限値幅取得!H442,\"S高付近\",制限値幅取得!H442>N447>制限値幅取得!I442,\"\")","v":{"$error":"#VALUE!"}}]
[439,null,null,null,null,null,null,null,null,null,"","",null,{"$f":"IF(C448=0,\"wait\",_xll.SNT.StockInst(C448,$N$9))","v":"wait"},{"$f":"N448-制限値幅取得!E443","v":{"$error":"#VALUE!"}},{"$f":"IF(C448=0,\"wait\",_xll.SNT.StockInst(C448,$P$9))","v":"wait"},{"$f":"IF(C448=0,\"\",_xll.SNT.StockInst(C448,\"高値時刻\"))","v":""},{"$f":"MID(_xll.SNT.StockInst($C448,\"高値時刻\"),12,5)","v":"ockIn"},{"$f":"IF(C448=0,\"wait\",_xll.SNT.StockInst(C448,$S$9))","v":"wait"},{"$f":"IF($C448=0,\"\",_xll.SNT.StockInst($C448,\"安値時刻\"))","v":""},{"$f":"MID(_xll.SNT.StockInst($C448,\"安値時刻\"),12,5)","v":"ockIn"},"","","","",{"$f":"_xlfn.IFS(N448<制限値幅取得!I443,\"S安付近\",N448>制限値幅取得!H443,\"S高付近\",制限値幅取得!H443>N448>制限値幅取得!I443,\"\")","v":{"$error":"#VALUE!"}}]
[440,null,null,null,null,null,null,null,null,null,"","",null,{"$f":"IF(C449=0,\"wait\",_xll.SNT.StockInst(C449,$N$9))","v":"wait"},{"$f":"N449-制限値幅取得!E444","v":{"$error":"#VALUE!"}},{"$f":"IF(C449=0,\"wait\",_xll.SNT.StockInst(C449,$P$9))","v":"wait"},{"$f":"IF(C449=0,\"\",_xll.SNT.StockInst(C449,\"高値時刻\"))","v":""},{"$f":"MID(_xll.SNT.StockInst($C449,\"高値時刻\"),12,5)","v":"ockIn"},{"$f":"IF(C449=0,\"wait\",_xll.SNT.StockInst(C449,$S$9))","v":"wait"},{"$f":"IF($C449=0,\"\",_xll.SNT.StockInst($C449,\"安値時刻\"))","v":""},{"$f":"MID(_xll.SNT.StockInst($C449,\"安値時刻\"),12,5)","v":"ockIn"},"","","","",{"$f":"_xlfn.IFS(N449<制限値幅取得!I444,\"S安付近\",N449>制限値幅取得!H444,\"S高付近\",制限値幅取得!H444>N449>制限値幅取得!I444,\"\")","v":{"$error":"#VALUE!"}}]
[441,null,null,null,null,null,null,null,null,null,"","",null,{"$f":"IF(C450=0,\"wait\",_xll.SNT.StockInst(C450,$N$9))","v":"wait"},{"$f":"N450-制限値幅取得!E445","v":{"$error":"#VALUE!"}},{"$f":"IF(C450=0,\"wait\",_xll.SNT.StockInst(C450,$P$9))","v":"wait"},{"$f":"IF(C450=0,\"\",_xll.SNT.StockInst(C450,\"高値時刻\"))","v":""},{"$f":"MID(_xll.SNT.StockInst($C450,\"高値時刻\"),12,5)","v":"ockIn"},{"$f":"IF(C450=0,\"wait\",_xll.SNT.StockInst(C450,$S$9))","v":"wait"},{"$f":"IF($C450=0,\"\",_xll.SNT.StockInst($C450,\"安値時刻\"))","v":""},{"$f":"MID(_xll.SNT.StockInst($C450,\"安値時刻\"),12,5)","v":"ockIn"},"","","","",{"$f":"_xlfn.IFS(N450<制限値幅取得!I445,\"S安付近\",N450>制限値幅取得!H445,\"S高付近\",制限値幅取得!H445>N450>制限値幅取得!I445,\"\")","v":{"$error":"#VALUE!"}}]
[442,null,null,null,null,null,null,null,null,null,"","",null,{"$f":"IF(C451=0,\"wait\",_xll.SNT.StockInst(C451,$N$9))","v":"wait"},{"$f":"N451-制限値幅取得!E446","v":{"$error":"#VALUE!"}},{"$f":"IF(C451=0,\"wait\",_xll.SNT.StockInst(C451,$P$9))","v":"wait"},{"$f":"IF(C451=0,\"\",_xll.SNT.StockInst(C451,\"高値時刻\"))","v":""},{"$f":"MID(_xll.SNT.StockInst($C451,\"高値時刻\"),12,5)","v":"ockIn"},{"$f":"IF(C451=0,\"wait\",_xll.SNT.StockInst(C451,$S$9))","v":"wait"},{"$f":"IF($C451=0,\"\",_xll.SNT.StockInst($C451,\"安値時刻\"))","v":""},{"$f":"MID(_xll.SNT.StockInst($C451,\"安値時刻\"),12,5)","v":"ockIn"},"","","","",{"$f":"_xlfn.IFS(N451<制限値幅取得!I446,\"S安付近\",N451>制限値幅取得!H446,\"S高付近\",制限値幅取得!H446>N451>制限値幅取得!I446,\"\")","v":{"$error":"#VALUE!"}}]
[443,null,null,null,null,null,null,null,null,null,"","",null,{"$f":"IF(C452=0,\"wait\",_xll.SNT.StockInst(C452,$N$9))","v":"wait"},{"$f":"N452-制限値幅取得!E447","v":{"$error":"#VALUE!"}},{"$f":"IF(C452=0,\"wait\",_xll.SNT.StockInst(C452,$P$9))","v":"wait"},{"$f":"IF(C452=0,\"\",_xll.SNT.StockInst(C452,\"高値時刻\"))","v":""},{"$f":"MID(_xll.SNT.StockInst($C452,\"高値時刻\"),12,5)","v":"ockIn"},{"$f":"IF(C452=0,\"wait\",_xll.SNT.StockInst(C452,$S$9))","v":"wait"},{"$f":"IF($C452=0,\"\",_xll.SNT.StockInst($C452,\"安値時刻\"))","v":""},{"$f":"MID(_xll.SNT.StockInst($C452,\"安値時刻\"),12,5)","v":"ockIn"},"","","","",{"$f":"_xlfn.IFS(N452<制限値幅取得!I447,\"S安付近\",N452>制限値幅取得!H447,\"S高付近\",制限値幅取得!H447>N452>制限値幅取得!I447,\"\")","v":{"$error":"#VALUE!"}}]
[444,null,null,null,null,null,null,null,null,null,"","",null,{"$f":"IF(C453=0,\"wait\",_xll.SNT.StockInst(C453,$N$9))","v":"wait"},{"$f":"N453-制限値幅取得!E448","v":{"$error":"#VALUE!"}},{"$f":"IF(C453=0,\"wait\",_xll.SNT.StockInst(C453,$P$9))","v":"wait"},{"$f":"IF(C453=0,\"\",_xll.SNT.StockInst(C453,\"高値時刻\"))","v":""},{"$f":"MID(_xll.SNT.StockInst($C453,\"高値時刻\"),12,5)","v":"ockIn"},{"$f":"IF(C453=0,\"wait\",_xll.SNT.StockInst(C453,$S$9))","v":"wait"},{"$f":"IF($C453=0,\"\",_xll.SNT.StockInst($C453,\"安値時刻\"))","v":""},{"$f":"MID(_xll.SNT.StockInst($C453,\"安値時刻\"),12,5)","v":"ockIn"},"","","","",{"$f":"_xlfn.IFS(N453<制限値幅取得!I448,\"S安付近\",N453>制限値幅取得!H448,\"S高付近\",制限値幅取得!H448>N453>制限値幅取得!I448,\"\")","v":{"$error":"#VALUE!"}}]
[445,null,null,null,null,null,null,null,null,null,"","",null,{"$f":"IF(C454=0,\"wait\",_xll.SNT.StockInst(C454,$N$9))","v":"wait"},{"$f":"N454-制限値幅取得!E449","v":{"$error":"#VALUE!"}},{"$f":"IF(C454=0,\"wait\",_xll.SNT.StockInst(C454,$P$9))","v":"wait"},{"$f":"IF(C454=0,\"\",_xll.SNT.StockInst(C454,\"高値時刻\"))","v":""},{"$f":"MID(_xll.SNT.StockInst($C454,\"高値時刻\"),12,5)","v":"ockIn"},{"$f":"IF(C454=0,\"wait\",_xll.SNT.StockInst(C454,$S$9))","v":"wait"},{"$f":"IF($C454=0,\"\",_xll.SNT.StockInst($C454,\"安値時刻\"))","v":""},{"$f":"MID(_xll.SNT.StockInst($C454,\"安値時刻\"),12,5)","v":"ockIn"},"","","","",{"$f":"_xlfn.IFS(N454<制限値幅取得!I449,\"S安付近\",N454>制限値幅取得!H449,\"S高付近\",制限値幅取得!H449>N454>制限値幅取得!I449,\"\")","v":{"$error":"#VALUE!"}}]
[446,null,null,null,null,null,null,null,null,null,"","",null,{"$f":"IF(C455=0,\"wait\",_xll.SNT.StockInst(C455,$N$9))","v":"wait"},{"$f":"N455-制限値幅取得!E450","v":{"$error":"#VALUE!"}},{"$f":"IF(C455=0,\"wait\",_xll.SNT.StockInst(C455,$P$9))","v":"wait"},{"$f":"IF(C455=0,\"\",_xll.SNT.StockInst(C455,\"高値時刻\"))","v":""},{"$f":"MID(_xll.SNT.StockInst($C455,\"高値時刻\"),12,5)","v":"ockIn"},{"$f":"IF(C455=0,\"wait\",_xll.SNT.StockInst(C455,$S$9))","v":"wait"},{"$f":"IF($C455=0,\"\",_xll.SNT.StockInst($C455,\"安値時刻\"))","v":""},{"$f":"MID(_xll.SNT.StockInst($C455,\"安値時刻\"),12,5)","v":"ockIn"},"","","","",{"$f":"_xlfn.IFS(N455<制限値幅取得!I450,\"S安付近\",N455>制限値幅取得!H450,\"S高付近\",制限値幅取得!H450>N455>制限値幅取得!I450,\"\")","v":{"$error":"#VALUE!"}}]
[447,null,null,null,null,null,null,null,null,null,"","",null,{"$f":"IF(C456=0,\"wait\",_xll.SNT.StockInst(C456,$N$9))","v":"wait"},{"$f":"N456-制限値幅取得!E451","v":{"$error":"#VALUE!"}},{"$f":"IF(C456=0,\"wait\",_xll.SNT.StockInst(C456,$P$9))","v":"wait"},{"$f":"IF(C456=0,\"\",_xll.SNT.StockInst(C456,\"高値時刻\"))","v":""},{"$f":"MID(_xll.SNT.StockInst($C456,\"高値時刻\"),12,5)","v":"ockIn"},{"$f":"IF(C456=0,\"wait\",_xll.SNT.StockInst(C456,$S$9))","v":"wait"},{"$f":"IF($C456=0,\"\",_xll.SNT.StockInst($C456,\"安値時刻\"))","v":""},{"$f":"MID(_xll.SNT.StockInst($C456,\"安値時刻\"),12,5)","v":"ockIn"},"","","","",{"$f":"_xlfn.IFS(N456<制限値幅取得!I451,\"S安付近\",N456>制限値幅取得!H451,\"S高付近\",制限値幅取得!H451>N456>制限値幅取得!I451,\"\")","v":{"$error":"#VALUE!"}}]
[448,null,null,null,null,null,null,null,null,null,"","",null,{"$f":"IF(C457=0,\"wait\",_xll.SNT.StockInst(C457,$N$9))","v":"wait"},{"$f":"N457-制限値幅取得!E452","v":{"$error":"#VALUE!"}},{"$f":"IF(C457=0,\"wait\",_xll.SNT.StockInst(C457,$P$9))","v":"wait"},{"$f":"IF(C457=0,\"\",_xll.SNT.StockInst(C457,\"高値時刻\"))","v":""},{"$f":"MID(_xll.SNT.StockInst($C457,\"高値時刻\"),12,5)","v":"ockIn"},{"$f":"IF(C457=0,\"wait\",_xll.SNT.StockInst(C457,$S$9))","v":"wait"},{"$f":"IF($C457=0,\"\",_xll.SNT.StockInst($C457,\"安値時刻\"))","v":""},{"$f":"MID(_xll.SNT.StockInst($C457,\"安値時刻\"),12,5)","v":"ockIn"},"","","","",{"$f":"_xlfn.IFS(N457<制限値幅取得!I452,\"S安付近\",N457>制限値幅取得!H452,\"S高付近\",制限値幅取得!H452>N457>制限値幅取得!I452,\"\")","v":{"$error":"#VALUE!"}}]
[449,null,null,null,null,null,null,null,null,null,"","",null,{"$f":"IF(C458=0,\"wait\",_xll.SNT.StockInst(C458,$N$9))","v":"wait"},{"$f":"N458-制限値幅取得!E453","v":{"$error":"#VALUE!"}},{"$f":"IF(C458=0,\"wait\",_xll.SNT.StockInst(C458,$P$9))","v":"wait"},{"$f":"IF(C458=0,\"\",_xll.SNT.StockInst(C458,\"高値時刻\"))","v":""},{"$f":"MID(_xll.SNT.StockInst($C458,\"高値時刻\"),12,5)","v":"ockIn"},{"$f":"IF(C458=0,\"wait\",_xll.SNT.StockInst(C458,$S$9))","v":"wait"},{"$f":"IF($C458=0,\"\",_xll.SNT.StockInst($C458,\"安値時刻\"))","v":""},{"$f":"MID(_xll.SNT.StockInst($C458,\"安値時刻\"),12,5)","v":"ockIn"},{"$f":"IFERROR(IF($Y$2-$Q458<=TIME(0,$X$3,0),\"高値更新\",IF($Y$2-$T458<=TIME(0,$X$3,0),\"安値更新\",\"\")),\"\")","v":""},"","","",{"$f":"_xlfn.IFS(N458<制限値幅取得!I453,\"S安付近\",N458>制限値幅取得!H453,\"S高付近\",制限値幅取得!H453>N458>制限値幅取得!I453,\"\")","v":{"$error":"#VALUE!"}}]
[450,null,null,null,null,null,null,null,null,null,"","",null,{"$f":"IF(C459=0,\"wait\",_xll.SNT.StockInst(C459,$N$9))","v":"wait"},{"$f":"N459-制限値幅取得!E454","v":{"$error":"#VALUE!"}},{"$f":"IF(C459=0,\"wait\",_xll.SNT.StockInst(C459,$P$9))","v":"wait"},{"$f":"IF(C459=0,\"\",_xll.SNT.StockInst(C459,\"高値時刻\"))","v":""},{"$f":"MID(_xll.SNT.StockInst($C459,\"高値時刻\"),12,5)","v":"ockIn"},{"$f":"IF(C459=0,\"wait\",_xll.SNT.StockInst(C459,$S$9))","v":"wait"},{"$f":"IF($C459=0,\"\",_xll.SNT.StockInst($C459,\"安値時刻\"))","v":""},{"$f":"MID(_xll.SNT.StockInst($C459,\"安値時刻\"),12,5)","v":"ockIn"},"",{"$f":"IF(X459=\"\",\"\",IF(F459=\"買建\",IF(N459<X459,\"ﾛｽｶｯﾄ\",\"\"),IF(F459=\"売建\",IF(N459>X459,\"ﾛｽｶｯﾄ\",\"\"),\"\")))","v":""},{"$f":"IFERROR(MROUND(IF(F459=\"買建\",((I459*H459)+Y459)/H459,((I459*H459)-Y459)/H459),$X$5),\"\")","v":""},{"$f":"IF(K459<0,-(H459*I459*$X$4),\"\")","v":""},{"$f":"_xlfn.IFS(N459<制限値幅取得!I454,\"S安付近\",N459>制限値幅取得!H454,\"S高付近\",制限値幅取得!H454>N459>制限値幅取得!I454,\"\")","v":{"$error":"#VALUE!"}}]
[451,null,null,null,null,null,null,null,null,null,"","",null,{"$f":"IF(C460=0,\"wait\",_xll.SNT.StockInst(C460,$N$9))","v":"wait"},{"$f":"N460-制限値幅取得!E455","v":{"$error":"#VALUE!"}},{"$f":"IF(C460=0,\"wait\",_xll.SNT.StockInst(C460,$P$9))","v":"wait"},{"$f":"IF(C460=0,\"\",_xll.SNT.StockInst(C460,\"高値時刻\"))","v":""},{"$f":"MID(_xll.SNT.StockInst($C460,\"高値時刻\"),12,5)","v":"ockIn"},{"$f":"IF(C460=0,\"wait\",_xll.SNT.StockInst(C460,$S$9))","v":"wait"},{"$f":"IF($C460=0,\"\",_xll.SNT.StockInst($C460,\"安値時刻\"))","v":""},{"$f":"MID(_xll.SNT.StockInst($C460,\"安値時刻\"),12,5)","v":"ockIn"},"","","","",{"$f":"_xlfn.IFS(N460<制限値幅取得!I455,\"S安付近\",N460>制限値幅取得!H455,\"S高付近\",制限値幅取得!H455>N460>制限値幅取得!I455,\"\")","v":{"$error":"#VALUE!"}}]
[452,null,null,null,null,null,null,null,null,null,"","",null,{"$f":"IF(C461=0,\"wait\",_xll.SNT.StockInst(C461,$N$9))","v":"wait"},{"$f":"N461-制限値幅取得!E456","v":{"$error":"#VALUE!"}},{"$f":"IF(C461=0,\"wait\",_xll.SNT.StockInst(C461,$P$9))","v":"wait"},{"$f":"IF(C461=0,\"\",_xll.SNT.StockInst(C461,\"高値時刻\"))","v":""},{"$f":"MID(_xll.SNT.StockInst($C461,\"高値時刻\"),12,5)","v":"ockIn"},{"$f":"IF(C461=0,\"wait\",_xll.SNT.StockInst(C461,$S$9))","v":"wait"},{"$f":"IF($C461=0,\"\",_xll.SNT.StockInst($C461,\"安値時刻\"))","v":""},{"$f":"MID(_xll.SNT.StockInst($C461,\"安値時刻\"),12,5)","v":"ockIn"},"","","","",{"$f":"_xlfn.IFS(N461<制限値幅取得!I456,\"S安付近\",N461>制限値幅取得!H456,\"S高付近\",制限値幅取得!H456>N461>制限値幅取得!I456,\"\")","v":{"$error":"#VALUE!"}}]
[453,null,null,null,null,null,null,null,null,null,"","",null,{"$f":"IF(C462=0,\"wait\",_xll.SNT.StockInst(C462,$N$9))","v":"wait"},{"$f":"N462-制限値幅取得!E457","v":{"$error":"#VALUE!"}},{"$f":"IF(C462=0,\"wait\",_xll.SNT.StockInst(C462,$P$9))","v":"wait"},{"$f":"IF(C462=0,\"\",_xll.SNT.StockInst(C462,\"高値時刻\"))","v":""},{"$f":"MID(_xll.SNT.StockInst($C462,\"高値時刻\"),12,5)","v":"ockIn"},{"$f":"IF(C462=0,\"wait\",_xll.SNT.StockInst(C462,$S$9))","v":"wait"},{"$f":"IF($C462=0,\"\",_xll.SNT.StockInst($C462,\"安値時刻\"))","v":""},{"$f":"MID(_xll.SNT.StockInst($C462,\"安値時刻\"),12,5)","v":"ockIn"},"","","","",{"$f":"_xlfn.IFS(N462<制限値幅取得!I457,\"S安付近\",N462>制限値幅取得!H457,\"S高付近\",制限値幅取得!H457>N462>制限値幅取得!I457,\"\")","v":{"$error":"#VALUE!"}}]
[454,null,null,null,null,null,null,null,null,null,"","",null,{"$f":"IF(C463=0,\"wait\",_xll.SNT.StockInst(C463,$N$9))","v":"wait"},{"$f":"N463-制限値幅取得!E458","v":{"$error":"#VALUE!"}},{"$f":"IF(C463=0,\"wait\",_xll.SNT.StockInst(C463,$P$9))","v":"wait"},{"$f":"IF(C463=0,\"\",_xll.SNT.StockInst(C463,\"高値時刻\"))","v":""},{"$f":"MID(_xll.SNT.StockInst($C463,\"高値時刻\"),12,5)","v":"ockIn"},{"$f":"IF(C463=0,\"wait\",_xll.SNT.StockInst(C463,$S$9))","v":"wait"},{"$f":"IF($C463=0,\"\",_xll.SNT.StockInst($C463,\"安値時刻\"))","v":""},{"$f":"MID(_xll.SNT.StockInst($C463,\"安値時刻\"),12,5)","v":"ockIn"},"","","","",{"$f":"_xlfn.IFS(N463<制限値幅取得!I458,\"S安付近\",N463>制限値幅取得!H458,\"S高付近\",制限値幅取得!H458>N463>制限値幅取得!I458,\"\")","v":{"$error":"#VALUE!"}}]
[455,null,null,null,null,null,null,null,null,null,"","",null,{"$f":"IF(C464=0,\"wait\",_xll.SNT.StockInst(C464,$N$9))","v":"wait"},{"$f":"N464-制限値幅取得!E459","v":{"$error":"#VALUE!"}},{"$f":"IF(C464=0,\"wait\",_xll.SNT.StockInst(C464,$P$9))","v":"wait"},{"$f":"IF(C464=0,\"\",_xll.SNT.StockInst(C464,\"高値時刻\"))","v":""},{"$f":"MID(_xll.SNT.StockInst($C464,\"高値時刻\"),12,5)","v":"ockIn"},{"$f":"IF(C464=0,\"wait\",_xll.SNT.StockInst(C464,$S$9))","v":"wait"},{"$f":"IF($C464=0,\"\",_xll.SNT.StockInst($C464,\"安値時刻\"))","v":""},{"$f":"MID(_xll.SNT.StockInst($C464,\"安値時刻\"),12,5)","v":"ockIn"},"","","","",{"$f":"_xlfn.IFS(N464<制限値幅取得!I459,\"S安付近\",N464>制限値幅取得!H459,\"S高付近\",制限値幅取得!H459>N464>制限値幅取得!I459,\"\")","v":{"$error":"#VALUE!"}}]
[456,null,null,null,null,null,null,null,null,null,"","",null,{"$f":"IF(C465=0,\"wait\",_xll.SNT.StockInst(C465,$N$9))","v":"wait"},{"$f":"N465-制限値幅取得!E460","v":{"$error":"#VALUE!"}},{"$f":"IF(C465=0,\"wait\",_xll.SNT.StockInst(C465,$P$9))","v":"wait"},{"$f":"IF(C465=0,\"\",_xll.SNT.StockInst(C465,\"高値時刻\"))","v":""},{"$f":"MID(_xll.SNT.StockInst($C465,\"高値時刻\"),12,5)","v":"ockIn"},{"$f":"IF(C465=0,\"wait\",_xll.SNT.StockInst(C465,$S$9))","v":"wait"},{"$f":"IF($C465=0,\"\",_xll.SNT.StockInst($C465,\"安値時刻\"))","v":""},{"$f":"MID(_xll.SNT.StockInst($C465,\"安値時刻\"),12,5)","v":"ockIn"},"","","","",{"$f":"_xlfn.IFS(N465<制限値幅取得!I460,\"S安付近\",N465>制限値幅取得!H460,\"S高付近\",制限値幅取得!H460>N465>制限値幅取得!I460,\"\")","v":{"$error":"#VALUE!"}}]
[457,null,null,null,null,null,null,null,null,null,"","",null,{"$f":"IF(C466=0,\"wait\",_xll.SNT.StockInst(C466,$N$9))","v":"wait"},{"$f":"N466-制限値幅取得!E461","v":{"$error":"#VALUE!"}},{"$f":"IF(C466=0,\"wait\",_xll.SNT.StockInst(C466,$P$9))","v":"wait"},{"$f":"IF(C466=0,\"\",_xll.SNT.StockInst(C466,\"高値時刻\"))","v":""},{"$f":"MID(_xll.SNT.StockInst($C466,\"高値時刻\"),12,5)","v":"ockIn"},{"$f":"IF(C466=0,\"wait\",_xll.SNT.StockInst(C466,$S$9))","v":"wait"},{"$f":"IF($C466=0,\"\",_xll.SNT.StockInst($C466,\"安値時刻\"))","v":""},{"$f":"MID(_xll.SNT.StockInst($C466,\"安値時刻\"),12,5)","v":"ockIn"},"","","","",{"$f":"_xlfn.IFS(N466<制限値幅取得!I461,\"S安付近\",N466>制限値幅取得!H461,\"S高付近\",制限値幅取得!H461>N466>制限値幅取得!I461,\"\")","v":{"$error":"#VALUE!"}}]
[458,null,null,null,null,null,null,null,null,null,"","",null,{"$f":"IF(C467=0,\"wait\",_xll.SNT.StockInst(C467,$N$9))","v":"wait"},{"$f":"N467-制限値幅取得!E462","v":{"$error":"#VALUE!"}},{"$f":"IF(C467=0,\"wait\",_xll.SNT.StockInst(C467,$P$9))","v":"wait"},{"$f":"IF(C467=0,\"\",_xll.SNT.StockInst(C467,\"高値時刻\"))","v":""},{"$f":"MID(_xll.SNT.StockInst($C467,\"高値時刻\"),12,5)","v":"ockIn"},{"$f":"IF(C467=0,\"wait\",_xll.SNT.StockInst(C467,$S$9))","v":"wait"},{"$f":"IF($C467=0,\"\",_xll.SNT.StockInst($C467,\"安値時刻\"))","v":""},{"$f":"MID(_xll.SNT.StockInst($C467,\"安値時刻\"),12,5)","v":"ockIn"},"","","","",{"$f":"_xlfn.IFS(N467<制限値幅取得!I462,\"S安付近\",N467>制限値幅取得!H462,\"S高付近\",制限値幅取得!H462>N467>制限値幅取得!I462,\"\")","v":{"$error":"#VALUE!"}}]
[459,null,null,null,null,null,null,null,null,null,"","",null,{"$f":"IF(C468=0,\"wait\",_xll.SNT.StockInst(C468,$N$9))","v":"wait"},{"$f":"N468-制限値幅取得!E463","v":{"$error":"#VALUE!"}},{"$f":"IF(C468=0,\"wait\",_xll.SNT.StockInst(C468,$P$9))","v":"wait"},{"$f":"IF(C468=0,\"\",_xll.SNT.StockInst(C468,\"高値時刻\"))","v":""},{"$f":"MID(_xll.SNT.StockInst($C468,\"高値時刻\"),12,5)","v":"ockIn"},{"$f":"IF(C468=0,\"wait\",_xll.SNT.StockInst(C468,$S$9))","v":"wait"},{"$f":"IF($C468=0,\"\",_xll.SNT.StockInst($C468,\"安値時刻\"))","v":""},{"$f":"MID(_xll.SNT.StockInst($C468,\"安値時刻\"),12,5)","v":"ockIn"},"","","","",{"$f":"_xlfn.IFS(N468<制限値幅取得!I463,\"S安付近\",N468>制限値幅取得!H463,\"S高付近\",制限値幅取得!H463>N468>制限値幅取得!I463,\"\")","v":{"$error":"#VALUE!"}}]
[460,null,null,null,null,null,null,null,null,null,"","",null,{"$f":"IF(C469=0,\"wait\",_xll.SNT.StockInst(C469,$N$9))","v":"wait"},{"$f":"N469-制限値幅取得!E464","v":{"$error":"#VALUE!"}},{"$f":"IF(C469=0,\"wait\",_xll.SNT.StockInst(C469,$P$9))","v":"wait"},{"$f":"IF(C469=0,\"\",_xll.SNT.StockInst(C469,\"高値時刻\"))","v":""},{"$f":"MID(_xll.SNT.StockInst($C469,\"高値時刻\"),12,5)","v":"ockIn"},{"$f":"IF(C469=0,\"wait\",_xll.SNT.StockInst(C469,$S$9))","v":"wait"},{"$f":"IF($C469=0,\"\",_xll.SNT.StockInst($C469,\"安値時刻\"))","v":""},{"$f":"MID(_xll.SNT.StockInst($C469,\"安値時刻\"),12,5)","v":"ockIn"},"","","","",{"$f":"_xlfn.IFS(N469<制限値幅取得!I464,\"S安付近\",N469>制限値幅取得!H464,\"S高付近\",制限値幅取得!H464>N469>制限値幅取得!I464,\"\")","v":{"$error":"#VALUE!"}}]
[461,null,null,null,null,null,null,null,null,null,"","",null,{"$f":"IF(C470=0,\"wait\",_xll.SNT.StockInst(C470,$N$9))","v":"wait"},{"$f":"N470-制限値幅取得!E465","v":{"$error":"#VALUE!"}},{"$f":"IF(C470=0,\"wait\",_xll.SNT.StockInst(C470,$P$9))","v":"wait"},{"$f":"IF(C470=0,\"\",_xll.SNT.StockInst(C470,\"高値時刻\"))","v":""},{"$f":"MID(_xll.SNT.StockInst($C470,\"高値時刻\"),12,5)","v":"ockIn"},{"$f":"IF(C470=0,\"wait\",_xll.SNT.StockInst(C470,$S$9))","v":"wait"},{"$f":"IF($C470=0,\"\",_xll.SNT.StockInst($C470,\"安値時刻\"))","v":""},{"$f":"MID(_xll.SNT.StockInst($C470,\"安値時刻\"),12,5)","v":"ockIn"},"","","","",{"$f":"_xlfn.IFS(N470<制限値幅取得!I465,\"S安付近\",N470>制限値幅取得!H465,\"S高付近\",制限値幅取得!H465>N470>制限値幅取得!I465,\"\")","v":{"$error":"#VALUE!"}}]
[462,null,null,null,null,null,null,null,null,null,"","",null,{"$f":"IF(C471=0,\"wait\",_xll.SNT.StockInst(C471,$N$9))","v":"wait"},{"$f":"N471-制限値幅取得!E466","v":{"$error":"#VALUE!"}},{"$f":"IF(C471=0,\"wait\",_xll.SNT.StockInst(C471,$P$9))","v":"wait"},{"$f":"IF(C471=0,\"\",_xll.SNT.StockInst(C471,\"高値時刻\"))","v":""},{"$f":"MID(_xll.SNT.StockInst($C471,\"高値時刻\"),12,5)","v":"ockIn"},{"$f":"IF(C471=0,\"wait\",_xll.SNT.StockInst(C471,$S$9))","v":"wait"},{"$f":"IF($C471=0,\"\",_xll.SNT.StockInst($C471,\"安値時刻\"))","v":""},{"$f":"MID(_xll.SNT.StockInst($C471,\"安値時刻\"),12,5)","v":"ockIn"},"","","","",{"$f":"_xlfn.IFS(N471<制限値幅取得!I466,\"S安付近\",N471>制限値幅取得!H466,\"S高付近\",制限値幅取得!H466>N471>制限値幅取得!I466,\"\")","v":{"$error":"#VALUE!"}}]
[463,null,null,null,null,null,null,null,null,null,"","",null,{"$f":"IF(C472=0,\"wait\",_xll.SNT.StockInst(C472,$N$9))","v":"wait"},{"$f":"N472-制限値幅取得!E467","v":{"$error":"#VALUE!"}},{"$f":"IF(C472=0,\"wait\",_xll.SNT.StockInst(C472,$P$9))","v":"wait"},{"$f":"IF(C472=0,\"\",_xll.SNT.StockInst(C472,\"高値時刻\"))","v":""},{"$f":"MID(_xll.SNT.StockInst($C472,\"高値時刻\"),12,5)","v":"ockIn"},{"$f":"IF(C472=0,\"wait\",_xll.SNT.StockInst(C472,$S$9))","v":"wait"},{"$f":"IF($C472=0,\"\",_xll.SNT.StockInst($C472,\"安値時刻\"))","v":""},{"$f":"MID(_xll.SNT.StockInst($C472,\"安値時刻\"),12,5)","v":"ockIn"},"","","","",{"$f":"_xlfn.IFS(N472<制限値幅取得!I467,\"S安付近\",N472>制限値幅取得!H467,\"S高付近\",制限値幅取得!H467>N472>制限値幅取得!I467,\"\")","v":{"$error":"#VALUE!"}}]
[464,null,null,null,null,null,null,null,null,null,"","",null,{"$f":"IF(C473=0,\"wait\",_xll.SNT.StockInst(C473,$N$9))","v":"wait"},{"$f":"N473-制限値幅取得!E468","v":{"$error":"#VALUE!"}},{"$f":"IF(C473=0,\"wait\",_xll.SNT.StockInst(C473,$P$9))","v":"wait"},{"$f":"IF(C473=0,\"\",_xll.SNT.StockInst(C473,\"高値時刻\"))","v":""},{"$f":"MID(_xll.SNT.StockInst($C473,\"高値時刻\"),12,5)","v":"ockIn"},{"$f":"IF(C473=0,\"wait\",_xll.SNT.StockInst(C473,$S$9))","v":"wait"},{"$f":"IF($C473=0,\"\",_xll.SNT.StockInst($C473,\"安値時刻\"))","v":""},{"$f":"MID(_xll.SNT.StockInst($C473,\"安値時刻\"),12,5)","v":"ockIn"},"","","","",{"$f":"_xlfn.IFS(N473<制限値幅取得!I468,\"S安付近\",N473>制限値幅取得!H468,\"S高付近\",制限値幅取得!H468>N473>制限値幅取得!I468,\"\")","v":{"$error":"#VALUE!"}}]
[465,null,null,null,null,null,null,null,null,null,"","",null,{"$f":"IF(C474=0,\"wait\",_xll.SNT.StockInst(C474,$N$9))","v":"wait"},{"$f":"N474-制限値幅取得!E469","v":{"$error":"#VALUE!"}},{"$f":"IF(C474=0,\"wait\",_xll.SNT.StockInst(C474,$P$9))","v":"wait"},{"$f":"IF(C474=0,\"\",_xll.SNT.StockInst(C474,\"高値時刻\"))","v":""},{"$f":"MID(_xll.SNT.StockInst($C474,\"高値時刻\"),12,5)","v":"ockIn"},{"$f":"IF(C474=0,\"wait\",_xll.SNT.StockInst(C474,$S$9))","v":"wait"},{"$f":"IF($C474=0,\"\",_xll.SNT.StockInst($C474,\"安値時刻\"))","v":""},{"$f":"MID(_xll.SNT.StockInst($C474,\"安値時刻\"),12,5)","v":"ockIn"},"","","","",{"$f":"_xlfn.IFS(N474<制限値幅取得!I469,\"S安付近\",N474>制限値幅取得!H469,\"S高付近\",制限値幅取得!H469>N474>制限値幅取得!I469,\"\")","v":{"$error":"#VALUE!"}}]
[466,null,null,null,null,null,null,null,null,null,"","",null,{"$f":"IF(C475=0,\"wait\",_xll.SNT.StockInst(C475,$N$9))","v":"wait"},{"$f":"N475-制限値幅取得!E470","v":{"$error":"#VALUE!"}},{"$f":"IF(C475=0,\"wait\",_xll.SNT.StockInst(C475,$P$9))","v":"wait"},{"$f":"IF(C475=0,\"\",_xll.SNT.StockInst(C475,\"高値時刻\"))","v":""},{"$f":"MID(_xll.SNT.StockInst($C475,\"高値時刻\"),12,5)","v":"ockIn"},{"$f":"IF(C475=0,\"wait\",_xll.SNT.StockInst(C475,$S$9))","v":"wait"},{"$f":"IF($C475=0,\"\",_xll.SNT.StockInst($C475,\"安値時刻\"))","v":""},{"$f":"MID(_xll.SNT.StockInst($C475,\"安値時刻\"),12,5)","v":"ockIn"},"","","","",{"$f":"_xlfn.IFS(N475<制限値幅取得!I470,\"S安付近\",N475>制限値幅取得!H470,\"S高付近\",制限値幅取得!H470>N475>制限値幅取得!I470,\"\")","v":{"$error":"#VALUE!"}}]
[467,null,null,null,null,null,null,null,null,null,"","",null,{"$f":"IF(C476=0,\"wait\",_xll.SNT.StockInst(C476,$N$9))","v":"wait"},{"$f":"N476-制限値幅取得!E471","v":{"$error":"#VALUE!"}},{"$f":"IF(C476=0,\"wait\",_xll.SNT.StockInst(C476,$P$9))","v":"wait"},{"$f":"IF(C476=0,\"\",_xll.SNT.StockInst(C476,\"高値時刻\"))","v":""},{"$f":"MID(_xll.SNT.StockInst($C476,\"高値時刻\"),12,5)","v":"ockIn"},{"$f":"IF(C476=0,\"wait\",_xll.SNT.StockInst(C476,$S$9))","v":"wait"},{"$f":"IF($C476=0,\"\",_xll.SNT.StockInst($C476,\"安値時刻\"))","v":""},{"$f":"MID(_xll.SNT.StockInst($C476,\"安値時刻\"),12,5)","v":"ockIn"},"","","","",{"$f":"_xlfn.IFS(N476<制限値幅取得!I471,\"S安付近\",N476>制限値幅取得!H471,\"S高付近\",制限値幅取得!H471>N476>制限値幅取得!I471,\"\")","v":{"$error":"#VALUE!"}}]
[468,null,null,null,null,null,null,null,null,null,"","",null,{"$f":"IF(C477=0,\"wait\",_xll.SNT.StockInst(C477,$N$9))","v":"wait"},{"$f":"N477-制限値幅取得!E472","v":{"$error":"#VALUE!"}},{"$f":"IF(C477=0,\"wait\",_xll.SNT.StockInst(C477,$P$9))","v":"wait"},{"$f":"IF(C477=0,\"\",_xll.SNT.StockInst(C477,\"高値時刻\"))","v":""},{"$f":"MID(_xll.SNT.StockInst($C477,\"高値時刻\"),12,5)","v":"ockIn"},{"$f":"IF(C477=0,\"wait\",_xll.SNT.StockInst(C477,$S$9))","v":"wait"},{"$f":"IF($C477=0,\"\",_xll.SNT.StockInst($C477,\"安値時刻\"))","v":""},{"$f":"MID(_xll.SNT.StockInst($C477,\"安値時刻\"),12,5)","v":"ockIn"},"","","","",{"$f":"_xlfn.IFS(N477<制限値幅取得!I472,\"S安付近\",N477>制限値幅取得!H472,\"S高付近\",制限値幅取得!H472>N477>制限値幅取得!I472,\"\")","v":{"$error":"#VALUE!"}}]
[469,null,null,null,null,null,null,null,null,null,"","",null,{"$f":"IF(C478=0,\"wait\",_xll.SNT.StockInst(C478,$N$9))","v":"wait"},{"$f":"N478-制限値幅取得!E473","v":{"$error":"#VALUE!"}},{"$f":"IF(C478=0,\"wait\",_xll.SNT.StockInst(C478,$P$9))","v":"wait"},{"$f":"IF(C478=0,\"\",_xll.SNT.StockInst(C478,\"高値時刻\"))","v":""},{"$f":"MID(_xll.SNT.StockInst($C478,\"高値時刻\"),12,5)","v":"ockIn"},{"$f":"IF(C478=0,\"wait\",_xll.SNT.StockInst(C478,$S$9))","v":"wait"},{"$f":"IF($C478=0,\"\",_xll.SNT.StockInst($C478,\"安値時刻\"))","v":""},{"$f":"MID(_xll.SNT.StockInst($C478,\"安値時刻\"),12,5)","v":"ockIn"},"","","","",{"$f":"_xlfn.IFS(N478<制限値幅取得!I473,\"S安付近\",N478>制限値幅取得!H473,\"S高付近\",制限値幅取得!H473>N478>制限値幅取得!I473,\"\")","v":{"$error":"#VALUE!"}}]
[470,null,null,null,null,null,null,null,null,null,"","",null,{"$f":"IF(C479=0,\"wait\",_xll.SNT.StockInst(C479,$N$9))","v":"wait"},{"$f":"N479-制限値幅取得!E474","v":{"$error":"#VALUE!"}},{"$f":"IF(C479=0,\"wait\",_xll.SNT.StockInst(C479,$P$9))","v":"wait"},{"$f":"IF(C479=0,\"\",_xll.SNT.StockInst(C479,\"高値時刻\"))","v":""},{"$f":"MID(_xll.SNT.StockInst($C479,\"高値時刻\"),12,5)","v":"ockIn"},{"$f":"IF(C479=0,\"wait\",_xll.SNT.StockInst(C479,$S$9))","v":"wait"},{"$f":"IF($C479=0,\"\",_xll.SNT.StockInst($C479,\"安値時刻\"))","v":""},{"$f":"MID(_xll.SNT.StockInst($C479,\"安値時刻\"),12,5)","v":"ockIn"},"","","","",{"$f":"_xlfn.IFS(N479<制限値幅取得!I474,\"S安付近\",N479>制限値幅取得!H474,\"S高付近\",制限値幅取得!H474>N479>制限値幅取得!I474,\"\")","v":{"$error":"#VALUE!"}}]
[471,null,null,null,null,null,null,null,null,null,"","",null,{"$f":"IF(C480=0,\"wait\",_xll.SNT.StockInst(C480,$N$9))","v":"wait"},{"$f":"N480-制限値幅取得!E475","v":{"$error":"#VALUE!"}},{"$f":"IF(C480=0,\"wait\",_xll.SNT.StockInst(C480,$P$9))","v":"wait"},{"$f":"IF(C480=0,\"\",_xll.SNT.StockInst(C480,\"高値時刻\"))","v":""},{"$f":"MID(_xll.SNT.StockInst($C480,\"高値時刻\"),12,5)","v":"ockIn"},{"$f":"IF(C480=0,\"wait\",_xll.SNT.StockInst(C480,$S$9))","v":"wait"},{"$f":"IF($C480=0,\"\",_xll.SNT.StockInst($C480,\"安値時刻\"))","v":""},{"$f":"MID(_xll.SNT.StockInst($C480,\"安値時刻\"),12,5)","v":"ockIn"},"","","","",{"$f":"_xlfn.IFS(N480<制限値幅取得!I475,\"S安付近\",N480>制限値幅取得!H475,\"S高付近\",制限値幅取得!H475>N480>制限値幅取得!I475,\"\")","v":{"$error":"#VALUE!"}}]
[472,null,null,null,null,null,null,null,null,null,"","",null,{"$f":"IF(C481=0,\"wait\",_xll.SNT.StockInst(C481,$N$9))","v":"wait"},{"$f":"N481-制限値幅取得!E476","v":{"$error":"#VALUE!"}},{"$f":"IF(C481=0,\"wait\",_xll.SNT.StockInst(C481,$P$9))","v":"wait"},{"$f":"IF(C481=0,\"\",_xll.SNT.StockInst(C481,\"高値時刻\"))","v":""},{"$f":"MID(_xll.SNT.StockInst($C481,\"高値時刻\"),12,5)","v":"ockIn"},{"$f":"IF(C481=0,\"wait\",_xll.SNT.StockInst(C481,$S$9))","v":"wait"},{"$f":"IF($C481=0,\"\",_xll.SNT.StockInst($C481,\"安値時刻\"))","v":""},{"$f":"MID(_xll.SNT.StockInst($C481,\"安値時刻\"),12,5)","v":"ockIn"},"","","","",{"$f":"_xlfn.IFS(N481<制限値幅取得!I476,\"S安付近\",N481>制限値幅取得!H476,\"S高付近\",制限値幅取得!H476>N481>制限値幅取得!I476,\"\")","v":{"$error":"#VALUE!"}}]
[473,null,null,null,null,null,null,null,null,null,"","",null,{"$f":"IF(C482=0,\"wait\",_xll.SNT.StockInst(C482,$N$9))","v":"wait"},{"$f":"N482-制限値幅取得!E477","v":{"$error":"#VALUE!"}},{"$f":"IF(C482=0,\"wait\",_xll.SNT.StockInst(C482,$P$9))","v":"wait"},{"$f":"IF(C482=0,\"\",_xll.SNT.StockInst(C482,\"高値時刻\"))","v":""},{"$f":"MID(_xll.SNT.StockInst($C482,\"高値時刻\"),12,5)","v":"ockIn"},{"$f":"IF(C482=0,\"wait\",_xll.SNT.StockInst(C482,$S$9))","v":"wait"},{"$f":"IF($C482=0,\"\",_xll.SNT.StockInst($C482,\"安値時刻\"))","v":""},{"$f":"MID(_xll.SNT.StockInst($C482,\"安値時刻\"),12,5)","v":"ockIn"},"","","","",{"$f":"_xlfn.IFS(N482<制限値幅取得!I477,\"S安付近\",N482>制限値幅取得!H477,\"S高付近\",制限値幅取得!H477>N482>制限値幅取得!I477,\"\")","v":{"$error":"#VALUE!"}}]
[474,null,null,null,null,null,null,null,null,null,"","",null,{"$f":"IF(C483=0,\"wait\",_xll.SNT.StockInst(C483,$N$9))","v":"wait"},{"$f":"N483-制限値幅取得!E478","v":{"$error":"#VALUE!"}},{"$f":"IF(C483=0,\"wait\",_xll.SNT.StockInst(C483,$P$9))","v":"wait"},{"$f":"IF(C483=0,\"\",_xll.SNT.StockInst(C483,\"高値時刻\"))","v":""},{"$f":"MID(_xll.SNT.StockInst($C483,\"高値時刻\"),12,5)","v":"ockIn"},{"$f":"IF(C483=0,\"wait\",_xll.SNT.StockInst(C483,$S$9))","v":"wait"},{"$f":"IF($C483=0,\"\",_xll.SNT.StockInst($C483,\"安値時刻\"))","v":""},{"$f":"MID(_xll.SNT.StockInst($C483,\"安値時刻\"),12,5)","v":"ockIn"},"","","","",{"$f":"_xlfn.IFS(N483<制限値幅取得!I478,\"S安付近\",N483>制限値幅取得!H478,\"S高付近\",制限値幅取得!H478>N483>制限値幅取得!I478,\"\")","v":{"$error":"#VALUE!"}}]
[475,null,null,null,null,null,null,null,null,null,"","",null,{"$f":"IF(C484=0,\"wait\",_xll.SNT.StockInst(C484,$N$9))","v":"wait"},{"$f":"N484-制限値幅取得!E479","v":{"$error":"#VALUE!"}},{"$f":"IF(C484=0,\"wait\",_xll.SNT.StockInst(C484,$P$9))","v":"wait"},{"$f":"IF(C484=0,\"\",_xll.SNT.StockInst(C484,\"高値時刻\"))","v":""},{"$f":"MID(_xll.SNT.StockInst($C484,\"高値時刻\"),12,5)","v":"ockIn"},{"$f":"IF(C484=0,\"wait\",_xll.SNT.StockInst(C484,$S$9))","v":"wait"},{"$f":"IF($C484=0,\"\",_xll.SNT.StockInst($C484,\"安値時刻\"))","v":""},{"$f":"MID(_xll.SNT.StockInst($C484,\"安値時刻\"),12,5)","v":"ockIn"},"","","","",{"$f":"_xlfn.IFS(N484<制限値幅取得!I479,\"S安付近\",N484>制限値幅取得!H479,\"S高付近\",制限値幅取得!H479>N484>制限値幅取得!I479,\"\")","v":{"$error":"#VALUE!"}}]
[476,null,null,null,null,null,null,null,null,null,"","",null,{"$f":"IF(C485=0,\"wait\",_xll.SNT.StockInst(C485,$N$9))","v":"wait"},{"$f":"N485-制限値幅取得!E480","v":{"$error":"#VALUE!"}},{"$f":"IF(C485=0,\"wait\",_xll.SNT.StockInst(C485,$P$9))","v":"wait"},{"$f":"IF(C485=0,\"\",_xll.SNT.StockInst(C485,\"高値時刻\"))","v":""},{"$f":"MID(_xll.SNT.StockInst($C485,\"高値時刻\"),12,5)","v":"ockIn"},{"$f":"IF(C485=0,\"wait\",_xll.SNT.StockInst(C485,$S$9))","v":"wait"},{"$f":"IF($C485=0,\"\",_xll.SNT.StockInst($C485,\"安値時刻\"))","v":""},{"$f":"MID(_xll.SNT.StockInst($C485,\"安値時刻\"),12,5)","v":"ockIn"},"","","","",{"$f":"_xlfn.IFS(N485<制限値幅取得!I480,\"S安付近\",N485>制限値幅取得!H480,\"S高付近\",制限値幅取得!H480>N485>制限値幅取得!I480,\"\")","v":{"$error":"#VALUE!"}}]
[477,null,null,null,null,null,null,null,null,null,"","",null,{"$f":"IF(C486=0,\"wait\",_xll.SNT.StockInst(C486,$N$9))","v":"wait"},{"$f":"N486-制限値幅取得!E481","v":{"$error":"#VALUE!"}},{"$f":"IF(C486=0,\"wait\",_xll.SNT.StockInst(C486,$P$9))","v":"wait"},{"$f":"IF(C486=0,\"\",_xll.SNT.StockInst(C486,\"高値時刻\"))","v":""},{"$f":"MID(_xll.SNT.StockInst($C486,\"高値時刻\"),12,5)","v":"ockIn"},{"$f":"IF(C486=0,\"wait\",_xll.SNT.StockInst(C486,$S$9))","v":"wait"},{"$f":"IF($C486=0,\"\",_xll.SNT.StockInst($C486,\"安値時刻\"))","v":""},{"$f":"MID(_xll.SNT.StockInst($C486,\"安値時刻\"),12,5)","v":"ockIn"},"","","","",{"$f":"_xlfn.IFS(N486<制限値幅取得!I481,\"S安付近\",N486>制限値幅取得!H481,\"S高付近\",制限値幅取得!H481>N486>制限値幅取得!I481,\"\")","v":{"$error":"#VALUE!"}}]
[478,null,null,null,null,null,null,null,null,null,"","",null,{"$f":"IF(C487=0,\"wait\",_xll.SNT.StockInst(C487,$N$9))","v":"wait"},{"$f":"N487-制限値幅取得!E482","v":{"$error":"#VALUE!"}},{"$f":"IF(C487=0,\"wait\",_xll.SNT.StockInst(C487,$P$9))","v":"wait"},{"$f":"IF(C487=0,\"\",_xll.SNT.StockInst(C487,\"高値時刻\"))","v":""},{"$f":"MID(_xll.SNT.StockInst($C487,\"高値時刻\"),12,5)","v":"ockIn"},{"$f":"IF(C487=0,\"wait\",_xll.SNT.StockInst(C487,$S$9))","v":"wait"},{"$f":"IF($C487=0,\"\",_xll.SNT.StockInst($C487,\"安値時刻\"))","v":""},{"$f":"MID(_xll.SNT.StockInst($C487,\"安値時刻\"),12,5)","v":"ockIn"},"","","","",{"$f":"_xlfn.IFS(N487<制限値幅取得!I482,\"S安付近\",N487>制限値幅取得!H482,\"S高付近\",制限値幅取得!H482>N487>制限値幅取得!I482,\"\")","v":{"$error":"#VALUE!"}}]
[479,null,null,null,null,null,null,null,null,null,{"$f":"IFERROR(IF(F488=\"買建\",(N488-I488)*H488,(I488-N488)*H488),\"\")","v":""},{"$f":"IFERROR(K488/(I488*H488),\"\")","v":""},null,{"$f":"IF(C488=0,\"wait\",_xll.SNT.StockInst(C488,$N$9))","v":"wait"},{"$f":"N488-制限値幅取得!E483","v":{"$error":"#VALUE!"}},{"$f":"IF(C488=0,\"wait\",_xll.SNT.StockInst(C488,$P$9))","v":"wait"},{"$f":"IF(C488=0,\"\",_xll.SNT.StockInst(C488,\"高値時刻\"))","v":""},{"$f":"MID(_xll.SNT.StockInst($C488,\"高値時刻\"),12,5)","v":"ockIn"},{"$f":"IF(C488=0,\"wait\",_xll.SNT.StockInst(C488,$S$9))","v":"wait"},{"$f":"IF($C488=0,\"\",_xll.SNT.StockInst($C488,\"安値時刻\"))","v":""},{"$f":"MID(_xll.SNT.StockInst($C488,\"安値時刻\"),12,5)","v":"ockIn"},"","","","",{"$f":"_xlfn.IFS(N488<制限値幅取得!I483,\"S安付近\",N488>制限値幅取得!H483,\"S高付近\",制限値幅取得!H483>N488>制限値幅取得!I483,\"\")","v":{"$error":"#VALUE!"}}]
[480,null,null,null,null,null,null,null,null,null,"","",null,{"$f":"IF(C489=0,\"wait\",_xll.SNT.StockInst(C489,$N$9))","v":"wait"},{"$f":"N489-制限値幅取得!E484","v":{"$error":"#VALUE!"}},{"$f":"IF(C489=0,\"wait\",_xll.SNT.StockInst(C489,$P$9))","v":"wait"},{"$f":"IF(C489=0,\"\",_xll.SNT.StockInst(C489,\"高値時刻\"))","v":""},{"$f":"MID(_xll.SNT.StockInst($C489,\"高値時刻\"),12,5)","v":"ockIn"},{"$f":"IF(C489=0,\"wait\",_xll.SNT.StockInst(C489,$S$9))","v":"wait"},{"$f":"IF($C489=0,\"\",_xll.SNT.StockInst($C489,\"安値時刻\"))","v":""},{"$f":"MID(_xll.SNT.StockInst($C489,\"安値時刻\"),12,5)","v":"ockIn"},"","","","",{"$f":"_xlfn.IFS(N489<制限値幅取得!I484,\"S安付近\",N489>制限値幅取得!H484,\"S高付近\",制限値幅取得!H484>N489>制限値幅取得!I484,\"\")","v":{"$error":"#VALUE!"}}]
[481,null,null,null,null,null,null,null,null,null,"","",null,{"$f":"IF(C490=0,\"wait\",_xll.SNT.StockInst(C490,$N$9))","v":"wait"},{"$f":"N490-制限値幅取得!E485","v":{"$error":"#VALUE!"}},{"$f":"IF(C490=0,\"wait\",_xll.SNT.StockInst(C490,$P$9))","v":"wait"},{"$f":"IF(C490=0,\"\",_xll.SNT.StockInst(C490,\"高値時刻\"))","v":""},{"$f":"MID(_xll.SNT.StockInst($C490,\"高値時刻\"),12,5)","v":"ockIn"},{"$f":"IF(C490=0,\"wait\",_xll.SNT.StockInst(C490,$S$9))","v":"wait"},{"$f":"IF($C490=0,\"\",_xll.SNT.StockInst($C490,\"安値時刻\"))","v":""},{"$f":"MID(_xll.SNT.StockInst($C490,\"安値時刻\"),12,5)","v":"ockIn"},"","","","",{"$f":"_xlfn.IFS(N490<制限値幅取得!I485,\"S安付近\",N490>制限値幅取得!H485,\"S高付近\",制限値幅取得!H485>N490>制限値幅取得!I485,\"\")","v":{"$error":"#VALUE!"}}]
[482,null,null,null,null,null,null,null,null,null,"","",null,{"$f":"IF(C491=0,\"wait\",_xll.SNT.StockInst(C491,$N$9))","v":"wait"},{"$f":"N491-制限値幅取得!E486","v":{"$error":"#VALUE!"}},{"$f":"IF(C491=0,\"wait\",_xll.SNT.StockInst(C491,$P$9))","v":"wait"},{"$f":"IF(C491=0,\"\",_xll.SNT.StockInst(C491,\"高値時刻\"))","v":""},{"$f":"MID(_xll.SNT.StockInst($C491,\"高値時刻\"),12,5)","v":"ockIn"},{"$f":"IF(C491=0,\"wait\",_xll.SNT.StockInst(C491,$S$9))","v":"wait"},{"$f":"IF($C491=0,\"\",_xll.SNT.StockInst($C491,\"安値時刻\"))","v":""},{"$f":"MID(_xll.SNT.StockInst($C491,\"安値時刻\"),12,5)","v":"ockIn"},"","","","",{"$f":"_xlfn.IFS(N491<制限値幅取得!I486,\"S安付近\",N491>制限値幅取得!H486,\"S高付近\",制限値幅取得!H486>N491>制限値幅取得!I486,\"\")","v":{"$error":"#VALUE!"}}]
[483,null,null,null,null,null,null,null,null,null,"","",null,{"$f":"IF(C492=0,\"wait\",_xll.SNT.StockInst(C492,$N$9))","v":"wait"},{"$f":"N492-制限値幅取得!E487","v":{"$error":"#VALUE!"}},{"$f":"IF(C492=0,\"wait\",_xll.SNT.StockInst(C492,$P$9))","v":"wait"},{"$f":"IF(C492=0,\"\",_xll.SNT.StockInst(C492,\"高値時刻\"))","v":""},{"$f":"MID(_xll.SNT.StockInst($C492,\"高値時刻\"),12,5)","v":"ockIn"},{"$f":"IF(C492=0,\"wait\",_xll.SNT.StockInst(C492,$S$9))","v":"wait"},{"$f":"IF($C492=0,\"\",_xll.SNT.StockInst($C492,\"安値時刻\"))","v":""},{"$f":"MID(_xll.SNT.StockInst($C492,\"安値時刻\"),12,5)","v":"ockIn"},"","","","",{"$f":"_xlfn.IFS(N492<制限値幅取得!I487,\"S安付近\",N492>制限値幅取得!H487,\"S高付近\",制限値幅取得!H487>N492>制限値幅取得!I487,\"\")","v":{"$error":"#VALUE!"}}]
[484,null,null,null,null,null,null,null,null,null,"","",null,{"$f":"IF(C493=0,\"wait\",_xll.SNT.StockInst(C493,$N$9))","v":"wait"},{"$f":"N493-制限値幅取得!E488","v":{"$error":"#VALUE!"}},{"$f":"IF(C493=0,\"wait\",_xll.SNT.StockInst(C493,$P$9))","v":"wait"},{"$f":"IF(C493=0,\"\",_xll.SNT.StockInst(C493,\"高値時刻\"))","v":""},{"$f":"MID(_xll.SNT.StockInst($C493,\"高値時刻\"),12,5)","v":"ockIn"},{"$f":"IF(C493=0,\"wait\",_xll.SNT.StockInst(C493,$S$9))","v":"wait"},{"$f":"IF($C493=0,\"\",_xll.SNT.StockInst($C493,\"安値時刻\"))","v":""},{"$f":"MID(_xll.SNT.StockInst($C493,\"安値時刻\"),12,5)","v":"ockIn"},"","","","",{"$f":"_xlfn.IFS(N493<制限値幅取得!I488,\"S安付近\",N493>制限値幅取得!H488,\"S高付近\",制限値幅取得!H488>N493>制限値幅取得!I488,\"\")","v":{"$error":"#VALUE!"}}]
[485,null,null,null,null,null,null,null,null,null,"","",null,{"$f":"IF(C494=0,\"wait\",_xll.SNT.StockInst(C494,$N$9))","v":"wait"},{"$f":"N494-制限値幅取得!E489","v":{"$error":"#VALUE!"}},{"$f":"IF(C494=0,\"wait\",_xll.SNT.StockInst(C494,$P$9))","v":"wait"},{"$f":"IF(C494=0,\"\",_xll.SNT.StockInst(C494,\"高値時刻\"))","v":""},{"$f":"MID(_xll.SNT.StockInst($C494,\"高値時刻\"),12,5)","v":"ockIn"},{"$f":"IF(C494=0,\"wait\",_xll.SNT.StockInst(C494,$S$9))","v":"wait"},{"$f":"IF($C494=0,\"\",_xll.SNT.StockInst($C494,\"安値時刻\"))","v":""},{"$f":"MID(_xll.SNT.StockInst($C494,\"安値時刻\"),12,5)","v":"ockIn"},"","","","",{"$f":"_xlfn.IFS(N494<制限値幅取得!I489,\"S安付近\",N494>制限値幅取得!H489,\"S高付近\",制限値幅取得!H489>N494>制限値幅取得!I489,\"\")","v":{"$error":"#VALUE!"}}]
[486,null,null,null,null,null,null,null,null,null,"","",null,{"$f":"IF(C495=0,\"wait\",_xll.SNT.StockInst(C495,$N$9))","v":"wait"},{"$f":"N495-制限値幅取得!E490","v":{"$error":"#VALUE!"}},{"$f":"IF(C495=0,\"wait\",_xll.SNT.StockInst(C495,$P$9))","v":"wait"},{"$f":"IF(C495=0,\"\",_xll.SNT.StockInst(C495,\"高値時刻\"))","v":""},{"$f":"MID(_xll.SNT.StockInst($C495,\"高値時刻\"),12,5)","v":"ockIn"},{"$f":"IF(C495=0,\"wait\",_xll.SNT.StockInst(C495,$S$9))","v":"wait"},{"$f":"IF($C495=0,\"\",_xll.SNT.StockInst($C495,\"安値時刻\"))","v":""},{"$f":"MID(_xll.SNT.StockInst($C495,\"安値時刻\"),12,5)","v":"ockIn"},"","","","",{"$f":"_xlfn.IFS(N495<制限値幅取得!I490,\"S安付近\",N495>制限値幅取得!H490,\"S高付近\",制限値幅取得!H490>N495>制限値幅取得!I490,\"\")","v":{"$error":"#VALUE!"}}]
[487,null,null,null,null,null,null,null,null,null,"","",null,{"$f":"IF(C496=0,\"wait\",_xll.SNT.StockInst(C496,$N$9))","v":"wait"},{"$f":"N496-制限値幅取得!E491","v":{"$error":"#VALUE!"}},{"$f":"IF(C496=0,\"wait\",_xll.SNT.StockInst(C496,$P$9))","v":"wait"},{"$f":"IF(C496=0,\"\",_xll.SNT.StockInst(C496,\"高値時刻\"))","v":""},{"$f":"MID(_xll.SNT.StockInst($C496,\"高値時刻\"),12,5)","v":"ockIn"},{"$f":"IF(C496=0,\"wait\",_xll.SNT.StockInst(C496,$S$9))","v":"wait"},{"$f":"IF($C496=0,\"\",_xll.SNT.StockInst($C496,\"安値時刻\"))","v":""},{"$f":"MID(_xll.SNT.StockInst($C496,\"安値時刻\"),12,5)","v":"ockIn"},"","","","",{"$f":"_xlfn.IFS(N496<制限値幅取得!I491,\"S安付近\",N496>制限値幅取得!H491,\"S高付近\",制限値幅取得!H491>N496>制限値幅取得!I491,\"\")","v":{"$error":"#VALUE!"}}]
[488,null,null,null,null,null,null,null,null,null,"","",null,{"$f":"IF(C497=0,\"wait\",_xll.SNT.StockInst(C497,$N$9))","v":"wait"},{"$f":"N497-制限値幅取得!E492","v":{"$error":"#VALUE!"}},{"$f":"IF(C497=0,\"wait\",_xll.SNT.StockInst(C497,$P$9))","v":"wait"},{"$f":"IF(C497=0,\"\",_xll.SNT.StockInst(C497,\"高値時刻\"))","v":""},{"$f":"MID(_xll.SNT.StockInst($C497,\"高値時刻\"),12,5)","v":"ockIn"},{"$f":"IF(C497=0,\"wait\",_xll.SNT.StockInst(C497,$S$9))","v":"wait"},{"$f":"IF($C497=0,\"\",_xll.SNT.StockInst($C497,\"安値時刻\"))","v":""},{"$f":"MID(_xll.SNT.StockInst($C497,\"安値時刻\"),12,5)","v":"ockIn"},"","","","",{"$f":"_xlfn.IFS(N497<制限値幅取得!I492,\"S安付近\",N497>制限値幅取得!H492,\"S高付近\",制限値幅取得!H492>N497>制限値幅取得!I492,\"\")","v":{"$error":"#VALUE!"}}]
[489,null,null,null,null,null,null,null,null,null,"","",null,{"$f":"IF(C498=0,\"wait\",_xll.SNT.StockInst(C498,$N$9))","v":"wait"},{"$f":"N498-制限値幅取得!E493","v":{"$error":"#VALUE!"}},{"$f":"IF(C498=0,\"wait\",_xll.SNT.StockInst(C498,$P$9))","v":"wait"},{"$f":"IF(C498=0,\"\",_xll.SNT.StockInst(C498,\"高値時刻\"))","v":""},{"$f":"MID(_xll.SNT.StockInst($C498,\"高値時刻\"),12,5)","v":"ockIn"},{"$f":"IF(C498=0,\"wait\",_xll.SNT.StockInst(C498,$S$9))","v":"wait"},{"$f":"IF($C498=0,\"\",_xll.SNT.StockInst($C498,\"安値時刻\"))","v":""},{"$f":"MID(_xll.SNT.StockInst($C498,\"安値時刻\"),12,5)","v":"ockIn"},"","","","",{"$f":"_xlfn.IFS(N498<制限値幅取得!I493,\"S安付近\",N498>制限値幅取得!H493,\"S高付近\",制限値幅取得!H493>N498>制限値幅取得!I493,\"\")","v":{"$error":"#VALUE!"}}]
[490,null,null,null,null,null,null,null,null,null,"","",null,{"$f":"IF(C499=0,\"wait\",_xll.SNT.StockInst(C499,$N$9))","v":"wait"},{"$f":"N499-制限値幅取得!E494","v":{"$error":"#VALUE!"}},{"$f":"IF(C499=0,\"wait\",_xll.SNT.StockInst(C499,$P$9))","v":"wait"},{"$f":"IF(C499=0,\"\",_xll.SNT.StockInst(C499,\"高値時刻\"))","v":""},{"$f":"MID(_xll.SNT.StockInst($C499,\"高値時刻\"),12,5)","v":"ockIn"},{"$f":"IF(C499=0,\"wait\",_xll.SNT.StockInst(C499,$S$9))","v":"wait"},{"$f":"IF($C499=0,\"\",_xll.SNT.StockInst($C499,\"安値時刻\"))","v":""},{"$f":"MID(_xll.SNT.StockInst($C499,\"安値時刻\"),12,5)","v":"ockIn"},"","","","",{"$f":"_xlfn.IFS(N499<制限値幅取得!I494,\"S安付近\",N499>制限値幅取得!H494,\"S高付近\",制限値幅取得!H494>N499>制限値幅取得!I494,\"\")","v":{"$error":"#VALUE!"}}]
[491,null,null,null,null,null,null,null,null,null,"","",null,{"$f":"IF(C500=0,\"wait\",_xll.SNT.StockInst(C500,$N$9))","v":"wait"},{"$f":"N500-制限値幅取得!E495","v":{"$error":"#VALUE!"}},{"$f":"IF(C500=0,\"wait\",_xll.SNT.StockInst(C500,$P$9))","v":"wait"},{"$f":"IF(C500=0,\"\",_xll.SNT.StockInst(C500,\"高値時刻\"))","v":""},{"$f":"MID(_xll.SNT.StockInst($C500,\"高値時刻\"),12,5)","v":"ockIn"},{"$f":"IF(C500=0,\"wait\",_xll.SNT.StockInst(C500,$S$9))","v":"wait"},{"$f":"IF($C500=0,\"\",_xll.SNT.StockInst($C500,\"安値時刻\"))","v":""},{"$f":"MID(_xll.SNT.StockInst($C500,\"安値時刻\"),12,5)","v":"ockIn"},"","","","",{"$f":"_xlfn.IFS(N500<制限値幅取得!I495,\"S安付近\",N500>制限値幅取得!H495,\"S高付近\",制限値幅取得!H495>N500>制限値幅取得!I495,\"\")","v":{"$error":"#VALUE!"}}]
[492,null,null,null,null,null,null,null,null,null,"","",null,{"$f":"IF(C501=0,\"wait\",_xll.SNT.StockInst(C501,$N$9))","v":"wait"},{"$f":"N501-制限値幅取得!E496","v":{"$error":"#VALUE!"}},{"$f":"IF(C501=0,\"wait\",_xll.SNT.StockInst(C501,$P$9))","v":"wait"},{"$f":"IF(C501=0,\"\",_xll.SNT.StockInst(C501,\"高値時刻\"))","v":""},{"$f":"MID(_xll.SNT.StockInst($C501,\"高値時刻\"),12,5)","v":"ockIn"},{"$f":"IF(C501=0,\"wait\",_xll.SNT.StockInst(C501,$S$9))","v":"wait"},{"$f":"IF($C501=0,\"\",_xll.SNT.StockInst($C501,\"安値時刻\"))","v":""},{"$f":"MID(_xll.SNT.StockInst($C501,\"安値時刻\"),12,5)","v":"ockIn"},"","","","",{"$f":"_xlfn.IFS(N501<制限値幅取得!I496,\"S安付近\",N501>制限値幅取得!H496,\"S高付近\",制限値幅取得!H496>N501>制限値幅取得!I496,\"\")","v":{"$error":"#VALUE!"}}]
[493,null,null,null,null,null,null,null,null,null,"","",null,{"$f":"IF(C502=0,\"wait\",_xll.SNT.StockInst(C502,$N$9))","v":"wait"},{"$f":"N502-制限値幅取得!E497","v":{"$error":"#VALUE!"}},{"$f":"IF(C502=0,\"wait\",_xll.SNT.StockInst(C502,$P$9))","v":"wait"},{"$f":"IF(C502=0,\"\",_xll.SNT.StockInst(C502,\"高値時刻\"))","v":""},{"$f":"MID(_xll.SNT.StockInst($C502,\"高値時刻\"),12,5)","v":"ockIn"},{"$f":"IF(C502=0,\"wait\",_xll.SNT.StockInst(C502,$S$9))","v":"wait"},{"$f":"IF($C502=0,\"\",_xll.SNT.StockInst($C502,\"安値時刻\"))","v":""},{"$f":"MID(_xll.SNT.StockInst($C502,\"安値時刻\"),12,5)","v":"ockIn"},"","","","",{"$f":"_xlfn.IFS(N502<制限値幅取得!I497,\"S安付近\",N502>制限値幅取得!H497,\"S高付近\",制限値幅取得!H497>N502>制限値幅取得!I497,\"\")","v":{"$error":"#VALUE!"}}]
[494,null,null,null,null,null,null,null,null,null,"","",null,{"$f":"IF(C503=0,\"wait\",_xll.SNT.StockInst(C503,$N$9))","v":"wait"},{"$f":"N503-制限値幅取得!E498","v":{"$error":"#VALUE!"}},{"$f":"IF(C503=0,\"wait\",_xll.SNT.StockInst(C503,$P$9))","v":"wait"},{"$f":"IF(C503=0,\"\",_xll.SNT.StockInst(C503,\"高値時刻\"))","v":""},{"$f":"MID(_xll.SNT.StockInst($C503,\"高値時刻\"),12,5)","v":"ockIn"},{"$f":"IF(C503=0,\"wait\",_xll.SNT.StockInst(C503,$S$9))","v":"wait"},{"$f":"IF($C503=0,\"\",_xll.SNT.StockInst($C503,\"安値時刻\"))","v":""},{"$f":"MID(_xll.SNT.StockInst($C503,\"安値時刻\"),12,5)","v":"ockIn"},"","","","",{"$f":"_xlfn.IFS(N503<制限値幅取得!I498,\"S安付近\",N503>制限値幅取得!H498,\"S高付近\",制限値幅取得!H498>N503>制限値幅取得!I498,\"\")","v":{"$error":"#VALUE!"}}]
[495,null,null,null,null,null,null,null,null,null,"","",null,{"$f":"IF(C504=0,\"wait\",_xll.SNT.StockInst(C504,$N$9))","v":"wait"},{"$f":"N504-制限値幅取得!E499","v":{"$error":"#VALUE!"}},{"$f":"IF(C504=0,\"wait\",_xll.SNT.StockInst(C504,$P$9))","v":"wait"},{"$f":"IF(C504=0,\"\",_xll.SNT.StockInst(C504,\"高値時刻\"))","v":""},{"$f":"MID(_xll.SNT.StockInst($C504,\"高値時刻\"),12,5)","v":"ockIn"},{"$f":"IF(C504=0,\"wait\",_xll.SNT.StockInst(C504,$S$9))","v":"wait"},{"$f":"IF($C504=0,\"\",_xll.SNT.StockInst($C504,\"安値時刻\"))","v":""},{"$f":"MID(_xll.SNT.StockInst($C504,\"安値時刻\"),12,5)","v":"ockIn"},"","","","",{"$f":"_xlfn.IFS(N504<制限値幅取得!I499,\"S安付近\",N504>制限値幅取得!H499,\"S高付近\",制限値幅取得!H499>N504>制限値幅取得!I499,\"\")","v":{"$error":"#VALUE!"}}]
[496,null,null,null,null,null,null,null,null,null,"","",null,{"$f":"IF(C505=0,\"wait\",_xll.SNT.StockInst(C505,$N$9))","v":"wait"},{"$f":"N505-制限値幅取得!E500","v":{"$error":"#VALUE!"}},{"$f":"IF(C505=0,\"wait\",_xll.SNT.StockInst(C505,$P$9))","v":"wait"},{"$f":"IF(C505=0,\"\",_xll.SNT.StockInst(C505,\"高値時刻\"))","v":""},{"$f":"MID(_xll.SNT.StockInst($C505,\"高値時刻\"),12,5)","v":"ockIn"},{"$f":"IF(C505=0,\"wait\",_xll.SNT.StockInst(C505,$S$9))","v":"wait"},{"$f":"IF($C505=0,\"\",_xll.SNT.StockInst($C505,\"安値時刻\"))","v":""},{"$f":"MID(_xll.SNT.StockInst($C505,\"安値時刻\"),12,5)","v":"ockIn"},"","","","",{"$f":"_xlfn.IFS(N505<制限値幅取得!I500,\"S安付近\",N505>制限値幅取得!H500,\"S高付近\",制限値幅取得!H500>N505>制限値幅取得!I500,\"\")","v":{"$error":"#VALUE!"}}]
[497,null,null,null,null,null,null,null,null,null,"","",null,{"$f":"IF(C506=0,\"wait\",_xll.SNT.StockInst(C506,$N$9))","v":"wait"},{"$f":"N506-制限値幅取得!E501","v":{"$error":"#VALUE!"}},{"$f":"IF(C506=0,\"wait\",_xll.SNT.StockInst(C506,$P$9))","v":"wait"},{"$f":"IF(C506=0,\"\",_xll.SNT.StockInst(C506,\"高値時刻\"))","v":""},{"$f":"MID(_xll.SNT.StockInst($C506,\"高値時刻\"),12,5)","v":"ockIn"},{"$f":"IF(C506=0,\"wait\",_xll.SNT.StockInst(C506,$S$9))","v":"wait"},{"$f":"IF($C506=0,\"\",_xll.SNT.StockInst($C506,\"安値時刻\"))","v":""},{"$f":"MID(_xll.SNT.StockInst($C506,\"安値時刻\"),12,5)","v":"ockIn"},"","","","",{"$f":"_xlfn.IFS(N506<制限値幅取得!I501,\"S安付近\",N506>制限値幅取得!H501,\"S高付近\",制限値幅取得!H501>N506>制限値幅取得!I501,\"\")","v":{"$error":"#VALUE!"}}]
[498,null,null,null,null,null,null,null,null,null,"","",null,{"$f":"IF(C507=0,\"wait\",_xll.SNT.StockInst(C507,$N$9))","v":"wait"},{"$f":"N507-制限値幅取得!E502","v":{"$error":"#VALUE!"}},{"$f":"IF(C507=0,\"wait\",_xll.SNT.StockInst(C507,$P$9))","v":"wait"},{"$f":"IF(C507=0,\"\",_xll.SNT.StockInst(C507,\"高値時刻\"))","v":""},{"$f":"MID(_xll.SNT.StockInst($C507,\"高値時刻\"),12,5)","v":"ockIn"},{"$f":"IF(C507=0,\"wait\",_xll.SNT.StockInst(C507,$S$9))","v":"wait"},{"$f":"IF($C507=0,\"\",_xll.SNT.StockInst($C507,\"安値時刻\"))","v":""},{"$f":"MID(_xll.SNT.StockInst($C507,\"安値時刻\"),12,5)","v":"ockIn"},"","","","",{"$f":"_xlfn.IFS(N507<制限値幅取得!I502,\"S安付近\",N507>制限値幅取得!H502,\"S高付近\",制限値幅取得!H502>N507>制限値幅取得!I502,\"\")","v":{"$error":"#VALUE!"}}]
[499,null,null,null,null,null,null,null,null,null,"","",null,{"$f":"IF(C508=0,\"wait\",_xll.SNT.StockInst(C508,$N$9))","v":"wait"},{"$f":"N508-制限値幅取得!E503","v":{"$error":"#VALUE!"}},{"$f":"IF(C508=0,\"wait\",_xll.SNT.StockInst(C508,$P$9))","v":"wait"},{"$f":"IF(C508=0,\"\",_xll.SNT.StockInst(C508,\"高値時刻\"))","v":""},{"$f":"MID(_xll.SNT.StockInst($C508,\"高値時刻\"),12,5)","v":"ockIn"},{"$f":"IF(C508=0,\"wait\",_xll.SNT.StockInst(C508,$S$9))","v":"wait"},{"$f":"IF($C508=0,\"\",_xll.SNT.StockInst($C508,\"安値時刻\"))","v":""},{"$f":"MID(_xll.SNT.StockInst($C508,\"安値時刻\"),12,5)","v":"ockIn"},"","","",{"$f":"IF(K508<0,-(H508*I508*$X$4),\"\")","v":""},{"$f":"_xlfn.IFS(N508<制限値幅取得!I503,\"S安付近\",N508>制限値幅取得!H503,\"S高付近\",制限値幅取得!H503>N508>制限値幅取得!I503,\"\")","v":{"$error":"#VALUE!"}}]
[500,null,null,null,null,null,null,null,null,null,{"$f":"IFERROR(IF(F509=\"買建\",(N509-I509)*H509,(I509-N509)*H509),\"\")","v":""},{"$f":"IFERROR(K509/(I509*H509),\"\")","v":""},null,{"$f":"IF(C509=0,\"wait\",_xll.SNT.StockInst(C509,$N$9))","v":"wait"},{"$f":"N509-制限値幅取得!E504","v":{"$error":"#VALUE!"}},{"$f":"IF(C509=0,\"wait\",_xll.SNT.StockInst(C509,$P$9))","v":"wait"},{"$f":"IF(C509=0,\"\",_xll.SNT.StockInst(C509,\"高値時刻\"))","v":""},{"$f":"MID(_xll.SNT.StockInst($C509,\"高値時刻\"),12,5)","v":"ockIn"},{"$f":"IF(C509=0,\"wait\",_xll.SNT.StockInst(C509,$S$9))","v":"wait"},{"$f":"IF($C509=0,\"\",_xll.SNT.StockInst($C509,\"安値時刻\"))","v":""},{"$f":"MID(_xll.SNT.StockInst($C509,\"安値時刻\"),12,5)","v":"ockIn"},{"$f":"IFERROR(IF($Y$2-$Q509<=TIME(0,$X$3,0),\"高値更新\",IF($Y$2-$T509<=TIME(0,$X$3,0),\"安値更新\",\"\")),\"\")","v":""},"",{"$f":"IFERROR(MROUND(IF(F509=\"買建\",((I509*H509)+Y509)/H509,((I509*H509)-Y509)/H509),$X$5),\"\")","v":""},"",{"$f":"_xlfn.IFS(N509<制限値幅取得!I504,\"S安付近\",N509>制限値幅取得!H504,\"S高付近\",制限値幅取得!H504>N509>制限値幅取得!I504,\"\")","v":{"$error":"#VALUE!"}}]

{"sheet":"制限値幅取得","index":2,"n_rows":504,"n_cols":9,"rows_kept":504,"cut":false,"hidden":false,"merged":[]}
[]
["制限値幅情報"]
[null,null,null,null,null,1,1]
[null,"＃","銘柄コード","銘柄名称","前日終値","値幅上限値","値幅下限値","S高フラグ値","S安フラグ価格"]
[null,1,{"$f":"建玉一覧取得!C10","v":0},{"$f":"建玉一覧取得!D10","v":0},{"$f":"IFERROR(_xll.SNT.StockInst(C5,$E$4),\"wait\")","v":"=IFERROR(SNT.StockInst(C5,$E$4),\"wait\") => 銘柄コードが不正です"},{"$f":"IF($F$3=1,_xll.SNT.StockInstDetail(C5,$F$4),\"\")","v":"=IF($F$3=1,SNT.StockInstDetail(C5,$F$4),\"\") => 銘柄コードが不正です"},{"$f":"IF($G$3=1,_xll.SNT.StockInstDetail(C5,$G$4),\"\")","v":"=IF($G$3=1,SNT.StockInstDetail(C5,$G$4),\"\") => 銘柄コードが不正です"},{"$f":"ROUND(IFERROR(SUM((制限値幅取得!F5-制限値幅取得!E5)*建玉一覧取得!$X$6+制限値幅取得!E5),\"\"),)","v":{"$error":"#VALUE!"}},{"$f":"ROUND(IFERROR(SUM((制限値幅取得!G5-制限値幅取得!E5)*建玉一覧取得!$X$6+制限値幅取得!E5),\"\"),)","v":{"$error":"#VALUE!"}}]
[null,2,{"$f":"建玉一覧取得!C11","v":0},{"$f":"建玉一覧取得!D11","v":0},{"$f":"IFERROR(_xll.SNT.StockInst(C6,$E$4),\"wait\")","v":"=IFERROR(SNT.StockInst(C6,$E$4),\"wait\") => 銘柄コードが不正です"},{"$f":"IF($F$3=1,_xll.SNT.StockInstDetail(C6,$F$4),\"\")","v":"=IF($F$3=1,SNT.StockInstDetail(C6,$F$4),\"\") => 銘柄コードが不正です"},{"$f":"IF($G$3=1,_xll.SNT.StockInstDetail(C6,$G$4),\"\")","v":"=IF($G$3=1,SNT.StockInstDetail(C6,$G$4),\"\") => 銘柄コードが不正です"},{"$f":"ROUND(IFERROR(SUM((制限値幅取得!F6-制限値幅取得!E6)*建玉一覧取得!$X$6+制限値幅取得!E6),\"\"),)","v":{"$error":"#VALUE!"}},{"$f":"ROUND(IFERROR(SUM((制限値幅取得!G6-制限値幅取得!E6)*建玉一覧取得!$X$6+制限値幅取得!E6),\"\"),)","v":{"$error":"#VALUE!"}}]
[null,3,{"$f":"建玉一覧取得!C12","v":0},{"$f":"建玉一覧取得!D12","v":0},{"$f":"IFERROR(_xll.SNT.StockInst(C7,$E$4),\"wait\")","v":"=IFERROR(SNT.StockInst(C7,$E$4),\"wait\") => 銘柄コードが不正です"},{"$f":"IF($F$3=1,_xll.SNT.StockInstDetail(C7,$F$4),\"\")","v":"=IF($F$3=1,SNT.StockInstDetail(C7,$F$4),\"\") => 銘柄コードが不正です"},{"$f":"IF($G$3=1,_xll.SNT.StockInstDetail(C7,$G$4),\"\")","v":"=IF($G$3=1,SNT.StockInstDetail(C7,$G$4),\"\") => 銘柄コードが不正です"},{"$f":"ROUND(IFERROR(SUM((制限値幅取得!F7-制限値幅取得!E7)*建玉一覧取得!$X$6+制限値幅取得!E7),\"\"),)","v":{"$error":"#VALUE!"}},{"$f":"ROUND(IFERROR(SUM((制限値幅取得!G7-制限値幅取得!E7)*建玉一覧取得!$X$6+制限値幅取得!E7),\"\"),)","v":{"$error":"#VALUE!"}}]
[null,4,{"$f":"建玉一覧取得!C13","v":0},{"$f":"建玉一覧取得!D13","v":0},{"$f":"IFERROR(_xll.SNT.StockInst(C8,$E$4),\"wait\")","v":"=IFERROR(SNT.StockInst(C8,$E$4),\"wait\") => 銘柄コードが不正です"},{"$f":"IF($F$3=1,_xll.SNT.StockInstDetail(C8,$F$4),\"\")","v":"=IF($F$3=1,SNT.StockInstDetail(C8,$F$4),\"\") => 銘柄コードが不正です"},{"$f":"IF($G$3=1,_xll.SNT.StockInstDetail(C8,$G$4),\"\")","v":"=IF($G$3=1,SNT.StockInstDetail(C8,$G$4),\"\") => 銘柄コードが不正です"},{"$f":"ROUND(IFERROR(SUM((制限値幅取得!F8-制限値幅取得!E8)*建玉一覧取得!$X$6+制限値幅取得!E8),\"\"),)","v":{"$error":"#VALUE!"}},{"$f":"ROUND(IFERROR(SUM((制限値幅取得!G8-制限値幅取得!E8)*建玉一覧取得!$X$6+制限値幅取得!E8),\"\"),)","v":{"$error":"#VALUE!"}}]
[null,5,{"$f":"建玉一覧取得!C14","v":0},{"$f":"建玉一覧取得!D14","v":0},{"$f":"IFERROR(_xll.SNT.StockInst(C9,$E$4),\"wait\")","v":"=IFERROR(SNT.StockInst(C9,$E$4),\"wait\") => 銘柄コードが不正です"},{"$f":"IF($F$3=1,_xll.SNT.StockInstDetail(C9,$F$4),\"\")","v":"=IF($F$3=1,SNT.StockInstDetail(C9,$F$4),\"\") => 銘柄コードが不正です"},{"$f":"IF($G$3=1,_xll.SNT.StockInstDetail(C9,$G$4),\"\")","v":"=IF($G$3=1,SNT.StockInstDetail(C9,$G$4),\"\") => 銘柄コードが不正です"},{"$f":"ROUND(IFERROR(SUM((制限値幅取得!F9-制限値幅取得!E9)*建玉一覧取得!$X$6+制限値幅取得!E9),\"\"),)","v":{"$error":"#VALUE!"}},{"$f":"ROUND(IFERROR(SUM((制限値幅取得!G9-制限値幅取得!E9)*建玉一覧取得!$X$6+制限値幅取得!E9),\"\"),)","v":{"$error":"#VALUE!"}}]
[null,6,{"$f":"建玉一覧取得!C15","v":0},{"$f":"建玉一覧取得!D15","v":0},{"$f":"IFERROR(_xll.SNT.StockInst(C10,$E$4),\"wait\")","v":"=IFERROR(SNT.StockInst(C10,$E$4),\"wait\") => 銘柄コードが不正です"},{"$f":"IF($F$3=1,_xll.SNT.StockInstDetail(C10,$F$4),\"\")","v":"=IF($F$3=1,SNT.StockInstDetail(C10,$F$4),\"\") => 銘柄コードが不正です"},{"$f":"IF($G$3=1,_xll.SNT.StockInstDetail(C10,$G$4),\"\")","v":"=IF($G$3=1,SNT.StockInstDetail(C10,$G$4),\"\") => 銘柄コードが不正です"},{"$f":"ROUND(IFERROR(SUM((制限値幅取得!F10-制限値幅取得!E10)*建玉一覧取得!$X$6+制限値幅取得!E10),\"\"),)","v":{"$error":"#VALUE!"}},{"$f":"ROUND(IFERROR(SUM((制限値幅取得!G10-制限値幅取得!E10)*建玉一覧取得!$X$6+制限値幅取得!E10),\"\"),)","v":{"$error":"#VALUE!"}}]
[null,7,{"$f":"建玉一覧取得!C16","v":0},{"$f":"建玉一覧取得!D16","v":0},{"$f":"IFERROR(_xll.SNT.StockInst(C11,$E$4),\"wait\")","v":"=IFERROR(SNT.StockInst(C11,$E$4),\"wait\") => 銘柄コードが不正です"},{"$f":"IF($F$3=1,_xll.SNT.StockInstDetail(C11,$F$4),\"\")","v":"=IF($F$3=1,SNT.StockInstDetail(C11,$F$4),\"\") => 銘柄コードが不正です"},{"$f":"IF($G$3=1,_xll.SNT.StockInstDetail(C11,$G$4),\"\")","v":"=IF($G$3=1,SNT.StockInstDetail(C11,$G$4),\"\") => 銘柄コードが不正です"},{"$f":"ROUND(IFERROR(SUM((制限値幅取得!F11-制限値幅取得!E11)*建玉一覧取得!$X$6+制限値幅取得!E11),\"\"),)","v":{"$error":"#VALUE!"}},{"$f":"ROUND(IFERROR(SUM((制限値幅取得!G11-制限値幅取得!E11)*建玉一覧取得!$X$6+制限値幅取得!E11),\"\"),)","v":{"$error":"#VALUE!"}}]
[null,8,{"$f":"建玉一覧取得!C17","v":0},{"$f":"建玉一覧取得!D17","v":0},{"$f":"IFERROR(_xll.SNT.StockInst(C12,$E$4),\"wait\")","v":"=IFERROR(SNT.StockInst(C12,$E$4),\"wait\") => 銘柄コードが不正です"},{"$f":"IF($F$3=1,_xll.SNT.StockInstDetail(C12,$F$4),\"\")","v":"=IF($F$3=1,SNT.StockInstDetail(C12,$F$4),\"\") => 銘柄コードが不正です"},{"$f":"IF($G$3=1,_xll.SNT.StockInstDetail(C12,$G$4),\"\")","v":"=IF($G$3=1,SNT.StockInstDetail(C12,$G$4),\"\") => 銘柄コードが不正です"},{"$f":"ROUND(IFERROR(SUM((制限値幅取得!F12-制限値幅取得!E12)*建玉一覧取得!$X$6+制限値幅取得!E12),\"\"),)","v":{"$error":"#VALUE!"}},{"$f":"ROUND(IFERROR(SUM((制限値幅取得!G12-制限値幅取得!E12)*建玉一覧取得!$X$6+制限値幅取得!E12),\"\"),)","v":{"$error":"#VALUE!"}}]
[null,9,{"$f":"建玉一覧取得!C18","v":0},{"$f":"建玉一覧取得!D18","v":0},{"$f":"IFERROR(_xll.SNT.StockInst(C13,$E$4),\"wait\")","v":"=IFERROR(SNT.StockInst(C13,$E$4),\"wait\") => 銘柄コードが不正です"},{"$f":"IF($F$3=1,_xll.SNT.StockInstDetail(C13,$F$4),\"\")","v":"=IF($F$3=1,SNT.StockInstDetail(C13,$F$4),\"\") => 銘柄コードが不正です"},{"$f":"IF($G$3=1,_xll.SNT.StockInstDetail(C13,$G$4),\"\")","v":"=IF($G$3=1,SNT.StockInstDetail(C13,$G$4),\"\") => 銘柄コードが不正です"},{"$f":"ROUND(IFERROR(SUM((制限値幅取得!F13-制限値幅取得!E13)*建玉一覧取得!$X$6+制限値幅取得!E13),\"\"),)","v":{"$error":"#VALUE!"}},{"$f":"ROUND(IFERROR(SUM((制限値幅取得!G13-制限値幅取得!E13)*建玉一覧取得!$X$6+制限値幅取得!E13),\"\"),)","v":{"$error":"#VALUE!"}}]
[null,10,{"$f":"建玉一覧取得!C19","v":0},{"$f":"建玉一覧取得!D19","v":0},{"$f":"IFERROR(_xll.SNT.StockInst(C14,$E$4),\"wait\")","v":"=IFERROR(SNT.StockInst(C14,$E$4),\"wait\") => 銘柄コードが不正です"},{"$f":"IF($F$3=1,_xll.SNT.StockInstDetail(C14,$F$4),\"\")","v":"=IF($F$3=1,SNT.StockInstDetail(C14,$F$4),\"\") => 銘柄コードが不正です"},{"$f":"IF($G$3=1,_xll.SNT.StockInstDetail(C14,$G$4),\"\")","v":"=IF($G$3=1,SNT.StockInstDetail(C14,$G$4),\"\") => 銘柄コードが不正です"},{"$f":"ROUND(IFERROR(SUM((制限値幅取得!F14-制限値幅取得!E14)*建玉一覧取得!$X$6+制限値幅取得!E14),\"\"),)","v":{"$error":"#VALUE!"}},{"$f":"ROUND(IFERROR(SUM((制限値幅取得!G14-制限値幅取得!E14)*建玉一覧取得!$X$6+制限値幅取得!E14),\"\"),)","v":{"$error":"#VALUE!"}}]
[null,11,{"$f":"建玉一覧取得!C20","v":0},{"$f":"建玉一覧取得!D20","v":0},{"$f":"IFERROR(_xll.SNT.StockInst(C15,$E$4),\"wait\")","v":"=IFERROR(SNT.StockInst(C15,$E$4),\"wait\") => 銘柄コードが不正です"},{"$f":"IF($F$3=1,_xll.SNT.StockInstDetail(C15,$F$4),\"\")","v":"=IF($F$3=1,SNT.StockInstDetail(C15,$F$4),\"\") => 銘柄コードが不正です"},{"$f":"IF($G$3=1,_xll.SNT.StockInstDetail(C15,$G$4),\"\")","v":"=IF($G$3=1,SNT.StockInstDetail(C15,$G$4),\"\") => 銘柄コードが不正です"},{"$f":"ROUND(IFERROR(SUM((制限値幅取得!F15-制限値幅取得!E15)*建玉一覧取得!$X$6+制限値幅取得!E15),\"\"),)","v":{"$error":"#VALUE!"}},{"$f":"ROUND(IFERROR(SUM((制限値幅取得!G15-制限値幅取得!E15)*建玉一覧取得!$X$6+制限値幅取得!E15),\"\"),)","v":{"$error":"#VALUE!"}}]
[null,12,{"$f":"建玉一覧取得!C21","v":0},{"$f":"建玉一覧取得!D21","v":0},{"$f":"IFERROR(_xll.SNT.StockInst(C16,$E$4),\"wait\")","v":"=IFERROR(SNT.StockInst(C16,$E$4),\"wait\") => 銘柄コードが不正です"},{"$f":"IF($F$3=1,_xll.SNT.StockInstDetail(C16,$F$4),\"\")","v":"=IF($F$3=1,SNT.StockInstDetail(C16,$F$4),\"\") => 銘柄コードが不正です"},{"$f":"IF($G$3=1,_xll.SNT.StockInstDetail(C16,$G$4),\"\")","v":"=IF($G$3=1,SNT.StockInstDetail(C16,$G$4),\"\") => 銘柄コードが不正です"},{"$f":"ROUND(IFERROR(SUM((制限値幅取得!F16-制限値幅取得!E16)*建玉一覧取得!$X$6+制限値幅取得!E16),\"\"),)","v":{"$error":"#VALUE!"}},{"$f":"ROUND(IFERROR(SUM((制限値幅取得!G16-制限値幅取得!E16)*建玉一覧取得!$X$6+制限値幅取得!E16),\"\"),)","v":{"$error":"#VALUE!"}}]
[null,13,{"$f":"建玉一覧取得!C22","v":0},{"$f":"建玉一覧取得!D22","v":0},{"$f":"IFERROR(_xll.SNT.StockInst(C17,$E$4),\"wait\")","v":"=IFERROR(SNT.StockInst(C17,$E$4),\"wait\") => 銘柄コードが不正です"},{"$f":"IF($F$3=1,_xll.SNT.StockInstDetail(C17,$F$4),\"\")","v":"=IF($F$3=1,SNT.StockInstDetail(C17,$F$4),\"\") => 銘柄コードが不正です"},{"$f":"IF($G$3=1,_xll.SNT.StockInstDetail(C17,$G$4),\"\")","v":"=IF($G$3=1,SNT.StockInstDetail(C17,$G$4),\"\") => 銘柄コードが不正です"},{"$f":"ROUND(IFERROR(SUM((制限値幅取得!F17-制限値幅取得!E17)*建玉一覧取得!$X$6+制限値幅取得!E17),\"\"),)","v":{"$error":"#VALUE!"}},{"$f":"ROUND(IFERROR(SUM((制限値幅取得!G17-制限値幅取得!E17)*建玉一覧取得!$X$6+制限値幅取得!E17),\"\"),)","v":{"$error":"#VALUE!"}}]
[null,14,{"$f":"建玉一覧取得!C23","v":0},{"$f":"建玉一覧取得!D23","v":0},{"$f":"IFERROR(_xll.SNT.StockInst(C18,$E$4),\"wait\")","v":"=IFERROR(SNT.StockInst(C18,$E$4),\"wait\") => 銘柄コードが不正です"},{"$f":"IF($F$3=1,_xll.SNT.StockInstDetail(C18,$F$4),\"\")","v":"=IF($F$3=1,SNT.StockInstDetail(C18,$F$4),\"\") => 銘柄コードが不正です"},{"$f":"IF($G$3=1,_xll.SNT.StockInstDetail(C18,$G$4),\"\")","v":"=IF($G$3=1,SNT.StockInstDetail(C18,$G$4),\"\") => 銘柄コードが不正です"},{"$f":"ROUND(IFERROR(SUM((制限値幅取得!F18-制限値幅取得!E18)*建玉一覧取得!$X$6+制限値幅取得!E18),\"\"),)","v":{"$error":"#VALUE!"}},{"$f":"ROUND(IFERROR(SUM((制限値幅取得!G18-制限値幅取得!E18)*建玉一覧取得!$X$6+制限値幅取得!E18),\"\"),)","v":{"$error":"#VALUE!"}}]
[null,15,{"$f":"建玉一覧取得!C24","v":0},{"$f":"建玉一覧取得!D24","v":0},{"$f":"IFERROR(_xll.SNT.StockInst(C19,$E$4),\"wait\")","v":"=IFERROR(SNT.StockInst(C19,$E$4),\"wait\") => 銘柄コードが不正です"},{"$f":"IF($F$3=1,_xll.SNT.StockInstDetail(C19,$F$4),\"\")","v":"=IF($F$3=1,SNT.StockInstDetail(C19,$F$4),\"\") => 銘柄コードが不正です"},{"$f":"IF($G$3=1,_xll.SNT.StockInstDetail(C19,$G$4),\"\")","v":"=IF($G$3=1,SNT.StockInstDetail(C19,$G$4),\"\") => 銘柄コードが不正です"},{"$f":"ROUND(IFERROR(SUM((制限値幅取得!F19-制限値幅取得!E19)*建玉一覧取得!$X$6+制限値幅取得!E19),\"\"),)","v":{"$error":"#VALUE!"}},{"$f":"ROUND(IFERROR(SUM((制限値幅取得!G19-制限値幅取得!E19)*建玉一覧取得!$X$6+制限値幅取得!E19),\"\"),)","v":{"$error":"#VALUE!"}}]
[null,16,{"$f":"建玉一覧取得!C25","v":0},{"$f":"建玉一覧取得!D25","v":0},{"$f":"IFERROR(_xll.SNT.StockInst(C20,$E$4),\"wait\")","v":"=IFERROR(SNT.StockInst(C20,$E$4),\"wait\") => 銘柄コードが不正です"},{"$f":"IF($F$3=1,_xll.SNT.StockInstDetail(C20,$F$4),\"\")","v":"=IF($F$3=1,SNT.StockInstDetail(C20,$F$4),\"\") => 銘柄コードが不正です"},{"$f":"IF($G$3=1,_xll.SNT.StockInstDetail(C20,$G$4),\"\")","v":"=IF($G$3=1,SNT.StockInstDetail(C20,$G$4),\"\") => 銘柄コードが不正です"},{"$f":"ROUND(IFERROR(SUM((制限値幅取得!F20-制限値幅取得!E20)*建玉一覧取得!$X$6+制限値幅取得!E20),\"\"),)","v":{"$error":"#VALUE!"}},{"$f":"ROUND(IFERROR(SUM((制限値幅取得!G20-制限値幅取得!E20)*建玉一覧取得!$X$6+制限値幅取得!E20),\"\"),)","v":{"$error":"#VALUE!"}}]
[null,17,{"$f":"建玉一覧取得!C26","v":0},{"$f":"建玉一覧取得!D26","v":0},{"$f":"IFERROR(_xll.SNT.StockInst(C21,$E$4),\"wait\")","v":"=IFERROR(SNT.StockInst(C21,$E$4),\"wait\") => 銘柄コードが不正です"},{"$f":"IF($F$3=1,_xll.SNT.StockInstDetail(C21,$F$4),\"\")","v":"=IF($F$3=1,SNT.StockInstDetail(C21,$F$4),\"\") => 銘柄コードが不正です"},{"$f":"IF($G$3=1,_xll.SNT.StockInstDetail(C21,$G$4),\"\")","v":"=IF($G$3=1,SNT.StockInstDetail(C21,$G$4),\"\") => 銘柄コードが不正です"},{"$f":"ROUND(IFERROR(SUM((制限値幅取得!F21-制限値幅取得!E21)*建玉一覧取得!$X$6+制限値幅取得!E21),\"\"),)","v":{"$error":"#VALUE!"}},{"$f":"ROUND(IFERROR(SUM((制限値幅取得!G21-制限値幅取得!E21)*建玉一覧取得!$X$6+制限値幅取得!E21),\"\"),)","v":{"$error":"#VALUE!"}}]
[null,18,{"$f":"建玉一覧取得!C27","v":0},{"$f":"建玉一覧取得!D27","v":0},{"$f":"IFERROR(_xll.SNT.StockInst(C22,$E$4),\"wait\")","v":"=IFERROR(SNT.StockInst(C22,$E$4),\"wait\") => 銘柄コードが不正です"},{"$f":"IF($F$3=1,_xll.SNT.StockInstDetail(C22,$F$4),\"\")","v":"=IF($F$3=1,SNT.StockInstDetail(C22,$F$4),\"\") => 銘柄コードが不正です"},{"$f":"IF($G$3=1,_xll.SNT.StockInstDetail(C22,$G$4),\"\")","v":"=IF($G$3=1,SNT.StockInstDetail(C22,$G$4),\"\") => 銘柄コードが不正です"},{"$f":"ROUND(IFERROR(SUM((制限値幅取得!F22-制限値幅取得!E22)*建玉一覧取得!$X$6+制限値幅取得!E22),\"\"),)","v":{"$error":"#VALUE!"}},{"$f":"ROUND(IFERROR(SUM((制限値幅取得!G22-制限値幅取得!E22)*建玉一覧取得!$X$6+制限値幅取得!E22),\"\"),)","v":{"$error":"#VALUE!"}}]
[null,19,{"$f":"建玉一覧取得!C28","v":0},{"$f":"建玉一覧取得!D28","v":0},{"$f":"IFERROR(_xll.SNT.StockInst(C23,$E$4),\"wait\")","v":"=IFERROR(SNT.StockInst(C23,$E$4),\"wait\") => 銘柄コードが不正です"},{"$f":"IF($F$3=1,_xll.SNT.StockInstDetail(C23,$F$4),\"\")","v":"=IF($F$3=1,SNT.StockInstDetail(C23,$F$4),\"\") => 銘柄コードが不正です"},{"$f":"IF($G$3=1,_xll.SNT.StockInstDetail(C23,$G$4),\"\")","v":"=IF($G$3=1,SNT.StockInstDetail(C23,$G$4),\"\") => 銘柄コードが不正です"},{"$f":"ROUND(IFERROR(SUM((制限値幅取得!F23-制限値幅取得!E23)*建玉一覧取得!$X$6+制限値幅取得!E23),\"\"),)","v":{"$error":"#VALUE!"}},{"$f":"ROUND(IFERROR(SUM((制限値幅取得!G23-制限値幅取得!E23)*建玉一覧取得!$X$6+制限値幅取得!E23),\"\"),)","v":{"$error":"#VALUE!"}}]
[null,20,{"$f":"建玉一覧取得!C29","v":0},{"$f":"建玉一覧取得!D29","v":0},{"$f":"IFERROR(_xll.SNT.StockInst(C24,$E$4),\"wait\")","v":"=IFERROR(SNT.StockInst(C24,$E$4),\"wait\") => 銘柄コードが不正です"},{"$f":"IF($F$3=1,_xll.SNT.StockInstDetail(C24,$F$4),\"\")","v":"=IF($F$3=1,SNT.StockInstDetail(C24,$F$4),\"\") => 銘柄コードが不正です"},{"$f":"IF($G$3=1,_xll.SNT.StockInstDetail(C24,$G$4),\"\")","v":"=IF($G$3=1,SNT.StockInstDetail(C24,$G$4),\"\") => 銘柄コードが不正です"},{"$f":"ROUND(IFERROR(SUM((制限値幅取得!F24-制限値幅取得!E24)*建玉一覧取得!$X$6+制限値幅取得!E24),\"\"),)","v":{"$error":"#VALUE!"}},{"$f":"ROUND(IFERROR(SUM((制限値幅取得!G24-制限値幅取得!E24)*建玉一覧取得!$X$6+制限値幅取得!E24),\"\"),)","v":{"$error":"#VALUE!"}}]
[null,21,{"$f":"建玉一覧取得!C30","v":0},{"$f":"建玉一覧取得!D30","v":0},{"$f":"IFERROR(_xll.SNT.StockInst(C25,$E$4),\"wait\")","v":"=IFERROR(SNT.StockInst(C25,$E$4),\"wait\") => 銘柄コードが不正です"},{"$f":"IF($F$3=1,_xll.SNT.StockInstDetail(C25,$F$4),\"\")","v":"=IF($F$3=1,SNT.StockInstDetail(C25,$F$4),\"\") => 銘柄コードが不正です"},{"$f":"IF($G$3=1,_xll.SNT.StockInstDetail(C25,$G$4),\"\")","v":"=IF($G$3=1,SNT.StockInstDetail(C25,$G$4),\"\") => 銘柄コードが不正です"},{"$f":"ROUND(IFERROR(SUM((制限値幅取得!F25-制限値幅取得!E25)*建玉一覧取得!$X$6+制限値幅取得!E25),\"\"),)","v":{"$error":"#VALUE!"}},{"$f":"ROUND(IFERROR(SUM((制限値幅取得!G25-制限値幅取得!E25)*建玉一覧取得!$X$6+制限値幅取得!E25),\"\"),)","v":{"$error":"#VALUE!"}}]
[null,22,{"$f":"建玉一覧取得!C31","v":0},{"$f":"建玉一覧取得!D31","v":0},{"$f":"IFERROR(_xll.SNT.StockInst(C26,$E$4),\"wait\")","v":"=IFERROR(SNT.StockInst(C26,$E$4),\"wait\") => 銘柄コードが不正です"},{"$f":"IF($F$3=1,_xll.SNT.StockInstDetail(C26,$F$4),\"\")","v":"=IF($F$3=1,SNT.StockInstDetail(C26,$F$4),\"\") => 銘柄コードが不正です"},{"$f":"IF($G$3=1,_xll.SNT.StockInstDetail(C26,$G$4),\"\")","v":"=IF($G$3=1,SNT.StockInstDetail(C26,$G$4),\"\") => 銘柄コードが不正です"},{"$f":"ROUND(IFERROR(SUM((制限値幅取得!F26-制限値幅取得!E26)*建玉一覧取得!$X$6+制限値幅取得!E26),\"\"),)","v":{"$error":"#VALUE!"}},{"$f":"ROUND(IFERROR(SUM((制限値幅取得!G26-制限値幅取得!E26)*建玉一覧取得!$X$6+制限値幅取得!E26),\"\"),)","v":{"$error":"#VALUE!"}}]
[null,23,{"$f":"建玉一覧取得!C32","v":0},{"$f":"建玉一覧取得!D32","v":0},{"$f":"IFERROR(_xll.SNT.StockInst(C27,$E$4),\"wait\")","v":"=IFERROR(SNT.StockInst(C27,$E$4),\"wait\") => 銘柄コードが不正です"},{"$f":"IF($F$3=1,_xll.SNT.StockInstDetail(C27,$F$4),\"\")","v":"=IF($F$3=1,SNT.StockInstDetail(C27,$F$4),\"\") => 銘柄コードが不正です"},{"$f":"IF($G$3=1,_xll.SNT.StockInstDetail(C27,$G$4),\"\")","v":"=IF($G$3=1,SNT.StockInstDetail(C27,$G$4),\"\") => 銘柄コードが不正です"},{"$f":"ROUND(IFERROR(SUM((制限値幅取得!F27-制限値幅取得!E27)*建玉一覧取得!$X$6+制限値幅取得!E27),\"\"),)","v":{"$error":"#VALUE!"}},{"$f":"ROUND(IFERROR(SUM((制限値幅取得!G27-制限値幅取得!E27)*建玉一覧取得!$X$6+制限値幅取得!E27),\"\"),)","v":{"$error":"#VALUE!"}}]
[null,24,{"$f":"建玉一覧取得!C33","v":0},{"$f":"建玉一覧取得!D33","v":0},{"$f":"IFERROR(_xll.SNT.StockInst(C28,$E$4),\"wait\")","v":"=IFERROR(SNT.StockInst(C28,$E$4),\"wait\") => 銘柄コードが不正です"},{"$f":"IF($F$3=1,_xll.SNT.StockInstDetail(C28,$F$4),\"\")","v":"=IF($F$3=1,SNT.StockInstDetail(C28,$F$4),\"\") => 銘柄コードが不正です"},{"$f":"IF($G$3=1,_xll.SNT.StockInstDetail(C28,$G$4),\"\")","v":"=IF($G$3=1,SNT.StockInstDetail(C28,$G$4),\"\") => 銘柄コードが不正です"},{"$f":"ROUND(IFERROR(SUM((制限値幅取得!F28-制限値幅取得!E28)*建玉一覧取得!$X$6+制限値幅取得!E28),\"\"),)","v":{"$error":"#VALUE!"}},{"$f":"ROUND(IFERROR(SUM((制限値幅取得!G28-制限値幅取得!E28)*建玉一覧取得!$X$6+制限値幅取得!E28),\"\"),)","v":{"$error":"#VALUE!"}}]
[null,25,{"$f":"建玉一覧取得!C34","v":0},{"$f":"建玉一覧取得!D34","v":0},{"$f":"IFERROR(_xll.SNT.StockInst(C29,$E$4),\"wait\")","v":"=IFERROR(SNT.StockInst(C29,$E$4),\"wait\") => 銘柄コードが不正です"},{"$f":"IF($F$3=1,_xll.SNT.StockInstDetail(C29,$F$4),\"\")","v":"=IF($F$3=1,SNT.StockInstDetail(C29,$F$4),\"\") => 銘柄コードが不正です"},{"$f":"IF($G$3=1,_xll.SNT.StockInstDetail(C29,$G$4),\"\")","v":"=IF($G$3=1,SNT.StockInstDetail(C29,$G$4),\"\") => 銘柄コードが不正です"},{"$f":"ROUND(IFERROR(SUM((制限値幅取得!F29-制限値幅取得!E29)*建玉一覧取得!$X$6+制限値幅取得!E29),\"\"),)","v":{"$error":"#VALUE!"}},{"$f":"ROUND(IFERROR(SUM((制限値幅取得!G29-制限値幅取得!E29)*建玉一覧取得!$X$6+制限値幅取得!E29),\"\"),)","v":{"$error":"#VALUE!"}}]
[null,26,{"$f":"建玉一覧取得!C35","v":0},{"$f":"建玉一覧取得!D35","v":0},{"$f":"IFERROR(_xll.SNT.StockInst(C30,$E$4),\"wait\")","v":"=IFERROR(SNT.StockInst(C30,$E$4),\"wait\") => 銘柄コードが不正です"},{"$f":"IF($F$3=1,_xll.SNT.StockInstDetail(C30,$F$4),\"\")","v":"=IF($F$3=1,SNT.StockInstDetail(C30,$F$4),\"\") => 銘柄コードが不正です"},{"$f":"IF($G$3=1,_xll.SNT.StockInstDetail(C30,$G$4),\"\")","v":"=IF($G$3=1,SNT.StockInstDetail(C30,$G$4),\"\") => 銘柄コードが不正です"},{"$f":"ROUND(IFERROR(SUM((制限値幅取得!F30-制限値幅取得!E30)*建玉一覧取得!$X$6+制限値幅取得!E30),\"\"),)","v":{"$error":"#VALUE!"}},{"$f":"ROUND(IFERROR(SUM((制限値幅取得!G30-制限値幅取得!E30)*建玉一覧取得!$X$6+制限値幅取得!E30),\"\"),)","v":{"$error":"#VALUE!"}}]
[null,27,{"$f":"建玉一覧取得!C36","v":0},{"$f":"建玉一覧取得!D36","v":0},{"$f":"IFERROR(_xll.SNT.StockInst(C31,$E$4),\"wait\")","v":"=IFERROR(SNT.StockInst(C31,$E$4),\"wait\") => 銘柄コードが不正です"},{"$f":"IF($F$3=1,_xll.SNT.StockInstDetail(C31,$F$4),\"\")","v":"=IF($F$3=1,SNT.StockInstDetail(C31,$F$4),\"\") => 銘柄コードが不正です"},{"$f":"IF($G$3=1,_xll.SNT.StockInstDetail(C31,$G$4),\"\")","v":"=IF($G$3=1,SNT.StockInstDetail(C31,$G$4),\"\") => 銘柄コードが不正です"},{"$f":"ROUND(IFERROR(SUM((制限値幅取得!F31-制限値幅取得!E31)*建玉一覧取得!$X$6+制限値幅取得!E31),\"\"),)","v":{"$error":"#VALUE!"}},{"$f":"ROUND(IFERROR(SUM((制限値幅取得!G31-制限値幅取得!E31)*建玉一覧取得!$X$6+制限値幅取得!E31),\"\"),)","v":{"$error":"#VALUE!"}}]
[null,28,{"$f":"建玉一覧取得!C37","v":0},{"$f":"建玉一覧取得!D37","v":0},{"$f":"IFERROR(_xll.SNT.StockInst(C32,$E$4),\"wait\")","v":"=IFERROR(SNT.StockInst(C32,$E$4),\"wait\") => 銘柄コードが不正です"},{"$f":"IF($F$3=1,_xll.SNT.StockInstDetail(C32,$F$4),\"\")","v":"=IF($F$3=1,SNT.StockInstDetail(C32,$F$4),\"\") => 銘柄コードが不正です"},{"$f":"IF($G$3=1,_xll.SNT.StockInstDetail(C32,$G$4),\"\")","v":"=IF($G$3=1,SNT.StockInstDetail(C32,$G$4),\"\") => 銘柄コードが不正です"},{"$f":"ROUND(IFERROR(SUM((制限値幅取得!F32-制限値幅取得!E32)*建玉一覧取得!$X$6+制限値幅取得!E32),\"\"),)","v":{"$error":"#VALUE!"}},{"$f":"ROUND(IFERROR(SUM((制限値幅取得!G32-制限値幅取得!E32)*建玉一覧取得!$X$6+制限値幅取得!E32),\"\"),)","v":{"$error":"#VALUE!"}}]
[null,29,{"$f":"建玉一覧取得!C38","v":0},{"$f":"建玉一覧取得!D38","v":0},{"$f":"IFERROR(_xll.SNT.StockInst(C33,$E$4),\"wait\")","v":"=IFERROR(SNT.StockInst(C33,$E$4),\"wait\") => 銘柄コードが不正です"},{"$f":"IF($F$3=1,_xll.SNT.StockInstDetail(C33,$F$4),\"\")","v":"=IF($F$3=1,SNT.StockInstDetail(C33,$F$4),\"\") => 銘柄コードが不正です"},{"$f":"IF($G$3=1,_xll.SNT.StockInstDetail(C33,$G$4),\"\")","v":"=IF($G$3=1,SNT.StockInstDetail(C33,$G$4),\"\") => 銘柄コードが不正です"},{"$f":"ROUND(IFERROR(SUM((制限値幅取得!F33-制限値幅取得!E33)*建玉一覧取得!$X$6+制限値幅取得!E33),\"\"),)","v":{"$error":"#VALUE!"}},{"$f":"ROUND(IFERROR(SUM((制限値幅取得!G33-制限値幅取得!E33)*建玉一覧取得!$X$6+制限値幅取得!E33),\"\"),)","v":{"$error":"#VALUE!"}}]
[null,30,{"$f":"建玉一覧取得!C39","v":0},{"$f":"建玉一覧取得!D39","v":0},{"$f":"IFERROR(_xll.SNT.StockInst(C34,$E$4),\"wait\")","v":"=IFERROR(SNT.StockInst(C34,$E$4),\"wait\") => 銘柄コードが不正です"},{"$f":"IF($F$3=1,_xll.SNT.StockInstDetail(C34,$F$4),\"\")","v":"=IF($F$3=1,SNT.StockInstDetail(C34,$F$4),\"\") => 銘柄コードが不正です"},{"$f":"IF($G$3=1,_xll.SNT.StockInstDetail(C34,$G$4),\"\")","v":"=IF($G$3=1,SNT.StockInstDetail(C34,$G$4),\"\") => 銘柄コードが不正です"},{"$f":"ROUND(IFERROR(SUM((制限値幅取得!F34-制限値幅取得!E34)*建玉一覧取得!$X$6+制限値幅取得!E34),\"\"),)","v":{"$error":"#VALUE!"}},{"$f":"ROUND(IFERROR(SUM((制限値幅取得!G34-制限値幅取得!E34)*建玉一覧取得!$X$6+制限値幅取得!E34),\"\"),)","v":{"$error":"#VALUE!"}}]
[null,31,{"$f":"建玉一覧取得!C40","v":0},{"$f":"建玉一覧取得!D40","v":0},{"$f":"IFERROR(_xll.SNT.StockInst(C35,$E$4),\"wait\")","v":"=IFERROR(SNT.StockInst(C35,$E$4),\"wait\") => 銘柄コードが不正です"},{"$f":"IF($F$3=1,_xll.SNT.StockInstDetail(C35,$F$4),\"\")","v":"=IF($F$3=1,SNT.StockInstDetail(C35,$F$4),\"\") => 銘柄コードが不正です"},{"$f":"IF($G$3=1,_xll.SNT.StockInstDetail(C35,$G$4),\"\")","v":"=IF($G$3=1,SNT.StockInstDetail(C35,$G$4),\"\") => 銘柄コードが不正です"},{"$f":"ROUND(IFERROR(SUM((制限値幅取得!F35-制限値幅取得!E35)*建玉一覧取得!$X$6+制限値幅取得!E35),\"\"),)","v":{"$error":"#VALUE!"}},{"$f":"ROUND(IFERROR(SUM((制限値幅取得!G35-制限値幅取得!E35)*建玉一覧取得!$X$6+制限値幅取得!E35),\"\"),)","v":{"$error":"#VALUE!"}}]
[null,32,{"$f":"建玉一覧取得!C41","v":0},{"$f":"建玉一覧取得!D41","v":0},{"$f":"IFERROR(_xll.SNT.StockInst(C36,$E$4),\"wait\")","v":"=IFERROR(SNT.StockInst(C36,$E$4),\"wait\") => 銘柄コードが不正です"},{"$f":"IF($F$3=1,_xll.SNT.StockInstDetail(C36,$F$4),\"\")","v":"=IF($F$3=1,SNT.StockInstDetail(C36,$F$4),\"\") => 銘柄コードが不正です"},{"$f":"IF($G$3=1,_xll.SNT.StockInstDetail(C36,$G$4),\"\")","v":"=IF($G$3=1,SNT.StockInstDetail(C36,$G$4),\"\") => 銘柄コードが不正です"},{"$f":"ROUND(IFERROR(SUM((制限値幅取得!F36-制限値幅取得!E36)*建玉一覧取得!$X$6+制限値幅取得!E36),\"\"),)","v":{"$error":"#VALUE!"}},{"$f":"ROUND(IFERROR(SUM((制限値幅取得!G36-制限値幅取得!E36)*建玉一覧取得!$X$6+制限値幅取得!E36),\"\"),)","v":{"$error":"#VALUE!"}}]
[null,33,{"$f":"建玉一覧取得!C42","v":0},{"$f":"建玉一覧取得!D42","v":0},{"$f":"IFERROR(_xll.SNT.StockInst(C37,$E$4),\"wait\")","v":"=IFERROR(SNT.StockInst(C37,$E$4),\"wait\") => 銘柄コードが不正です"},{"$f":"IF($F$3=1,_xll.SNT.StockInstDetail(C37,$F$4),\"\")","v":"=IF($F$3=1,SNT.StockInstDetail(C37,$F$4),\"\") => 銘柄コードが不正です"},{"$f":"IF($G$3=1,_xll.SNT.StockInstDetail(C37,$G$4),\"\")","v":"=IF($G$3=1,SNT.StockInstDetail(C37,$G$4),\"\") => 銘柄コードが不正です"},{"$f":"ROUND(IFERROR(SUM((制限値幅取得!F37-制限値幅取得!E37)*建玉一覧取得!$X$6+制限値幅取得!E37),\"\"),)","v":{"$error":"#VALUE!"}},{"$f":"ROUND(IFERROR(SUM((制限値幅取得!G37-制限値幅取得!E37)*建玉一覧取得!$X$6+制限値幅取得!E37),\"\"),)","v":{"$error":"#VALUE!"}}]
[null,34,{"$f":"建玉一覧取得!C43","v":0},{"$f":"建玉一覧取得!D43","v":0},{"$f":"IFERROR(_xll.SNT.StockInst(C38,$E$4),\"wait\")","v":"=IFERROR(SNT.StockInst(C38,$E$4),\"wait\") => 銘柄コードが不正です"},{"$f":"IF($F$3=1,_xll.SNT.StockInstDetail(C38,$F$4),\"\")","v":"=IF($F$3=1,SNT.StockInstDetail(C38,$F$4),\"\") => 銘柄コードが不正です"},{"$f":"IF($G$3=1,_xll.SNT.StockInstDetail(C38,$G$4),\"\")","v":"=IF($G$3=1,SNT.StockInstDetail(C38,$G$4),\"\") => 銘柄コードが不正です"},{"$f":"ROUND(IFERROR(SUM((制限値幅取得!F38-制限値幅取得!E38)*建玉一覧取得!$X$6+制限値幅取得!E38),\"\"),)","v":{"$error":"#VALUE!"}},{"$f":"ROUND(IFERROR(SUM((制限値幅取得!G38-制限値幅取得!E38)*建玉一覧取得!$X$6+制限値幅取得!E38),\"\"),)","v":{"$error":"#VALUE!"}}]
[null,35,{"$f":"建玉一覧取得!C44","v":0},{"$f":"建玉一覧取得!D44","v":0},{"$f":"IFERROR(_xll.SNT.StockInst(C39,$E$4),\"wait\")","v":"=IFERROR(SNT.StockInst(C39,$E$4),\"wait\") => 銘柄コードが不正です"},{"$f":"IF($F$3=1,_xll.SNT.StockInstDetail(C39,$F$4),\"\")","v":"=IF($F$3=1,SNT.StockInstDetail(C39,$F$4),\"\") => 銘柄コードが不正です"},{"$f":"IF($G$3=1,_xll.SNT.StockInstDetail(C39,$G$4),\"\")","v":"=IF($G$3=1,SNT.StockInstDetail(C39,$G$4),\"\") => 銘柄コードが不正です"},{"$f":"ROUND(IFERROR(SUM((制限値幅取得!F39-制限値幅取得!E39)*建玉一覧取得!$X$6+制限値幅取得!E39),\"\"),)","v":{"$error":"#VALUE!"}},{"$f":"ROUND(IFERROR(SUM((制限値幅取得!G39-制限値幅取得!E39)*建玉一覧取得!$X$6+制限値幅取得!E39),\"\"),)","v":{"$error":"#VALUE!"}}]
[null,36,{"$f":"建玉一覧取得!C45","v":0},{"$f":"建玉一覧取得!D45","v":0},{"$f":"IFERROR(_xll.SNT.StockInst(C40,$E$4),\"wait\")","v":"=IFERROR(SNT.StockInst(C40,$E$4),\"wait\") => 銘柄コードが不正です"},{"$f":"IF($F$3=1,_xll.SNT.StockInstDetail(C40,$F$4),\"\")","v":"=IF($F$3=1,SNT.StockInstDetail(C40,$F$4),\"\") => 銘柄コードが不正です"},{"$f":"IF($G$3=1,_xll.SNT.StockInstDetail(C40,$G$4),\"\")","v":"=IF($G$3=1,SNT.StockInstDetail(C40,$G$4),\"\") => 銘柄コードが不正です"},{"$f":"ROUND(IFERROR(SUM((制限値幅取得!F40-制限値幅取得!E40)*建玉一覧取得!$X$6+制限値幅取得!E40),\"\"),)","v":{"$error":"#VALUE!"}},{"$f":"ROUND(IFERROR(SUM((制限値幅取得!G40-制限値幅取得!E40)*建玉一覧取得!$X$6+制限値幅取得!E40),\"\"),)","v":{"$error":"#VALUE!"}}]
[null,37,{"$f":"建玉一覧取得!C46","v":0},{"$f":"建玉一覧取得!D46","v":0},{"$f":"IFERROR(_xll.SNT.StockInst(C41,$E$4),\"wait\")","v":"=IFERROR(SNT.StockInst(C41,$E$4),\"wait\") => 銘柄コードが不正です"},{"$f":"IF($F$3=1,_xll.SNT.StockInstDetail(C41,$F$4),\"\")","v":"=IF($F$3=1,SNT.StockInstDetail(C41,$F$4),\"\") => 銘柄コードが不正です"},{"$f":"IF($G$3=1,_xll.SNT.StockInstDetail(C41,$G$4),\"\")","v":"=IF($G$3=1,SNT.StockInstDetail(C41,$G$4),\"\") => 銘柄コードが不正です"},{"$f":"ROUND(IFERROR(SUM((制限値幅取得!F41-制限値幅取得!E41)*建玉一覧取得!$X$6+制限値幅取得!E41),\"\"),)","v":{"$error":"#VALUE!"}},{"$f":"ROUND(IFERROR(SUM((制限値幅取得!G41-制限値幅取得!E41)*建玉一覧取得!$X$6+制限値幅取得!E41),\"\"),)","v":{"$error":"#VALUE!"}}]
[null,38,{"$f":"建玉一覧取得!C47","v":0},{"$f":"建玉一覧取得!D47","v":0},{"$f":"IFERROR(_xll.SNT.StockInst(C42,$E$4),\"wait\")","v":"=IFERROR(SNT.StockInst(C42,$E$4),\"wait\") => 銘柄コードが不正です"},{"$f":"IF($F$3=1,_xll.SNT.StockInstDetail(C42,$F$4),\"\")","v":"=IF($F$3=1,SNT.StockInstDetail(C42,$F$4),\"\") => 銘柄コードが不正です"},{"$f":"IF($G$3=1,_xll.SNT.StockInstDetail(C42,$G$4),\"\")","v":"=IF($G$3=1,SNT.StockInstDetail(C42,$G$4),\"\") => 銘柄コードが不正です"},{"$f":"ROUND(IFERROR(SUM((制限値幅取得!F42-制限値幅取得!E42)*建玉一覧取得!$X$6+制限値幅取得!E42),\"\"),)","v":{"$error":"#VALUE!"}},{"$f":"ROUND(IFERROR(SUM((制限値幅取得!G42-制限値幅取得!E42)*建玉一覧取得!$X$6+制限値幅取得!E42),\"\"),)","v":{"$error":"#VALUE!"}}]
[null,39,{"$f":"建玉一覧取得!C48","v":0},{"$f":"建玉一覧取得!D48","v":0},{"$f":"IFERROR(_xll.SNT.StockInst(C43,$E$4),\"wait\")","v":"=IFERROR(SNT.StockInst(C43,$E$4),\"wait\") => 銘柄コードが不正です"},{"$f":"IF($F$3=1,_xll.SNT.StockInstDetail(C43,$F$4),\"\")","v":"=IF($F$3=1,SNT.StockInstDetail(C43,$F$4),\"\") => 銘柄コードが不正です"},{"$f":"IF($G$3=1,_xll.SNT.StockInstDetail(C43,$G$4),\"\")","v":"=IF($G$3=1,SNT.StockInstDetail(C43,$G$4),\"\") => 銘柄コードが不正です"},{"$f":"ROUND(IFERROR(SUM((制限値幅取得!F43-制限値幅取得!E43)*建玉一覧取得!$X$6+制限値幅取得!E43),\"\"),)","v":{"$error":"#VALUE!"}},{"$f":"ROUND(IFERROR(SUM((制限値幅取得!G43-制限値幅取得!E43)*建玉一覧取得!$X$6+制限値幅取得!E43),\"\"),)","v":{"$error":"#VALUE!"}}]
[null,40,{"$f":"建玉一覧取得!C49","v":0},{"$f":"建玉一覧取得!D49","v":0},{"$f":"IFERROR(_xll.SNT.StockInst(C44,$E$4),\"wait\")","v":"=IFERROR(SNT.StockInst(C44,$E$4),\"wait\") => 銘柄コードが不正です"},{"$f":"IF($F$3=1,_xll.SNT.StockInstDetail(C44,$F$4),\"\")","v":"=IF($F$3=1,SNT.StockInstDetail(C44,$F$4),\"\") => 銘柄コードが不正です"},{"$f":"IF($G$3=1,_xll.SNT.StockInstDetail(C44,$G$4),\"\")","v":"=IF($G$3=1,SNT.StockInstDetail(C44,$G$4),\"\") => 銘柄コードが不正です"},{"$f":"ROUND(IFERROR(SUM((制限値幅取得!F44-制限値幅取得!E44)*建玉一覧取得!$X$6+制限値幅取得!E44),\"\"),)","v":{"$error":"#VALUE!"}},{"$f":"ROUND(IFERROR(SUM((制限値幅取得!G44-制限値幅取得!E44)*建玉一覧取得!$X$6+制限値幅取得!E44),\"\"),)","v":{"$error":"#VALUE!"}}]
[null,41,{"$f":"建玉一覧取得!C50","v":0},{"$f":"建玉一覧取得!D50","v":0},{"$f":"IFERROR(_xll.SNT.StockInst(C45,$E$4),\"wait\")","v":"=IFERROR(SNT.StockInst(C45,$E$4),\"wait\") => 銘柄コードが不正です"},{"$f":"IF($F$3=1,_xll.SNT.StockInstDetail(C45,$F$4),\"\")","v":"=IF($F$3=1,SNT.StockInstDetail(C45,$F$4),\"\") => 銘柄コードが不正です"},{"$f":"IF($G$3=1,_xll.SNT.StockInstDetail(C45,$G$4),\"\")","v":"=IF($G$3=1,SNT.StockInstDetail(C45,$G$4),\"\") => 銘柄コードが不正です"},{"$f":"ROUND(IFERROR(SUM((制限値幅取得!F45-制限値幅取得!E45)*建玉一覧取得!$X$6+制限値幅取得!E45),\"\"),)","v":{"$error":"#VALUE!"}},{"$f":"ROUND(IFERROR(SUM((制限値幅取得!G45-制限値幅取得!E45)*建玉一覧取得!$X$6+制限値幅取得!E45),\"\"),)","v":{"$error":"#VALUE!"}}]
[null,42,{"$f":"建玉一覧取得!C51","v":0},{"$f":"建玉一覧取得!D51","v":0},{"$f":"IFERROR(_xll.SNT.StockInst(C46,$E$4),\"wait\")","v":"=IFERROR(SNT.StockInst(C46,$E$4),\"wait\") => 銘柄コードが不正です"},{"$f":"IF($F$3=1,_xll.SNT.StockInstDetail(C46,$F$4),\"\")","v":"=IF($F$3=1,SNT.StockInstDetail(C46,$F$4),\"\") => 銘柄コードが不正です"},{"$f":"IF($G$3=1,_xll.SNT.StockInstDetail(C46,$G$4),\"\")","v":"=IF($G$3=1,SNT.StockInstDetail(C46,$G$4),\"\") => 銘柄コードが不正です"},{"$f":"ROUND(IFERROR(SUM((制限値幅取得!F46-制限値幅取得!E46)*建玉一覧取得!$X$6+制限値幅取得!E46),\"\"),)","v":{"$error":"#VALUE!"}},{"$f":"ROUND(IFERROR(SUM((制限値幅取得!G46-制限値幅取得!E46)*建玉一覧取得!$X$6+制限値幅取得!E46),\"\"),)","v":{"$error":"#VALUE!"}}]
[null,43,{"$f":"建玉一覧取得!C52","v":0},{"$f":"建玉一覧取得!D52","v":0},{"$f":"IFERROR(_xll.SNT.StockInst(C47,$E$4),\"wait\")","v":"=IFERROR(SNT.StockInst(C47,$E$4),\"wait\") => 銘柄コードが不正です"},{"$f":"IF($F$3=1,_xll.SNT.StockInstDetail(C47,$F$4),\"\")","v":"=IF($F$3=1,SNT.StockInstDetail(C47,$F$4),\"\") => 銘柄コードが不正です"},{"$f":"IF($G$3=1,_xll.SNT.StockInstDetail(C47,$G$4),\"\")","v":"=IF($G$3=1,SNT.StockInstDetail(C47,$G$4),\"\") => 銘柄コードが不正です"},{"$f":"ROUND(IFERROR(SUM((制限値幅取得!F47-制限値幅取得!E47)*建玉一覧取得!$X$6+制限値幅取得!E47),\"\"),)","v":{"$error":"#VALUE!"}},{"$f":"ROUND(IFERROR(SUM((制限値幅取得!G47-制限値幅取得!E47)*建玉一覧取得!$X$6+制限値幅取得!E47),\"\"),)","v":{"$error":"#VALUE!"}}]
[null,44,{"$f":"建玉一覧取得!C53","v":0},{"$f":"建玉一覧取得!D53","v":0},{"$f":"IFERROR(_xll.SNT.StockInst(C48,$E$4),\"wait\")","v":"=IFERROR(SNT.StockInst(C48,$E$4),\"wait\") => 銘柄コードが不正です"},{"$f":"IF($F$3=1,_xll.SNT.StockInstDetail(C48,$F$4),\"\")","v":"=IF($F$3=1,SNT.StockInstDetail(C48,$F$4),\"\") => 銘柄コードが不正です"},{"$f":"IF($G$3=1,_xll.SNT.StockInstDetail(C48,$G$4),\"\")","v":"=IF($G$3=1,SNT.StockInstDetail(C48,$G$4),\"\") => 銘柄コードが不正です"},{"$f":"ROUND(IFERROR(SUM((制限値幅取得!F48-制限値幅取得!E48)*建玉一覧取得!$X$6+制限値幅取得!E48),\"\"),)","v":{"$error":"#VALUE!"}},{"$f":"ROUND(IFERROR(SUM((制限値幅取得!G48-制限値幅取得!E48)*建玉一覧取得!$X$6+制限値幅取得!E48),\"\"),)","v":{"$error":"#VALUE!"}}]
[null,45,{"$f":"建玉一覧取得!C54","v":0},{"$f":"建玉一覧取得!D54","v":0},{"$f":"IFERROR(_xll.SNT.StockInst(C49,$E$4),\"wait\")","v":"=IFERROR(SNT.StockInst(C49,$E$4),\"wait\") => 銘柄コードが不正です"},{"$f":"IF($F$3=1,_xll.SNT.StockInstDetail(C49,$F$4),\"\")","v":"=IF($F$3=1,SNT.StockInstDetail(C49,$F$4),\"\") => 銘柄コードが不正です"},{"$f":"IF($G$3=1,_xll.SNT.StockInstDetail(C49,$G$4),\"\")","v":"=IF($G$3=1,SNT.StockInstDetail(C49,$G$4),\"\") => 銘柄コードが不正です"},{"$f":"ROUND(IFERROR(SUM((制限値幅取得!F49-制限値幅取得!E49)*建玉一覧取得!$X$6+制限値幅取得!E49),\"\"),)","v":{"$error":"#VALUE!"}},{"$f":"ROUND(IFERROR(SUM((制限値幅取得!G49-制限値幅取得!E49)*建玉一覧取得!$X$6+制限値幅取得!E49),\"\"),)","v":{"$error":"#VALUE!"}}]
[null,46,{"$f":"建玉一覧取得!C55","v":0},{"$f":"建玉一覧取得!D55","v":0},{"$f":"IFERROR(_xll.SNT.StockInst(C50,$E$4),\"wait\")","v":"=IFERROR(SNT.StockInst(C50,$E$4),\"wait\") => 銘柄コードが不正です"},{"$f":"IF($F$3=1,_xll.SNT.StockInstDetail(C50,$F$4),\"\")","v":"=IF($F$3=1,SNT.StockInstDetail(C50,$F$4),\"\") => 銘柄コードが不正です"},{"$f":"IF($G$3=1,_xll.SNT.StockInstDetail(C50,$G$4),\"\")","v":"=IF($G$3=1,SNT.StockInstDetail(C50,$G$4),\"\") => 銘柄コードが不正です"},{"$f":"ROUND(IFERROR(SUM((制限値幅取得!F50-制限値幅取得!E50)*建玉一覧取得!$X$6+制限値幅取得!E50),\"\"),)","v":{"$error":"#VALUE!"}},{"$f":"ROUND(IFERROR(SUM((制限値幅取得!G50-制限値幅取得!E50)*建玉一覧取得!$X$6+制限値幅取得!E50),\"\"),)","v":{"$error":"#VALUE!"}}]
[null,47,{"$f":"建玉一覧取得!C56","v":0},{"$f":"建玉一覧取得!D56","v":0},{"$f":"IFERROR(_xll.SNT.StockInst(C51,$E$4),\"wait\")","v":"=IFERROR(SNT.StockInst(C51,$E$4),\"wait\") => 銘柄コードが不正です"},{"$f":"IF($F$3=1,_xll.SNT.StockInstDetail(C51,$F$4),\"\")","v":"=IF($F$3=1,SNT.StockInstDetail(C51,$F$4),\"\") => 銘柄コードが不正です"},{"$f":"IF($G$3=1,_xll.SNT.StockInstDetail(C51,$G$4),\"\")","v":"=IF($G$3=1,SNT.StockInstDetail(C51,$G$4),\"\") => 銘柄コードが不正です"},{"$f":"ROUND(IFERROR(SUM((制限値幅取得!F51-制限値幅取得!E51)*建玉一覧取得!$X$6+制限値幅取得!E51),\"\"),)","v":{"$error":"#VALUE!"}},{"$f":"ROUND(IFERROR(SUM((制限値幅取得!G51-制限値幅取得!E51)*建玉一覧取得!$X$6+制限値幅取得!E51),\"\"),)","v":{"$error":"#VALUE!"}}]
[null,48,{"$f":"建玉一覧取得!C57","v":0},{"$f":"建玉一覧取得!D57","v":0},{"$f":"IFERROR(_xll.SNT.StockInst(C52,$E$4),\"wait\")","v":"=IFERROR(SNT.StockInst(C52,$E$4),\"wait\") => 銘柄コードが不正です"},{"$f":"IF($F$3=1,_xll.SNT.StockInstDetail(C52,$F$4),\"\")","v":"=IF($F$3=1,SNT.StockInstDetail(C52,$F$4),\"\") => 銘柄コードが不正です"},{"$f":"IF($G$3=1,_xll.SNT.StockInstDetail(C52,$G$4),\"\")","v":"=IF($G$3=1,SNT.StockInstDetail(C52,$G$4),\"\") => 銘柄コードが不正です"},{"$f":"ROUND(IFERROR(SUM((制限値幅取得!F52-制限値幅取得!E52)*建玉一覧取得!$X$6+制限値幅取得!E52),\"\"),)","v":{"$error":"#VALUE!"}},{"$f":"ROUND(IFERROR(SUM((制限値幅取得!G52-制限値幅取得!E52)*建玉一覧取得!$X$6+制限値幅取得!E52),\"\"),)","v":{"$error":"#VALUE!"}}]
[null,49,{"$f":"建玉一覧取得!C58","v":0},{"$f":"建玉一覧取得!D58","v":0},{"$f":"IFERROR(_xll.SNT.StockInst(C53,$E$4),\"wait\")","v":"=IFERROR(SNT.StockInst(C53,$E$4),\"wait\") => 銘柄コードが不正です"},{"$f":"IF($F$3=1,_xll.SNT.StockInstDetail(C53,$F$4),\"\")","v":"=IF($F$3=1,SNT.StockInstDetail(C53,$F$4),\"\") => 銘柄コードが不正です"},{"$f":"IF($G$3=1,_xll.SNT.StockInstDetail(C53,$G$4),\"\")","v":"=IF($G$3=1,SNT.StockInstDetail(C53,$G$4),\"\") => 銘柄コードが不正です"},{"$f":"ROUND(IFERROR(SUM((制限値幅取得!F53-制限値幅取得!E53)*建玉一覧取得!$X$6+制限値幅取得!E53),\"\"),)","v":{"$error":"#VALUE!"}},{"$f":"ROUND(IFERROR(SUM((制限値幅取得!G53-制限値幅取得!E53)*建玉一覧取得!$X$6+制限値幅取得!E53),\"\"),)","v":{"$error":"#VALUE!"}}]
[null,50,{"$f":"建玉一覧取得!C59","v":0},{"$f":"建玉一覧取得!D59","v":0},{"$f":"IFERROR(_xll.SNT.StockInst(C54,$E$4),\"wait\")","v":"=IFERROR(SNT.StockInst(C54,$E$4),\"wait\") => 銘柄コードが不正です"},{"$f":"IF($F$3=1,_xll.SNT.StockInstDetail(C54,$F$4),\"\")","v":"=IF($F$3=1,SNT.StockInstDetail(C54,$F$4),\"\") => 銘柄コードが不正です"},{"$f":"IF($G$3=1,_xll.SNT.StockInstDetail(C54,$G$4),\"\")","v":"=IF($G$3=1,SNT.StockInstDetail(C54,$G$4),\"\") => 銘柄コードが不正です"},{"$f":"ROUND(IFERROR(SUM((制限値幅取得!F54-制限値幅取得!E54)*建玉一覧取得!$X$6+制限値幅取得!E54),\"\"),)","v":{"$error":"#VALUE!"}},{"$f":"ROUND(IFERROR(SUM((制限値幅取得!G54-制限値幅取得!E54)*建玉一覧取得!$X$6+制限値幅取得!E54),\"\"),)","v":{"$error":"#VALUE!"}}]
[null,51,{"$f":"建玉一覧取得!C60","v":0},{"$f":"建玉一覧取得!D60","v":0},{"$f":"IFERROR(_xll.SNT.StockInst(C55,$E$4),\"wait\")","v":"=IFERROR(SNT.StockInst(C55,$E$4),\"wait\") => 銘柄コードが不正です"},{"$f":"IF($F$3=1,_xll.SNT.StockInstDetail(C55,$F$4),\"\")","v":"=IF($F$3=1,SNT.StockInstDetail(C55,$F$4),\"\") => 銘柄コードが不正です"},{"$f":"IF($G$3=1,_xll.SNT.StockInstDetail(C55,$G$4),\"\")","v":"=IF($G$3=1,SNT.StockInstDetail(C55,$G$4),\"\") => 銘柄コードが不正です"},{"$f":"ROUND(IFERROR(SUM((制限値幅取得!F55-制限値幅取得!E55)*建玉一覧取得!$X$6+制限値幅取得!E55),\"\"),)","v":{"$error":"#VALUE!"}},{"$f":"ROUND(IFERROR(SUM((制限値幅取得!G55-制限値幅取得!E55)*建玉一覧取得!$X$6+制限値幅取得!E55),\"\"),)","v":{"$error":"#VALUE!"}}]
[null,52,{"$f":"建玉一覧取得!C61","v":0},{"$f":"建玉一覧取得!D61","v":0},{"$f":"IFERROR(_xll.SNT.StockInst(C56,$E$4),\"wait\")","v":"=IFERROR(SNT.StockInst(C56,$E$4),\"wait\") => 銘柄コードが不正です"},{"$f":"IF($F$3=1,_xll.SNT.StockInstDetail(C56,$F$4),\"\")","v":"=IF($F$3=1,SNT.StockInstDetail(C56,$F$4),\"\") => 銘柄コードが不正です"},{"$f":"IF($G$3=1,_xll.SNT.StockInstDetail(C56,$G$4),\"\")","v":"=IF($G$3=1,SNT.StockInstDetail(C56,$G$4),\"\") => 銘柄コードが不正です"},{"$f":"ROUND(IFERROR(SUM((制限値幅取得!F56-制限値幅取得!E56)*建玉一覧取得!$X$6+制限値幅取得!E56),\"\"),)","v":{"$error":"#VALUE!"}},{"$f":"ROUND(IFERROR(SUM((制限値幅取得!G56-制限値幅取得!E56)*建玉一覧取得!$X$6+制限値幅取得!E56),\"\"),)","v":{"$error":"#VALUE!"}}]
[null,53,{"$f":"建玉一覧取得!C62","v":0},{"$f":"建玉一覧取得!D62","v":0},{"$f":"IFERROR(_xll.SNT.StockInst(C57,$E$4),\"wait\")","v":"=IFERROR(SNT.StockInst(C57,$E$4),\"wait\") => 銘柄コードが不正です"},{"$f":"IF($F$3=1,_xll.SNT.StockInstDetail(C57,$F$4),\"\")","v":"=IF($F$3=1,SNT.StockInstDetail(C57,$F$4),\"\") => 銘柄コードが不正です"},{"$f":"IF($G$3=1,_xll.SNT.StockInstDetail(C57,$G$4),\"\")","v":"=IF($G$3=1,SNT.StockInstDetail(C57,$G$4),\"\") => 銘柄コードが不正です"},{"$f":"ROUND(IFERROR(SUM((制限値幅取得!F57-制限値幅取得!E57)*建玉一覧取得!$X$6+制限値幅取得!E57),\"\"),)","v":{"$error":"#VALUE!"}},{"$f":"ROUND(IFERROR(SUM((制限値幅取得!G57-制限値幅取得!E57)*建玉一覧取得!$X$6+制限値幅取得!E57),\"\"),)","v":{"$error":"#VALUE!"}}]
[null,54,{"$f":"建玉一覧取得!C63","v":0},{"$f":"建玉一覧取得!D63","v":0},{"$f":"IFERROR(_xll.SNT.StockInst(C58,$E$4),\"wait\")","v":"=IFERROR(SNT.StockInst(C58,$E$4),\"wait\") => 銘柄コードが不正です"},{"$f":"IF($F$3=1,_xll.SNT.StockInstDetail(C58,$F$4),\"\")","v":"=IF($F$3=1,SNT.StockInstDetail(C58,$F$4),\"\") => 銘柄コードが不正です"},{"$f":"IF($G$3=1,_xll.SNT.StockInstDetail(C58,$G$4),\"\")","v":"=IF($G$3=1,SNT.StockInstDetail(C58,$G$4),\"\") => 銘柄コードが不正です"},{"$f":"ROUND(IFERROR(SUM((制限値幅取得!F58-制限値幅取得!E58)*建玉一覧取得!$X$6+制限値幅取得!E58),\"\"),)","v":{"$error":"#VALUE!"}},{"$f":"ROUND(IFERROR(SUM((制限値幅取得!G58-制限値幅取得!E58)*建玉一覧取得!$X$6+制限値幅取得!E58),\"\"),)","v":{"$error":"#VALUE!"}}]
[null,55,{"$f":"建玉一覧取得!C64","v":0},{"$f":"建玉一覧取得!D64","v":0},{"$f":"IFERROR(_xll.SNT.StockInst(C59,$E$4),\"wait\")","v":"=IFERROR(SNT.StockInst(C59,$E$4),\"wait\") => 銘柄コードが不正です"},{"$f":"IF($F$3=1,_xll.SNT.StockInstDetail(C59,$F$4),\"\")","v":"=IF($F$3=1,SNT.StockInstDetail(C59,$F$4),\"\") => 銘柄コードが不正です"},{"$f":"IF($G$3=1,_xll.SNT.StockInstDetail(C59,$G$4),\"\")","v":"=IF($G$3=1,SNT.StockInstDetail(C59,$G$4),\"\") => 銘柄コードが不正です"},{"$f":"ROUND(IFERROR(SUM((制限値幅取得!F59-制限値幅取得!E59)*建玉一覧取得!$X$6+制限値幅取得!E59),\"\"),)","v":{"$error":"#VALUE!"}},{"$f":"ROUND(IFERROR(SUM((制限値幅取得!G59-制限値幅取得!E59)*建玉一覧取得!$X$6+制限値幅取得!E59),\"\"),)","v":{"$error":"#VALUE!"}}]
[null,56,{"$f":"建玉一覧取得!C65","v":0},{"$f":"建玉一覧取得!D65","v":0},{"$f":"IFERROR(_xll.SNT.StockInst(C60,$E$4),\"wait\")","v":"=IFERROR(SNT.StockInst(C60,$E$4),\"wait\") => 銘柄コードが不正です"},{"$f":"IF($F$3=1,_xll.SNT.StockInstDetail(C60,$F$4),\"\")","v":"=IF($F$3=1,SNT.StockInstDetail(C60,$F$4),\"\") => 銘柄コードが不正です"},{"$f":"IF($G$3=1,_xll.SNT.StockInstDetail(C60,$G$4),\"\")","v":"=IF($G$3=1,SNT.StockInstDetail(C60,$G$4),\"\") => 銘柄コードが不正です"},{"$f":"ROUND(IFERROR(SUM((制限値幅取得!F60-制限値幅取得!E60)*建玉一覧取得!$X$6+制限値幅取得!E60),\"\"),)","v":{"$error":"#VALUE!"}},{"$f":"ROUND(IFERROR(SUM((制限値幅取得!G60-制限値幅取得!E60)*建玉一覧取得!$X$6+制限値幅取得!E60),\"\"),)","v":{"$error":"#VALUE!"}}]
[null,57,{"$f":"建玉一覧取得!C66","v":0},{"$f":"建玉一覧取得!D66","v":0},{"$f":"IFERROR(_xll.SNT.StockInst(C61,$E$4),\"wait\")","v":"=IFERROR(SNT.StockInst(C61,$E$4),\"wait\") => 銘柄コードが不正です"},{"$f":"IF($F$3=1,_xll.SNT.StockInstDetail(C61,$F$4),\"\")","v":"=IF($F$3=1,SNT.StockInstDetail(C61,$F$4),\"\") => 銘柄コードが不正です"},{"$f":"IF($G$3=1,_xll.SNT.StockInstDetail(C61,$G$4),\"\")","v":"=IF($G$3=1,SNT.StockInstDetail(C61,$G$4),\"\") => 銘柄コードが不正です"},{"$f":"ROUND(IFERROR(SUM((制限値幅取得!F61-制限値幅取得!E61)*建玉一覧取得!$X$6+制限値幅取得!E61),\"\"),)","v":{"$error":"#VALUE!"}},{"$f":"ROUND(IFERROR(SUM((制限値幅取得!G61-制限値幅取得!E61)*建玉一覧取得!$X$6+制限値幅取得!E61),\"\"),)","v":{"$error":"#VALUE!"}}]
[null,58,{"$f":"建玉一覧取得!C67","v":0},{"$f":"建玉一覧取得!D67","v":0},{"$f":"IFERROR(_xll.SNT.StockInst(C62,$E$4),\"wait\")","v":"=IFERROR(SNT.StockInst(C62,$E$4),\"wait\") => 銘柄コードが不正です"},{"$f":"IF($F$3=1,_xll.SNT.StockInstDetail(C62,$F$4),\"\")","v":"=IF($F$3=1,SNT.StockInstDetail(C62,$F$4),\"\") => 銘柄コードが不正です"},{"$f":"IF($G$3=1,_xll.SNT.StockInstDetail(C62,$G$4),\"\")","v":"=IF($G$3=1,SNT.StockInstDetail(C62,$G$4),\"\") => 銘柄コードが不正です"},{"$f":"ROUND(IFERROR(SUM((制限値幅取得!F62-制限値幅取得!E62)*建玉一覧取得!$X$6+制限値幅取得!E62),\"\"),)","v":{"$error":"#VALUE!"}},{"$f":"ROUND(IFERROR(SUM((制限値幅取得!G62-制限値幅取得!E62)*建玉一覧取得!$X$6+制限値幅取得!E62),\"\"),)","v":{"$error":"#VALUE!"}}]
[null,59,{"$f":"建玉一覧取得!C68","v":0},{"$f":"建玉一覧取得!D68","v":0},{"$f":"IFERROR(_xll.SNT.StockInst(C63,$E$4),\"wait\")","v":"=IFERROR(SNT.StockInst(C63,$E$4),\"wait\") => 銘柄コードが不正です"},{"$f":"IF($F$3=1,_xll.SNT.StockInstDetail(C63,$F$4),\"\")","v":"=IF($F$3=1,SNT.StockInstDetail(C63,$F$4),\"\") => 銘柄コードが不正です"},{"$f":"IF($G$3=1,_xll.SNT.StockInstDetail(C63,$G$4),\"\")","v":"=IF($G$3=1,SNT.StockInstDetail(C63,$G$4),\"\") => 銘柄コードが不正です"},{"$f":"ROUND(IFERROR(SUM((制限値幅取得!F63-制限値幅取得!E63)*建玉一覧取得!$X$6+制限値幅取得!E63),\"\"),)","v":{"$error":"#VALUE!"}},{"$f":"ROUND(IFERROR(SUM((制限値幅取得!G63-制限値幅取得!E63)*建玉一覧取得!$X$6+制限値幅取得!E63),\"\"),)","v":{"$error":"#VALUE!"}}]
[null,60,{"$f":"建玉一覧取得!C69","v":0},{"$f":"建玉一覧取得!D69","v":0},{"$f":"IFERROR(_xll.SNT.StockInst(C64,$E$4),\"wait\")","v":"=IFERROR(SNT.StockInst(C64,$E$4),\"wait\") => 銘柄コードが不正です"},{"$f":"IF($F$3=1,_xll.SNT.StockInstDetail(C64,$F$4),\"\")","v":"=IF($F$3=1,SNT.StockInstDetail(C64,$F$4),\"\") => 銘柄コードが不正です"},{"$f":"IF($G$3=1,_xll.SNT.StockInstDetail(C64,$G$4),\"\")","v":"=IF($G$3=1,SNT.StockInstDetail(C64,$G$4),\"\") => 銘柄コードが不正です"},{"$f":"ROUND(IFERROR(SUM((制限値幅取得!F64-制限値幅取得!E64)*建玉一覧取得!$X$6+制限値幅取得!E64),\"\"),)","v":{"$error":"#VALUE!"}},{"$f":"ROUND(IFERROR(SUM((制限値幅取得!G64-制限値幅取得!E64)*建玉一覧取得!$X$6+制限値幅取得!E64),\"\"),)","v":{"$error":"#VALUE!"}}]
[null,61,{"$f":"建玉一覧取得!C70","v":0},{"$f":"建玉一覧取得!D70","v":0},{"$f":"IFERROR(_xll.SNT.StockInst(C65,$E$4),\"wait\")","v":"=IFERROR(SNT.StockInst(C65,$E$4),\"wait\") => 銘柄コードが不正です"},{"$f":"IF($F$3=1,_xll.SNT.StockInstDetail(C65,$F$4),\"\")","v":"=IF($F$3=1,SNT.StockInstDetail(C65,$F$4),\"\") => 銘柄コードが不正です"},{"$f":"IF($G$3=1,_xll.SNT.StockInstDetail(C65,$G$4),\"\")","v":"=IF($G$3=1,SNT.StockInstDetail(C65,$G$4),\"\") => 銘柄コードが不正です"},{"$f":"ROUND(IFERROR(SUM((制限値幅取得!F65-制限値幅取得!E65)*建玉一覧取得!$X$6+制限値幅取得!E65),\"\"),)","v":{"$error":"#VALUE!"}},{"$f":"ROUND(IFERROR(SUM((制限値幅取得!G65-制限値幅取得!E65)*建玉一覧取得!$X$6+制限値幅取得!E65),\"\"),)","v":{"$error":"#VALUE!"}}]
[null,62,{"$f":"建玉一覧取得!C71","v":0},{"$f":"建玉一覧取得!D71","v":0},{"$f":"IFERROR(_xll.SNT.StockInst(C66,$E$4),\"wait\")","v":"=IFERROR(SNT.StockInst(C66,$E$4),\"wait\") => 銘柄コードが不正です"},{"$f":"IF($F$3=1,_xll.SNT.StockInstDetail(C66,$F$4),\"\")","v":"=IF($F$3=1,SNT.StockInstDetail(C66,$F$4),\"\") => 銘柄コードが不正です"},{"$f":"IF($G$3=1,_xll.SNT.StockInstDetail(C66,$G$4),\"\")","v":"=IF($G$3=1,SNT.StockInstDetail(C66,$G$4),\"\") => 銘柄コードが不正です"},{"$f":"ROUND(IFERROR(SUM((制限値幅取得!F66-制限値幅取得!E66)*建玉一覧取得!$X$6+制限値幅取得!E66),\"\"),)","v":{"$error":"#VALUE!"}},{"$f":"ROUND(IFERROR(SUM((制限値幅取得!G66-制限値幅取得!E66)*建玉一覧取得!$X$6+制限値幅取得!E66),\"\"),)","v":{"$error":"#VALUE!"}}]
[null,63,{"$f":"建玉一覧取得!C72","v":0},{"$f":"建玉一覧取得!D72","v":0},{"$f":"IFERROR(_xll.SNT.StockInst(C67,$E$4),\"wait\")","v":"=IFERROR(SNT.StockInst(C67,$E$4),\"wait\") => 銘柄コードが不正です"},{"$f":"IF($F$3=1,_xll.SNT.StockInstDetail(C67,$F$4),\"\")","v":"=IF($F$3=1,SNT.StockInstDetail(C67,$F$4),\"\") => 銘柄コードが不正です"},{"$f":"IF($G$3=1,_xll.SNT.StockInstDetail(C67,$G$4),\"\")","v":"=IF($G$3=1,SNT.StockInstDetail(C67,$G$4),\"\") => 銘柄コードが不正です"},{"$f":"ROUND(IFERROR(SUM((制限値幅取得!F67-制限値幅取得!E67)*建玉一覧取得!$X$6+制限値幅取得!E67),\"\"),)","v":{"$error":"#VALUE!"}},{"$f":"ROUND(IFERROR(SUM((制限値幅取得!G67-制限値幅取得!E67)*建玉一覧取得!$X$6+制限値幅取得!E67),\"\"),)","v":{"$error":"#VALUE!"}}]
[null,64,{"$f":"建玉一覧取得!C73","v":0},{"$f":"建玉一覧取得!D73","v":0},{"$f":"IFERROR(_xll.SNT.StockInst(C68,$E$4),\"wait\")","v":"=IFERROR(SNT.StockInst(C68,$E$4),\"wait\") => 銘柄コードが不正です"},{"$f":"IF($F$3=1,_xll.SNT.StockInstDetail(C68,$F$4),\"\")","v":"=IF($F$3=1,SNT.StockInstDetail(C68,$F$4),\"\") => 銘柄コードが不正です"},{"$f":"IF($G$3=1,_xll.SNT.StockInstDetail(C68,$G$4),\"\")","v":"=IF($G$3=1,SNT.StockInstDetail(C68,$G$4),\"\") => 銘柄コードが不正です"},{"$f":"ROUND(IFERROR(SUM((制限値幅取得!F68-制限値幅取得!E68)*建玉一覧取得!$X$6+制限値幅取得!E68),\"\"),)","v":{"$error":"#VALUE!"}},{"$f":"ROUND(IFERROR(SUM((制限値幅取得!G68-制限値幅取得!E68)*建玉一覧取得!$X$6+制限値幅取得!E68),\"\"),)","v":{"$error":"#VALUE!"}}]
[null,65,{"$f":"建玉一覧取得!C74","v":0},{"$f":"建玉一覧取得!D74","v":0},{"$f":"IFERROR(_xll.SNT.StockInst(C69,$E$4),\"wait\")","v":"=IFERROR(SNT.StockInst(C69,$E$4),\"wait\") => 銘柄コードが不正です"},{"$f":"IF($F$3=1,_xll.SNT.StockInstDetail(C69,$F$4),\"\")","v":"=IF($F$3=1,SNT.StockInstDetail(C69,$F$4),\"\") => 銘柄コードが不正です"},{"$f":"IF($G$3=1,_xll.SNT.StockInstDetail(C69,$G$4),\"\")","v":"=IF($G$3=1,SNT.StockInstDetail(C69,$G$4),\"\") => 銘柄コードが不正です"},{"$f":"ROUND(IFERROR(SUM((制限値幅取得!F69-制限値幅取得!E69)*建玉一覧取得!$X$6+制限値幅取得!E69),\"\"),)","v":{"$error":"#VALUE!"}},{"$f":"ROUND(IFERROR(SUM((制限値幅取得!G69-制限値幅取得!E69)*建玉一覧取得!$X$6+制限値幅取得!E69),\"\"),)","v":{"$error":"#VALUE!"}}]
[null,66,{"$f":"建玉一覧取得!C75","v":0},{"$f":"建玉一覧取得!D75","v":0},{"$f":"IFERROR(_xll.SNT.StockInst(C70,$E$4),\"wait\")","v":"=IFERROR(SNT.StockInst(C70,$E$4),\"wait\") => 銘柄コードが不正です"},{"$f":"IF($F$3=1,_xll.SNT.StockInstDetail(C70,$F$4),\"\")","v":"=IF($F$3=1,SNT.StockInstDetail(C70,$F$4),\"\") => 銘柄コードが不正です"},{"$f":"IF($G$3=1,_xll.SNT.StockInstDetail(C70,$G$4),\"\")","v":"=IF($G$3=1,SNT.StockInstDetail(C70,$G$4),\"\") => 銘柄コードが不正です"},{"$f":"ROUND(IFERROR(SUM((制限値幅取得!F70-制限値幅取得!E70)*建玉一覧取得!$X$6+制限値幅取得!E70),\"\"),)","v":{"$error":"#VALUE!"}},{"$f":"ROUND(IFERROR(SUM((制限値幅取得!G70-制限値幅取得!E70)*建玉一覧取得!$X$6+制限値幅取得!E70),\"\"),)","v":{"$error":"#VALUE!"}}]
[null,67,{"$f":"建玉一覧取得!C76","v":0},{"$f":"建玉一覧取得!D76","v":0},{"$f":"IFERROR(_xll.SNT.StockInst(C71,$E$4),\"wait\")","v":"=IFERROR(SNT.StockInst(C71,$E$4),\"wait\") => 銘柄コードが不正です"},{"$f":"IF($F$3=1,_xll.SNT.StockInstDetail(C71,$F$4),\"\")","v":"=IF($F$3=1,SNT.StockInstDetail(C71,$F$4),\"\") => 銘柄コードが不正です"},{"$f":"IF($G$3=1,_xll.SNT.StockInstDetail(C71,$G$4),\"\")","v":"=IF($G$3=1,SNT.StockInstDetail(C71,$G$4),\"\") => 銘柄コードが不正です"},{"$f":"ROUND(IFERROR(SUM((制限値幅取得!F71-制限値幅取得!E71)*建玉一覧取得!$X$6+制限値幅取得!E71),\"\"),)","v":{"$error":"#VALUE!"}},{"$f":"ROUND(IFERROR(SUM((制限値幅取得!G71-制限値幅取得!E71)*建玉一覧取得!$X$6+制限値幅取得!E71),\"\"),)","v":{"$error":"#VALUE!"}}]
[null,68,{"$f":"建玉一覧取得!C77","v":0},{"$f":"建玉一覧取得!D77","v":0},{"$f":"IFERROR(_xll.SNT.StockInst(C72,$E$4),\"wait\")","v":"=IFERROR(SNT.StockInst(C72,$E$4),\"wait\") => 銘柄コードが不正です"},{"$f":"IF($F$3=1,_xll.SNT.StockInstDetail(C72,$F$4),\"\")","v":"=IF($F$3=1,SNT.StockInstDetail(C72,$F$4),\"\") => 銘柄コードが不正です"},{"$f":"IF($G$3=1,_xll.SNT.StockInstDetail(C72,$G$4),\"\")","v":"=IF($G$3=1,SNT.StockInstDetail(C72,$G$4),\"\") => 銘柄コードが不正です"},{"$f":"ROUND(IFERROR(SUM((制限値幅取得!F72-制限値幅取得!E72)*建玉一覧取得!$X$6+制限値幅取得!E72),\"\"),)","v":{"$error":"#VALUE!"}},{"$f":"ROUND(IFERROR(SUM((制限値幅取得!G72-制限値幅取得!E72)*建玉一覧取得!$X$6+制限値幅取得!E72),\"\"),)","v":{"$error":"#VALUE!"}}]
[null,69,{"$f":"建玉一覧取得!C78","v":0},{"$f":"建玉一覧取得!D78","v":0},{"$f":"IFERROR(_xll.SNT.StockInst(C73,$E$4),\"wait\")","v":"=IFERROR(SNT.StockInst(C73,$E$4),\"wait\") => 銘柄コードが不正です"},{"$f":"IF($F$3=1,_xll.SNT.StockInstDetail(C73,$F$4),\"\")","v":"=IF($F$3=1,SNT.StockInstDetail(C73,$F$4),\"\") => 銘柄コードが不正です"},{"$f":"IF($G$3=1,_xll.SNT.StockInstDetail(C73,$G$4),\"\")","v":"=IF($G$3=1,SNT.StockInstDetail(C73,$G$4),\"\") => 銘柄コードが不正です"},{"$f":"ROUND(IFERROR(SUM((制限値幅取得!F73-制限値幅取得!E73)*建玉一覧取得!$X$6+制限値幅取得!E73),\"\"),)","v":{"$error":"#VALUE!"}},{"$f":"ROUND(IFERROR(SUM((制限値幅取得!G73-制限値幅取得!E73)*建玉一覧取得!$X$6+制限値幅取得!E73),\"\"),)","v":{"$error":"#VALUE!"}}]
[null,70,{"$f":"建玉一覧取得!C79","v":0},{"$f":"建玉一覧取得!D79","v":0},{"$f":"IFERROR(_xll.SNT.StockInst(C74,$E$4),\"wait\")","v":"=IFERROR(SNT.StockInst(C74,$E$4),\"wait\") => 銘柄コードが不正です"},{"$f":"IF($F$3=1,_xll.SNT.StockInstDetail(C74,$F$4),\"\")","v":"=IF($F$3=1,SNT.StockInstDetail(C74,$F$4),\"\") => 銘柄コードが不正です"},{"$f":"IF($G$3=1,_xll.SNT.StockInstDetail(C74,$G$4),\"\")","v":"=IF($G$3=1,SNT.StockInstDetail(C74,$G$4),\"\") => 銘柄コードが不正です"},{"$f":"ROUND(IFERROR(SUM((制限値幅取得!F74-制限値幅取得!E74)*建玉一覧取得!$X$6+制限値幅取得!E74),\"\"),)","v":{"$error":"#VALUE!"}},{"$f":"ROUND(IFERROR(SUM((制限値幅取得!G74-制限値幅取得!E74)*建玉一覧取得!$X$6+制限値幅取得!E74),\"\"),)","v":{"$error":"#VALUE!"}}]
[null,71,{"$f":"建玉一覧取得!C80","v":0},{"$f":"建玉一覧取得!D80","v":0},{"$f":"IFERROR(_xll.SNT.StockInst(C75,$E$4),\"wait\")","v":"=IFERROR(SNT.StockInst(C75,$E$4),\"wait\") => 銘柄コードが不正です"},{"$f":"IF($F$3=1,_xll.SNT.StockInstDetail(C75,$F$4),\"\")","v":"=IF($F$3=1,SNT.StockInstDetail(C75,$F$4),\"\") => 銘柄コードが不正です"},{"$f":"IF($G$3=1,_xll.SNT.StockInstDetail(C75,$G$4),\"\")","v":"=IF($G$3=1,SNT.StockInstDetail(C75,$G$4),\"\") => 銘柄コードが不正です"},{"$f":"ROUND(IFERROR(SUM((制限値幅取得!F75-制限値幅取得!E75)*建玉一覧取得!$X$6+制限値幅取得!E75),\"\"),)","v":{"$error":"#VALUE!"}},{"$f":"ROUND(IFERROR(SUM((制限値幅取得!G75-制限値幅取得!E75)*建玉一覧取得!$X$6+制限値幅取得!E75),\"\"),)","v":{"$error":"#VALUE!"}}]
[null,72,{"$f":"建玉一覧取得!C81","v":0},{"$f":"建玉一覧取得!D81","v":0},{"$f":"IFERROR(_xll.SNT.StockInst(C76,$E$4),\"wait\")","v":"=IFERROR(SNT.StockInst(C76,$E$4),\"wait\") => 銘柄コードが不正です"},{"$f":"IF($F$3=1,_xll.SNT.StockInstDetail(C76,$F$4),\"\")","v":"=IF($F$3=1,SNT.StockInstDetail(C76,$F$4),\"\") => 銘柄コードが不正です"},{"$f":"IF($G$3=1,_xll.SNT.StockInstDetail(C76,$G$4),\"\")","v":"=IF($G$3=1,SNT.StockInstDetail(C76,$G$4),\"\") => 銘柄コードが不正です"},{"$f":"ROUND(IFERROR(SUM((制限値幅取得!F76-制限値幅取得!E76)*建玉一覧取得!$X$6+制限値幅取得!E76),\"\"),)","v":{"$error":"#VALUE!"}},{"$f":"ROUND(IFERROR(SUM((制限値幅取得!G76-制限値幅取得!E76)*建玉一覧取得!$X$6+制限値幅取得!E76),\"\"),)","v":{"$error":"#VALUE!"}}]
[null,73,{"$f":"建玉一覧取得!C82","v":0},{"$f":"建玉一覧取得!D82","v":0},{"$f":"IFERROR(_xll.SNT.StockInst(C77,$E$4),\"wait\")","v":"=IFERROR(SNT.StockInst(C77,$E$4),\"wait\") => 銘柄コードが不正です"},{"$f":"IF($F$3=1,_xll.SNT.StockInstDetail(C77,$F$4),\"\")","v":"=IF($F$3=1,SNT.StockInstDetail(C77,$F$4),\"\") => 銘柄コードが不正です"},{"$f":"IF($G$3=1,_xll.SNT.StockInstDetail(C77,$G$4),\"\")","v":"=IF($G$3=1,SNT.StockInstDetail(C77,$G$4),\"\") => 銘柄コードが不正です"},{"$f":"ROUND(IFERROR(SUM((制限値幅取得!F77-制限値幅取得!E77)*建玉一覧取得!$X$6+制限値幅取得!E77),\"\"),)","v":{"$error":"#VALUE!"}},{"$f":"ROUND(IFERROR(SUM((制限値幅取得!G77-制限値幅取得!E77)*建玉一覧取得!$X$6+制限値幅取得!E77),\"\"),)","v":{"$error":"#VALUE!"}}]
[null,74,{"$f":"建玉一覧取得!C83","v":0},{"$f":"建玉一覧取得!D83","v":0},{"$f":"IFERROR(_xll.SNT.StockInst(C78,$E$4),\"wait\")","v":"=IFERROR(SNT.StockInst(C78,$E$4),\"wait\") => 銘柄コードが不正です"},{"$f":"IF($F$3=1,_xll.SNT.StockInstDetail(C78,$F$4),\"\")","v":"=IF($F$3=1,SNT.StockInstDetail(C78,$F$4),\"\") => 銘柄コードが不正です"},{"$f":"IF($G$3=1,_xll.SNT.StockInstDetail(C78,$G$4),\"\")","v":"=IF($G$3=1,SNT.StockInstDetail(C78,$G$4),\"\") => 銘柄コードが不正です"},{"$f":"ROUND(IFERROR(SUM((制限値幅取得!F78-制限値幅取得!E78)*建玉一覧取得!$X$6+制限値幅取得!E78),\"\"),)","v":{"$error":"#VALUE!"}},{"$f":"ROUND(IFERROR(SUM((制限値幅取得!G78-制限値幅取得!E78)*建玉一覧取得!$X$6+制限値幅取得!E78),\"\"),)","v":{"$error":"#VALUE!"}}]
[null,75,{"$f":"建玉一覧取得!C84","v":0},{"$f":"建玉一覧取得!D84","v":0},{"$f":"IFERROR(_xll.SNT.StockInst(C79,$E$4),\"wait\")","v":"=IFERROR(SNT.StockInst(C79,$E$4),\"wait\") => 銘柄コードが不正です"},{"$f":"IF($F$3=1,_xll.SNT.StockInstDetail(C79,$F$4),\"\")","v":"=IF($F$3=1,SNT.StockInstDetail(C79,$F$4),\"\") => 銘柄コードが不正です"},{"$f":"IF($G$3=1,_xll.SNT.StockInstDetail(C79,$G$4),\"\")","v":"=IF($G$3=1,SNT.StockInstDetail(C79,$G$4),\"\") => 銘柄コードが不正です"},{"$f":"ROUND(IFERROR(SUM((制限値幅取得!F79-制限値幅取得!E79)*建玉一覧取得!$X$6+制限値幅取得!E79),\"\"),)","v":{"$error":"#VALUE!"}},{"$f":"ROUND(IFERROR(SUM((制限値幅取得!G79-制限値幅取得!E79)*建玉一覧取得!$X$6+制限値幅取得!E79),\"\"),)","v":{"$error":"#VALUE!"}}]
[null,76,{"$f":"建玉一覧取得!C85","v":0},{"$f":"建玉一覧取得!D85","v":0},{"$f":"IFERROR(_xll.SNT.StockInst(C80,$E$4),\"wait\")","v":"=IFERROR(SNT.StockInst(C80,$E$4),\"wait\") => 銘柄コードが不正です"},{"$f":"IF($F$3=1,_xll.SNT.StockInstDetail(C80,$F$4),\"\")","v":"=IF($F$3=1,SNT.StockInstDetail(C80,$F$4),\"\") => 銘柄コードが不正です"},{"$f":"IF($G$3=1,_xll.SNT.StockInstDetail(C80,$G$4),\"\")","v":"=IF($G$3=1,SNT.StockInstDetail(C80,$G$4),\"\") => 銘柄コードが不正です"},{"$f":"ROUND(IFERROR(SUM((制限値幅取得!F80-制限値幅取得!E80)*建玉一覧取得!$X$6+制限値幅取得!E80),\"\"),)","v":{"$error":"#VALUE!"}},{"$f":"ROUND(IFERROR(SUM((制限値幅取得!G80-制限値幅取得!E80)*建玉一覧取得!$X$6+制限値幅取得!E80),\"\"),)","v":{"$error":"#VALUE!"}}]
[null,77,{"$f":"建玉一覧取得!C86","v":0},{"$f":"建玉一覧取得!D86","v":0},{"$f":"IFERROR(_xll.SNT.StockInst(C81,$E$4),\"wait\")","v":"=IFERROR(SNT.StockInst(C81,$E$4),\"wait\") => 銘柄コードが不正です"},{"$f":"IF($F$3=1,_xll.SNT.StockInstDetail(C81,$F$4),\"\")","v":"=IF($F$3=1,SNT.StockInstDetail(C81,$F$4),\"\") => 銘柄コードが不正です"},{"$f":"IF($G$3=1,_xll.SNT.StockInstDetail(C81,$G$4),\"\")","v":"=IF($G$3=1,SNT.StockInstDetail(C81,$G$4),\"\") => 銘柄コードが不正です"},{"$f":"ROUND(IFERROR(SUM((制限値幅取得!F81-制限値幅取得!E81)*建玉一覧取得!$X$6+制限値幅取得!E81),\"\"),)","v":{"$error":"#VALUE!"}},{"$f":"ROUND(IFERROR(SUM((制限値幅取得!G81-制限値幅取得!E81)*建玉一覧取得!$X$6+制限値幅取得!E81),\"\"),)","v":{"$error":"#VALUE!"}}]
[null,78,{"$f":"建玉一覧取得!C87","v":0},{"$f":"建玉一覧取得!D87","v":0},{"$f":"IFERROR(_xll.SNT.StockInst(C82,$E$4),\"wait\")","v":"=IFERROR(SNT.StockInst(C82,$E$4),\"wait\") => 銘柄コードが不正です"},{"$f":"IF($F$3=1,_xll.SNT.StockInstDetail(C82,$F$4),\"\")","v":"=IF($F$3=1,SNT.StockInstDetail(C82,$F$4),\"\") => 銘柄コードが不正です"},{"$f":"IF($G$3=1,_xll.SNT.StockInstDetail(C82,$G$4),\"\")","v":"=IF($G$3=1,SNT.StockInstDetail(C82,$G$4),\"\") => 銘柄コードが不正です"},{"$f":"ROUND(IFERROR(SUM((制限値幅取得!F82-制限値幅取得!E82)*建玉一覧取得!$X$6+制限値幅取得!E82),\"\"),)","v":{"$error":"#VALUE!"}},{"$f":"ROUND(IFERROR(SUM((制限値幅取得!G82-制限値幅取得!E82)*建玉一覧取得!$X$6+制限値幅取得!E82),\"\"),)","v":{"$error":"#VALUE!"}}]
[null,79,{"$f":"建玉一覧取得!C88","v":0},{"$f":"建玉一覧取得!D88","v":0},{"$f":"IFERROR(_xll.SNT.StockInst(C83,$E$4),\"wait\")","v":"=IFERROR(SNT.StockInst(C83,$E$4),\"wait\") => 銘柄コードが不正です"},{"$f":"IF($F$3=1,_xll.SNT.StockInstDetail(C83,$F$4),\"\")","v":"=IF($F$3=1,SNT.StockInstDetail(C83,$F$4),\"\") => 銘柄コードが不正です"},{"$f":"IF($G$3=1,_xll.SNT.StockInstDetail(C83,$G$4),\"\")","v":"=IF($G$3=1,SNT.StockInstDetail(C83,$G$4),\"\") => 銘柄コードが不正です"},{"$f":"ROUND(IFERROR(SUM((制限値幅取得!F83-制限値幅取得!E83)*建玉一覧取得!$X$6+制限値幅取得!E83),\"\"),)","v":{"$error":"#VALUE!"}},{"$f":"ROUND(IFERROR(SUM((制限値幅取得!G83-制限値幅取得!E83)*建玉一覧取得!$X$6+制限値幅取得!E83),\"\"),)","v":{"$error":"#VALUE!"}}]
[null,80,{"$f":"建玉一覧取得!C89","v":0},{"$f":"建玉一覧取得!D89","v":0},{"$f":"IFERROR(_xll.SNT.StockInst(C84,$E$4),\"wait\")","v":"=IFERROR(SNT.StockInst(C84,$E$4),\"wait\") => 銘柄コードが不正です"},{"$f":"IF($F$3=1,_xll.SNT.StockInstDetail(C84,$F$4),\"\")","v":"=IF($F$3=1,SNT.StockInstDetail(C84,$F$4),\"\") => 銘柄コードが不正です"},{"$f":"IF($G$3=1,_xll.SNT.StockInstDetail(C84,$G$4),\"\")","v":"=IF($G$3=1,SNT.StockInstDetail(C84,$G$4),\"\") => 銘柄コードが不正です"},{"$f":"ROUND(IFERROR(SUM((制限値幅取得!F84-制限値幅取得!E84)*建玉一覧取得!$X$6+制限値幅取得!E84),\"\"),)","v":{"$error":"#VALUE!"}},{"$f":"ROUND(IFERROR(SUM((制限値幅取得!G84-制限値幅取得!E84)*建玉一覧取得!$X$6+制限値幅取得!E84),\"\"),)","v":{"$error":"#VALUE!"}}]
[null,81,{"$f":"建玉一覧取得!C90","v":0},{"$f":"建玉一覧取得!D90","v":0},{"$f":"IFERROR(_xll.SNT.StockInst(C85,$E$4),\"wait\")","v":"=IFERROR(SNT.StockInst(C85,$E$4),\"wait\") => 銘柄コードが不正です"},{"$f":"IF($F$3=1,_xll.SNT.StockInstDetail(C85,$F$4),\"\")","v":"=IF($F$3=1,SNT.StockInstDetail(C85,$F$4),\"\") => 銘柄コードが不正です"},{"$f":"IF($G$3=1,_xll.SNT.StockInstDetail(C85,$G$4),\"\")","v":"=IF($G$3=1,SNT.StockInstDetail(C85,$G$4),\"\") => 銘柄コードが不正です"},{"$f":"ROUND(IFERROR(SUM((制限値幅取得!F85-制限値幅取得!E85)*建玉一覧取得!$X$6+制限値幅取得!E85),\"\"),)","v":{"$error":"#VALUE!"}},{"$f":"ROUND(IFERROR(SUM((制限値幅取得!G85-制限値幅取得!E85)*建玉一覧取得!$X$6+制限値幅取得!E85),\"\"),)","v":{"$error":"#VALUE!"}}]
[null,82,{"$f":"建玉一覧取得!C91","v":0},{"$f":"建玉一覧取得!D91","v":0},{"$f":"IFERROR(_xll.SNT.StockInst(C86,$E$4),\"wait\")","v":"=IFERROR(SNT.StockInst(C86,$E$4),\"wait\") => 銘柄コードが不正です"},{"$f":"IF($F$3=1,_xll.SNT.StockInstDetail(C86,$F$4),\"\")","v":"=IF($F$3=1,SNT.StockInstDetail(C86,$F$4),\"\") => 銘柄コードが不正です"},{"$f":"IF($G$3=1,_xll.SNT.StockInstDetail(C86,$G$4),\"\")","v":"=IF($G$3=1,SNT.StockInstDetail(C86,$G$4),\"\") => 銘柄コードが不正です"},{"$f":"ROUND(IFERROR(SUM((制限値幅取得!F86-制限値幅取得!E86)*建玉一覧取得!$X$6+制限値幅取得!E86),\"\"),)","v":{"$error":"#VALUE!"}},{"$f":"ROUND(IFERROR(SUM((制限値幅取得!G86-制限値幅取得!E86)*建玉一覧取得!$X$6+制限値幅取得!E86),\"\"),)","v":{"$error":"#VALUE!"}}]
[null,83,{"$f":"建玉一覧取得!C92","v":0},{"$f":"建玉一覧取得!D92","v":0},{"$f":"IFERROR(_xll.SNT.StockInst(C87,$E$4),\"wait\")","v":"=IFERROR(SNT.StockInst(C87,$E$4),\"wait\") => 銘柄コードが不正です"},{"$f":"IF($F$3=1,_xll.SNT.StockInstDetail(C87,$F$4),\"\")","v":"=IF($F$3=1,SNT.StockInstDetail(C87,$F$4),\"\") => 銘柄コードが不正です"},{"$f":"IF($G$3=1,_xll.SNT.StockInstDetail(C87,$G$4),\"\")","v":"=IF($G$3=1,SNT.StockInstDetail(C87,$G$4),\"\") => 銘柄コードが不正です"},{"$f":"ROUND(IFERROR(SUM((制限値幅取得!F87-制限値幅取得!E87)*建玉一覧取得!$X$6+制限値幅取得!E87),\"\"),)","v":{"$error":"#VALUE!"}},{"$f":"ROUND(IFERROR(SUM((制限値幅取得!G87-制限値幅取得!E87)*建玉一覧取得!$X$6+制限値幅取得!E87),\"\"),)","v":{"$error":"#VALUE!"}}]
[null,84,{"$f":"建玉一覧取得!C93","v":0},{"$f":"建玉一覧取得!D93","v":0},{"$f":"IFERROR(_xll.SNT.StockInst(C88,$E$4),\"wait\")","v":"=IFERROR(SNT.StockInst(C88,$E$4),\"wait\") => 銘柄コードが不正です"},{"$f":"IF($F$3=1,_xll.SNT.StockInstDetail(C88,$F$4),\"\")","v":"=IF($F$3=1,SNT.StockInstDetail(C88,$F$4),\"\") => 銘柄コードが不正です"},{"$f":"IF($G$3=1,_xll.SNT.StockInstDetail(C88,$G$4),\"\")","v":"=IF($G$3=1,SNT.StockInstDetail(C88,$G$4),\"\") => 銘柄コードが不正です"},{"$f":"ROUND(IFERROR(SUM((制限値幅取得!F88-制限値幅取得!E88)*建玉一覧取得!$X$6+制限値幅取得!E88),\"\"),)","v":{"$error":"#VALUE!"}},{"$f":"ROUND(IFERROR(SUM((制限値幅取得!G88-制限値幅取得!E88)*建玉一覧取得!$X$6+制限値幅取得!E88),\"\"),)","v":{"$error":"#VALUE!"}}]
[null,85,{"$f":"建玉一覧取得!C94","v":0},{"$f":"建玉一覧取得!D94","v":0},{"$f":"IFERROR(_xll.SNT.StockInst(C89,$E$4),\"wait\")","v":"=IFERROR(SNT.StockInst(C89,$E$4),\"wait\") => 銘柄コードが不正です"},{"$f":"IF($F$3=1,_xll.SNT.StockInstDetail(C89,$F$4),\"\")","v":"=IF($F$3=1,SNT.StockInstDetail(C89,$F$4),\"\") => 銘柄コードが不正です"},{"$f":"IF($G$3=1,_xll.SNT.StockInstDetail(C89,$G$4),\"\")","v":"=IF($G$3=1,SNT.StockInstDetail(C89,$G$4),\"\") => 銘柄コードが不正です"},{"$f":"ROUND(IFERROR(SUM((制限値幅取得!F89-制限値幅取得!E89)*建玉一覧取得!$X$6+制限値幅取得!E89),\"\"),)","v":{"$error":"#VALUE!"}},{"$f":"ROUND(IFERROR(SUM((制限値幅取得!G89-制限値幅取得!E89)*建玉一覧取得!$X$6+制限値幅取得!E89),\"\"),)","v":{"$error":"#VALUE!"}}]
[null,86,{"$f":"建玉一覧取得!C95","v":0},{"$f":"建玉一覧取得!D95","v":0},{"$f":"IFERROR(_xll.SNT.StockInst(C90,$E$4),\"wait\")","v":"=IFERROR(SNT.StockInst(C90,$E$4),\"wait\") => 銘柄コードが不正です"},{"$f":"IF($F$3=1,_xll.SNT.StockInstDetail(C90,$F$4),\"\")","v":"=IF($F$3=1,SNT.StockInstDetail(C90,$F$4),\"\") => 銘柄コードが不正です"},{"$f":"IF($G$3=1,_xll.SNT.StockInstDetail(C90,$G$4),\"\")","v":"=IF($G$3=1,SNT.StockInstDetail(C90,$G$4),\"\") => 銘柄コードが不正です"},{"$f":"ROUND(IFERROR(SUM((制限値幅取得!F90-制限値幅取得!E90)*建玉一覧取得!$X$6+制限値幅取得!E90),\"\"),)","v":{"$error":"#VALUE!"}},{"$f":"ROUND(IFERROR(SUM((制限値幅取得!G90-制限値幅取得!E90)*建玉一覧取得!$X$6+制限値幅取得!E90),\"\"),)","v":{"$error":"#VALUE!"}}]
[null,87,{"$f":"建玉一覧取得!C96","v":0},{"$f":"建玉一覧取得!D96","v":0},{"$f":"IFERROR(_xll.SNT.StockInst(C91,$E$4),\"wait\")","v":"=IFERROR(SNT.StockInst(C91,$E$4),\"wait\") => 銘柄コードが不正です"},{"$f":"IF($F$3=1,_xll.SNT.StockInstDetail(C91,$F$4),\"\")","v":"=IF($F$3=1,SNT.StockInstDetail(C91,$F$4),\"\") => 銘柄コードが不正です"},{"$f":"IF($G$3=1,_xll.SNT.StockInstDetail(C91,$G$4),\"\")","v":"=IF($G$3=1,SNT.StockInstDetail(C91,$G$4),\"\") => 銘柄コードが不正です"},{"$f":"ROUND(IFERROR(SUM((制限値幅取得!F91-制限値幅取得!E91)*建玉一覧取得!$X$6+制限値幅取得!E91),\"\"),)","v":{"$error":"#VALUE!"}},{"$f":"ROUND(IFERROR(SUM((制限値幅取得!G91-制限値幅取得!E91)*建玉一覧取得!$X$6+制限値幅取得!E91),\"\"),)","v":{"$error":"#VALUE!"}}]
[null,88,{"$f":"建玉一覧取得!C97","v":0},{"$f":"建玉一覧取得!D97","v":0},{"$f":"IFERROR(_xll.SNT.StockInst(C92,$E$4),\"wait\")","v":"=IFERROR(SNT.StockInst(C92,$E$4),\"wait\") => 銘柄コードが不正です"},{"$f":"IF($F$3=1,_xll.SNT.StockInstDetail(C92,$F$4),\"\")","v":"=IF($F$3=1,SNT.StockInstDetail(C92,$F$4),\"\") => 銘柄コードが不正です"},{"$f":"IF($G$3=1,_xll.SNT.StockInstDetail(C92,$G$4),\"\")","v":"=IF($G$3=1,SNT.StockInstDetail(C92,$G$4),\"\") => 銘柄コードが不正です"},{"$f":"ROUND(IFERROR(SUM((制限値幅取得!F92-制限値幅取得!E92)*建玉一覧取得!$X$6+制限値幅取得!E92),\"\"),)","v":{"$error":"#VALUE!"}},{"$f":"ROUND(IFERROR(SUM((制限値幅取得!G92-制限値幅取得!E92)*建玉一覧取得!$X$6+制限値幅取得!E92),\"\"),)","v":{"$error":"#VALUE!"}}]
[null,89,{"$f":"建玉一覧取得!C98","v":0},{"$f":"建玉一覧取得!D98","v":0},{"$f":"IFERROR(_xll.SNT.StockInst(C93,$E$4),\"wait\")","v":"=IFERROR(SNT.StockInst(C93,$E$4),\"wait\") => 銘柄コードが不正です"},{"$f":"IF($F$3=1,_xll.SNT.StockInstDetail(C93,$F$4),\"\")","v":"=IF($F$3=1,SNT.StockInstDetail(C93,$F$4),\"\") => 銘柄コードが不正です"},{"$f":"IF($G$3=1,_xll.SNT.StockInstDetail(C93,$G$4),\"\")","v":"=IF($G$3=1,SNT.StockInstDetail(C93,$G$4),\"\") => 銘柄コードが不正です"},{"$f":"ROUND(IFERROR(SUM((制限値幅取得!F93-制限値幅取得!E93)*建玉一覧取得!$X$6+制限値幅取得!E93),\"\"),)","v":{"$error":"#VALUE!"}},{"$f":"ROUND(IFERROR(SUM((制限値幅取得!G93-制限値幅取得!E93)*建玉一覧取得!$X$6+制限値幅取得!E93),\"\"),)","v":{"$error":"#VALUE!"}}]
[null,90,{"$f":"建玉一覧取得!C99","v":0},{"$f":"建玉一覧取得!D99","v":0},{"$f":"IFERROR(_xll.SNT.StockInst(C94,$E$4),\"wait\")","v":"=IFERROR(SNT.StockInst(C94,$E$4),\"wait\") => 銘柄コードが不正です"},{"$f":"IF($F$3=1,_xll.SNT.StockInstDetail(C94,$F$4),\"\")","v":"=IF($F$3=1,SNT.StockInstDetail(C94,$F$4),\"\") => 銘柄コードが不正です"},{"$f":"IF($G$3=1,_xll.SNT.StockInstDetail(C94,$G$4),\"\")","v":"=IF($G$3=1,SNT.StockInstDetail(C94,$G$4),\"\") => 銘柄コードが不正です"},{"$f":"ROUND(IFERROR(SUM((制限値幅取得!F94-制限値幅取得!E94)*建玉一覧取得!$X$6+制限値幅取得!E94),\"\"),)","v":{"$error":"#VALUE!"}},{"$f":"ROUND(IFERROR(SUM((制限値幅取得!G94-制限値幅取得!E94)*建玉一覧取得!$X$6+制限値幅取得!E94),\"\"),)","v":{"$error":"#VALUE!"}}]
[null,91,{"$f":"建玉一覧取得!C100","v":0},{"$f":"建玉一覧取得!D100","v":0},{"$f":"IFERROR(_xll.SNT.StockInst(C95,$E$4),\"wait\")","v":"=IFERROR(SNT.StockInst(C95,$E$4),\"wait\") => 銘柄コードが不正です"},{"$f":"IF($F$3=1,_xll.SNT.StockInstDetail(C95,$F$4),\"\")","v":"=IF($F$3=1,SNT.StockInstDetail(C95,$F$4),\"\") => 銘柄コードが不正です"},{"$f":"IF($G$3=1,_xll.SNT.StockInstDetail(C95,$G$4),\"\")","v":"=IF($G$3=1,SNT.StockInstDetail(C95,$G$4),\"\") => 銘柄コードが不正です"},{"$f":"ROUND(IFERROR(SUM((制限値幅取得!F95-制限値幅取得!E95)*建玉一覧取得!$X$6+制限値幅取得!E95),\"\"),)","v":{"$error":"#VALUE!"}},{"$f":"ROUND(IFERROR(SUM((制限値幅取得!G95-制限値幅取得!E95)*建玉一覧取得!$X$6+制限値幅取得!E95),\"\"),)","v":{"$error":"#VALUE!"}}]
[null,92,{"$f":"建玉一覧取得!C101","v":0},{"$f":"建玉一覧取得!D101","v":0},{"$f":"IFERROR(_xll.SNT.StockInst(C96,$E$4),\"wait\")","v":"=IFERROR(SNT.StockInst(C96,$E$4),\"wait\") => 銘柄コードが不正です"},{"$f":"IF($F$3=1,_xll.SNT.StockInstDetail(C96,$F$4),\"\")","v":"=IF($F$3=1,SNT.StockInstDetail(C96,$F$4),\"\") => 銘柄コードが不正です"},{"$f":"IF($G$3=1,_xll.SNT.StockInstDetail(C96,$G$4),\"\")","v":"=IF($G$3=1,SNT.StockInstDetail(C96,$G$4),\"\") => 銘柄コードが不正です"},{"$f":"ROUND(IFERROR(SUM((制限値幅取得!F96-制限値幅取得!E96)*建玉一覧取得!$X$6+制限値幅取得!E96),\"\"),)","v":{"$error":"#VALUE!"}},{"$f":"ROUND(IFERROR(SUM((制限値幅取得!G96-制限値幅取得!E96)*建玉一覧取得!$X$6+制限値幅取得!E96),\"\"),)","v":{"$error":"#VALUE!"}}]
[null,93,{"$f":"建玉一覧取得!C102","v":0},{"$f":"建玉一覧取得!D102","v":0},{"$f":"IFERROR(_xll.SNT.StockInst(C97,$E$4),\"wait\")","v":"=IFERROR(SNT.StockInst(C97,$E$4),\"wait\") => 銘柄コードが不正です"},{"$f":"IF($F$3=1,_xll.SNT.StockInstDetail(C97,$F$4),\"\")","v":"=IF($F$3=1,SNT.StockInstDetail(C97,$F$4),\"\") => 銘柄コードが不正です"},{"$f":"IF($G$3=1,_xll.SNT.StockInstDetail(C97,$G$4),\"\")","v":"=IF($G$3=1,SNT.StockInstDetail(C97,$G$4),\"\") => 銘柄コードが不正です"},{"$f":"ROUND(IFERROR(SUM((制限値幅取得!F97-制限値幅取得!E97)*建玉一覧取得!$X$6+制限値幅取得!E97),\"\"),)","v":{"$error":"#VALUE!"}},{"$f":"ROUND(IFERROR(SUM((制限値幅取得!G97-制限値幅取得!E97)*建玉一覧取得!$X$6+制限値幅取得!E97),\"\"),)","v":{"$error":"#VALUE!"}}]
[null,94,{"$f":"建玉一覧取得!C103","v":0},{"$f":"建玉一覧取得!D103","v":0},{"$f":"IFERROR(_xll.SNT.StockInst(C98,$E$4),\"wait\")","v":"=IFERROR(SNT.StockInst(C98,$E$4),\"wait\") => 銘柄コードが不正です"},{"$f":"IF($F$3=1,_xll.SNT.StockInstDetail(C98,$F$4),\"\")","v":"=IF($F$3=1,SNT.StockInstDetail(C98,$F$4),\"\") => 銘柄コードが不正です"},{"$f":"IF($G$3=1,_xll.SNT.StockInstDetail(C98,$G$4),\"\")","v":"=IF($G$3=1,SNT.StockInstDetail(C98,$G$4),\"\") => 銘柄コードが不正です"},{"$f":"ROUND(IFERROR(SUM((制限値幅取得!F98-制限値幅取得!E98)*建玉一覧取得!$X$6+制限値幅取得!E98),\"\"),)","v":{"$error":"#VALUE!"}},{"$f":"ROUND(IFERROR(SUM((制限値幅取得!G98-制限値幅取得!E98)*建玉一覧取得!$X$6+制限値幅取得!E98),\"\"),)","v":{"$error":"#VALUE!"}}]
[null,95,{"$f":"建玉一覧取得!C104","v":0},{"$f":"建玉一覧取得!D104","v":0},{"$f":"_xll.SNT.StockInst(建玉一覧取得!C104,\"前日終値\")","v":"=SNT.StockInst(建玉一覧取得!C104,\"前日終値\") => 銘柄コードが不正です"},{"$f":"_xll.SNT.StockInstDetail(建玉一覧取得!C104,\"値幅上限値\")","v":"=SNT.StockInstDetail(建玉一覧取得!C104,\"値幅上限値\") => 銘柄コードが不正です"},{"$f":"_xll.SNT.StockInstDetail(建玉一覧取得!C104,\"値幅下限値\")","v":"=SNT.StockInstDetail(建玉一覧取得!C104,\"値幅下限値\") => 銘柄コードが不正です"},{"$f":"ROUND(IFERROR(SUM((制限値幅取得!F99-制限値幅取得!E99)*建玉一覧取得!$X$6+制限値幅取得!E99),\"\"),)","v":{"$error":"#VALUE!"}},{"$f":"ROUND(IFERROR(SUM((制限値幅取得!G99-制限値幅取得!E99)*建玉一覧取得!$X$6+制限値幅取得!E99),\"\"),)","v":{"$error":"#VALUE!"}}]
[null,96,{"$f":"建玉一覧取得!C105","v":0},{"$f":"建玉一覧取得!D105","v":0},{"$f":"_xll.SNT.StockInst(建玉一覧取得!C105,\"前日終値\")","v":"=SNT.StockInst(建玉一覧取得!C105,\"前日終値\") => 銘柄コードが不正です"},{"$f":"_xll.SNT.StockInstDetail(建玉一覧取得!C105,\"値幅上限値\")","v":"=SNT.StockInstDetail(建玉一覧取得!C105,\"値幅上限値\") => 銘柄コードが不正です"},{"$f":"_xll.SNT.StockInstDetail(建玉一覧取得!C105,\"値幅下限値\")","v":"=SNT.StockInstDetail(建玉一覧取得!C105,\"値幅下限値\") => 銘柄コードが不正です"},{"$f":"ROUND(IFERROR(SUM((制限値幅取得!F100-制限値幅取得!E100)*建玉一覧取得!$X$6+制限値幅取得!E100),\"\"),)","v":{"$error":"#VALUE!"}},{"$f":"ROUND(IFERROR(SUM((制限値幅取得!G100-制限値幅取得!E100)*建玉一覧取得!$X$6+制限値幅取得!E100),\"\"),)","v":{"$error":"#VALUE!"}}]
[null,97,{"$f":"建玉一覧取得!C106","v":0},{"$f":"建玉一覧取得!D106","v":0},{"$f":"_xll.SNT.StockInst(建玉一覧取得!C106,\"前日終値\")","v":"=SNT.StockInst(建玉一覧取得!C106,\"前日終値\") => 銘柄コードが不正です"},{"$f":"_xll.SNT.StockInstDetail(建玉一覧取得!C106,\"値幅上限値\")","v":"=SNT.StockInstDetail(建玉一覧取得!C106,\"値幅上限値\") => 銘柄コードが不正です"},{"$f":"_xll.SNT.StockInstDetail(建玉一覧取得!C106,\"値幅下限値\")","v":"=SNT.StockInstDetail(建玉一覧取得!C106,\"値幅下限値\") => 銘柄コードが不正です"},{"$f":"ROUND(IFERROR(SUM((制限値幅取得!F101-制限値幅取得!E101)*建玉一覧取得!$X$6+制限値幅取得!E101),\"\"),)","v":{"$error":"#VALUE!"}},{"$f":"ROUND(IFERROR(SUM((制限値幅取得!G101-制限値幅取得!E101)*建玉一覧取得!$X$6+制限値幅取得!E101),\"\"),)","v":{"$error":"#VALUE!"}}]
[null,98,{"$f":"建玉一覧取得!C107","v":0},{"$f":"建玉一覧取得!D107","v":0},{"$f":"_xll.SNT.StockInst(建玉一覧取得!C107,\"前日終値\")","v":"=SNT.StockInst(建玉一覧取得!C107,\"前日終値\") => 銘柄コードが不正です"},{"$f":"_xll.SNT.StockInstDetail(建玉一覧取得!C107,\"値幅上限値\")","v":"=SNT.StockInstDetail(建玉一覧取得!C107,\"値幅上限値\") => 銘柄コードが不正です"},{"$f":"_xll.SNT.StockInstDetail(建玉一覧取得!C107,\"値幅下限値\")","v":"=SNT.StockInstDetail(建玉一覧取得!C107,\"値幅下限値\") => 銘柄コードが不正です"},{"$f":"ROUND(IFERROR(SUM((制限値幅取得!F102-制限値幅取得!E102)*建玉一覧取得!$X$6+制限値幅取得!E102),\"\"),)","v":{"$error":"#VALUE!"}},{"$f":"ROUND(IFERROR(SUM((制限値幅取得!G102-制限値幅取得!E102)*建玉一覧取得!$X$6+制限値幅取得!E102),\"\"),)","v":{"$error":"#VALUE!"}}]
[null,99,{"$f":"建玉一覧取得!C108","v":0},{"$f":"建玉一覧取得!D108","v":0},{"$f":"_xll.SNT.StockInst(建玉一覧取得!C108,\"前日終値\")","v":"=SNT.StockInst(建玉一覧取得!C108,\"前日終値\") => 銘柄コードが不正です"},{"$f":"_xll.SNT.StockInstDetail(建玉一覧取得!C108,\"値幅上限値\")","v":"=SNT.StockInstDetail(建玉一覧取得!C108,\"値幅上限値\") => 銘柄コードが不正です"},{"$f":"_xll.SNT.StockInstDetail(建玉一覧取得!C108,\"値幅下限値\")","v":"=SNT.StockInstDetail(建玉一覧取得!C108,\"値幅下限値\") => 銘柄コードが不正です"},{"$f":"ROUND(IFERROR(SUM((制限値幅取得!F103-制限値幅取得!E103)*建玉一覧取得!$X$6+制限値幅取得!E103),\"\"),)","v":{"$error":"#VALUE!"}},{"$f":"ROUND(IFERROR(SUM((制限値幅取得!G103-制限値幅取得!E103)*建玉一覧取得!$X$6+制限値幅取得!E103),\"\"),)","v":{"$error":"#VALUE!"}}]
[null,100,{"$f":"建玉一覧取得!C109","v":0},{"$f":"建玉一覧取得!D109","v":0},{"$f":"_xll.SNT.StockInst(建玉一覧取得!C109,\"前日終値\")","v":"=SNT.StockInst(建玉一覧取得!C109,\"前日終値\") => 銘柄コードが不正です"},{"$f":"_xll.SNT.StockInstDetail(建玉一覧取得!C109,\"値幅上限値\")","v":"=SNT.StockInstDetail(建玉一覧取得!C109,\"値幅上限値\") => 銘柄コードが不正です"},{"$f":"_xll.SNT.StockInstDetail(建玉一覧取得!C109,\"値幅下限値\")","v":"=SNT.StockInstDetail(建玉一覧取得!C109,\"値幅下限値\") => 銘柄コードが不正です"},{"$f":"ROUND(IFERROR(SUM((制限値幅取得!F104-制限値幅取得!E104)*建玉一覧取得!$X$6+制限値幅取得!E104),\"\"),)","v":{"$error":"#VALUE!"}},{"$f":"ROUND(IFERROR(SUM((制限値幅取得!G104-制限値幅取得!E104)*建玉一覧取得!$X$6+制限値幅取得!E104),\"\"),)","v":{"$error":"#VALUE!"}}]
[null,101,{"$f":"建玉一覧取得!C110","v":0},{"$f":"建玉一覧取得!D110","v":0},{"$f":"_xll.SNT.StockInst(建玉一覧取得!C110,\"前日終値\")","v":"=SNT.StockInst(建玉一覧取得!C110,\"前日終値\") => 銘柄コードが不正です"},{"$f":"_xll.SNT.StockInstDetail(建玉一覧取得!C110,\"値幅上限値\")","v":"=SNT.StockInstDetail(建玉一覧取得!C110,\"値幅上限値\") => 銘柄コードが不正です"},{"$f":"_xll.SNT.StockInstDetail(建玉一覧取得!C110,\"値幅下限値\")","v":"=SNT.StockInstDetail(建玉一覧取得!C110,\"値幅下限値\") => 銘柄コードが不正です"},{"$f":"ROUND(IFERROR(SUM((制限値幅取得!F105-制限値幅取得!E105)*建玉一覧取得!$X$6+制限値幅取得!E105),\"\"),)","v":{"$error":"#VALUE!"}},{"$f":"ROUND(IFERROR(SUM((制限値幅取得!G105-制限値幅取得!E105)*建玉一覧取得!$X$6+制限値幅取得!E105),\"\"),)","v":{"$error":"#VALUE!"}}]
[null,102,{"$f":"建玉一覧取得!C111","v":0},{"$f":"建玉一覧取得!D111","v":0},{"$f":"_xll.SNT.StockInst(建玉一覧取得!C111,\"前日終値\")","v":"=SNT.StockInst(建玉一覧取得!C111,\"前日終値\") => 銘柄コードが不正です"},{"$f":"_xll.SNT.StockInstDetail(建玉一覧取得!C111,\"値幅上限値\")","v":"=SNT.StockInstDetail(建玉一覧取得!C111,\"値幅上限値\") => 銘柄コードが不正です"},{"$f":"_xll.SNT.StockInstDetail(建玉一覧取得!C111,\"値幅下限値\")","v":"=SNT.StockInstDetail(建玉一覧取得!C111,\"値幅下限値\") => 銘柄コードが不正です"},{"$f":"ROUND(IFERROR(SUM((制限値幅取得!F106-制限値幅取得!E106)*建玉一覧取得!$X$6+制限値幅取得!E106),\"\"),)","v":{"$error":"#VALUE!"}},{"$f":"ROUND(IFERROR(SUM((制限値幅取得!G106-制限値幅取得!E106)*建玉一覧取得!$X$6+制限値幅取得!E106),\"\"),)","v":{"$error":"#VALUE!"}}]
[null,103,{"$f":"建玉一覧取得!C112","v":0},{"$f":"建玉一覧取得!D112","v":0},{"$f":"_xll.SNT.StockInst(建玉一覧取得!C112,\"前日終値\")","v":"=SNT.StockInst(建玉一覧取得!C112,\"前日終値\") => 銘柄コードが不正です"},{"$f":"_xll.SNT.StockInstDetail(建玉一覧取得!C112,\"値幅上限値\")","v":"=SNT.StockInstDetail(建玉一覧取得!C112,\"値幅上限値\") => 銘柄コードが不正です"},{"$f":"_xll.SNT.StockInstDetail(建玉一覧取得!C112,\"値幅下限値\")","v":"=SNT.StockInstDetail(建玉一覧取得!C112,\"値幅下限値\") => 銘柄コードが不正です"},{"$f":"ROUND(IFERROR(SUM((制限値幅取得!F107-制限値幅取得!E107)*建玉一覧取得!$X$6+制限値幅取得!E107),\"\"),)","v":{"$error":"#VALUE!"}},{"$f":"ROUND(IFERROR(SUM((制限値幅取得!G107-制限値幅取得!E107)*建玉一覧取得!$X$6+制限値幅取得!E107),\"\"),)","v":{"$error":"#VALUE!"}}]
[null,104,{"$f":"建玉一覧取得!C113","v":0},{"$f":"建玉一覧取得!D113","v":0},{"$f":"_xll.SNT.StockInst(建玉一覧取得!C113,\"前日終値\")","v":"=SNT.StockInst(建玉一覧取得!C113,\"前日終値\") => 銘柄コードが不正です"},{"$f":"_xll.SNT.StockInstDetail(建玉一覧取得!C113,\"値幅上限値\")","v":"=SNT.StockInstDetail(建玉一覧取得!C113,\"値幅上限値\") => 銘柄コードが不正です"},{"$f":"_xll.SNT.StockInstDetail(建玉一覧取得!C113,\"値幅下限値\")","v":"=SNT.StockInstDetail(建玉一覧取得!C113,\"値幅下限値\") => 銘柄コードが不正です"},{"$f":"ROUND(IFERROR(SUM((制限値幅取得!F108-制限値幅取得!E108)*建玉一覧取得!$X$6+制限値幅取得!E108),\"\"),)","v":{"$error":"#VALUE!"}},{"$f":"ROUND(IFERROR(SUM((制限値幅取得!G108-制限値幅取得!E108)*建玉一覧取得!$X$6+制限値幅取得!E108),\"\"),)","v":{"$error":"#VALUE!"}}]
[null,105,{"$f":"建玉一覧取得!C114","v":0},{"$f":"建玉一覧取得!D114","v":0},{"$f":"_xll.SNT.StockInst(建玉一覧取得!C114,\"前日終値\")","v":"=SNT.StockInst(建玉一覧取得!C114,\"前日終値\") => 銘柄コードが不正です"},{"$f":"_xll.SNT.StockInstDetail(建玉一覧取得!C114,\"値幅上限値\")","v":"=SNT.StockInstDetail(建玉一覧取得!C114,\"値幅上限値\") => 銘柄コードが不正です"},{"$f":"_xll.SNT.StockInstDetail(建玉一覧取得!C114,\"値幅下限値\")","v":"=SNT.StockInstDetail(建玉一覧取得!C114,\"値幅下限値\") => 銘柄コードが不正です"},{"$f":"ROUND(IFERROR(SUM((制限値幅取得!F109-制限値幅取得!E109)*建玉一覧取得!$X$6+制限値幅取得!E109),\"\"),)","v":{"$error":"#VALUE!"}},{"$f":"ROUND(IFERROR(SUM((制限値幅取得!G109-制限値幅取得!E109)*建玉一覧取得!$X$6+制限値幅取得!E109),\"\"),)","v":{"$error":"#VALUE!"}}]
[null,106,{"$f":"建玉一覧取得!C115","v":0},{"$f":"建玉一覧取得!D115","v":0},{"$f":"_xll.SNT.StockInst(建玉一覧取得!C115,\"前日終値\")","v":"=SNT.StockInst(建玉一覧取得!C115,\"前日終値\") => 銘柄コードが不正です"},{"$f":"_xll.SNT.StockInstDetail(建玉一覧取得!C115,\"値幅上限値\")","v":"=SNT.StockInstDetail(建玉一覧取得!C115,\"値幅上限値\") => 銘柄コードが不正です"},{"$f":"_xll.SNT.StockInstDetail(建玉一覧取得!C115,\"値幅下限値\")","v":"=SNT.StockInstDetail(建玉一覧取得!C115,\"値幅下限値\") => 銘柄コードが不正です"},{"$f":"ROUND(IFERROR(SUM((制限値幅取得!F110-制限値幅取得!E110)*建玉一覧取得!$X$6+制限値幅取得!E110),\"\"),)","v":{"$error":"#VALUE!"}},{"$f":"ROUND(IFERROR(SUM((制限値幅取得!G110-制限値幅取得!E110)*建玉一覧取得!$X$6+制限値幅取得!E110),\"\"),)","v":{"$error":"#VALUE!"}}]
[null,107,{"$f":"建玉一覧取得!C116","v":0},{"$f":"建玉一覧取得!D116","v":0},{"$f":"_xll.SNT.StockInst(建玉一覧取得!C116,\"前日終値\")","v":"=SNT.StockInst(建玉一覧取得!C116,\"前日終値\") => 銘柄コードが不正です"},{"$f":"_xll.SNT.StockInstDetail(建玉一覧取得!C116,\"値幅上限値\")","v":"=SNT.StockInstDetail(建玉一覧取得!C116,\"値幅上限値\") => 銘柄コードが不正です"},{"$f":"_xll.SNT.StockInstDetail(建玉一覧取得!C116,\"値幅下限値\")","v":"=SNT.StockInstDetail(建玉一覧取得!C116,\"値幅下限値\") => 銘柄コードが不正です"},{"$f":"ROUND(IFERROR(SUM((制限値幅取得!F111-制限値幅取得!E111)*建玉一覧取得!$X$6+制限値幅取得!E111),\"\"),)","v":{"$error":"#VALUE!"}},{"$f":"ROUND(IFERROR(SUM((制限値幅取得!G111-制限値幅取得!E111)*建玉一覧取得!$X$6+制限値幅取得!E111),\"\"),)","v":{"$error":"#VALUE!"}}]
[null,108,{"$f":"建玉一覧取得!C117","v":0},{"$f":"建玉一覧取得!D117","v":0},{"$f":"_xll.SNT.StockInst(建玉一覧取得!C117,\"前日終値\")","v":"=SNT.StockInst(建玉一覧取得!C117,\"前日終値\") => 銘柄コードが不正です"},{"$f":"_xll.SNT.StockInstDetail(建玉一覧取得!C117,\"値幅上限値\")","v":"=SNT.StockInstDetail(建玉一覧取得!C117,\"値幅上限値\") => 銘柄コードが不正です"},{"$f":"_xll.SNT.StockInstDetail(建玉一覧取得!C117,\"値幅下限値\")","v":"=SNT.StockInstDetail(建玉一覧取得!C117,\"値幅下限値\") => 銘柄コードが不正です"},{"$f":"ROUND(IFERROR(SUM((制限値幅取得!F112-制限値幅取得!E112)*建玉一覧取得!$X$6+制限値幅取得!E112),\"\"),)","v":{"$error":"#VALUE!"}},{"$f":"ROUND(IFERROR(SUM((制限値幅取得!G112-制限値幅取得!E112)*建玉一覧取得!$X$6+制限値幅取得!E112),\"\"),)","v":{"$error":"#VALUE!"}}]
[null,109,{"$f":"建玉一覧取得!C118","v":0},{"$f":"建玉一覧取得!D118","v":0},{"$f":"_xll.SNT.StockInst(建玉一覧取得!C118,\"前日終値\")","v":"=SNT.StockInst(建玉一覧取得!C118,\"前日終値\") => 銘柄コードが不正です"},{"$f":"_xll.SNT.StockInstDetail(建玉一覧取得!C118,\"値幅上限値\")","v":"=SNT.StockInstDetail(建玉一覧取得!C118,\"値幅上限値\") => 銘柄コードが不正です"},{"$f":"_xll.SNT.StockInstDetail(建玉一覧取得!C118,\"値幅下限値\")","v":"=SNT.StockInstDetail(建玉一覧取得!C118,\"値幅下限値\") => 銘柄コードが不正です"},{"$f":"ROUND(IFERROR(SUM((制限値幅取得!F113-制限値幅取得!E113)*建玉一覧取得!$X$6+制限値幅取得!E113),\"\"),)","v":{"$error":"#VALUE!"}},{"$f":"ROUND(IFERROR(SUM((制限値幅取得!G113-制限値幅取得!E113)*建玉一覧取得!$X$6+制限値幅取得!E113),\"\"),)","v":{"$error":"#VALUE!"}}]
[null,110,{"$f":"建玉一覧取得!C119","v":0},{"$f":"建玉一覧取得!D119","v":0},{"$f":"_xll.SNT.StockInst(建玉一覧取得!C119,\"前日終値\")","v":"=SNT.StockInst(建玉一覧取得!C119,\"前日終値\") => 銘柄コードが不正です"},{"$f":"_xll.SNT.StockInstDetail(建玉一覧取得!C119,\"値幅上限値\")","v":"=SNT.StockInstDetail(建玉一覧取得!C119,\"値幅上限値\") => 銘柄コードが不正です"},{"$f":"_xll.SNT.StockInstDetail(建玉一覧取得!C119,\"値幅下限値\")","v":"=SNT.StockInstDetail(建玉一覧取得!C119,\"値幅下限値\") => 銘柄コードが不正です"},{"$f":"ROUND(IFERROR(SUM((制限値幅取得!F114-制限値幅取得!E114)*建玉一覧取得!$X$6+制限値幅取得!E114),\"\"),)","v":{"$error":"#VALUE!"}},{"$f":"ROUND(IFERROR(SUM((制限値幅取得!G114-制限値幅取得!E114)*建玉一覧取得!$X$6+制限値幅取得!E114),\"\"),)","v":{"$error":"#VALUE!"}}]
[null,111,{"$f":"建玉一覧取得!C120","v":0},{"$f":"建玉一覧取得!D120","v":0},{"$f":"_xll.SNT.StockInst(建玉一覧取得!C120,\"前日終値\")","v":"=SNT.StockInst(建玉一覧取得!C120,\"前日終値\") => 銘柄コードが不正です"},{"$f":"_xll.SNT.StockInstDetail(建玉一覧取得!C120,\"値幅上限値\")","v":"=SNT.StockInstDetail(建玉一覧取得!C120,\"値幅上限値\") => 銘柄コードが不正です"},{"$f":"_xll.SNT.StockInstDetail(建玉一覧取得!C120,\"値幅下限値\")","v":"=SNT.StockInstDetail(建玉一覧取得!C120,\"値幅下限値\") => 銘柄コードが不正です"},{"$f":"ROUND(IFERROR(SUM((制限値幅取得!F115-制限値幅取得!E115)*建玉一覧取得!$X$6+制限値幅取得!E115),\"\"),)","v":{"$error":"#VALUE!"}},{"$f":"ROUND(IFERROR(SUM((制限値幅取得!G115-制限値幅取得!E115)*建玉一覧取得!$X$6+制限値幅取得!E115),\"\"),)","v":{"$error":"#VALUE!"}}]
[null,112,{"$f":"建玉一覧取得!C121","v":0},{"$f":"建玉一覧取得!D121","v":0},{"$f":"_xll.SNT.StockInst(建玉一覧取得!C121,\"前日終値\")","v":"=SNT.StockInst(建玉一覧取得!C121,\"前日終値\") => 銘柄コードが不正です"},{"$f":"_xll.SNT.StockInstDetail(建玉一覧取得!C121,\"値幅上限値\")","v":"=SNT.StockInstDetail(建玉一覧取得!C121,\"値幅上限値\") => 銘柄コードが不正です"},{"$f":"_xll.SNT.StockInstDetail(建玉一覧取得!C121,\"値幅下限値\")","v":"=SNT.StockInstDetail(建玉一覧取得!C121,\"値幅下限値\") => 銘柄コードが不正です"},{"$f":"ROUND(IFERROR(SUM((制限値幅取得!F116-制限値幅取得!E116)*建玉一覧取得!$X$6+制限値幅取得!E116),\"\"),)","v":{"$error":"#VALUE!"}},{"$f":"ROUND(IFERROR(SUM((制限値幅取得!G116-制限値幅取得!E116)*建玉一覧取得!$X$6+制限値幅取得!E116),\"\"),)","v":{"$error":"#VALUE!"}}]
[null,113,{"$f":"建玉一覧取得!C122","v":0},{"$f":"建玉一覧取得!D122","v":0},{"$f":"_xll.SNT.StockInst(建玉一覧取得!C122,\"前日終値\")","v":"=SNT.StockInst(建玉一覧取得!C122,\"前日終値\") => 銘柄コードが不正です"},{"$f":"_xll.SNT.StockInstDetail(建玉一覧取得!C122,\"値幅上限値\")","v":"=SNT.StockInstDetail(建玉一覧取得!C122,\"値幅上限値\") => 銘柄コードが不正です"},{"$f":"_xll.SNT.StockInstDetail(建玉一覧取得!C122,\"値幅下限値\")","v":"=SNT.StockInstDetail(建玉一覧取得!C122,\"値幅下限値\") => 銘柄コードが不正です"},{"$f":"ROUND(IFERROR(SUM((制限値幅取得!F117-制限値幅取得!E117)*建玉一覧取得!$X$6+制限値幅取得!E117),\"\"),)","v":{"$error":"#VALUE!"}},{"$f":"ROUND(IFERROR(SUM((制限値幅取得!G117-制限値幅取得!E117)*建玉一覧取得!$X$6+制限値幅取得!E117),\"\"),)","v":{"$error":"#VALUE!"}}]
[null,114,{"$f":"建玉一覧取得!C123","v":0},{"$f":"建玉一覧取得!D123","v":0},{"$f":"_xll.SNT.StockInst(建玉一覧取得!C123,\"前日終値\")","v":"=SNT.StockInst(建玉一覧取得!C123,\"前日終値\") => 銘柄コードが不正です"},{"$f":"_xll.SNT.StockInstDetail(建玉一覧取得!C123,\"値幅上限値\")","v":"=SNT.StockInstDetail(建玉一覧取得!C123,\"値幅上限値\") => 銘柄コードが不正です"},{"$f":"_xll.SNT.StockInstDetail(建玉一覧取得!C123,\"値幅下限値\")","v":"=SNT.StockInstDetail(建玉一覧取得!C123,\"値幅下限値\") => 銘柄コードが不正です"},{"$f":"ROUND(IFERROR(SUM((制限値幅取得!F118-制限値幅取得!E118)*建玉一覧取得!$X$6+制限値幅取得!E118),\"\"),)","v":{"$error":"#VALUE!"}},{"$f":"ROUND(IFERROR(SUM((制限値幅取得!G118-制限値幅取得!E118)*建玉一覧取得!$X$6+制限値幅取得!E118),\"\"),)","v":{"$error":"#VALUE!"}}]
[null,115,{"$f":"建玉一覧取得!C124","v":0},{"$f":"建玉一覧取得!D124","v":0},{"$f":"_xll.SNT.StockInst(建玉一覧取得!C124,\"前日終値\")","v":"=SNT.StockInst(建玉一覧取得!C124,\"前日終値\") => 銘柄コードが不正です"},{"$f":"_xll.SNT.StockInstDetail(建玉一覧取得!C124,\"値幅上限値\")","v":"=SNT.StockInstDetail(建玉一覧取得!C124,\"値幅上限値\") => 銘柄コードが不正です"},{"$f":"_xll.SNT.StockInstDetail(建玉一覧取得!C124,\"値幅下限値\")","v":"=SNT.StockInstDetail(建玉一覧取得!C124,\"値幅下限値\") => 銘柄コードが不正です"},{"$f":"ROUND(IFERROR(SUM((制限値幅取得!F119-制限値幅取得!E119)*建玉一覧取得!$X$6+制限値幅取得!E119),\"\"),)","v":{"$error":"#VALUE!"}},{"$f":"ROUND(IFERROR(SUM((制限値幅取得!G119-制限値幅取得!E119)*建玉一覧取得!$X$6+制限値幅取得!E119),\"\"),)","v":{"$error":"#VALUE!"}}]
[null,116,{"$f":"建玉一覧取得!C125","v":0},{"$f":"建玉一覧取得!D125","v":0},{"$f":"_xll.SNT.StockInst(建玉一覧取得!C125,\"前日終値\")","v":"=SNT.StockInst(建玉一覧取得!C125,\"前日終値\") => 銘柄コードが不正です"},{"$f":"_xll.SNT.StockInstDetail(建玉一覧取得!C125,\"値幅上限値\")","v":"=SNT.StockInstDetail(建玉一覧取得!C125,\"値幅上限値\") => 銘柄コードが不正です"},{"$f":"_xll.SNT.StockInstDetail(建玉一覧取得!C125,\"値幅下限値\")","v":"=SNT.StockInstDetail(建玉一覧取得!C125,\"値幅下限値\") => 銘柄コードが不正です"},{"$f":"ROUND(IFERROR(SUM((制限値幅取得!F120-制限値幅取得!E120)*建玉一覧取得!$X$6+制限値幅取得!E120),\"\"),)","v":{"$error":"#VALUE!"}},{"$f":"ROUND(IFERROR(SUM((制限値幅取得!G120-制限値幅取得!E120)*建玉一覧取得!$X$6+制限値幅取得!E120),\"\"),)","v":{"$error":"#VALUE!"}}]
[null,117,{"$f":"建玉一覧取得!C126","v":0},{"$f":"建玉一覧取得!D126","v":0},{"$f":"_xll.SNT.StockInst(建玉一覧取得!C126,\"前日終値\")","v":"=SNT.StockInst(建玉一覧取得!C126,\"前日終値\") => 銘柄コードが不正です"},{"$f":"_xll.SNT.StockInstDetail(建玉一覧取得!C126,\"値幅上限値\")","v":"=SNT.StockInstDetail(建玉一覧取得!C126,\"値幅上限値\") => 銘柄コードが不正です"},{"$f":"_xll.SNT.StockInstDetail(建玉一覧取得!C126,\"値幅下限値\")","v":"=SNT.StockInstDetail(建玉一覧取得!C126,\"値幅下限値\") => 銘柄コードが不正です"},{"$f":"ROUND(IFERROR(SUM((制限値幅取得!F121-制限値幅取得!E121)*建玉一覧取得!$X$6+制限値幅取得!E121),\"\"),)","v":{"$error":"#VALUE!"}},{"$f":"ROUND(IFERROR(SUM((制限値幅取得!G121-制限値幅取得!E121)*建玉一覧取得!$X$6+制限値幅取得!E121),\"\"),)","v":{"$error":"#VALUE!"}}]
[null,118,{"$f":"建玉一覧取得!C127","v":0},{"$f":"建玉一覧取得!D127","v":0},{"$f":"_xll.SNT.StockInst(建玉一覧取得!C127,\"前日終値\")","v":"=SNT.StockInst(建玉一覧取得!C127,\"前日終値\") => 銘柄コードが不正です"},{"$f":"_xll.SNT.StockInstDetail(建玉一覧取得!C127,\"値幅上限値\")","v":"=SNT.StockInstDetail(建玉一覧取得!C127,\"値幅上限値\") => 銘柄コードが不正です"},{"$f":"_xll.SNT.StockInstDetail(建玉一覧取得!C127,\"値幅下限値\")","v":"=SNT.StockInstDetail(建玉一覧取得!C127,\"値幅下限値\") => 銘柄コードが不正です"},{"$f":"ROUND(IFERROR(SUM((制限値幅取得!F122-制限値幅取得!E122)*建玉一覧取得!$X$6+制限値幅取得!E122),\"\"),)","v":{"$error":"#VALUE!"}},{"$f":"ROUND(IFERROR(SUM((制限値幅取得!G122-制限値幅取得!E122)*建玉一覧取得!$X$6+制限値幅取得!E122),\"\"),)","v":{"$error":"#VALUE!"}}]
[null,119,{"$f":"建玉一覧取得!C128","v":0},{"$f":"建玉一覧取得!D128","v":0},{"$f":"_xll.SNT.StockInst(建玉一覧取得!C128,\"前日終値\")","v":"=SNT.StockInst(建玉一覧取得!C128,\"前日終値\") => 銘柄コードが不正です"},{"$f":"_xll.SNT.StockInstDetail(建玉一覧取得!C128,\"値幅上限値\")","v":"=SNT.StockInstDetail(建玉一覧取得!C128,\"値幅上限値\") => 銘柄コードが不正です"},{"$f":"_xll.SNT.StockInstDetail(建玉一覧取得!C128,\"値幅下限値\")","v":"=SNT.StockInstDetail(建玉一覧取得!C128,\"値幅下限値\") => 銘柄コードが不正です"},{"$f":"ROUND(IFERROR(SUM((制限値幅取得!F123-制限値幅取得!E123)*建玉一覧取得!$X$6+制限値幅取得!E123),\"\"),)","v":{"$error":"#VALUE!"}},{"$f":"ROUND(IFERROR(SUM((制限値幅取得!G123-制限値幅取得!E123)*建玉一覧取得!$X$6+制限値幅取得!E123),\"\"),)","v":{"$error":"#VALUE!"}}]
[null,120,{"$f":"建玉一覧取得!C129","v":0},{"$f":"建玉一覧取得!D129","v":0},{"$f":"_xll.SNT.StockInst(建玉一覧取得!C129,\"前日終値\")","v":"=SNT.StockInst(建玉一覧取得!C129,\"前日終値\") => 銘柄コードが不正です"},{"$f":"_xll.SNT.StockInstDetail(建玉一覧取得!C129,\"値幅上限値\")","v":"=SNT.StockInstDetail(建玉一覧取得!C129,\"値幅上限値\") => 銘柄コードが不正です"},{"$f":"_xll.SNT.StockInstDetail(建玉一覧取得!C129,\"値幅下限値\")","v":"=SNT.StockInstDetail(建玉一覧取得!C129,\"値幅下限値\") => 銘柄コードが不正です"},{"$f":"ROUND(IFERROR(SUM((制限値幅取得!F124-制限値幅取得!E124)*建玉一覧取得!$X$6+制限値幅取得!E124),\"\"),)","v":{"$error":"#VALUE!"}},{"$f":"ROUND(IFERROR(SUM((制限値幅取得!G124-制限値幅取得!E124)*建玉一覧取得!$X$6+制限値幅取得!E124),\"\"),)","v":{"$error":"#VALUE!"}}]
[null,121,{"$f":"建玉一覧取得!C130","v":0},{"$f":"建玉一覧取得!D130","v":0},{"$f":"_xll.SNT.StockInst(建玉一覧取得!C130,\"前日終値\")","v":"=SNT.StockInst(建玉一覧取得!C130,\"前日終値\") => 銘柄コードが不正です"},{"$f":"_xll.SNT.StockInstDetail(建玉一覧取得!C130,\"値幅上限値\")","v":"=SNT.StockInstDetail(建玉一覧取得!C130,\"値幅上限値\") => 銘柄コードが不正です"},{"$f":"_xll.SNT.StockInstDetail(建玉一覧取得!C130,\"値幅下限値\")","v":"=SNT.StockInstDetail(建玉一覧取得!C130,\"値幅下限値\") => 銘柄コードが不正です"},{"$f":"ROUND(IFERROR(SUM((制限値幅取得!F125-制限値幅取得!E125)*建玉一覧取得!$X$6+制限値幅取得!E125),\"\"),)","v":{"$error":"#VALUE!"}},{"$f":"ROUND(IFERROR(SUM((制限値幅取得!G125-制限値幅取得!E125)*建玉一覧取得!$X$6+制限値幅取得!E125),\"\"),)","v":{"$error":"#VALUE!"}}]
[null,122,{"$f":"建玉一覧取得!C131","v":0},{"$f":"建玉一覧取得!D131","v":0},{"$f":"_xll.SNT.StockInst(建玉一覧取得!C131,\"前日終値\")","v":"=SNT.StockInst(建玉一覧取得!C131,\"前日終値\") => 銘柄コードが不正です"},{"$f":"_xll.SNT.StockInstDetail(建玉一覧取得!C131,\"値幅上限値\")","v":"=SNT.StockInstDetail(建玉一覧取得!C131,\"値幅上限値\") => 銘柄コードが不正です"},{"$f":"_xll.SNT.StockInstDetail(建玉一覧取得!C131,\"値幅下限値\")","v":"=SNT.StockInstDetail(建玉一覧取得!C131,\"値幅下限値\") => 銘柄コードが不正です"},{"$f":"ROUND(IFERROR(SUM((制限値幅取得!F126-制限値幅取得!E126)*建玉一覧取得!$X$6+制限値幅取得!E126),\"\"),)","v":{"$error":"#VALUE!"}},{"$f":"ROUND(IFERROR(SUM((制限値幅取得!G126-制限値幅取得!E126)*建玉一覧取得!$X$6+制限値幅取得!E126),\"\"),)","v":{"$error":"#VALUE!"}}]
[null,123,{"$f":"建玉一覧取得!C132","v":0},{"$f":"建玉一覧取得!D132","v":0},{"$f":"_xll.SNT.StockInst(建玉一覧取得!C132,\"前日終値\")","v":"=SNT.StockInst(建玉一覧取得!C132,\"前日終値\") => 銘柄コードが不正です"},{"$f":"_xll.SNT.StockInstDetail(建玉一覧取得!C132,\"値幅上限値\")","v":"=SNT.StockInstDetail(建玉一覧取得!C132,\"値幅上限値\") => 銘柄コードが不正です"},{"$f":"_xll.SNT.StockInstDetail(建玉一覧取得!C132,\"値幅下限値\")","v":"=SNT.StockInstDetail(建玉一覧取得!C132,\"値幅下限値\") => 銘柄コードが不正です"},{"$f":"ROUND(IFERROR(SUM((制限値幅取得!F127-制限値幅取得!E127)*建玉一覧取得!$X$6+制限値幅取得!E127),\"\"),)","v":{"$error":"#VALUE!"}},{"$f":"ROUND(IFERROR(SUM((制限値幅取得!G127-制限値幅取得!E127)*建玉一覧取得!$X$6+制限値幅取得!E127),\"\"),)","v":{"$error":"#VALUE!"}}]
[null,124,{"$f":"建玉一覧取得!C133","v":0},{"$f":"建玉一覧取得!D133","v":0},{"$f":"_xll.SNT.StockInst(建玉一覧取得!C133,\"前日終値\")","v":"=SNT.StockInst(建玉一覧取得!C133,\"前日終値\") => 銘柄コードが不正です"},{"$f":"_xll.SNT.StockInstDetail(建玉一覧取得!C133,\"値幅上限値\")","v":"=SNT.StockInstDetail(建玉一覧取得!C133,\"値幅上限値\") => 銘柄コードが不正です"},{"$f":"_xll.SNT.StockInstDetail(建玉一覧取得!C133,\"値幅下限値\")","v":"=SNT.StockInstDetail(建玉一覧取得!C133,\"値幅下限値\") => 銘柄コードが不正です"},{"$f":"ROUND(IFERROR(SUM((制限値幅取得!F128-制限値幅取得!E128)*建玉一覧取得!$X$6+制限値幅取得!E128),\"\"),)","v":{"$error":"#VALUE!"}},{"$f":"ROUND(IFERROR(SUM((制限値幅取得!G128-制限値幅取得!E128)*建玉一覧取得!$X$6+制限値幅取得!E128),\"\"),)","v":{"$error":"#VALUE!"}}]
[null,125,{"$f":"建玉一覧取得!C134","v":0},{"$f":"建玉一覧取得!D134","v":0},{"$f":"_xll.SNT.StockInst(建玉一覧取得!C134,\"前日終値\")","v":"=SNT.StockInst(建玉一覧取得!C134,\"前日終値\") => 銘柄コードが不正です"},{"$f":"_xll.SNT.StockInstDetail(建玉一覧取得!C134,\"値幅上限値\")","v":"=SNT.StockInstDetail(建玉一覧取得!C134,\"値幅上限値\") => 銘柄コードが不正です"},{"$f":"_xll.SNT.StockInstDetail(建玉一覧取得!C134,\"値幅下限値\")","v":"=SNT.StockInstDetail(建玉一覧取得!C134,\"値幅下限値\") => 銘柄コードが不正です"},{"$f":"ROUND(IFERROR(SUM((制限値幅取得!F129-制限値幅取得!E129)*建玉一覧取得!$X$6+制限値幅取得!E129),\"\"),)","v":{"$error":"#VALUE!"}},{"$f":"ROUND(IFERROR(SUM((制限値幅取得!G129-制限値幅取得!E129)*建玉一覧取得!$X$6+制限値幅取得!E129),\"\"),)","v":{"$error":"#VALUE!"}}]
[null,126,{"$f":"建玉一覧取得!C135","v":0},{"$f":"建玉一覧取得!D135","v":0},{"$f":"_xll.SNT.StockInst(建玉一覧取得!C135,\"前日終値\")","v":"=SNT.StockInst(建玉一覧取得!C135,\"前日終値\") => 銘柄コードが不正です"},{"$f":"_xll.SNT.StockInstDetail(建玉一覧取得!C135,\"値幅上限値\")","v":"=SNT.StockInstDetail(建玉一覧取得!C135,\"値幅上限値\") => 銘柄コードが不正です"},{"$f":"_xll.SNT.StockInstDetail(建玉一覧取得!C135,\"値幅下限値\")","v":"=SNT.StockInstDetail(建玉一覧取得!C135,\"値幅下限値\") => 銘柄コードが不正です"},{"$f":"ROUND(IFERROR(SUM((制限値幅取得!F130-制限値幅取得!E130)*建玉一覧取得!$X$6+制限値幅取得!E130),\"\"),)","v":{"$error":"#VALUE!"}},{"$f":"ROUND(IFERROR(SUM((制限値幅取得!G130-制限値幅取得!E130)*建玉一覧取得!$X$6+制限値幅取得!E130),\"\"),)","v":{"$error":"#VALUE!"}}]
[null,127,{"$f":"建玉一覧取得!C136","v":0},{"$f":"建玉一覧取得!D136","v":0},{"$f":"_xll.SNT.StockInst(建玉一覧取得!C136,\"前日終値\")","v":"=SNT.StockInst(建玉一覧取得!C136,\"前日終値\") => 銘柄コードが不正です"},{"$f":"_xll.SNT.StockInstDetail(建玉一覧取得!C136,\"値幅上限値\")","v":"=SNT.StockInstDetail(建玉一覧取得!C136,\"値幅上限値\") => 銘柄コードが不正です"},{"$f":"_xll.SNT.StockInstDetail(建玉一覧取得!C136,\"値幅下限値\")","v":"=SNT.StockInstDetail(建玉一覧取得!C136,\"値幅下限値\") => 銘柄コードが不正です"},{"$f":"ROUND(IFERROR(SUM((制限値幅取得!F131-制限値幅取得!E131)*建玉一覧取得!$X$6+制限値幅取得!E131),\"\"),)","v":{"$error":"#VALUE!"}},{"$f":"ROUND(IFERROR(SUM((制限値幅取得!G131-制限値幅取得!E131)*建玉一覧取得!$X$6+制限値幅取得!E131),\"\"),)","v":{"$error":"#VALUE!"}}]
[null,128,{"$f":"建玉一覧取得!C137","v":0},{"$f":"建玉一覧取得!D137","v":0},{"$f":"_xll.SNT.StockInst(建玉一覧取得!C137,\"前日終値\")","v":"=SNT.StockInst(建玉一覧取得!C137,\"前日終値\") => 銘柄コードが不正です"},{"$f":"_xll.SNT.StockInstDetail(建玉一覧取得!C137,\"値幅上限値\")","v":"=SNT.StockInstDetail(建玉一覧取得!C137,\"値幅上限値\") => 銘柄コードが不正です"},{"$f":"_xll.SNT.StockInstDetail(建玉一覧取得!C137,\"値幅下限値\")","v":"=SNT.StockInstDetail(建玉一覧取得!C137,\"値幅下限値\") => 銘柄コードが不正です"},{"$f":"ROUND(IFERROR(SUM((制限値幅取得!F132-制限値幅取得!E132)*建玉一覧取得!$X$6+制限値幅取得!E132),\"\"),)","v":{"$error":"#VALUE!"}},{"$f":"ROUND(IFERROR(SUM((制限値幅取得!G132-制限値幅取得!E132)*建玉一覧取得!$X$6+制限値幅取得!E132),\"\"),)","v":{"$error":"#VALUE!"}}]
[null,129,{"$f":"建玉一覧取得!C138","v":0},{"$f":"建玉一覧取得!D138","v":0},{"$f":"_xll.SNT.StockInst(建玉一覧取得!C138,\"前日終値\")","v":"=SNT.StockInst(建玉一覧取得!C138,\"前日終値\") => 銘柄コードが不正です"},{"$f":"_xll.SNT.StockInstDetail(建玉一覧取得!C138,\"値幅上限値\")","v":"=SNT.StockInstDetail(建玉一覧取得!C138,\"値幅上限値\") => 銘柄コードが不正です"},{"$f":"_xll.SNT.StockInstDetail(建玉一覧取得!C138,\"値幅下限値\")","v":"=SNT.StockInstDetail(建玉一覧取得!C138,\"値幅下限値\") => 銘柄コードが不正です"},{"$f":"ROUND(IFERROR(SUM((制限値幅取得!F133-制限値幅取得!E133)*建玉一覧取得!$X$6+制限値幅取得!E133),\"\"),)","v":{"$error":"#VALUE!"}},{"$f":"ROUND(IFERROR(SUM((制限値幅取得!G133-制限値幅取得!E133)*建玉一覧取得!$X$6+制限値幅取得!E133),\"\"),)","v":{"$error":"#VALUE!"}}]
[null,130,{"$f":"建玉一覧取得!C139","v":0},{"$f":"建玉一覧取得!D139","v":0},{"$f":"_xll.SNT.StockInst(建玉一覧取得!C139,\"前日終値\")","v":"=SNT.StockInst(建玉一覧取得!C139,\"前日終値\") => 銘柄コードが不正です"},{"$f":"_xll.SNT.StockInstDetail(建玉一覧取得!C139,\"値幅上限値\")","v":"=SNT.StockInstDetail(建玉一覧取得!C139,\"値幅上限値\") => 銘柄コードが不正です"},{"$f":"_xll.SNT.StockInstDetail(建玉一覧取得!C139,\"値幅下限値\")","v":"=SNT.StockInstDetail(建玉一覧取得!C139,\"値幅下限値\") => 銘柄コードが不正です"},{"$f":"ROUND(IFERROR(SUM((制限値幅取得!F134-制限値幅取得!E134)*建玉一覧取得!$X$6+制限値幅取得!E134),\"\"),)","v":{"$error":"#VALUE!"}},{"$f":"ROUND(IFERROR(SUM((制限値幅取得!G134-制限値幅取得!E134)*建玉一覧取得!$X$6+制限値幅取得!E134),\"\"),)","v":{"$error":"#VALUE!"}}]
[null,131,{"$f":"建玉一覧取得!C140","v":0},{"$f":"建玉一覧取得!D140","v":0},{"$f":"_xll.SNT.StockInst(建玉一覧取得!C140,\"前日終値\")","v":"=SNT.StockInst(建玉一覧取得!C140,\"前日終値\") => 銘柄コードが不正です"},{"$f":"_xll.SNT.StockInstDetail(建玉一覧取得!C140,\"値幅上限値\")","v":"=SNT.StockInstDetail(建玉一覧取得!C140,\"値幅上限値\") => 銘柄コードが不正です"},{"$f":"_xll.SNT.StockInstDetail(建玉一覧取得!C140,\"値幅下限値\")","v":"=SNT.StockInstDetail(建玉一覧取得!C140,\"値幅下限値\") => 銘柄コードが不正です"},{"$f":"ROUND(IFERROR(SUM((制限値幅取得!F135-制限値幅取得!E135)*建玉一覧取得!$X$6+制限値幅取得!E135),\"\"),)","v":{"$error":"#VALUE!"}},{"$f":"ROUND(IFERROR(SUM((制限値幅取得!G135-制限値幅取得!E135)*建玉一覧取得!$X$6+制限値幅取得!E135),\"\"),)","v":{"$error":"#VALUE!"}}]
[null,132,{"$f":"建玉一覧取得!C141","v":0},{"$f":"建玉一覧取得!D141","v":0},{"$f":"_xll.SNT.StockInst(建玉一覧取得!C141,\"前日終値\")","v":"=SNT.StockInst(建玉一覧取得!C141,\"前日終値\") => 銘柄コードが不正です"},{"$f":"_xll.SNT.StockInstDetail(建玉一覧取得!C141,\"値幅上限値\")","v":"=SNT.StockInstDetail(建玉一覧取得!C141,\"値幅上限値\") => 銘柄コードが不正です"},{"$f":"_xll.SNT.StockInstDetail(建玉一覧取得!C141,\"値幅下限値\")","v":"=SNT.StockInstDetail(建玉一覧取得!C141,\"値幅下限値\") => 銘柄コードが不正です"},{"$f":"ROUND(IFERROR(SUM((制限値幅取得!F136-制限値幅取得!E136)*建玉一覧取得!$X$6+制限値幅取得!E136),\"\"),)","v":{"$error":"#VALUE!"}},{"$f":"ROUND(IFERROR(SUM((制限値幅取得!G136-制限値幅取得!E136)*建玉一覧取得!$X$6+制限値幅取得!E136),\"\"),)","v":{"$error":"#VALUE!"}}]
[null,133,{"$f":"建玉一覧取得!C142","v":0},{"$f":"建玉一覧取得!D142","v":0},{"$f":"_xll.SNT.StockInst(建玉一覧取得!C142,\"前日終値\")","v":"=SNT.StockInst(建玉一覧取得!C142,\"前日終値\") => 銘柄コードが不正です"},{"$f":"_xll.SNT.StockInstDetail(建玉一覧取得!C142,\"値幅上限値\")","v":"=SNT.StockInstDetail(建玉一覧取得!C142,\"値幅上限値\") => 銘柄コードが不正です"},{"$f":"_xll.SNT.StockInstDetail(建玉一覧取得!C142,\"値幅下限値\")","v":"=SNT.StockInstDetail(建玉一覧取得!C142,\"値幅下限値\") => 銘柄コードが不正です"},{"$f":"ROUND(IFERROR(SUM((制限値幅取得!F137-制限値幅取得!E137)*建玉一覧取得!$X$6+制限値幅取得!E137),\"\"),)","v":{"$error":"#VALUE!"}},{"$f":"ROUND(IFERROR(SUM((制限値幅取得!G137-制限値幅取得!E137)*建玉一覧取得!$X$6+制限値幅取得!E137),\"\"),)","v":{"$error":"#VALUE!"}}]
[null,134,{"$f":"建玉一覧取得!C143","v":0},{"$f":"建玉一覧取得!D143","v":0},{"$f":"_xll.SNT.StockInst(建玉一覧取得!C143,\"前日終値\")","v":"=SNT.StockInst(建玉一覧取得!C143,\"前日終値\") => 銘柄コードが不正です"},{"$f":"_xll.SNT.StockInstDetail(建玉一覧取得!C143,\"値幅上限値\")","v":"=SNT.StockInstDetail(建玉一覧取得!C143,\"値幅上限値\") => 銘柄コードが不正です"},{"$f":"_xll.SNT.StockInstDetail(建玉一覧取得!C143,\"値幅下限値\")","v":"=SNT.StockInstDetail(建玉一覧取得!C143,\"値幅下限値\") => 銘柄コードが不正です"},{"$f":"ROUND(IFERROR(SUM((制限値幅取得!F138-制限値幅取得!E138)*建玉一覧取得!$X$6+制限値幅取得!E138),\"\"),)","v":{"$error":"#VALUE!"}},{"$f":"ROUND(IFERROR(SUM((制限値幅取得!G138-制限値幅取得!E138)*建玉一覧取得!$X$6+制限値幅取得!E138),\"\"),)","v":{"$error":"#VALUE!"}}]
[null,135,{"$f":"建玉一覧取得!C144","v":0},{"$f":"建玉一覧取得!D144","v":0},{"$f":"_xll.SNT.StockInst(建玉一覧取得!C144,\"前日終値\")","v":"=SNT.StockInst(建玉一覧取得!C144,\"前日終値\") => 銘柄コードが不正です"},{"$f":"_xll.SNT.StockInstDetail(建玉一覧取得!C144,\"値幅上限値\")","v":"=SNT.StockInstDetail(建玉一覧取得!C144,\"値幅上限値\") => 銘柄コードが不正です"},{"$f":"_xll.SNT.StockInstDetail(建玉一覧取得!C144,\"値幅下限値\")","v":"=SNT.StockInstDetail(建玉一覧取得!C144,\"値幅下限値\") => 銘柄コードが不正です"},{"$f":"ROUND(IFERROR(SUM((制限値幅取得!F139-制限値幅取得!E139)*建玉一覧取得!$X$6+制限値幅取得!E139),\"\"),)","v":{"$error":"#VALUE!"}},{"$f":"ROUND(IFERROR(SUM((制限値幅取得!G139-制限値幅取得!E139)*建玉一覧取得!$X$6+制限値幅取得!E139),\"\"),)","v":{"$error":"#VALUE!"}}]
[null,136,{"$f":"建玉一覧取得!C145","v":0},{"$f":"建玉一覧取得!D145","v":0},{"$f":"_xll.SNT.StockInst(建玉一覧取得!C145,\"前日終値\")","v":"=SNT.StockInst(建玉一覧取得!C145,\"前日終値\") => 銘柄コードが不正です"},{"$f":"_xll.SNT.StockInstDetail(建玉一覧取得!C145,\"値幅上限値\")","v":"=SNT.StockInstDetail(建玉一覧取得!C145,\"値幅上限値\") => 銘柄コードが不正です"},{"$f":"_xll.SNT.StockInstDetail(建玉一覧取得!C145,\"値幅下限値\")","v":"=SNT.StockInstDetail(建玉一覧取得!C145,\"値幅下限値\") => 銘柄コードが不正です"},{"$f":"ROUND(IFERROR(SUM((制限値幅取得!F140-制限値幅取得!E140)*建玉一覧取得!$X$6+制限値幅取得!E140),\"\"),)","v":{"$error":"#VALUE!"}},{"$f":"ROUND(IFERROR(SUM((制限値幅取得!G140-制限値幅取得!E140)*建玉一覧取得!$X$6+制限値幅取得!E140),\"\"),)","v":{"$error":"#VALUE!"}}]
[null,137,{"$f":"建玉一覧取得!C146","v":0},{"$f":"建玉一覧取得!D146","v":0},{"$f":"_xll.SNT.StockInst(建玉一覧取得!C146,\"前日終値\")","v":"=SNT.StockInst(建玉一覧取得!C146,\"前日終値\") => 銘柄コードが不正です"},{"$f":"_xll.SNT.StockInstDetail(建玉一覧取得!C146,\"値幅上限値\")","v":"=SNT.StockInstDetail(建玉一覧取得!C146,\"値幅上限値\") => 銘柄コードが不正です"},{"$f":"_xll.SNT.StockInstDetail(建玉一覧取得!C146,\"値幅下限値\")","v":"=SNT.StockInstDetail(建玉一覧取得!C146,\"値幅下限値\") => 銘柄コードが不正です"},{"$f":"ROUND(IFERROR(SUM((制限値幅取得!F141-制限値幅取得!E141)*建玉一覧取得!$X$6+制限値幅取得!E141),\"\"),)","v":{"$error":"#VALUE!"}},{"$f":"ROUND(IFERROR(SUM((制限値幅取得!G141-制限値幅取得!E141)*建玉一覧取得!$X$6+制限値幅取得!E141),\"\"),)","v":{"$error":"#VALUE!"}}]
[null,138,{"$f":"建玉一覧取得!C147","v":0},{"$f":"建玉一覧取得!D147","v":0},{"$f":"_xll.SNT.StockInst(建玉一覧取得!C147,\"前日終値\")","v":"=SNT.StockInst(建玉一覧取得!C147,\"前日終値\") => 銘柄コードが不正です"},{"$f":"_xll.SNT.StockInstDetail(建玉一覧取得!C147,\"値幅上限値\")","v":"=SNT.StockInstDetail(建玉一覧取得!C147,\"値幅上限値\") => 銘柄コードが不正です"},{"$f":"_xll.SNT.StockInstDetail(建玉一覧取得!C147,\"値幅下限値\")","v":"=SNT.StockInstDetail(建玉一覧取得!C147,\"値幅下限値\") => 銘柄コードが不正です"},{"$f":"ROUND(IFERROR(SUM((制限値幅取得!F142-制限値幅取得!E142)*建玉一覧取得!$X$6+制限値幅取得!E142),\"\"),)","v":{"$error":"#VALUE!"}},{"$f":"ROUND(IFERROR(SUM((制限値幅取得!G142-制限値幅取得!E142)*建玉一覧取得!$X$6+制限値幅取得!E142),\"\"),)","v":{"$error":"#VALUE!"}}]
[null,139,{"$f":"建玉一覧取得!C148","v":0},{"$f":"建玉一覧取得!D148","v":0},{"$f":"_xll.SNT.StockInst(建玉一覧取得!C148,\"前日終値\")","v":"=SNT.StockInst(建玉一覧取得!C148,\"前日終値\") => 銘柄コードが不正です"},{"$f":"_xll.SNT.StockInstDetail(建玉一覧取得!C148,\"値幅上限値\")","v":"=SNT.StockInstDetail(建玉一覧取得!C148,\"値幅上限値\") => 銘柄コードが不正です"},{"$f":"_xll.SNT.StockInstDetail(建玉一覧取得!C148,\"値幅下限値\")","v":"=SNT.StockInstDetail(建玉一覧取得!C148,\"値幅下限値\") => 銘柄コードが不正です"},{"$f":"ROUND(IFERROR(SUM((制限値幅取得!F143-制限値幅取得!E143)*建玉一覧取得!$X$6+制限値幅取得!E143),\"\"),)","v":{"$error":"#VALUE!"}},{"$f":"ROUND(IFERROR(SUM((制限値幅取得!G143-制限値幅取得!E143)*建玉一覧取得!$X$6+制限値幅取得!E143),\"\"),)","v":{"$error":"#VALUE!"}}]
[null,140,{"$f":"建玉一覧取得!C149","v":0},{"$f":"建玉一覧取得!D149","v":0},{"$f":"_xll.SNT.StockInst(建玉一覧取得!C149,\"前日終値\")","v":"=SNT.StockInst(建玉一覧取得!C149,\"前日終値\") => 銘柄コードが不正です"},{"$f":"_xll.SNT.StockInstDetail(建玉一覧取得!C149,\"値幅上限値\")","v":"=SNT.StockInstDetail(建玉一覧取得!C149,\"値幅上限値\") => 銘柄コードが不正です"},{"$f":"_xll.SNT.StockInstDetail(建玉一覧取得!C149,\"値幅下限値\")","v":"=SNT.StockInstDetail(建玉一覧取得!C149,\"値幅下限値\") => 銘柄コードが不正です"},{"$f":"ROUND(IFERROR(SUM((制限値幅取得!F144-制限値幅取得!E144)*建玉一覧取得!$X$6+制限値幅取得!E144),\"\"),)","v":{"$error":"#VALUE!"}},{"$f":"ROUND(IFERROR(SUM((制限値幅取得!G144-制限値幅取得!E144)*建玉一覧取得!$X$6+制限値幅取得!E144),\"\"),)","v":{"$error":"#VALUE!"}}]
[null,141,{"$f":"建玉一覧取得!C150","v":0},{"$f":"建玉一覧取得!D150","v":0},{"$f":"_xll.SNT.StockInst(建玉一覧取得!C150,\"前日終値\")","v":"=SNT.StockInst(建玉一覧取得!C150,\"前日終値\") => 銘柄コードが不正です"},{"$f":"_xll.SNT.StockInstDetail(建玉一覧取得!C150,\"値幅上限値\")","v":"=SNT.StockInstDetail(建玉一覧取得!C150,\"値幅上限値\") => 銘柄コードが不正です"},{"$f":"_xll.SNT.StockInstDetail(建玉一覧取得!C150,\"値幅下限値\")","v":"=SNT.StockInstDetail(建玉一覧取得!C150,\"値幅下限値\") => 銘柄コードが不正です"},{"$f":"ROUND(IFERROR(SUM((制限値幅取得!F145-制限値幅取得!E145)*建玉一覧取得!$X$6+制限値幅取得!E145),\"\"),)","v":{"$error":"#VALUE!"}},{"$f":"ROUND(IFERROR(SUM((制限値幅取得!G145-制限値幅取得!E145)*建玉一覧取得!$X$6+制限値幅取得!E145),\"\"),)","v":{"$error":"#VALUE!"}}]
[null,142,{"$f":"建玉一覧取得!C151","v":0},{"$f":"建玉一覧取得!D151","v":0},{"$f":"_xll.SNT.StockInst(建玉一覧取得!C151,\"前日終値\")","v":"=SNT.StockInst(建玉一覧取得!C151,\"前日終値\") => 銘柄コードが不正です"},{"$f":"_xll.SNT.StockInstDetail(建玉一覧取得!C151,\"値幅上限値\")","v":"=SNT.StockInstDetail(建玉一覧取得!C151,\"値幅上限値\") => 銘柄コードが不正です"},{"$f":"_xll.SNT.StockInstDetail(建玉一覧取得!C151,\"値幅下限値\")","v":"=SNT.StockInstDetail(建玉一覧取得!C151,\"値幅下限値\") => 銘柄コードが不正です"},{"$f":"ROUND(IFERROR(SUM((制限値幅取得!F146-制限値幅取得!E146)*建玉一覧取得!$X$6+制限値幅取得!E146),\"\"),)","v":{"$error":"#VALUE!"}},{"$f":"ROUND(IFERROR(SUM((制限値幅取得!G146-制限値幅取得!E146)*建玉一覧取得!$X$6+制限値幅取得!E146),\"\"),)","v":{"$error":"#VALUE!"}}]
[null,143,{"$f":"建玉一覧取得!C152","v":0},{"$f":"建玉一覧取得!D152","v":0},{"$f":"_xll.SNT.StockInst(建玉一覧取得!C152,\"前日終値\")","v":"=SNT.StockInst(建玉一覧取得!C152,\"前日終値\") => 銘柄コードが不正です"},{"$f":"_xll.SNT.StockInstDetail(建玉一覧取得!C152,\"値幅上限値\")","v":"=SNT.StockInstDetail(建玉一覧取得!C152,\"値幅上限値\") => 銘柄コードが不正です"},{"$f":"_xll.SNT.StockInstDetail(建玉一覧取得!C152,\"値幅下限値\")","v":"=SNT.StockInstDetail(建玉一覧取得!C152,\"値幅下限値\") => 銘柄コードが不正です"},{"$f":"ROUND(IFERROR(SUM((制限値幅取得!F147-制限値幅取得!E147)*建玉一覧取得!$X$6+制限値幅取得!E147),\"\"),)","v":{"$error":"#VALUE!"}},{"$f":"ROUND(IFERROR(SUM((制限値幅取得!G147-制限値幅取得!E147)*建玉一覧取得!$X$6+制限値幅取得!E147),\"\"),)","v":{"$error":"#VALUE!"}}]
[null,144,{"$f":"建玉一覧取得!C153","v":0},{"$f":"建玉一覧取得!D153","v":0},{"$f":"_xll.SNT.StockInst(建玉一覧取得!C153,\"前日終値\")","v":"=SNT.StockInst(建玉一覧取得!C153,\"前日終値\") => 銘柄コードが不正です"},{"$f":"_xll.SNT.StockInstDetail(建玉一覧取得!C153,\"値幅上限値\")","v":"=SNT.StockInstDetail(建玉一覧取得!C153,\"値幅上限値\") => 銘柄コードが不正です"},{"$f":"_xll.SNT.StockInstDetail(建玉一覧取得!C153,\"値幅下限値\")","v":"=SNT.StockInstDetail(建玉一覧取得!C153,\"値幅下限値\") => 銘柄コードが不正です"},{"$f":"ROUND(IFERROR(SUM((制限値幅取得!F148-制限値幅取得!E148)*建玉一覧取得!$X$6+制限値幅取得!E148),\"\"),)","v":{"$error":"#VALUE!"}},{"$f":"ROUND(IFERROR(SUM((制限値幅取得!G148-制限値幅取得!E148)*建玉一覧取得!$X$6+制限値幅取得!E148),\"\"),)","v":{"$error":"#VALUE!"}}]
[null,145,{"$f":"建玉一覧取得!C154","v":0},{"$f":"建玉一覧取得!D154","v":0},{"$f":"_xll.SNT.StockInst(建玉一覧取得!C154,\"前日終値\")","v":"=SNT.StockInst(建玉一覧取得!C154,\"前日終値\") => 銘柄コードが不正です"},{"$f":"_xll.SNT.StockInstDetail(建玉一覧取得!C154,\"値幅上限値\")","v":"=SNT.StockInstDetail(建玉一覧取得!C154,\"値幅上限値\") => 銘柄コードが不正です"},{"$f":"_xll.SNT.StockInstDetail(建玉一覧取得!C154,\"値幅下限値\")","v":"=SNT.StockInstDetail(建玉一覧取得!C154,\"値幅下限値\") => 銘柄コードが不正です"},{"$f":"ROUND(IFERROR(SUM((制限値幅取得!F149-制限値幅取得!E149)*建玉一覧取得!$X$6+制限値幅取得!E149),\"\"),)","v":{"$error":"#VALUE!"}},{"$f":"ROUND(IFERROR(SUM((制限値幅取得!G149-制限値幅取得!E149)*建玉一覧取得!$X$6+制限値幅取得!E149),\"\"),)","v":{"$error":"#VALUE!"}}]
[null,146,{"$f":"建玉一覧取得!C155","v":0},{"$f":"建玉一覧取得!D155","v":0},{"$f":"_xll.SNT.StockInst(建玉一覧取得!C155,\"前日終値\")","v":"=SNT.StockInst(建玉一覧取得!C155,\"前日終値\") => 銘柄コードが不正です"},{"$f":"_xll.SNT.StockInstDetail(建玉一覧取得!C155,\"値幅上限値\")","v":"=SNT.StockInstDetail(建玉一覧取得!C155,\"値幅上限値\") => 銘柄コードが不正です"},{"$f":"_xll.SNT.StockInstDetail(建玉一覧取得!C155,\"値幅下限値\")","v":"=SNT.StockInstDetail(建玉一覧取得!C155,\"値幅下限値\") => 銘柄コードが不正です"},{"$f":"ROUND(IFERROR(SUM((制限値幅取得!F150-制限値幅取得!E150)*建玉一覧取得!$X$6+制限値幅取得!E150),\"\"),)","v":{"$error":"#VALUE!"}},{"$f":"ROUND(IFERROR(SUM((制限値幅取得!G150-制限値幅取得!E150)*建玉一覧取得!$X$6+制限値幅取得!E150),\"\"),)","v":{"$error":"#VALUE!"}}]
[null,147,{"$f":"建玉一覧取得!C156","v":0},{"$f":"建玉一覧取得!D156","v":0},{"$f":"_xll.SNT.StockInst(建玉一覧取得!C156,\"前日終値\")","v":"=SNT.StockInst(建玉一覧取得!C156,\"前日終値\") => 銘柄コードが不正です"},{"$f":"_xll.SNT.StockInstDetail(建玉一覧取得!C156,\"値幅上限値\")","v":"=SNT.StockInstDetail(建玉一覧取得!C156,\"値幅上限値\") => 銘柄コードが不正です"},{"$f":"_xll.SNT.StockInstDetail(建玉一覧取得!C156,\"値幅下限値\")","v":"=SNT.StockInstDetail(建玉一覧取得!C156,\"値幅下限値\") => 銘柄コードが不正です"},{"$f":"ROUND(IFERROR(SUM((制限値幅取得!F151-制限値幅取得!E151)*建玉一覧取得!$X$6+制限値幅取得!E151),\"\"),)","v":{"$error":"#VALUE!"}},{"$f":"ROUND(IFERROR(SUM((制限値幅取得!G151-制限値幅取得!E151)*建玉一覧取得!$X$6+制限値幅取得!E151),\"\"),)","v":{"$error":"#VALUE!"}}]
[null,148,{"$f":"建玉一覧取得!C157","v":0},{"$f":"建玉一覧取得!D157","v":0},{"$f":"_xll.SNT.StockInst(建玉一覧取得!C157,\"前日終値\")","v":"=SNT.StockInst(建玉一覧取得!C157,\"前日終値\") => 銘柄コードが不正です"},{"$f":"_xll.SNT.StockInstDetail(建玉一覧取得!C157,\"値幅上限値\")","v":"=SNT.StockInstDetail(建玉一覧取得!C157,\"値幅上限値\") => 銘柄コードが不正です"},{"$f":"_xll.SNT.StockInstDetail(建玉一覧取得!C157,\"値幅下限値\")","v":"=SNT.StockInstDetail(建玉一覧取得!C157,\"値幅下限値\") => 銘柄コードが不正です"},{"$f":"ROUND(IFERROR(SUM((制限値幅取得!F152-制限値幅取得!E152)*建玉一覧取得!$X$6+制限値幅取得!E152),\"\"),)","v":{"$error":"#VALUE!"}},{"$f":"ROUND(IFERROR(SUM((制限値幅取得!G152-制限値幅取得!E152)*建玉一覧取得!$X$6+制限値幅取得!E152),\"\"),)","v":{"$error":"#VALUE!"}}]
[null,149,{"$f":"建玉一覧取得!C158","v":0},{"$f":"建玉一覧取得!D158","v":0},{"$f":"_xll.SNT.StockInst(建玉一覧取得!C158,\"前日終値\")","v":"=SNT.StockInst(建玉一覧取得!C158,\"前日終値\") => 銘柄コードが不正です"},{"$f":"_xll.SNT.StockInstDetail(建玉一覧取得!C158,\"値幅上限値\")","v":"=SNT.StockInstDetail(建玉一覧取得!C158,\"値幅上限値\") => 銘柄コードが不正です"},{"$f":"_xll.SNT.StockInstDetail(建玉一覧取得!C158,\"値幅下限値\")","v":"=SNT.StockInstDetail(建玉一覧取得!C158,\"値幅下限値\") => 銘柄コードが不正です"},{"$f":"ROUND(IFERROR(SUM((制限値幅取得!F153-制限値幅取得!E153)*建玉一覧取得!$X$6+制限値幅取得!E153),\"\"),)","v":{"$error":"#VALUE!"}},{"$f":"ROUND(IFERROR(SUM((制限値幅取得!G153-制限値幅取得!E153)*建玉一覧取得!$X$6+制限値幅取得!E153),\"\"),)","v":{"$error":"#VALUE!"}}]
[null,150,{"$f":"建玉一覧取得!C159","v":0},{"$f":"建玉一覧取得!D159","v":0},{"$f":"_xll.SNT.StockInst(建玉一覧取得!C159,\"前日終値\")","v":"=SNT.StockInst(建玉一覧取得!C159,\"前日終値\") => 銘柄コードが不正です"},{"$f":"_xll.SNT.StockInstDetail(建玉一覧取得!C159,\"値幅上限値\")","v":"=SNT.StockInstDetail(建玉一覧取得!C159,\"値幅上限値\") => 銘柄コードが不正です"},{"$f":"_xll.SNT.StockInstDetail(建玉一覧取得!C159,\"値幅下限値\")","v":"=SNT.StockInstDetail(建玉一覧取得!C159,\"値幅下限値\") => 銘柄コードが不正です"},{"$f":"ROUND(IFERROR(SUM((制限値幅取得!F154-制限値幅取得!E154)*建玉一覧取得!$X$6+制限値幅取得!E154),\"\"),)","v":{"$error":"#VALUE!"}},{"$f":"ROUND(IFERROR(SUM((制限値幅取得!G154-制限値幅取得!E154)*建玉一覧取得!$X$6+制限値幅取得!E154),\"\"),)","v":{"$error":"#VALUE!"}}]
[null,151,{"$f":"建玉一覧取得!C160","v":0},{"$f":"建玉一覧取得!D160","v":0},{"$f":"_xll.SNT.StockInst(建玉一覧取得!C160,\"前日終値\")","v":"=SNT.StockInst(建玉一覧取得!C160,\"前日終値\") => 銘柄コードが不正です"},{"$f":"_xll.SNT.StockInstDetail(建玉一覧取得!C160,\"値幅上限値\")","v":"=SNT.StockInstDetail(建玉一覧取得!C160,\"値幅上限値\") => 銘柄コードが不正です"},{"$f":"_xll.SNT.StockInstDetail(建玉一覧取得!C160,\"値幅下限値\")","v":"=SNT.StockInstDetail(建玉一覧取得!C160,\"値幅下限値\") => 銘柄コードが不正です"},{"$f":"ROUND(IFERROR(SUM((制限値幅取得!F155-制限値幅取得!E155)*建玉一覧取得!$X$6+制限値幅取得!E155),\"\"),)","v":{"$error":"#VALUE!"}},{"$f":"ROUND(IFERROR(SUM((制限値幅取得!G155-制限値幅取得!E155)*建玉一覧取得!$X$6+制限値幅取得!E155),\"\"),)","v":{"$error":"#VALUE!"}}]
[null,152,{"$f":"建玉一覧取得!C161","v":0},{"$f":"建玉一覧取得!D161","v":0},{"$f":"_xll.SNT.StockInst(建玉一覧取得!C161,\"前日終値\")","v":"=SNT.StockInst(建玉一覧取得!C161,\"前日終値\") => 銘柄コードが不正です"},{"$f":"_xll.SNT.StockInstDetail(建玉一覧取得!C161,\"値幅上限値\")","v":"=SNT.StockInstDetail(建玉一覧取得!C161,\"値幅上限値\") => 銘柄コードが不正です"},{"$f":"_xll.SNT.StockInstDetail(建玉一覧取得!C161,\"値幅下限値\")","v":"=SNT.StockInstDetail(建玉一覧取得!C161,\"値幅下限値\") => 銘柄コードが不正です"},{"$f":"ROUND(IFERROR(SUM((制限値幅取得!F156-制限値幅取得!E156)*建玉一覧取得!$X$6+制限値幅取得!E156),\"\"),)","v":{"$error":"#VALUE!"}},{"$f":"ROUND(IFERROR(SUM((制限値幅取得!G156-制限値幅取得!E156)*建玉一覧取得!$X$6+制限値幅取得!E156),\"\"),)","v":{"$error":"#VALUE!"}}]
[null,153,{"$f":"建玉一覧取得!C162","v":0},{"$f":"建玉一覧取得!D162","v":0},{"$f":"_xll.SNT.StockInst(建玉一覧取得!C162,\"前日終値\")","v":"=SNT.StockInst(建玉一覧取得!C162,\"前日終値\") => 銘柄コードが不正です"},{"$f":"_xll.SNT.StockInstDetail(建玉一覧取得!C162,\"値幅上限値\")","v":"=SNT.StockInstDetail(建玉一覧取得!C162,\"値幅上限値\") => 銘柄コードが不正です"},{"$f":"_xll.SNT.StockInstDetail(建玉一覧取得!C162,\"値幅下限値\")","v":"=SNT.StockInstDetail(建玉一覧取得!C162,\"値幅下限値\") => 銘柄コードが不正です"},{"$f":"ROUND(IFERROR(SUM((制限値幅取得!F157-制限値幅取得!E157)*建玉一覧取得!$X$6+制限値幅取得!E157),\"\"),)","v":{"$error":"#VALUE!"}},{"$f":"ROUND(IFERROR(SUM((制限値幅取得!G157-制限値幅取得!E157)*建玉一覧取得!$X$6+制限値幅取得!E157),\"\"),)","v":{"$error":"#VALUE!"}}]
[null,154,{"$f":"建玉一覧取得!C163","v":0},{"$f":"建玉一覧取得!D163","v":0},{"$f":"_xll.SNT.StockInst(建玉一覧取得!C163,\"前日終値\")","v":"=SNT.StockInst(建玉一覧取得!C163,\"前日終値\") => 銘柄コードが不正です"},{"$f":"_xll.SNT.StockInstDetail(建玉一覧取得!C163,\"値幅上限値\")","v":"=SNT.StockInstDetail(建玉一覧取得!C163,\"値幅上限値\") => 銘柄コードが不正です"},{"$f":"_xll.SNT.StockInstDetail(建玉一覧取得!C163,\"値幅下限値\")","v":"=SNT.StockInstDetail(建玉一覧取得!C163,\"値幅下限値\") => 銘柄コードが不正です"},{"$f":"ROUND(IFERROR(SUM((制限値幅取得!F158-制限値幅取得!E158)*建玉一覧取得!$X$6+制限値幅取得!E158),\"\"),)","v":{"$error":"#VALUE!"}},{"$f":"ROUND(IFERROR(SUM((制限値幅取得!G158-制限値幅取得!E158)*建玉一覧取得!$X$6+制限値幅取得!E158),\"\"),)","v":{"$error":"#VALUE!"}}]
[null,155,{"$f":"建玉一覧取得!C164","v":0},{"$f":"建玉一覧取得!D164","v":0},{"$f":"_xll.SNT.StockInst(建玉一覧取得!C164,\"前日終値\")","v":"=SNT.StockInst(建玉一覧取得!C164,\"前日終値\") => 銘柄コードが不正です"},{"$f":"_xll.SNT.StockInstDetail(建玉一覧取得!C164,\"値幅上限値\")","v":"=SNT.StockInstDetail(建玉一覧取得!C164,\"値幅上限値\") => 銘柄コードが不正です"},{"$f":"_xll.SNT.StockInstDetail(建玉一覧取得!C164,\"値幅下限値\")","v":"=SNT.StockInstDetail(建玉一覧取得!C164,\"値幅下限値\") => 銘柄コードが不正です"},{"$f":"ROUND(IFERROR(SUM((制限値幅取得!F159-制限値幅取得!E159)*建玉一覧取得!$X$6+制限値幅取得!E159),\"\"),)","v":{"$error":"#VALUE!"}},{"$f":"ROUND(IFERROR(SUM((制限値幅取得!G159-制限値幅取得!E159)*建玉一覧取得!$X$6+制限値幅取得!E159),\"\"),)","v":{"$error":"#VALUE!"}}]
[null,156,{"$f":"建玉一覧取得!C165","v":0},{"$f":"建玉一覧取得!D165","v":0},{"$f":"_xll.SNT.StockInst(建玉一覧取得!C165,\"前日終値\")","v":"=SNT.StockInst(建玉一覧取得!C165,\"前日終値\") => 銘柄コードが不正です"},{"$f":"_xll.SNT.StockInstDetail(建玉一覧取得!C165,\"値幅上限値\")","v":"=SNT.StockInstDetail(建玉一覧取得!C165,\"値幅上限値\") => 銘柄コードが不正です"},{"$f":"_xll.SNT.StockInstDetail(建玉一覧取得!C165,\"値幅下限値\")","v":"=SNT.StockInstDetail(建玉一覧取得!C165,\"値幅下限値\") => 銘柄コードが不正です"},{"$f":"ROUND(IFERROR(SUM((制限値幅取得!F160-制限値幅取得!E160)*建玉一覧取得!$X$6+制限値幅取得!E160),\"\"),)","v":{"$error":"#VALUE!"}},{"$f":"ROUND(IFERROR(SUM((制限値幅取得!G160-制限値幅取得!E160)*建玉一覧取得!$X$6+制限値幅取得!E160),\"\"),)","v":{"$error":"#VALUE!"}}]
[null,157,{"$f":"建玉一覧取得!C166","v":0},{"$f":"建玉一覧取得!D166","v":0},{"$f":"_xll.SNT.StockInst(建玉一覧取得!C166,\"前日終値\")","v":"=SNT.StockInst(建玉一覧取得!C166,\"前日終値\") => 銘柄コードが不正です"},{"$f":"_xll.SNT.StockInstDetail(建玉一覧取得!C166,\"値幅上限値\")","v":"=SNT.StockInstDetail(建玉一覧取得!C166,\"値幅上限値\") => 銘柄コードが不正です"},{"$f":"_xll.SNT.StockInstDetail(建玉一覧取得!C166,\"値幅下限値\")","v":"=SNT.StockInstDetail(建玉一覧取得!C166,\"値幅下限値\") => 銘柄コードが不正です"},{"$f":"ROUND(IFERROR(SUM((制限値幅取得!F161-制限値幅取得!E161)*建玉一覧取得!$X$6+制限値幅取得!E161),\"\"),)","v":{"$error":"#VALUE!"}},{"$f":"ROUND(IFERROR(SUM((制限値幅取得!G161-制限値幅取得!E161)*建玉一覧取得!$X$6+制限値幅取得!E161),\"\"),)","v":{"$error":"#VALUE!"}}]
[null,158,{"$f":"建玉一覧取得!C167","v":0},{"$f":"建玉一覧取得!D167","v":0},{"$f":"_xll.SNT.StockInst(建玉一覧取得!C167,\"前日終値\")","v":"=SNT.StockInst(建玉一覧取得!C167,\"前日終値\") => 銘柄コードが不正です"},{"$f":"_xll.SNT.StockInstDetail(建玉一覧取得!C167,\"値幅上限値\")","v":"=SNT.StockInstDetail(建玉一覧取得!C167,\"値幅上限値\") => 銘柄コードが不正です"},{"$f":"_xll.SNT.StockInstDetail(建玉一覧取得!C167,\"値幅下限値\")","v":"=SNT.StockInstDetail(建玉一覧取得!C167,\"値幅下限値\") => 銘柄コードが不正です"},{"$f":"ROUND(IFERROR(SUM((制限値幅取得!F162-制限値幅取得!E162)*建玉一覧取得!$X$6+制限値幅取得!E162),\"\"),)","v":{"$error":"#VALUE!"}},{"$f":"ROUND(IFERROR(SUM((制限値幅取得!G162-制限値幅取得!E162)*建玉一覧取得!$X$6+制限値幅取得!E162),\"\"),)","v":{"$error":"#VALUE!"}}]
[null,159,{"$f":"建玉一覧取得!C168","v":0},{"$f":"建玉一覧取得!D168","v":0},{"$f":"_xll.SNT.StockInst(建玉一覧取得!C168,\"前日終値\")","v":"=SNT.StockInst(建玉一覧取得!C168,\"前日終値\") => 銘柄コードが不正です"},{"$f":"_xll.SNT.StockInstDetail(建玉一覧取得!C168,\"値幅上限値\")","v":"=SNT.StockInstDetail(建玉一覧取得!C168,\"値幅上限値\") => 銘柄コードが不正です"},{"$f":"_xll.SNT.StockInstDetail(建玉一覧取得!C168,\"値幅下限値\")","v":"=SNT.StockInstDetail(建玉一覧取得!C168,\"値幅下限値\") => 銘柄コードが不正です"},{"$f":"ROUND(IFERROR(SUM((制限値幅取得!F163-制限値幅取得!E163)*建玉一覧取得!$X$6+制限値幅取得!E163),\"\"),)","v":{"$error":"#VALUE!"}},{"$f":"ROUND(IFERROR(SUM((制限値幅取得!G163-制限値幅取得!E163)*建玉一覧取得!$X$6+制限値幅取得!E163),\"\"),)","v":{"$error":"#VALUE!"}}]
[null,160,{"$f":"建玉一覧取得!C169","v":0},{"$f":"建玉一覧取得!D169","v":0},{"$f":"_xll.SNT.StockInst(建玉一覧取得!C169,\"前日終値\")","v":"=SNT.StockInst(建玉一覧取得!C169,\"前日終値\") => 銘柄コードが不正です"},{"$f":"_xll.SNT.StockInstDetail(建玉一覧取得!C169,\"値幅上限値\")","v":"=SNT.StockInstDetail(建玉一覧取得!C169,\"値幅上限値\") => 銘柄コードが不正です"},{"$f":"_xll.SNT.StockInstDetail(建玉一覧取得!C169,\"値幅下限値\")","v":"=SNT.StockInstDetail(建玉一覧取得!C169,\"値幅下限値\") => 銘柄コードが不正です"},{"$f":"ROUND(IFERROR(SUM((制限値幅取得!F164-制限値幅取得!E164)*建玉一覧取得!$X$6+制限値幅取得!E164),\"\"),)","v":{"$error":"#VALUE!"}},{"$f":"ROUND(IFERROR(SUM((制限値幅取得!G164-制限値幅取得!E164)*建玉一覧取得!$X$6+制限値幅取得!E164),\"\"),)","v":{"$error":"#VALUE!"}}]
[null,161,{"$f":"建玉一覧取得!C170","v":0},{"$f":"建玉一覧取得!D170","v":0},{"$f":"_xll.SNT.StockInst(建玉一覧取得!C170,\"前日終値\")","v":"=SNT.StockInst(建玉一覧取得!C170,\"前日終値\") => 銘柄コードが不正です"},{"$f":"_xll.SNT.StockInstDetail(建玉一覧取得!C170,\"値幅上限値\")","v":"=SNT.StockInstDetail(建玉一覧取得!C170,\"値幅上限値\") => 銘柄コードが不正です"},{"$f":"_xll.SNT.StockInstDetail(建玉一覧取得!C170,\"値幅下限値\")","v":"=SNT.StockInstDetail(建玉一覧取得!C170,\"値幅下限値\") => 銘柄コードが不正です"},{"$f":"ROUND(IFERROR(SUM((制限値幅取得!F165-制限値幅取得!E165)*建玉一覧取得!$X$6+制限値幅取得!E165),\"\"),)","v":{"$error":"#VALUE!"}},{"$f":"ROUND(IFERROR(SUM((制限値幅取得!G165-制限値幅取得!E165)*建玉一覧取得!$X$6+制限値幅取得!E165),\"\"),)","v":{"$error":"#VALUE!"}}]
[null,162,{"$f":"建玉一覧取得!C171","v":0},{"$f":"建玉一覧取得!D171","v":0},{"$f":"_xll.SNT.StockInst(建玉一覧取得!C171,\"前日終値\")","v":"=SNT.StockInst(建玉一覧取得!C171,\"前日終値\") => 銘柄コードが不正です"},{"$f":"_xll.SNT.StockInstDetail(建玉一覧取得!C171,\"値幅上限値\")","v":"=SNT.StockInstDetail(建玉一覧取得!C171,\"値幅上限値\") => 銘柄コードが不正です"},{"$f":"_xll.SNT.StockInstDetail(建玉一覧取得!C171,\"値幅下限値\")","v":"=SNT.StockInstDetail(建玉一覧取得!C171,\"値幅下限値\") => 銘柄コードが不正です"},{"$f":"ROUND(IFERROR(SUM((制限値幅取得!F166-制限値幅取得!E166)*建玉一覧取得!$X$6+制限値幅取得!E166),\"\"),)","v":{"$error":"#VALUE!"}},{"$f":"ROUND(IFERROR(SUM((制限値幅取得!G166-制限値幅取得!E166)*建玉一覧取得!$X$6+制限値幅取得!E166),\"\"),)","v":{"$error":"#VALUE!"}}]
[null,163,{"$f":"建玉一覧取得!C172","v":0},{"$f":"建玉一覧取得!D172","v":0},{"$f":"_xll.SNT.StockInst(建玉一覧取得!C172,\"前日終値\")","v":"=SNT.StockInst(建玉一覧取得!C172,\"前日終値\") => 銘柄コードが不正です"},{"$f":"_xll.SNT.StockInstDetail(建玉一覧取得!C172,\"値幅上限値\")","v":"=SNT.StockInstDetail(建玉一覧取得!C172,\"値幅上限値\") => 銘柄コードが不正です"},{"$f":"_xll.SNT.StockInstDetail(建玉一覧取得!C172,\"値幅下限値\")","v":"=SNT.StockInstDetail(建玉一覧取得!C172,\"値幅下限値\") => 銘柄コードが不正です"},{"$f":"ROUND(IFERROR(SUM((制限値幅取得!F167-制限値幅取得!E167)*建玉一覧取得!$X$6+制限値幅取得!E167),\"\"),)","v":{"$error":"#VALUE!"}},{"$f":"ROUND(IFERROR(SUM((制限値幅取得!G167-制限値幅取得!E167)*建玉一覧取得!$X$6+制限値幅取得!E167),\"\"),)","v":{"$error":"#VALUE!"}}]
[null,164,{"$f":"建玉一覧取得!C173","v":0},{"$f":"建玉一覧取得!D173","v":0},{"$f":"_xll.SNT.StockInst(建玉一覧取得!C173,\"前日終値\")","v":"=SNT.StockInst(建玉一覧取得!C173,\"前日終値\") => 銘柄コードが不正です"},{"$f":"_xll.SNT.StockInstDetail(建玉一覧取得!C173,\"値幅上限値\")","v":"=SNT.StockInstDetail(建玉一覧取得!C173,\"値幅上限値\") => 銘柄コードが不正です"},{"$f":"_xll.SNT.StockInstDetail(建玉一覧取得!C173,\"値幅下限値\")","v":"=SNT.StockInstDetail(建玉一覧取得!C173,\"値幅下限値\") => 銘柄コードが不正です"},{"$f":"ROUND(IFERROR(SUM((制限値幅取得!F168-制限値幅取得!E168)*建玉一覧取得!$X$6+制限値幅取得!E168),\"\"),)","v":{"$error":"#VALUE!"}},{"$f":"ROUND(IFERROR(SUM((制限値幅取得!G168-制限値幅取得!E168)*建玉一覧取得!$X$6+制限値幅取得!E168),\"\"),)","v":{"$error":"#VALUE!"}}]
[null,165,{"$f":"建玉一覧取得!C174","v":0},{"$f":"建玉一覧取得!D174","v":0},{"$f":"_xll.SNT.StockInst(建玉一覧取得!C174,\"前日終値\")","v":"=SNT.StockInst(建玉一覧取得!C174,\"前日終値\") => 銘柄コードが不正です"},{"$f":"_xll.SNT.StockInstDetail(建玉一覧取得!C174,\"値幅上限値\")","v":"=SNT.StockInstDetail(建玉一覧取得!C174,\"値幅上限値\") => 銘柄コードが不正です"},{"$f":"_xll.SNT.StockInstDetail(建玉一覧取得!C174,\"値幅下限値\")","v":"=SNT.StockInstDetail(建玉一覧取得!C174,\"値幅下限値\") => 銘柄コードが不正です"},{"$f":"ROUND(IFERROR(SUM((制限値幅取得!F169-制限値幅取得!E169)*建玉一覧取得!$X$6+制限値幅取得!E169),\"\"),)","v":{"$error":"#VALUE!"}},{"$f":"ROUND(IFERROR(SUM((制限値幅取得!G169-制限値幅取得!E169)*建玉一覧取得!$X$6+制限値幅取得!E169),\"\"),)","v":{"$error":"#VALUE!"}}]
[null,166,{"$f":"建玉一覧取得!C175","v":0},{"$f":"建玉一覧取得!D175","v":0},{"$f":"_xll.SNT.StockInst(建玉一覧取得!C175,\"前日終値\")","v":"=SNT.StockInst(建玉一覧取得!C175,\"前日終値\") => 銘柄コードが不正です"},{"$f":"_xll.SNT.StockInstDetail(建玉一覧取得!C175,\"値幅上限値\")","v":"=SNT.StockInstDetail(建玉一覧取得!C175,\"値幅上限値\") => 銘柄コードが不正です"},{"$f":"_xll.SNT.StockInstDetail(建玉一覧取得!C175,\"値幅下限値\")","v":"=SNT.StockInstDetail(建玉一覧取得!C175,\"値幅下限値\") => 銘柄コードが不正です"},{"$f":"ROUND(IFERROR(SUM((制限値幅取得!F170-制限値幅取得!E170)*建玉一覧取得!$X$6+制限値幅取得!E170),\"\"),)","v":{"$error":"#VALUE!"}},{"$f":"ROUND(IFERROR(SUM((制限値幅取得!G170-制限値幅取得!E170)*建玉一覧取得!$X$6+制限値幅取得!E170),\"\"),)","v":{"$error":"#VALUE!"}}]
[null,167,{"$f":"建玉一覧取得!C176","v":0},{"$f":"建玉一覧取得!D176","v":0},{"$f":"_xll.SNT.StockInst(建玉一覧取得!C176,\"前日終値\")","v":"=SNT.StockInst(建玉一覧取得!C176,\"前日終値\") => 銘柄コードが不正です"},{"$f":"_xll.SNT.StockInstDetail(建玉一覧取得!C176,\"値幅上限値\")","v":"=SNT.StockInstDetail(建玉一覧取得!C176,\"値幅上限値\") => 銘柄コードが不正です"},{"$f":"_xll.SNT.StockInstDetail(建玉一覧取得!C176,\"値幅下限値\")","v":"=SNT.StockInstDetail(建玉一覧取得!C176,\"値幅下限値\") => 銘柄コードが不正です"},{"$f":"ROUND(IFERROR(SUM((制限値幅取得!F171-制限値幅取得!E171)*建玉一覧取得!$X$6+制限値幅取得!E171),\"\"),)","v":{"$error":"#VALUE!"}},{"$f":"ROUND(IFERROR(SUM((制限値幅取得!G171-制限値幅取得!E171)*建玉一覧取得!$X$6+制限値幅取得!E171),\"\"),)","v":{"$error":"#VALUE!"}}]
[null,168,{"$f":"建玉一覧取得!C177","v":0},{"$f":"建玉一覧取得!D177","v":0},{"$f":"_xll.SNT.StockInst(建玉一覧取得!C177,\"前日終値\")","v":"=SNT.StockInst(建玉一覧取得!C177,\"前日終値\") => 銘柄コードが不正です"},{"$f":"_xll.SNT.StockInstDetail(建玉一覧取得!C177,\"値幅上限値\")","v":"=SNT.StockInstDetail(建玉一覧取得!C177,\"値幅上限値\") => 銘柄コードが不正です"},{"$f":"_xll.SNT.StockInstDetail(建玉一覧取得!C177,\"値幅下限値\")","v":"=SNT.StockInstDetail(建玉一覧取得!C177,\"値幅下限値\") => 銘柄コードが不正です"},{"$f":"ROUND(IFERROR(SUM((制限値幅取得!F172-制限値幅取得!E172)*建玉一覧取得!$X$6+制限値幅取得!E172),\"\"),)","v":{"$error":"#VALUE!"}},{"$f":"ROUND(IFERROR(SUM((制限値幅取得!G172-制限値幅取得!E172)*建玉一覧取得!$X$6+制限値幅取得!E172),\"\"),)","v":{"$error":"#VALUE!"}}]
[null,169,{"$f":"建玉一覧取得!C178","v":0},{"$f":"建玉一覧取得!D178","v":0},{"$f":"_xll.SNT.StockInst(建玉一覧取得!C178,\"前日終値\")","v":"=SNT.StockInst(建玉一覧取得!C178,\"前日終値\") => 銘柄コードが不正です"},{"$f":"_xll.SNT.StockInstDetail(建玉一覧取得!C178,\"値幅上限値\")","v":"=SNT.StockInstDetail(建玉一覧取得!C178,\"値幅上限値\") => 銘柄コードが不正です"},{"$f":"_xll.SNT.StockInstDetail(建玉一覧取得!C178,\"値幅下限値\")","v":"=SNT.StockInstDetail(建玉一覧取得!C178,\"値幅下限値\") => 銘柄コードが不正です"},{"$f":"ROUND(IFERROR(SUM((制限値幅取得!F173-制限値幅取得!E173)*建玉一覧取得!$X$6+制限値幅取得!E173),\"\"),)","v":{"$error":"#VALUE!"}},{"$f":"ROUND(IFERROR(SUM((制限値幅取得!G173-制限値幅取得!E173)*建玉一覧取得!$X$6+制限値幅取得!E173),\"\"),)","v":{"$error":"#VALUE!"}}]
[null,170,{"$f":"建玉一覧取得!C179","v":0},{"$f":"建玉一覧取得!D179","v":0},{"$f":"_xll.SNT.StockInst(建玉一覧取得!C179,\"前日終値\")","v":"=SNT.StockInst(建玉一覧取得!C179,\"前日終値\") => 銘柄コードが不正です"},{"$f":"_xll.SNT.StockInstDetail(建玉一覧取得!C179,\"値幅上限値\")","v":"=SNT.StockInstDetail(建玉一覧取得!C179,\"値幅上限値\") => 銘柄コードが不正です"},{"$f":"_xll.SNT.StockInstDetail(建玉一覧取得!C179,\"値幅下限値\")","v":"=SNT.StockInstDetail(建玉一覧取得!C179,\"値幅下限値\") => 銘柄コードが不正です"},{"$f":"ROUND(IFERROR(SUM((制限値幅取得!F174-制限値幅取得!E174)*建玉一覧取得!$X$6+制限値幅取得!E174),\"\"),)","v":{"$error":"#VALUE!"}},{"$f":"ROUND(IFERROR(SUM((制限値幅取得!G174-制限値幅取得!E174)*建玉一覧取得!$X$6+制限値幅取得!E174),\"\"),)","v":{"$error":"#VALUE!"}}]
[null,171,{"$f":"建玉一覧取得!C180","v":0},{"$f":"建玉一覧取得!D180","v":0},{"$f":"_xll.SNT.StockInst(建玉一覧取得!C180,\"前日終値\")","v":"=SNT.StockInst(建玉一覧取得!C180,\"前日終値\") => 銘柄コードが不正です"},{"$f":"_xll.SNT.StockInstDetail(建玉一覧取得!C180,\"値幅上限値\")","v":"=SNT.StockInstDetail(建玉一覧取得!C180,\"値幅上限値\") => 銘柄コードが不正です"},{"$f":"_xll.SNT.StockInstDetail(建玉一覧取得!C180,\"値幅下限値\")","v":"=SNT.StockInstDetail(建玉一覧取得!C180,\"値幅下限値\") => 銘柄コードが不正です"},{"$f":"ROUND(IFERROR(SUM((制限値幅取得!F175-制限値幅取得!E175)*建玉一覧取得!$X$6+制限値幅取得!E175),\"\"),)","v":{"$error":"#VALUE!"}},{"$f":"ROUND(IFERROR(SUM((制限値幅取得!G175-制限値幅取得!E175)*建玉一覧取得!$X$6+制限値幅取得!E175),\"\"),)","v":{"$error":"#VALUE!"}}]
[null,172,{"$f":"建玉一覧取得!C181","v":0},{"$f":"建玉一覧取得!D181","v":0},{"$f":"_xll.SNT.StockInst(建玉一覧取得!C181,\"前日終値\")","v":"=SNT.StockInst(建玉一覧取得!C181,\"前日終値\") => 銘柄コードが不正です"},{"$f":"_xll.SNT.StockInstDetail(建玉一覧取得!C181,\"値幅上限値\")","v":"=SNT.StockInstDetail(建玉一覧取得!C181,\"値幅上限値\") => 銘柄コードが不正です"},{"$f":"_xll.SNT.StockInstDetail(建玉一覧取得!C181,\"値幅下限値\")","v":"=SNT.StockInstDetail(建玉一覧取得!C181,\"値幅下限値\") => 銘柄コードが不正です"},{"$f":"ROUND(IFERROR(SUM((制限値幅取得!F176-制限値幅取得!E176)*建玉一覧取得!$X$6+制限値幅取得!E176),\"\"),)","v":{"$error":"#VALUE!"}},{"$f":"ROUND(IFERROR(SUM((制限値幅取得!G176-制限値幅取得!E176)*建玉一覧取得!$X$6+制限値幅取得!E176),\"\"),)","v":{"$error":"#VALUE!"}}]
[null,173,{"$f":"建玉一覧取得!C182","v":0},{"$f":"建玉一覧取得!D182","v":0},{"$f":"_xll.SNT.StockInst(建玉一覧取得!C182,\"前日終値\")","v":"=SNT.StockInst(建玉一覧取得!C182,\"前日終値\") => 銘柄コードが不正です"},{"$f":"_xll.SNT.StockInstDetail(建玉一覧取得!C182,\"値幅上限値\")","v":"=SNT.StockInstDetail(建玉一覧取得!C182,\"値幅上限値\") => 銘柄コードが不正です"},{"$f":"_xll.SNT.StockInstDetail(建玉一覧取得!C182,\"値幅下限値\")","v":"=SNT.StockInstDetail(建玉一覧取得!C182,\"値幅下限値\") => 銘柄コードが不正です"},{"$f":"ROUND(IFERROR(SUM((制限値幅取得!F177-制限値幅取得!E177)*建玉一覧取得!$X$6+制限値幅取得!E177),\"\"),)","v":{"$error":"#VALUE!"}},{"$f":"ROUND(IFERROR(SUM((制限値幅取得!G177-制限値幅取得!E177)*建玉一覧取得!$X$6+制限値幅取得!E177),\"\"),)","v":{"$error":"#VALUE!"}}]
[null,174,{"$f":"建玉一覧取得!C183","v":0},{"$f":"建玉一覧取得!D183","v":0},{"$f":"_xll.SNT.StockInst(建玉一覧取得!C183,\"前日終値\")","v":"=SNT.StockInst(建玉一覧取得!C183,\"前日終値\") => 銘柄コードが不正です"},{"$f":"_xll.SNT.StockInstDetail(建玉一覧取得!C183,\"値幅上限値\")","v":"=SNT.StockInstDetail(建玉一覧取得!C183,\"値幅上限値\") => 銘柄コードが不正です"},{"$f":"_xll.SNT.StockInstDetail(建玉一覧取得!C183,\"値幅下限値\")","v":"=SNT.StockInstDetail(建玉一覧取得!C183,\"値幅下限値\") => 銘柄コードが不正です"},{"$f":"ROUND(IFERROR(SUM((制限値幅取得!F178-制限値幅取得!E178)*建玉一覧取得!$X$6+制限値幅取得!E178),\"\"),)","v":{"$error":"#VALUE!"}},{"$f":"ROUND(IFERROR(SUM((制限値幅取得!G178-制限値幅取得!E178)*建玉一覧取得!$X$6+制限値幅取得!E178),\"\"),)","v":{"$error":"#VALUE!"}}]
[null,175,{"$f":"建玉一覧取得!C184","v":0},{"$f":"建玉一覧取得!D184","v":0},{"$f":"_xll.SNT.StockInst(建玉一覧取得!C184,\"前日終値\")","v":"=SNT.StockInst(建玉一覧取得!C184,\"前日終値\") => 銘柄コードが不正です"},{"$f":"_xll.SNT.StockInstDetail(建玉一覧取得!C184,\"値幅上限値\")","v":"=SNT.StockInstDetail(建玉一覧取得!C184,\"値幅上限値\") => 銘柄コードが不正です"},{"$f":"_xll.SNT.StockInstDetail(建玉一覧取得!C184,\"値幅下限値\")","v":"=SNT.StockInstDetail(建玉一覧取得!C184,\"値幅下限値\") => 銘柄コードが不正です"},{"$f":"ROUND(IFERROR(SUM((制限値幅取得!F179-制限値幅取得!E179)*建玉一覧取得!$X$6+制限値幅取得!E179),\"\"),)","v":{"$error":"#VALUE!"}},{"$f":"ROUND(IFERROR(SUM((制限値幅取得!G179-制限値幅取得!E179)*建玉一覧取得!$X$6+制限値幅取得!E179),\"\"),)","v":{"$error":"#VALUE!"}}]
[null,176,{"$f":"建玉一覧取得!C185","v":0},{"$f":"建玉一覧取得!D185","v":0},{"$f":"_xll.SNT.StockInst(建玉一覧取得!C185,\"前日終値\")","v":"=SNT.StockInst(建玉一覧取得!C185,\"前日終値\") => 銘柄コードが不正です"},{"$f":"_xll.SNT.StockInstDetail(建玉一覧取得!C185,\"値幅上限値\")","v":"=SNT.StockInstDetail(建玉一覧取得!C185,\"値幅上限値\") => 銘柄コードが不正です"},{"$f":"_xll.SNT.StockInstDetail(建玉一覧取得!C185,\"値幅下限値\")","v":"=SNT.StockInstDetail(建玉一覧取得!C185,\"値幅下限値\") => 銘柄コードが不正です"},{"$f":"ROUND(IFERROR(SUM((制限値幅取得!F180-制限値幅取得!E180)*建玉一覧取得!$X$6+制限値幅取得!E180),\"\"),)","v":{"$error":"#VALUE!"}},{"$f":"ROUND(IFERROR(SUM((制限値幅取得!G180-制限値幅取得!E180)*建玉一覧取得!$X$6+制限値幅取得!E180),\"\"),)","v":{"$error":"#VALUE!"}}]
[null,177,{"$f":"建玉一覧取得!C186","v":0},{"$f":"建玉一覧取得!D186","v":0},{"$f":"_xll.SNT.StockInst(建玉一覧取得!C186,\"前日終値\")","v":"=SNT.StockInst(建玉一覧取得!C186,\"前日終値\") => 銘柄コードが不正です"},{"$f":"_xll.SNT.StockInstDetail(建玉一覧取得!C186,\"値幅上限値\")","v":"=SNT.StockInstDetail(建玉一覧取得!C186,\"値幅上限値\") => 銘柄コードが不正です"},{"$f":"_xll.SNT.StockInstDetail(建玉一覧取得!C186,\"値幅下限値\")","v":"=SNT.StockInstDetail(建玉一覧取得!C186,\"値幅下限値\") => 銘柄コードが不正です"},{"$f":"ROUND(IFERROR(SUM((制限値幅取得!F181-制限値幅取得!E181)*建玉一覧取得!$X$6+制限値幅取得!E181),\"\"),)","v":{"$error":"#VALUE!"}},{"$f":"ROUND(IFERROR(SUM((制限値幅取得!G181-制限値幅取得!E181)*建玉一覧取得!$X$6+制限値幅取得!E181),\"\"),)","v":{"$error":"#VALUE!"}}]
[null,178,{"$f":"建玉一覧取得!C187","v":0},{"$f":"建玉一覧取得!D187","v":0},{"$f":"_xll.SNT.StockInst(建玉一覧取得!C187,\"前日終値\")","v":"=SNT.StockInst(建玉一覧取得!C187,\"前日終値\") => 銘柄コードが不正です"},{"$f":"_xll.SNT.StockInstDetail(建玉一覧取得!C187,\"値幅上限値\")","v":"=SNT.StockInstDetail(建玉一覧取得!C187,\"値幅上限値\") => 銘柄コードが不正です"},{"$f":"_xll.SNT.StockInstDetail(建玉一覧取得!C187,\"値幅下限値\")","v":"=SNT.StockInstDetail(建玉一覧取得!C187,\"値幅下限値\") => 銘柄コードが不正です"},{"$f":"ROUND(IFERROR(SUM((制限値幅取得!F182-制限値幅取得!E182)*建玉一覧取得!$X$6+制限値幅取得!E182),\"\"),)","v":{"$error":"#VALUE!"}},{"$f":"ROUND(IFERROR(SUM((制限値幅取得!G182-制限値幅取得!E182)*建玉一覧取得!$X$6+制限値幅取得!E182),\"\"),)","v":{"$error":"#VALUE!"}}]
[null,179,{"$f":"建玉一覧取得!C188","v":0},{"$f":"建玉一覧取得!D188","v":0},{"$f":"_xll.SNT.StockInst(建玉一覧取得!C188,\"前日終値\")","v":"=SNT.StockInst(建玉一覧取得!C188,\"前日終値\") => 銘柄コードが不正です"},{"$f":"_xll.SNT.StockInstDetail(建玉一覧取得!C188,\"値幅上限値\")","v":"=SNT.StockInstDetail(建玉一覧取得!C188,\"値幅上限値\") => 銘柄コードが不正です"},{"$f":"_xll.SNT.StockInstDetail(建玉一覧取得!C188,\"値幅下限値\")","v":"=SNT.StockInstDetail(建玉一覧取得!C188,\"値幅下限値\") => 銘柄コードが不正です"},{"$f":"ROUND(IFERROR(SUM((制限値幅取得!F183-制限値幅取得!E183)*建玉一覧取得!$X$6+制限値幅取得!E183),\"\"),)","v":{"$error":"#VALUE!"}},{"$f":"ROUND(IFERROR(SUM((制限値幅取得!G183-制限値幅取得!E183)*建玉一覧取得!$X$6+制限値幅取得!E183),\"\"),)","v":{"$error":"#VALUE!"}}]
[null,180,{"$f":"建玉一覧取得!C189","v":0},{"$f":"建玉一覧取得!D189","v":0},{"$f":"_xll.SNT.StockInst(建玉一覧取得!C189,\"前日終値\")","v":"=SNT.StockInst(建玉一覧取得!C189,\"前日終値\") => 銘柄コードが不正です"},{"$f":"_xll.SNT.StockInstDetail(建玉一覧取得!C189,\"値幅上限値\")","v":"=SNT.StockInstDetail(建玉一覧取得!C189,\"値幅上限値\") => 銘柄コードが不正です"},{"$f":"_xll.SNT.StockInstDetail(建玉一覧取得!C189,\"値幅下限値\")","v":"=SNT.StockInstDetail(建玉一覧取得!C189,\"値幅下限値\") => 銘柄コードが不正です"},{"$f":"ROUND(IFERROR(SUM((制限値幅取得!F184-制限値幅取得!E184)*建玉一覧取得!$X$6+制限値幅取得!E184),\"\"),)","v":{"$error":"#VALUE!"}},{"$f":"ROUND(IFERROR(SUM((制限値幅取得!G184-制限値幅取得!E184)*建玉一覧取得!$X$6+制限値幅取得!E184),\"\"),)","v":{"$error":"#VALUE!"}}]
[null,181,{"$f":"建玉一覧取得!C190","v":0},{"$f":"建玉一覧取得!D190","v":0},{"$f":"_xll.SNT.StockInst(建玉一覧取得!C190,\"前日終値\")","v":"=SNT.StockInst(建玉一覧取得!C190,\"前日終値\") => 銘柄コードが不正です"},{"$f":"_xll.SNT.StockInstDetail(建玉一覧取得!C190,\"値幅上限値\")","v":"=SNT.StockInstDetail(建玉一覧取得!C190,\"値幅上限値\") => 銘柄コードが不正です"},{"$f":"_xll.SNT.StockInstDetail(建玉一覧取得!C190,\"値幅下限値\")","v":"=SNT.StockInstDetail(建玉一覧取得!C190,\"値幅下限値\") => 銘柄コードが不正です"},{"$f":"ROUND(IFERROR(SUM((制限値幅取得!F185-制限値幅取得!E185)*建玉一覧取得!$X$6+制限値幅取得!E185),\"\"),)","v":{"$error":"#VALUE!"}},{"$f":"ROUND(IFERROR(SUM((制限値幅取得!G185-制限値幅取得!E185)*建玉一覧取得!$X$6+制限値幅取得!E185),\"\"),)","v":{"$error":"#VALUE!"}}]
[null,182,{"$f":"建玉一覧取得!C191","v":0},{"$f":"建玉一覧取得!D191","v":0},{"$f":"_xll.SNT.StockInst(建玉一覧取得!C191,\"前日終値\")","v":"=SNT.StockInst(建玉一覧取得!C191,\"前日終値\") => 銘柄コードが不正です"},{"$f":"_xll.SNT.StockInstDetail(建玉一覧取得!C191,\"値幅上限値\")","v":"=SNT.StockInstDetail(建玉一覧取得!C191,\"値幅上限値\") => 銘柄コードが不正です"},{"$f":"_xll.SNT.StockInstDetail(建玉一覧取得!C191,\"値幅下限値\")","v":"=SNT.StockInstDetail(建玉一覧取得!C191,\"値幅下限値\") => 銘柄コードが不正です"},{"$f":"ROUND(IFERROR(SUM((制限値幅取得!F186-制限値幅取得!E186)*建玉一覧取得!$X$6+制限値幅取得!E186),\"\"),)","v":{"$error":"#VALUE!"}},{"$f":"ROUND(IFERROR(SUM((制限値幅取得!G186-制限値幅取得!E186)*建玉一覧取得!$X$6+制限値幅取得!E186),\"\"),)","v":{"$error":"#VALUE!"}}]
[null,183,{"$f":"建玉一覧取得!C192","v":0},{"$f":"建玉一覧取得!D192","v":0},{"$f":"_xll.SNT.StockInst(建玉一覧取得!C192,\"前日終値\")","v":"=SNT.StockInst(建玉一覧取得!C192,\"前日終値\") => 銘柄コードが不正です"},{"$f":"_xll.SNT.StockInstDetail(建玉一覧取得!C192,\"値幅上限値\")","v":"=SNT.StockInstDetail(建玉一覧取得!C192,\"値幅上限値\") => 銘柄コードが不正です"},{"$f":"_xll.SNT.StockInstDetail(建玉一覧取得!C192,\"値幅下限値\")","v":"=SNT.StockInstDetail(建玉一覧取得!C192,\"値幅下限値\") => 銘柄コードが不正です"},{"$f":"ROUND(IFERROR(SUM((制限値幅取得!F187-制限値幅取得!E187)*建玉一覧取得!$X$6+制限値幅取得!E187),\"\"),)","v":{"$error":"#VALUE!"}},{"$f":"ROUND(IFERROR(SUM((制限値幅取得!G187-制限値幅取得!E187)*建玉一覧取得!$X$6+制限値幅取得!E187),\"\"),)","v":{"$error":"#VALUE!"}}]
[null,184,{"$f":"建玉一覧取得!C193","v":0},{"$f":"建玉一覧取得!D193","v":0},{"$f":"_xll.SNT.StockInst(建玉一覧取得!C193,\"前日終値\")","v":"=SNT.StockInst(建玉一覧取得!C193,\"前日終値\") => 銘柄コードが不正です"},{"$f":"_xll.SNT.StockInstDetail(建玉一覧取得!C193,\"値幅上限値\")","v":"=SNT.StockInstDetail(建玉一覧取得!C193,\"値幅上限値\") => 銘柄コードが不正です"},{"$f":"_xll.SNT.StockInstDetail(建玉一覧取得!C193,\"値幅下限値\")","v":"=SNT.StockInstDetail(建玉一覧取得!C193,\"値幅下限値\") => 銘柄コードが不正です"},{"$f":"ROUND(IFERROR(SUM((制限値幅取得!F188-制限値幅取得!E188)*建玉一覧取得!$X$6+制限値幅取得!E188),\"\"),)","v":{"$error":"#VALUE!"}},{"$f":"ROUND(IFERROR(SUM((制限値幅取得!G188-制限値幅取得!E188)*建玉一覧取得!$X$6+制限値幅取得!E188),\"\"),)","v":{"$error":"#VALUE!"}}]
[null,185,{"$f":"建玉一覧取得!C194","v":0},{"$f":"建玉一覧取得!D194","v":0},{"$f":"_xll.SNT.StockInst(建玉一覧取得!C194,\"前日終値\")","v":"=SNT.StockInst(建玉一覧取得!C194,\"前日終値\") => 銘柄コードが不正です"},{"$f":"_xll.SNT.StockInstDetail(建玉一覧取得!C194,\"値幅上限値\")","v":"=SNT.StockInstDetail(建玉一覧取得!C194,\"値幅上限値\") => 銘柄コードが不正です"},{"$f":"_xll.SNT.StockInstDetail(建玉一覧取得!C194,\"値幅下限値\")","v":"=SNT.StockInstDetail(建玉一覧取得!C194,\"値幅下限値\") => 銘柄コードが不正です"},{"$f":"ROUND(IFERROR(SUM((制限値幅取得!F189-制限値幅取得!E189)*建玉一覧取得!$X$6+制限値幅取得!E189),\"\"),)","v":{"$error":"#VALUE!"}},{"$f":"ROUND(IFERROR(SUM((制限値幅取得!G189-制限値幅取得!E189)*建玉一覧取得!$X$6+制限値幅取得!E189),\"\"),)","v":{"$error":"#VALUE!"}}]
[null,186,{"$f":"建玉一覧取得!C195","v":0},{"$f":"建玉一覧取得!D195","v":0},{"$f":"_xll.SNT.StockInst(建玉一覧取得!C195,\"前日終値\")","v":"=SNT.StockInst(建玉一覧取得!C195,\"前日終値\") => 銘柄コードが不正です"},{"$f":"_xll.SNT.StockInstDetail(建玉一覧取得!C195,\"値幅上限値\")","v":"=SNT.StockInstDetail(建玉一覧取得!C195,\"値幅上限値\") => 銘柄コードが不正です"},{"$f":"_xll.SNT.StockInstDetail(建玉一覧取得!C195,\"値幅下限値\")","v":"=SNT.StockInstDetail(建玉一覧取得!C195,\"値幅下限値\") => 銘柄コードが不正です"},{"$f":"ROUND(IFERROR(SUM((制限値幅取得!F190-制限値幅取得!E190)*建玉一覧取得!$X$6+制限値幅取得!E190),\"\"),)","v":{"$error":"#VALUE!"}},{"$f":"ROUND(IFERROR(SUM((制限値幅取得!G190-制限値幅取得!E190)*建玉一覧取得!$X$6+制限値幅取得!E190),\"\"),)","v":{"$error":"#VALUE!"}}]
[null,187,{"$f":"建玉一覧取得!C196","v":0},{"$f":"建玉一覧取得!D196","v":0},{"$f":"_xll.SNT.StockInst(建玉一覧取得!C196,\"前日終値\")","v":"=SNT.StockInst(建玉一覧取得!C196,\"前日終値\") => 銘柄コードが不正です"},{"$f":"_xll.SNT.StockInstDetail(建玉一覧取得!C196,\"値幅上限値\")","v":"=SNT.StockInstDetail(建玉一覧取得!C196,\"値幅上限値\") => 銘柄コードが不正です"},{"$f":"_xll.SNT.StockInstDetail(建玉一覧取得!C196,\"値幅下限値\")","v":"=SNT.StockInstDetail(建玉一覧取得!C196,\"値幅下限値\") => 銘柄コードが不正です"},{"$f":"ROUND(IFERROR(SUM((制限値幅取得!F191-制限値幅取得!E191)*建玉一覧取得!$X$6+制限値幅取得!E191),\"\"),)","v":{"$error":"#VALUE!"}},{"$f":"ROUND(IFERROR(SUM((制限値幅取得!G191-制限値幅取得!E191)*建玉一覧取得!$X$6+制限値幅取得!E191),\"\"),)","v":{"$error":"#VALUE!"}}]
[null,188,{"$f":"建玉一覧取得!C197","v":0},{"$f":"建玉一覧取得!D197","v":0},{"$f":"_xll.SNT.StockInst(建玉一覧取得!C197,\"前日終値\")","v":"=SNT.StockInst(建玉一覧取得!C197,\"前日終値\") => 銘柄コードが不正です"},{"$f":"_xll.SNT.StockInstDetail(建玉一覧取得!C197,\"値幅上限値\")","v":"=SNT.StockInstDetail(建玉一覧取得!C197,\"値幅上限値\") => 銘柄コードが不正です"},{"$f":"_xll.SNT.StockInstDetail(建玉一覧取得!C197,\"値幅下限値\")","v":"=SNT.StockInstDetail(建玉一覧取得!C197,\"値幅下限値\") => 銘柄コードが不正です"},{"$f":"ROUND(IFERROR(SUM((制限値幅取得!F192-制限値幅取得!E192)*建玉一覧取得!$X$6+制限値幅取得!E192),\"\"),)","v":{"$error":"#VALUE!"}},{"$f":"ROUND(IFERROR(SUM((制限値幅取得!G192-制限値幅取得!E192)*建玉一覧取得!$X$6+制限値幅取得!E192),\"\"),)","v":{"$error":"#VALUE!"}}]
[null,189,{"$f":"建玉一覧取得!C198","v":0},{"$f":"建玉一覧取得!D198","v":0},{"$f":"_xll.SNT.StockInst(建玉一覧取得!C198,\"前日終値\")","v":"=SNT.StockInst(建玉一覧取得!C198,\"前日終値\") => 銘柄コードが不正です"},{"$f":"_xll.SNT.StockInstDetail(建玉一覧取得!C198,\"値幅上限値\")","v":"=SNT.StockInstDetail(建玉一覧取得!C198,\"値幅上限値\") => 銘柄コードが不正です"},{"$f":"_xll.SNT.StockInstDetail(建玉一覧取得!C198,\"値幅下限値\")","v":"=SNT.StockInstDetail(建玉一覧取得!C198,\"値幅下限値\") => 銘柄コードが不正です"},{"$f":"ROUND(IFERROR(SUM((制限値幅取得!F193-制限値幅取得!E193)*建玉一覧取得!$X$6+制限値幅取得!E193),\"\"),)","v":{"$error":"#VALUE!"}},{"$f":"ROUND(IFERROR(SUM((制限値幅取得!G193-制限値幅取得!E193)*建玉一覧取得!$X$6+制限値幅取得!E193),\"\"),)","v":{"$error":"#VALUE!"}}]
[null,190,{"$f":"建玉一覧取得!C199","v":0},{"$f":"建玉一覧取得!D199","v":0},{"$f":"_xll.SNT.StockInst(建玉一覧取得!C199,\"前日終値\")","v":"=SNT.StockInst(建玉一覧取得!C199,\"前日終値\") => 銘柄コードが不正です"},{"$f":"_xll.SNT.StockInstDetail(建玉一覧取得!C199,\"値幅上限値\")","v":"=SNT.StockInstDetail(建玉一覧取得!C199,\"値幅上限値\") => 銘柄コードが不正です"},{"$f":"_xll.SNT.StockInstDetail(建玉一覧取得!C199,\"値幅下限値\")","v":"=SNT.StockInstDetail(建玉一覧取得!C199,\"値幅下限値\") => 銘柄コードが不正です"},{"$f":"ROUND(IFERROR(SUM((制限値幅取得!F194-制限値幅取得!E194)*建玉一覧取得!$X$6+制限値幅取得!E194),\"\"),)","v":{"$error":"#VALUE!"}},{"$f":"ROUND(IFERROR(SUM((制限値幅取得!G194-制限値幅取得!E194)*建玉一覧取得!$X$6+制限値幅取得!E194),\"\"),)","v":{"$error":"#VALUE!"}}]
[null,191,{"$f":"建玉一覧取得!C200","v":0},{"$f":"建玉一覧取得!D200","v":0},{"$f":"_xll.SNT.StockInst(建玉一覧取得!C200,\"前日終値\")","v":"=SNT.StockInst(建玉一覧取得!C200,\"前日終値\") => 銘柄コードが不正です"},{"$f":"_xll.SNT.StockInstDetail(建玉一覧取得!C200,\"値幅上限値\")","v":"=SNT.StockInstDetail(建玉一覧取得!C200,\"値幅上限値\") => 銘柄コードが不正です"},{"$f":"_xll.SNT.StockInstDetail(建玉一覧取得!C200,\"値幅下限値\")","v":"=SNT.StockInstDetail(建玉一覧取得!C200,\"値幅下限値\") => 銘柄コードが不正です"},{"$f":"ROUND(IFERROR(SUM((制限値幅取得!F195-制限値幅取得!E195)*建玉一覧取得!$X$6+制限値幅取得!E195),\"\"),)","v":{"$error":"#VALUE!"}},{"$f":"ROUND(IFERROR(SUM((制限値幅取得!G195-制限値幅取得!E195)*建玉一覧取得!$X$6+制限値幅取得!E195),\"\"),)","v":{"$error":"#VALUE!"}}]
[null,192,{"$f":"建玉一覧取得!C201","v":0},{"$f":"建玉一覧取得!D201","v":0},{"$f":"_xll.SNT.StockInst(建玉一覧取得!C201,\"前日終値\")","v":"=SNT.StockInst(建玉一覧取得!C201,\"前日終値\") => 銘柄コードが不正です"},{"$f":"_xll.SNT.StockInstDetail(建玉一覧取得!C201,\"値幅上限値\")","v":"=SNT.StockInstDetail(建玉一覧取得!C201,\"値幅上限値\") => 銘柄コードが不正です"},{"$f":"_xll.SNT.StockInstDetail(建玉一覧取得!C201,\"値幅下限値\")","v":"=SNT.StockInstDetail(建玉一覧取得!C201,\"値幅下限値\") => 銘柄コードが不正です"},{"$f":"ROUND(IFERROR(SUM((制限値幅取得!F196-制限値幅取得!E196)*建玉一覧取得!$X$6+制限値幅取得!E196),\"\"),)","v":{"$error":"#VALUE!"}},{"$f":"ROUND(IFERROR(SUM((制限値幅取得!G196-制限値幅取得!E196)*建玉一覧取得!$X$6+制限値幅取得!E196),\"\"),)","v":{"$error":"#VALUE!"}}]
[null,193,{"$f":"建玉一覧取得!C202","v":0},{"$f":"建玉一覧取得!D202","v":0},{"$f":"_xll.SNT.StockInst(建玉一覧取得!C202,\"前日終値\")","v":"=SNT.StockInst(建玉一覧取得!C202,\"前日終値\") => 銘柄コードが不正です"},{"$f":"_xll.SNT.StockInstDetail(建玉一覧取得!C202,\"値幅上限値\")","v":"=SNT.StockInstDetail(建玉一覧取得!C202,\"値幅上限値\") => 銘柄コードが不正です"},{"$f":"_xll.SNT.StockInstDetail(建玉一覧取得!C202,\"値幅下限値\")","v":"=SNT.StockInstDetail(建玉一覧取得!C202,\"値幅下限値\") => 銘柄コードが不正です"},{"$f":"ROUND(IFERROR(SUM((制限値幅取得!F197-制限値幅取得!E197)*建玉一覧取得!$X$6+制限値幅取得!E197),\"\"),)","v":{"$error":"#VALUE!"}},{"$f":"ROUND(IFERROR(SUM((制限値幅取得!G197-制限値幅取得!E197)*建玉一覧取得!$X$6+制限値幅取得!E197),\"\"),)","v":{"$error":"#VALUE!"}}]
[null,194,{"$f":"建玉一覧取得!C203","v":0},{"$f":"建玉一覧取得!D203","v":0},{"$f":"_xll.SNT.StockInst(建玉一覧取得!C203,\"前日終値\")","v":"=SNT.StockInst(建玉一覧取得!C203,\"前日終値\") => 銘柄コードが不正です"},{"$f":"_xll.SNT.StockInstDetail(建玉一覧取得!C203,\"値幅上限値\")","v":"=SNT.StockInstDetail(建玉一覧取得!C203,\"値幅上限値\") => 銘柄コードが不正です"},{"$f":"_xll.SNT.StockInstDetail(建玉一覧取得!C203,\"値幅下限値\")","v":"=SNT.StockInstDetail(建玉一覧取得!C203,\"値幅下限値\") => 銘柄コードが不正です"},{"$f":"ROUND(IFERROR(SUM((制限値幅取得!F198-制限値幅取得!E198)*建玉一覧取得!$X$6+制限値幅取得!E198),\"\"),)","v":{"$error":"#VALUE!"}},{"$f":"ROUND(IFERROR(SUM((制限値幅取得!G198-制限値幅取得!E198)*建玉一覧取得!$X$6+制限値幅取得!E198),\"\"),)","v":{"$error":"#VALUE!"}}]
[null,195,{"$f":"建玉一覧取得!C204","v":0},{"$f":"建玉一覧取得!D204","v":0},{"$f":"_xll.SNT.StockInst(建玉一覧取得!C204,\"前日終値\")","v":"=SNT.StockInst(建玉一覧取得!C204,\"前日終値\") => 銘柄コードが不正です"},{"$f":"_xll.SNT.StockInstDetail(建玉一覧取得!C204,\"値幅上限値\")","v":"=SNT.StockInstDetail(建玉一覧取得!C204,\"値幅上限値\") => 銘柄コードが不正です"},{"$f":"_xll.SNT.StockInstDetail(建玉一覧取得!C204,\"値幅下限値\")","v":"=SNT.StockInstDetail(建玉一覧取得!C204,\"値幅下限値\") => 銘柄コードが不正です"},{"$f":"ROUND(IFERROR(SUM((制限値幅取得!F199-制限値幅取得!E199)*建玉一覧取得!$X$6+制限値幅取得!E199),\"\"),)","v":{"$error":"#VALUE!"}},{"$f":"ROUND(IFERROR(SUM((制限値幅取得!G199-制限値幅取得!E199)*建玉一覧取得!$X$6+制限値幅取得!E199),\"\"),)","v":{"$error":"#VALUE!"}}]
[null,196,{"$f":"建玉一覧取得!C205","v":0},{"$f":"建玉一覧取得!D205","v":0},{"$f":"_xll.SNT.StockInst(建玉一覧取得!C205,\"前日終値\")","v":"=SNT.StockInst(建玉一覧取得!C205,\"前日終値\") => 銘柄コードが不正です"},{"$f":"_xll.SNT.StockInstDetail(建玉一覧取得!C205,\"値幅上限値\")","v":"=SNT.StockInstDetail(建玉一覧取得!C205,\"値幅上限値\") => 銘柄コードが不正です"},{"$f":"_xll.SNT.StockInstDetail(建玉一覧取得!C205,\"値幅下限値\")","v":"=SNT.StockInstDetail(建玉一覧取得!C205,\"値幅下限値\") => 銘柄コードが不正です"},{"$f":"ROUND(IFERROR(SUM((制限値幅取得!F200-制限値幅取得!E200)*建玉一覧取得!$X$6+制限値幅取得!E200),\"\"),)","v":{"$error":"#VALUE!"}},{"$f":"ROUND(IFERROR(SUM((制限値幅取得!G200-制限値幅取得!E200)*建玉一覧取得!$X$6+制限値幅取得!E200),\"\"),)","v":{"$error":"#VALUE!"}}]
[null,197,{"$f":"建玉一覧取得!C206","v":0},{"$f":"建玉一覧取得!D206","v":0},{"$f":"_xll.SNT.StockInst(建玉一覧取得!C206,\"前日終値\")","v":"=SNT.StockInst(建玉一覧取得!C206,\"前日終値\") => 銘柄コードが不正です"},{"$f":"_xll.SNT.StockInstDetail(建玉一覧取得!C206,\"値幅上限値\")","v":"=SNT.StockInstDetail(建玉一覧取得!C206,\"値幅上限値\") => 銘柄コードが不正です"},{"$f":"_xll.SNT.StockInstDetail(建玉一覧取得!C206,\"値幅下限値\")","v":"=SNT.StockInstDetail(建玉一覧取得!C206,\"値幅下限値\") => 銘柄コードが不正です"},{"$f":"ROUND(IFERROR(SUM((制限値幅取得!F201-制限値幅取得!E201)*建玉一覧取得!$X$6+制限値幅取得!E201),\"\"),)","v":{"$error":"#VALUE!"}},{"$f":"ROUND(IFERROR(SUM((制限値幅取得!G201-制限値幅取得!E201)*建玉一覧取得!$X$6+制限値幅取得!E201),\"\"),)","v":{"$error":"#VALUE!"}}]
[null,198,{"$f":"建玉一覧取得!C207","v":0},{"$f":"建玉一覧取得!D207","v":0},{"$f":"_xll.SNT.StockInst(建玉一覧取得!C207,\"前日終値\")","v":"=SNT.StockInst(建玉一覧取得!C207,\"前日終値\") => 銘柄コードが不正です"},{"$f":"_xll.SNT.StockInstDetail(建玉一覧取得!C207,\"値幅上限値\")","v":"=SNT.StockInstDetail(建玉一覧取得!C207,\"値幅上限値\") => 銘柄コードが不正です"},{"$f":"_xll.SNT.StockInstDetail(建玉一覧取得!C207,\"値幅下限値\")","v":"=SNT.StockInstDetail(建玉一覧取得!C207,\"値幅下限値\") => 銘柄コードが不正です"},{"$f":"ROUND(IFERROR(SUM((制限値幅取得!F202-制限値幅取得!E202)*建玉一覧取得!$X$6+制限値幅取得!E202),\"\"),)","v":{"$error":"#VALUE!"}},{"$f":"ROUND(IFERROR(SUM((制限値幅取得!G202-制限値幅取得!E202)*建玉一覧取得!$X$6+制限値幅取得!E202),\"\"),)","v":{"$error":"#VALUE!"}}]
[null,199,{"$f":"建玉一覧取得!C208","v":0},{"$f":"建玉一覧取得!D208","v":0},{"$f":"_xll.SNT.StockInst(建玉一覧取得!C208,\"前日終値\")","v":"=SNT.StockInst(建玉一覧取得!C208,\"前日終値\") => 銘柄コードが不正です"},{"$f":"_xll.SNT.StockInstDetail(建玉一覧取得!C208,\"値幅上限値\")","v":"=SNT.StockInstDetail(建玉一覧取得!C208,\"値幅上限値\") => 銘柄コードが不正です"},{"$f":"_xll.SNT.StockInstDetail(建玉一覧取得!C208,\"値幅下限値\")","v":"=SNT.StockInstDetail(建玉一覧取得!C208,\"値幅下限値\") => 銘柄コードが不正です"},{"$f":"ROUND(IFERROR(SUM((制限値幅取得!F203-制限値幅取得!E203)*建玉一覧取得!$X$6+制限値幅取得!E203),\"\"),)","v":{"$error":"#VALUE!"}},{"$f":"ROUND(IFERROR(SUM((制限値幅取得!G203-制限値幅取得!E203)*建玉一覧取得!$X$6+制限値幅取得!E203),\"\"),)","v":{"$error":"#VALUE!"}}]
[null,200,{"$f":"建玉一覧取得!C209","v":0},{"$f":"建玉一覧取得!D209","v":0},{"$f":"_xll.SNT.StockInst(建玉一覧取得!C209,\"前日終値\")","v":"=SNT.StockInst(建玉一覧取得!C209,\"前日終値\") => 銘柄コードが不正です"},{"$f":"_xll.SNT.StockInstDetail(建玉一覧取得!C209,\"値幅上限値\")","v":"=SNT.StockInstDetail(建玉一覧取得!C209,\"値幅上限値\") => 銘柄コードが不正です"},{"$f":"_xll.SNT.StockInstDetail(建玉一覧取得!C209,\"値幅下限値\")","v":"=SNT.StockInstDetail(建玉一覧取得!C209,\"値幅下限値\") => 銘柄コードが不正です"},{"$f":"ROUND(IFERROR(SUM((制限値幅取得!F204-制限値幅取得!E204)*建玉一覧取得!$X$6+制限値幅取得!E204),\"\"),)","v":{"$error":"#VALUE!"}},{"$f":"ROUND(IFERROR(SUM((制限値幅取得!G204-制限値幅取得!E204)*建玉一覧取得!$X$6+制限値幅取得!E204),\"\"),)","v":{"$error":"#VALUE!"}}]
[null,201,{"$f":"建玉一覧取得!C210","v":0},{"$f":"建玉一覧取得!D210","v":0},{"$f":"_xll.SNT.StockInst(建玉一覧取得!C210,\"前日終値\")","v":"=SNT.StockInst(建玉一覧取得!C210,\"前日終値\") => 銘柄コードが不正です"},{"$f":"_xll.SNT.StockInstDetail(建玉一覧取得!C210,\"値幅上限値\")","v":"=SNT.StockInstDetail(建玉一覧取得!C210,\"値幅上限値\") => 銘柄コードが不正です"},{"$f":"_xll.SNT.StockInstDetail(建玉一覧取得!C210,\"値幅下限値\")","v":"=SNT.StockInstDetail(建玉一覧取得!C210,\"値幅下限値\") => 銘柄コードが不正です"},{"$f":"ROUND(IFERROR(SUM((制限値幅取得!F205-制限値幅取得!E205)*建玉一覧取得!$X$6+制限値幅取得!E205),\"\"),)","v":{"$error":"#VALUE!"}},{"$f":"ROUND(IFERROR(SUM((制限値幅取得!G205-制限値幅取得!E205)*建玉一覧取得!$X$6+制限値幅取得!E205),\"\"),)","v":{"$error":"#VALUE!"}}]
[null,202,{"$f":"建玉一覧取得!C211","v":0},{"$f":"建玉一覧取得!D211","v":0},{"$f":"_xll.SNT.StockInst(建玉一覧取得!C211,\"前日終値\")","v":"=SNT.StockInst(建玉一覧取得!C211,\"前日終値\") => 銘柄コードが不正です"},{"$f":"_xll.SNT.StockInstDetail(建玉一覧取得!C211,\"値幅上限値\")","v":"=SNT.StockInstDetail(建玉一覧取得!C211,\"値幅上限値\") => 銘柄コードが不正です"},{"$f":"_xll.SNT.StockInstDetail(建玉一覧取得!C211,\"値幅下限値\")","v":"=SNT.StockInstDetail(建玉一覧取得!C211,\"値幅下限値\") => 銘柄コードが不正です"},{"$f":"ROUND(IFERROR(SUM((制限値幅取得!F206-制限値幅取得!E206)*建玉一覧取得!$X$6+制限値幅取得!E206),\"\"),)","v":{"$error":"#VALUE!"}},{"$f":"ROUND(IFERROR(SUM((制限値幅取得!G206-制限値幅取得!E206)*建玉一覧取得!$X$6+制限値幅取得!E206),\"\"),)","v":{"$error":"#VALUE!"}}]
[null,203,{"$f":"建玉一覧取得!C212","v":0},{"$f":"建玉一覧取得!D212","v":0},{"$f":"_xll.SNT.StockInst(建玉一覧取得!C212,\"前日終値\")","v":"=SNT.StockInst(建玉一覧取得!C212,\"前日終値\") => 銘柄コードが不正です"},{"$f":"_xll.SNT.StockInstDetail(建玉一覧取得!C212,\"値幅上限値\")","v":"=SNT.StockInstDetail(建玉一覧取得!C212,\"値幅上限値\") => 銘柄コードが不正です"},{"$f":"_xll.SNT.StockInstDetail(建玉一覧取得!C212,\"値幅下限値\")","v":"=SNT.StockInstDetail(建玉一覧取得!C212,\"値幅下限値\") => 銘柄コードが不正です"},{"$f":"ROUND(IFERROR(SUM((制限値幅取得!F207-制限値幅取得!E207)*建玉一覧取得!$X$6+制限値幅取得!E207),\"\"),)","v":{"$error":"#VALUE!"}},{"$f":"ROUND(IFERROR(SUM((制限値幅取得!G207-制限値幅取得!E207)*建玉一覧取得!$X$6+制限値幅取得!E207),\"\"),)","v":{"$error":"#VALUE!"}}]
[null,204,{"$f":"建玉一覧取得!C213","v":0},{"$f":"建玉一覧取得!D213","v":0},{"$f":"_xll.SNT.StockInst(建玉一覧取得!C213,\"前日終値\")","v":"=SNT.StockInst(建玉一覧取得!C213,\"前日終値\") => 銘柄コードが不正です"},{"$f":"_xll.SNT.StockInstDetail(建玉一覧取得!C213,\"値幅上限値\")","v":"=SNT.StockInstDetail(建玉一覧取得!C213,\"値幅上限値\") => 銘柄コードが不正です"},{"$f":"_xll.SNT.StockInstDetail(建玉一覧取得!C213,\"値幅下限値\")","v":"=SNT.StockInstDetail(建玉一覧取得!C213,\"値幅下限値\") => 銘柄コードが不正です"},{"$f":"ROUND(IFERROR(SUM((制限値幅取得!F208-制限値幅取得!E208)*建玉一覧取得!$X$6+制限値幅取得!E208),\"\"),)","v":{"$error":"#VALUE!"}},{"$f":"ROUND(IFERROR(SUM((制限値幅取得!G208-制限値幅取得!E208)*建玉一覧取得!$X$6+制限値幅取得!E208),\"\"),)","v":{"$error":"#VALUE!"}}]
[null,205,{"$f":"建玉一覧取得!C214","v":0},{"$f":"建玉一覧取得!D214","v":0},{"$f":"_xll.SNT.StockInst(建玉一覧取得!C214,\"前日終値\")","v":"=SNT.StockInst(建玉一覧取得!C214,\"前日終値\") => 銘柄コードが不正です"},{"$f":"_xll.SNT.StockInstDetail(建玉一覧取得!C214,\"値幅上限値\")","v":"=SNT.StockInstDetail(建玉一覧取得!C214,\"値幅上限値\") => 銘柄コードが不正です"},{"$f":"_xll.SNT.StockInstDetail(建玉一覧取得!C214,\"値幅下限値\")","v":"=SNT.StockInstDetail(建玉一覧取得!C214,\"値幅下限値\") => 銘柄コードが不正です"},{"$f":"ROUND(IFERROR(SUM((制限値幅取得!F209-制限値幅取得!E209)*建玉一覧取得!$X$6+制限値幅取得!E209),\"\"),)","v":{"$error":"#VALUE!"}},{"$f":"ROUND(IFERROR(SUM((制限値幅取得!G209-制限値幅取得!E209)*建玉一覧取得!$X$6+制限値幅取得!E209),\"\"),)","v":{"$error":"#VALUE!"}}]
[null,206,{"$f":"建玉一覧取得!C215","v":0},{"$f":"建玉一覧取得!D215","v":0},{"$f":"_xll.SNT.StockInst(建玉一覧取得!C215,\"前日終値\")","v":"=SNT.StockInst(建玉一覧取得!C215,\"前日終値\") => 銘柄コードが不正です"},{"$f":"_xll.SNT.StockInstDetail(建玉一覧取得!C215,\"値幅上限値\")","v":"=SNT.StockInstDetail(建玉一覧取得!C215,\"値幅上限値\") => 銘柄コードが不正です"},{"$f":"_xll.SNT.StockInstDetail(建玉一覧取得!C215,\"値幅下限値\")","v":"=SNT.StockInstDetail(建玉一覧取得!C215,\"値幅下限値\") => 銘柄コードが不正です"},{"$f":"ROUND(IFERROR(SUM((制限値幅取得!F210-制限値幅取得!E210)*建玉一覧取得!$X$6+制限値幅取得!E210),\"\"),)","v":{"$error":"#VALUE!"}},{"$f":"ROUND(IFERROR(SUM((制限値幅取得!G210-制限値幅取得!E210)*建玉一覧取得!$X$6+制限値幅取得!E210),\"\"),)","v":{"$error":"#VALUE!"}}]
[null,207,{"$f":"建玉一覧取得!C216","v":0},{"$f":"建玉一覧取得!D216","v":0},{"$f":"_xll.SNT.StockInst(建玉一覧取得!C216,\"前日終値\")","v":"=SNT.StockInst(建玉一覧取得!C216,\"前日終値\") => 銘柄コードが不正です"},{"$f":"_xll.SNT.StockInstDetail(建玉一覧取得!C216,\"値幅上限値\")","v":"=SNT.StockInstDetail(建玉一覧取得!C216,\"値幅上限値\") => 銘柄コードが不正です"},{"$f":"_xll.SNT.StockInstDetail(建玉一覧取得!C216,\"値幅下限値\")","v":"=SNT.StockInstDetail(建玉一覧取得!C216,\"値幅下限値\") => 銘柄コードが不正です"},{"$f":"ROUND(IFERROR(SUM((制限値幅取得!F211-制限値幅取得!E211)*建玉一覧取得!$X$6+制限値幅取得!E211),\"\"),)","v":{"$error":"#VALUE!"}},{"$f":"ROUND(IFERROR(SUM((制限値幅取得!G211-制限値幅取得!E211)*建玉一覧取得!$X$6+制限値幅取得!E211),\"\"),)","v":{"$error":"#VALUE!"}}]
[null,208,{"$f":"建玉一覧取得!C217","v":0},{"$f":"建玉一覧取得!D217","v":0},{"$f":"_xll.SNT.StockInst(建玉一覧取得!C217,\"前日終値\")","v":"=SNT.StockInst(建玉一覧取得!C217,\"前日終値\") => 銘柄コードが不正です"},{"$f":"_xll.SNT.StockInstDetail(建玉一覧取得!C217,\"値幅上限値\")","v":"=SNT.StockInstDetail(建玉一覧取得!C217,\"値幅上限値\") => 銘柄コードが不正です"},{"$f":"_xll.SNT.StockInstDetail(建玉一覧取得!C217,\"値幅下限値\")","v":"=SNT.StockInstDetail(建玉一覧取得!C217,\"値幅下限値\") => 銘柄コードが不正です"},{"$f":"ROUND(IFERROR(SUM((制限値幅取得!F212-制限値幅取得!E212)*建玉一覧取得!$X$6+制限値幅取得!E212),\"\"),)","v":{"$error":"#VALUE!"}},{"$f":"ROUND(IFERROR(SUM((制限値幅取得!G212-制限値幅取得!E212)*建玉一覧取得!$X$6+制限値幅取得!E212),\"\"),)","v":{"$error":"#VALUE!"}}]
[null,209,{"$f":"建玉一覧取得!C218","v":0},{"$f":"建玉一覧取得!D218","v":0},{"$f":"_xll.SNT.StockInst(建玉一覧取得!C218,\"前日終値\")","v":"=SNT.StockInst(建玉一覧取得!C218,\"前日終値\") => 銘柄コードが不正です"},{"$f":"_xll.SNT.StockInstDetail(建玉一覧取得!C218,\"値幅上限値\")","v":"=SNT.StockInstDetail(建玉一覧取得!C218,\"値幅上限値\") => 銘柄コードが不正です"},{"$f":"_xll.SNT.StockInstDetail(建玉一覧取得!C218,\"値幅下限値\")","v":"=SNT.StockInstDetail(建玉一覧取得!C218,\"値幅下限値\") => 銘柄コードが不正です"},{"$f":"ROUND(IFERROR(SUM((制限値幅取得!F213-制限値幅取得!E213)*建玉一覧取得!$X$6+制限値幅取得!E213),\"\"),)","v":{"$error":"#VALUE!"}},{"$f":"ROUND(IFERROR(SUM((制限値幅取得!G213-制限値幅取得!E213)*建玉一覧取得!$X$6+制限値幅取得!E213),\"\"),)","v":{"$error":"#VALUE!"}}]
[null,210,{"$f":"建玉一覧取得!C219","v":0},{"$f":"建玉一覧取得!D219","v":0},{"$f":"_xll.SNT.StockInst(建玉一覧取得!C219,\"前日終値\")","v":"=SNT.StockInst(建玉一覧取得!C219,\"前日終値\") => 銘柄コードが不正です"},{"$f":"_xll.SNT.StockInstDetail(建玉一覧取得!C219,\"値幅上限値\")","v":"=SNT.StockInstDetail(建玉一覧取得!C219,\"値幅上限値\") => 銘柄コードが不正です"},{"$f":"_xll.SNT.StockInstDetail(建玉一覧取得!C219,\"値幅下限値\")","v":"=SNT.StockInstDetail(建玉一覧取得!C219,\"値幅下限値\") => 銘柄コードが不正です"},{"$f":"ROUND(IFERROR(SUM((制限値幅取得!F214-制限値幅取得!E214)*建玉一覧取得!$X$6+制限値幅取得!E214),\"\"),)","v":{"$error":"#VALUE!"}},{"$f":"ROUND(IFERROR(SUM((制限値幅取得!G214-制限値幅取得!E214)*建玉一覧取得!$X$6+制限値幅取得!E214),\"\"),)","v":{"$error":"#VALUE!"}}]
[null,211,{"$f":"建玉一覧取得!C220","v":0},{"$f":"建玉一覧取得!D220","v":0},{"$f":"_xll.SNT.StockInst(建玉一覧取得!C220,\"前日終値\")","v":"=SNT.StockInst(建玉一覧取得!C220,\"前日終値\") => 銘柄コードが不正です"},{"$f":"_xll.SNT.StockInstDetail(建玉一覧取得!C220,\"値幅上限値\")","v":"=SNT.StockInstDetail(建玉一覧取得!C220,\"値幅上限値\") => 銘柄コードが不正です"},{"$f":"_xll.SNT.StockInstDetail(建玉一覧取得!C220,\"値幅下限値\")","v":"=SNT.StockInstDetail(建玉一覧取得!C220,\"値幅下限値\") => 銘柄コードが不正です"},{"$f":"ROUND(IFERROR(SUM((制限値幅取得!F215-制限値幅取得!E215)*建玉一覧取得!$X$6+制限値幅取得!E215),\"\"),)","v":{"$error":"#VALUE!"}},{"$f":"ROUND(IFERROR(SUM((制限値幅取得!G215-制限値幅取得!E215)*建玉一覧取得!$X$6+制限値幅取得!E215),\"\"),)","v":{"$error":"#VALUE!"}}]
[null,212,{"$f":"建玉一覧取得!C221","v":0},{"$f":"建玉一覧取得!D221","v":0},{"$f":"_xll.SNT.StockInst(建玉一覧取得!C221,\"前日終値\")","v":"=SNT.StockInst(建玉一覧取得!C221,\"前日終値\") => 銘柄コードが不正です"},{"$f":"_xll.SNT.StockInstDetail(建玉一覧取得!C221,\"値幅上限値\")","v":"=SNT.StockInstDetail(建玉一覧取得!C221,\"値幅上限値\") => 銘柄コードが不正です"},{"$f":"_xll.SNT.StockInstDetail(建玉一覧取得!C221,\"値幅下限値\")","v":"=SNT.StockInstDetail(建玉一覧取得!C221,\"値幅下限値\") => 銘柄コードが不正です"},{"$f":"ROUND(IFERROR(SUM((制限値幅取得!F216-制限値幅取得!E216)*建玉一覧取得!$X$6+制限値幅取得!E216),\"\"),)","v":{"$error":"#VALUE!"}},{"$f":"ROUND(IFERROR(SUM((制限値幅取得!G216-制限値幅取得!E216)*建玉一覧取得!$X$6+制限値幅取得!E216),\"\"),)","v":{"$error":"#VALUE!"}}]
[null,213,{"$f":"建玉一覧取得!C222","v":0},{"$f":"建玉一覧取得!D222","v":0},{"$f":"_xll.SNT.StockInst(建玉一覧取得!C222,\"前日終値\")","v":"=SNT.StockInst(建玉一覧取得!C222,\"前日終値\") => 銘柄コードが不正です"},{"$f":"_xll.SNT.StockInstDetail(建玉一覧取得!C222,\"値幅上限値\")","v":"=SNT.StockInstDetail(建玉一覧取得!C222,\"値幅上限値\") => 銘柄コードが不正です"},{"$f":"_xll.SNT.StockInstDetail(建玉一覧取得!C222,\"値幅下限値\")","v":"=SNT.StockInstDetail(建玉一覧取得!C222,\"値幅下限値\") => 銘柄コードが不正です"},{"$f":"ROUND(IFERROR(SUM((制限値幅取得!F217-制限値幅取得!E217)*建玉一覧取得!$X$6+制限値幅取得!E217),\"\"),)","v":{"$error":"#VALUE!"}},{"$f":"ROUND(IFERROR(SUM((制限値幅取得!G217-制限値幅取得!E217)*建玉一覧取得!$X$6+制限値幅取得!E217),\"\"),)","v":{"$error":"#VALUE!"}}]
[null,214,{"$f":"建玉一覧取得!C223","v":0},{"$f":"建玉一覧取得!D223","v":0},{"$f":"_xll.SNT.StockInst(建玉一覧取得!C223,\"前日終値\")","v":"=SNT.StockInst(建玉一覧取得!C223,\"前日終値\") => 銘柄コードが不正です"},{"$f":"_xll.SNT.StockInstDetail(建玉一覧取得!C223,\"値幅上限値\")","v":"=SNT.StockInstDetail(建玉一覧取得!C223,\"値幅上限値\") => 銘柄コードが不正です"},{"$f":"_xll.SNT.StockInstDetail(建玉一覧取得!C223,\"値幅下限値\")","v":"=SNT.StockInstDetail(建玉一覧取得!C223,\"値幅下限値\") => 銘柄コードが不正です"},{"$f":"ROUND(IFERROR(SUM((制限値幅取得!F218-制限値幅取得!E218)*建玉一覧取得!$X$6+制限値幅取得!E218),\"\"),)","v":{"$error":"#VALUE!"}},{"$f":"ROUND(IFERROR(SUM((制限値幅取得!G218-制限値幅取得!E218)*建玉一覧取得!$X$6+制限値幅取得!E218),\"\"),)","v":{"$error":"#VALUE!"}}]
[null,215,{"$f":"建玉一覧取得!C224","v":0},{"$f":"建玉一覧取得!D224","v":0},{"$f":"_xll.SNT.StockInst(建玉一覧取得!C224,\"前日終値\")","v":"=SNT.StockInst(建玉一覧取得!C224,\"前日終値\") => 銘柄コードが不正です"},{"$f":"_xll.SNT.StockInstDetail(建玉一覧取得!C224,\"値幅上限値\")","v":"=SNT.StockInstDetail(建玉一覧取得!C224,\"値幅上限値\") => 銘柄コードが不正です"},{"$f":"_xll.SNT.StockInstDetail(建玉一覧取得!C224,\"値幅下限値\")","v":"=SNT.StockInstDetail(建玉一覧取得!C224,\"値幅下限値\") => 銘柄コードが不正です"},{"$f":"ROUND(IFERROR(SUM((制限値幅取得!F219-制限値幅取得!E219)*建玉一覧取得!$X$6+制限値幅取得!E219),\"\"),)","v":{"$error":"#VALUE!"}},{"$f":"ROUND(IFERROR(SUM((制限値幅取得!G219-制限値幅取得!E219)*建玉一覧取得!$X$6+制限値幅取得!E219),\"\"),)","v":{"$error":"#VALUE!"}}]
[null,216,{"$f":"建玉一覧取得!C225","v":0},{"$f":"建玉一覧取得!D225","v":0},{"$f":"_xll.SNT.StockInst(建玉一覧取得!C225,\"前日終値\")","v":"=SNT.StockInst(建玉一覧取得!C225,\"前日終値\") => 銘柄コードが不正です"},{"$f":"_xll.SNT.StockInstDetail(建玉一覧取得!C225,\"値幅上限値\")","v":"=SNT.StockInstDetail(建玉一覧取得!C225,\"値幅上限値\") => 銘柄コードが不正です"},{"$f":"_xll.SNT.StockInstDetail(建玉一覧取得!C225,\"値幅下限値\")","v":"=SNT.StockInstDetail(建玉一覧取得!C225,\"値幅下限値\") => 銘柄コードが不正です"},{"$f":"ROUND(IFERROR(SUM((制限値幅取得!F220-制限値幅取得!E220)*建玉一覧取得!$X$6+制限値幅取得!E220),\"\"),)","v":{"$error":"#VALUE!"}},{"$f":"ROUND(IFERROR(SUM((制限値幅取得!G220-制限値幅取得!E220)*建玉一覧取得!$X$6+制限値幅取得!E220),\"\"),)","v":{"$error":"#VALUE!"}}]
[null,217,{"$f":"建玉一覧取得!C226","v":0},{"$f":"建玉一覧取得!D226","v":0},{"$f":"_xll.SNT.StockInst(建玉一覧取得!C226,\"前日終値\")","v":"=SNT.StockInst(建玉一覧取得!C226,\"前日終値\") => 銘柄コードが不正です"},{"$f":"_xll.SNT.StockInstDetail(建玉一覧取得!C226,\"値幅上限値\")","v":"=SNT.StockInstDetail(建玉一覧取得!C226,\"値幅上限値\") => 銘柄コードが不正です"},{"$f":"_xll.SNT.StockInstDetail(建玉一覧取得!C226,\"値幅下限値\")","v":"=SNT.StockInstDetail(建玉一覧取得!C226,\"値幅下限値\") => 銘柄コードが不正です"},{"$f":"ROUND(IFERROR(SUM((制限値幅取得!F221-制限値幅取得!E221)*建玉一覧取得!$X$6+制限値幅取得!E221),\"\"),)","v":{"$error":"#VALUE!"}},{"$f":"ROUND(IFERROR(SUM((制限値幅取得!G221-制限値幅取得!E221)*建玉一覧取得!$X$6+制限値幅取得!E221),\"\"),)","v":{"$error":"#VALUE!"}}]
[null,218,{"$f":"建玉一覧取得!C227","v":0},{"$f":"建玉一覧取得!D227","v":0},{"$f":"_xll.SNT.StockInst(建玉一覧取得!C227,\"前日終値\")","v":"=SNT.StockInst(建玉一覧取得!C227,\"前日終値\") => 銘柄コードが不正です"},{"$f":"_xll.SNT.StockInstDetail(建玉一覧取得!C227,\"値幅上限値\")","v":"=SNT.StockInstDetail(建玉一覧取得!C227,\"値幅上限値\") => 銘柄コードが不正です"},{"$f":"_xll.SNT.StockInstDetail(建玉一覧取得!C227,\"値幅下限値\")","v":"=SNT.StockInstDetail(建玉一覧取得!C227,\"値幅下限値\") => 銘柄コードが不正です"},{"$f":"ROUND(IFERROR(SUM((制限値幅取得!F222-制限値幅取得!E222)*建玉一覧取得!$X$6+制限値幅取得!E222),\"\"),)","v":{"$error":"#VALUE!"}},{"$f":"ROUND(IFERROR(SUM((制限値幅取得!G222-制限値幅取得!E222)*建玉一覧取得!$X$6+制限値幅取得!E222),\"\"),)","v":{"$error":"#VALUE!"}}]
[null,219,{"$f":"建玉一覧取得!C228","v":0},{"$f":"建玉一覧取得!D228","v":0},{"$f":"_xll.SNT.StockInst(建玉一覧取得!C228,\"前日終値\")","v":"=SNT.StockInst(建玉一覧取得!C228,\"前日終値\") => 銘柄コードが不正です"},{"$f":"_xll.SNT.StockInstDetail(建玉一覧取得!C228,\"値幅上限値\")","v":"=SNT.StockInstDetail(建玉一覧取得!C228,\"値幅上限値\") => 銘柄コードが不正です"},{"$f":"_xll.SNT.StockInstDetail(建玉一覧取得!C228,\"値幅下限値\")","v":"=SNT.StockInstDetail(建玉一覧取得!C228,\"値幅下限値\") => 銘柄コードが不正です"},{"$f":"ROUND(IFERROR(SUM((制限値幅取得!F223-制限値幅取得!E223)*建玉一覧取得!$X$6+制限値幅取得!E223),\"\"),)","v":{"$error":"#VALUE!"}},{"$f":"ROUND(IFERROR(SUM((制限値幅取得!G223-制限値幅取得!E223)*建玉一覧取得!$X$6+制限値幅取得!E223),\"\"),)","v":{"$error":"#VALUE!"}}]
[null,220,{"$f":"建玉一覧取得!C229","v":0},{"$f":"建玉一覧取得!D229","v":0},{"$f":"_xll.SNT.StockInst(建玉一覧取得!C229,\"前日終値\")","v":"=SNT.StockInst(建玉一覧取得!C229,\"前日終値\") => 銘柄コードが不正です"},{"$f":"_xll.SNT.StockInstDetail(建玉一覧取得!C229,\"値幅上限値\")","v":"=SNT.StockInstDetail(建玉一覧取得!C229,\"値幅上限値\") => 銘柄コードが不正です"},{"$f":"_xll.SNT.StockInstDetail(建玉一覧取得!C229,\"値幅下限値\")","v":"=SNT.StockInstDetail(建玉一覧取得!C229,\"値幅下限値\") => 銘柄コードが不正です"},{"$f":"ROUND(IFERROR(SUM((制限値幅取得!F224-制限値幅取得!E224)*建玉一覧取得!$X$6+制限値幅取得!E224),\"\"),)","v":{"$error":"#VALUE!"}},{"$f":"ROUND(IFERROR(SUM((制限値幅取得!G224-制限値幅取得!E224)*建玉一覧取得!$X$6+制限値幅取得!E224),\"\"),)","v":{"$error":"#VALUE!"}}]
[null,221,{"$f":"建玉一覧取得!C230","v":0},{"$f":"建玉一覧取得!D230","v":0},{"$f":"_xll.SNT.StockInst(建玉一覧取得!C230,\"前日終値\")","v":"=SNT.StockInst(建玉一覧取得!C230,\"前日終値\") => 銘柄コードが不正です"},{"$f":"_xll.SNT.StockInstDetail(建玉一覧取得!C230,\"値幅上限値\")","v":"=SNT.StockInstDetail(建玉一覧取得!C230,\"値幅上限値\") => 銘柄コードが不正です"},{"$f":"_xll.SNT.StockInstDetail(建玉一覧取得!C230,\"値幅下限値\")","v":"=SNT.StockInstDetail(建玉一覧取得!C230,\"値幅下限値\") => 銘柄コードが不正です"},{"$f":"ROUND(IFERROR(SUM((制限値幅取得!F225-制限値幅取得!E225)*建玉一覧取得!$X$6+制限値幅取得!E225),\"\"),)","v":{"$error":"#VALUE!"}},{"$f":"ROUND(IFERROR(SUM((制限値幅取得!G225-制限値幅取得!E225)*建玉一覧取得!$X$6+制限値幅取得!E225),\"\"),)","v":{"$error":"#VALUE!"}}]
[null,222,{"$f":"建玉一覧取得!C231","v":0},{"$f":"建玉一覧取得!D231","v":0},{"$f":"_xll.SNT.StockInst(建玉一覧取得!C231,\"前日終値\")","v":"=SNT.StockInst(建玉一覧取得!C231,\"前日終値\") => 銘柄コードが不正です"},{"$f":"_xll.SNT.StockInstDetail(建玉一覧取得!C231,\"値幅上限値\")","v":"=SNT.StockInstDetail(建玉一覧取得!C231,\"値幅上限値\") => 銘柄コードが不正です"},{"$f":"_xll.SNT.StockInstDetail(建玉一覧取得!C231,\"値幅下限値\")","v":"=SNT.StockInstDetail(建玉一覧取得!C231,\"値幅下限値\") => 銘柄コードが不正です"},{"$f":"ROUND(IFERROR(SUM((制限値幅取得!F226-制限値幅取得!E226)*建玉一覧取得!$X$6+制限値幅取得!E226),\"\"),)","v":{"$error":"#VALUE!"}},{"$f":"ROUND(IFERROR(SUM((制限値幅取得!G226-制限値幅取得!E226)*建玉一覧取得!$X$6+制限値幅取得!E226),\"\"),)","v":{"$error":"#VALUE!"}}]
[null,223,{"$f":"建玉一覧取得!C232","v":0},{"$f":"建玉一覧取得!D232","v":0},{"$f":"_xll.SNT.StockInst(建玉一覧取得!C232,\"前日終値\")","v":"=SNT.StockInst(建玉一覧取得!C232,\"前日終値\") => 銘柄コードが不正です"},{"$f":"_xll.SNT.StockInstDetail(建玉一覧取得!C232,\"値幅上限値\")","v":"=SNT.StockInstDetail(建玉一覧取得!C232,\"値幅上限値\") => 銘柄コードが不正です"},{"$f":"_xll.SNT.StockInstDetail(建玉一覧取得!C232,\"値幅下限値\")","v":"=SNT.StockInstDetail(建玉一覧取得!C232,\"値幅下限値\") => 銘柄コードが不正です"},{"$f":"ROUND(IFERROR(SUM((制限値幅取得!F227-制限値幅取得!E227)*建玉一覧取得!$X$6+制限値幅取得!E227),\"\"),)","v":{"$error":"#VALUE!"}},{"$f":"ROUND(IFERROR(SUM((制限値幅取得!G227-制限値幅取得!E227)*建玉一覧取得!$X$6+制限値幅取得!E227),\"\"),)","v":{"$error":"#VALUE!"}}]
[null,224,{"$f":"建玉一覧取得!C233","v":0},{"$f":"建玉一覧取得!D233","v":0},{"$f":"_xll.SNT.StockInst(建玉一覧取得!C233,\"前日終値\")","v":"=SNT.StockInst(建玉一覧取得!C233,\"前日終値\") => 銘柄コードが不正です"},{"$f":"_xll.SNT.StockInstDetail(建玉一覧取得!C233,\"値幅上限値\")","v":"=SNT.StockInstDetail(建玉一覧取得!C233,\"値幅上限値\") => 銘柄コードが不正です"},{"$f":"_xll.SNT.StockInstDetail(建玉一覧取得!C233,\"値幅下限値\")","v":"=SNT.StockInstDetail(建玉一覧取得!C233,\"値幅下限値\") => 銘柄コードが不正です"},{"$f":"ROUND(IFERROR(SUM((制限値幅取得!F228-制限値幅取得!E228)*建玉一覧取得!$X$6+制限値幅取得!E228),\"\"),)","v":{"$error":"#VALUE!"}},{"$f":"ROUND(IFERROR(SUM((制限値幅取得!G228-制限値幅取得!E228)*建玉一覧取得!$X$6+制限値幅取得!E228),\"\"),)","v":{"$error":"#VALUE!"}}]
[null,225,{"$f":"建玉一覧取得!C234","v":0},{"$f":"建玉一覧取得!D234","v":0},{"$f":"_xll.SNT.StockInst(建玉一覧取得!C234,\"前日終値\")","v":"=SNT.StockInst(建玉一覧取得!C234,\"前日終値\") => 銘柄コードが不正です"},{"$f":"_xll.SNT.StockInstDetail(建玉一覧取得!C234,\"値幅上限値\")","v":"=SNT.StockInstDetail(建玉一覧取得!C234,\"値幅上限値\") => 銘柄コードが不正です"},{"$f":"_xll.SNT.StockInstDetail(建玉一覧取得!C234,\"値幅下限値\")","v":"=SNT.StockInstDetail(建玉一覧取得!C234,\"値幅下限値\") => 銘柄コードが不正です"},{"$f":"ROUND(IFERROR(SUM((制限値幅取得!F229-制限値幅取得!E229)*建玉一覧取得!$X$6+制限値幅取得!E229),\"\"),)","v":{"$error":"#VALUE!"}},{"$f":"ROUND(IFERROR(SUM((制限値幅取得!G229-制限値幅取得!E229)*建玉一覧取得!$X$6+制限値幅取得!E229),\"\"),)","v":{"$error":"#VALUE!"}}]
[null,226,{"$f":"建玉一覧取得!C235","v":0},{"$f":"建玉一覧取得!D235","v":0},{"$f":"_xll.SNT.StockInst(建玉一覧取得!C235,\"前日終値\")","v":"=SNT.StockInst(建玉一覧取得!C235,\"前日終値\") => 銘柄コードが不正です"},{"$f":"_xll.SNT.StockInstDetail(建玉一覧取得!C235,\"値幅上限値\")","v":"=SNT.StockInstDetail(建玉一覧取得!C235,\"値幅上限値\") => 銘柄コードが不正です"},{"$f":"_xll.SNT.StockInstDetail(建玉一覧取得!C235,\"値幅下限値\")","v":"=SNT.StockInstDetail(建玉一覧取得!C235,\"値幅下限値\") => 銘柄コードが不正です"},{"$f":"ROUND(IFERROR(SUM((制限値幅取得!F230-制限値幅取得!E230)*建玉一覧取得!$X$6+制限値幅取得!E230),\"\"),)","v":{"$error":"#VALUE!"}},{"$f":"ROUND(IFERROR(SUM((制限値幅取得!G230-制限値幅取得!E230)*建玉一覧取得!$X$6+制限値幅取得!E230),\"\"),)","v":{"$error":"#VALUE!"}}]
[null,227,{"$f":"建玉一覧取得!C236","v":0},{"$f":"建玉一覧取得!D236","v":0},{"$f":"_xll.SNT.StockInst(建玉一覧取得!C236,\"前日終値\")","v":"=SNT.StockInst(建玉一覧取得!C236,\"前日終値\") => 銘柄コードが不正です"},{"$f":"_xll.SNT.StockInstDetail(建玉一覧取得!C236,\"値幅上限値\")","v":"=SNT.StockInstDetail(建玉一覧取得!C236,\"値幅上限値\") => 銘柄コードが不正です"},{"$f":"_xll.SNT.StockInstDetail(建玉一覧取得!C236,\"値幅下限値\")","v":"=SNT.StockInstDetail(建玉一覧取得!C236,\"値幅下限値\") => 銘柄コードが不正です"},{"$f":"ROUND(IFERROR(SUM((制限値幅取得!F231-制限値幅取得!E231)*建玉一覧取得!$X$6+制限値幅取得!E231),\"\"),)","v":{"$error":"#VALUE!"}},{"$f":"ROUND(IFERROR(SUM((制限値幅取得!G231-制限値幅取得!E231)*建玉一覧取得!$X$6+制限値幅取得!E231),\"\"),)","v":{"$error":"#VALUE!"}}]
[null,228,{"$f":"建玉一覧取得!C237","v":0},{"$f":"建玉一覧取得!D237","v":0},{"$f":"_xll.SNT.StockInst(建玉一覧取得!C237,\"前日終値\")","v":"=SNT.StockInst(建玉一覧取得!C237,\"前日終値\") => 銘柄コードが不正です"},{"$f":"_xll.SNT.StockInstDetail(建玉一覧取得!C237,\"値幅上限値\")","v":"=SNT.StockInstDetail(建玉一覧取得!C237,\"値幅上限値\") => 銘柄コードが不正です"},{"$f":"_xll.SNT.StockInstDetail(建玉一覧取得!C237,\"値幅下限値\")","v":"=SNT.StockInstDetail(建玉一覧取得!C237,\"値幅下限値\") => 銘柄コードが不正です"},{"$f":"ROUND(IFERROR(SUM((制限値幅取得!F232-制限値幅取得!E232)*建玉一覧取得!$X$6+制限値幅取得!E232),\"\"),)","v":{"$error":"#VALUE!"}},{"$f":"ROUND(IFERROR(SUM((制限値幅取得!G232-制限値幅取得!E232)*建玉一覧取得!$X$6+制限値幅取得!E232),\"\"),)","v":{"$error":"#VALUE!"}}]
[null,229,{"$f":"建玉一覧取得!C238","v":0},{"$f":"建玉一覧取得!D238","v":0},{"$f":"_xll.SNT.StockInst(建玉一覧取得!C238,\"前日終値\")","v":"=SNT.StockInst(建玉一覧取得!C238,\"前日終値\") => 銘柄コードが不正です"},{"$f":"_xll.SNT.StockInstDetail(建玉一覧取得!C238,\"値幅上限値\")","v":"=SNT.StockInstDetail(建玉一覧取得!C238,\"値幅上限値\") => 銘柄コードが不正です"},{"$f":"_xll.SNT.StockInstDetail(建玉一覧取得!C238,\"値幅下限値\")","v":"=SNT.StockInstDetail(建玉一覧取得!C238,\"値幅下限値\") => 銘柄コードが不正です"},{"$f":"ROUND(IFERROR(SUM((制限値幅取得!F233-制限値幅取得!E233)*建玉一覧取得!$X$6+制限値幅取得!E233),\"\"),)","v":{"$error":"#VALUE!"}},{"$f":"ROUND(IFERROR(SUM((制限値幅取得!G233-制限値幅取得!E233)*建玉一覧取得!$X$6+制限値幅取得!E233),\"\"),)","v":{"$error":"#VALUE!"}}]
[null,230,{"$f":"建玉一覧取得!C239","v":0},{"$f":"建玉一覧取得!D239","v":0},{"$f":"_xll.SNT.StockInst(建玉一覧取得!C239,\"前日終値\")","v":"=SNT.StockInst(建玉一覧取得!C239,\"前日終値\") => 銘柄コードが不正です"},{"$f":"_xll.SNT.StockInstDetail(建玉一覧取得!C239,\"値幅上限値\")","v":"=SNT.StockInstDetail(建玉一覧取得!C239,\"値幅上限値\") => 銘柄コードが不正です"},{"$f":"_xll.SNT.StockInstDetail(建玉一覧取得!C239,\"値幅下限値\")","v":"=SNT.StockInstDetail(建玉一覧取得!C239,\"値幅下限値\") => 銘柄コードが不正です"},{"$f":"ROUND(IFERROR(SUM((制限値幅取得!F234-制限値幅取得!E234)*建玉一覧取得!$X$6+制限値幅取得!E234),\"\"),)","v":{"$error":"#VALUE!"}},{"$f":"ROUND(IFERROR(SUM((制限値幅取得!G234-制限値幅取得!E234)*建玉一覧取得!$X$6+制限値幅取得!E234),\"\"),)","v":{"$error":"#VALUE!"}}]
[null,231,{"$f":"建玉一覧取得!C240","v":0},{"$f":"建玉一覧取得!D240","v":0},{"$f":"_xll.SNT.StockInst(建玉一覧取得!C240,\"前日終値\")","v":"=SNT.StockInst(建玉一覧取得!C240,\"前日終値\") => 銘柄コードが不正です"},{"$f":"_xll.SNT.StockInstDetail(建玉一覧取得!C240,\"値幅上限値\")","v":"=SNT.StockInstDetail(建玉一覧取得!C240,\"値幅上限値\") => 銘柄コードが不正です"},{"$f":"_xll.SNT.StockInstDetail(建玉一覧取得!C240,\"値幅下限値\")","v":"=SNT.StockInstDetail(建玉一覧取得!C240,\"値幅下限値\") => 銘柄コードが不正です"},{"$f":"ROUND(IFERROR(SUM((制限値幅取得!F235-制限値幅取得!E235)*建玉一覧取得!$X$6+制限値幅取得!E235),\"\"),)","v":{"$error":"#VALUE!"}},{"$f":"ROUND(IFERROR(SUM((制限値幅取得!G235-制限値幅取得!E235)*建玉一覧取得!$X$6+制限値幅取得!E235),\"\"),)","v":{"$error":"#VALUE!"}}]
[null,232,{"$f":"建玉一覧取得!C241","v":0},{"$f":"建玉一覧取得!D241","v":0},{"$f":"_xll.SNT.StockInst(建玉一覧取得!C241,\"前日終値\")","v":"=SNT.StockInst(建玉一覧取得!C241,\"前日終値\") => 銘柄コードが不正です"},{"$f":"_xll.SNT.StockInstDetail(建玉一覧取得!C241,\"値幅上限値\")","v":"=SNT.StockInstDetail(建玉一覧取得!C241,\"値幅上限値\") => 銘柄コードが不正です"},{"$f":"_xll.SNT.StockInstDetail(建玉一覧取得!C241,\"値幅下限値\")","v":"=SNT.StockInstDetail(建玉一覧取得!C241,\"値幅下限値\") => 銘柄コードが不正です"},{"$f":"ROUND(IFERROR(SUM((制限値幅取得!F236-制限値幅取得!E236)*建玉一覧取得!$X$6+制限値幅取得!E236),\"\"),)","v":{"$error":"#VALUE!"}},{"$f":"ROUND(IFERROR(SUM((制限値幅取得!G236-制限値幅取得!E236)*建玉一覧取得!$X$6+制限値幅取得!E236),\"\"),)","v":{"$error":"#VALUE!"}}]
[null,233,{"$f":"建玉一覧取得!C242","v":0},{"$f":"建玉一覧取得!D242","v":0},{"$f":"_xll.SNT.StockInst(建玉一覧取得!C242,\"前日終値\")","v":"=SNT.StockInst(建玉一覧取得!C242,\"前日終値\") => 銘柄コードが不正です"},{"$f":"_xll.SNT.StockInstDetail(建玉一覧取得!C242,\"値幅上限値\")","v":"=SNT.StockInstDetail(建玉一覧取得!C242,\"値幅上限値\") => 銘柄コードが不正です"},{"$f":"_xll.SNT.StockInstDetail(建玉一覧取得!C242,\"値幅下限値\")","v":"=SNT.StockInstDetail(建玉一覧取得!C242,\"値幅下限値\") => 銘柄コードが不正です"},{"$f":"ROUND(IFERROR(SUM((制限値幅取得!F237-制限値幅取得!E237)*建玉一覧取得!$X$6+制限値幅取得!E237),\"\"),)","v":{"$error":"#VALUE!"}},{"$f":"ROUND(IFERROR(SUM((制限値幅取得!G237-制限値幅取得!E237)*建玉一覧取得!$X$6+制限値幅取得!E237),\"\"),)","v":{"$error":"#VALUE!"}}]
[null,234,{"$f":"建玉一覧取得!C243","v":0},{"$f":"建玉一覧取得!D243","v":0},{"$f":"_xll.SNT.StockInst(建玉一覧取得!C243,\"前日終値\")","v":"=SNT.StockInst(建玉一覧取得!C243,\"前日終値\") => 銘柄コードが不正です"},{"$f":"_xll.SNT.StockInstDetail(建玉一覧取得!C243,\"値幅上限値\")","v":"=SNT.StockInstDetail(建玉一覧取得!C243,\"値幅上限値\") => 銘柄コードが不正です"},{"$f":"_xll.SNT.StockInstDetail(建玉一覧取得!C243,\"値幅下限値\")","v":"=SNT.StockInstDetail(建玉一覧取得!C243,\"値幅下限値\") => 銘柄コードが不正です"},{"$f":"ROUND(IFERROR(SUM((制限値幅取得!F238-制限値幅取得!E238)*建玉一覧取得!$X$6+制限値幅取得!E238),\"\"),)","v":{"$error":"#VALUE!"}},{"$f":"ROUND(IFERROR(SUM((制限値幅取得!G238-制限値幅取得!E238)*建玉一覧取得!$X$6+制限値幅取得!E238),\"\"),)","v":{"$error":"#VALUE!"}}]
[null,235,{"$f":"建玉一覧取得!C244","v":0},{"$f":"建玉一覧取得!D244","v":0},{"$f":"_xll.SNT.StockInst(建玉一覧取得!C244,\"前日終値\")","v":"=SNT.StockInst(建玉一覧取得!C244,\"前日終値\") => 銘柄コードが不正です"},{"$f":"_xll.SNT.StockInstDetail(建玉一覧取得!C244,\"値幅上限値\")","v":"=SNT.StockInstDetail(建玉一覧取得!C244,\"値幅上限値\") => 銘柄コードが不正です"},{"$f":"_xll.SNT.StockInstDetail(建玉一覧取得!C244,\"値幅下限値\")","v":"=SNT.StockInstDetail(建玉一覧取得!C244,\"値幅下限値\") => 銘柄コードが不正です"},{"$f":"ROUND(IFERROR(SUM((制限値幅取得!F239-制限値幅取得!E239)*建玉一覧取得!$X$6+制限値幅取得!E239),\"\"),)","v":{"$error":"#VALUE!"}},{"$f":"ROUND(IFERROR(SUM((制限値幅取得!G239-制限値幅取得!E239)*建玉一覧取得!$X$6+制限値幅取得!E239),\"\"),)","v":{"$error":"#VALUE!"}}]
[null,236,{"$f":"建玉一覧取得!C245","v":0},{"$f":"建玉一覧取得!D245","v":0},{"$f":"_xll.SNT.StockInst(建玉一覧取得!C245,\"前日終値\")","v":"=SNT.StockInst(建玉一覧取得!C245,\"前日終値\") => 銘柄コードが不正です"},{"$f":"_xll.SNT.StockInstDetail(建玉一覧取得!C245,\"値幅上限値\")","v":"=SNT.StockInstDetail(建玉一覧取得!C245,\"値幅上限値\") => 銘柄コードが不正です"},{"$f":"_xll.SNT.StockInstDetail(建玉一覧取得!C245,\"値幅下限値\")","v":"=SNT.StockInstDetail(建玉一覧取得!C245,\"値幅下限値\") => 銘柄コードが不正です"},{"$f":"ROUND(IFERROR(SUM((制限値幅取得!F240-制限値幅取得!E240)*建玉一覧取得!$X$6+制限値幅取得!E240),\"\"),)","v":{"$error":"#VALUE!"}},{"$f":"ROUND(IFERROR(SUM((制限値幅取得!G240-制限値幅取得!E240)*建玉一覧取得!$X$6+制限値幅取得!E240),\"\"),)","v":{"$error":"#VALUE!"}}]
[null,237,{"$f":"建玉一覧取得!C246","v":0},{"$f":"建玉一覧取得!D246","v":0},{"$f":"_xll.SNT.StockInst(建玉一覧取得!C246,\"前日終値\")","v":"=SNT.StockInst(建玉一覧取得!C246,\"前日終値\") => 銘柄コードが不正です"},{"$f":"_xll.SNT.StockInstDetail(建玉一覧取得!C246,\"値幅上限値\")","v":"=SNT.StockInstDetail(建玉一覧取得!C246,\"値幅上限値\") => 銘柄コードが不正です"},{"$f":"_xll.SNT.StockInstDetail(建玉一覧取得!C246,\"値幅下限値\")","v":"=SNT.StockInstDetail(建玉一覧取得!C246,\"値幅下限値\") => 銘柄コードが不正です"},{"$f":"ROUND(IFERROR(SUM((制限値幅取得!F241-制限値幅取得!E241)*建玉一覧取得!$X$6+制限値幅取得!E241),\"\"),)","v":{"$error":"#VALUE!"}},{"$f":"ROUND(IFERROR(SUM((制限値幅取得!G241-制限値幅取得!E241)*建玉一覧取得!$X$6+制限値幅取得!E241),\"\"),)","v":{"$error":"#VALUE!"}}]
[null,238,{"$f":"建玉一覧取得!C247","v":0},{"$f":"建玉一覧取得!D247","v":0},{"$f":"_xll.SNT.StockInst(建玉一覧取得!C247,\"前日終値\")","v":"=SNT.StockInst(建玉一覧取得!C247,\"前日終値\") => 銘柄コードが不正です"},{"$f":"_xll.SNT.StockInstDetail(建玉一覧取得!C247,\"値幅上限値\")","v":"=SNT.StockInstDetail(建玉一覧取得!C247,\"値幅上限値\") => 銘柄コードが不正です"},{"$f":"_xll.SNT.StockInstDetail(建玉一覧取得!C247,\"値幅下限値\")","v":"=SNT.StockInstDetail(建玉一覧取得!C247,\"値幅下限値\") => 銘柄コードが不正です"},{"$f":"ROUND(IFERROR(SUM((制限値幅取得!F242-制限値幅取得!E242)*建玉一覧取得!$X$6+制限値幅取得!E242),\"\"),)","v":{"$error":"#VALUE!"}},{"$f":"ROUND(IFERROR(SUM((制限値幅取得!G242-制限値幅取得!E242)*建玉一覧取得!$X$6+制限値幅取得!E242),\"\"),)","v":{"$error":"#VALUE!"}}]
[null,239,{"$f":"建玉一覧取得!C248","v":0},{"$f":"建玉一覧取得!D248","v":0},{"$f":"_xll.SNT.StockInst(建玉一覧取得!C248,\"前日終値\")","v":"=SNT.StockInst(建玉一覧取得!C248,\"前日終値\") => 銘柄コードが不正です"},{"$f":"_xll.SNT.StockInstDetail(建玉一覧取得!C248,\"値幅上限値\")","v":"=SNT.StockInstDetail(建玉一覧取得!C248,\"値幅上限値\") => 銘柄コードが不正です"},{"$f":"_xll.SNT.StockInstDetail(建玉一覧取得!C248,\"値幅下限値\")","v":"=SNT.StockInstDetail(建玉一覧取得!C248,\"値幅下限値\") => 銘柄コードが不正です"},{"$f":"ROUND(IFERROR(SUM((制限値幅取得!F243-制限値幅取得!E243)*建玉一覧取得!$X$6+制限値幅取得!E243),\"\"),)","v":{"$error":"#VALUE!"}},{"$f":"ROUND(IFERROR(SUM((制限値幅取得!G243-制限値幅取得!E243)*建玉一覧取得!$X$6+制限値幅取得!E243),\"\"),)","v":{"$error":"#VALUE!"}}]
[null,240,{"$f":"建玉一覧取得!C249","v":0},{"$f":"建玉一覧取得!D249","v":0},{"$f":"_xll.SNT.StockInst(建玉一覧取得!C249,\"前日終値\")","v":"=SNT.StockInst(建玉一覧取得!C249,\"前日終値\") => 銘柄コードが不正です"},{"$f":"_xll.SNT.StockInstDetail(建玉一覧取得!C249,\"値幅上限値\")","v":"=SNT.StockInstDetail(建玉一覧取得!C249,\"値幅上限値\") => 銘柄コードが不正です"},{"$f":"_xll.SNT.StockInstDetail(建玉一覧取得!C249,\"値幅下限値\")","v":"=SNT.StockInstDetail(建玉一覧取得!C249,\"値幅下限値\") => 銘柄コードが不正です"},{"$f":"ROUND(IFERROR(SUM((制限値幅取得!F244-制限値幅取得!E244)*建玉一覧取得!$X$6+制限値幅取得!E244),\"\"),)","v":{"$error":"#VALUE!"}},{"$f":"ROUND(IFERROR(SUM((制限値幅取得!G244-制限値幅取得!E244)*建玉一覧取得!$X$6+制限値幅取得!E244),\"\"),)","v":{"$error":"#VALUE!"}}]
[null,241,{"$f":"建玉一覧取得!C250","v":0},{"$f":"建玉一覧取得!D250","v":0},{"$f":"_xll.SNT.StockInst(建玉一覧取得!C250,\"前日終値\")","v":"=SNT.StockInst(建玉一覧取得!C250,\"前日終値\") => 銘柄コードが不正です"},{"$f":"_xll.SNT.StockInstDetail(建玉一覧取得!C250,\"値幅上限値\")","v":"=SNT.StockInstDetail(建玉一覧取得!C250,\"値幅上限値\") => 銘柄コードが不正です"},{"$f":"_xll.SNT.StockInstDetail(建玉一覧取得!C250,\"値幅下限値\")","v":"=SNT.StockInstDetail(建玉一覧取得!C250,\"値幅下限値\") => 銘柄コードが不正です"},{"$f":"ROUND(IFERROR(SUM((制限値幅取得!F245-制限値幅取得!E245)*建玉一覧取得!$X$6+制限値幅取得!E245),\"\"),)","v":{"$error":"#VALUE!"}},{"$f":"ROUND(IFERROR(SUM((制限値幅取得!G245-制限値幅取得!E245)*建玉一覧取得!$X$6+制限値幅取得!E245),\"\"),)","v":{"$error":"#VALUE!"}}]
[null,242,{"$f":"建玉一覧取得!C251","v":0},{"$f":"建玉一覧取得!D251","v":0},{"$f":"_xll.SNT.StockInst(建玉一覧取得!C251,\"前日終値\")","v":"=SNT.StockInst(建玉一覧取得!C251,\"前日終値\") => 銘柄コードが不正です"},{"$f":"_xll.SNT.StockInstDetail(建玉一覧取得!C251,\"値幅上限値\")","v":"=SNT.StockInstDetail(建玉一覧取得!C251,\"値幅上限値\") => 銘柄コードが不正です"},{"$f":"_xll.SNT.StockInstDetail(建玉一覧取得!C251,\"値幅下限値\")","v":"=SNT.StockInstDetail(建玉一覧取得!C251,\"値幅下限値\") => 銘柄コードが不正です"},{"$f":"ROUND(IFERROR(SUM((制限値幅取得!F246-制限値幅取得!E246)*建玉一覧取得!$X$6+制限値幅取得!E246),\"\"),)","v":{"$error":"#VALUE!"}},{"$f":"ROUND(IFERROR(SUM((制限値幅取得!G246-制限値幅取得!E246)*建玉一覧取得!$X$6+制限値幅取得!E246),\"\"),)","v":{"$error":"#VALUE!"}}]
[null,243,{"$f":"建玉一覧取得!C252","v":0},{"$f":"建玉一覧取得!D252","v":0},{"$f":"_xll.SNT.StockInst(建玉一覧取得!C252,\"前日終値\")","v":"=SNT.StockInst(建玉一覧取得!C252,\"前日終値\") => 銘柄コードが不正です"},{"$f":"_xll.SNT.StockInstDetail(建玉一覧取得!C252,\"値幅上限値\")","v":"=SNT.StockInstDetail(建玉一覧取得!C252,\"値幅上限値\") => 銘柄コードが不正です"},{"$f":"_xll.SNT.StockInstDetail(建玉一覧取得!C252,\"値幅下限値\")","v":"=SNT.StockInstDetail(建玉一覧取得!C252,\"値幅下限値\") => 銘柄コードが不正です"},{"$f":"ROUND(IFERROR(SUM((制限値幅取得!F247-制限値幅取得!E247)*建玉一覧取得!$X$6+制限値幅取得!E247),\"\"),)","v":{"$error":"#VALUE!"}},{"$f":"ROUND(IFERROR(SUM((制限値幅取得!G247-制限値幅取得!E247)*建玉一覧取得!$X$6+制限値幅取得!E247),\"\"),)","v":{"$error":"#VALUE!"}}]
[null,244,{"$f":"建玉一覧取得!C253","v":0},{"$f":"建玉一覧取得!D253","v":0},{"$f":"_xll.SNT.StockInst(建玉一覧取得!C253,\"前日終値\")","v":"=SNT.StockInst(建玉一覧取得!C253,\"前日終値\") => 銘柄コードが不正です"},{"$f":"_xll.SNT.StockInstDetail(建玉一覧取得!C253,\"値幅上限値\")","v":"=SNT.StockInstDetail(建玉一覧取得!C253,\"値幅上限値\") => 銘柄コードが不正です"},{"$f":"_xll.SNT.StockInstDetail(建玉一覧取得!C253,\"値幅下限値\")","v":"=SNT.StockInstDetail(建玉一覧取得!C253,\"値幅下限値\") => 銘柄コードが不正です"},{"$f":"ROUND(IFERROR(SUM((制限値幅取得!F248-制限値幅取得!E248)*建玉一覧取得!$X$6+制限値幅取得!E248),\"\"),)","v":{"$error":"#VALUE!"}},{"$f":"ROUND(IFERROR(SUM((制限値幅取得!G248-制限値幅取得!E248)*建玉一覧取得!$X$6+制限値幅取得!E248),\"\"),)","v":{"$error":"#VALUE!"}}]
[null,245,{"$f":"建玉一覧取得!C254","v":0},{"$f":"建玉一覧取得!D254","v":0},{"$f":"_xll.SNT.StockInst(建玉一覧取得!C254,\"前日終値\")","v":"=SNT.StockInst(建玉一覧取得!C254,\"前日終値\") => 銘柄コードが不正です"},{"$f":"_xll.SNT.StockInstDetail(建玉一覧取得!C254,\"値幅上限値\")","v":"=SNT.StockInstDetail(建玉一覧取得!C254,\"値幅上限値\") => 銘柄コードが不正です"},{"$f":"_xll.SNT.StockInstDetail(建玉一覧取得!C254,\"値幅下限値\")","v":"=SNT.StockInstDetail(建玉一覧取得!C254,\"値幅下限値\") => 銘柄コードが不正です"},{"$f":"ROUND(IFERROR(SUM((制限値幅取得!F249-制限値幅取得!E249)*建玉一覧取得!$X$6+制限値幅取得!E249),\"\"),)","v":{"$error":"#VALUE!"}},{"$f":"ROUND(IFERROR(SUM((制限値幅取得!G249-制限値幅取得!E249)*建玉一覧取得!$X$6+制限値幅取得!E249),\"\"),)","v":{"$error":"#VALUE!"}}]
[null,246,{"$f":"建玉一覧取得!C255","v":0},{"$f":"建玉一覧取得!D255","v":0},{"$f":"_xll.SNT.StockInst(建玉一覧取得!C255,\"前日終値\")","v":"=SNT.StockInst(建玉一覧取得!C255,\"前日終値\") => 銘柄コードが不正です"},{"$f":"_xll.SNT.StockInstDetail(建玉一覧取得!C255,\"値幅上限値\")","v":"=SNT.StockInstDetail(建玉一覧取得!C255,\"値幅上限値\") => 銘柄コードが不正です"},{"$f":"_xll.SNT.StockInstDetail(建玉一覧取得!C255,\"値幅下限値\")","v":"=SNT.StockInstDetail(建玉一覧取得!C255,\"値幅下限値\") => 銘柄コードが不正です"},{"$f":"ROUND(IFERROR(SUM((制限値幅取得!F250-制限値幅取得!E250)*建玉一覧取得!$X$6+制限値幅取得!E250),\"\"),)","v":{"$error":"#VALUE!"}},{"$f":"ROUND(IFERROR(SUM((制限値幅取得!G250-制限値幅取得!E250)*建玉一覧取得!$X$6+制限値幅取得!E250),\"\"),)","v":{"$error":"#VALUE!"}}]
[null,247,{"$f":"建玉一覧取得!C256","v":0},{"$f":"建玉一覧取得!D256","v":0},{"$f":"_xll.SNT.StockInst(建玉一覧取得!C256,\"前日終値\")","v":"=SNT.StockInst(建玉一覧取得!C256,\"前日終値\") => 銘柄コードが不正です"},{"$f":"_xll.SNT.StockInstDetail(建玉一覧取得!C256,\"値幅上限値\")","v":"=SNT.StockInstDetail(建玉一覧取得!C256,\"値幅上限値\") => 銘柄コードが不正です"},{"$f":"_xll.SNT.StockInstDetail(建玉一覧取得!C256,\"値幅下限値\")","v":"=SNT.StockInstDetail(建玉一覧取得!C256,\"値幅下限値\") => 銘柄コードが不正です"},{"$f":"ROUND(IFERROR(SUM((制限値幅取得!F251-制限値幅取得!E251)*建玉一覧取得!$X$6+制限値幅取得!E251),\"\"),)","v":{"$error":"#VALUE!"}},{"$f":"ROUND(IFERROR(SUM((制限値幅取得!G251-制限値幅取得!E251)*建玉一覧取得!$X$6+制限値幅取得!E251),\"\"),)","v":{"$error":"#VALUE!"}}]
[null,248,{"$f":"建玉一覧取得!C257","v":0},{"$f":"建玉一覧取得!D257","v":0},{"$f":"_xll.SNT.StockInst(建玉一覧取得!C257,\"前日終値\")","v":"=SNT.StockInst(建玉一覧取得!C257,\"前日終値\") => 銘柄コードが不正です"},{"$f":"_xll.SNT.StockInstDetail(建玉一覧取得!C257,\"値幅上限値\")","v":"=SNT.StockInstDetail(建玉一覧取得!C257,\"値幅上限値\") => 銘柄コードが不正です"},{"$f":"_xll.SNT.StockInstDetail(建玉一覧取得!C257,\"値幅下限値\")","v":"=SNT.StockInstDetail(建玉一覧取得!C257,\"値幅下限値\") => 銘柄コードが不正です"},{"$f":"ROUND(IFERROR(SUM((制限値幅取得!F252-制限値幅取得!E252)*建玉一覧取得!$X$6+制限値幅取得!E252),\"\"),)","v":{"$error":"#VALUE!"}},{"$f":"ROUND(IFERROR(SUM((制限値幅取得!G252-制限値幅取得!E252)*建玉一覧取得!$X$6+制限値幅取得!E252),\"\"),)","v":{"$error":"#VALUE!"}}]
[null,249,{"$f":"建玉一覧取得!C258","v":0},{"$f":"建玉一覧取得!D258","v":0},{"$f":"_xll.SNT.StockInst(建玉一覧取得!C258,\"前日終値\")","v":"=SNT.StockInst(建玉一覧取得!C258,\"前日終値\") => 銘柄コードが不正です"},{"$f":"_xll.SNT.StockInstDetail(建玉一覧取得!C258,\"値幅上限値\")","v":"=SNT.StockInstDetail(建玉一覧取得!C258,\"値幅上限値\") => 銘柄コードが不正です"},{"$f":"_xll.SNT.StockInstDetail(建玉一覧取得!C258,\"値幅下限値\")","v":"=SNT.StockInstDetail(建玉一覧取得!C258,\"値幅下限値\") => 銘柄コードが不正です"},{"$f":"ROUND(IFERROR(SUM((制限値幅取得!F253-制限値幅取得!E253)*建玉一覧取得!$X$6+制限値幅取得!E253),\"\"),)","v":{"$error":"#VALUE!"}},{"$f":"ROUND(IFERROR(SUM((制限値幅取得!G253-制限値幅取得!E253)*建玉一覧取得!$X$6+制限値幅取得!E253),\"\"),)","v":{"$error":"#VALUE!"}}]
[null,250,{"$f":"建玉一覧取得!C259","v":0},{"$f":"建玉一覧取得!D259","v":0},{"$f":"_xll.SNT.StockInst(建玉一覧取得!C259,\"前日終値\")","v":"=SNT.StockInst(建玉一覧取得!C259,\"前日終値\") => 銘柄コードが不正です"},{"$f":"_xll.SNT.StockInstDetail(建玉一覧取得!C259,\"値幅上限値\")","v":"=SNT.StockInstDetail(建玉一覧取得!C259,\"値幅上限値\") => 銘柄コードが不正です"},{"$f":"_xll.SNT.StockInstDetail(建玉一覧取得!C259,\"値幅下限値\")","v":"=SNT.StockInstDetail(建玉一覧取得!C259,\"値幅下限値\") => 銘柄コードが不正です"},{"$f":"ROUND(IFERROR(SUM((制限値幅取得!F254-制限値幅取得!E254)*建玉一覧取得!$X$6+制限値幅取得!E254),\"\"),)","v":{"$error":"#VALUE!"}},{"$f":"ROUND(IFERROR(SUM((制限値幅取得!G254-制限値幅取得!E254)*建玉一覧取得!$X$6+制限値幅取得!E254),\"\"),)","v":{"$error":"#VALUE!"}}]
[null,251,{"$f":"建玉一覧取得!C260","v":0},{"$f":"建玉一覧取得!D260","v":0},{"$f":"_xll.SNT.StockInst(建玉一覧取得!C260,\"前日終値\")","v":"=SNT.StockInst(建玉一覧取得!C260,\"前日終値\") => 銘柄コードが不正です"},{"$f":"_xll.SNT.StockInstDetail(建玉一覧取得!C260,\"値幅上限値\")","v":"=SNT.StockInstDetail(建玉一覧取得!C260,\"値幅上限値\") => 銘柄コードが不正です"},{"$f":"_xll.SNT.StockInstDetail(建玉一覧取得!C260,\"値幅下限値\")","v":"=SNT.StockInstDetail(建玉一覧取得!C260,\"値幅下限値\") => 銘柄コードが不正です"},{"$f":"ROUND(IFERROR(SUM((制限値幅取得!F255-制限値幅取得!E255)*建玉一覧取得!$X$6+制限値幅取得!E255),\"\"),)","v":{"$error":"#VALUE!"}},{"$f":"ROUND(IFERROR(SUM((制限値幅取得!G255-制限値幅取得!E255)*建玉一覧取得!$X$6+制限値幅取得!E255),\"\"),)","v":{"$error":"#VALUE!"}}]
[null,252,{"$f":"建玉一覧取得!C261","v":0},{"$f":"建玉一覧取得!D261","v":0},{"$f":"_xll.SNT.StockInst(建玉一覧取得!C261,\"前日終値\")","v":"=SNT.StockInst(建玉一覧取得!C261,\"前日終値\") => 銘柄コードが不正です"},{"$f":"_xll.SNT.StockInstDetail(建玉一覧取得!C261,\"値幅上限値\")","v":"=SNT.StockInstDetail(建玉一覧取得!C261,\"値幅上限値\") => 銘柄コードが不正です"},{"$f":"_xll.SNT.StockInstDetail(建玉一覧取得!C261,\"値幅下限値\")","v":"=SNT.StockInstDetail(建玉一覧取得!C261,\"値幅下限値\") => 銘柄コードが不正です"},{"$f":"ROUND(IFERROR(SUM((制限値幅取得!F256-制限値幅取得!E256)*建玉一覧取得!$X$6+制限値幅取得!E256),\"\"),)","v":{"$error":"#VALUE!"}},{"$f":"ROUND(IFERROR(SUM((制限値幅取得!G256-制限値幅取得!E256)*建玉一覧取得!$X$6+制限値幅取得!E256),\"\"),)","v":{"$error":"#VALUE!"}}]
[null,253,{"$f":"建玉一覧取得!C262","v":0},{"$f":"建玉一覧取得!D262","v":0},{"$f":"_xll.SNT.StockInst(建玉一覧取得!C262,\"前日終値\")","v":"=SNT.StockInst(建玉一覧取得!C262,\"前日終値\") => 銘柄コードが不正です"},{"$f":"_xll.SNT.StockInstDetail(建玉一覧取得!C262,\"値幅上限値\")","v":"=SNT.StockInstDetail(建玉一覧取得!C262,\"値幅上限値\") => 銘柄コードが不正です"},{"$f":"_xll.SNT.StockInstDetail(建玉一覧取得!C262,\"値幅下限値\")","v":"=SNT.StockInstDetail(建玉一覧取得!C262,\"値幅下限値\") => 銘柄コードが不正です"},{"$f":"ROUND(IFERROR(SUM((制限値幅取得!F257-制限値幅取得!E257)*建玉一覧取得!$X$6+制限値幅取得!E257),\"\"),)","v":{"$error":"#VALUE!"}},{"$f":"ROUND(IFERROR(SUM((制限値幅取得!G257-制限値幅取得!E257)*建玉一覧取得!$X$6+制限値幅取得!E257),\"\"),)","v":{"$error":"#VALUE!"}}]
[null,254,{"$f":"建玉一覧取得!C263","v":0},{"$f":"建玉一覧取得!D263","v":0},{"$f":"_xll.SNT.StockInst(建玉一覧取得!C263,\"前日終値\")","v":"=SNT.StockInst(建玉一覧取得!C263,\"前日終値\") => 銘柄コードが不正です"},{"$f":"_xll.SNT.StockInstDetail(建玉一覧取得!C263,\"値幅上限値\")","v":"=SNT.StockInstDetail(建玉一覧取得!C263,\"値幅上限値\") => 銘柄コードが不正です"},{"$f":"_xll.SNT.StockInstDetail(建玉一覧取得!C263,\"値幅下限値\")","v":"=SNT.StockInstDetail(建玉一覧取得!C263,\"値幅下限値\") => 銘柄コードが不正です"},{"$f":"ROUND(IFERROR(SUM((制限値幅取得!F258-制限値幅取得!E258)*建玉一覧取得!$X$6+制限値幅取得!E258),\"\"),)","v":{"$error":"#VALUE!"}},{"$f":"ROUND(IFERROR(SUM((制限値幅取得!G258-制限値幅取得!E258)*建玉一覧取得!$X$6+制限値幅取得!E258),\"\"),)","v":{"$error":"#VALUE!"}}]
[null,255,{"$f":"建玉一覧取得!C264","v":0},{"$f":"建玉一覧取得!D264","v":0},{"$f":"_xll.SNT.StockInst(建玉一覧取得!C264,\"前日終値\")","v":"=SNT.StockInst(建玉一覧取得!C264,\"前日終値\") => 銘柄コードが不正です"},{"$f":"_xll.SNT.StockInstDetail(建玉一覧取得!C264,\"値幅上限値\")","v":"=SNT.StockInstDetail(建玉一覧取得!C264,\"値幅上限値\") => 銘柄コードが不正です"},{"$f":"_xll.SNT.StockInstDetail(建玉一覧取得!C264,\"値幅下限値\")","v":"=SNT.StockInstDetail(建玉一覧取得!C264,\"値幅下限値\") => 銘柄コードが不正です"},{"$f":"ROUND(IFERROR(SUM((制限値幅取得!F259-制限値幅取得!E259)*建玉一覧取得!$X$6+制限値幅取得!E259),\"\"),)","v":{"$error":"#VALUE!"}},{"$f":"ROUND(IFERROR(SUM((制限値幅取得!G259-制限値幅取得!E259)*建玉一覧取得!$X$6+制限値幅取得!E259),\"\"),)","v":{"$error":"#VALUE!"}}]
[null,256,{"$f":"建玉一覧取得!C265","v":0},{"$f":"建玉一覧取得!D265","v":0},{"$f":"_xll.SNT.StockInst(建玉一覧取得!C265,\"前日終値\")","v":"=SNT.StockInst(建玉一覧取得!C265,\"前日終値\") => 銘柄コードが不正です"},{"$f":"_xll.SNT.StockInstDetail(建玉一覧取得!C265,\"値幅上限値\")","v":"=SNT.StockInstDetail(建玉一覧取得!C265,\"値幅上限値\") => 銘柄コードが不正です"},{"$f":"_xll.SNT.StockInstDetail(建玉一覧取得!C265,\"値幅下限値\")","v":"=SNT.StockInstDetail(建玉一覧取得!C265,\"値幅下限値\") => 銘柄コードが不正です"},{"$f":"ROUND(IFERROR(SUM((制限値幅取得!F260-制限値幅取得!E260)*建玉一覧取得!$X$6+制限値幅取得!E260),\"\"),)","v":{"$error":"#VALUE!"}},{"$f":"ROUND(IFERROR(SUM((制限値幅取得!G260-制限値幅取得!E260)*建玉一覧取得!$X$6+制限値幅取得!E260),\"\"),)","v":{"$error":"#VALUE!"}}]
[null,257,{"$f":"建玉一覧取得!C266","v":0},{"$f":"建玉一覧取得!D266","v":0},{"$f":"_xll.SNT.StockInst(建玉一覧取得!C266,\"前日終値\")","v":"=SNT.StockInst(建玉一覧取得!C266,\"前日終値\") => 銘柄コードが不正です"},{"$f":"_xll.SNT.StockInstDetail(建玉一覧取得!C266,\"値幅上限値\")","v":"=SNT.StockInstDetail(建玉一覧取得!C266,\"値幅上限値\") => 銘柄コードが不正です"},{"$f":"_xll.SNT.StockInstDetail(建玉一覧取得!C266,\"値幅下限値\")","v":"=SNT.StockInstDetail(建玉一覧取得!C266,\"値幅下限値\") => 銘柄コードが不正です"},{"$f":"ROUND(IFERROR(SUM((制限値幅取得!F261-制限値幅取得!E261)*建玉一覧取得!$X$6+制限値幅取得!E261),\"\"),)","v":{"$error":"#VALUE!"}},{"$f":"ROUND(IFERROR(SUM((制限値幅取得!G261-制限値幅取得!E261)*建玉一覧取得!$X$6+制限値幅取得!E261),\"\"),)","v":{"$error":"#VALUE!"}}]
[null,258,{"$f":"建玉一覧取得!C267","v":0},{"$f":"建玉一覧取得!D267","v":0},{"$f":"_xll.SNT.StockInst(建玉一覧取得!C267,\"前日終値\")","v":"=SNT.StockInst(建玉一覧取得!C267,\"前日終値\") => 銘柄コードが不正です"},{"$f":"_xll.SNT.StockInstDetail(建玉一覧取得!C267,\"値幅上限値\")","v":"=SNT.StockInstDetail(建玉一覧取得!C267,\"値幅上限値\") => 銘柄コードが不正です"},{"$f":"_xll.SNT.StockInstDetail(建玉一覧取得!C267,\"値幅下限値\")","v":"=SNT.StockInstDetail(建玉一覧取得!C267,\"値幅下限値\") => 銘柄コードが不正です"},{"$f":"ROUND(IFERROR(SUM((制限値幅取得!F262-制限値幅取得!E262)*建玉一覧取得!$X$6+制限値幅取得!E262),\"\"),)","v":{"$error":"#VALUE!"}},{"$f":"ROUND(IFERROR(SUM((制限値幅取得!G262-制限値幅取得!E262)*建玉一覧取得!$X$6+制限値幅取得!E262),\"\"),)","v":{"$error":"#VALUE!"}}]
[null,259,{"$f":"建玉一覧取得!C268","v":0},{"$f":"建玉一覧取得!D268","v":0},{"$f":"_xll.SNT.StockInst(建玉一覧取得!C268,\"前日終値\")","v":"=SNT.StockInst(建玉一覧取得!C268,\"前日終値\") => 銘柄コードが不正です"},{"$f":"_xll.SNT.StockInstDetail(建玉一覧取得!C268,\"値幅上限値\")","v":"=SNT.StockInstDetail(建玉一覧取得!C268,\"値幅上限値\") => 銘柄コードが不正です"},{"$f":"_xll.SNT.StockInstDetail(建玉一覧取得!C268,\"値幅下限値\")","v":"=SNT.StockInstDetail(建玉一覧取得!C268,\"値幅下限値\") => 銘柄コードが不正です"},{"$f":"ROUND(IFERROR(SUM((制限値幅取得!F263-制限値幅取得!E263)*建玉一覧取得!$X$6+制限値幅取得!E263),\"\"),)","v":{"$error":"#VALUE!"}},{"$f":"ROUND(IFERROR(SUM((制限値幅取得!G263-制限値幅取得!E263)*建玉一覧取得!$X$6+制限値幅取得!E263),\"\"),)","v":{"$error":"#VALUE!"}}]
[null,260,{"$f":"建玉一覧取得!C269","v":0},{"$f":"建玉一覧取得!D269","v":0},{"$f":"_xll.SNT.StockInst(建玉一覧取得!C269,\"前日終値\")","v":"=SNT.StockInst(建玉一覧取得!C269,\"前日終値\") => 銘柄コードが不正です"},{"$f":"_xll.SNT.StockInstDetail(建玉一覧取得!C269,\"値幅上限値\")","v":"=SNT.StockInstDetail(建玉一覧取得!C269,\"値幅上限値\") => 銘柄コードが不正です"},{"$f":"_xll.SNT.StockInstDetail(建玉一覧取得!C269,\"値幅下限値\")","v":"=SNT.StockInstDetail(建玉一覧取得!C269,\"値幅下限値\") => 銘柄コードが不正です"},{"$f":"ROUND(IFERROR(SUM((制限値幅取得!F264-制限値幅取得!E264)*建玉一覧取得!$X$6+制限値幅取得!E264),\"\"),)","v":{"$error":"#VALUE!"}},{"$f":"ROUND(IFERROR(SUM((制限値幅取得!G264-制限値幅取得!E264)*建玉一覧取得!$X$6+制限値幅取得!E264),\"\"),)","v":{"$error":"#VALUE!"}}]
[null,261,{"$f":"建玉一覧取得!C270","v":0},{"$f":"建玉一覧取得!D270","v":0},{"$f":"_xll.SNT.StockInst(建玉一覧取得!C270,\"前日終値\")","v":"=SNT.StockInst(建玉一覧取得!C270,\"前日終値\") => 銘柄コードが不正です"},{"$f":"_xll.SNT.StockInstDetail(建玉一覧取得!C270,\"値幅上限値\")","v":"=SNT.StockInstDetail(建玉一覧取得!C270,\"値幅上限値\") => 銘柄コードが不正です"},{"$f":"_xll.SNT.StockInstDetail(建玉一覧取得!C270,\"値幅下限値\")","v":"=SNT.StockInstDetail(建玉一覧取得!C270,\"値幅下限値\") => 銘柄コードが不正です"},{"$f":"ROUND(IFERROR(SUM((制限値幅取得!F265-制限値幅取得!E265)*建玉一覧取得!$X$6+制限値幅取得!E265),\"\"),)","v":{"$error":"#VALUE!"}},{"$f":"ROUND(IFERROR(SUM((制限値幅取得!G265-制限値幅取得!E265)*建玉一覧取得!$X$6+制限値幅取得!E265),\"\"),)","v":{"$error":"#VALUE!"}}]
[null,262,{"$f":"建玉一覧取得!C271","v":0},{"$f":"建玉一覧取得!D271","v":0},{"$f":"_xll.SNT.StockInst(建玉一覧取得!C271,\"前日終値\")","v":"=SNT.StockInst(建玉一覧取得!C271,\"前日終値\") => 銘柄コードが不正です"},{"$f":"_xll.SNT.StockInstDetail(建玉一覧取得!C271,\"値幅上限値\")","v":"=SNT.StockInstDetail(建玉一覧取得!C271,\"値幅上限値\") => 銘柄コードが不正です"},{"$f":"_xll.SNT.StockInstDetail(建玉一覧取得!C271,\"値幅下限値\")","v":"=SNT.StockInstDetail(建玉一覧取得!C271,\"値幅下限値\") => 銘柄コードが不正です"},{"$f":"ROUND(IFERROR(SUM((制限値幅取得!F266-制限値幅取得!E266)*建玉一覧取得!$X$6+制限値幅取得!E266),\"\"),)","v":{"$error":"#VALUE!"}},{"$f":"ROUND(IFERROR(SUM((制限値幅取得!G266-制限値幅取得!E266)*建玉一覧取得!$X$6+制限値幅取得!E266),\"\"),)","v":{"$error":"#VALUE!"}}]
[null,263,{"$f":"建玉一覧取得!C272","v":0},{"$f":"建玉一覧取得!D272","v":0},{"$f":"_xll.SNT.StockInst(建玉一覧取得!C272,\"前日終値\")","v":"=SNT.StockInst(建玉一覧取得!C272,\"前日終値\") => 銘柄コードが不正です"},{"$f":"_xll.SNT.StockInstDetail(建玉一覧取得!C272,\"値幅上限値\")","v":"=SNT.StockInstDetail(建玉一覧取得!C272,\"値幅上限値\") => 銘柄コードが不正です"},{"$f":"_xll.SNT.StockInstDetail(建玉一覧取得!C272,\"値幅下限値\")","v":"=SNT.StockInstDetail(建玉一覧取得!C272,\"値幅下限値\") => 銘柄コードが不正です"},{"$f":"ROUND(IFERROR(SUM((制限値幅取得!F267-制限値幅取得!E267)*建玉一覧取得!$X$6+制限値幅取得!E267),\"\"),)","v":{"$error":"#VALUE!"}},{"$f":"ROUND(IFERROR(SUM((制限値幅取得!G267-制限値幅取得!E267)*建玉一覧取得!$X$6+制限値幅取得!E267),\"\"),)","v":{"$error":"#VALUE!"}}]
[null,264,{"$f":"建玉一覧取得!C273","v":0},{"$f":"建玉一覧取得!D273","v":0},{"$f":"_xll.SNT.StockInst(建玉一覧取得!C273,\"前日終値\")","v":"=SNT.StockInst(建玉一覧取得!C273,\"前日終値\") => 銘柄コードが不正です"},{"$f":"_xll.SNT.StockInstDetail(建玉一覧取得!C273,\"値幅上限値\")","v":"=SNT.StockInstDetail(建玉一覧取得!C273,\"値幅上限値\") => 銘柄コードが不正です"},{"$f":"_xll.SNT.StockInstDetail(建玉一覧取得!C273,\"値幅下限値\")","v":"=SNT.StockInstDetail(建玉一覧取得!C273,\"値幅下限値\") => 銘柄コードが不正です"},{"$f":"ROUND(IFERROR(SUM((制限値幅取得!F268-制限値幅取得!E268)*建玉一覧取得!$X$6+制限値幅取得!E268),\"\"),)","v":{"$error":"#VALUE!"}},{"$f":"ROUND(IFERROR(SUM((制限値幅取得!G268-制限値幅取得!E268)*建玉一覧取得!$X$6+制限値幅取得!E268),\"\"),)","v":{"$error":"#VALUE!"}}]
[null,265,{"$f":"建玉一覧取得!C274","v":0},{"$f":"建玉一覧取得!D274","v":0},{"$f":"_xll.SNT.StockInst(建玉一覧取得!C274,\"前日終値\")","v":"=SNT.StockInst(建玉一覧取得!C274,\"前日終値\") => 銘柄コードが不正です"},{"$f":"_xll.SNT.StockInstDetail(建玉一覧取得!C274,\"値幅上限値\")","v":"=SNT.StockInstDetail(建玉一覧取得!C274,\"値幅上限値\") => 銘柄コードが不正です"},{"$f":"_xll.SNT.StockInstDetail(建玉一覧取得!C274,\"値幅下限値\")","v":"=SNT.StockInstDetail(建玉一覧取得!C274,\"値幅下限値\") => 銘柄コードが不正です"},{"$f":"ROUND(IFERROR(SUM((制限値幅取得!F269-制限値幅取得!E269)*建玉一覧取得!$X$6+制限値幅取得!E269),\"\"),)","v":{"$error":"#VALUE!"}},{"$f":"ROUND(IFERROR(SUM((制限値幅取得!G269-制限値幅取得!E269)*建玉一覧取得!$X$6+制限値幅取得!E269),\"\"),)","v":{"$error":"#VALUE!"}}]
[null,266,{"$f":"建玉一覧取得!C275","v":0},{"$f":"建玉一覧取得!D275","v":0},{"$f":"_xll.SNT.StockInst(建玉一覧取得!C275,\"前日終値\")","v":"=SNT.StockInst(建玉一覧取得!C275,\"前日終値\") => 銘柄コードが不正です"},{"$f":"_xll.SNT.StockInstDetail(建玉一覧取得!C275,\"値幅上限値\")","v":"=SNT.StockInstDetail(建玉一覧取得!C275,\"値幅上限値\") => 銘柄コードが不正です"},{"$f":"_xll.SNT.StockInstDetail(建玉一覧取得!C275,\"値幅下限値\")","v":"=SNT.StockInstDetail(建玉一覧取得!C275,\"値幅下限値\") => 銘柄コードが不正です"},{"$f":"ROUND(IFERROR(SUM((制限値幅取得!F270-制限値幅取得!E270)*建玉一覧取得!$X$6+制限値幅取得!E270),\"\"),)","v":{"$error":"#VALUE!"}},{"$f":"ROUND(IFERROR(SUM((制限値幅取得!G270-制限値幅取得!E270)*建玉一覧取得!$X$6+制限値幅取得!E270),\"\"),)","v":{"$error":"#VALUE!"}}]
[null,267,{"$f":"建玉一覧取得!C276","v":0},{"$f":"建玉一覧取得!D276","v":0},{"$f":"_xll.SNT.StockInst(建玉一覧取得!C276,\"前日終値\")","v":"=SNT.StockInst(建玉一覧取得!C276,\"前日終値\") => 銘柄コードが不正です"},{"$f":"_xll.SNT.StockInstDetail(建玉一覧取得!C276,\"値幅上限値\")","v":"=SNT.StockInstDetail(建玉一覧取得!C276,\"値幅上限値\") => 銘柄コードが不正です"},{"$f":"_xll.SNT.StockInstDetail(建玉一覧取得!C276,\"値幅下限値\")","v":"=SNT.StockInstDetail(建玉一覧取得!C276,\"値幅下限値\") => 銘柄コードが不正です"},{"$f":"ROUND(IFERROR(SUM((制限値幅取得!F271-制限値幅取得!E271)*建玉一覧取得!$X$6+制限値幅取得!E271),\"\"),)","v":{"$error":"#VALUE!"}},{"$f":"ROUND(IFERROR(SUM((制限値幅取得!G271-制限値幅取得!E271)*建玉一覧取得!$X$6+制限値幅取得!E271),\"\"),)","v":{"$error":"#VALUE!"}}]
[null,268,{"$f":"建玉一覧取得!C277","v":0},{"$f":"建玉一覧取得!D277","v":0},{"$f":"_xll.SNT.StockInst(建玉一覧取得!C277,\"前日終値\")","v":"=SNT.StockInst(建玉一覧取得!C277,\"前日終値\") => 銘柄コードが不正です"},{"$f":"_xll.SNT.StockInstDetail(建玉一覧取得!C277,\"値幅上限値\")","v":"=SNT.StockInstDetail(建玉一覧取得!C277,\"値幅上限値\") => 銘柄コードが不正です"},{"$f":"_xll.SNT.StockInstDetail(建玉一覧取得!C277,\"値幅下限値\")","v":"=SNT.StockInstDetail(建玉一覧取得!C277,\"値幅下限値\") => 銘柄コードが不正です"},{"$f":"ROUND(IFERROR(SUM((制限値幅取得!F272-制限値幅取得!E272)*建玉一覧取得!$X$6+制限値幅取得!E272),\"\"),)","v":{"$error":"#VALUE!"}},{"$f":"ROUND(IFERROR(SUM((制限値幅取得!G272-制限値幅取得!E272)*建玉一覧取得!$X$6+制限値幅取得!E272),\"\"),)","v":{"$error":"#VALUE!"}}]
[null,269,{"$f":"建玉一覧取得!C278","v":0},{"$f":"建玉一覧取得!D278","v":0},{"$f":"_xll.SNT.StockInst(建玉一覧取得!C278,\"前日終値\")","v":"=SNT.StockInst(建玉一覧取得!C278,\"前日終値\") => 銘柄コードが不正です"},{"$f":"_xll.SNT.StockInstDetail(建玉一覧取得!C278,\"値幅上限値\")","v":"=SNT.StockInstDetail(建玉一覧取得!C278,\"値幅上限値\") => 銘柄コードが不正です"},{"$f":"_xll.SNT.StockInstDetail(建玉一覧取得!C278,\"値幅下限値\")","v":"=SNT.StockInstDetail(建玉一覧取得!C278,\"値幅下限値\") => 銘柄コードが不正です"},{"$f":"ROUND(IFERROR(SUM((制限値幅取得!F273-制限値幅取得!E273)*建玉一覧取得!$X$6+制限値幅取得!E273),\"\"),)","v":{"$error":"#VALUE!"}},{"$f":"ROUND(IFERROR(SUM((制限値幅取得!G273-制限値幅取得!E273)*建玉一覧取得!$X$6+制限値幅取得!E273),\"\"),)","v":{"$error":"#VALUE!"}}]
[null,270,{"$f":"建玉一覧取得!C279","v":0},{"$f":"建玉一覧取得!D279","v":0},{"$f":"_xll.SNT.StockInst(建玉一覧取得!C279,\"前日終値\")","v":"=SNT.StockInst(建玉一覧取得!C279,\"前日終値\") => 銘柄コードが不正です"},{"$f":"_xll.SNT.StockInstDetail(建玉一覧取得!C279,\"値幅上限値\")","v":"=SNT.StockInstDetail(建玉一覧取得!C279,\"値幅上限値\") => 銘柄コードが不正です"},{"$f":"_xll.SNT.StockInstDetail(建玉一覧取得!C279,\"値幅下限値\")","v":"=SNT.StockInstDetail(建玉一覧取得!C279,\"値幅下限値\") => 銘柄コードが不正です"},{"$f":"ROUND(IFERROR(SUM((制限値幅取得!F274-制限値幅取得!E274)*建玉一覧取得!$X$6+制限値幅取得!E274),\"\"),)","v":{"$error":"#VALUE!"}},{"$f":"ROUND(IFERROR(SUM((制限値幅取得!G274-制限値幅取得!E274)*建玉一覧取得!$X$6+制限値幅取得!E274),\"\"),)","v":{"$error":"#VALUE!"}}]
[null,271,{"$f":"建玉一覧取得!C280","v":0},{"$f":"建玉一覧取得!D280","v":0},{"$f":"_xll.SNT.StockInst(建玉一覧取得!C280,\"前日終値\")","v":"=SNT.StockInst(建玉一覧取得!C280,\"前日終値\") => 銘柄コードが不正です"},{"$f":"_xll.SNT.StockInstDetail(建玉一覧取得!C280,\"値幅上限値\")","v":"=SNT.StockInstDetail(建玉一覧取得!C280,\"値幅上限値\") => 銘柄コードが不正です"},{"$f":"_xll.SNT.StockInstDetail(建玉一覧取得!C280,\"値幅下限値\")","v":"=SNT.StockInstDetail(建玉一覧取得!C280,\"値幅下限値\") => 銘柄コードが不正です"},{"$f":"ROUND(IFERROR(SUM((制限値幅取得!F275-制限値幅取得!E275)*建玉一覧取得!$X$6+制限値幅取得!E275),\"\"),)","v":{"$error":"#VALUE!"}},{"$f":"ROUND(IFERROR(SUM((制限値幅取得!G275-制限値幅取得!E275)*建玉一覧取得!$X$6+制限値幅取得!E275),\"\"),)","v":{"$error":"#VALUE!"}}]
[null,272,{"$f":"建玉一覧取得!C281","v":0},{"$f":"建玉一覧取得!D281","v":0},{"$f":"_xll.SNT.StockInst(建玉一覧取得!C281,\"前日終値\")","v":"=SNT.StockInst(建玉一覧取得!C281,\"前日終値\") => 銘柄コードが不正です"},{"$f":"_xll.SNT.StockInstDetail(建玉一覧取得!C281,\"値幅上限値\")","v":"=SNT.StockInstDetail(建玉一覧取得!C281,\"値幅上限値\") => 銘柄コードが不正です"},{"$f":"_xll.SNT.StockInstDetail(建玉一覧取得!C281,\"値幅下限値\")","v":"=SNT.StockInstDetail(建玉一覧取得!C281,\"値幅下限値\") => 銘柄コードが不正です"},{"$f":"ROUND(IFERROR(SUM((制限値幅取得!F276-制限値幅取得!E276)*建玉一覧取得!$X$6+制限値幅取得!E276),\"\"),)","v":{"$error":"#VALUE!"}},{"$f":"ROUND(IFERROR(SUM((制限値幅取得!G276-制限値幅取得!E276)*建玉一覧取得!$X$6+制限値幅取得!E276),\"\"),)","v":{"$error":"#VALUE!"}}]
[null,273,{"$f":"建玉一覧取得!C282","v":0},{"$f":"建玉一覧取得!D282","v":0},{"$f":"_xll.SNT.StockInst(建玉一覧取得!C282,\"前日終値\")","v":"=SNT.StockInst(建玉一覧取得!C282,\"前日終値\") => 銘柄コードが不正です"},{"$f":"_xll.SNT.StockInstDetail(建玉一覧取得!C282,\"値幅上限値\")","v":"=SNT.StockInstDetail(建玉一覧取得!C282,\"値幅上限値\") => 銘柄コードが不正です"},{"$f":"_xll.SNT.StockInstDetail(建玉一覧取得!C282,\"値幅下限値\")","v":"=SNT.StockInstDetail(建玉一覧取得!C282,\"値幅下限値\") => 銘柄コードが不正です"},{"$f":"ROUND(IFERROR(SUM((制限値幅取得!F277-制限値幅取得!E277)*建玉一覧取得!$X$6+制限値幅取得!E277),\"\"),)","v":{"$error":"#VALUE!"}},{"$f":"ROUND(IFERROR(SUM((制限値幅取得!G277-制限値幅取得!E277)*建玉一覧取得!$X$6+制限値幅取得!E277),\"\"),)","v":{"$error":"#VALUE!"}}]
[null,274,{"$f":"建玉一覧取得!C283","v":0},{"$f":"建玉一覧取得!D283","v":0},{"$f":"_xll.SNT.StockInst(建玉一覧取得!C283,\"前日終値\")","v":"=SNT.StockInst(建玉一覧取得!C283,\"前日終値\") => 銘柄コードが不正です"},{"$f":"_xll.SNT.StockInstDetail(建玉一覧取得!C283,\"値幅上限値\")","v":"=SNT.StockInstDetail(建玉一覧取得!C283,\"値幅上限値\") => 銘柄コードが不正です"},{"$f":"_xll.SNT.StockInstDetail(建玉一覧取得!C283,\"値幅下限値\")","v":"=SNT.StockInstDetail(建玉一覧取得!C283,\"値幅下限値\") => 銘柄コードが不正です"},{"$f":"ROUND(IFERROR(SUM((制限値幅取得!F278-制限値幅取得!E278)*建玉一覧取得!$X$6+制限値幅取得!E278),\"\"),)","v":{"$error":"#VALUE!"}},{"$f":"ROUND(IFERROR(SUM((制限値幅取得!G278-制限値幅取得!E278)*建玉一覧取得!$X$6+制限値幅取得!E278),\"\"),)","v":{"$error":"#VALUE!"}}]
[null,275,{"$f":"建玉一覧取得!C284","v":0},{"$f":"建玉一覧取得!D284","v":0},{"$f":"_xll.SNT.StockInst(建玉一覧取得!C284,\"前日終値\")","v":"=SNT.StockInst(建玉一覧取得!C284,\"前日終値\") => 銘柄コードが不正です"},{"$f":"_xll.SNT.StockInstDetail(建玉一覧取得!C284,\"値幅上限値\")","v":"=SNT.StockInstDetail(建玉一覧取得!C284,\"値幅上限値\") => 銘柄コードが不正です"},{"$f":"_xll.SNT.StockInstDetail(建玉一覧取得!C284,\"値幅下限値\")","v":"=SNT.StockInstDetail(建玉一覧取得!C284,\"値幅下限値\") => 銘柄コードが不正です"},{"$f":"ROUND(IFERROR(SUM((制限値幅取得!F279-制限値幅取得!E279)*建玉一覧取得!$X$6+制限値幅取得!E279),\"\"),)","v":{"$error":"#VALUE!"}},{"$f":"ROUND(IFERROR(SUM((制限値幅取得!G279-制限値幅取得!E279)*建玉一覧取得!$X$6+制限値幅取得!E279),\"\"),)","v":{"$error":"#VALUE!"}}]
[null,276,{"$f":"建玉一覧取得!C285","v":0},{"$f":"建玉一覧取得!D285","v":0},{"$f":"_xll.SNT.StockInst(建玉一覧取得!C285,\"前日終値\")","v":"=SNT.StockInst(建玉一覧取得!C285,\"前日終値\") => 銘柄コードが不正です"},{"$f":"_xll.SNT.StockInstDetail(建玉一覧取得!C285,\"値幅上限値\")","v":"=SNT.StockInstDetail(建玉一覧取得!C285,\"値幅上限値\") => 銘柄コードが不正です"},{"$f":"_xll.SNT.StockInstDetail(建玉一覧取得!C285,\"値幅下限値\")","v":"=SNT.StockInstDetail(建玉一覧取得!C285,\"値幅下限値\") => 銘柄コードが不正です"},{"$f":"ROUND(IFERROR(SUM((制限値幅取得!F280-制限値幅取得!E280)*建玉一覧取得!$X$6+制限値幅取得!E280),\"\"),)","v":{"$error":"#VALUE!"}},{"$f":"ROUND(IFERROR(SUM((制限値幅取得!G280-制限値幅取得!E280)*建玉一覧取得!$X$6+制限値幅取得!E280),\"\"),)","v":{"$error":"#VALUE!"}}]
[null,277,{"$f":"建玉一覧取得!C286","v":0},{"$f":"建玉一覧取得!D286","v":0},{"$f":"_xll.SNT.StockInst(建玉一覧取得!C286,\"前日終値\")","v":"=SNT.StockInst(建玉一覧取得!C286,\"前日終値\") => 銘柄コードが不正です"},{"$f":"_xll.SNT.StockInstDetail(建玉一覧取得!C286,\"値幅上限値\")","v":"=SNT.StockInstDetail(建玉一覧取得!C286,\"値幅上限値\") => 銘柄コードが不正です"},{"$f":"_xll.SNT.StockInstDetail(建玉一覧取得!C286,\"値幅下限値\")","v":"=SNT.StockInstDetail(建玉一覧取得!C286,\"値幅下限値\") => 銘柄コードが不正です"},{"$f":"ROUND(IFERROR(SUM((制限値幅取得!F281-制限値幅取得!E281)*建玉一覧取得!$X$6+制限値幅取得!E281),\"\"),)","v":{"$error":"#VALUE!"}},{"$f":"ROUND(IFERROR(SUM((制限値幅取得!G281-制限値幅取得!E281)*建玉一覧取得!$X$6+制限値幅取得!E281),\"\"),)","v":{"$error":"#VALUE!"}}]
[null,278,{"$f":"建玉一覧取得!C287","v":0},{"$f":"建玉一覧取得!D287","v":0},{"$f":"_xll.SNT.StockInst(建玉一覧取得!C287,\"前日終値\")","v":"=SNT.StockInst(建玉一覧取得!C287,\"前日終値\") => 銘柄コードが不正です"},{"$f":"_xll.SNT.StockInstDetail(建玉一覧取得!C287,\"値幅上限値\")","v":"=SNT.StockInstDetail(建玉一覧取得!C287,\"値幅上限値\") => 銘柄コードが不正です"},{"$f":"_xll.SNT.StockInstDetail(建玉一覧取得!C287,\"値幅下限値\")","v":"=SNT.StockInstDetail(建玉一覧取得!C287,\"値幅下限値\") => 銘柄コードが不正です"},{"$f":"ROUND(IFERROR(SUM((制限値幅取得!F282-制限値幅取得!E282)*建玉一覧取得!$X$6+制限値幅取得!E282),\"\"),)","v":{"$error":"#VALUE!"}},{"$f":"ROUND(IFERROR(SUM((制限値幅取得!G282-制限値幅取得!E282)*建玉一覧取得!$X$6+制限値幅取得!E282),\"\"),)","v":{"$error":"#VALUE!"}}]
[null,279,{"$f":"建玉一覧取得!C288","v":0},{"$f":"建玉一覧取得!D288","v":0},{"$f":"_xll.SNT.StockInst(建玉一覧取得!C288,\"前日終値\")","v":"=SNT.StockInst(建玉一覧取得!C288,\"前日終値\") => 銘柄コードが不正です"},{"$f":"_xll.SNT.StockInstDetail(建玉一覧取得!C288,\"値幅上限値\")","v":"=SNT.StockInstDetail(建玉一覧取得!C288,\"値幅上限値\") => 銘柄コードが不正です"},{"$f":"_xll.SNT.StockInstDetail(建玉一覧取得!C288,\"値幅下限値\")","v":"=SNT.StockInstDetail(建玉一覧取得!C288,\"値幅下限値\") => 銘柄コードが不正です"},{"$f":"ROUND(IFERROR(SUM((制限値幅取得!F283-制限値幅取得!E283)*建玉一覧取得!$X$6+制限値幅取得!E283),\"\"),)","v":{"$error":"#VALUE!"}},{"$f":"ROUND(IFERROR(SUM((制限値幅取得!G283-制限値幅取得!E283)*建玉一覧取得!$X$6+制限値幅取得!E283),\"\"),)","v":{"$error":"#VALUE!"}}]
[null,280,{"$f":"建玉一覧取得!C289","v":0},{"$f":"建玉一覧取得!D289","v":0},{"$f":"_xll.SNT.StockInst(建玉一覧取得!C289,\"前日終値\")","v":"=SNT.StockInst(建玉一覧取得!C289,\"前日終値\") => 銘柄コードが不正です"},{"$f":"_xll.SNT.StockInstDetail(建玉一覧取得!C289,\"値幅上限値\")","v":"=SNT.StockInstDetail(建玉一覧取得!C289,\"値幅上限値\") => 銘柄コードが不正です"},{"$f":"_xll.SNT.StockInstDetail(建玉一覧取得!C289,\"値幅下限値\")","v":"=SNT.StockInstDetail(建玉一覧取得!C289,\"値幅下限値\") => 銘柄コードが不正です"},{"$f":"ROUND(IFERROR(SUM((制限値幅取得!F284-制限値幅取得!E284)*建玉一覧取得!$X$6+制限値幅取得!E284),\"\"),)","v":{"$error":"#VALUE!"}},{"$f":"ROUND(IFERROR(SUM((制限値幅取得!G284-制限値幅取得!E284)*建玉一覧取得!$X$6+制限値幅取得!E284),\"\"),)","v":{"$error":"#VALUE!"}}]
[null,281,{"$f":"建玉一覧取得!C290","v":0},{"$f":"建玉一覧取得!D290","v":0},{"$f":"_xll.SNT.StockInst(建玉一覧取得!C290,\"前日終値\")","v":"=SNT.StockInst(建玉一覧取得!C290,\"前日終値\") => 銘柄コードが不正です"},{"$f":"_xll.SNT.StockInstDetail(建玉一覧取得!C290,\"値幅上限値\")","v":"=SNT.StockInstDetail(建玉一覧取得!C290,\"値幅上限値\") => 銘柄コードが不正です"},{"$f":"_xll.SNT.StockInstDetail(建玉一覧取得!C290,\"値幅下限値\")","v":"=SNT.StockInstDetail(建玉一覧取得!C290,\"値幅下限値\") => 銘柄コードが不正です"},{"$f":"ROUND(IFERROR(SUM((制限値幅取得!F285-制限値幅取得!E285)*建玉一覧取得!$X$6+制限値幅取得!E285),\"\"),)","v":{"$error":"#VALUE!"}},{"$f":"ROUND(IFERROR(SUM((制限値幅取得!G285-制限値幅取得!E285)*建玉一覧取得!$X$6+制限値幅取得!E285),\"\"),)","v":{"$error":"#VALUE!"}}]
[null,282,{"$f":"建玉一覧取得!C291","v":0},{"$f":"建玉一覧取得!D291","v":0},{"$f":"_xll.SNT.StockInst(建玉一覧取得!C291,\"前日終値\")","v":"=SNT.StockInst(建玉一覧取得!C291,\"前日終値\") => 銘柄コードが不正です"},{"$f":"_xll.SNT.StockInstDetail(建玉一覧取得!C291,\"値幅上限値\")","v":"=SNT.StockInstDetail(建玉一覧取得!C291,\"値幅上限値\") => 銘柄コードが不正です"},{"$f":"_xll.SNT.StockInstDetail(建玉一覧取得!C291,\"値幅下限値\")","v":"=SNT.StockInstDetail(建玉一覧取得!C291,\"値幅下限値\") => 銘柄コードが不正です"},{"$f":"ROUND(IFERROR(SUM((制限値幅取得!F286-制限値幅取得!E286)*建玉一覧取得!$X$6+制限値幅取得!E286),\"\"),)","v":{"$error":"#VALUE!"}},{"$f":"ROUND(IFERROR(SUM((制限値幅取得!G286-制限値幅取得!E286)*建玉一覧取得!$X$6+制限値幅取得!E286),\"\"),)","v":{"$error":"#VALUE!"}}]
[null,283,{"$f":"建玉一覧取得!C292","v":0},{"$f":"建玉一覧取得!D292","v":0},{"$f":"_xll.SNT.StockInst(建玉一覧取得!C292,\"前日終値\")","v":"=SNT.StockInst(建玉一覧取得!C292,\"前日終値\") => 銘柄コードが不正です"},{"$f":"_xll.SNT.StockInstDetail(建玉一覧取得!C292,\"値幅上限値\")","v":"=SNT.StockInstDetail(建玉一覧取得!C292,\"値幅上限値\") => 銘柄コードが不正です"},{"$f":"_xll.SNT.StockInstDetail(建玉一覧取得!C292,\"値幅下限値\")","v":"=SNT.StockInstDetail(建玉一覧取得!C292,\"値幅下限値\") => 銘柄コードが不正です"},{"$f":"ROUND(IFERROR(SUM((制限値幅取得!F287-制限値幅取得!E287)*建玉一覧取得!$X$6+制限値幅取得!E287),\"\"),)","v":{"$error":"#VALUE!"}},{"$f":"ROUND(IFERROR(SUM((制限値幅取得!G287-制限値幅取得!E287)*建玉一覧取得!$X$6+制限値幅取得!E287),\"\"),)","v":{"$error":"#VALUE!"}}]
[null,284,{"$f":"建玉一覧取得!C293","v":0},{"$f":"建玉一覧取得!D293","v":0},{"$f":"_xll.SNT.StockInst(建玉一覧取得!C293,\"前日終値\")","v":"=SNT.StockInst(建玉一覧取得!C293,\"前日終値\") => 銘柄コードが不正です"},{"$f":"_xll.SNT.StockInstDetail(建玉一覧取得!C293,\"値幅上限値\")","v":"=SNT.StockInstDetail(建玉一覧取得!C293,\"値幅上限値\") => 銘柄コードが不正です"},{"$f":"_xll.SNT.StockInstDetail(建玉一覧取得!C293,\"値幅下限値\")","v":"=SNT.StockInstDetail(建玉一覧取得!C293,\"値幅下限値\") => 銘柄コードが不正です"},{"$f":"ROUND(IFERROR(SUM((制限値幅取得!F288-制限値幅取得!E288)*建玉一覧取得!$X$6+制限値幅取得!E288),\"\"),)","v":{"$error":"#VALUE!"}},{"$f":"ROUND(IFERROR(SUM((制限値幅取得!G288-制限値幅取得!E288)*建玉一覧取得!$X$6+制限値幅取得!E288),\"\"),)","v":{"$error":"#VALUE!"}}]
[null,285,{"$f":"建玉一覧取得!C294","v":0},{"$f":"建玉一覧取得!D294","v":0},{"$f":"_xll.SNT.StockInst(建玉一覧取得!C294,\"前日終値\")","v":"=SNT.StockInst(建玉一覧取得!C294,\"前日終値\") => 銘柄コードが不正です"},{"$f":"_xll.SNT.StockInstDetail(建玉一覧取得!C294,\"値幅上限値\")","v":"=SNT.StockInstDetail(建玉一覧取得!C294,\"値幅上限値\") => 銘柄コードが不正です"},{"$f":"_xll.SNT.StockInstDetail(建玉一覧取得!C294,\"値幅下限値\")","v":"=SNT.StockInstDetail(建玉一覧取得!C294,\"値幅下限値\") => 銘柄コードが不正です"},{"$f":"ROUND(IFERROR(SUM((制限値幅取得!F289-制限値幅取得!E289)*建玉一覧取得!$X$6+制限値幅取得!E289),\"\"),)","v":{"$error":"#VALUE!"}},{"$f":"ROUND(IFERROR(SUM((制限値幅取得!G289-制限値幅取得!E289)*建玉一覧取得!$X$6+制限値幅取得!E289),\"\"),)","v":{"$error":"#VALUE!"}}]
[null,286,{"$f":"建玉一覧取得!C295","v":0},{"$f":"建玉一覧取得!D295","v":0},{"$f":"_xll.SNT.StockInst(建玉一覧取得!C295,\"前日終値\")","v":"=SNT.StockInst(建玉一覧取得!C295,\"前日終値\") => 銘柄コードが不正です"},{"$f":"_xll.SNT.StockInstDetail(建玉一覧取得!C295,\"値幅上限値\")","v":"=SNT.StockInstDetail(建玉一覧取得!C295,\"値幅上限値\") => 銘柄コードが不正です"},{"$f":"_xll.SNT.StockInstDetail(建玉一覧取得!C295,\"値幅下限値\")","v":"=SNT.StockInstDetail(建玉一覧取得!C295,\"値幅下限値\") => 銘柄コードが不正です"},{"$f":"ROUND(IFERROR(SUM((制限値幅取得!F290-制限値幅取得!E290)*建玉一覧取得!$X$6+制限値幅取得!E290),\"\"),)","v":{"$error":"#VALUE!"}},{"$f":"ROUND(IFERROR(SUM((制限値幅取得!G290-制限値幅取得!E290)*建玉一覧取得!$X$6+制限値幅取得!E290),\"\"),)","v":{"$error":"#VALUE!"}}]
[null,287,{"$f":"建玉一覧取得!C296","v":0},{"$f":"建玉一覧取得!D296","v":0},{"$f":"_xll.SNT.StockInst(建玉一覧取得!C296,\"前日終値\")","v":"=SNT.StockInst(建玉一覧取得!C296,\"前日終値\") => 銘柄コードが不正です"},{"$f":"_xll.SNT.StockInstDetail(建玉一覧取得!C296,\"値幅上限値\")","v":"=SNT.StockInstDetail(建玉一覧取得!C296,\"値幅上限値\") => 銘柄コードが不正です"},{"$f":"_xll.SNT.StockInstDetail(建玉一覧取得!C296,\"値幅下限値\")","v":"=SNT.StockInstDetail(建玉一覧取得!C296,\"値幅下限値\") => 銘柄コードが不正です"},{"$f":"ROUND(IFERROR(SUM((制限値幅取得!F291-制限値幅取得!E291)*建玉一覧取得!$X$6+制限値幅取得!E291),\"\"),)","v":{"$error":"#VALUE!"}},{"$f":"ROUND(IFERROR(SUM((制限値幅取得!G291-制限値幅取得!E291)*建玉一覧取得!$X$6+制限値幅取得!E291),\"\"),)","v":{"$error":"#VALUE!"}}]
[null,288,{"$f":"建玉一覧取得!C297","v":0},{"$f":"建玉一覧取得!D297","v":0},{"$f":"_xll.SNT.StockInst(建玉一覧取得!C297,\"前日終値\")","v":"=SNT.StockInst(建玉一覧取得!C297,\"前日終値\") => 銘柄コードが不正です"},{"$f":"_xll.SNT.StockInstDetail(建玉一覧取得!C297,\"値幅上限値\")","v":"=SNT.StockInstDetail(建玉一覧取得!C297,\"値幅上限値\") => 銘柄コードが不正です"},{"$f":"_xll.SNT.StockInstDetail(建玉一覧取得!C297,\"値幅下限値\")","v":"=SNT.StockInstDetail(建玉一覧取得!C297,\"値幅下限値\") => 銘柄コードが不正です"},{"$f":"ROUND(IFERROR(SUM((制限値幅取得!F292-制限値幅取得!E292)*建玉一覧取得!$X$6+制限値幅取得!E292),\"\"),)","v":{"$error":"#VALUE!"}},{"$f":"ROUND(IFERROR(SUM((制限値幅取得!G292-制限値幅取得!E292)*建玉一覧取得!$X$6+制限値幅取得!E292),\"\"),)","v":{"$error":"#VALUE!"}}]
[null,289,{"$f":"建玉一覧取得!C298","v":0},{"$f":"建玉一覧取得!D298","v":0},{"$f":"_xll.SNT.StockInst(建玉一覧取得!C298,\"前日終値\")","v":"=SNT.StockInst(建玉一覧取得!C298,\"前日終値\") => 銘柄コードが不正です"},{"$f":"_xll.SNT.StockInstDetail(建玉一覧取得!C298,\"値幅上限値\")","v":"=SNT.StockInstDetail(建玉一覧取得!C298,\"値幅上限値\") => 銘柄コードが不正です"},{"$f":"_xll.SNT.StockInstDetail(建玉一覧取得!C298,\"値幅下限値\")","v":"=SNT.StockInstDetail(建玉一覧取得!C298,\"値幅下限値\") => 銘柄コードが不正です"},{"$f":"ROUND(IFERROR(SUM((制限値幅取得!F293-制限値幅取得!E293)*建玉一覧取得!$X$6+制限値幅取得!E293),\"\"),)","v":{"$error":"#VALUE!"}},{"$f":"ROUND(IFERROR(SUM((制限値幅取得!G293-制限値幅取得!E293)*建玉一覧取得!$X$6+制限値幅取得!E293),\"\"),)","v":{"$error":"#VALUE!"}}]
[null,290,{"$f":"建玉一覧取得!C299","v":0},{"$f":"建玉一覧取得!D299","v":0},{"$f":"_xll.SNT.StockInst(建玉一覧取得!C299,\"前日終値\")","v":"=SNT.StockInst(建玉一覧取得!C299,\"前日終値\") => 銘柄コードが不正です"},{"$f":"_xll.SNT.StockInstDetail(建玉一覧取得!C299,\"値幅上限値\")","v":"=SNT.StockInstDetail(建玉一覧取得!C299,\"値幅上限値\") => 銘柄コードが不正です"},{"$f":"_xll.SNT.StockInstDetail(建玉一覧取得!C299,\"値幅下限値\")","v":"=SNT.StockInstDetail(建玉一覧取得!C299,\"値幅下限値\") => 銘柄コードが不正です"},{"$f":"ROUND(IFERROR(SUM((制限値幅取得!F294-制限値幅取得!E294)*建玉一覧取得!$X$6+制限値幅取得!E294),\"\"),)","v":{"$error":"#VALUE!"}},{"$f":"ROUND(IFERROR(SUM((制限値幅取得!G294-制限値幅取得!E294)*建玉一覧取得!$X$6+制限値幅取得!E294),\"\"),)","v":{"$error":"#VALUE!"}}]
[null,291,{"$f":"建玉一覧取得!C300","v":0},{"$f":"建玉一覧取得!D300","v":0},{"$f":"_xll.SNT.StockInst(建玉一覧取得!C300,\"前日終値\")","v":"=SNT.StockInst(建玉一覧取得!C300,\"前日終値\") => 銘柄コードが不正です"},{"$f":"_xll.SNT.StockInstDetail(建玉一覧取得!C300,\"値幅上限値\")","v":"=SNT.StockInstDetail(建玉一覧取得!C300,\"値幅上限値\") => 銘柄コードが不正です"},{"$f":"_xll.SNT.StockInstDetail(建玉一覧取得!C300,\"値幅下限値\")","v":"=SNT.StockInstDetail(建玉一覧取得!C300,\"値幅下限値\") => 銘柄コードが不正です"},{"$f":"ROUND(IFERROR(SUM((制限値幅取得!F295-制限値幅取得!E295)*建玉一覧取得!$X$6+制限値幅取得!E295),\"\"),)","v":{"$error":"#VALUE!"}},{"$f":"ROUND(IFERROR(SUM((制限値幅取得!G295-制限値幅取得!E295)*建玉一覧取得!$X$6+制限値幅取得!E295),\"\"),)","v":{"$error":"#VALUE!"}}]
[null,292,{"$f":"建玉一覧取得!C301","v":0},{"$f":"建玉一覧取得!D301","v":0},{"$f":"_xll.SNT.StockInst(建玉一覧取得!C301,\"前日終値\")","v":"=SNT.StockInst(建玉一覧取得!C301,\"前日終値\") => 銘柄コードが不正です"},{"$f":"_xll.SNT.StockInstDetail(建玉一覧取得!C301,\"値幅上限値\")","v":"=SNT.StockInstDetail(建玉一覧取得!C301,\"値幅上限値\") => 銘柄コードが不正です"},{"$f":"_xll.SNT.StockInstDetail(建玉一覧取得!C301,\"値幅下限値\")","v":"=SNT.StockInstDetail(建玉一覧取得!C301,\"値幅下限値\") => 銘柄コードが不正です"},{"$f":"ROUND(IFERROR(SUM((制限値幅取得!F296-制限値幅取得!E296)*建玉一覧取得!$X$6+制限値幅取得!E296),\"\"),)","v":{"$error":"#VALUE!"}},{"$f":"ROUND(IFERROR(SUM((制限値幅取得!G296-制限値幅取得!E296)*建玉一覧取得!$X$6+制限値幅取得!E296),\"\"),)","v":{"$error":"#VALUE!"}}]
[null,293,{"$f":"建玉一覧取得!C302","v":0},{"$f":"建玉一覧取得!D302","v":0},{"$f":"_xll.SNT.StockInst(建玉一覧取得!C302,\"前日終値\")","v":"=SNT.StockInst(建玉一覧取得!C302,\"前日終値\") => 銘柄コードが不正です"},{"$f":"_xll.SNT.StockInstDetail(建玉一覧取得!C302,\"値幅上限値\")","v":"=SNT.StockInstDetail(建玉一覧取得!C302,\"値幅上限値\") => 銘柄コードが不正です"},{"$f":"_xll.SNT.StockInstDetail(建玉一覧取得!C302,\"値幅下限値\")","v":"=SNT.StockInstDetail(建玉一覧取得!C302,\"値幅下限値\") => 銘柄コードが不正です"},{"$f":"ROUND(IFERROR(SUM((制限値幅取得!F297-制限値幅取得!E297)*建玉一覧取得!$X$6+制限値幅取得!E297),\"\"),)","v":{"$error":"#VALUE!"}},{"$f":"ROUND(IFERROR(SUM((制限値幅取得!G297-制限値幅取得!E297)*建玉一覧取得!$X$6+制限値幅取得!E297),\"\"),)","v":{"$error":"#VALUE!"}}]
[null,294,{"$f":"建玉一覧取得!C303","v":0},{"$f":"建玉一覧取得!D303","v":0},{"$f":"_xll.SNT.StockInst(建玉一覧取得!C303,\"前日終値\")","v":"=SNT.StockInst(建玉一覧取得!C303,\"前日終値\") => 銘柄コードが不正です"},{"$f":"_xll.SNT.StockInstDetail(建玉一覧取得!C303,\"値幅上限値\")","v":"=SNT.StockInstDetail(建玉一覧取得!C303,\"値幅上限値\") => 銘柄コードが不正です"},{"$f":"_xll.SNT.StockInstDetail(建玉一覧取得!C303,\"値幅下限値\")","v":"=SNT.StockInstDetail(建玉一覧取得!C303,\"値幅下限値\") => 銘柄コードが不正です"},{"$f":"ROUND(IFERROR(SUM((制限値幅取得!F298-制限値幅取得!E298)*建玉一覧取得!$X$6+制限値幅取得!E298),\"\"),)","v":{"$error":"#VALUE!"}},{"$f":"ROUND(IFERROR(SUM((制限値幅取得!G298-制限値幅取得!E298)*建玉一覧取得!$X$6+制限値幅取得!E298),\"\"),)","v":{"$error":"#VALUE!"}}]
[null,295,{"$f":"建玉一覧取得!C304","v":0},{"$f":"建玉一覧取得!D304","v":0},{"$f":"_xll.SNT.StockInst(建玉一覧取得!C304,\"前日終値\")","v":"=SNT.StockInst(建玉一覧取得!C304,\"前日終値\") => 銘柄コードが不正です"},{"$f":"_xll.SNT.StockInstDetail(建玉一覧取得!C304,\"値幅上限値\")","v":"=SNT.StockInstDetail(建玉一覧取得!C304,\"値幅上限値\") => 銘柄コードが不正です"},{"$f":"_xll.SNT.StockInstDetail(建玉一覧取得!C304,\"値幅下限値\")","v":"=SNT.StockInstDetail(建玉一覧取得!C304,\"値幅下限値\") => 銘柄コードが不正です"},{"$f":"ROUND(IFERROR(SUM((制限値幅取得!F299-制限値幅取得!E299)*建玉一覧取得!$X$6+制限値幅取得!E299),\"\"),)","v":{"$error":"#VALUE!"}},{"$f":"ROUND(IFERROR(SUM((制限値幅取得!G299-制限値幅取得!E299)*建玉一覧取得!$X$6+制限値幅取得!E299),\"\"),)","v":{"$error":"#VALUE!"}}]
[null,296,{"$f":"建玉一覧取得!C305","v":0},{"$f":"建玉一覧取得!D305","v":0},{"$f":"_xll.SNT.StockInst(建玉一覧取得!C305,\"前日終値\")","v":"=SNT.StockInst(建玉一覧取得!C305,\"前日終値\") => 銘柄コードが不正です"},{"$f":"_xll.SNT.StockInstDetail(建玉一覧取得!C305,\"値幅上限値\")","v":"=SNT.StockInstDetail(建玉一覧取得!C305,\"値幅上限値\") => 銘柄コードが不正です"},{"$f":"_xll.SNT.StockInstDetail(建玉一覧取得!C305,\"値幅下限値\")","v":"=SNT.StockInstDetail(建玉一覧取得!C305,\"値幅下限値\") => 銘柄コードが不正です"},{"$f":"ROUND(IFERROR(SUM((制限値幅取得!F300-制限値幅取得!E300)*建玉一覧取得!$X$6+制限値幅取得!E300),\"\"),)","v":{"$error":"#VALUE!"}},{"$f":"ROUND(IFERROR(SUM((制限値幅取得!G300-制限値幅取得!E300)*建玉一覧取得!$X$6+制限値幅取得!E300),\"\"),)","v":{"$error":"#VALUE!"}}]
[null,297,{"$f":"建玉一覧取得!C306","v":0},{"$f":"建玉一覧取得!D306","v":0},{"$f":"_xll.SNT.StockInst(建玉一覧取得!C306,\"前日終値\")","v":"=SNT.StockInst(建玉一覧取得!C306,\"前日終値\") => 銘柄コードが不正です"},{"$f":"_xll.SNT.StockInstDetail(建玉一覧取得!C306,\"値幅上限値\")","v":"=SNT.StockInstDetail(建玉一覧取得!C306,\"値幅上限値\") => 銘柄コードが不正です"},{"$f":"_xll.SNT.StockInstDetail(建玉一覧取得!C306,\"値幅下限値\")","v":"=SNT.StockInstDetail(建玉一覧取得!C306,\"値幅下限値\") => 銘柄コードが不正です"},{"$f":"ROUND(IFERROR(SUM((制限値幅取得!F301-制限値幅取得!E301)*建玉一覧取得!$X$6+制限値幅取得!E301),\"\"),)","v":{"$error":"#VALUE!"}},{"$f":"ROUND(IFERROR(SUM((制限値幅取得!G301-制限値幅取得!E301)*建玉一覧取得!$X$6+制限値幅取得!E301),\"\"),)","v":{"$error":"#VALUE!"}}]
[null,298,{"$f":"建玉一覧取得!C307","v":0},{"$f":"建玉一覧取得!D307","v":0},{"$f":"_xll.SNT.StockInst(建玉一覧取得!C307,\"前日終値\")","v":"=SNT.StockInst(建玉一覧取得!C307,\"前日終値\") => 銘柄コードが不正です"},{"$f":"_xll.SNT.StockInstDetail(建玉一覧取得!C307,\"値幅上限値\")","v":"=SNT.StockInstDetail(建玉一覧取得!C307,\"値幅上限値\") => 銘柄コードが不正です"},{"$f":"_xll.SNT.StockInstDetail(建玉一覧取得!C307,\"値幅下限値\")","v":"=SNT.StockInstDetail(建玉一覧取得!C307,\"値幅下限値\") => 銘柄コードが不正です"},{"$f":"ROUND(IFERROR(SUM((制限値幅取得!F302-制限値幅取得!E302)*建玉一覧取得!$X$6+制限値幅取得!E302),\"\"),)","v":{"$error":"#VALUE!"}},{"$f":"ROUND(IFERROR(SUM((制限値幅取得!G302-制限値幅取得!E302)*建玉一覧取得!$X$6+制限値幅取得!E302),\"\"),)","v":{"$error":"#VALUE!"}}]
[null,299,{"$f":"建玉一覧取得!C308","v":0},{"$f":"建玉一覧取得!D308","v":0},{"$f":"_xll.SNT.StockInst(建玉一覧取得!C308,\"前日終値\")","v":"=SNT.StockInst(建玉一覧取得!C308,\"前日終値\") => 銘柄コードが不正です"},{"$f":"_xll.SNT.StockInstDetail(建玉一覧取得!C308,\"値幅上限値\")","v":"=SNT.StockInstDetail(建玉一覧取得!C308,\"値幅上限値\") => 銘柄コードが不正です"},{"$f":"_xll.SNT.StockInstDetail(建玉一覧取得!C308,\"値幅下限値\")","v":"=SNT.StockInstDetail(建玉一覧取得!C308,\"値幅下限値\") => 銘柄コードが不正です"},{"$f":"ROUND(IFERROR(SUM((制限値幅取得!F303-制限値幅取得!E303)*建玉一覧取得!$X$6+制限値幅取得!E303),\"\"),)","v":{"$error":"#VALUE!"}},{"$f":"ROUND(IFERROR(SUM((制限値幅取得!G303-制限値幅取得!E303)*建玉一覧取得!$X$6+制限値幅取得!E303),\"\"),)","v":{"$error":"#VALUE!"}}]
[null,300,{"$f":"建玉一覧取得!C309","v":0},{"$f":"建玉一覧取得!D309","v":0},{"$f":"_xll.SNT.StockInst(建玉一覧取得!C309,\"前日終値\")","v":"=SNT.StockInst(建玉一覧取得!C309,\"前日終値\") => 銘柄コードが不正です"},{"$f":"_xll.SNT.StockInstDetail(建玉一覧取得!C309,\"値幅上限値\")","v":"=SNT.StockInstDetail(建玉一覧取得!C309,\"値幅上限値\") => 銘柄コードが不正です"},{"$f":"_xll.SNT.StockInstDetail(建玉一覧取得!C309,\"値幅下限値\")","v":"=SNT.StockInstDetail(建玉一覧取得!C309,\"値幅下限値\") => 銘柄コードが不正です"},{"$f":"ROUND(IFERROR(SUM((制限値幅取得!F304-制限値幅取得!E304)*建玉一覧取得!$X$6+制限値幅取得!E304),\"\"),)","v":{"$error":"#VALUE!"}},{"$f":"ROUND(IFERROR(SUM((制限値幅取得!G304-制限値幅取得!E304)*建玉一覧取得!$X$6+制限値幅取得!E304),\"\"),)","v":{"$error":"#VALUE!"}}]
[null,301,{"$f":"建玉一覧取得!C310","v":0},{"$f":"建玉一覧取得!D310","v":0},{"$f":"_xll.SNT.StockInst(建玉一覧取得!C310,\"前日終値\")","v":"=SNT.StockInst(建玉一覧取得!C310,\"前日終値\") => 銘柄コードが不正です"},{"$f":"_xll.SNT.StockInstDetail(建玉一覧取得!C310,\"値幅上限値\")","v":"=SNT.StockInstDetail(建玉一覧取得!C310,\"値幅上限値\") => 銘柄コードが不正です"},{"$f":"_xll.SNT.StockInstDetail(建玉一覧取得!C310,\"値幅下限値\")","v":"=SNT.StockInstDetail(建玉一覧取得!C310,\"値幅下限値\") => 銘柄コードが不正です"},{"$f":"ROUND(IFERROR(SUM((制限値幅取得!F305-制限値幅取得!E305)*建玉一覧取得!$X$6+制限値幅取得!E305),\"\"),)","v":{"$error":"#VALUE!"}},{"$f":"ROUND(IFERROR(SUM((制限値幅取得!G305-制限値幅取得!E305)*建玉一覧取得!$X$6+制限値幅取得!E305),\"\"),)","v":{"$error":"#VALUE!"}}]
[null,302,{"$f":"建玉一覧取得!C311","v":0},{"$f":"建玉一覧取得!D311","v":0},{"$f":"_xll.SNT.StockInst(建玉一覧取得!C311,\"前日終値\")","v":"=SNT.StockInst(建玉一覧取得!C311,\"前日終値\") => 銘柄コードが不正です"},{"$f":"_xll.SNT.StockInstDetail(建玉一覧取得!C311,\"値幅上限値\")","v":"=SNT.StockInstDetail(建玉一覧取得!C311,\"値幅上限値\") => 銘柄コードが不正です"},{"$f":"_xll.SNT.StockInstDetail(建玉一覧取得!C311,\"値幅下限値\")","v":"=SNT.StockInstDetail(建玉一覧取得!C311,\"値幅下限値\") => 銘柄コードが不正です"},{"$f":"ROUND(IFERROR(SUM((制限値幅取得!F306-制限値幅取得!E306)*建玉一覧取得!$X$6+制限値幅取得!E306),\"\"),)","v":{"$error":"#VALUE!"}},{"$f":"ROUND(IFERROR(SUM((制限値幅取得!G306-制限値幅取得!E306)*建玉一覧取得!$X$6+制限値幅取得!E306),\"\"),)","v":{"$error":"#VALUE!"}}]
[null,303,{"$f":"建玉一覧取得!C312","v":0},{"$f":"建玉一覧取得!D312","v":0},{"$f":"_xll.SNT.StockInst(建玉一覧取得!C312,\"前日終値\")","v":"=SNT.StockInst(建玉一覧取得!C312,\"前日終値\") => 銘柄コードが不正です"},{"$f":"_xll.SNT.StockInstDetail(建玉一覧取得!C312,\"値幅上限値\")","v":"=SNT.StockInstDetail(建玉一覧取得!C312,\"値幅上限値\") => 銘柄コードが不正です"},{"$f":"_xll.SNT.StockInstDetail(建玉一覧取得!C312,\"値幅下限値\")","v":"=SNT.StockInstDetail(建玉一覧取得!C312,\"値幅下限値\") => 銘柄コードが不正です"},{"$f":"ROUND(IFERROR(SUM((制限値幅取得!F307-制限値幅取得!E307)*建玉一覧取得!$X$6+制限値幅取得!E307),\"\"),)","v":{"$error":"#VALUE!"}},{"$f":"ROUND(IFERROR(SUM((制限値幅取得!G307-制限値幅取得!E307)*建玉一覧取得!$X$6+制限値幅取得!E307),\"\"),)","v":{"$error":"#VALUE!"}}]
[null,304,{"$f":"建玉一覧取得!C313","v":0},{"$f":"建玉一覧取得!D313","v":0},{"$f":"_xll.SNT.StockInst(建玉一覧取得!C313,\"前日終値\")","v":"=SNT.StockInst(建玉一覧取得!C313,\"前日終値\") => 銘柄コードが不正です"},{"$f":"_xll.SNT.StockInstDetail(建玉一覧取得!C313,\"値幅上限値\")","v":"=SNT.StockInstDetail(建玉一覧取得!C313,\"値幅上限値\") => 銘柄コードが不正です"},{"$f":"_xll.SNT.StockInstDetail(建玉一覧取得!C313,\"値幅下限値\")","v":"=SNT.StockInstDetail(建玉一覧取得!C313,\"値幅下限値\") => 銘柄コードが不正です"},{"$f":"ROUND(IFERROR(SUM((制限値幅取得!F308-制限値幅取得!E308)*建玉一覧取得!$X$6+制限値幅取得!E308),\"\"),)","v":{"$error":"#VALUE!"}},{"$f":"ROUND(IFERROR(SUM((制限値幅取得!G308-制限値幅取得!E308)*建玉一覧取得!$X$6+制限値幅取得!E308),\"\"),)","v":{"$error":"#VALUE!"}}]
[null,305,{"$f":"建玉一覧取得!C314","v":0},{"$f":"建玉一覧取得!D314","v":0},{"$f":"_xll.SNT.StockInst(建玉一覧取得!C314,\"前日終値\")","v":"=SNT.StockInst(建玉一覧取得!C314,\"前日終値\") => 銘柄コードが不正です"},{"$f":"_xll.SNT.StockInstDetail(建玉一覧取得!C314,\"値幅上限値\")","v":"=SNT.StockInstDetail(建玉一覧取得!C314,\"値幅上限値\") => 銘柄コードが不正です"},{"$f":"_xll.SNT.StockInstDetail(建玉一覧取得!C314,\"値幅下限値\")","v":"=SNT.StockInstDetail(建玉一覧取得!C314,\"値幅下限値\") => 銘柄コードが不正です"},{"$f":"ROUND(IFERROR(SUM((制限値幅取得!F309-制限値幅取得!E309)*建玉一覧取得!$X$6+制限値幅取得!E309),\"\"),)","v":{"$error":"#VALUE!"}},{"$f":"ROUND(IFERROR(SUM((制限値幅取得!G309-制限値幅取得!E309)*建玉一覧取得!$X$6+制限値幅取得!E309),\"\"),)","v":{"$error":"#VALUE!"}}]
[null,306,{"$f":"建玉一覧取得!C315","v":0},{"$f":"建玉一覧取得!D315","v":0},{"$f":"_xll.SNT.StockInst(建玉一覧取得!C315,\"前日終値\")","v":"=SNT.StockInst(建玉一覧取得!C315,\"前日終値\") => 銘柄コードが不正です"},{"$f":"_xll.SNT.StockInstDetail(建玉一覧取得!C315,\"値幅上限値\")","v":"=SNT.StockInstDetail(建玉一覧取得!C315,\"値幅上限値\") => 銘柄コードが不正です"},{"$f":"_xll.SNT.StockInstDetail(建玉一覧取得!C315,\"値幅下限値\")","v":"=SNT.StockInstDetail(建玉一覧取得!C315,\"値幅下限値\") => 銘柄コードが不正です"},{"$f":"ROUND(IFERROR(SUM((制限値幅取得!F310-制限値幅取得!E310)*建玉一覧取得!$X$6+制限値幅取得!E310),\"\"),)","v":{"$error":"#VALUE!"}},{"$f":"ROUND(IFERROR(SUM((制限値幅取得!G310-制限値幅取得!E310)*建玉一覧取得!$X$6+制限値幅取得!E310),\"\"),)","v":{"$error":"#VALUE!"}}]
[null,307,{"$f":"建玉一覧取得!C316","v":0},{"$f":"建玉一覧取得!D316","v":0},{"$f":"_xll.SNT.StockInst(建玉一覧取得!C316,\"前日終値\")","v":"=SNT.StockInst(建玉一覧取得!C316,\"前日終値\") => 銘柄コードが不正です"},{"$f":"_xll.SNT.StockInstDetail(建玉一覧取得!C316,\"値幅上限値\")","v":"=SNT.StockInstDetail(建玉一覧取得!C316,\"値幅上限値\") => 銘柄コードが不正です"},{"$f":"_xll.SNT.StockInstDetail(建玉一覧取得!C316,\"値幅下限値\")","v":"=SNT.StockInstDetail(建玉一覧取得!C316,\"値幅下限値\") => 銘柄コードが不正です"},{"$f":"ROUND(IFERROR(SUM((制限値幅取得!F311-制限値幅取得!E311)*建玉一覧取得!$X$6+制限値幅取得!E311),\"\"),)","v":{"$error":"#VALUE!"}},{"$f":"ROUND(IFERROR(SUM((制限値幅取得!G311-制限値幅取得!E311)*建玉一覧取得!$X$6+制限値幅取得!E311),\"\"),)","v":{"$error":"#VALUE!"}}]
[null,308,{"$f":"建玉一覧取得!C317","v":0},{"$f":"建玉一覧取得!D317","v":0},{"$f":"_xll.SNT.StockInst(建玉一覧取得!C317,\"前日終値\")","v":"=SNT.StockInst(建玉一覧取得!C317,\"前日終値\") => 銘柄コードが不正です"},{"$f":"_xll.SNT.StockInstDetail(建玉一覧取得!C317,\"値幅上限値\")","v":"=SNT.StockInstDetail(建玉一覧取得!C317,\"値幅上限値\") => 銘柄コードが不正です"},{"$f":"_xll.SNT.StockInstDetail(建玉一覧取得!C317,\"値幅下限値\")","v":"=SNT.StockInstDetail(建玉一覧取得!C317,\"値幅下限値\") => 銘柄コードが不正です"},{"$f":"ROUND(IFERROR(SUM((制限値幅取得!F312-制限値幅取得!E312)*建玉一覧取得!$X$6+制限値幅取得!E312),\"\"),)","v":{"$error":"#VALUE!"}},{"$f":"ROUND(IFERROR(SUM((制限値幅取得!G312-制限値幅取得!E312)*建玉一覧取得!$X$6+制限値幅取得!E312),\"\"),)","v":{"$error":"#VALUE!"}}]
[null,309,{"$f":"建玉一覧取得!C318","v":0},{"$f":"建玉一覧取得!D318","v":0},{"$f":"_xll.SNT.StockInst(建玉一覧取得!C318,\"前日終値\")","v":"=SNT.StockInst(建玉一覧取得!C318,\"前日終値\") => 銘柄コードが不正です"},{"$f":"_xll.SNT.StockInstDetail(建玉一覧取得!C318,\"値幅上限値\")","v":"=SNT.StockInstDetail(建玉一覧取得!C318,\"値幅上限値\") => 銘柄コードが不正です"},{"$f":"_xll.SNT.StockInstDetail(建玉一覧取得!C318,\"値幅下限値\")","v":"=SNT.StockInstDetail(建玉一覧取得!C318,\"値幅下限値\") => 銘柄コードが不正です"},{"$f":"ROUND(IFERROR(SUM((制限値幅取得!F313-制限値幅取得!E313)*建玉一覧取得!$X$6+制限値幅取得!E313),\"\"),)","v":{"$error":"#VALUE!"}},{"$f":"ROUND(IFERROR(SUM((制限値幅取得!G313-制限値幅取得!E313)*建玉一覧取得!$X$6+制限値幅取得!E313),\"\"),)","v":{"$error":"#VALUE!"}}]
[null,310,{"$f":"建玉一覧取得!C319","v":0},{"$f":"建玉一覧取得!D319","v":0},{"$f":"_xll.SNT.StockInst(建玉一覧取得!C319,\"前日終値\")","v":"=SNT.StockInst(建玉一覧取得!C319,\"前日終値\") => 銘柄コードが不正です"},{"$f":"_xll.SNT.StockInstDetail(建玉一覧取得!C319,\"値幅上限値\")","v":"=SNT.StockInstDetail(建玉一覧取得!C319,\"値幅上限値\") => 銘柄コードが不正です"},{"$f":"_xll.SNT.StockInstDetail(建玉一覧取得!C319,\"値幅下限値\")","v":"=SNT.StockInstDetail(建玉一覧取得!C319,\"値幅下限値\") => 銘柄コードが不正です"},{"$f":"ROUND(IFERROR(SUM((制限値幅取得!F314-制限値幅取得!E314)*建玉一覧取得!$X$6+制限値幅取得!E314),\"\"),)","v":{"$error":"#VALUE!"}},{"$f":"ROUND(IFERROR(SUM((制限値幅取得!G314-制限値幅取得!E314)*建玉一覧取得!$X$6+制限値幅取得!E314),\"\"),)","v":{"$error":"#VALUE!"}}]
[null,311,{"$f":"建玉一覧取得!C320","v":0},{"$f":"建玉一覧取得!D320","v":0},{"$f":"_xll.SNT.StockInst(建玉一覧取得!C320,\"前日終値\")","v":"=SNT.StockInst(建玉一覧取得!C320,\"前日終値\") => 銘柄コードが不正です"},{"$f":"_xll.SNT.StockInstDetail(建玉一覧取得!C320,\"値幅上限値\")","v":"=SNT.StockInstDetail(建玉一覧取得!C320,\"値幅上限値\") => 銘柄コードが不正です"},{"$f":"_xll.SNT.StockInstDetail(建玉一覧取得!C320,\"値幅下限値\")","v":"=SNT.StockInstDetail(建玉一覧取得!C320,\"値幅下限値\") => 銘柄コードが不正です"},{"$f":"ROUND(IFERROR(SUM((制限値幅取得!F315-制限値幅取得!E315)*建玉一覧取得!$X$6+制限値幅取得!E315),\"\"),)","v":{"$error":"#VALUE!"}},{"$f":"ROUND(IFERROR(SUM((制限値幅取得!G315-制限値幅取得!E315)*建玉一覧取得!$X$6+制限値幅取得!E315),\"\"),)","v":{"$error":"#VALUE!"}}]
[null,312,{"$f":"建玉一覧取得!C321","v":0},{"$f":"建玉一覧取得!D321","v":0},{"$f":"_xll.SNT.StockInst(建玉一覧取得!C321,\"前日終値\")","v":"=SNT.StockInst(建玉一覧取得!C321,\"前日終値\") => 銘柄コードが不正です"},{"$f":"_xll.SNT.StockInstDetail(建玉一覧取得!C321,\"値幅上限値\")","v":"=SNT.StockInstDetail(建玉一覧取得!C321,\"値幅上限値\") => 銘柄コードが不正です"},{"$f":"_xll.SNT.StockInstDetail(建玉一覧取得!C321,\"値幅下限値\")","v":"=SNT.StockInstDetail(建玉一覧取得!C321,\"値幅下限値\") => 銘柄コードが不正です"},{"$f":"ROUND(IFERROR(SUM((制限値幅取得!F316-制限値幅取得!E316)*建玉一覧取得!$X$6+制限値幅取得!E316),\"\"),)","v":{"$error":"#VALUE!"}},{"$f":"ROUND(IFERROR(SUM((制限値幅取得!G316-制限値幅取得!E316)*建玉一覧取得!$X$6+制限値幅取得!E316),\"\"),)","v":{"$error":"#VALUE!"}}]
[null,313,{"$f":"建玉一覧取得!C322","v":0},{"$f":"建玉一覧取得!D322","v":0},{"$f":"_xll.SNT.StockInst(建玉一覧取得!C322,\"前日終値\")","v":"=SNT.StockInst(建玉一覧取得!C322,\"前日終値\") => 銘柄コードが不正です"},{"$f":"_xll.SNT.StockInstDetail(建玉一覧取得!C322,\"値幅上限値\")","v":"=SNT.StockInstDetail(建玉一覧取得!C322,\"値幅上限値\") => 銘柄コードが不正です"},{"$f":"_xll.SNT.StockInstDetail(建玉一覧取得!C322,\"値幅下限値\")","v":"=SNT.StockInstDetail(建玉一覧取得!C322,\"値幅下限値\") => 銘柄コードが不正です"},{"$f":"ROUND(IFERROR(SUM((制限値幅取得!F317-制限値幅取得!E317)*建玉一覧取得!$X$6+制限値幅取得!E317),\"\"),)","v":{"$error":"#VALUE!"}},{"$f":"ROUND(IFERROR(SUM((制限値幅取得!G317-制限値幅取得!E317)*建玉一覧取得!$X$6+制限値幅取得!E317),\"\"),)","v":{"$error":"#VALUE!"}}]
[null,314,{"$f":"建玉一覧取得!C323","v":0},{"$f":"建玉一覧取得!D323","v":0},{"$f":"_xll.SNT.StockInst(建玉一覧取得!C323,\"前日終値\")","v":"=SNT.StockInst(建玉一覧取得!C323,\"前日終値\") => 銘柄コードが不正です"},{"$f":"_xll.SNT.StockInstDetail(建玉一覧取得!C323,\"値幅上限値\")","v":"=SNT.StockInstDetail(建玉一覧取得!C323,\"値幅上限値\") => 銘柄コードが不正です"},{"$f":"_xll.SNT.StockInstDetail(建玉一覧取得!C323,\"値幅下限値\")","v":"=SNT.StockInstDetail(建玉一覧取得!C323,\"値幅下限値\") => 銘柄コードが不正です"},{"$f":"ROUND(IFERROR(SUM((制限値幅取得!F318-制限値幅取得!E318)*建玉一覧取得!$X$6+制限値幅取得!E318),\"\"),)","v":{"$error":"#VALUE!"}},{"$f":"ROUND(IFERROR(SUM((制限値幅取得!G318-制限値幅取得!E318)*建玉一覧取得!$X$6+制限値幅取得!E318),\"\"),)","v":{"$error":"#VALUE!"}}]
[null,315,{"$f":"建玉一覧取得!C324","v":0},{"$f":"建玉一覧取得!D324","v":0},{"$f":"_xll.SNT.StockInst(建玉一覧取得!C324,\"前日終値\")","v":"=SNT.StockInst(建玉一覧取得!C324,\"前日終値\") => 銘柄コードが不正です"},{"$f":"_xll.SNT.StockInstDetail(建玉一覧取得!C324,\"値幅上限値\")","v":"=SNT.StockInstDetail(建玉一覧取得!C324,\"値幅上限値\") => 銘柄コードが不正です"},{"$f":"_xll.SNT.StockInstDetail(建玉一覧取得!C324,\"値幅下限値\")","v":"=SNT.StockInstDetail(建玉一覧取得!C324,\"値幅下限値\") => 銘柄コードが不正です"},{"$f":"ROUND(IFERROR(SUM((制限値幅取得!F319-制限値幅取得!E319)*建玉一覧取得!$X$6+制限値幅取得!E319),\"\"),)","v":{"$error":"#VALUE!"}},{"$f":"ROUND(IFERROR(SUM((制限値幅取得!G319-制限値幅取得!E319)*建玉一覧取得!$X$6+制限値幅取得!E319),\"\"),)","v":{"$error":"#VALUE!"}}]
[null,316,{"$f":"建玉一覧取得!C325","v":0},{"$f":"建玉一覧取得!D325","v":0},{"$f":"_xll.SNT.StockInst(建玉一覧取得!C325,\"前日終値\")","v":"=SNT.StockInst(建玉一覧取得!C325,\"前日終値\") => 銘柄コードが不正です"},{"$f":"_xll.SNT.StockInstDetail(建玉一覧取得!C325,\"値幅上限値\")","v":"=SNT.StockInstDetail(建玉一覧取得!C325,\"値幅上限値\") => 銘柄コードが不正です"},{"$f":"_xll.SNT.StockInstDetail(建玉一覧取得!C325,\"値幅下限値\")","v":"=SNT.StockInstDetail(建玉一覧取得!C325,\"値幅下限値\") => 銘柄コードが不正です"},{"$f":"ROUND(IFERROR(SUM((制限値幅取得!F320-制限値幅取得!E320)*建玉一覧取得!$X$6+制限値幅取得!E320),\"\"),)","v":{"$error":"#VALUE!"}},{"$f":"ROUND(IFERROR(SUM((制限値幅取得!G320-制限値幅取得!E320)*建玉一覧取得!$X$6+制限値幅取得!E320),\"\"),)","v":{"$error":"#VALUE!"}}]
[null,317,{"$f":"建玉一覧取得!C326","v":0},{"$f":"建玉一覧取得!D326","v":0},{"$f":"_xll.SNT.StockInst(建玉一覧取得!C326,\"前日終値\")","v":"=SNT.StockInst(建玉一覧取得!C326,\"前日終値\") => 銘柄コードが不正です"},{"$f":"_xll.SNT.StockInstDetail(建玉一覧取得!C326,\"値幅上限値\")","v":"=SNT.StockInstDetail(建玉一覧取得!C326,\"値幅上限値\") => 銘柄コードが不正です"},{"$f":"_xll.SNT.StockInstDetail(建玉一覧取得!C326,\"値幅下限値\")","v":"=SNT.StockInstDetail(建玉一覧取得!C326,\"値幅下限値\") => 銘柄コードが不正です"},{"$f":"ROUND(IFERROR(SUM((制限値幅取得!F321-制限値幅取得!E321)*建玉一覧取得!$X$6+制限値幅取得!E321),\"\"),)","v":{"$error":"#VALUE!"}},{"$f":"ROUND(IFERROR(SUM((制限値幅取得!G321-制限値幅取得!E321)*建玉一覧取得!$X$6+制限値幅取得!E321),\"\"),)","v":{"$error":"#VALUE!"}}]
[null,318,{"$f":"建玉一覧取得!C327","v":0},{"$f":"建玉一覧取得!D327","v":0},{"$f":"_xll.SNT.StockInst(建玉一覧取得!C327,\"前日終値\")","v":"=SNT.StockInst(建玉一覧取得!C327,\"前日終値\") => 銘柄コードが不正です"},{"$f":"_xll.SNT.StockInstDetail(建玉一覧取得!C327,\"値幅上限値\")","v":"=SNT.StockInstDetail(建玉一覧取得!C327,\"値幅上限値\") => 銘柄コードが不正です"},{"$f":"_xll.SNT.StockInstDetail(建玉一覧取得!C327,\"値幅下限値\")","v":"=SNT.StockInstDetail(建玉一覧取得!C327,\"値幅下限値\") => 銘柄コードが不正です"},{"$f":"ROUND(IFERROR(SUM((制限値幅取得!F322-制限値幅取得!E322)*建玉一覧取得!$X$6+制限値幅取得!E322),\"\"),)","v":{"$error":"#VALUE!"}},{"$f":"ROUND(IFERROR(SUM((制限値幅取得!G322-制限値幅取得!E322)*建玉一覧取得!$X$6+制限値幅取得!E322),\"\"),)","v":{"$error":"#VALUE!"}}]
[null,319,{"$f":"建玉一覧取得!C328","v":0},{"$f":"建玉一覧取得!D328","v":0},{"$f":"_xll.SNT.StockInst(建玉一覧取得!C328,\"前日終値\")","v":"=SNT.StockInst(建玉一覧取得!C328,\"前日終値\") => 銘柄コードが不正です"},{"$f":"_xll.SNT.StockInstDetail(建玉一覧取得!C328,\"値幅上限値\")","v":"=SNT.StockInstDetail(建玉一覧取得!C328,\"値幅上限値\") => 銘柄コードが不正です"},{"$f":"_xll.SNT.StockInstDetail(建玉一覧取得!C328,\"値幅下限値\")","v":"=SNT.StockInstDetail(建玉一覧取得!C328,\"値幅下限値\") => 銘柄コードが不正です"},{"$f":"ROUND(IFERROR(SUM((制限値幅取得!F323-制限値幅取得!E323)*建玉一覧取得!$X$6+制限値幅取得!E323),\"\"),)","v":{"$error":"#VALUE!"}},{"$f":"ROUND(IFERROR(SUM((制限値幅取得!G323-制限値幅取得!E323)*建玉一覧取得!$X$6+制限値幅取得!E323),\"\"),)","v":{"$error":"#VALUE!"}}]
[null,320,{"$f":"建玉一覧取得!C329","v":0},{"$f":"建玉一覧取得!D329","v":0},{"$f":"_xll.SNT.StockInst(建玉一覧取得!C329,\"前日終値\")","v":"=SNT.StockInst(建玉一覧取得!C329,\"前日終値\") => 銘柄コードが不正です"},{"$f":"_xll.SNT.StockInstDetail(建玉一覧取得!C329,\"値幅上限値\")","v":"=SNT.StockInstDetail(建玉一覧取得!C329,\"値幅上限値\") => 銘柄コードが不正です"},{"$f":"_xll.SNT.StockInstDetail(建玉一覧取得!C329,\"値幅下限値\")","v":"=SNT.StockInstDetail(建玉一覧取得!C329,\"値幅下限値\") => 銘柄コードが不正です"},{"$f":"ROUND(IFERROR(SUM((制限値幅取得!F324-制限値幅取得!E324)*建玉一覧取得!$X$6+制限値幅取得!E324),\"\"),)","v":{"$error":"#VALUE!"}},{"$f":"ROUND(IFERROR(SUM((制限値幅取得!G324-制限値幅取得!E324)*建玉一覧取得!$X$6+制限値幅取得!E324),\"\"),)","v":{"$error":"#VALUE!"}}]
[null,321,{"$f":"建玉一覧取得!C330","v":0},{"$f":"建玉一覧取得!D330","v":0},{"$f":"_xll.SNT.StockInst(建玉一覧取得!C330,\"前日終値\")","v":"=SNT.StockInst(建玉一覧取得!C330,\"前日終値\") => 銘柄コードが不正です"},{"$f":"_xll.SNT.StockInstDetail(建玉一覧取得!C330,\"値幅上限値\")","v":"=SNT.StockInstDetail(建玉一覧取得!C330,\"値幅上限値\") => 銘柄コードが不正です"},{"$f":"_xll.SNT.StockInstDetail(建玉一覧取得!C330,\"値幅下限値\")","v":"=SNT.StockInstDetail(建玉一覧取得!C330,\"値幅下限値\") => 銘柄コードが不正です"},{"$f":"ROUND(IFERROR(SUM((制限値幅取得!F325-制限値幅取得!E325)*建玉一覧取得!$X$6+制限値幅取得!E325),\"\"),)","v":{"$error":"#VALUE!"}},{"$f":"ROUND(IFERROR(SUM((制限値幅取得!G325-制限値幅取得!E325)*建玉一覧取得!$X$6+制限値幅取得!E325),\"\"),)","v":{"$error":"#VALUE!"}}]
[null,322,{"$f":"建玉一覧取得!C331","v":0},{"$f":"建玉一覧取得!D331","v":0},{"$f":"_xll.SNT.StockInst(建玉一覧取得!C331,\"前日終値\")","v":"=SNT.StockInst(建玉一覧取得!C331,\"前日終値\") => 銘柄コードが不正です"},{"$f":"_xll.SNT.StockInstDetail(建玉一覧取得!C331,\"値幅上限値\")","v":"=SNT.StockInstDetail(建玉一覧取得!C331,\"値幅上限値\") => 銘柄コードが不正です"},{"$f":"_xll.SNT.StockInstDetail(建玉一覧取得!C331,\"値幅下限値\")","v":"=SNT.StockInstDetail(建玉一覧取得!C331,\"値幅下限値\") => 銘柄コードが不正です"},{"$f":"ROUND(IFERROR(SUM((制限値幅取得!F326-制限値幅取得!E326)*建玉一覧取得!$X$6+制限値幅取得!E326),\"\"),)","v":{"$error":"#VALUE!"}},{"$f":"ROUND(IFERROR(SUM((制限値幅取得!G326-制限値幅取得!E326)*建玉一覧取得!$X$6+制限値幅取得!E326),\"\"),)","v":{"$error":"#VALUE!"}}]
[null,323,{"$f":"建玉一覧取得!C332","v":0},{"$f":"建玉一覧取得!D332","v":0},{"$f":"_xll.SNT.StockInst(建玉一覧取得!C332,\"前日終値\")","v":"=SNT.StockInst(建玉一覧取得!C332,\"前日終値\") => 銘柄コードが不正です"},{"$f":"_xll.SNT.StockInstDetail(建玉一覧取得!C332,\"値幅上限値\")","v":"=SNT.StockInstDetail(建玉一覧取得!C332,\"値幅上限値\") => 銘柄コードが不正です"},{"$f":"_xll.SNT.StockInstDetail(建玉一覧取得!C332,\"値幅下限値\")","v":"=SNT.StockInstDetail(建玉一覧取得!C332,\"値幅下限値\") => 銘柄コードが不正です"},{"$f":"ROUND(IFERROR(SUM((制限値幅取得!F327-制限値幅取得!E327)*建玉一覧取得!$X$6+制限値幅取得!E327),\"\"),)","v":{"$error":"#VALUE!"}},{"$f":"ROUND(IFERROR(SUM((制限値幅取得!G327-制限値幅取得!E327)*建玉一覧取得!$X$6+制限値幅取得!E327),\"\"),)","v":{"$error":"#VALUE!"}}]
[null,324,{"$f":"建玉一覧取得!C333","v":0},{"$f":"建玉一覧取得!D333","v":0},{"$f":"_xll.SNT.StockInst(建玉一覧取得!C333,\"前日終値\")","v":"=SNT.StockInst(建玉一覧取得!C333,\"前日終値\") => 銘柄コードが不正です"},{"$f":"_xll.SNT.StockInstDetail(建玉一覧取得!C333,\"値幅上限値\")","v":"=SNT.StockInstDetail(建玉一覧取得!C333,\"値幅上限値\") => 銘柄コードが不正です"},{"$f":"_xll.SNT.StockInstDetail(建玉一覧取得!C333,\"値幅下限値\")","v":"=SNT.StockInstDetail(建玉一覧取得!C333,\"値幅下限値\") => 銘柄コードが不正です"},{"$f":"ROUND(IFERROR(SUM((制限値幅取得!F328-制限値幅取得!E328)*建玉一覧取得!$X$6+制限値幅取得!E328),\"\"),)","v":{"$error":"#VALUE!"}},{"$f":"ROUND(IFERROR(SUM((制限値幅取得!G328-制限値幅取得!E328)*建玉一覧取得!$X$6+制限値幅取得!E328),\"\"),)","v":{"$error":"#VALUE!"}}]
[null,325,{"$f":"建玉一覧取得!C334","v":0},{"$f":"建玉一覧取得!D334","v":0},{"$f":"_xll.SNT.StockInst(建玉一覧取得!C334,\"前日終値\")","v":"=SNT.StockInst(建玉一覧取得!C334,\"前日終値\") => 銘柄コードが不正です"},{"$f":"_xll.SNT.StockInstDetail(建玉一覧取得!C334,\"値幅上限値\")","v":"=SNT.StockInstDetail(建玉一覧取得!C334,\"値幅上限値\") => 銘柄コードが不正です"},{"$f":"_xll.SNT.StockInstDetail(建玉一覧取得!C334,\"値幅下限値\")","v":"=SNT.StockInstDetail(建玉一覧取得!C334,\"値幅下限値\") => 銘柄コードが不正です"},{"$f":"ROUND(IFERROR(SUM((制限値幅取得!F329-制限値幅取得!E329)*建玉一覧取得!$X$6+制限値幅取得!E329),\"\"),)","v":{"$error":"#VALUE!"}},{"$f":"ROUND(IFERROR(SUM((制限値幅取得!G329-制限値幅取得!E329)*建玉一覧取得!$X$6+制限値幅取得!E329),\"\"),)","v":{"$error":"#VALUE!"}}]
[null,326,{"$f":"建玉一覧取得!C335","v":0},{"$f":"建玉一覧取得!D335","v":0},{"$f":"_xll.SNT.StockInst(建玉一覧取得!C335,\"前日終値\")","v":"=SNT.StockInst(建玉一覧取得!C335,\"前日終値\") => 銘柄コードが不正です"},{"$f":"_xll.SNT.StockInstDetail(建玉一覧取得!C335,\"値幅上限値\")","v":"=SNT.StockInstDetail(建玉一覧取得!C335,\"値幅上限値\") => 銘柄コードが不正です"},{"$f":"_xll.SNT.StockInstDetail(建玉一覧取得!C335,\"値幅下限値\")","v":"=SNT.StockInstDetail(建玉一覧取得!C335,\"値幅下限値\") => 銘柄コードが不正です"},{"$f":"ROUND(IFERROR(SUM((制限値幅取得!F330-制限値幅取得!E330)*建玉一覧取得!$X$6+制限値幅取得!E330),\"\"),)","v":{"$error":"#VALUE!"}},{"$f":"ROUND(IFERROR(SUM((制限値幅取得!G330-制限値幅取得!E330)*建玉一覧取得!$X$6+制限値幅取得!E330),\"\"),)","v":{"$error":"#VALUE!"}}]
[null,327,{"$f":"建玉一覧取得!C336","v":0},{"$f":"建玉一覧取得!D336","v":0},{"$f":"_xll.SNT.StockInst(建玉一覧取得!C336,\"前日終値\")","v":"=SNT.StockInst(建玉一覧取得!C336,\"前日終値\") => 銘柄コードが不正です"},{"$f":"_xll.SNT.StockInstDetail(建玉一覧取得!C336,\"値幅上限値\")","v":"=SNT.StockInstDetail(建玉一覧取得!C336,\"値幅上限値\") => 銘柄コードが不正です"},{"$f":"_xll.SNT.StockInstDetail(建玉一覧取得!C336,\"値幅下限値\")","v":"=SNT.StockInstDetail(建玉一覧取得!C336,\"値幅下限値\") => 銘柄コードが不正です"},{"$f":"ROUND(IFERROR(SUM((制限値幅取得!F331-制限値幅取得!E331)*建玉一覧取得!$X$6+制限値幅取得!E331),\"\"),)","v":{"$error":"#VALUE!"}},{"$f":"ROUND(IFERROR(SUM((制限値幅取得!G331-制限値幅取得!E331)*建玉一覧取得!$X$6+制限値幅取得!E331),\"\"),)","v":{"$error":"#VALUE!"}}]
[null,328,{"$f":"建玉一覧取得!C337","v":0},{"$f":"建玉一覧取得!D337","v":0},{"$f":"_xll.SNT.StockInst(建玉一覧取得!C337,\"前日終値\")","v":"=SNT.StockInst(建玉一覧取得!C337,\"前日終値\") => 銘柄コードが不正です"},{"$f":"_xll.SNT.StockInstDetail(建玉一覧取得!C337,\"値幅上限値\")","v":"=SNT.StockInstDetail(建玉一覧取得!C337,\"値幅上限値\") => 銘柄コードが不正です"},{"$f":"_xll.SNT.StockInstDetail(建玉一覧取得!C337,\"値幅下限値\")","v":"=SNT.StockInstDetail(建玉一覧取得!C337,\"値幅下限値\") => 銘柄コードが不正です"},{"$f":"ROUND(IFERROR(SUM((制限値幅取得!F332-制限値幅取得!E332)*建玉一覧取得!$X$6+制限値幅取得!E332),\"\"),)","v":{"$error":"#VALUE!"}},{"$f":"ROUND(IFERROR(SUM((制限値幅取得!G332-制限値幅取得!E332)*建玉一覧取得!$X$6+制限値幅取得!E332),\"\"),)","v":{"$error":"#VALUE!"}}]
[null,329,{"$f":"建玉一覧取得!C338","v":0},{"$f":"建玉一覧取得!D338","v":0},{"$f":"_xll.SNT.StockInst(建玉一覧取得!C338,\"前日終値\")","v":"=SNT.StockInst(建玉一覧取得!C338,\"前日終値\") => 銘柄コードが不正です"},{"$f":"_xll.SNT.StockInstDetail(建玉一覧取得!C338,\"値幅上限値\")","v":"=SNT.StockInstDetail(建玉一覧取得!C338,\"値幅上限値\") => 銘柄コードが不正です"},{"$f":"_xll.SNT.StockInstDetail(建玉一覧取得!C338,\"値幅下限値\")","v":"=SNT.StockInstDetail(建玉一覧取得!C338,\"値幅下限値\") => 銘柄コードが不正です"},{"$f":"ROUND(IFERROR(SUM((制限値幅取得!F333-制限値幅取得!E333)*建玉一覧取得!$X$6+制限値幅取得!E333),\"\"),)","v":{"$error":"#VALUE!"}},{"$f":"ROUND(IFERROR(SUM((制限値幅取得!G333-制限値幅取得!E333)*建玉一覧取得!$X$6+制限値幅取得!E333),\"\"),)","v":{"$error":"#VALUE!"}}]
[null,330,{"$f":"建玉一覧取得!C339","v":0},{"$f":"建玉一覧取得!D339","v":0},{"$f":"_xll.SNT.StockInst(建玉一覧取得!C339,\"前日終値\")","v":"=SNT.StockInst(建玉一覧取得!C339,\"前日終値\") => 銘柄コードが不正です"},{"$f":"_xll.SNT.StockInstDetail(建玉一覧取得!C339,\"値幅上限値\")","v":"=SNT.StockInstDetail(建玉一覧取得!C339,\"値幅上限値\") => 銘柄コードが不正です"},{"$f":"_xll.SNT.StockInstDetail(建玉一覧取得!C339,\"値幅下限値\")","v":"=SNT.StockInstDetail(建玉一覧取得!C339,\"値幅下限値\") => 銘柄コードが不正です"},{"$f":"ROUND(IFERROR(SUM((制限値幅取得!F334-制限値幅取得!E334)*建玉一覧取得!$X$6+制限値幅取得!E334),\"\"),)","v":{"$error":"#VALUE!"}},{"$f":"ROUND(IFERROR(SUM((制限値幅取得!G334-制限値幅取得!E334)*建玉一覧取得!$X$6+制限値幅取得!E334),\"\"),)","v":{"$error":"#VALUE!"}}]
[null,331,{"$f":"建玉一覧取得!C340","v":0},{"$f":"建玉一覧取得!D340","v":0},{"$f":"_xll.SNT.StockInst(建玉一覧取得!C340,\"前日終値\")","v":"=SNT.StockInst(建玉一覧取得!C340,\"前日終値\") => 銘柄コードが不正です"},{"$f":"_xll.SNT.StockInstDetail(建玉一覧取得!C340,\"値幅上限値\")","v":"=SNT.StockInstDetail(建玉一覧取得!C340,\"値幅上限値\") => 銘柄コードが不正です"},{"$f":"_xll.SNT.StockInstDetail(建玉一覧取得!C340,\"値幅下限値\")","v":"=SNT.StockInstDetail(建玉一覧取得!C340,\"値幅下限値\") => 銘柄コードが不正です"},{"$f":"ROUND(IFERROR(SUM((制限値幅取得!F335-制限値幅取得!E335)*建玉一覧取得!$X$6+制限値幅取得!E335),\"\"),)","v":{"$error":"#VALUE!"}},{"$f":"ROUND(IFERROR(SUM((制限値幅取得!G335-制限値幅取得!E335)*建玉一覧取得!$X$6+制限値幅取得!E335),\"\"),)","v":{"$error":"#VALUE!"}}]
[null,332,{"$f":"建玉一覧取得!C341","v":0},{"$f":"建玉一覧取得!D341","v":0},{"$f":"_xll.SNT.StockInst(建玉一覧取得!C341,\"前日終値\")","v":"=SNT.StockInst(建玉一覧取得!C341,\"前日終値\") => 銘柄コードが不正です"},{"$f":"_xll.SNT.StockInstDetail(建玉一覧取得!C341,\"値幅上限値\")","v":"=SNT.StockInstDetail(建玉一覧取得!C341,\"値幅上限値\") => 銘柄コードが不正です"},{"$f":"_xll.SNT.StockInstDetail(建玉一覧取得!C341,\"値幅下限値\")","v":"=SNT.StockInstDetail(建玉一覧取得!C341,\"値幅下限値\") => 銘柄コードが不正です"},{"$f":"ROUND(IFERROR(SUM((制限値幅取得!F336-制限値幅取得!E336)*建玉一覧取得!$X$6+制限値幅取得!E336),\"\"),)","v":{"$error":"#VALUE!"}},{"$f":"ROUND(IFERROR(SUM((制限値幅取得!G336-制限値幅取得!E336)*建玉一覧取得!$X$6+制限値幅取得!E336),\"\"),)","v":{"$error":"#VALUE!"}}]
[null,333,{"$f":"建玉一覧取得!C342","v":0},{"$f":"建玉一覧取得!D342","v":0},{"$f":"_xll.SNT.StockInst(建玉一覧取得!C342,\"前日終値\")","v":"=SNT.StockInst(建玉一覧取得!C342,\"前日終値\") => 銘柄コードが不正です"},{"$f":"_xll.SNT.StockInstDetail(建玉一覧取得!C342,\"値幅上限値\")","v":"=SNT.StockInstDetail(建玉一覧取得!C342,\"値幅上限値\") => 銘柄コードが不正です"},{"$f":"_xll.SNT.StockInstDetail(建玉一覧取得!C342,\"値幅下限値\")","v":"=SNT.StockInstDetail(建玉一覧取得!C342,\"値幅下限値\") => 銘柄コードが不正です"},{"$f":"ROUND(IFERROR(SUM((制限値幅取得!F337-制限値幅取得!E337)*建玉一覧取得!$X$6+制限値幅取得!E337),\"\"),)","v":{"$error":"#VALUE!"}},{"$f":"ROUND(IFERROR(SUM((制限値幅取得!G337-制限値幅取得!E337)*建玉一覧取得!$X$6+制限値幅取得!E337),\"\"),)","v":{"$error":"#VALUE!"}}]
[null,334,{"$f":"建玉一覧取得!C343","v":0},{"$f":"建玉一覧取得!D343","v":0},{"$f":"_xll.SNT.StockInst(建玉一覧取得!C343,\"前日終値\")","v":"=SNT.StockInst(建玉一覧取得!C343,\"前日終値\") => 銘柄コードが不正です"},{"$f":"_xll.SNT.StockInstDetail(建玉一覧取得!C343,\"値幅上限値\")","v":"=SNT.StockInstDetail(建玉一覧取得!C343,\"値幅上限値\") => 銘柄コードが不正です"},{"$f":"_xll.SNT.StockInstDetail(建玉一覧取得!C343,\"値幅下限値\")","v":"=SNT.StockInstDetail(建玉一覧取得!C343,\"値幅下限値\") => 銘柄コードが不正です"},{"$f":"ROUND(IFERROR(SUM((制限値幅取得!F338-制限値幅取得!E338)*建玉一覧取得!$X$6+制限値幅取得!E338),\"\"),)","v":{"$error":"#VALUE!"}},{"$f":"ROUND(IFERROR(SUM((制限値幅取得!G338-制限値幅取得!E338)*建玉一覧取得!$X$6+制限値幅取得!E338),\"\"),)","v":{"$error":"#VALUE!"}}]
[null,335,{"$f":"建玉一覧取得!C344","v":0},{"$f":"建玉一覧取得!D344","v":0},{"$f":"_xll.SNT.StockInst(建玉一覧取得!C344,\"前日終値\")","v":"=SNT.StockInst(建玉一覧取得!C344,\"前日終値\") => 銘柄コードが不正です"},{"$f":"_xll.SNT.StockInstDetail(建玉一覧取得!C344,\"値幅上限値\")","v":"=SNT.StockInstDetail(建玉一覧取得!C344,\"値幅上限値\") => 銘柄コードが不正です"},{"$f":"_xll.SNT.StockInstDetail(建玉一覧取得!C344,\"値幅下限値\")","v":"=SNT.StockInstDetail(建玉一覧取得!C344,\"値幅下限値\") => 銘柄コードが不正です"},{"$f":"ROUND(IFERROR(SUM((制限値幅取得!F339-制限値幅取得!E339)*建玉一覧取得!$X$6+制限値幅取得!E339),\"\"),)","v":{"$error":"#VALUE!"}},{"$f":"ROUND(IFERROR(SUM((制限値幅取得!G339-制限値幅取得!E339)*建玉一覧取得!$X$6+制限値幅取得!E339),\"\"),)","v":{"$error":"#VALUE!"}}]
[null,336,{"$f":"建玉一覧取得!C345","v":0},{"$f":"建玉一覧取得!D345","v":0},{"$f":"_xll.SNT.StockInst(建玉一覧取得!C345,\"前日終値\")","v":"=SNT.StockInst(建玉一覧取得!C345,\"前日終値\") => 銘柄コードが不正です"},{"$f":"_xll.SNT.StockInstDetail(建玉一覧取得!C345,\"値幅上限値\")","v":"=SNT.StockInstDetail(建玉一覧取得!C345,\"値幅上限値\") => 銘柄コードが不正です"},{"$f":"_xll.SNT.StockInstDetail(建玉一覧取得!C345,\"値幅下限値\")","v":"=SNT.StockInstDetail(建玉一覧取得!C345,\"値幅下限値\") => 銘柄コードが不正です"},{"$f":"ROUND(IFERROR(SUM((制限値幅取得!F340-制限値幅取得!E340)*建玉一覧取得!$X$6+制限値幅取得!E340),\"\"),)","v":{"$error":"#VALUE!"}},{"$f":"ROUND(IFERROR(SUM((制限値幅取得!G340-制限値幅取得!E340)*建玉一覧取得!$X$6+制限値幅取得!E340),\"\"),)","v":{"$error":"#VALUE!"}}]
[null,337,{"$f":"建玉一覧取得!C346","v":0},{"$f":"建玉一覧取得!D346","v":0},{"$f":"_xll.SNT.StockInst(建玉一覧取得!C346,\"前日終値\")","v":"=SNT.StockInst(建玉一覧取得!C346,\"前日終値\") => 銘柄コードが不正です"},{"$f":"_xll.SNT.StockInstDetail(建玉一覧取得!C346,\"値幅上限値\")","v":"=SNT.StockInstDetail(建玉一覧取得!C346,\"値幅上限値\") => 銘柄コードが不正です"},{"$f":"_xll.SNT.StockInstDetail(建玉一覧取得!C346,\"値幅下限値\")","v":"=SNT.StockInstDetail(建玉一覧取得!C346,\"値幅下限値\") => 銘柄コードが不正です"},{"$f":"ROUND(IFERROR(SUM((制限値幅取得!F341-制限値幅取得!E341)*建玉一覧取得!$X$6+制限値幅取得!E341),\"\"),)","v":{"$error":"#VALUE!"}},{"$f":"ROUND(IFERROR(SUM((制限値幅取得!G341-制限値幅取得!E341)*建玉一覧取得!$X$6+制限値幅取得!E341),\"\"),)","v":{"$error":"#VALUE!"}}]
[null,338,{"$f":"建玉一覧取得!C347","v":0},{"$f":"建玉一覧取得!D347","v":0},{"$f":"_xll.SNT.StockInst(建玉一覧取得!C347,\"前日終値\")","v":"=SNT.StockInst(建玉一覧取得!C347,\"前日終値\") => 銘柄コードが不正です"},{"$f":"_xll.SNT.StockInstDetail(建玉一覧取得!C347,\"値幅上限値\")","v":"=SNT.StockInstDetail(建玉一覧取得!C347,\"値幅上限値\") => 銘柄コードが不正です"},{"$f":"_xll.SNT.StockInstDetail(建玉一覧取得!C347,\"値幅下限値\")","v":"=SNT.StockInstDetail(建玉一覧取得!C347,\"値幅下限値\") => 銘柄コードが不正です"},{"$f":"ROUND(IFERROR(SUM((制限値幅取得!F342-制限値幅取得!E342)*建玉一覧取得!$X$6+制限値幅取得!E342),\"\"),)","v":{"$error":"#VALUE!"}},{"$f":"ROUND(IFERROR(SUM((制限値幅取得!G342-制限値幅取得!E342)*建玉一覧取得!$X$6+制限値幅取得!E342),\"\"),)","v":{"$error":"#VALUE!"}}]
[null,339,{"$f":"建玉一覧取得!C348","v":0},{"$f":"建玉一覧取得!D348","v":0},{"$f":"_xll.SNT.StockInst(建玉一覧取得!C348,\"前日終値\")","v":"=SNT.StockInst(建玉一覧取得!C348,\"前日終値\") => 銘柄コードが不正です"},{"$f":"_xll.SNT.StockInstDetail(建玉一覧取得!C348,\"値幅上限値\")","v":"=SNT.StockInstDetail(建玉一覧取得!C348,\"値幅上限値\") => 銘柄コードが不正です"},{"$f":"_xll.SNT.StockInstDetail(建玉一覧取得!C348,\"値幅下限値\")","v":"=SNT.StockInstDetail(建玉一覧取得!C348,\"値幅下限値\") => 銘柄コードが不正です"},{"$f":"ROUND(IFERROR(SUM((制限値幅取得!F343-制限値幅取得!E343)*建玉一覧取得!$X$6+制限値幅取得!E343),\"\"),)","v":{"$error":"#VALUE!"}},{"$f":"ROUND(IFERROR(SUM((制限値幅取得!G343-制限値幅取得!E343)*建玉一覧取得!$X$6+制限値幅取得!E343),\"\"),)","v":{"$error":"#VALUE!"}}]
[null,340,{"$f":"建玉一覧取得!C349","v":0},{"$f":"建玉一覧取得!D349","v":0},{"$f":"_xll.SNT.StockInst(建玉一覧取得!C349,\"前日終値\")","v":"=SNT.StockInst(建玉一覧取得!C349,\"前日終値\") => 銘柄コードが不正です"},{"$f":"_xll.SNT.StockInstDetail(建玉一覧取得!C349,\"値幅上限値\")","v":"=SNT.StockInstDetail(建玉一覧取得!C349,\"値幅上限値\") => 銘柄コードが不正です"},{"$f":"_xll.SNT.StockInstDetail(建玉一覧取得!C349,\"値幅下限値\")","v":"=SNT.StockInstDetail(建玉一覧取得!C349,\"値幅下限値\") => 銘柄コードが不正です"},{"$f":"ROUND(IFERROR(SUM((制限値幅取得!F344-制限値幅取得!E344)*建玉一覧取得!$X$6+制限値幅取得!E344),\"\"),)","v":{"$error":"#VALUE!"}},{"$f":"ROUND(IFERROR(SUM((制限値幅取得!G344-制限値幅取得!E344)*建玉一覧取得!$X$6+制限値幅取得!E344),\"\"),)","v":{"$error":"#VALUE!"}}]
[null,341,{"$f":"建玉一覧取得!C350","v":0},{"$f":"建玉一覧取得!D350","v":0},{"$f":"_xll.SNT.StockInst(建玉一覧取得!C350,\"前日終値\")","v":"=SNT.StockInst(建玉一覧取得!C350,\"前日終値\") => 銘柄コードが不正です"},{"$f":"_xll.SNT.StockInstDetail(建玉一覧取得!C350,\"値幅上限値\")","v":"=SNT.StockInstDetail(建玉一覧取得!C350,\"値幅上限値\") => 銘柄コードが不正です"},{"$f":"_xll.SNT.StockInstDetail(建玉一覧取得!C350,\"値幅下限値\")","v":"=SNT.StockInstDetail(建玉一覧取得!C350,\"値幅下限値\") => 銘柄コードが不正です"},{"$f":"ROUND(IFERROR(SUM((制限値幅取得!F345-制限値幅取得!E345)*建玉一覧取得!$X$6+制限値幅取得!E345),\"\"),)","v":{"$error":"#VALUE!"}},{"$f":"ROUND(IFERROR(SUM((制限値幅取得!G345-制限値幅取得!E345)*建玉一覧取得!$X$6+制限値幅取得!E345),\"\"),)","v":{"$error":"#VALUE!"}}]
[null,342,{"$f":"建玉一覧取得!C351","v":0},{"$f":"建玉一覧取得!D351","v":0},{"$f":"_xll.SNT.StockInst(建玉一覧取得!C351,\"前日終値\")","v":"=SNT.StockInst(建玉一覧取得!C351,\"前日終値\") => 銘柄コードが不正です"},{"$f":"_xll.SNT.StockInstDetail(建玉一覧取得!C351,\"値幅上限値\")","v":"=SNT.StockInstDetail(建玉一覧取得!C351,\"値幅上限値\") => 銘柄コードが不正です"},{"$f":"_xll.SNT.StockInstDetail(建玉一覧取得!C351,\"値幅下限値\")","v":"=SNT.StockInstDetail(建玉一覧取得!C351,\"値幅下限値\") => 銘柄コードが不正です"},{"$f":"ROUND(IFERROR(SUM((制限値幅取得!F346-制限値幅取得!E346)*建玉一覧取得!$X$6+制限値幅取得!E346),\"\"),)","v":{"$error":"#VALUE!"}},{"$f":"ROUND(IFERROR(SUM((制限値幅取得!G346-制限値幅取得!E346)*建玉一覧取得!$X$6+制限値幅取得!E346),\"\"),)","v":{"$error":"#VALUE!"}}]
[null,343,{"$f":"建玉一覧取得!C352","v":0},{"$f":"建玉一覧取得!D352","v":0},{"$f":"_xll.SNT.StockInst(建玉一覧取得!C352,\"前日終値\")","v":"=SNT.StockInst(建玉一覧取得!C352,\"前日終値\") => 銘柄コードが不正です"},{"$f":"_xll.SNT.StockInstDetail(建玉一覧取得!C352,\"値幅上限値\")","v":"=SNT.StockInstDetail(建玉一覧取得!C352,\"値幅上限値\") => 銘柄コードが不正です"},{"$f":"_xll.SNT.StockInstDetail(建玉一覧取得!C352,\"値幅下限値\")","v":"=SNT.StockInstDetail(建玉一覧取得!C352,\"値幅下限値\") => 銘柄コードが不正です"},{"$f":"ROUND(IFERROR(SUM((制限値幅取得!F347-制限値幅取得!E347)*建玉一覧取得!$X$6+制限値幅取得!E347),\"\"),)","v":{"$error":"#VALUE!"}},{"$f":"ROUND(IFERROR(SUM((制限値幅取得!G347-制限値幅取得!E347)*建玉一覧取得!$X$6+制限値幅取得!E347),\"\"),)","v":{"$error":"#VALUE!"}}]
[null,344,{"$f":"建玉一覧取得!C353","v":0},{"$f":"建玉一覧取得!D353","v":0},{"$f":"_xll.SNT.StockInst(建玉一覧取得!C353,\"前日終値\")","v":"=SNT.StockInst(建玉一覧取得!C353,\"前日終値\") => 銘柄コードが不正です"},{"$f":"_xll.SNT.StockInstDetail(建玉一覧取得!C353,\"値幅上限値\")","v":"=SNT.StockInstDetail(建玉一覧取得!C353,\"値幅上限値\") => 銘柄コードが不正です"},{"$f":"_xll.SNT.StockInstDetail(建玉一覧取得!C353,\"値幅下限値\")","v":"=SNT.StockInstDetail(建玉一覧取得!C353,\"値幅下限値\") => 銘柄コードが不正です"},{"$f":"ROUND(IFERROR(SUM((制限値幅取得!F348-制限値幅取得!E348)*建玉一覧取得!$X$6+制限値幅取得!E348),\"\"),)","v":{"$error":"#VALUE!"}},{"$f":"ROUND(IFERROR(SUM((制限値幅取得!G348-制限値幅取得!E348)*建玉一覧取得!$X$6+制限値幅取得!E348),\"\"),)","v":{"$error":"#VALUE!"}}]
[null,345,{"$f":"建玉一覧取得!C354","v":0},{"$f":"建玉一覧取得!D354","v":0},{"$f":"_xll.SNT.StockInst(建玉一覧取得!C354,\"前日終値\")","v":"=SNT.StockInst(建玉一覧取得!C354,\"前日終値\") => 銘柄コードが不正です"},{"$f":"_xll.SNT.StockInstDetail(建玉一覧取得!C354,\"値幅上限値\")","v":"=SNT.StockInstDetail(建玉一覧取得!C354,\"値幅上限値\") => 銘柄コードが不正です"},{"$f":"_xll.SNT.StockInstDetail(建玉一覧取得!C354,\"値幅下限値\")","v":"=SNT.StockInstDetail(建玉一覧取得!C354,\"値幅下限値\") => 銘柄コードが不正です"},{"$f":"ROUND(IFERROR(SUM((制限値幅取得!F349-制限値幅取得!E349)*建玉一覧取得!$X$6+制限値幅取得!E349),\"\"),)","v":{"$error":"#VALUE!"}},{"$f":"ROUND(IFERROR(SUM((制限値幅取得!G349-制限値幅取得!E349)*建玉一覧取得!$X$6+制限値幅取得!E349),\"\"),)","v":{"$error":"#VALUE!"}}]
[null,346,{"$f":"建玉一覧取得!C355","v":0},{"$f":"建玉一覧取得!D355","v":0},{"$f":"_xll.SNT.StockInst(建玉一覧取得!C355,\"前日終値\")","v":"=SNT.StockInst(建玉一覧取得!C355,\"前日終値\") => 銘柄コードが不正です"},{"$f":"_xll.SNT.StockInstDetail(建玉一覧取得!C355,\"値幅上限値\")","v":"=SNT.StockInstDetail(建玉一覧取得!C355,\"値幅上限値\") => 銘柄コードが不正です"},{"$f":"_xll.SNT.StockInstDetail(建玉一覧取得!C355,\"値幅下限値\")","v":"=SNT.StockInstDetail(建玉一覧取得!C355,\"値幅下限値\") => 銘柄コードが不正です"},{"$f":"ROUND(IFERROR(SUM((制限値幅取得!F350-制限値幅取得!E350)*建玉一覧取得!$X$6+制限値幅取得!E350),\"\"),)","v":{"$error":"#VALUE!"}},{"$f":"ROUND(IFERROR(SUM((制限値幅取得!G350-制限値幅取得!E350)*建玉一覧取得!$X$6+制限値幅取得!E350),\"\"),)","v":{"$error":"#VALUE!"}}]
[null,347,{"$f":"建玉一覧取得!C356","v":0},{"$f":"建玉一覧取得!D356","v":0},{"$f":"_xll.SNT.StockInst(建玉一覧取得!C356,\"前日終値\")","v":"=SNT.StockInst(建玉一覧取得!C356,\"前日終値\") => 銘柄コードが不正です"},{"$f":"_xll.SNT.StockInstDetail(建玉一覧取得!C356,\"値幅上限値\")","v":"=SNT.StockInstDetail(建玉一覧取得!C356,\"値幅上限値\") => 銘柄コードが不正です"},{"$f":"_xll.SNT.StockInstDetail(建玉一覧取得!C356,\"値幅下限値\")","v":"=SNT.StockInstDetail(建玉一覧取得!C356,\"値幅下限値\") => 銘柄コードが不正です"},{"$f":"ROUND(IFERROR(SUM((制限値幅取得!F351-制限値幅取得!E351)*建玉一覧取得!$X$6+制限値幅取得!E351),\"\"),)","v":{"$error":"#VALUE!"}},{"$f":"ROUND(IFERROR(SUM((制限値幅取得!G351-制限値幅取得!E351)*建玉一覧取得!$X$6+制限値幅取得!E351),\"\"),)","v":{"$error":"#VALUE!"}}]
[null,348,{"$f":"建玉一覧取得!C357","v":0},{"$f":"建玉一覧取得!D357","v":0},{"$f":"_xll.SNT.StockInst(建玉一覧取得!C357,\"前日終値\")","v":"=SNT.StockInst(建玉一覧取得!C357,\"前日終値\") => 銘柄コードが不正です"},{"$f":"_xll.SNT.StockInstDetail(建玉一覧取得!C357,\"値幅上限値\")","v":"=SNT.StockInstDetail(建玉一覧取得!C357,\"値幅上限値\") => 銘柄コードが不正です"},{"$f":"_xll.SNT.StockInstDetail(建玉一覧取得!C357,\"値幅下限値\")","v":"=SNT.StockInstDetail(建玉一覧取得!C357,\"値幅下限値\") => 銘柄コードが不正です"},{"$f":"ROUND(IFERROR(SUM((制限値幅取得!F352-制限値幅取得!E352)*建玉一覧取得!$X$6+制限値幅取得!E352),\"\"),)","v":{"$error":"#VALUE!"}},{"$f":"ROUND(IFERROR(SUM((制限値幅取得!G352-制限値幅取得!E352)*建玉一覧取得!$X$6+制限値幅取得!E352),\"\"),)","v":{"$error":"#VALUE!"}}]
[null,349,{"$f":"建玉一覧取得!C358","v":0},{"$f":"建玉一覧取得!D358","v":0},{"$f":"_xll.SNT.StockInst(建玉一覧取得!C358,\"前日終値\")","v":"=SNT.StockInst(建玉一覧取得!C358,\"前日終値\") => 銘柄コードが不正です"},{"$f":"_xll.SNT.StockInstDetail(建玉一覧取得!C358,\"値幅上限値\")","v":"=SNT.StockInstDetail(建玉一覧取得!C358,\"値幅上限値\") => 銘柄コードが不正です"},{"$f":"_xll.SNT.StockInstDetail(建玉一覧取得!C358,\"値幅下限値\")","v":"=SNT.StockInstDetail(建玉一覧取得!C358,\"値幅下限値\") => 銘柄コードが不正です"},{"$f":"ROUND(IFERROR(SUM((制限値幅取得!F353-制限値幅取得!E353)*建玉一覧取得!$X$6+制限値幅取得!E353),\"\"),)","v":{"$error":"#VALUE!"}},{"$f":"ROUND(IFERROR(SUM((制限値幅取得!G353-制限値幅取得!E353)*建玉一覧取得!$X$6+制限値幅取得!E353),\"\"),)","v":{"$error":"#VALUE!"}}]
[null,350,{"$f":"建玉一覧取得!C359","v":0},{"$f":"建玉一覧取得!D359","v":0},{"$f":"_xll.SNT.StockInst(建玉一覧取得!C359,\"前日終値\")","v":"=SNT.StockInst(建玉一覧取得!C359,\"前日終値\") => 銘柄コードが不正です"},{"$f":"_xll.SNT.StockInstDetail(建玉一覧取得!C359,\"値幅上限値\")","v":"=SNT.StockInstDetail(建玉一覧取得!C359,\"値幅上限値\") => 銘柄コードが不正です"},{"$f":"_xll.SNT.StockInstDetail(建玉一覧取得!C359,\"値幅下限値\")","v":"=SNT.StockInstDetail(建玉一覧取得!C359,\"値幅下限値\") => 銘柄コードが不正です"},{"$f":"ROUND(IFERROR(SUM((制限値幅取得!F354-制限値幅取得!E354)*建玉一覧取得!$X$6+制限値幅取得!E354),\"\"),)","v":{"$error":"#VALUE!"}},{"$f":"ROUND(IFERROR(SUM((制限値幅取得!G354-制限値幅取得!E354)*建玉一覧取得!$X$6+制限値幅取得!E354),\"\"),)","v":{"$error":"#VALUE!"}}]
[null,351,{"$f":"建玉一覧取得!C360","v":0},{"$f":"建玉一覧取得!D360","v":0},{"$f":"_xll.SNT.StockInst(建玉一覧取得!C360,\"前日終値\")","v":"=SNT.StockInst(建玉一覧取得!C360,\"前日終値\") => 銘柄コードが不正です"},{"$f":"_xll.SNT.StockInstDetail(建玉一覧取得!C360,\"値幅上限値\")","v":"=SNT.StockInstDetail(建玉一覧取得!C360,\"値幅上限値\") => 銘柄コードが不正です"},{"$f":"_xll.SNT.StockInstDetail(建玉一覧取得!C360,\"値幅下限値\")","v":"=SNT.StockInstDetail(建玉一覧取得!C360,\"値幅下限値\") => 銘柄コードが不正です"},{"$f":"ROUND(IFERROR(SUM((制限値幅取得!F355-制限値幅取得!E355)*建玉一覧取得!$X$6+制限値幅取得!E355),\"\"),)","v":{"$error":"#VALUE!"}},{"$f":"ROUND(IFERROR(SUM((制限値幅取得!G355-制限値幅取得!E355)*建玉一覧取得!$X$6+制限値幅取得!E355),\"\"),)","v":{"$error":"#VALUE!"}}]
[null,352,{"$f":"建玉一覧取得!C361","v":0},{"$f":"建玉一覧取得!D361","v":0},{"$f":"_xll.SNT.StockInst(建玉一覧取得!C361,\"前日終値\")","v":"=SNT.StockInst(建玉一覧取得!C361,\"前日終値\") => 銘柄コードが不正です"},{"$f":"_xll.SNT.StockInstDetail(建玉一覧取得!C361,\"値幅上限値\")","v":"=SNT.StockInstDetail(建玉一覧取得!C361,\"値幅上限値\") => 銘柄コードが不正です"},{"$f":"_xll.SNT.StockInstDetail(建玉一覧取得!C361,\"値幅下限値\")","v":"=SNT.StockInstDetail(建玉一覧取得!C361,\"値幅下限値\") => 銘柄コードが不正です"},{"$f":"ROUND(IFERROR(SUM((制限値幅取得!F356-制限値幅取得!E356)*建玉一覧取得!$X$6+制限値幅取得!E356),\"\"),)","v":{"$error":"#VALUE!"}},{"$f":"ROUND(IFERROR(SUM((制限値幅取得!G356-制限値幅取得!E356)*建玉一覧取得!$X$6+制限値幅取得!E356),\"\"),)","v":{"$error":"#VALUE!"}}]
[null,353,{"$f":"建玉一覧取得!C362","v":0},{"$f":"建玉一覧取得!D362","v":0},{"$f":"_xll.SNT.StockInst(建玉一覧取得!C362,\"前日終値\")","v":"=SNT.StockInst(建玉一覧取得!C362,\"前日終値\") => 銘柄コードが不正です"},{"$f":"_xll.SNT.StockInstDetail(建玉一覧取得!C362,\"値幅上限値\")","v":"=SNT.StockInstDetail(建玉一覧取得!C362,\"値幅上限値\") => 銘柄コードが不正です"},{"$f":"_xll.SNT.StockInstDetail(建玉一覧取得!C362,\"値幅下限値\")","v":"=SNT.StockInstDetail(建玉一覧取得!C362,\"値幅下限値\") => 銘柄コードが不正です"},{"$f":"ROUND(IFERROR(SUM((制限値幅取得!F357-制限値幅取得!E357)*建玉一覧取得!$X$6+制限値幅取得!E357),\"\"),)","v":{"$error":"#VALUE!"}},{"$f":"ROUND(IFERROR(SUM((制限値幅取得!G357-制限値幅取得!E357)*建玉一覧取得!$X$6+制限値幅取得!E357),\"\"),)","v":{"$error":"#VALUE!"}}]
[null,354,{"$f":"建玉一覧取得!C363","v":0},{"$f":"建玉一覧取得!D363","v":0},{"$f":"_xll.SNT.StockInst(建玉一覧取得!C363,\"前日終値\")","v":"=SNT.StockInst(建玉一覧取得!C363,\"前日終値\") => 銘柄コードが不正です"},{"$f":"_xll.SNT.StockInstDetail(建玉一覧取得!C363,\"値幅上限値\")","v":"=SNT.StockInstDetail(建玉一覧取得!C363,\"値幅上限値\") => 銘柄コードが不正です"},{"$f":"_xll.SNT.StockInstDetail(建玉一覧取得!C363,\"値幅下限値\")","v":"=SNT.StockInstDetail(建玉一覧取得!C363,\"値幅下限値\") => 銘柄コードが不正です"},{"$f":"ROUND(IFERROR(SUM((制限値幅取得!F358-制限値幅取得!E358)*建玉一覧取得!$X$6+制限値幅取得!E358),\"\"),)","v":{"$error":"#VALUE!"}},{"$f":"ROUND(IFERROR(SUM((制限値幅取得!G358-制限値幅取得!E358)*建玉一覧取得!$X$6+制限値幅取得!E358),\"\"),)","v":{"$error":"#VALUE!"}}]
[null,355,{"$f":"建玉一覧取得!C364","v":0},{"$f":"建玉一覧取得!D364","v":0},{"$f":"_xll.SNT.StockInst(建玉一覧取得!C364,\"前日終値\")","v":"=SNT.StockInst(建玉一覧取得!C364,\"前日終値\") => 銘柄コードが不正です"},{"$f":"_xll.SNT.StockInstDetail(建玉一覧取得!C364,\"値幅上限値\")","v":"=SNT.StockInstDetail(建玉一覧取得!C364,\"値幅上限値\") => 銘柄コードが不正です"},{"$f":"_xll.SNT.StockInstDetail(建玉一覧取得!C364,\"値幅下限値\")","v":"=SNT.StockInstDetail(建玉一覧取得!C364,\"値幅下限値\") => 銘柄コードが不正です"},{"$f":"ROUND(IFERROR(SUM((制限値幅取得!F359-制限値幅取得!E359)*建玉一覧取得!$X$6+制限値幅取得!E359),\"\"),)","v":{"$error":"#VALUE!"}},{"$f":"ROUND(IFERROR(SUM((制限値幅取得!G359-制限値幅取得!E359)*建玉一覧取得!$X$6+制限値幅取得!E359),\"\"),)","v":{"$error":"#VALUE!"}}]
[null,356,{"$f":"建玉一覧取得!C365","v":0},{"$f":"建玉一覧取得!D365","v":0},{"$f":"_xll.SNT.StockInst(建玉一覧取得!C365,\"前日終値\")","v":"=SNT.StockInst(建玉一覧取得!C365,\"前日終値\") => 銘柄コードが不正です"},{"$f":"_xll.SNT.StockInstDetail(建玉一覧取得!C365,\"値幅上限値\")","v":"=SNT.StockInstDetail(建玉一覧取得!C365,\"値幅上限値\") => 銘柄コードが不正です"},{"$f":"_xll.SNT.StockInstDetail(建玉一覧取得!C365,\"値幅下限値\")","v":"=SNT.StockInstDetail(建玉一覧取得!C365,\"値幅下限値\") => 銘柄コードが不正です"},{"$f":"ROUND(IFERROR(SUM((制限値幅取得!F360-制限値幅取得!E360)*建玉一覧取得!$X$6+制限値幅取得!E360),\"\"),)","v":{"$error":"#VALUE!"}},{"$f":"ROUND(IFERROR(SUM((制限値幅取得!G360-制限値幅取得!E360)*建玉一覧取得!$X$6+制限値幅取得!E360),\"\"),)","v":{"$error":"#VALUE!"}}]
[null,357,{"$f":"建玉一覧取得!C366","v":0},{"$f":"建玉一覧取得!D366","v":0},{"$f":"_xll.SNT.StockInst(建玉一覧取得!C366,\"前日終値\")","v":"=SNT.StockInst(建玉一覧取得!C366,\"前日終値\") => 銘柄コードが不正です"},{"$f":"_xll.SNT.StockInstDetail(建玉一覧取得!C366,\"値幅上限値\")","v":"=SNT.StockInstDetail(建玉一覧取得!C366,\"値幅上限値\") => 銘柄コードが不正です"},{"$f":"_xll.SNT.StockInstDetail(建玉一覧取得!C366,\"値幅下限値\")","v":"=SNT.StockInstDetail(建玉一覧取得!C366,\"値幅下限値\") => 銘柄コードが不正です"},{"$f":"ROUND(IFERROR(SUM((制限値幅取得!F361-制限値幅取得!E361)*建玉一覧取得!$X$6+制限値幅取得!E361),\"\"),)","v":{"$error":"#VALUE!"}},{"$f":"ROUND(IFERROR(SUM((制限値幅取得!G361-制限値幅取得!E361)*建玉一覧取得!$X$6+制限値幅取得!E361),\"\"),)","v":{"$error":"#VALUE!"}}]
[null,358,{"$f":"建玉一覧取得!C367","v":0},{"$f":"建玉一覧取得!D367","v":0},{"$f":"_xll.SNT.StockInst(建玉一覧取得!C367,\"前日終値\")","v":"=SNT.StockInst(建玉一覧取得!C367,\"前日終値\") => 銘柄コードが不正です"},{"$f":"_xll.SNT.StockInstDetail(建玉一覧取得!C367,\"値幅上限値\")","v":"=SNT.StockInstDetail(建玉一覧取得!C367,\"値幅上限値\") => 銘柄コードが不正です"},{"$f":"_xll.SNT.StockInstDetail(建玉一覧取得!C367,\"値幅下限値\")","v":"=SNT.StockInstDetail(建玉一覧取得!C367,\"値幅下限値\") => 銘柄コードが不正です"},{"$f":"ROUND(IFERROR(SUM((制限値幅取得!F362-制限値幅取得!E362)*建玉一覧取得!$X$6+制限値幅取得!E362),\"\"),)","v":{"$error":"#VALUE!"}},{"$f":"ROUND(IFERROR(SUM((制限値幅取得!G362-制限値幅取得!E362)*建玉一覧取得!$X$6+制限値幅取得!E362),\"\"),)","v":{"$error":"#VALUE!"}}]
[null,359,{"$f":"建玉一覧取得!C368","v":0},{"$f":"建玉一覧取得!D368","v":0},{"$f":"_xll.SNT.StockInst(建玉一覧取得!C368,\"前日終値\")","v":"=SNT.StockInst(建玉一覧取得!C368,\"前日終値\") => 銘柄コードが不正です"},{"$f":"_xll.SNT.StockInstDetail(建玉一覧取得!C368,\"値幅上限値\")","v":"=SNT.StockInstDetail(建玉一覧取得!C368,\"値幅上限値\") => 銘柄コードが不正です"},{"$f":"_xll.SNT.StockInstDetail(建玉一覧取得!C368,\"値幅下限値\")","v":"=SNT.StockInstDetail(建玉一覧取得!C368,\"値幅下限値\") => 銘柄コードが不正です"},{"$f":"ROUND(IFERROR(SUM((制限値幅取得!F363-制限値幅取得!E363)*建玉一覧取得!$X$6+制限値幅取得!E363),\"\"),)","v":{"$error":"#VALUE!"}},{"$f":"ROUND(IFERROR(SUM((制限値幅取得!G363-制限値幅取得!E363)*建玉一覧取得!$X$6+制限値幅取得!E363),\"\"),)","v":{"$error":"#VALUE!"}}]
[null,360,{"$f":"建玉一覧取得!C369","v":0},{"$f":"建玉一覧取得!D369","v":0},{"$f":"_xll.SNT.StockInst(建玉一覧取得!C369,\"前日終値\")","v":"=SNT.StockInst(建玉一覧取得!C369,\"前日終値\") => 銘柄コードが不正です"},{"$f":"_xll.SNT.StockInstDetail(建玉一覧取得!C369,\"値幅上限値\")","v":"=SNT.StockInstDetail(建玉一覧取得!C369,\"値幅上限値\") => 銘柄コードが不正です"},{"$f":"_xll.SNT.StockInstDetail(建玉一覧取得!C369,\"値幅下限値\")","v":"=SNT.StockInstDetail(建玉一覧取得!C369,\"値幅下限値\") => 銘柄コードが不正です"},{"$f":"ROUND(IFERROR(SUM((制限値幅取得!F364-制限値幅取得!E364)*建玉一覧取得!$X$6+制限値幅取得!E364),\"\"),)","v":{"$error":"#VALUE!"}},{"$f":"ROUND(IFERROR(SUM((制限値幅取得!G364-制限値幅取得!E364)*建玉一覧取得!$X$6+制限値幅取得!E364),\"\"),)","v":{"$error":"#VALUE!"}}]
[null,361,{"$f":"建玉一覧取得!C370","v":0},{"$f":"建玉一覧取得!D370","v":0},{"$f":"_xll.SNT.StockInst(建玉一覧取得!C370,\"前日終値\")","v":"=SNT.StockInst(建玉一覧取得!C370,\"前日終値\") => 銘柄コードが不正です"},{"$f":"_xll.SNT.StockInstDetail(建玉一覧取得!C370,\"値幅上限値\")","v":"=SNT.StockInstDetail(建玉一覧取得!C370,\"値幅上限値\") => 銘柄コードが不正です"},{"$f":"_xll.SNT.StockInstDetail(建玉一覧取得!C370,\"値幅下限値\")","v":"=SNT.StockInstDetail(建玉一覧取得!C370,\"値幅下限値\") => 銘柄コードが不正です"},{"$f":"ROUND(IFERROR(SUM((制限値幅取得!F365-制限値幅取得!E365)*建玉一覧取得!$X$6+制限値幅取得!E365),\"\"),)","v":{"$error":"#VALUE!"}},{"$f":"ROUND(IFERROR(SUM((制限値幅取得!G365-制限値幅取得!E365)*建玉一覧取得!$X$6+制限値幅取得!E365),\"\"),)","v":{"$error":"#VALUE!"}}]
[null,362,{"$f":"建玉一覧取得!C371","v":0},{"$f":"建玉一覧取得!D371","v":0},{"$f":"_xll.SNT.StockInst(建玉一覧取得!C371,\"前日終値\")","v":"=SNT.StockInst(建玉一覧取得!C371,\"前日終値\") => 銘柄コードが不正です"},{"$f":"_xll.SNT.StockInstDetail(建玉一覧取得!C371,\"値幅上限値\")","v":"=SNT.StockInstDetail(建玉一覧取得!C371,\"値幅上限値\") => 銘柄コードが不正です"},{"$f":"_xll.SNT.StockInstDetail(建玉一覧取得!C371,\"値幅下限値\")","v":"=SNT.StockInstDetail(建玉一覧取得!C371,\"値幅下限値\") => 銘柄コードが不正です"},{"$f":"ROUND(IFERROR(SUM((制限値幅取得!F366-制限値幅取得!E366)*建玉一覧取得!$X$6+制限値幅取得!E366),\"\"),)","v":{"$error":"#VALUE!"}},{"$f":"ROUND(IFERROR(SUM((制限値幅取得!G366-制限値幅取得!E366)*建玉一覧取得!$X$6+制限値幅取得!E366),\"\"),)","v":{"$error":"#VALUE!"}}]
[null,363,{"$f":"建玉一覧取得!C372","v":0},{"$f":"建玉一覧取得!D372","v":0},{"$f":"_xll.SNT.StockInst(建玉一覧取得!C372,\"前日終値\")","v":"=SNT.StockInst(建玉一覧取得!C372,\"前日終値\") => 銘柄コードが不正です"},{"$f":"_xll.SNT.StockInstDetail(建玉一覧取得!C372,\"値幅上限値\")","v":"=SNT.StockInstDetail(建玉一覧取得!C372,\"値幅上限値\") => 銘柄コードが不正です"},{"$f":"_xll.SNT.StockInstDetail(建玉一覧取得!C372,\"値幅下限値\")","v":"=SNT.StockInstDetail(建玉一覧取得!C372,\"値幅下限値\") => 銘柄コードが不正です"},{"$f":"ROUND(IFERROR(SUM((制限値幅取得!F367-制限値幅取得!E367)*建玉一覧取得!$X$6+制限値幅取得!E367),\"\"),)","v":{"$error":"#VALUE!"}},{"$f":"ROUND(IFERROR(SUM((制限値幅取得!G367-制限値幅取得!E367)*建玉一覧取得!$X$6+制限値幅取得!E367),\"\"),)","v":{"$error":"#VALUE!"}}]
[null,364,{"$f":"建玉一覧取得!C373","v":0},{"$f":"建玉一覧取得!D373","v":0},{"$f":"_xll.SNT.StockInst(建玉一覧取得!C373,\"前日終値\")","v":"=SNT.StockInst(建玉一覧取得!C373,\"前日終値\") => 銘柄コードが不正です"},{"$f":"_xll.SNT.StockInstDetail(建玉一覧取得!C373,\"値幅上限値\")","v":"=SNT.StockInstDetail(建玉一覧取得!C373,\"値幅上限値\") => 銘柄コードが不正です"},{"$f":"_xll.SNT.StockInstDetail(建玉一覧取得!C373,\"値幅下限値\")","v":"=SNT.StockInstDetail(建玉一覧取得!C373,\"値幅下限値\") => 銘柄コードが不正です"},{"$f":"ROUND(IFERROR(SUM((制限値幅取得!F368-制限値幅取得!E368)*建玉一覧取得!$X$6+制限値幅取得!E368),\"\"),)","v":{"$error":"#VALUE!"}},{"$f":"ROUND(IFERROR(SUM((制限値幅取得!G368-制限値幅取得!E368)*建玉一覧取得!$X$6+制限値幅取得!E368),\"\"),)","v":{"$error":"#VALUE!"}}]
[null,365,{"$f":"建玉一覧取得!C374","v":0},{"$f":"建玉一覧取得!D374","v":0},{"$f":"_xll.SNT.StockInst(建玉一覧取得!C374,\"前日終値\")","v":"=SNT.StockInst(建玉一覧取得!C374,\"前日終値\") => 銘柄コードが不正です"},{"$f":"_xll.SNT.StockInstDetail(建玉一覧取得!C374,\"値幅上限値\")","v":"=SNT.StockInstDetail(建玉一覧取得!C374,\"値幅上限値\") => 銘柄コードが不正です"},{"$f":"_xll.SNT.StockInstDetail(建玉一覧取得!C374,\"値幅下限値\")","v":"=SNT.StockInstDetail(建玉一覧取得!C374,\"値幅下限値\") => 銘柄コードが不正です"},{"$f":"ROUND(IFERROR(SUM((制限値幅取得!F369-制限値幅取得!E369)*建玉一覧取得!$X$6+制限値幅取得!E369),\"\"),)","v":{"$error":"#VALUE!"}},{"$f":"ROUND(IFERROR(SUM((制限値幅取得!G369-制限値幅取得!E369)*建玉一覧取得!$X$6+制限値幅取得!E369),\"\"),)","v":{"$error":"#VALUE!"}}]
[null,366,{"$f":"建玉一覧取得!C375","v":0},{"$f":"建玉一覧取得!D375","v":0},{"$f":"_xll.SNT.StockInst(建玉一覧取得!C375,\"前日終値\")","v":"=SNT.StockInst(建玉一覧取得!C375,\"前日終値\") => 銘柄コードが不正です"},{"$f":"_xll.SNT.StockInstDetail(建玉一覧取得!C375,\"値幅上限値\")","v":"=SNT.StockInstDetail(建玉一覧取得!C375,\"値幅上限値\") => 銘柄コードが不正です"},{"$f":"_xll.SNT.StockInstDetail(建玉一覧取得!C375,\"値幅下限値\")","v":"=SNT.StockInstDetail(建玉一覧取得!C375,\"値幅下限値\") => 銘柄コードが不正です"},{"$f":"ROUND(IFERROR(SUM((制限値幅取得!F370-制限値幅取得!E370)*建玉一覧取得!$X$6+制限値幅取得!E370),\"\"),)","v":{"$error":"#VALUE!"}},{"$f":"ROUND(IFERROR(SUM((制限値幅取得!G370-制限値幅取得!E370)*建玉一覧取得!$X$6+制限値幅取得!E370),\"\"),)","v":{"$error":"#VALUE!"}}]
[null,367,{"$f":"建玉一覧取得!C376","v":0},{"$f":"建玉一覧取得!D376","v":0},{"$f":"_xll.SNT.StockInst(建玉一覧取得!C376,\"前日終値\")","v":"=SNT.StockInst(建玉一覧取得!C376,\"前日終値\") => 銘柄コードが不正です"},{"$f":"_xll.SNT.StockInstDetail(建玉一覧取得!C376,\"値幅上限値\")","v":"=SNT.StockInstDetail(建玉一覧取得!C376,\"値幅上限値\") => 銘柄コードが不正です"},{"$f":"_xll.SNT.StockInstDetail(建玉一覧取得!C376,\"値幅下限値\")","v":"=SNT.StockInstDetail(建玉一覧取得!C376,\"値幅下限値\") => 銘柄コードが不正です"},{"$f":"ROUND(IFERROR(SUM((制限値幅取得!F371-制限値幅取得!E371)*建玉一覧取得!$X$6+制限値幅取得!E371),\"\"),)","v":{"$error":"#VALUE!"}},{"$f":"ROUND(IFERROR(SUM((制限値幅取得!G371-制限値幅取得!E371)*建玉一覧取得!$X$6+制限値幅取得!E371),\"\"),)","v":{"$error":"#VALUE!"}}]
[null,368,{"$f":"建玉一覧取得!C377","v":0},{"$f":"建玉一覧取得!D377","v":0},{"$f":"_xll.SNT.StockInst(建玉一覧取得!C377,\"前日終値\")","v":"=SNT.StockInst(建玉一覧取得!C377,\"前日終値\") => 銘柄コードが不正です"},{"$f":"_xll.SNT.StockInstDetail(建玉一覧取得!C377,\"値幅上限値\")","v":"=SNT.StockInstDetail(建玉一覧取得!C377,\"値幅上限値\") => 銘柄コードが不正です"},{"$f":"_xll.SNT.StockInstDetail(建玉一覧取得!C377,\"値幅下限値\")","v":"=SNT.StockInstDetail(建玉一覧取得!C377,\"値幅下限値\") => 銘柄コードが不正です"},{"$f":"ROUND(IFERROR(SUM((制限値幅取得!F372-制限値幅取得!E372)*建玉一覧取得!$X$6+制限値幅取得!E372),\"\"),)","v":{"$error":"#VALUE!"}},{"$f":"ROUND(IFERROR(SUM((制限値幅取得!G372-制限値幅取得!E372)*建玉一覧取得!$X$6+制限値幅取得!E372),\"\"),)","v":{"$error":"#VALUE!"}}]
[null,369,{"$f":"建玉一覧取得!C378","v":0},{"$f":"建玉一覧取得!D378","v":0},{"$f":"_xll.SNT.StockInst(建玉一覧取得!C378,\"前日終値\")","v":"=SNT.StockInst(建玉一覧取得!C378,\"前日終値\") => 銘柄コードが不正です"},{"$f":"_xll.SNT.StockInstDetail(建玉一覧取得!C378,\"値幅上限値\")","v":"=SNT.StockInstDetail(建玉一覧取得!C378,\"値幅上限値\") => 銘柄コードが不正です"},{"$f":"_xll.SNT.StockInstDetail(建玉一覧取得!C378,\"値幅下限値\")","v":"=SNT.StockInstDetail(建玉一覧取得!C378,\"値幅下限値\") => 銘柄コードが不正です"},{"$f":"ROUND(IFERROR(SUM((制限値幅取得!F373-制限値幅取得!E373)*建玉一覧取得!$X$6+制限値幅取得!E373),\"\"),)","v":{"$error":"#VALUE!"}},{"$f":"ROUND(IFERROR(SUM((制限値幅取得!G373-制限値幅取得!E373)*建玉一覧取得!$X$6+制限値幅取得!E373),\"\"),)","v":{"$error":"#VALUE!"}}]
[null,370,{"$f":"建玉一覧取得!C379","v":0},{"$f":"建玉一覧取得!D379","v":0},{"$f":"_xll.SNT.StockInst(建玉一覧取得!C379,\"前日終値\")","v":"=SNT.StockInst(建玉一覧取得!C379,\"前日終値\") => 銘柄コードが不正です"},{"$f":"_xll.SNT.StockInstDetail(建玉一覧取得!C379,\"値幅上限値\")","v":"=SNT.StockInstDetail(建玉一覧取得!C379,\"値幅上限値\") => 銘柄コードが不正です"},{"$f":"_xll.SNT.StockInstDetail(建玉一覧取得!C379,\"値幅下限値\")","v":"=SNT.StockInstDetail(建玉一覧取得!C379,\"値幅下限値\") => 銘柄コードが不正です"},{"$f":"ROUND(IFERROR(SUM((制限値幅取得!F374-制限値幅取得!E374)*建玉一覧取得!$X$6+制限値幅取得!E374),\"\"),)","v":{"$error":"#VALUE!"}},{"$f":"ROUND(IFERROR(SUM((制限値幅取得!G374-制限値幅取得!E374)*建玉一覧取得!$X$6+制限値幅取得!E374),\"\"),)","v":{"$error":"#VALUE!"}}]
[null,371,{"$f":"建玉一覧取得!C380","v":0},{"$f":"建玉一覧取得!D380","v":0},{"$f":"_xll.SNT.StockInst(建玉一覧取得!C380,\"前日終値\")","v":"=SNT.StockInst(建玉一覧取得!C380,\"前日終値\") => 銘柄コードが不正です"},{"$f":"_xll.SNT.StockInstDetail(建玉一覧取得!C380,\"値幅上限値\")","v":"=SNT.StockInstDetail(建玉一覧取得!C380,\"値幅上限値\") => 銘柄コードが不正です"},{"$f":"_xll.SNT.StockInstDetail(建玉一覧取得!C380,\"値幅下限値\")","v":"=SNT.StockInstDetail(建玉一覧取得!C380,\"値幅下限値\") => 銘柄コードが不正です"},{"$f":"ROUND(IFERROR(SUM((制限値幅取得!F375-制限値幅取得!E375)*建玉一覧取得!$X$6+制限値幅取得!E375),\"\"),)","v":{"$error":"#VALUE!"}},{"$f":"ROUND(IFERROR(SUM((制限値幅取得!G375-制限値幅取得!E375)*建玉一覧取得!$X$6+制限値幅取得!E375),\"\"),)","v":{"$error":"#VALUE!"}}]
[null,372,{"$f":"建玉一覧取得!C381","v":0},{"$f":"建玉一覧取得!D381","v":0},{"$f":"_xll.SNT.StockInst(建玉一覧取得!C381,\"前日終値\")","v":"=SNT.StockInst(建玉一覧取得!C381,\"前日終値\") => 銘柄コードが不正です"},{"$f":"_xll.SNT.StockInstDetail(建玉一覧取得!C381,\"値幅上限値\")","v":"=SNT.StockInstDetail(建玉一覧取得!C381,\"値幅上限値\") => 銘柄コードが不正です"},{"$f":"_xll.SNT.StockInstDetail(建玉一覧取得!C381,\"値幅下限値\")","v":"=SNT.StockInstDetail(建玉一覧取得!C381,\"値幅下限値\") => 銘柄コードが不正です"},{"$f":"ROUND(IFERROR(SUM((制限値幅取得!F376-制限値幅取得!E376)*建玉一覧取得!$X$6+制限値幅取得!E376),\"\"),)","v":{"$error":"#VALUE!"}},{"$f":"ROUND(IFERROR(SUM((制限値幅取得!G376-制限値幅取得!E376)*建玉一覧取得!$X$6+制限値幅取得!E376),\"\"),)","v":{"$error":"#VALUE!"}}]
[null,373,{"$f":"建玉一覧取得!C382","v":0},{"$f":"建玉一覧取得!D382","v":0},{"$f":"_xll.SNT.StockInst(建玉一覧取得!C382,\"前日終値\")","v":"=SNT.StockInst(建玉一覧取得!C382,\"前日終値\") => 銘柄コードが不正です"},{"$f":"_xll.SNT.StockInstDetail(建玉一覧取得!C382,\"値幅上限値\")","v":"=SNT.StockInstDetail(建玉一覧取得!C382,\"値幅上限値\") => 銘柄コードが不正です"},{"$f":"_xll.SNT.StockInstDetail(建玉一覧取得!C382,\"値幅下限値\")","v":"=SNT.StockInstDetail(建玉一覧取得!C382,\"値幅下限値\") => 銘柄コードが不正です"},{"$f":"ROUND(IFERROR(SUM((制限値幅取得!F377-制限値幅取得!E377)*建玉一覧取得!$X$6+制限値幅取得!E377),\"\"),)","v":{"$error":"#VALUE!"}},{"$f":"ROUND(IFERROR(SUM((制限値幅取得!G377-制限値幅取得!E377)*建玉一覧取得!$X$6+制限値幅取得!E377),\"\"),)","v":{"$error":"#VALUE!"}}]
[null,374,{"$f":"建玉一覧取得!C383","v":0},{"$f":"建玉一覧取得!D383","v":0},{"$f":"_xll.SNT.StockInst(建玉一覧取得!C383,\"前日終値\")","v":"=SNT.StockInst(建玉一覧取得!C383,\"前日終値\") => 銘柄コードが不正です"},{"$f":"_xll.SNT.StockInstDetail(建玉一覧取得!C383,\"値幅上限値\")","v":"=SNT.StockInstDetail(建玉一覧取得!C383,\"値幅上限値\") => 銘柄コードが不正です"},{"$f":"_xll.SNT.StockInstDetail(建玉一覧取得!C383,\"値幅下限値\")","v":"=SNT.StockInstDetail(建玉一覧取得!C383,\"値幅下限値\") => 銘柄コードが不正です"},{"$f":"ROUND(IFERROR(SUM((制限値幅取得!F378-制限値幅取得!E378)*建玉一覧取得!$X$6+制限値幅取得!E378),\"\"),)","v":{"$error":"#VALUE!"}},{"$f":"ROUND(IFERROR(SUM((制限値幅取得!G378-制限値幅取得!E378)*建玉一覧取得!$X$6+制限値幅取得!E378),\"\"),)","v":{"$error":"#VALUE!"}}]
[null,375,{"$f":"建玉一覧取得!C384","v":0},{"$f":"建玉一覧取得!D384","v":0},{"$f":"_xll.SNT.StockInst(建玉一覧取得!C384,\"前日終値\")","v":"=SNT.StockInst(建玉一覧取得!C384,\"前日終値\") => 銘柄コードが不正です"},{"$f":"_xll.SNT.StockInstDetail(建玉一覧取得!C384,\"値幅上限値\")","v":"=SNT.StockInstDetail(建玉一覧取得!C384,\"値幅上限値\") => 銘柄コードが不正です"},{"$f":"_xll.SNT.StockInstDetail(建玉一覧取得!C384,\"値幅下限値\")","v":"=SNT.StockInstDetail(建玉一覧取得!C384,\"値幅下限値\") => 銘柄コードが不正です"},{"$f":"ROUND(IFERROR(SUM((制限値幅取得!F379-制限値幅取得!E379)*建玉一覧取得!$X$6+制限値幅取得!E379),\"\"),)","v":{"$error":"#VALUE!"}},{"$f":"ROUND(IFERROR(SUM((制限値幅取得!G379-制限値幅取得!E379)*建玉一覧取得!$X$6+制限値幅取得!E379),\"\"),)","v":{"$error":"#VALUE!"}}]
[null,376,{"$f":"建玉一覧取得!C385","v":0},{"$f":"建玉一覧取得!D385","v":0},{"$f":"_xll.SNT.StockInst(建玉一覧取得!C385,\"前日終値\")","v":"=SNT.StockInst(建玉一覧取得!C385,\"前日終値\") => 銘柄コードが不正です"},{"$f":"_xll.SNT.StockInstDetail(建玉一覧取得!C385,\"値幅上限値\")","v":"=SNT.StockInstDetail(建玉一覧取得!C385,\"値幅上限値\") => 銘柄コードが不正です"},{"$f":"_xll.SNT.StockInstDetail(建玉一覧取得!C385,\"値幅下限値\")","v":"=SNT.StockInstDetail(建玉一覧取得!C385,\"値幅下限値\") => 銘柄コードが不正です"},{"$f":"ROUND(IFERROR(SUM((制限値幅取得!F380-制限値幅取得!E380)*建玉一覧取得!$X$6+制限値幅取得!E380),\"\"),)","v":{"$error":"#VALUE!"}},{"$f":"ROUND(IFERROR(SUM((制限値幅取得!G380-制限値幅取得!E380)*建玉一覧取得!$X$6+制限値幅取得!E380),\"\"),)","v":{"$error":"#VALUE!"}}]
[null,377,{"$f":"建玉一覧取得!C386","v":0},{"$f":"建玉一覧取得!D386","v":0},{"$f":"_xll.SNT.StockInst(建玉一覧取得!C386,\"前日終値\")","v":"=SNT.StockInst(建玉一覧取得!C386,\"前日終値\") => 銘柄コードが不正です"},{"$f":"_xll.SNT.StockInstDetail(建玉一覧取得!C386,\"値幅上限値\")","v":"=SNT.StockInstDetail(建玉一覧取得!C386,\"値幅上限値\") => 銘柄コードが不正です"},{"$f":"_xll.SNT.StockInstDetail(建玉一覧取得!C386,\"値幅下限値\")","v":"=SNT.StockInstDetail(建玉一覧取得!C386,\"値幅下限値\") => 銘柄コードが不正です"},{"$f":"ROUND(IFERROR(SUM((制限値幅取得!F381-制限値幅取得!E381)*建玉一覧取得!$X$6+制限値幅取得!E381),\"\"),)","v":{"$error":"#VALUE!"}},{"$f":"ROUND(IFERROR(SUM((制限値幅取得!G381-制限値幅取得!E381)*建玉一覧取得!$X$6+制限値幅取得!E381),\"\"),)","v":{"$error":"#VALUE!"}}]
[null,378,{"$f":"建玉一覧取得!C387","v":0},{"$f":"建玉一覧取得!D387","v":0},{"$f":"_xll.SNT.StockInst(建玉一覧取得!C387,\"前日終値\")","v":"=SNT.StockInst(建玉一覧取得!C387,\"前日終値\") => 銘柄コードが不正です"},{"$f":"_xll.SNT.StockInstDetail(建玉一覧取得!C387,\"値幅上限値\")","v":"=SNT.StockInstDetail(建玉一覧取得!C387,\"値幅上限値\") => 銘柄コードが不正です"},{"$f":"_xll.SNT.StockInstDetail(建玉一覧取得!C387,\"値幅下限値\")","v":"=SNT.StockInstDetail(建玉一覧取得!C387,\"値幅下限値\") => 銘柄コードが不正です"},{"$f":"ROUND(IFERROR(SUM((制限値幅取得!F382-制限値幅取得!E382)*建玉一覧取得!$X$6+制限値幅取得!E382),\"\"),)","v":{"$error":"#VALUE!"}},{"$f":"ROUND(IFERROR(SUM((制限値幅取得!G382-制限値幅取得!E382)*建玉一覧取得!$X$6+制限値幅取得!E382),\"\"),)","v":{"$error":"#VALUE!"}}]
[null,379,{"$f":"建玉一覧取得!C388","v":0},{"$f":"建玉一覧取得!D388","v":0},{"$f":"_xll.SNT.StockInst(建玉一覧取得!C388,\"前日終値\")","v":"=SNT.StockInst(建玉一覧取得!C388,\"前日終値\") => 銘柄コードが不正です"},{"$f":"_xll.SNT.StockInstDetail(建玉一覧取得!C388,\"値幅上限値\")","v":"=SNT.StockInstDetail(建玉一覧取得!C388,\"値幅上限値\") => 銘柄コードが不正です"},{"$f":"_xll.SNT.StockInstDetail(建玉一覧取得!C388,\"値幅下限値\")","v":"=SNT.StockInstDetail(建玉一覧取得!C388,\"値幅下限値\") => 銘柄コードが不正です"},{"$f":"ROUND(IFERROR(SUM((制限値幅取得!F383-制限値幅取得!E383)*建玉一覧取得!$X$6+制限値幅取得!E383),\"\"),)","v":{"$error":"#VALUE!"}},{"$f":"ROUND(IFERROR(SUM((制限値幅取得!G383-制限値幅取得!E383)*建玉一覧取得!$X$6+制限値幅取得!E383),\"\"),)","v":{"$error":"#VALUE!"}}]
[null,380,{"$f":"建玉一覧取得!C389","v":0},{"$f":"建玉一覧取得!D389","v":0},{"$f":"_xll.SNT.StockInst(建玉一覧取得!C389,\"前日終値\")","v":"=SNT.StockInst(建玉一覧取得!C389,\"前日終値\") => 銘柄コードが不正です"},{"$f":"_xll.SNT.StockInstDetail(建玉一覧取得!C389,\"値幅上限値\")","v":"=SNT.StockInstDetail(建玉一覧取得!C389,\"値幅上限値\") => 銘柄コードが不正です"},{"$f":"_xll.SNT.StockInstDetail(建玉一覧取得!C389,\"値幅下限値\")","v":"=SNT.StockInstDetail(建玉一覧取得!C389,\"値幅下限値\") => 銘柄コードが不正です"},{"$f":"ROUND(IFERROR(SUM((制限値幅取得!F384-制限値幅取得!E384)*建玉一覧取得!$X$6+制限値幅取得!E384),\"\"),)","v":{"$error":"#VALUE!"}},{"$f":"ROUND(IFERROR(SUM((制限値幅取得!G384-制限値幅取得!E384)*建玉一覧取得!$X$6+制限値幅取得!E384),\"\"),)","v":{"$error":"#VALUE!"}}]
[null,381,{"$f":"建玉一覧取得!C390","v":0},{"$f":"建玉一覧取得!D390","v":0},{"$f":"_xll.SNT.StockInst(建玉一覧取得!C390,\"前日終値\")","v":"=SNT.StockInst(建玉一覧取得!C390,\"前日終値\") => 銘柄コードが不正です"},{"$f":"_xll.SNT.StockInstDetail(建玉一覧取得!C390,\"値幅上限値\")","v":"=SNT.StockInstDetail(建玉一覧取得!C390,\"値幅上限値\") => 銘柄コードが不正です"},{"$f":"_xll.SNT.StockInstDetail(建玉一覧取得!C390,\"値幅下限値\")","v":"=SNT.StockInstDetail(建玉一覧取得!C390,\"値幅下限値\") => 銘柄コードが不正です"},{"$f":"ROUND(IFERROR(SUM((制限値幅取得!F385-制限値幅取得!E385)*建玉一覧取得!$X$6+制限値幅取得!E385),\"\"),)","v":{"$error":"#VALUE!"}},{"$f":"ROUND(IFERROR(SUM((制限値幅取得!G385-制限値幅取得!E385)*建玉一覧取得!$X$6+制限値幅取得!E385),\"\"),)","v":{"$error":"#VALUE!"}}]
[null,382,{"$f":"建玉一覧取得!C391","v":0},{"$f":"建玉一覧取得!D391","v":0},{"$f":"_xll.SNT.StockInst(建玉一覧取得!C391,\"前日終値\")","v":"=SNT.StockInst(建玉一覧取得!C391,\"前日終値\") => 銘柄コードが不正です"},{"$f":"_xll.SNT.StockInstDetail(建玉一覧取得!C391,\"値幅上限値\")","v":"=SNT.StockInstDetail(建玉一覧取得!C391,\"値幅上限値\") => 銘柄コードが不正です"},{"$f":"_xll.SNT.StockInstDetail(建玉一覧取得!C391,\"値幅下限値\")","v":"=SNT.StockInstDetail(建玉一覧取得!C391,\"値幅下限値\") => 銘柄コードが不正です"},{"$f":"ROUND(IFERROR(SUM((制限値幅取得!F386-制限値幅取得!E386)*建玉一覧取得!$X$6+制限値幅取得!E386),\"\"),)","v":{"$error":"#VALUE!"}},{"$f":"ROUND(IFERROR(SUM((制限値幅取得!G386-制限値幅取得!E386)*建玉一覧取得!$X$6+制限値幅取得!E386),\"\"),)","v":{"$error":"#VALUE!"}}]
[null,383,{"$f":"建玉一覧取得!C392","v":0},{"$f":"建玉一覧取得!D392","v":0},{"$f":"_xll.SNT.StockInst(建玉一覧取得!C392,\"前日終値\")","v":"=SNT.StockInst(建玉一覧取得!C392,\"前日終値\") => 銘柄コードが不正です"},{"$f":"_xll.SNT.StockInstDetail(建玉一覧取得!C392,\"値幅上限値\")","v":"=SNT.StockInstDetail(建玉一覧取得!C392,\"値幅上限値\") => 銘柄コードが不正です"},{"$f":"_xll.SNT.StockInstDetail(建玉一覧取得!C392,\"値幅下限値\")","v":"=SNT.StockInstDetail(建玉一覧取得!C392,\"値幅下限値\") => 銘柄コードが不正です"},{"$f":"ROUND(IFERROR(SUM((制限値幅取得!F387-制限値幅取得!E387)*建玉一覧取得!$X$6+制限値幅取得!E387),\"\"),)","v":{"$error":"#VALUE!"}},{"$f":"ROUND(IFERROR(SUM((制限値幅取得!G387-制限値幅取得!E387)*建玉一覧取得!$X$6+制限値幅取得!E387),\"\"),)","v":{"$error":"#VALUE!"}}]
[null,384,{"$f":"建玉一覧取得!C393","v":0},{"$f":"建玉一覧取得!D393","v":0},{"$f":"_xll.SNT.StockInst(建玉一覧取得!C393,\"前日終値\")","v":"=SNT.StockInst(建玉一覧取得!C393,\"前日終値\") => 銘柄コードが不正です"},{"$f":"_xll.SNT.StockInstDetail(建玉一覧取得!C393,\"値幅上限値\")","v":"=SNT.StockInstDetail(建玉一覧取得!C393,\"値幅上限値\") => 銘柄コードが不正です"},{"$f":"_xll.SNT.StockInstDetail(建玉一覧取得!C393,\"値幅下限値\")","v":"=SNT.StockInstDetail(建玉一覧取得!C393,\"値幅下限値\") => 銘柄コードが不正です"},{"$f":"ROUND(IFERROR(SUM((制限値幅取得!F388-制限値幅取得!E388)*建玉一覧取得!$X$6+制限値幅取得!E388),\"\"),)","v":{"$error":"#VALUE!"}},{"$f":"ROUND(IFERROR(SUM((制限値幅取得!G388-制限値幅取得!E388)*建玉一覧取得!$X$6+制限値幅取得!E388),\"\"),)","v":{"$error":"#VALUE!"}}]
[null,385,{"$f":"建玉一覧取得!C394","v":0},{"$f":"建玉一覧取得!D394","v":0},{"$f":"_xll.SNT.StockInst(建玉一覧取得!C394,\"前日終値\")","v":"=SNT.StockInst(建玉一覧取得!C394,\"前日終値\") => 銘柄コードが不正です"},{"$f":"_xll.SNT.StockInstDetail(建玉一覧取得!C394,\"値幅上限値\")","v":"=SNT.StockInstDetail(建玉一覧取得!C394,\"値幅上限値\") => 銘柄コードが不正です"},{"$f":"_xll.SNT.StockInstDetail(建玉一覧取得!C394,\"値幅下限値\")","v":"=SNT.StockInstDetail(建玉一覧取得!C394,\"値幅下限値\") => 銘柄コードが不正です"},{"$f":"ROUND(IFERROR(SUM((制限値幅取得!F389-制限値幅取得!E389)*建玉一覧取得!$X$6+制限値幅取得!E389),\"\"),)","v":{"$error":"#VALUE!"}},{"$f":"ROUND(IFERROR(SUM((制限値幅取得!G389-制限値幅取得!E389)*建玉一覧取得!$X$6+制限値幅取得!E389),\"\"),)","v":{"$error":"#VALUE!"}}]
[null,386,{"$f":"建玉一覧取得!C395","v":0},{"$f":"建玉一覧取得!D395","v":0},{"$f":"_xll.SNT.StockInst(建玉一覧取得!C395,\"前日終値\")","v":"=SNT.StockInst(建玉一覧取得!C395,\"前日終値\") => 銘柄コードが不正です"},{"$f":"_xll.SNT.StockInstDetail(建玉一覧取得!C395,\"値幅上限値\")","v":"=SNT.StockInstDetail(建玉一覧取得!C395,\"値幅上限値\") => 銘柄コードが不正です"},{"$f":"_xll.SNT.StockInstDetail(建玉一覧取得!C395,\"値幅下限値\")","v":"=SNT.StockInstDetail(建玉一覧取得!C395,\"値幅下限値\") => 銘柄コードが不正です"},{"$f":"ROUND(IFERROR(SUM((制限値幅取得!F390-制限値幅取得!E390)*建玉一覧取得!$X$6+制限値幅取得!E390),\"\"),)","v":{"$error":"#VALUE!"}},{"$f":"ROUND(IFERROR(SUM((制限値幅取得!G390-制限値幅取得!E390)*建玉一覧取得!$X$6+制限値幅取得!E390),\"\"),)","v":{"$error":"#VALUE!"}}]
[null,387,{"$f":"建玉一覧取得!C396","v":0},{"$f":"建玉一覧取得!D396","v":0},{"$f":"_xll.SNT.StockInst(建玉一覧取得!C396,\"前日終値\")","v":"=SNT.StockInst(建玉一覧取得!C396,\"前日終値\") => 銘柄コードが不正です"},{"$f":"_xll.SNT.StockInstDetail(建玉一覧取得!C396,\"値幅上限値\")","v":"=SNT.StockInstDetail(建玉一覧取得!C396,\"値幅上限値\") => 銘柄コードが不正です"},{"$f":"_xll.SNT.StockInstDetail(建玉一覧取得!C396,\"値幅下限値\")","v":"=SNT.StockInstDetail(建玉一覧取得!C396,\"値幅下限値\") => 銘柄コードが不正です"},{"$f":"ROUND(IFERROR(SUM((制限値幅取得!F391-制限値幅取得!E391)*建玉一覧取得!$X$6+制限値幅取得!E391),\"\"),)","v":{"$error":"#VALUE!"}},{"$f":"ROUND(IFERROR(SUM((制限値幅取得!G391-制限値幅取得!E391)*建玉一覧取得!$X$6+制限値幅取得!E391),\"\"),)","v":{"$error":"#VALUE!"}}]
[null,388,{"$f":"建玉一覧取得!C397","v":0},{"$f":"建玉一覧取得!D397","v":0},{"$f":"_xll.SNT.StockInst(建玉一覧取得!C397,\"前日終値\")","v":"=SNT.StockInst(建玉一覧取得!C397,\"前日終値\") => 銘柄コードが不正です"},{"$f":"_xll.SNT.StockInstDetail(建玉一覧取得!C397,\"値幅上限値\")","v":"=SNT.StockInstDetail(建玉一覧取得!C397,\"値幅上限値\") => 銘柄コードが不正です"},{"$f":"_xll.SNT.StockInstDetail(建玉一覧取得!C397,\"値幅下限値\")","v":"=SNT.StockInstDetail(建玉一覧取得!C397,\"値幅下限値\") => 銘柄コードが不正です"},{"$f":"ROUND(IFERROR(SUM((制限値幅取得!F392-制限値幅取得!E392)*建玉一覧取得!$X$6+制限値幅取得!E392),\"\"),)","v":{"$error":"#VALUE!"}},{"$f":"ROUND(IFERROR(SUM((制限値幅取得!G392-制限値幅取得!E392)*建玉一覧取得!$X$6+制限値幅取得!E392),\"\"),)","v":{"$error":"#VALUE!"}}]
[null,389,{"$f":"建玉一覧取得!C398","v":0},{"$f":"建玉一覧取得!D398","v":0},{"$f":"_xll.SNT.StockInst(建玉一覧取得!C398,\"前日終値\")","v":"=SNT.StockInst(建玉一覧取得!C398,\"前日終値\") => 銘柄コードが不正です"},{"$f":"_xll.SNT.StockInstDetail(建玉一覧取得!C398,\"値幅上限値\")","v":"=SNT.StockInstDetail(建玉一覧取得!C398,\"値幅上限値\") => 銘柄コードが不正です"},{"$f":"_xll.SNT.StockInstDetail(建玉一覧取得!C398,\"値幅下限値\")","v":"=SNT.StockInstDetail(建玉一覧取得!C398,\"値幅下限値\") => 銘柄コードが不正です"},{"$f":"ROUND(IFERROR(SUM((制限値幅取得!F393-制限値幅取得!E393)*建玉一覧取得!$X$6+制限値幅取得!E393),\"\"),)","v":{"$error":"#VALUE!"}},{"$f":"ROUND(IFERROR(SUM((制限値幅取得!G393-制限値幅取得!E393)*建玉一覧取得!$X$6+制限値幅取得!E393),\"\"),)","v":{"$error":"#VALUE!"}}]
[null,390,{"$f":"建玉一覧取得!C399","v":0},{"$f":"建玉一覧取得!D399","v":0},{"$f":"_xll.SNT.StockInst(建玉一覧取得!C399,\"前日終値\")","v":"=SNT.StockInst(建玉一覧取得!C399,\"前日終値\") => 銘柄コードが不正です"},{"$f":"_xll.SNT.StockInstDetail(建玉一覧取得!C399,\"値幅上限値\")","v":"=SNT.StockInstDetail(建玉一覧取得!C399,\"値幅上限値\") => 銘柄コードが不正です"},{"$f":"_xll.SNT.StockInstDetail(建玉一覧取得!C399,\"値幅下限値\")","v":"=SNT.StockInstDetail(建玉一覧取得!C399,\"値幅下限値\") => 銘柄コードが不正です"},{"$f":"ROUND(IFERROR(SUM((制限値幅取得!F394-制限値幅取得!E394)*建玉一覧取得!$X$6+制限値幅取得!E394),\"\"),)","v":{"$error":"#VALUE!"}},{"$f":"ROUND(IFERROR(SUM((制限値幅取得!G394-制限値幅取得!E394)*建玉一覧取得!$X$6+制限値幅取得!E394),\"\"),)","v":{"$error":"#VALUE!"}}]
[null,391,{"$f":"建玉一覧取得!C400","v":0},{"$f":"建玉一覧取得!D400","v":0},{"$f":"_xll.SNT.StockInst(建玉一覧取得!C400,\"前日終値\")","v":"=SNT.StockInst(建玉一覧取得!C400,\"前日終値\") => 銘柄コードが不正です"},{"$f":"_xll.SNT.StockInstDetail(建玉一覧取得!C400,\"値幅上限値\")","v":"=SNT.StockInstDetail(建玉一覧取得!C400,\"値幅上限値\") => 銘柄コードが不正です"},{"$f":"_xll.SNT.StockInstDetail(建玉一覧取得!C400,\"値幅下限値\")","v":"=SNT.StockInstDetail(建玉一覧取得!C400,\"値幅下限値\") => 銘柄コードが不正です"},{"$f":"ROUND(IFERROR(SUM((制限値幅取得!F395-制限値幅取得!E395)*建玉一覧取得!$X$6+制限値幅取得!E395),\"\"),)","v":{"$error":"#VALUE!"}},{"$f":"ROUND(IFERROR(SUM((制限値幅取得!G395-制限値幅取得!E395)*建玉一覧取得!$X$6+制限値幅取得!E395),\"\"),)","v":{"$error":"#VALUE!"}}]
[null,392,{"$f":"建玉一覧取得!C401","v":0},{"$f":"建玉一覧取得!D401","v":0},{"$f":"_xll.SNT.StockInst(建玉一覧取得!C401,\"前日終値\")","v":"=SNT.StockInst(建玉一覧取得!C401,\"前日終値\") => 銘柄コードが不正です"},{"$f":"_xll.SNT.StockInstDetail(建玉一覧取得!C401,\"値幅上限値\")","v":"=SNT.StockInstDetail(建玉一覧取得!C401,\"値幅上限値\") => 銘柄コードが不正です"},{"$f":"_xll.SNT.StockInstDetail(建玉一覧取得!C401,\"値幅下限値\")","v":"=SNT.StockInstDetail(建玉一覧取得!C401,\"値幅下限値\") => 銘柄コードが不正です"},{"$f":"ROUND(IFERROR(SUM((制限値幅取得!F396-制限値幅取得!E396)*建玉一覧取得!$X$6+制限値幅取得!E396),\"\"),)","v":{"$error":"#VALUE!"}},{"$f":"ROUND(IFERROR(SUM((制限値幅取得!G396-制限値幅取得!E396)*建玉一覧取得!$X$6+制限値幅取得!E396),\"\"),)","v":{"$error":"#VALUE!"}}]
[null,393,{"$f":"建玉一覧取得!C402","v":0},{"$f":"建玉一覧取得!D402","v":0},{"$f":"_xll.SNT.StockInst(建玉一覧取得!C402,\"前日終値\")","v":"=SNT.StockInst(建玉一覧取得!C402,\"前日終値\") => 銘柄コードが不正です"},{"$f":"_xll.SNT.StockInstDetail(建玉一覧取得!C402,\"値幅上限値\")","v":"=SNT.StockInstDetail(建玉一覧取得!C402,\"値幅上限値\") => 銘柄コードが不正です"},{"$f":"_xll.SNT.StockInstDetail(建玉一覧取得!C402,\"値幅下限値\")","v":"=SNT.StockInstDetail(建玉一覧取得!C402,\"値幅下限値\") => 銘柄コードが不正です"},{"$f":"ROUND(IFERROR(SUM((制限値幅取得!F397-制限値幅取得!E397)*建玉一覧取得!$X$6+制限値幅取得!E397),\"\"),)","v":{"$error":"#VALUE!"}},{"$f":"ROUND(IFERROR(SUM((制限値幅取得!G397-制限値幅取得!E397)*建玉一覧取得!$X$6+制限値幅取得!E397),\"\"),)","v":{"$error":"#VALUE!"}}]
[null,394,{"$f":"建玉一覧取得!C403","v":0},{"$f":"建玉一覧取得!D403","v":0},{"$f":"_xll.SNT.StockInst(建玉一覧取得!C403,\"前日終値\")","v":"=SNT.StockInst(建玉一覧取得!C403,\"前日終値\") => 銘柄コードが不正です"},{"$f":"_xll.SNT.StockInstDetail(建玉一覧取得!C403,\"値幅上限値\")","v":"=SNT.StockInstDetail(建玉一覧取得!C403,\"値幅上限値\") => 銘柄コードが不正です"},{"$f":"_xll.SNT.StockInstDetail(建玉一覧取得!C403,\"値幅下限値\")","v":"=SNT.StockInstDetail(建玉一覧取得!C403,\"値幅下限値\") => 銘柄コードが不正です"},{"$f":"ROUND(IFERROR(SUM((制限値幅取得!F398-制限値幅取得!E398)*建玉一覧取得!$X$6+制限値幅取得!E398),\"\"),)","v":{"$error":"#VALUE!"}},{"$f":"ROUND(IFERROR(SUM((制限値幅取得!G398-制限値幅取得!E398)*建玉一覧取得!$X$6+制限値幅取得!E398),\"\"),)","v":{"$error":"#VALUE!"}}]
[null,395,{"$f":"建玉一覧取得!C404","v":0},{"$f":"建玉一覧取得!D404","v":0},{"$f":"_xll.SNT.StockInst(建玉一覧取得!C404,\"前日終値\")","v":"=SNT.StockInst(建玉一覧取得!C404,\"前日終値\") => 銘柄コードが不正です"},{"$f":"_xll.SNT.StockInstDetail(建玉一覧取得!C404,\"値幅上限値\")","v":"=SNT.StockInstDetail(建玉一覧取得!C404,\"値幅上限値\") => 銘柄コードが不正です"},{"$f":"_xll.SNT.StockInstDetail(建玉一覧取得!C404,\"値幅下限値\")","v":"=SNT.StockInstDetail(建玉一覧取得!C404,\"値幅下限値\") => 銘柄コードが不正です"},{"$f":"ROUND(IFERROR(SUM((制限値幅取得!F399-制限値幅取得!E399)*建玉一覧取得!$X$6+制限値幅取得!E399),\"\"),)","v":{"$error":"#VALUE!"}},{"$f":"ROUND(IFERROR(SUM((制限値幅取得!G399-制限値幅取得!E399)*建玉一覧取得!$X$6+制限値幅取得!E399),\"\"),)","v":{"$error":"#VALUE!"}}]
[null,396,{"$f":"建玉一覧取得!C405","v":0},{"$f":"建玉一覧取得!D405","v":0},{"$f":"_xll.SNT.StockInst(建玉一覧取得!C405,\"前日終値\")","v":"=SNT.StockInst(建玉一覧取得!C405,\"前日終値\") => 銘柄コードが不正です"},{"$f":"_xll.SNT.StockInstDetail(建玉一覧取得!C405,\"値幅上限値\")","v":"=SNT.StockInstDetail(建玉一覧取得!C405,\"値幅上限値\") => 銘柄コードが不正です"},{"$f":"_xll.SNT.StockInstDetail(建玉一覧取得!C405,\"値幅下限値\")","v":"=SNT.StockInstDetail(建玉一覧取得!C405,\"値幅下限値\") => 銘柄コードが不正です"},{"$f":"ROUND(IFERROR(SUM((制限値幅取得!F400-制限値幅取得!E400)*建玉一覧取得!$X$6+制限値幅取得!E400),\"\"),)","v":{"$error":"#VALUE!"}},{"$f":"ROUND(IFERROR(SUM((制限値幅取得!G400-制限値幅取得!E400)*建玉一覧取得!$X$6+制限値幅取得!E400),\"\"),)","v":{"$error":"#VALUE!"}}]
[null,397,{"$f":"建玉一覧取得!C406","v":0},{"$f":"建玉一覧取得!D406","v":0},{"$f":"_xll.SNT.StockInst(建玉一覧取得!C406,\"前日終値\")","v":"=SNT.StockInst(建玉一覧取得!C406,\"前日終値\") => 銘柄コードが不正です"},{"$f":"_xll.SNT.StockInstDetail(建玉一覧取得!C406,\"値幅上限値\")","v":"=SNT.StockInstDetail(建玉一覧取得!C406,\"値幅上限値\") => 銘柄コードが不正です"},{"$f":"_xll.SNT.StockInstDetail(建玉一覧取得!C406,\"値幅下限値\")","v":"=SNT.StockInstDetail(建玉一覧取得!C406,\"値幅下限値\") => 銘柄コードが不正です"},{"$f":"ROUND(IFERROR(SUM((制限値幅取得!F401-制限値幅取得!E401)*建玉一覧取得!$X$6+制限値幅取得!E401),\"\"),)","v":{"$error":"#VALUE!"}},{"$f":"ROUND(IFERROR(SUM((制限値幅取得!G401-制限値幅取得!E401)*建玉一覧取得!$X$6+制限値幅取得!E401),\"\"),)","v":{"$error":"#VALUE!"}}]
[null,398,{"$f":"建玉一覧取得!C407","v":0},{"$f":"建玉一覧取得!D407","v":0},{"$f":"_xll.SNT.StockInst(建玉一覧取得!C407,\"前日終値\")","v":"=SNT.StockInst(建玉一覧取得!C407,\"前日終値\") => 銘柄コードが不正です"},{"$f":"_xll.SNT.StockInstDetail(建玉一覧取得!C407,\"値幅上限値\")","v":"=SNT.StockInstDetail(建玉一覧取得!C407,\"値幅上限値\") => 銘柄コードが不正です"},{"$f":"_xll.SNT.StockInstDetail(建玉一覧取得!C407,\"値幅下限値\")","v":"=SNT.StockInstDetail(建玉一覧取得!C407,\"値幅下限値\") => 銘柄コードが不正です"},{"$f":"ROUND(IFERROR(SUM((制限値幅取得!F402-制限値幅取得!E402)*建玉一覧取得!$X$6+制限値幅取得!E402),\"\"),)","v":{"$error":"#VALUE!"}},{"$f":"ROUND(IFERROR(SUM((制限値幅取得!G402-制限値幅取得!E402)*建玉一覧取得!$X$6+制限値幅取得!E402),\"\"),)","v":{"$error":"#VALUE!"}}]
[null,399,{"$f":"建玉一覧取得!C408","v":0},{"$f":"建玉一覧取得!D408","v":0},{"$f":"_xll.SNT.StockInst(建玉一覧取得!C408,\"前日終値\")","v":"=SNT.StockInst(建玉一覧取得!C408,\"前日終値\") => 銘柄コードが不正です"},{"$f":"_xll.SNT.StockInstDetail(建玉一覧取得!C408,\"値幅上限値\")","v":"=SNT.StockInstDetail(建玉一覧取得!C408,\"値幅上限値\") => 銘柄コードが不正です"},{"$f":"_xll.SNT.StockInstDetail(建玉一覧取得!C408,\"値幅下限値\")","v":"=SNT.StockInstDetail(建玉一覧取得!C408,\"値幅下限値\") => 銘柄コードが不正です"},{"$f":"ROUND(IFERROR(SUM((制限値幅取得!F403-制限値幅取得!E403)*建玉一覧取得!$X$6+制限値幅取得!E403),\"\"),)","v":{"$error":"#VALUE!"}},{"$f":"ROUND(IFERROR(SUM((制限値幅取得!G403-制限値幅取得!E403)*建玉一覧取得!$X$6+制限値幅取得!E403),\"\"),)","v":{"$error":"#VALUE!"}}]
[null,400,{"$f":"建玉一覧取得!C409","v":0},{"$f":"建玉一覧取得!D409","v":0},{"$f":"_xll.SNT.StockInst(建玉一覧取得!C409,\"前日終値\")","v":"=SNT.StockInst(建玉一覧取得!C409,\"前日終値\") => 銘柄コードが不正です"},{"$f":"_xll.SNT.StockInstDetail(建玉一覧取得!C409,\"値幅上限値\")","v":"=SNT.StockInstDetail(建玉一覧取得!C409,\"値幅上限値\") => 銘柄コードが不正です"},{"$f":"_xll.SNT.StockInstDetail(建玉一覧取得!C409,\"値幅下限値\")","v":"=SNT.StockInstDetail(建玉一覧取得!C409,\"値幅下限値\") => 銘柄コードが不正です"},{"$f":"ROUND(IFERROR(SUM((制限値幅取得!F404-制限値幅取得!E404)*建玉一覧取得!$X$6+制限値幅取得!E404),\"\"),)","v":{"$error":"#VALUE!"}},{"$f":"ROUND(IFERROR(SUM((制限値幅取得!G404-制限値幅取得!E404)*建玉一覧取得!$X$6+制限値幅取得!E404),\"\"),)","v":{"$error":"#VALUE!"}}]
[null,401,{"$f":"建玉一覧取得!C410","v":0},{"$f":"建玉一覧取得!D410","v":0},{"$f":"_xll.SNT.StockInst(建玉一覧取得!C410,\"前日終値\")","v":"=SNT.StockInst(建玉一覧取得!C410,\"前日終値\") => 銘柄コードが不正です"},{"$f":"_xll.SNT.StockInstDetail(建玉一覧取得!C410,\"値幅上限値\")","v":"=SNT.StockInstDetail(建玉一覧取得!C410,\"値幅上限値\") => 銘柄コードが不正です"},{"$f":"_xll.SNT.StockInstDetail(建玉一覧取得!C410,\"値幅下限値\")","v":"=SNT.StockInstDetail(建玉一覧取得!C410,\"値幅下限値\") => 銘柄コードが不正です"},{"$f":"ROUND(IFERROR(SUM((制限値幅取得!F405-制限値幅取得!E405)*建玉一覧取得!$X$6+制限値幅取得!E405),\"\"),)","v":{"$error":"#VALUE!"}},{"$f":"ROUND(IFERROR(SUM((制限値幅取得!G405-制限値幅取得!E405)*建玉一覧取得!$X$6+制限値幅取得!E405),\"\"),)","v":{"$error":"#VALUE!"}}]
[null,402,{"$f":"建玉一覧取得!C411","v":0},{"$f":"建玉一覧取得!D411","v":0},{"$f":"_xll.SNT.StockInst(建玉一覧取得!C411,\"前日終値\")","v":"=SNT.StockInst(建玉一覧取得!C411,\"前日終値\") => 銘柄コードが不正です"},{"$f":"_xll.SNT.StockInstDetail(建玉一覧取得!C411,\"値幅上限値\")","v":"=SNT.StockInstDetail(建玉一覧取得!C411,\"値幅上限値\") => 銘柄コードが不正です"},{"$f":"_xll.SNT.StockInstDetail(建玉一覧取得!C411,\"値幅下限値\")","v":"=SNT.StockInstDetail(建玉一覧取得!C411,\"値幅下限値\") => 銘柄コードが不正です"},{"$f":"ROUND(IFERROR(SUM((制限値幅取得!F406-制限値幅取得!E406)*建玉一覧取得!$X$6+制限値幅取得!E406),\"\"),)","v":{"$error":"#VALUE!"}},{"$f":"ROUND(IFERROR(SUM((制限値幅取得!G406-制限値幅取得!E406)*建玉一覧取得!$X$6+制限値幅取得!E406),\"\"),)","v":{"$error":"#VALUE!"}}]
[null,403,{"$f":"建玉一覧取得!C412","v":0},{"$f":"建玉一覧取得!D412","v":0},{"$f":"_xll.SNT.StockInst(建玉一覧取得!C412,\"前日終値\")","v":"=SNT.StockInst(建玉一覧取得!C412,\"前日終値\") => 銘柄コードが不正です"},{"$f":"_xll.SNT.StockInstDetail(建玉一覧取得!C412,\"値幅上限値\")","v":"=SNT.StockInstDetail(建玉一覧取得!C412,\"値幅上限値\") => 銘柄コードが不正です"},{"$f":"_xll.SNT.StockInstDetail(建玉一覧取得!C412,\"値幅下限値\")","v":"=SNT.StockInstDetail(建玉一覧取得!C412,\"値幅下限値\") => 銘柄コードが不正です"},{"$f":"ROUND(IFERROR(SUM((制限値幅取得!F407-制限値幅取得!E407)*建玉一覧取得!$X$6+制限値幅取得!E407),\"\"),)","v":{"$error":"#VALUE!"}},{"$f":"ROUND(IFERROR(SUM((制限値幅取得!G407-制限値幅取得!E407)*建玉一覧取得!$X$6+制限値幅取得!E407),\"\"),)","v":{"$error":"#VALUE!"}}]
[null,404,{"$f":"建玉一覧取得!C413","v":0},{"$f":"建玉一覧取得!D413","v":0},{"$f":"_xll.SNT.StockInst(建玉一覧取得!C413,\"前日終値\")","v":"=SNT.StockInst(建玉一覧取得!C413,\"前日終値\") => 銘柄コードが不正です"},{"$f":"_xll.SNT.StockInstDetail(建玉一覧取得!C413,\"値幅上限値\")","v":"=SNT.StockInstDetail(建玉一覧取得!C413,\"値幅上限値\") => 銘柄コードが不正です"},{"$f":"_xll.SNT.StockInstDetail(建玉一覧取得!C413,\"値幅下限値\")","v":"=SNT.StockInstDetail(建玉一覧取得!C413,\"値幅下限値\") => 銘柄コードが不正です"},{"$f":"ROUND(IFERROR(SUM((制限値幅取得!F408-制限値幅取得!E408)*建玉一覧取得!$X$6+制限値幅取得!E408),\"\"),)","v":{"$error":"#VALUE!"}},{"$f":"ROUND(IFERROR(SUM((制限値幅取得!G408-制限値幅取得!E408)*建玉一覧取得!$X$6+制限値幅取得!E408),\"\"),)","v":{"$error":"#VALUE!"}}]
[null,405,{"$f":"建玉一覧取得!C414","v":0},{"$f":"建玉一覧取得!D414","v":0},{"$f":"_xll.SNT.StockInst(建玉一覧取得!C414,\"前日終値\")","v":"=SNT.StockInst(建玉一覧取得!C414,\"前日終値\") => 銘柄コードが不正です"},{"$f":"_xll.SNT.StockInstDetail(建玉一覧取得!C414,\"値幅上限値\")","v":"=SNT.StockInstDetail(建玉一覧取得!C414,\"値幅上限値\") => 銘柄コードが不正です"},{"$f":"_xll.SNT.StockInstDetail(建玉一覧取得!C414,\"値幅下限値\")","v":"=SNT.StockInstDetail(建玉一覧取得!C414,\"値幅下限値\") => 銘柄コードが不正です"},{"$f":"ROUND(IFERROR(SUM((制限値幅取得!F409-制限値幅取得!E409)*建玉一覧取得!$X$6+制限値幅取得!E409),\"\"),)","v":{"$error":"#VALUE!"}},{"$f":"ROUND(IFERROR(SUM((制限値幅取得!G409-制限値幅取得!E409)*建玉一覧取得!$X$6+制限値幅取得!E409),\"\"),)","v":{"$error":"#VALUE!"}}]
[null,406,{"$f":"建玉一覧取得!C415","v":0},{"$f":"建玉一覧取得!D415","v":0},{"$f":"_xll.SNT.StockInst(建玉一覧取得!C415,\"前日終値\")","v":"=SNT.StockInst(建玉一覧取得!C415,\"前日終値\") => 銘柄コードが不正です"},{"$f":"_xll.SNT.StockInstDetail(建玉一覧取得!C415,\"値幅上限値\")","v":"=SNT.StockInstDetail(建玉一覧取得!C415,\"値幅上限値\") => 銘柄コードが不正です"},{"$f":"_xll.SNT.StockInstDetail(建玉一覧取得!C415,\"値幅下限値\")","v":"=SNT.StockInstDetail(建玉一覧取得!C415,\"値幅下限値\") => 銘柄コードが不正です"},{"$f":"ROUND(IFERROR(SUM((制限値幅取得!F410-制限値幅取得!E410)*建玉一覧取得!$X$6+制限値幅取得!E410),\"\"),)","v":{"$error":"#VALUE!"}},{"$f":"ROUND(IFERROR(SUM((制限値幅取得!G410-制限値幅取得!E410)*建玉一覧取得!$X$6+制限値幅取得!E410),\"\"),)","v":{"$error":"#VALUE!"}}]
[null,407,{"$f":"建玉一覧取得!C416","v":0},{"$f":"建玉一覧取得!D416","v":0},{"$f":"_xll.SNT.StockInst(建玉一覧取得!C416,\"前日終値\")","v":"=SNT.StockInst(建玉一覧取得!C416,\"前日終値\") => 銘柄コードが不正です"},{"$f":"_xll.SNT.StockInstDetail(建玉一覧取得!C416,\"値幅上限値\")","v":"=SNT.StockInstDetail(建玉一覧取得!C416,\"値幅上限値\") => 銘柄コードが不正です"},{"$f":"_xll.SNT.StockInstDetail(建玉一覧取得!C416,\"値幅下限値\")","v":"=SNT.StockInstDetail(建玉一覧取得!C416,\"値幅下限値\") => 銘柄コードが不正です"},{"$f":"ROUND(IFERROR(SUM((制限値幅取得!F411-制限値幅取得!E411)*建玉一覧取得!$X$6+制限値幅取得!E411),\"\"),)","v":{"$error":"#VALUE!"}},{"$f":"ROUND(IFERROR(SUM((制限値幅取得!G411-制限値幅取得!E411)*建玉一覧取得!$X$6+制限値幅取得!E411),\"\"),)","v":{"$error":"#VALUE!"}}]
[null,408,{"$f":"建玉一覧取得!C417","v":0},{"$f":"建玉一覧取得!D417","v":0},{"$f":"_xll.SNT.StockInst(建玉一覧取得!C417,\"前日終値\")","v":"=SNT.StockInst(建玉一覧取得!C417,\"前日終値\") => 銘柄コードが不正です"},{"$f":"_xll.SNT.StockInstDetail(建玉一覧取得!C417,\"値幅上限値\")","v":"=SNT.StockInstDetail(建玉一覧取得!C417,\"値幅上限値\") => 銘柄コードが不正です"},{"$f":"_xll.SNT.StockInstDetail(建玉一覧取得!C417,\"値幅下限値\")","v":"=SNT.StockInstDetail(建玉一覧取得!C417,\"値幅下限値\") => 銘柄コードが不正です"},{"$f":"ROUND(IFERROR(SUM((制限値幅取得!F412-制限値幅取得!E412)*建玉一覧取得!$X$6+制限値幅取得!E412),\"\"),)","v":{"$error":"#VALUE!"}},{"$f":"ROUND(IFERROR(SUM((制限値幅取得!G412-制限値幅取得!E412)*建玉一覧取得!$X$6+制限値幅取得!E412),\"\"),)","v":{"$error":"#VALUE!"}}]
[null,409,{"$f":"建玉一覧取得!C418","v":0},{"$f":"建玉一覧取得!D418","v":0},{"$f":"_xll.SNT.StockInst(建玉一覧取得!C418,\"前日終値\")","v":"=SNT.StockInst(建玉一覧取得!C418,\"前日終値\") => 銘柄コードが不正です"},{"$f":"_xll.SNT.StockInstDetail(建玉一覧取得!C418,\"値幅上限値\")","v":"=SNT.StockInstDetail(建玉一覧取得!C418,\"値幅上限値\") => 銘柄コードが不正です"},{"$f":"_xll.SNT.StockInstDetail(建玉一覧取得!C418,\"値幅下限値\")","v":"=SNT.StockInstDetail(建玉一覧取得!C418,\"値幅下限値\") => 銘柄コードが不正です"},{"$f":"ROUND(IFERROR(SUM((制限値幅取得!F413-制限値幅取得!E413)*建玉一覧取得!$X$6+制限値幅取得!E413),\"\"),)","v":{"$error":"#VALUE!"}},{"$f":"ROUND(IFERROR(SUM((制限値幅取得!G413-制限値幅取得!E413)*建玉一覧取得!$X$6+制限値幅取得!E413),\"\"),)","v":{"$error":"#VALUE!"}}]
[null,410,{"$f":"建玉一覧取得!C419","v":0},{"$f":"建玉一覧取得!D419","v":0},{"$f":"_xll.SNT.StockInst(建玉一覧取得!C419,\"前日終値\")","v":"=SNT.StockInst(建玉一覧取得!C419,\"前日終値\") => 銘柄コードが不正です"},{"$f":"_xll.SNT.StockInstDetail(建玉一覧取得!C419,\"値幅上限値\")","v":"=SNT.StockInstDetail(建玉一覧取得!C419,\"値幅上限値\") => 銘柄コードが不正です"},{"$f":"_xll.SNT.StockInstDetail(建玉一覧取得!C419,\"値幅下限値\")","v":"=SNT.StockInstDetail(建玉一覧取得!C419,\"値幅下限値\") => 銘柄コードが不正です"},{"$f":"ROUND(IFERROR(SUM((制限値幅取得!F414-制限値幅取得!E414)*建玉一覧取得!$X$6+制限値幅取得!E414),\"\"),)","v":{"$error":"#VALUE!"}},{"$f":"ROUND(IFERROR(SUM((制限値幅取得!G414-制限値幅取得!E414)*建玉一覧取得!$X$6+制限値幅取得!E414),\"\"),)","v":{"$error":"#VALUE!"}}]
[null,411,{"$f":"建玉一覧取得!C420","v":0},{"$f":"建玉一覧取得!D420","v":0},{"$f":"_xll.SNT.StockInst(建玉一覧取得!C420,\"前日終値\")","v":"=SNT.StockInst(建玉一覧取得!C420,\"前日終値\") => 銘柄コードが不正です"},{"$f":"_xll.SNT.StockInstDetail(建玉一覧取得!C420,\"値幅上限値\")","v":"=SNT.StockInstDetail(建玉一覧取得!C420,\"値幅上限値\") => 銘柄コードが不正です"},{"$f":"_xll.SNT.StockInstDetail(建玉一覧取得!C420,\"値幅下限値\")","v":"=SNT.StockInstDetail(建玉一覧取得!C420,\"値幅下限値\") => 銘柄コードが不正です"},{"$f":"ROUND(IFERROR(SUM((制限値幅取得!F415-制限値幅取得!E415)*建玉一覧取得!$X$6+制限値幅取得!E415),\"\"),)","v":{"$error":"#VALUE!"}},{"$f":"ROUND(IFERROR(SUM((制限値幅取得!G415-制限値幅取得!E415)*建玉一覧取得!$X$6+制限値幅取得!E415),\"\"),)","v":{"$error":"#VALUE!"}}]
[null,412,{"$f":"建玉一覧取得!C421","v":0},{"$f":"建玉一覧取得!D421","v":0},{"$f":"_xll.SNT.StockInst(建玉一覧取得!C421,\"前日終値\")","v":"=SNT.StockInst(建玉一覧取得!C421,\"前日終値\") => 銘柄コードが不正です"},{"$f":"_xll.SNT.StockInstDetail(建玉一覧取得!C421,\"値幅上限値\")","v":"=SNT.StockInstDetail(建玉一覧取得!C421,\"値幅上限値\") => 銘柄コードが不正です"},{"$f":"_xll.SNT.StockInstDetail(建玉一覧取得!C421,\"値幅下限値\")","v":"=SNT.StockInstDetail(建玉一覧取得!C421,\"値幅下限値\") => 銘柄コードが不正です"},{"$f":"ROUND(IFERROR(SUM((制限値幅取得!F416-制限値幅取得!E416)*建玉一覧取得!$X$6+制限値幅取得!E416),\"\"),)","v":{"$error":"#VALUE!"}},{"$f":"ROUND(IFERROR(SUM((制限値幅取得!G416-制限値幅取得!E416)*建玉一覧取得!$X$6+制限値幅取得!E416),\"\"),)","v":{"$error":"#VALUE!"}}]
[null,413,{"$f":"建玉一覧取得!C422","v":0},{"$f":"建玉一覧取得!D422","v":0},{"$f":"_xll.SNT.StockInst(建玉一覧取得!C422,\"前日終値\")","v":"=SNT.StockInst(建玉一覧取得!C422,\"前日終値\") => 銘柄コードが不正です"},{"$f":"_xll.SNT.StockInstDetail(建玉一覧取得!C422,\"値幅上限値\")","v":"=SNT.StockInstDetail(建玉一覧取得!C422,\"値幅上限値\") => 銘柄コードが不正です"},{"$f":"_xll.SNT.StockInstDetail(建玉一覧取得!C422,\"値幅下限値\")","v":"=SNT.StockInstDetail(建玉一覧取得!C422,\"値幅下限値\") => 銘柄コードが不正です"},{"$f":"ROUND(IFERROR(SUM((制限値幅取得!F417-制限値幅取得!E417)*建玉一覧取得!$X$6+制限値幅取得!E417),\"\"),)","v":{"$error":"#VALUE!"}},{"$f":"ROUND(IFERROR(SUM((制限値幅取得!G417-制限値幅取得!E417)*建玉一覧取得!$X$6+制限値幅取得!E417),\"\"),)","v":{"$error":"#VALUE!"}}]
[null,414,{"$f":"建玉一覧取得!C423","v":0},{"$f":"建玉一覧取得!D423","v":0},{"$f":"_xll.SNT.StockInst(建玉一覧取得!C423,\"前日終値\")","v":"=SNT.StockInst(建玉一覧取得!C423,\"前日終値\") => 銘柄コードが不正です"},{"$f":"_xll.SNT.StockInstDetail(建玉一覧取得!C423,\"値幅上限値\")","v":"=SNT.StockInstDetail(建玉一覧取得!C423,\"値幅上限値\") => 銘柄コードが不正です"},{"$f":"_xll.SNT.StockInstDetail(建玉一覧取得!C423,\"値幅下限値\")","v":"=SNT.StockInstDetail(建玉一覧取得!C423,\"値幅下限値\") => 銘柄コードが不正です"},{"$f":"ROUND(IFERROR(SUM((制限値幅取得!F418-制限値幅取得!E418)*建玉一覧取得!$X$6+制限値幅取得!E418),\"\"),)","v":{"$error":"#VALUE!"}},{"$f":"ROUND(IFERROR(SUM((制限値幅取得!G418-制限値幅取得!E418)*建玉一覧取得!$X$6+制限値幅取得!E418),\"\"),)","v":{"$error":"#VALUE!"}}]
[null,415,{"$f":"建玉一覧取得!C424","v":0},{"$f":"建玉一覧取得!D424","v":0},{"$f":"_xll.SNT.StockInst(建玉一覧取得!C424,\"前日終値\")","v":"=SNT.StockInst(建玉一覧取得!C424,\"前日終値\") => 銘柄コードが不正です"},{"$f":"_xll.SNT.StockInstDetail(建玉一覧取得!C424,\"値幅上限値\")","v":"=SNT.StockInstDetail(建玉一覧取得!C424,\"値幅上限値\") => 銘柄コードが不正です"},{"$f":"_xll.SNT.StockInstDetail(建玉一覧取得!C424,\"値幅下限値\")","v":"=SNT.StockInstDetail(建玉一覧取得!C424,\"値幅下限値\") => 銘柄コードが不正です"},{"$f":"ROUND(IFERROR(SUM((制限値幅取得!F419-制限値幅取得!E419)*建玉一覧取得!$X$6+制限値幅取得!E419),\"\"),)","v":{"$error":"#VALUE!"}},{"$f":"ROUND(IFERROR(SUM((制限値幅取得!G419-制限値幅取得!E419)*建玉一覧取得!$X$6+制限値幅取得!E419),\"\"),)","v":{"$error":"#VALUE!"}}]
[null,416,{"$f":"建玉一覧取得!C425","v":0},{"$f":"建玉一覧取得!D425","v":0},{"$f":"_xll.SNT.StockInst(建玉一覧取得!C425,\"前日終値\")","v":"=SNT.StockInst(建玉一覧取得!C425,\"前日終値\") => 銘柄コードが不正です"},{"$f":"_xll.SNT.StockInstDetail(建玉一覧取得!C425,\"値幅上限値\")","v":"=SNT.StockInstDetail(建玉一覧取得!C425,\"値幅上限値\") => 銘柄コードが不正です"},{"$f":"_xll.SNT.StockInstDetail(建玉一覧取得!C425,\"値幅下限値\")","v":"=SNT.StockInstDetail(建玉一覧取得!C425,\"値幅下限値\") => 銘柄コードが不正です"},{"$f":"ROUND(IFERROR(SUM((制限値幅取得!F420-制限値幅取得!E420)*建玉一覧取得!$X$6+制限値幅取得!E420),\"\"),)","v":{"$error":"#VALUE!"}},{"$f":"ROUND(IFERROR(SUM((制限値幅取得!G420-制限値幅取得!E420)*建玉一覧取得!$X$6+制限値幅取得!E420),\"\"),)","v":{"$error":"#VALUE!"}}]
[null,417,{"$f":"建玉一覧取得!C426","v":0},{"$f":"建玉一覧取得!D426","v":0},{"$f":"_xll.SNT.StockInst(建玉一覧取得!C426,\"前日終値\")","v":"=SNT.StockInst(建玉一覧取得!C426,\"前日終値\") => 銘柄コードが不正です"},{"$f":"_xll.SNT.StockInstDetail(建玉一覧取得!C426,\"値幅上限値\")","v":"=SNT.StockInstDetail(建玉一覧取得!C426,\"値幅上限値\") => 銘柄コードが不正です"},{"$f":"_xll.SNT.StockInstDetail(建玉一覧取得!C426,\"値幅下限値\")","v":"=SNT.StockInstDetail(建玉一覧取得!C426,\"値幅下限値\") => 銘柄コードが不正です"},{"$f":"ROUND(IFERROR(SUM((制限値幅取得!F421-制限値幅取得!E421)*建玉一覧取得!$X$6+制限値幅取得!E421),\"\"),)","v":{"$error":"#VALUE!"}},{"$f":"ROUND(IFERROR(SUM((制限値幅取得!G421-制限値幅取得!E421)*建玉一覧取得!$X$6+制限値幅取得!E421),\"\"),)","v":{"$error":"#VALUE!"}}]
[null,418,{"$f":"建玉一覧取得!C427","v":0},{"$f":"建玉一覧取得!D427","v":0},{"$f":"_xll.SNT.StockInst(建玉一覧取得!C427,\"前日終値\")","v":"=SNT.StockInst(建玉一覧取得!C427,\"前日終値\") => 銘柄コードが不正です"},{"$f":"_xll.SNT.StockInstDetail(建玉一覧取得!C427,\"値幅上限値\")","v":"=SNT.StockInstDetail(建玉一覧取得!C427,\"値幅上限値\") => 銘柄コードが不正です"},{"$f":"_xll.SNT.StockInstDetail(建玉一覧取得!C427,\"値幅下限値\")","v":"=SNT.StockInstDetail(建玉一覧取得!C427,\"値幅下限値\") => 銘柄コードが不正です"},{"$f":"ROUND(IFERROR(SUM((制限値幅取得!F422-制限値幅取得!E422)*建玉一覧取得!$X$6+制限値幅取得!E422),\"\"),)","v":{"$error":"#VALUE!"}},{"$f":"ROUND(IFERROR(SUM((制限値幅取得!G422-制限値幅取得!E422)*建玉一覧取得!$X$6+制限値幅取得!E422),\"\"),)","v":{"$error":"#VALUE!"}}]
[null,419,{"$f":"建玉一覧取得!C428","v":0},{"$f":"建玉一覧取得!D428","v":0},{"$f":"_xll.SNT.StockInst(建玉一覧取得!C428,\"前日終値\")","v":"=SNT.StockInst(建玉一覧取得!C428,\"前日終値\") => 銘柄コードが不正です"},{"$f":"_xll.SNT.StockInstDetail(建玉一覧取得!C428,\"値幅上限値\")","v":"=SNT.StockInstDetail(建玉一覧取得!C428,\"値幅上限値\") => 銘柄コードが不正です"},{"$f":"_xll.SNT.StockInstDetail(建玉一覧取得!C428,\"値幅下限値\")","v":"=SNT.StockInstDetail(建玉一覧取得!C428,\"値幅下限値\") => 銘柄コードが不正です"},{"$f":"ROUND(IFERROR(SUM((制限値幅取得!F423-制限値幅取得!E423)*建玉一覧取得!$X$6+制限値幅取得!E423),\"\"),)","v":{"$error":"#VALUE!"}},{"$f":"ROUND(IFERROR(SUM((制限値幅取得!G423-制限値幅取得!E423)*建玉一覧取得!$X$6+制限値幅取得!E423),\"\"),)","v":{"$error":"#VALUE!"}}]
[null,420,{"$f":"建玉一覧取得!C429","v":0},{"$f":"建玉一覧取得!D429","v":0},{"$f":"_xll.SNT.StockInst(建玉一覧取得!C429,\"前日終値\")","v":"=SNT.StockInst(建玉一覧取得!C429,\"前日終値\") => 銘柄コードが不正です"},{"$f":"_xll.SNT.StockInstDetail(建玉一覧取得!C429,\"値幅上限値\")","v":"=SNT.StockInstDetail(建玉一覧取得!C429,\"値幅上限値\") => 銘柄コードが不正です"},{"$f":"_xll.SNT.StockInstDetail(建玉一覧取得!C429,\"値幅下限値\")","v":"=SNT.StockInstDetail(建玉一覧取得!C429,\"値幅下限値\") => 銘柄コードが不正です"},{"$f":"ROUND(IFERROR(SUM((制限値幅取得!F424-制限値幅取得!E424)*建玉一覧取得!$X$6+制限値幅取得!E424),\"\"),)","v":{"$error":"#VALUE!"}},{"$f":"ROUND(IFERROR(SUM((制限値幅取得!G424-制限値幅取得!E424)*建玉一覧取得!$X$6+制限値幅取得!E424),\"\"),)","v":{"$error":"#VALUE!"}}]
[null,421,{"$f":"建玉一覧取得!C430","v":0},{"$f":"建玉一覧取得!D430","v":0},{"$f":"_xll.SNT.StockInst(建玉一覧取得!C430,\"前日終値\")","v":"=SNT.StockInst(建玉一覧取得!C430,\"前日終値\") => 銘柄コードが不正です"},{"$f":"_xll.SNT.StockInstDetail(建玉一覧取得!C430,\"値幅上限値\")","v":"=SNT.StockInstDetail(建玉一覧取得!C430,\"値幅上限値\") => 銘柄コードが不正です"},{"$f":"_xll.SNT.StockInstDetail(建玉一覧取得!C430,\"値幅下限値\")","v":"=SNT.StockInstDetail(建玉一覧取得!C430,\"値幅下限値\") => 銘柄コードが不正です"},{"$f":"ROUND(IFERROR(SUM((制限値幅取得!F425-制限値幅取得!E425)*建玉一覧取得!$X$6+制限値幅取得!E425),\"\"),)","v":{"$error":"#VALUE!"}},{"$f":"ROUND(IFERROR(SUM((制限値幅取得!G425-制限値幅取得!E425)*建玉一覧取得!$X$6+制限値幅取得!E425),\"\"),)","v":{"$error":"#VALUE!"}}]
[null,422,{"$f":"建玉一覧取得!C431","v":0},{"$f":"建玉一覧取得!D431","v":0},{"$f":"_xll.SNT.StockInst(建玉一覧取得!C431,\"前日終値\")","v":"=SNT.StockInst(建玉一覧取得!C431,\"前日終値\") => 銘柄コードが不正です"},{"$f":"_xll.SNT.StockInstDetail(建玉一覧取得!C431,\"値幅上限値\")","v":"=SNT.StockInstDetail(建玉一覧取得!C431,\"値幅上限値\") => 銘柄コードが不正です"},{"$f":"_xll.SNT.StockInstDetail(建玉一覧取得!C431,\"値幅下限値\")","v":"=SNT.StockInstDetail(建玉一覧取得!C431,\"値幅下限値\") => 銘柄コードが不正です"},{"$f":"ROUND(IFERROR(SUM((制限値幅取得!F426-制限値幅取得!E426)*建玉一覧取得!$X$6+制限値幅取得!E426),\"\"),)","v":{"$error":"#VALUE!"}},{"$f":"ROUND(IFERROR(SUM((制限値幅取得!G426-制限値幅取得!E426)*建玉一覧取得!$X$6+制限値幅取得!E426),\"\"),)","v":{"$error":"#VALUE!"}}]
[null,423,{"$f":"建玉一覧取得!C432","v":0},{"$f":"建玉一覧取得!D432","v":0},{"$f":"_xll.SNT.StockInst(建玉一覧取得!C432,\"前日終値\")","v":"=SNT.StockInst(建玉一覧取得!C432,\"前日終値\") => 銘柄コードが不正です"},{"$f":"_xll.SNT.StockInstDetail(建玉一覧取得!C432,\"値幅上限値\")","v":"=SNT.StockInstDetail(建玉一覧取得!C432,\"値幅上限値\") => 銘柄コードが不正です"},{"$f":"_xll.SNT.StockInstDetail(建玉一覧取得!C432,\"値幅下限値\")","v":"=SNT.StockInstDetail(建玉一覧取得!C432,\"値幅下限値\") => 銘柄コードが不正です"},{"$f":"ROUND(IFERROR(SUM((制限値幅取得!F427-制限値幅取得!E427)*建玉一覧取得!$X$6+制限値幅取得!E427),\"\"),)","v":{"$error":"#VALUE!"}},{"$f":"ROUND(IFERROR(SUM((制限値幅取得!G427-制限値幅取得!E427)*建玉一覧取得!$X$6+制限値幅取得!E427),\"\"),)","v":{"$error":"#VALUE!"}}]
[null,424,{"$f":"建玉一覧取得!C433","v":0},{"$f":"建玉一覧取得!D433","v":0},{"$f":"_xll.SNT.StockInst(建玉一覧取得!C433,\"前日終値\")","v":"=SNT.StockInst(建玉一覧取得!C433,\"前日終値\") => 銘柄コードが不正です"},{"$f":"_xll.SNT.StockInstDetail(建玉一覧取得!C433,\"値幅上限値\")","v":"=SNT.StockInstDetail(建玉一覧取得!C433,\"値幅上限値\") => 銘柄コードが不正です"},{"$f":"_xll.SNT.StockInstDetail(建玉一覧取得!C433,\"値幅下限値\")","v":"=SNT.StockInstDetail(建玉一覧取得!C433,\"値幅下限値\") => 銘柄コードが不正です"},{"$f":"ROUND(IFERROR(SUM((制限値幅取得!F428-制限値幅取得!E428)*建玉一覧取得!$X$6+制限値幅取得!E428),\"\"),)","v":{"$error":"#VALUE!"}},{"$f":"ROUND(IFERROR(SUM((制限値幅取得!G428-制限値幅取得!E428)*建玉一覧取得!$X$6+制限値幅取得!E428),\"\"),)","v":{"$error":"#VALUE!"}}]
[null,425,{"$f":"建玉一覧取得!C434","v":0},{"$f":"建玉一覧取得!D434","v":0},{"$f":"_xll.SNT.StockInst(建玉一覧取得!C434,\"前日終値\")","v":"=SNT.StockInst(建玉一覧取得!C434,\"前日終値\") => 銘柄コードが不正です"},{"$f":"_xll.SNT.StockInstDetail(建玉一覧取得!C434,\"値幅上限値\")","v":"=SNT.StockInstDetail(建玉一覧取得!C434,\"値幅上限値\") => 銘柄コードが不正です"},{"$f":"_xll.SNT.StockInstDetail(建玉一覧取得!C434,\"値幅下限値\")","v":"=SNT.StockInstDetail(建玉一覧取得!C434,\"値幅下限値\") => 銘柄コードが不正です"},{"$f":"ROUND(IFERROR(SUM((制限値幅取得!F429-制限値幅取得!E429)*建玉一覧取得!$X$6+制限値幅取得!E429),\"\"),)","v":{"$error":"#VALUE!"}},{"$f":"ROUND(IFERROR(SUM((制限値幅取得!G429-制限値幅取得!E429)*建玉一覧取得!$X$6+制限値幅取得!E429),\"\"),)","v":{"$error":"#VALUE!"}}]
[null,426,{"$f":"建玉一覧取得!C435","v":0},{"$f":"建玉一覧取得!D435","v":0},{"$f":"_xll.SNT.StockInst(建玉一覧取得!C435,\"前日終値\")","v":"=SNT.StockInst(建玉一覧取得!C435,\"前日終値\") => 銘柄コードが不正です"},{"$f":"_xll.SNT.StockInstDetail(建玉一覧取得!C435,\"値幅上限値\")","v":"=SNT.StockInstDetail(建玉一覧取得!C435,\"値幅上限値\") => 銘柄コードが不正です"},{"$f":"_xll.SNT.StockInstDetail(建玉一覧取得!C435,\"値幅下限値\")","v":"=SNT.StockInstDetail(建玉一覧取得!C435,\"値幅下限値\") => 銘柄コードが不正です"},{"$f":"ROUND(IFERROR(SUM((制限値幅取得!F430-制限値幅取得!E430)*建玉一覧取得!$X$6+制限値幅取得!E430),\"\"),)","v":{"$error":"#VALUE!"}},{"$f":"ROUND(IFERROR(SUM((制限値幅取得!G430-制限値幅取得!E430)*建玉一覧取得!$X$6+制限値幅取得!E430),\"\"),)","v":{"$error":"#VALUE!"}}]
[null,427,{"$f":"建玉一覧取得!C436","v":0},{"$f":"建玉一覧取得!D436","v":0},{"$f":"_xll.SNT.StockInst(建玉一覧取得!C436,\"前日終値\")","v":"=SNT.StockInst(建玉一覧取得!C436,\"前日終値\") => 銘柄コードが不正です"},{"$f":"_xll.SNT.StockInstDetail(建玉一覧取得!C436,\"値幅上限値\")","v":"=SNT.StockInstDetail(建玉一覧取得!C436,\"値幅上限値\") => 銘柄コードが不正です"},{"$f":"_xll.SNT.StockInstDetail(建玉一覧取得!C436,\"値幅下限値\")","v":"=SNT.StockInstDetail(建玉一覧取得!C436,\"値幅下限値\") => 銘柄コードが不正です"},{"$f":"ROUND(IFERROR(SUM((制限値幅取得!F431-制限値幅取得!E431)*建玉一覧取得!$X$6+制限値幅取得!E431),\"\"),)","v":{"$error":"#VALUE!"}},{"$f":"ROUND(IFERROR(SUM((制限値幅取得!G431-制限値幅取得!E431)*建玉一覧取得!$X$6+制限値幅取得!E431),\"\"),)","v":{"$error":"#VALUE!"}}]
[null,428,{"$f":"建玉一覧取得!C437","v":0},{"$f":"建玉一覧取得!D437","v":0},{"$f":"_xll.SNT.StockInst(建玉一覧取得!C437,\"前日終値\")","v":"=SNT.StockInst(建玉一覧取得!C437,\"前日終値\") => 銘柄コードが不正です"},{"$f":"_xll.SNT.StockInstDetail(建玉一覧取得!C437,\"値幅上限値\")","v":"=SNT.StockInstDetail(建玉一覧取得!C437,\"値幅上限値\") => 銘柄コードが不正です"},{"$f":"_xll.SNT.StockInstDetail(建玉一覧取得!C437,\"値幅下限値\")","v":"=SNT.StockInstDetail(建玉一覧取得!C437,\"値幅下限値\") => 銘柄コードが不正です"},{"$f":"ROUND(IFERROR(SUM((制限値幅取得!F432-制限値幅取得!E432)*建玉一覧取得!$X$6+制限値幅取得!E432),\"\"),)","v":{"$error":"#VALUE!"}},{"$f":"ROUND(IFERROR(SUM((制限値幅取得!G432-制限値幅取得!E432)*建玉一覧取得!$X$6+制限値幅取得!E432),\"\"),)","v":{"$error":"#VALUE!"}}]
[null,429,{"$f":"建玉一覧取得!C438","v":0},{"$f":"建玉一覧取得!D438","v":0},{"$f":"_xll.SNT.StockInst(建玉一覧取得!C438,\"前日終値\")","v":"=SNT.StockInst(建玉一覧取得!C438,\"前日終値\") => 銘柄コードが不正です"},{"$f":"_xll.SNT.StockInstDetail(建玉一覧取得!C438,\"値幅上限値\")","v":"=SNT.StockInstDetail(建玉一覧取得!C438,\"値幅上限値\") => 銘柄コードが不正です"},{"$f":"_xll.SNT.StockInstDetail(建玉一覧取得!C438,\"値幅下限値\")","v":"=SNT.StockInstDetail(建玉一覧取得!C438,\"値幅下限値\") => 銘柄コードが不正です"},{"$f":"ROUND(IFERROR(SUM((制限値幅取得!F433-制限値幅取得!E433)*建玉一覧取得!$X$6+制限値幅取得!E433),\"\"),)","v":{"$error":"#VALUE!"}},{"$f":"ROUND(IFERROR(SUM((制限値幅取得!G433-制限値幅取得!E433)*建玉一覧取得!$X$6+制限値幅取得!E433),\"\"),)","v":{"$error":"#VALUE!"}}]
[null,430,{"$f":"建玉一覧取得!C439","v":0},{"$f":"建玉一覧取得!D439","v":0},{"$f":"_xll.SNT.StockInst(建玉一覧取得!C439,\"前日終値\")","v":"=SNT.StockInst(建玉一覧取得!C439,\"前日終値\") => 銘柄コードが不正です"},{"$f":"_xll.SNT.StockInstDetail(建玉一覧取得!C439,\"値幅上限値\")","v":"=SNT.StockInstDetail(建玉一覧取得!C439,\"値幅上限値\") => 銘柄コードが不正です"},{"$f":"_xll.SNT.StockInstDetail(建玉一覧取得!C439,\"値幅下限値\")","v":"=SNT.StockInstDetail(建玉一覧取得!C439,\"値幅下限値\") => 銘柄コードが不正です"},{"$f":"ROUND(IFERROR(SUM((制限値幅取得!F434-制限値幅取得!E434)*建玉一覧取得!$X$6+制限値幅取得!E434),\"\"),)","v":{"$error":"#VALUE!"}},{"$f":"ROUND(IFERROR(SUM((制限値幅取得!G434-制限値幅取得!E434)*建玉一覧取得!$X$6+制限値幅取得!E434),\"\"),)","v":{"$error":"#VALUE!"}}]
[null,431,{"$f":"建玉一覧取得!C440","v":0},{"$f":"建玉一覧取得!D440","v":0},{"$f":"_xll.SNT.StockInst(建玉一覧取得!C440,\"前日終値\")","v":"=SNT.StockInst(建玉一覧取得!C440,\"前日終値\") => 銘柄コードが不正です"},{"$f":"_xll.SNT.StockInstDetail(建玉一覧取得!C440,\"値幅上限値\")","v":"=SNT.StockInstDetail(建玉一覧取得!C440,\"値幅上限値\") => 銘柄コードが不正です"},{"$f":"_xll.SNT.StockInstDetail(建玉一覧取得!C440,\"値幅下限値\")","v":"=SNT.StockInstDetail(建玉一覧取得!C440,\"値幅下限値\") => 銘柄コードが不正です"},{"$f":"ROUND(IFERROR(SUM((制限値幅取得!F435-制限値幅取得!E435)*建玉一覧取得!$X$6+制限値幅取得!E435),\"\"),)","v":{"$error":"#VALUE!"}},{"$f":"ROUND(IFERROR(SUM((制限値幅取得!G435-制限値幅取得!E435)*建玉一覧取得!$X$6+制限値幅取得!E435),\"\"),)","v":{"$error":"#VALUE!"}}]
[null,432,{"$f":"建玉一覧取得!C441","v":0},{"$f":"建玉一覧取得!D441","v":0},{"$f":"_xll.SNT.StockInst(建玉一覧取得!C441,\"前日終値\")","v":"=SNT.StockInst(建玉一覧取得!C441,\"前日終値\") => 銘柄コードが不正です"},{"$f":"_xll.SNT.StockInstDetail(建玉一覧取得!C441,\"値幅上限値\")","v":"=SNT.StockInstDetail(建玉一覧取得!C441,\"値幅上限値\") => 銘柄コードが不正です"},{"$f":"_xll.SNT.StockInstDetail(建玉一覧取得!C441,\"値幅下限値\")","v":"=SNT.StockInstDetail(建玉一覧取得!C441,\"値幅下限値\") => 銘柄コードが不正です"},{"$f":"ROUND(IFERROR(SUM((制限値幅取得!F436-制限値幅取得!E436)*建玉一覧取得!$X$6+制限値幅取得!E436),\"\"),)","v":{"$error":"#VALUE!"}},{"$f":"ROUND(IFERROR(SUM((制限値幅取得!G436-制限値幅取得!E436)*建玉一覧取得!$X$6+制限値幅取得!E436),\"\"),)","v":{"$error":"#VALUE!"}}]
[null,433,{"$f":"建玉一覧取得!C442","v":0},{"$f":"建玉一覧取得!D442","v":0},{"$f":"_xll.SNT.StockInst(建玉一覧取得!C442,\"前日終値\")","v":"=SNT.StockInst(建玉一覧取得!C442,\"前日終値\") => 銘柄コードが不正です"},{"$f":"_xll.SNT.StockInstDetail(建玉一覧取得!C442,\"値幅上限値\")","v":"=SNT.StockInstDetail(建玉一覧取得!C442,\"値幅上限値\") => 銘柄コードが不正です"},{"$f":"_xll.SNT.StockInstDetail(建玉一覧取得!C442,\"値幅下限値\")","v":"=SNT.StockInstDetail(建玉一覧取得!C442,\"値幅下限値\") => 銘柄コードが不正です"},{"$f":"ROUND(IFERROR(SUM((制限値幅取得!F437-制限値幅取得!E437)*建玉一覧取得!$X$6+制限値幅取得!E437),\"\"),)","v":{"$error":"#VALUE!"}},{"$f":"ROUND(IFERROR(SUM((制限値幅取得!G437-制限値幅取得!E437)*建玉一覧取得!$X$6+制限値幅取得!E437),\"\"),)","v":{"$error":"#VALUE!"}}]
[null,434,{"$f":"建玉一覧取得!C443","v":0},{"$f":"建玉一覧取得!D443","v":0},{"$f":"_xll.SNT.StockInst(建玉一覧取得!C443,\"前日終値\")","v":"=SNT.StockInst(建玉一覧取得!C443,\"前日終値\") => 銘柄コードが不正です"},{"$f":"_xll.SNT.StockInstDetail(建玉一覧取得!C443,\"値幅上限値\")","v":"=SNT.StockInstDetail(建玉一覧取得!C443,\"値幅上限値\") => 銘柄コードが不正です"},{"$f":"_xll.SNT.StockInstDetail(建玉一覧取得!C443,\"値幅下限値\")","v":"=SNT.StockInstDetail(建玉一覧取得!C443,\"値幅下限値\") => 銘柄コードが不正です"},{"$f":"ROUND(IFERROR(SUM((制限値幅取得!F438-制限値幅取得!E438)*建玉一覧取得!$X$6+制限値幅取得!E438),\"\"),)","v":{"$error":"#VALUE!"}},{"$f":"ROUND(IFERROR(SUM((制限値幅取得!G438-制限値幅取得!E438)*建玉一覧取得!$X$6+制限値幅取得!E438),\"\"),)","v":{"$error":"#VALUE!"}}]
[null,435,{"$f":"建玉一覧取得!C444","v":0},{"$f":"建玉一覧取得!D444","v":0},{"$f":"_xll.SNT.StockInst(建玉一覧取得!C444,\"前日終値\")","v":"=SNT.StockInst(建玉一覧取得!C444,\"前日終値\") => 銘柄コードが不正です"},{"$f":"_xll.SNT.StockInstDetail(建玉一覧取得!C444,\"値幅上限値\")","v":"=SNT.StockInstDetail(建玉一覧取得!C444,\"値幅上限値\") => 銘柄コードが不正です"},{"$f":"_xll.SNT.StockInstDetail(建玉一覧取得!C444,\"値幅下限値\")","v":"=SNT.StockInstDetail(建玉一覧取得!C444,\"値幅下限値\") => 銘柄コードが不正です"},{"$f":"ROUND(IFERROR(SUM((制限値幅取得!F439-制限値幅取得!E439)*建玉一覧取得!$X$6+制限値幅取得!E439),\"\"),)","v":{"$error":"#VALUE!"}},{"$f":"ROUND(IFERROR(SUM((制限値幅取得!G439-制限値幅取得!E439)*建玉一覧取得!$X$6+制限値幅取得!E439),\"\"),)","v":{"$error":"#VALUE!"}}]
[null,436,{"$f":"建玉一覧取得!C445","v":0},{"$f":"建玉一覧取得!D445","v":0},{"$f":"_xll.SNT.StockInst(建玉一覧取得!C445,\"前日終値\")","v":"=SNT.StockInst(建玉一覧取得!C445,\"前日終値\") => 銘柄コードが不正です"},{"$f":"_xll.SNT.StockInstDetail(建玉一覧取得!C445,\"値幅上限値\")","v":"=SNT.StockInstDetail(建玉一覧取得!C445,\"値幅上限値\") => 銘柄コードが不正です"},{"$f":"_xll.SNT.StockInstDetail(建玉一覧取得!C445,\"値幅下限値\")","v":"=SNT.StockInstDetail(建玉一覧取得!C445,\"値幅下限値\") => 銘柄コードが不正です"},{"$f":"ROUND(IFERROR(SUM((制限値幅取得!F440-制限値幅取得!E440)*建玉一覧取得!$X$6+制限値幅取得!E440),\"\"),)","v":{"$error":"#VALUE!"}},{"$f":"ROUND(IFERROR(SUM((制限値幅取得!G440-制限値幅取得!E440)*建玉一覧取得!$X$6+制限値幅取得!E440),\"\"),)","v":{"$error":"#VALUE!"}}]
[null,437,{"$f":"建玉一覧取得!C446","v":0},{"$f":"建玉一覧取得!D446","v":0},{"$f":"_xll.SNT.StockInst(建玉一覧取得!C446,\"前日終値\")","v":"=SNT.StockInst(建玉一覧取得!C446,\"前日終値\") => 銘柄コードが不正です"},{"$f":"_xll.SNT.StockInstDetail(建玉一覧取得!C446,\"値幅上限値\")","v":"=SNT.StockInstDetail(建玉一覧取得!C446,\"値幅上限値\") => 銘柄コードが不正です"},{"$f":"_xll.SNT.StockInstDetail(建玉一覧取得!C446,\"値幅下限値\")","v":"=SNT.StockInstDetail(建玉一覧取得!C446,\"値幅下限値\") => 銘柄コードが不正です"},{"$f":"ROUND(IFERROR(SUM((制限値幅取得!F441-制限値幅取得!E441)*建玉一覧取得!$X$6+制限値幅取得!E441),\"\"),)","v":{"$error":"#VALUE!"}},{"$f":"ROUND(IFERROR(SUM((制限値幅取得!G441-制限値幅取得!E441)*建玉一覧取得!$X$6+制限値幅取得!E441),\"\"),)","v":{"$error":"#VALUE!"}}]
[null,438,{"$f":"建玉一覧取得!C447","v":0},{"$f":"建玉一覧取得!D447","v":0},{"$f":"_xll.SNT.StockInst(建玉一覧取得!C447,\"前日終値\")","v":"=SNT.StockInst(建玉一覧取得!C447,\"前日終値\") => 銘柄コードが不正です"},{"$f":"_xll.SNT.StockInstDetail(建玉一覧取得!C447,\"値幅上限値\")","v":"=SNT.StockInstDetail(建玉一覧取得!C447,\"値幅上限値\") => 銘柄コードが不正です"},{"$f":"_xll.SNT.StockInstDetail(建玉一覧取得!C447,\"値幅下限値\")","v":"=SNT.StockInstDetail(建玉一覧取得!C447,\"値幅下限値\") => 銘柄コードが不正です"},{"$f":"ROUND(IFERROR(SUM((制限値幅取得!F442-制限値幅取得!E442)*建玉一覧取得!$X$6+制限値幅取得!E442),\"\"),)","v":{"$error":"#VALUE!"}},{"$f":"ROUND(IFERROR(SUM((制限値幅取得!G442-制限値幅取得!E442)*建玉一覧取得!$X$6+制限値幅取得!E442),\"\"),)","v":{"$error":"#VALUE!"}}]
[null,439,{"$f":"建玉一覧取得!C448","v":0},{"$f":"建玉一覧取得!D448","v":0},{"$f":"_xll.SNT.StockInst(建玉一覧取得!C448,\"前日終値\")","v":"=SNT.StockInst(建玉一覧取得!C448,\"前日終値\") => 銘柄コードが不正です"},{"$f":"_xll.SNT.StockInstDetail(建玉一覧取得!C448,\"値幅上限値\")","v":"=SNT.StockInstDetail(建玉一覧取得!C448,\"値幅上限値\") => 銘柄コードが不正です"},{"$f":"_xll.SNT.StockInstDetail(建玉一覧取得!C448,\"値幅下限値\")","v":"=SNT.StockInstDetail(建玉一覧取得!C448,\"値幅下限値\") => 銘柄コードが不正です"},{"$f":"ROUND(IFERROR(SUM((制限値幅取得!F443-制限値幅取得!E443)*建玉一覧取得!$X$6+制限値幅取得!E443),\"\"),)","v":{"$error":"#VALUE!"}},{"$f":"ROUND(IFERROR(SUM((制限値幅取得!G443-制限値幅取得!E443)*建玉一覧取得!$X$6+制限値幅取得!E443),\"\"),)","v":{"$error":"#VALUE!"}}]
[null,440,{"$f":"建玉一覧取得!C449","v":0},{"$f":"建玉一覧取得!D449","v":0},{"$f":"_xll.SNT.StockInst(建玉一覧取得!C449,\"前日終値\")","v":"=SNT.StockInst(建玉一覧取得!C449,\"前日終値\") => 銘柄コードが不正です"},{"$f":"_xll.SNT.StockInstDetail(建玉一覧取得!C449,\"値幅上限値\")","v":"=SNT.StockInstDetail(建玉一覧取得!C449,\"値幅上限値\") => 銘柄コードが不正です"},{"$f":"_xll.SNT.StockInstDetail(建玉一覧取得!C449,\"値幅下限値\")","v":"=SNT.StockInstDetail(建玉一覧取得!C449,\"値幅下限値\") => 銘柄コードが不正です"},{"$f":"ROUND(IFERROR(SUM((制限値幅取得!F444-制限値幅取得!E444)*建玉一覧取得!$X$6+制限値幅取得!E444),\"\"),)","v":{"$error":"#VALUE!"}},{"$f":"ROUND(IFERROR(SUM((制限値幅取得!G444-制限値幅取得!E444)*建玉一覧取得!$X$6+制限値幅取得!E444),\"\"),)","v":{"$error":"#VALUE!"}}]
[null,441,{"$f":"建玉一覧取得!C450","v":0},{"$f":"建玉一覧取得!D450","v":0},{"$f":"_xll.SNT.StockInst(建玉一覧取得!C450,\"前日終値\")","v":"=SNT.StockInst(建玉一覧取得!C450,\"前日終値\") => 銘柄コードが不正です"},{"$f":"_xll.SNT.StockInstDetail(建玉一覧取得!C450,\"値幅上限値\")","v":"=SNT.StockInstDetail(建玉一覧取得!C450,\"値幅上限値\") => 銘柄コードが不正です"},{"$f":"_xll.SNT.StockInstDetail(建玉一覧取得!C450,\"値幅下限値\")","v":"=SNT.StockInstDetail(建玉一覧取得!C450,\"値幅下限値\") => 銘柄コードが不正です"},{"$f":"ROUND(IFERROR(SUM((制限値幅取得!F445-制限値幅取得!E445)*建玉一覧取得!$X$6+制限値幅取得!E445),\"\"),)","v":{"$error":"#VALUE!"}},{"$f":"ROUND(IFERROR(SUM((制限値幅取得!G445-制限値幅取得!E445)*建玉一覧取得!$X$6+制限値幅取得!E445),\"\"),)","v":{"$error":"#VALUE!"}}]
[null,442,{"$f":"建玉一覧取得!C451","v":0},{"$f":"建玉一覧取得!D451","v":0},{"$f":"_xll.SNT.StockInst(建玉一覧取得!C451,\"前日終値\")","v":"=SNT.StockInst(建玉一覧取得!C451,\"前日終値\") => 銘柄コードが不正です"},{"$f":"_xll.SNT.StockInstDetail(建玉一覧取得!C451,\"値幅上限値\")","v":"=SNT.StockInstDetail(建玉一覧取得!C451,\"値幅上限値\") => 銘柄コードが不正です"},{"$f":"_xll.SNT.StockInstDetail(建玉一覧取得!C451,\"値幅下限値\")","v":"=SNT.StockInstDetail(建玉一覧取得!C451,\"値幅下限値\") => 銘柄コードが不正です"},{"$f":"ROUND(IFERROR(SUM((制限値幅取得!F446-制限値幅取得!E446)*建玉一覧取得!$X$6+制限値幅取得!E446),\"\"),)","v":{"$error":"#VALUE!"}},{"$f":"ROUND(IFERROR(SUM((制限値幅取得!G446-制限値幅取得!E446)*建玉一覧取得!$X$6+制限値幅取得!E446),\"\"),)","v":{"$error":"#VALUE!"}}]
[null,443,{"$f":"建玉一覧取得!C452","v":0},{"$f":"建玉一覧取得!D452","v":0},{"$f":"_xll.SNT.StockInst(建玉一覧取得!C452,\"前日終値\")","v":"=SNT.StockInst(建玉一覧取得!C452,\"前日終値\") => 銘柄コードが不正です"},{"$f":"_xll.SNT.StockInstDetail(建玉一覧取得!C452,\"値幅上限値\")","v":"=SNT.StockInstDetail(建玉一覧取得!C452,\"値幅上限値\") => 銘柄コードが不正です"},{"$f":"_xll.SNT.StockInstDetail(建玉一覧取得!C452,\"値幅下限値\")","v":"=SNT.StockInstDetail(建玉一覧取得!C452,\"値幅下限値\") => 銘柄コードが不正です"},{"$f":"ROUND(IFERROR(SUM((制限値幅取得!F447-制限値幅取得!E447)*建玉一覧取得!$X$6+制限値幅取得!E447),\"\"),)","v":{"$error":"#VALUE!"}},{"$f":"ROUND(IFERROR(SUM((制限値幅取得!G447-制限値幅取得!E447)*建玉一覧取得!$X$6+制限値幅取得!E447),\"\"),)","v":{"$error":"#VALUE!"}}]
[null,444,{"$f":"建玉一覧取得!C453","v":0},{"$f":"建玉一覧取得!D453","v":0},{"$f":"_xll.SNT.StockInst(建玉一覧取得!C453,\"前日終値\")","v":"=SNT.StockInst(建玉一覧取得!C453,\"前日終値\") => 銘柄コードが不正です"},{"$f":"_xll.SNT.StockInstDetail(建玉一覧取得!C453,\"値幅上限値\")","v":"=SNT.StockInstDetail(建玉一覧取得!C453,\"値幅上限値\") => 銘柄コードが不正です"},{"$f":"_xll.SNT.StockInstDetail(建玉一覧取得!C453,\"値幅下限値\")","v":"=SNT.StockInstDetail(建玉一覧取得!C453,\"値幅下限値\") => 銘柄コードが不正です"},{"$f":"ROUND(IFERROR(SUM((制限値幅取得!F448-制限値幅取得!E448)*建玉一覧取得!$X$6+制限値幅取得!E448),\"\"),)","v":{"$error":"#VALUE!"}},{"$f":"ROUND(IFERROR(SUM((制限値幅取得!G448-制限値幅取得!E448)*建玉一覧取得!$X$6+制限値幅取得!E448),\"\"),)","v":{"$error":"#VALUE!"}}]
[null,445,{"$f":"建玉一覧取得!C454","v":0},{"$f":"建玉一覧取得!D454","v":0},{"$f":"_xll.SNT.StockInst(建玉一覧取得!C454,\"前日終値\")","v":"=SNT.StockInst(建玉一覧取得!C454,\"前日終値\") => 銘柄コードが不正です"},{"$f":"_xll.SNT.StockInstDetail(建玉一覧取得!C454,\"値幅上限値\")","v":"=SNT.StockInstDetail(建玉一覧取得!C454,\"値幅上限値\") => 銘柄コードが不正です"},{"$f":"_xll.SNT.StockInstDetail(建玉一覧取得!C454,\"値幅下限値\")","v":"=SNT.StockInstDetail(建玉一覧取得!C454,\"値幅下限値\") => 銘柄コードが不正です"},{"$f":"ROUND(IFERROR(SUM((制限値幅取得!F449-制限値幅取得!E449)*建玉一覧取得!$X$6+制限値幅取得!E449),\"\"),)","v":{"$error":"#VALUE!"}},{"$f":"ROUND(IFERROR(SUM((制限値幅取得!G449-制限値幅取得!E449)*建玉一覧取得!$X$6+制限値幅取得!E449),\"\"),)","v":{"$error":"#VALUE!"}}]
[null,446,{"$f":"建玉一覧取得!C455","v":0},{"$f":"建玉一覧取得!D455","v":0},{"$f":"_xll.SNT.StockInst(建玉一覧取得!C455,\"前日終値\")","v":"=SNT.StockInst(建玉一覧取得!C455,\"前日終値\") => 銘柄コードが不正です"},{"$f":"_xll.SNT.StockInstDetail(建玉一覧取得!C455,\"値幅上限値\")","v":"=SNT.StockInstDetail(建玉一覧取得!C455,\"値幅上限値\") => 銘柄コードが不正です"},{"$f":"_xll.SNT.StockInstDetail(建玉一覧取得!C455,\"値幅下限値\")","v":"=SNT.StockInstDetail(建玉一覧取得!C455,\"値幅下限値\") => 銘柄コードが不正です"},{"$f":"ROUND(IFERROR(SUM((制限値幅取得!F450-制限値幅取得!E450)*建玉一覧取得!$X$6+制限値幅取得!E450),\"\"),)","v":{"$error":"#VALUE!"}},{"$f":"ROUND(IFERROR(SUM((制限値幅取得!G450-制限値幅取得!E450)*建玉一覧取得!$X$6+制限値幅取得!E450),\"\"),)","v":{"$error":"#VALUE!"}}]
[null,447,{"$f":"建玉一覧取得!C456","v":0},{"$f":"建玉一覧取得!D456","v":0},{"$f":"_xll.SNT.StockInst(建玉一覧取得!C456,\"前日終値\")","v":"=SNT.StockInst(建玉一覧取得!C456,\"前日終値\") => 銘柄コードが不正です"},{"$f":"_xll.SNT.StockInstDetail(建玉一覧取得!C456,\"値幅上限値\")","v":"=SNT.StockInstDetail(建玉一覧取得!C456,\"値幅上限値\") => 銘柄コードが不正です"},{"$f":"_xll.SNT.StockInstDetail(建玉一覧取得!C456,\"値幅下限値\")","v":"=SNT.StockInstDetail(建玉一覧取得!C456,\"値幅下限値\") => 銘柄コードが不正です"},{"$f":"ROUND(IFERROR(SUM((制限値幅取得!F451-制限値幅取得!E451)*建玉一覧取得!$X$6+制限値幅取得!E451),\"\"),)","v":{"$error":"#VALUE!"}},{"$f":"ROUND(IFERROR(SUM((制限値幅取得!G451-制限値幅取得!E451)*建玉一覧取得!$X$6+制限値幅取得!E451),\"\"),)","v":{"$error":"#VALUE!"}}]
[null,448,{"$f":"建玉一覧取得!C457","v":0},{"$f":"建玉一覧取得!D457","v":0},{"$f":"_xll.SNT.StockInst(建玉一覧取得!C457,\"前日終値\")","v":"=SNT.StockInst(建玉一覧取得!C457,\"前日終値\") => 銘柄コードが不正です"},{"$f":"_xll.SNT.StockInstDetail(建玉一覧取得!C457,\"値幅上限値\")","v":"=SNT.StockInstDetail(建玉一覧取得!C457,\"値幅上限値\") => 銘柄コードが不正です"},{"$f":"_xll.SNT.StockInstDetail(建玉一覧取得!C457,\"値幅下限値\")","v":"=SNT.StockInstDetail(建玉一覧取得!C457,\"値幅下限値\") => 銘柄コードが不正です"},{"$f":"ROUND(IFERROR(SUM((制限値幅取得!F452-制限値幅取得!E452)*建玉一覧取得!$X$6+制限値幅取得!E452),\"\"),)","v":{"$error":"#VALUE!"}},{"$f":"ROUND(IFERROR(SUM((制限値幅取得!G452-制限値幅取得!E452)*建玉一覧取得!$X$6+制限値幅取得!E452),\"\"),)","v":{"$error":"#VALUE!"}}]
[null,449,{"$f":"建玉一覧取得!C458","v":0},{"$f":"建玉一覧取得!D458","v":0},{"$f":"_xll.SNT.StockInst(建玉一覧取得!C458,\"前日終値\")","v":"=SNT.StockInst(建玉一覧取得!C458,\"前日終値\") => 銘柄コードが不正です"},{"$f":"_xll.SNT.StockInstDetail(建玉一覧取得!C458,\"値幅上限値\")","v":"=SNT.StockInstDetail(建玉一覧取得!C458,\"値幅上限値\") => 銘柄コードが不正です"},{"$f":"_xll.SNT.StockInstDetail(建玉一覧取得!C458,\"値幅下限値\")","v":"=SNT.StockInstDetail(建玉一覧取得!C458,\"値幅下限値\") => 銘柄コードが不正です"},{"$f":"ROUND(IFERROR(SUM((制限値幅取得!F453-制限値幅取得!E453)*建玉一覧取得!$X$6+制限値幅取得!E453),\"\"),)","v":{"$error":"#VALUE!"}},{"$f":"ROUND(IFERROR(SUM((制限値幅取得!G453-制限値幅取得!E453)*建玉一覧取得!$X$6+制限値幅取得!E453),\"\"),)","v":{"$error":"#VALUE!"}}]
[null,450,{"$f":"建玉一覧取得!C459","v":0},{"$f":"建玉一覧取得!D459","v":0},{"$f":"_xll.SNT.StockInst(建玉一覧取得!C459,\"前日終値\")","v":"=SNT.StockInst(建玉一覧取得!C459,\"前日終値\") => 銘柄コードが不正です"},{"$f":"_xll.SNT.StockInstDetail(建玉一覧取得!C459,\"値幅上限値\")","v":"=SNT.StockInstDetail(建玉一覧取得!C459,\"値幅上限値\") => 銘柄コードが不正です"},{"$f":"_xll.SNT.StockInstDetail(建玉一覧取得!C459,\"値幅下限値\")","v":"=SNT.StockInstDetail(建玉一覧取得!C459,\"値幅下限値\") => 銘柄コードが不正です"},{"$f":"ROUND(IFERROR(SUM((制限値幅取得!F454-制限値幅取得!E454)*建玉一覧取得!$X$6+制限値幅取得!E454),\"\"),)","v":{"$error":"#VALUE!"}},{"$f":"ROUND(IFERROR(SUM((制限値幅取得!G454-制限値幅取得!E454)*建玉一覧取得!$X$6+制限値幅取得!E454),\"\"),)","v":{"$error":"#VALUE!"}}]
[null,451,{"$f":"建玉一覧取得!C460","v":0},{"$f":"建玉一覧取得!D460","v":0},{"$f":"_xll.SNT.StockInst(建玉一覧取得!C460,\"前日終値\")","v":"=SNT.StockInst(建玉一覧取得!C460,\"前日終値\") => 銘柄コードが不正です"},{"$f":"_xll.SNT.StockInstDetail(建玉一覧取得!C460,\"値幅上限値\")","v":"=SNT.StockInstDetail(建玉一覧取得!C460,\"値幅上限値\") => 銘柄コードが不正です"},{"$f":"_xll.SNT.StockInstDetail(建玉一覧取得!C460,\"値幅下限値\")","v":"=SNT.StockInstDetail(建玉一覧取得!C460,\"値幅下限値\") => 銘柄コードが不正です"},{"$f":"ROUND(IFERROR(SUM((制限値幅取得!F455-制限値幅取得!E455)*建玉一覧取得!$X$6+制限値幅取得!E455),\"\"),)","v":{"$error":"#VALUE!"}},{"$f":"ROUND(IFERROR(SUM((制限値幅取得!G455-制限値幅取得!E455)*建玉一覧取得!$X$6+制限値幅取得!E455),\"\"),)","v":{"$error":"#VALUE!"}}]
[null,452,{"$f":"建玉一覧取得!C461","v":0},{"$f":"建玉一覧取得!D461","v":0},{"$f":"_xll.SNT.StockInst(建玉一覧取得!C461,\"前日終値\")","v":"=SNT.StockInst(建玉一覧取得!C461,\"前日終値\") => 銘柄コードが不正です"},{"$f":"_xll.SNT.StockInstDetail(建玉一覧取得!C461,\"値幅上限値\")","v":"=SNT.StockInstDetail(建玉一覧取得!C461,\"値幅上限値\") => 銘柄コードが不正です"},{"$f":"_xll.SNT.StockInstDetail(建玉一覧取得!C461,\"値幅下限値\")","v":"=SNT.StockInstDetail(建玉一覧取得!C461,\"値幅下限値\") => 銘柄コードが不正です"},{"$f":"ROUND(IFERROR(SUM((制限値幅取得!F456-制限値幅取得!E456)*建玉一覧取得!$X$6+制限値幅取得!E456),\"\"),)","v":{"$error":"#VALUE!"}},{"$f":"ROUND(IFERROR(SUM((制限値幅取得!G456-制限値幅取得!E456)*建玉一覧取得!$X$6+制限値幅取得!E456),\"\"),)","v":{"$error":"#VALUE!"}}]
[null,453,{"$f":"建玉一覧取得!C462","v":0},{"$f":"建玉一覧取得!D462","v":0},{"$f":"_xll.SNT.StockInst(建玉一覧取得!C462,\"前日終値\")","v":"=SNT.StockInst(建玉一覧取得!C462,\"前日終値\") => 銘柄コードが不正です"},{"$f":"_xll.SNT.StockInstDetail(建玉一覧取得!C462,\"値幅上限値\")","v":"=SNT.StockInstDetail(建玉一覧取得!C462,\"値幅上限値\") => 銘柄コードが不正です"},{"$f":"_xll.SNT.StockInstDetail(建玉一覧取得!C462,\"値幅下限値\")","v":"=SNT.StockInstDetail(建玉一覧取得!C462,\"値幅下限値\") => 銘柄コードが不正です"},{"$f":"ROUND(IFERROR(SUM((制限値幅取得!F457-制限値幅取得!E457)*建玉一覧取得!$X$6+制限値幅取得!E457),\"\"),)","v":{"$error":"#VALUE!"}},{"$f":"ROUND(IFERROR(SUM((制限値幅取得!G457-制限値幅取得!E457)*建玉一覧取得!$X$6+制限値幅取得!E457),\"\"),)","v":{"$error":"#VALUE!"}}]
[null,454,{"$f":"建玉一覧取得!C463","v":0},{"$f":"建玉一覧取得!D463","v":0},{"$f":"_xll.SNT.StockInst(建玉一覧取得!C463,\"前日終値\")","v":"=SNT.StockInst(建玉一覧取得!C463,\"前日終値\") => 銘柄コードが不正です"},{"$f":"_xll.SNT.StockInstDetail(建玉一覧取得!C463,\"値幅上限値\")","v":"=SNT.StockInstDetail(建玉一覧取得!C463,\"値幅上限値\") => 銘柄コードが不正です"},{"$f":"_xll.SNT.StockInstDetail(建玉一覧取得!C463,\"値幅下限値\")","v":"=SNT.StockInstDetail(建玉一覧取得!C463,\"値幅下限値\") => 銘柄コードが不正です"},{"$f":"ROUND(IFERROR(SUM((制限値幅取得!F458-制限値幅取得!E458)*建玉一覧取得!$X$6+制限値幅取得!E458),\"\"),)","v":{"$error":"#VALUE!"}},{"$f":"ROUND(IFERROR(SUM((制限値幅取得!G458-制限値幅取得!E458)*建玉一覧取得!$X$6+制限値幅取得!E458),\"\"),)","v":{"$error":"#VALUE!"}}]
[null,455,{"$f":"建玉一覧取得!C464","v":0},{"$f":"建玉一覧取得!D464","v":0},{"$f":"_xll.SNT.StockInst(建玉一覧取得!C464,\"前日終値\")","v":"=SNT.StockInst(建玉一覧取得!C464,\"前日終値\") => 銘柄コードが不正です"},{"$f":"_xll.SNT.StockInstDetail(建玉一覧取得!C464,\"値幅上限値\")","v":"=SNT.StockInstDetail(建玉一覧取得!C464,\"値幅上限値\") => 銘柄コードが不正です"},{"$f":"_xll.SNT.StockInstDetail(建玉一覧取得!C464,\"値幅下限値\")","v":"=SNT.StockInstDetail(建玉一覧取得!C464,\"値幅下限値\") => 銘柄コードが不正です"},{"$f":"ROUND(IFERROR(SUM((制限値幅取得!F459-制限値幅取得!E459)*建玉一覧取得!$X$6+制限値幅取得!E459),\"\"),)","v":{"$error":"#VALUE!"}},{"$f":"ROUND(IFERROR(SUM((制限値幅取得!G459-制限値幅取得!E459)*建玉一覧取得!$X$6+制限値幅取得!E459),\"\"),)","v":{"$error":"#VALUE!"}}]
[null,456,{"$f":"建玉一覧取得!C465","v":0},{"$f":"建玉一覧取得!D465","v":0},{"$f":"_xll.SNT.StockInst(建玉一覧取得!C465,\"前日終値\")","v":"=SNT.StockInst(建玉一覧取得!C465,\"前日終値\") => 銘柄コードが不正です"},{"$f":"_xll.SNT.StockInstDetail(建玉一覧取得!C465,\"値幅上限値\")","v":"=SNT.StockInstDetail(建玉一覧取得!C465,\"値幅上限値\") => 銘柄コードが不正です"},{"$f":"_xll.SNT.StockInstDetail(建玉一覧取得!C465,\"値幅下限値\")","v":"=SNT.StockInstDetail(建玉一覧取得!C465,\"値幅下限値\") => 銘柄コードが不正です"},{"$f":"ROUND(IFERROR(SUM((制限値幅取得!F460-制限値幅取得!E460)*建玉一覧取得!$X$6+制限値幅取得!E460),\"\"),)","v":{"$error":"#VALUE!"}},{"$f":"ROUND(IFERROR(SUM((制限値幅取得!G460-制限値幅取得!E460)*建玉一覧取得!$X$6+制限値幅取得!E460),\"\"),)","v":{"$error":"#VALUE!"}}]
[null,457,{"$f":"建玉一覧取得!C466","v":0},{"$f":"建玉一覧取得!D466","v":0},{"$f":"_xll.SNT.StockInst(建玉一覧取得!C466,\"前日終値\")","v":"=SNT.StockInst(建玉一覧取得!C466,\"前日終値\") => 銘柄コードが不正です"},{"$f":"_xll.SNT.StockInstDetail(建玉一覧取得!C466,\"値幅上限値\")","v":"=SNT.StockInstDetail(建玉一覧取得!C466,\"値幅上限値\") => 銘柄コードが不正です"},{"$f":"_xll.SNT.StockInstDetail(建玉一覧取得!C466,\"値幅下限値\")","v":"=SNT.StockInstDetail(建玉一覧取得!C466,\"値幅下限値\") => 銘柄コードが不正です"},{"$f":"ROUND(IFERROR(SUM((制限値幅取得!F461-制限値幅取得!E461)*建玉一覧取得!$X$6+制限値幅取得!E461),\"\"),)","v":{"$error":"#VALUE!"}},{"$f":"ROUND(IFERROR(SUM((制限値幅取得!G461-制限値幅取得!E461)*建玉一覧取得!$X$6+制限値幅取得!E461),\"\"),)","v":{"$error":"#VALUE!"}}]
[null,458,{"$f":"建玉一覧取得!C467","v":0},{"$f":"建玉一覧取得!D467","v":0},{"$f":"_xll.SNT.StockInst(建玉一覧取得!C467,\"前日終値\")","v":"=SNT.StockInst(建玉一覧取得!C467,\"前日終値\") => 銘柄コードが不正です"},{"$f":"_xll.SNT.StockInstDetail(建玉一覧取得!C467,\"値幅上限値\")","v":"=SNT.StockInstDetail(建玉一覧取得!C467,\"値幅上限値\") => 銘柄コードが不正です"},{"$f":"_xll.SNT.StockInstDetail(建玉一覧取得!C467,\"値幅下限値\")","v":"=SNT.StockInstDetail(建玉一覧取得!C467,\"値幅下限値\") => 銘柄コードが不正です"},{"$f":"ROUND(IFERROR(SUM((制限値幅取得!F462-制限値幅取得!E462)*建玉一覧取得!$X$6+制限値幅取得!E462),\"\"),)","v":{"$error":"#VALUE!"}},{"$f":"ROUND(IFERROR(SUM((制限値幅取得!G462-制限値幅取得!E462)*建玉一覧取得!$X$6+制限値幅取得!E462),\"\"),)","v":{"$error":"#VALUE!"}}]
[null,459,{"$f":"建玉一覧取得!C468","v":0},{"$f":"建玉一覧取得!D468","v":0},{"$f":"_xll.SNT.StockInst(建玉一覧取得!C468,\"前日終値\")","v":"=SNT.StockInst(建玉一覧取得!C468,\"前日終値\") => 銘柄コードが不正です"},{"$f":"_xll.SNT.StockInstDetail(建玉一覧取得!C468,\"値幅上限値\")","v":"=SNT.StockInstDetail(建玉一覧取得!C468,\"値幅上限値\") => 銘柄コードが不正です"},{"$f":"_xll.SNT.StockInstDetail(建玉一覧取得!C468,\"値幅下限値\")","v":"=SNT.StockInstDetail(建玉一覧取得!C468,\"値幅下限値\") => 銘柄コードが不正です"},{"$f":"ROUND(IFERROR(SUM((制限値幅取得!F463-制限値幅取得!E463)*建玉一覧取得!$X$6+制限値幅取得!E463),\"\"),)","v":{"$error":"#VALUE!"}},{"$f":"ROUND(IFERROR(SUM((制限値幅取得!G463-制限値幅取得!E463)*建玉一覧取得!$X$6+制限値幅取得!E463),\"\"),)","v":{"$error":"#VALUE!"}}]
[null,460,{"$f":"建玉一覧取得!C469","v":0},{"$f":"建玉一覧取得!D469","v":0},{"$f":"_xll.SNT.StockInst(建玉一覧取得!C469,\"前日終値\")","v":"=SNT.StockInst(建玉一覧取得!C469,\"前日終値\") => 銘柄コードが不正です"},{"$f":"_xll.SNT.StockInstDetail(建玉一覧取得!C469,\"値幅上限値\")","v":"=SNT.StockInstDetail(建玉一覧取得!C469,\"値幅上限値\") => 銘柄コードが不正です"},{"$f":"_xll.SNT.StockInstDetail(建玉一覧取得!C469,\"値幅下限値\")","v":"=SNT.StockInstDetail(建玉一覧取得!C469,\"値幅下限値\") => 銘柄コードが不正です"},{"$f":"ROUND(IFERROR(SUM((制限値幅取得!F464-制限値幅取得!E464)*建玉一覧取得!$X$6+制限値幅取得!E464),\"\"),)","v":{"$error":"#VALUE!"}},{"$f":"ROUND(IFERROR(SUM((制限値幅取得!G464-制限値幅取得!E464)*建玉一覧取得!$X$6+制限値幅取得!E464),\"\"),)","v":{"$error":"#VALUE!"}}]
[null,461,{"$f":"建玉一覧取得!C470","v":0},{"$f":"建玉一覧取得!D470","v":0},{"$f":"_xll.SNT.StockInst(建玉一覧取得!C470,\"前日終値\")","v":"=SNT.StockInst(建玉一覧取得!C470,\"前日終値\") => 銘柄コードが不正です"},{"$f":"_xll.SNT.StockInstDetail(建玉一覧取得!C470,\"値幅上限値\")","v":"=SNT.StockInstDetail(建玉一覧取得!C470,\"値幅上限値\") => 銘柄コードが不正です"},{"$f":"_xll.SNT.StockInstDetail(建玉一覧取得!C470,\"値幅下限値\")","v":"=SNT.StockInstDetail(建玉一覧取得!C470,\"値幅下限値\") => 銘柄コードが不正です"},{"$f":"ROUND(IFERROR(SUM((制限値幅取得!F465-制限値幅取得!E465)*建玉一覧取得!$X$6+制限値幅取得!E465),\"\"),)","v":{"$error":"#VALUE!"}},{"$f":"ROUND(IFERROR(SUM((制限値幅取得!G465-制限値幅取得!E465)*建玉一覧取得!$X$6+制限値幅取得!E465),\"\"),)","v":{"$error":"#VALUE!"}}]
[null,462,{"$f":"建玉一覧取得!C471","v":0},{"$f":"建玉一覧取得!D471","v":0},{"$f":"_xll.SNT.StockInst(建玉一覧取得!C471,\"前日終値\")","v":"=SNT.StockInst(建玉一覧取得!C471,\"前日終値\") => 銘柄コードが不正です"},{"$f":"_xll.SNT.StockInstDetail(建玉一覧取得!C471,\"値幅上限値\")","v":"=SNT.StockInstDetail(建玉一覧取得!C471,\"値幅上限値\") => 銘柄コードが不正です"},{"$f":"_xll.SNT.StockInstDetail(建玉一覧取得!C471,\"値幅下限値\")","v":"=SNT.StockInstDetail(建玉一覧取得!C471,\"値幅下限値\") => 銘柄コードが不正です"},{"$f":"ROUND(IFERROR(SUM((制限値幅取得!F466-制限値幅取得!E466)*建玉一覧取得!$X$6+制限値幅取得!E466),\"\"),)","v":{"$error":"#VALUE!"}},{"$f":"ROUND(IFERROR(SUM((制限値幅取得!G466-制限値幅取得!E466)*建玉一覧取得!$X$6+制限値幅取得!E466),\"\"),)","v":{"$error":"#VALUE!"}}]
[null,463,{"$f":"建玉一覧取得!C472","v":0},{"$f":"建玉一覧取得!D472","v":0},{"$f":"_xll.SNT.StockInst(建玉一覧取得!C472,\"前日終値\")","v":"=SNT.StockInst(建玉一覧取得!C472,\"前日終値\") => 銘柄コードが不正です"},{"$f":"_xll.SNT.StockInstDetail(建玉一覧取得!C472,\"値幅上限値\")","v":"=SNT.StockInstDetail(建玉一覧取得!C472,\"値幅上限値\") => 銘柄コードが不正です"},{"$f":"_xll.SNT.StockInstDetail(建玉一覧取得!C472,\"値幅下限値\")","v":"=SNT.StockInstDetail(建玉一覧取得!C472,\"値幅下限値\") => 銘柄コードが不正です"},{"$f":"ROUND(IFERROR(SUM((制限値幅取得!F467-制限値幅取得!E467)*建玉一覧取得!$X$6+制限値幅取得!E467),\"\"),)","v":{"$error":"#VALUE!"}},{"$f":"ROUND(IFERROR(SUM((制限値幅取得!G467-制限値幅取得!E467)*建玉一覧取得!$X$6+制限値幅取得!E467),\"\"),)","v":{"$error":"#VALUE!"}}]
[null,464,{"$f":"建玉一覧取得!C473","v":0},{"$f":"建玉一覧取得!D473","v":0},{"$f":"_xll.SNT.StockInst(建玉一覧取得!C473,\"前日終値\")","v":"=SNT.StockInst(建玉一覧取得!C473,\"前日終値\") => 銘柄コードが不正です"},{"$f":"_xll.SNT.StockInstDetail(建玉一覧取得!C473,\"値幅上限値\")","v":"=SNT.StockInstDetail(建玉一覧取得!C473,\"値幅上限値\") => 銘柄コードが不正です"},{"$f":"_xll.SNT.StockInstDetail(建玉一覧取得!C473,\"値幅下限値\")","v":"=SNT.StockInstDetail(建玉一覧取得!C473,\"値幅下限値\") => 銘柄コードが不正です"},{"$f":"ROUND(IFERROR(SUM((制限値幅取得!F468-制限値幅取得!E468)*建玉一覧取得!$X$6+制限値幅取得!E468),\"\"),)","v":{"$error":"#VALUE!"}},{"$f":"ROUND(IFERROR(SUM((制限値幅取得!G468-制限値幅取得!E468)*建玉一覧取得!$X$6+制限値幅取得!E468),\"\"),)","v":{"$error":"#VALUE!"}}]
[null,465,{"$f":"建玉一覧取得!C474","v":0},{"$f":"建玉一覧取得!D474","v":0},{"$f":"_xll.SNT.StockInst(建玉一覧取得!C474,\"前日終値\")","v":"=SNT.StockInst(建玉一覧取得!C474,\"前日終値\") => 銘柄コードが不正です"},{"$f":"_xll.SNT.StockInstDetail(建玉一覧取得!C474,\"値幅上限値\")","v":"=SNT.StockInstDetail(建玉一覧取得!C474,\"値幅上限値\") => 銘柄コードが不正です"},{"$f":"_xll.SNT.StockInstDetail(建玉一覧取得!C474,\"値幅下限値\")","v":"=SNT.StockInstDetail(建玉一覧取得!C474,\"値幅下限値\") => 銘柄コードが不正です"},{"$f":"ROUND(IFERROR(SUM((制限値幅取得!F469-制限値幅取得!E469)*建玉一覧取得!$X$6+制限値幅取得!E469),\"\"),)","v":{"$error":"#VALUE!"}},{"$f":"ROUND(IFERROR(SUM((制限値幅取得!G469-制限値幅取得!E469)*建玉一覧取得!$X$6+制限値幅取得!E469),\"\"),)","v":{"$error":"#VALUE!"}}]
[null,466,{"$f":"建玉一覧取得!C475","v":0},{"$f":"建玉一覧取得!D475","v":0},{"$f":"_xll.SNT.StockInst(建玉一覧取得!C475,\"前日終値\")","v":"=SNT.StockInst(建玉一覧取得!C475,\"前日終値\") => 銘柄コードが不正です"},{"$f":"_xll.SNT.StockInstDetail(建玉一覧取得!C475,\"値幅上限値\")","v":"=SNT.StockInstDetail(建玉一覧取得!C475,\"値幅上限値\") => 銘柄コードが不正です"},{"$f":"_xll.SNT.StockInstDetail(建玉一覧取得!C475,\"値幅下限値\")","v":"=SNT.StockInstDetail(建玉一覧取得!C475,\"値幅下限値\") => 銘柄コードが不正です"},{"$f":"ROUND(IFERROR(SUM((制限値幅取得!F470-制限値幅取得!E470)*建玉一覧取得!$X$6+制限値幅取得!E470),\"\"),)","v":{"$error":"#VALUE!"}},{"$f":"ROUND(IFERROR(SUM((制限値幅取得!G470-制限値幅取得!E470)*建玉一覧取得!$X$6+制限値幅取得!E470),\"\"),)","v":{"$error":"#VALUE!"}}]
[null,467,{"$f":"建玉一覧取得!C476","v":0},{"$f":"建玉一覧取得!D476","v":0},{"$f":"_xll.SNT.StockInst(建玉一覧取得!C476,\"前日終値\")","v":"=SNT.StockInst(建玉一覧取得!C476,\"前日終値\") => 銘柄コードが不正です"},{"$f":"_xll.SNT.StockInstDetail(建玉一覧取得!C476,\"値幅上限値\")","v":"=SNT.StockInstDetail(建玉一覧取得!C476,\"値幅上限値\") => 銘柄コードが不正です"},{"$f":"_xll.SNT.StockInstDetail(建玉一覧取得!C476,\"値幅下限値\")","v":"=SNT.StockInstDetail(建玉一覧取得!C476,\"値幅下限値\") => 銘柄コードが不正です"},{"$f":"ROUND(IFERROR(SUM((制限値幅取得!F471-制限値幅取得!E471)*建玉一覧取得!$X$6+制限値幅取得!E471),\"\"),)","v":{"$error":"#VALUE!"}},{"$f":"ROUND(IFERROR(SUM((制限値幅取得!G471-制限値幅取得!E471)*建玉一覧取得!$X$6+制限値幅取得!E471),\"\"),)","v":{"$error":"#VALUE!"}}]
[null,468,{"$f":"建玉一覧取得!C477","v":0},{"$f":"建玉一覧取得!D477","v":0},{"$f":"_xll.SNT.StockInst(建玉一覧取得!C477,\"前日終値\")","v":"=SNT.StockInst(建玉一覧取得!C477,\"前日終値\") => 銘柄コードが不正です"},{"$f":"_xll.SNT.StockInstDetail(建玉一覧取得!C477,\"値幅上限値\")","v":"=SNT.StockInstDetail(建玉一覧取得!C477,\"値幅上限値\") => 銘柄コードが不正です"},{"$f":"_xll.SNT.StockInstDetail(建玉一覧取得!C477,\"値幅下限値\")","v":"=SNT.StockInstDetail(建玉一覧取得!C477,\"値幅下限値\") => 銘柄コードが不正です"},{"$f":"ROUND(IFERROR(SUM((制限値幅取得!F472-制限値幅取得!E472)*建玉一覧取得!$X$6+制限値幅取得!E472),\"\"),)","v":{"$error":"#VALUE!"}},{"$f":"ROUND(IFERROR(SUM((制限値幅取得!G472-制限値幅取得!E472)*建玉一覧取得!$X$6+制限値幅取得!E472),\"\"),)","v":{"$error":"#VALUE!"}}]
[null,469,{"$f":"建玉一覧取得!C478","v":0},{"$f":"建玉一覧取得!D478","v":0},{"$f":"_xll.SNT.StockInst(建玉一覧取得!C478,\"前日終値\")","v":"=SNT.StockInst(建玉一覧取得!C478,\"前日終値\") => 銘柄コードが不正です"},{"$f":"_xll.SNT.StockInstDetail(建玉一覧取得!C478,\"値幅上限値\")","v":"=SNT.StockInstDetail(建玉一覧取得!C478,\"値幅上限値\") => 銘柄コードが不正です"},{"$f":"_xll.SNT.StockInstDetail(建玉一覧取得!C478,\"値幅下限値\")","v":"=SNT.StockInstDetail(建玉一覧取得!C478,\"値幅下限値\") => 銘柄コードが不正です"},{"$f":"ROUND(IFERROR(SUM((制限値幅取得!F473-制限値幅取得!E473)*建玉一覧取得!$X$6+制限値幅取得!E473),\"\"),)","v":{"$error":"#VALUE!"}},{"$f":"ROUND(IFERROR(SUM((制限値幅取得!G473-制限値幅取得!E473)*建玉一覧取得!$X$6+制限値幅取得!E473),\"\"),)","v":{"$error":"#VALUE!"}}]
[null,470,{"$f":"建玉一覧取得!C479","v":0},{"$f":"建玉一覧取得!D479","v":0},{"$f":"_xll.SNT.StockInst(建玉一覧取得!C479,\"前日終値\")","v":"=SNT.StockInst(建玉一覧取得!C479,\"前日終値\") => 銘柄コードが不正です"},{"$f":"_xll.SNT.StockInstDetail(建玉一覧取得!C479,\"値幅上限値\")","v":"=SNT.StockInstDetail(建玉一覧取得!C479,\"値幅上限値\") => 銘柄コードが不正です"},{"$f":"_xll.SNT.StockInstDetail(建玉一覧取得!C479,\"値幅下限値\")","v":"=SNT.StockInstDetail(建玉一覧取得!C479,\"値幅下限値\") => 銘柄コードが不正です"},{"$f":"ROUND(IFERROR(SUM((制限値幅取得!F474-制限値幅取得!E474)*建玉一覧取得!$X$6+制限値幅取得!E474),\"\"),)","v":{"$error":"#VALUE!"}},{"$f":"ROUND(IFERROR(SUM((制限値幅取得!G474-制限値幅取得!E474)*建玉一覧取得!$X$6+制限値幅取得!E474),\"\"),)","v":{"$error":"#VALUE!"}}]
[null,471,{"$f":"建玉一覧取得!C480","v":0},{"$f":"建玉一覧取得!D480","v":0},{"$f":"_xll.SNT.StockInst(建玉一覧取得!C480,\"前日終値\")","v":"=SNT.StockInst(建玉一覧取得!C480,\"前日終値\") => 銘柄コードが不正です"},{"$f":"_xll.SNT.StockInstDetail(建玉一覧取得!C480,\"値幅上限値\")","v":"=SNT.StockInstDetail(建玉一覧取得!C480,\"値幅上限値\") => 銘柄コードが不正です"},{"$f":"_xll.SNT.StockInstDetail(建玉一覧取得!C480,\"値幅下限値\")","v":"=SNT.StockInstDetail(建玉一覧取得!C480,\"値幅下限値\") => 銘柄コードが不正です"},{"$f":"ROUND(IFERROR(SUM((制限値幅取得!F475-制限値幅取得!E475)*建玉一覧取得!$X$6+制限値幅取得!E475),\"\"),)","v":{"$error":"#VALUE!"}},{"$f":"ROUND(IFERROR(SUM((制限値幅取得!G475-制限値幅取得!E475)*建玉一覧取得!$X$6+制限値幅取得!E475),\"\"),)","v":{"$error":"#VALUE!"}}]
[null,472,{"$f":"建玉一覧取得!C481","v":0},{"$f":"建玉一覧取得!D481","v":0},{"$f":"_xll.SNT.StockInst(建玉一覧取得!C481,\"前日終値\")","v":"=SNT.StockInst(建玉一覧取得!C481,\"前日終値\") => 銘柄コードが不正です"},{"$f":"_xll.SNT.StockInstDetail(建玉一覧取得!C481,\"値幅上限値\")","v":"=SNT.StockInstDetail(建玉一覧取得!C481,\"値幅上限値\") => 銘柄コードが不正です"},{"$f":"_xll.SNT.StockInstDetail(建玉一覧取得!C481,\"値幅下限値\")","v":"=SNT.StockInstDetail(建玉一覧取得!C481,\"値幅下限値\") => 銘柄コードが不正です"},{"$f":"ROUND(IFERROR(SUM((制限値幅取得!F476-制限値幅取得!E476)*建玉一覧取得!$X$6+制限値幅取得!E476),\"\"),)","v":{"$error":"#VALUE!"}},{"$f":"ROUND(IFERROR(SUM((制限値幅取得!G476-制限値幅取得!E476)*建玉一覧取得!$X$6+制限値幅取得!E476),\"\"),)","v":{"$error":"#VALUE!"}}]
[null,473,{"$f":"建玉一覧取得!C482","v":0},{"$f":"建玉一覧取得!D482","v":0},{"$f":"_xll.SNT.StockInst(建玉一覧取得!C482,\"前日終値\")","v":"=SNT.StockInst(建玉一覧取得!C482,\"前日終値\") => 銘柄コードが不正です"},{"$f":"_xll.SNT.StockInstDetail(建玉一覧取得!C482,\"値幅上限値\")","v":"=SNT.StockInstDetail(建玉一覧取得!C482,\"値幅上限値\") => 銘柄コードが不正です"},{"$f":"_xll.SNT.StockInstDetail(建玉一覧取得!C482,\"値幅下限値\")","v":"=SNT.StockInstDetail(建玉一覧取得!C482,\"値幅下限値\") => 銘柄コードが不正です"},{"$f":"ROUND(IFERROR(SUM((制限値幅取得!F477-制限値幅取得!E477)*建玉一覧取得!$X$6+制限値幅取得!E477),\"\"),)","v":{"$error":"#VALUE!"}},{"$f":"ROUND(IFERROR(SUM((制限値幅取得!G477-制限値幅取得!E477)*建玉一覧取得!$X$6+制限値幅取得!E477),\"\"),)","v":{"$error":"#VALUE!"}}]
[null,474,{"$f":"建玉一覧取得!C483","v":0},{"$f":"建玉一覧取得!D483","v":0},{"$f":"_xll.SNT.StockInst(建玉一覧取得!C483,\"前日終値\")","v":"=SNT.StockInst(建玉一覧取得!C483,\"前日終値\") => 銘柄コードが不正です"},{"$f":"_xll.SNT.StockInstDetail(建玉一覧取得!C483,\"値幅上限値\")","v":"=SNT.StockInstDetail(建玉一覧取得!C483,\"値幅上限値\") => 銘柄コードが不正です"},{"$f":"_xll.SNT.StockInstDetail(建玉一覧取得!C483,\"値幅下限値\")","v":"=SNT.StockInstDetail(建玉一覧取得!C483,\"値幅下限値\") => 銘柄コードが不正です"},{"$f":"ROUND(IFERROR(SUM((制限値幅取得!F478-制限値幅取得!E478)*建玉一覧取得!$X$6+制限値幅取得!E478),\"\"),)","v":{"$error":"#VALUE!"}},{"$f":"ROUND(IFERROR(SUM((制限値幅取得!G478-制限値幅取得!E478)*建玉一覧取得!$X$6+制限値幅取得!E478),\"\"),)","v":{"$error":"#VALUE!"}}]
[null,475,{"$f":"建玉一覧取得!C484","v":0},{"$f":"建玉一覧取得!D484","v":0},{"$f":"_xll.SNT.StockInst(建玉一覧取得!C484,\"前日終値\")","v":"=SNT.StockInst(建玉一覧取得!C484,\"前日終値\") => 銘柄コードが不正です"},{"$f":"_xll.SNT.StockInstDetail(建玉一覧取得!C484,\"値幅上限値\")","v":"=SNT.StockInstDetail(建玉一覧取得!C484,\"値幅上限値\") => 銘柄コードが不正です"},{"$f":"_xll.SNT.StockInstDetail(建玉一覧取得!C484,\"値幅下限値\")","v":"=SNT.StockInstDetail(建玉一覧取得!C484,\"値幅下限値\") => 銘柄コードが不正です"},{"$f":"ROUND(IFERROR(SUM((制限値幅取得!F479-制限値幅取得!E479)*建玉一覧取得!$X$6+制限値幅取得!E479),\"\"),)","v":{"$error":"#VALUE!"}},{"$f":"ROUND(IFERROR(SUM((制限値幅取得!G479-制限値幅取得!E479)*建玉一覧取得!$X$6+制限値幅取得!E479),\"\"),)","v":{"$error":"#VALUE!"}}]
[null,476,{"$f":"建玉一覧取得!C485","v":0},{"$f":"建玉一覧取得!D485","v":0},{"$f":"_xll.SNT.StockInst(建玉一覧取得!C485,\"前日終値\")","v":"=SNT.StockInst(建玉一覧取得!C485,\"前日終値\") => 銘柄コードが不正です"},{"$f":"_xll.SNT.StockInstDetail(建玉一覧取得!C485,\"値幅上限値\")","v":"=SNT.StockInstDetail(建玉一覧取得!C485,\"値幅上限値\") => 銘柄コードが不正です"},{"$f":"_xll.SNT.StockInstDetail(建玉一覧取得!C485,\"値幅下限値\")","v":"=SNT.StockInstDetail(建玉一覧取得!C485,\"値幅下限値\") => 銘柄コードが不正です"},{"$f":"ROUND(IFERROR(SUM((制限値幅取得!F480-制限値幅取得!E480)*建玉一覧取得!$X$6+制限値幅取得!E480),\"\"),)","v":{"$error":"#VALUE!"}},{"$f":"ROUND(IFERROR(SUM((制限値幅取得!G480-制限値幅取得!E480)*建玉一覧取得!$X$6+制限値幅取得!E480),\"\"),)","v":{"$error":"#VALUE!"}}]
[null,477,{"$f":"建玉一覧取得!C486","v":0},{"$f":"建玉一覧取得!D486","v":0},{"$f":"_xll.SNT.StockInst(建玉一覧取得!C486,\"前日終値\")","v":"=SNT.StockInst(建玉一覧取得!C486,\"前日終値\") => 銘柄コードが不正です"},{"$f":"_xll.SNT.StockInstDetail(建玉一覧取得!C486,\"値幅上限値\")","v":"=SNT.StockInstDetail(建玉一覧取得!C486,\"値幅上限値\") => 銘柄コードが不正です"},{"$f":"_xll.SNT.StockInstDetail(建玉一覧取得!C486,\"値幅下限値\")","v":"=SNT.StockInstDetail(建玉一覧取得!C486,\"値幅下限値\") => 銘柄コードが不正です"},{"$f":"ROUND(IFERROR(SUM((制限値幅取得!F481-制限値幅取得!E481)*建玉一覧取得!$X$6+制限値幅取得!E481),\"\"),)","v":{"$error":"#VALUE!"}},{"$f":"ROUND(IFERROR(SUM((制限値幅取得!G481-制限値幅取得!E481)*建玉一覧取得!$X$6+制限値幅取得!E481),\"\"),)","v":{"$error":"#VALUE!"}}]
[null,478,{"$f":"建玉一覧取得!C487","v":0},{"$f":"建玉一覧取得!D487","v":0},{"$f":"_xll.SNT.StockInst(建玉一覧取得!C487,\"前日終値\")","v":"=SNT.StockInst(建玉一覧取得!C487,\"前日終値\") => 銘柄コードが不正です"},{"$f":"_xll.SNT.StockInstDetail(建玉一覧取得!C487,\"値幅上限値\")","v":"=SNT.StockInstDetail(建玉一覧取得!C487,\"値幅上限値\") => 銘柄コードが不正です"},{"$f":"_xll.SNT.StockInstDetail(建玉一覧取得!C487,\"値幅下限値\")","v":"=SNT.StockInstDetail(建玉一覧取得!C487,\"値幅下限値\") => 銘柄コードが不正です"},{"$f":"ROUND(IFERROR(SUM((制限値幅取得!F482-制限値幅取得!E482)*建玉一覧取得!$X$6+制限値幅取得!E482),\"\"),)","v":{"$error":"#VALUE!"}},{"$f":"ROUND(IFERROR(SUM((制限値幅取得!G482-制限値幅取得!E482)*建玉一覧取得!$X$6+制限値幅取得!E482),\"\"),)","v":{"$error":"#VALUE!"}}]
[null,479,{"$f":"建玉一覧取得!C488","v":0},{"$f":"建玉一覧取得!D488","v":0},{"$f":"_xll.SNT.StockInst(建玉一覧取得!C488,\"前日終値\")","v":"=SNT.StockInst(建玉一覧取得!C488,\"前日終値\") => 銘柄コードが不正です"},{"$f":"_xll.SNT.StockInstDetail(建玉一覧取得!C488,\"値幅上限値\")","v":"=SNT.StockInstDetail(建玉一覧取得!C488,\"値幅上限値\") => 銘柄コードが不正です"},{"$f":"_xll.SNT.StockInstDetail(建玉一覧取得!C488,\"値幅下限値\")","v":"=SNT.StockInstDetail(建玉一覧取得!C488,\"値幅下限値\") => 銘柄コードが不正です"},{"$f":"ROUND(IFERROR(SUM((制限値幅取得!F483-制限値幅取得!E483)*建玉一覧取得!$X$6+制限値幅取得!E483),\"\"),)","v":{"$error":"#VALUE!"}},{"$f":"ROUND(IFERROR(SUM((制限値幅取得!G483-制限値幅取得!E483)*建玉一覧取得!$X$6+制限値幅取得!E483),\"\"),)","v":{"$error":"#VALUE!"}}]
[null,480,{"$f":"建玉一覧取得!C489","v":0},{"$f":"建玉一覧取得!D489","v":0},{"$f":"_xll.SNT.StockInst(建玉一覧取得!C489,\"前日終値\")","v":"=SNT.StockInst(建玉一覧取得!C489,\"前日終値\") => 銘柄コードが不正です"},{"$f":"_xll.SNT.StockInstDetail(建玉一覧取得!C489,\"値幅上限値\")","v":"=SNT.StockInstDetail(建玉一覧取得!C489,\"値幅上限値\") => 銘柄コードが不正です"},{"$f":"_xll.SNT.StockInstDetail(建玉一覧取得!C489,\"値幅下限値\")","v":"=SNT.StockInstDetail(建玉一覧取得!C489,\"値幅下限値\") => 銘柄コードが不正です"},{"$f":"ROUND(IFERROR(SUM((制限値幅取得!F484-制限値幅取得!E484)*建玉一覧取得!$X$6+制限値幅取得!E484),\"\"),)","v":{"$error":"#VALUE!"}},{"$f":"ROUND(IFERROR(SUM((制限値幅取得!G484-制限値幅取得!E484)*建玉一覧取得!$X$6+制限値幅取得!E484),\"\"),)","v":{"$error":"#VALUE!"}}]
[null,481,{"$f":"建玉一覧取得!C490","v":0},{"$f":"建玉一覧取得!D490","v":0},{"$f":"_xll.SNT.StockInst(建玉一覧取得!C490,\"前日終値\")","v":"=SNT.StockInst(建玉一覧取得!C490,\"前日終値\") => 銘柄コードが不正です"},{"$f":"_xll.SNT.StockInstDetail(建玉一覧取得!C490,\"値幅上限値\")","v":"=SNT.StockInstDetail(建玉一覧取得!C490,\"値幅上限値\") => 銘柄コードが不正です"},{"$f":"_xll.SNT.StockInstDetail(建玉一覧取得!C490,\"値幅下限値\")","v":"=SNT.StockInstDetail(建玉一覧取得!C490,\"値幅下限値\") => 銘柄コードが不正です"},{"$f":"ROUND(IFERROR(SUM((制限値幅取得!F485-制限値幅取得!E485)*建玉一覧取得!$X$6+制限値幅取得!E485),\"\"),)","v":{"$error":"#VALUE!"}},{"$f":"ROUND(IFERROR(SUM((制限値幅取得!G485-制限値幅取得!E485)*建玉一覧取得!$X$6+制限値幅取得!E485),\"\"),)","v":{"$error":"#VALUE!"}}]
[null,482,{"$f":"建玉一覧取得!C491","v":0},{"$f":"建玉一覧取得!D491","v":0},{"$f":"_xll.SNT.StockInst(建玉一覧取得!C491,\"前日終値\")","v":"=SNT.StockInst(建玉一覧取得!C491,\"前日終値\") => 銘柄コードが不正です"},{"$f":"_xll.SNT.StockInstDetail(建玉一覧取得!C491,\"値幅上限値\")","v":"=SNT.StockInstDetail(建玉一覧取得!C491,\"値幅上限値\") => 銘柄コードが不正です"},{"$f":"_xll.SNT.StockInstDetail(建玉一覧取得!C491,\"値幅下限値\")","v":"=SNT.StockInstDetail(建玉一覧取得!C491,\"値幅下限値\") => 銘柄コードが不正です"},{"$f":"ROUND(IFERROR(SUM((制限値幅取得!F486-制限値幅取得!E486)*建玉一覧取得!$X$6+制限値幅取得!E486),\"\"),)","v":{"$error":"#VALUE!"}},{"$f":"ROUND(IFERROR(SUM((制限値幅取得!G486-制限値幅取得!E486)*建玉一覧取得!$X$6+制限値幅取得!E486),\"\"),)","v":{"$error":"#VALUE!"}}]
[null,483,{"$f":"建玉一覧取得!C492","v":0},{"$f":"建玉一覧取得!D492","v":0},{"$f":"_xll.SNT.StockInst(建玉一覧取得!C492,\"前日終値\")","v":"=SNT.StockInst(建玉一覧取得!C492,\"前日終値\") => 銘柄コードが不正です"},{"$f":"_xll.SNT.StockInstDetail(建玉一覧取得!C492,\"値幅上限値\")","v":"=SNT.StockInstDetail(建玉一覧取得!C492,\"値幅上限値\") => 銘柄コードが不正です"},{"$f":"_xll.SNT.StockInstDetail(建玉一覧取得!C492,\"値幅下限値\")","v":"=SNT.StockInstDetail(建玉一覧取得!C492,\"値幅下限値\") => 銘柄コードが不正です"},{"$f":"ROUND(IFERROR(SUM((制限値幅取得!F487-制限値幅取得!E487)*建玉一覧取得!$X$6+制限値幅取得!E487),\"\"),)","v":{"$error":"#VALUE!"}},{"$f":"ROUND(IFERROR(SUM((制限値幅取得!G487-制限値幅取得!E487)*建玉一覧取得!$X$6+制限値幅取得!E487),\"\"),)","v":{"$error":"#VALUE!"}}]
[null,484,{"$f":"建玉一覧取得!C493","v":0},{"$f":"建玉一覧取得!D493","v":0},{"$f":"_xll.SNT.StockInst(建玉一覧取得!C493,\"前日終値\")","v":"=SNT.StockInst(建玉一覧取得!C493,\"前日終値\") => 銘柄コードが不正です"},{"$f":"_xll.SNT.StockInstDetail(建玉一覧取得!C493,\"値幅上限値\")","v":"=SNT.StockInstDetail(建玉一覧取得!C493,\"値幅上限値\") => 銘柄コードが不正です"},{"$f":"_xll.SNT.StockInstDetail(建玉一覧取得!C493,\"値幅下限値\")","v":"=SNT.StockInstDetail(建玉一覧取得!C493,\"値幅下限値\") => 銘柄コードが不正です"},{"$f":"ROUND(IFERROR(SUM((制限値幅取得!F488-制限値幅取得!E488)*建玉一覧取得!$X$6+制限値幅取得!E488),\"\"),)","v":{"$error":"#VALUE!"}},{"$f":"ROUND(IFERROR(SUM((制限値幅取得!G488-制限値幅取得!E488)*建玉一覧取得!$X$6+制限値幅取得!E488),\"\"),)","v":{"$error":"#VALUE!"}}]
[null,485,{"$f":"建玉一覧取得!C494","v":0},{"$f":"建玉一覧取得!D494","v":0},{"$f":"_xll.SNT.StockInst(建玉一覧取得!C494,\"前日終値\")","v":"=SNT.StockInst(建玉一覧取得!C494,\"前日終値\") => 銘柄コードが不正です"},{"$f":"_xll.SNT.StockInstDetail(建玉一覧取得!C494,\"値幅上限値\")","v":"=SNT.StockInstDetail(建玉一覧取得!C494,\"値幅上限値\") => 銘柄コードが不正です"},{"$f":"_xll.SNT.StockInstDetail(建玉一覧取得!C494,\"値幅下限値\")","v":"=SNT.StockInstDetail(建玉一覧取得!C494,\"値幅下限値\") => 銘柄コードが不正です"},{"$f":"ROUND(IFERROR(SUM((制限値幅取得!F489-制限値幅取得!E489)*建玉一覧取得!$X$6+制限値幅取得!E489),\"\"),)","v":{"$error":"#VALUE!"}},{"$f":"ROUND(IFERROR(SUM((制限値幅取得!G489-制限値幅取得!E489)*建玉一覧取得!$X$6+制限値幅取得!E489),\"\"),)","v":{"$error":"#VALUE!"}}]
[null,486,{"$f":"建玉一覧取得!C495","v":0},{"$f":"建玉一覧取得!D495","v":0},{"$f":"_xll.SNT.StockInst(建玉一覧取得!C495,\"前日終値\")","v":"=SNT.StockInst(建玉一覧取得!C495,\"前日終値\") => 銘柄コードが不正です"},{"$f":"_xll.SNT.StockInstDetail(建玉一覧取得!C495,\"値幅上限値\")","v":"=SNT.StockInstDetail(建玉一覧取得!C495,\"値幅上限値\") => 銘柄コードが不正です"},{"$f":"_xll.SNT.StockInstDetail(建玉一覧取得!C495,\"値幅下限値\")","v":"=SNT.StockInstDetail(建玉一覧取得!C495,\"値幅下限値\") => 銘柄コードが不正です"},{"$f":"ROUND(IFERROR(SUM((制限値幅取得!F490-制限値幅取得!E490)*建玉一覧取得!$X$6+制限値幅取得!E490),\"\"),)","v":{"$error":"#VALUE!"}},{"$f":"ROUND(IFERROR(SUM((制限値幅取得!G490-制限値幅取得!E490)*建玉一覧取得!$X$6+制限値幅取得!E490),\"\"),)","v":{"$error":"#VALUE!"}}]
[null,487,{"$f":"建玉一覧取得!C496","v":0},{"$f":"建玉一覧取得!D496","v":0},{"$f":"_xll.SNT.StockInst(建玉一覧取得!C496,\"前日終値\")","v":"=SNT.StockInst(建玉一覧取得!C496,\"前日終値\") => 銘柄コードが不正です"},{"$f":"_xll.SNT.StockInstDetail(建玉一覧取得!C496,\"値幅上限値\")","v":"=SNT.StockInstDetail(建玉一覧取得!C496,\"値幅上限値\") => 銘柄コードが不正です"},{"$f":"_xll.SNT.StockInstDetail(建玉一覧取得!C496,\"値幅下限値\")","v":"=SNT.StockInstDetail(建玉一覧取得!C496,\"値幅下限値\") => 銘柄コードが不正です"},{"$f":"ROUND(IFERROR(SUM((制限値幅取得!F491-制限値幅取得!E491)*建玉一覧取得!$X$6+制限値幅取得!E491),\"\"),)","v":{"$error":"#VALUE!"}},{"$f":"ROUND(IFERROR(SUM((制限値幅取得!G491-制限値幅取得!E491)*建玉一覧取得!$X$6+制限値幅取得!E491),\"\"),)","v":{"$error":"#VALUE!"}}]
[null,488,{"$f":"建玉一覧取得!C497","v":0},{"$f":"建玉一覧取得!D497","v":0},{"$f":"_xll.SNT.StockInst(建玉一覧取得!C497,\"前日終値\")","v":"=SNT.StockInst(建玉一覧取得!C497,\"前日終値\") => 銘柄コードが不正です"},{"$f":"_xll.SNT.StockInstDetail(建玉一覧取得!C497,\"値幅上限値\")","v":"=SNT.StockInstDetail(建玉一覧取得!C497,\"値幅上限値\") => 銘柄コードが不正です"},{"$f":"_xll.SNT.StockInstDetail(建玉一覧取得!C497,\"値幅下限値\")","v":"=SNT.StockInstDetail(建玉一覧取得!C497,\"値幅下限値\") => 銘柄コードが不正です"},{"$f":"ROUND(IFERROR(SUM((制限値幅取得!F492-制限値幅取得!E492)*建玉一覧取得!$X$6+制限値幅取得!E492),\"\"),)","v":{"$error":"#VALUE!"}},{"$f":"ROUND(IFERROR(SUM((制限値幅取得!G492-制限値幅取得!E492)*建玉一覧取得!$X$6+制限値幅取得!E492),\"\"),)","v":{"$error":"#VALUE!"}}]
[null,489,{"$f":"建玉一覧取得!C498","v":0},{"$f":"建玉一覧取得!D498","v":0},{"$f":"_xll.SNT.StockInst(建玉一覧取得!C498,\"前日終値\")","v":"=SNT.StockInst(建玉一覧取得!C498,\"前日終値\") => 銘柄コードが不正です"},{"$f":"_xll.SNT.StockInstDetail(建玉一覧取得!C498,\"値幅上限値\")","v":"=SNT.StockInstDetail(建玉一覧取得!C498,\"値幅上限値\") => 銘柄コードが不正です"},{"$f":"_xll.SNT.StockInstDetail(建玉一覧取得!C498,\"値幅下限値\")","v":"=SNT.StockInstDetail(建玉一覧取得!C498,\"値幅下限値\") => 銘柄コードが不正です"},{"$f":"ROUND(IFERROR(SUM((制限値幅取得!F493-制限値幅取得!E493)*建玉一覧取得!$X$6+制限値幅取得!E493),\"\"),)","v":{"$error":"#VALUE!"}},{"$f":"ROUND(IFERROR(SUM((制限値幅取得!G493-制限値幅取得!E493)*建玉一覧取得!$X$6+制限値幅取得!E493),\"\"),)","v":{"$error":"#VALUE!"}}]
[null,490,{"$f":"建玉一覧取得!C499","v":0},{"$f":"建玉一覧取得!D499","v":0},{"$f":"_xll.SNT.StockInst(建玉一覧取得!C499,\"前日終値\")","v":"=SNT.StockInst(建玉一覧取得!C499,\"前日終値\") => 銘柄コードが不正です"},{"$f":"_xll.SNT.StockInstDetail(建玉一覧取得!C499,\"値幅上限値\")","v":"=SNT.StockInstDetail(建玉一覧取得!C499,\"値幅上限値\") => 銘柄コードが不正です"},{"$f":"_xll.SNT.StockInstDetail(建玉一覧取得!C499,\"値幅下限値\")","v":"=SNT.StockInstDetail(建玉一覧取得!C499,\"値幅下限値\") => 銘柄コードが不正です"},{"$f":"ROUND(IFERROR(SUM((制限値幅取得!F494-制限値幅取得!E494)*建玉一覧取得!$X$6+制限値幅取得!E494),\"\"),)","v":{"$error":"#VALUE!"}},{"$f":"ROUND(IFERROR(SUM((制限値幅取得!G494-制限値幅取得!E494)*建玉一覧取得!$X$6+制限値幅取得!E494),\"\"),)","v":{"$error":"#VALUE!"}}]
[null,491,{"$f":"建玉一覧取得!C500","v":0},{"$f":"建玉一覧取得!D500","v":0},{"$f":"_xll.SNT.StockInst(建玉一覧取得!C500,\"前日終値\")","v":"=SNT.StockInst(建玉一覧取得!C500,\"前日終値\") => 銘柄コードが不正です"},{"$f":"_xll.SNT.StockInstDetail(建玉一覧取得!C500,\"値幅上限値\")","v":"=SNT.StockInstDetail(建玉一覧取得!C500,\"値幅上限値\") => 銘柄コードが不正です"},{"$f":"_xll.SNT.StockInstDetail(建玉一覧取得!C500,\"値幅下限値\")","v":"=SNT.StockInstDetail(建玉一覧取得!C500,\"値幅下限値\") => 銘柄コードが不正です"},{"$f":"ROUND(IFERROR(SUM((制限値幅取得!F495-制限値幅取得!E495)*建玉一覧取得!$X$6+制限値幅取得!E495),\"\"),)","v":{"$error":"#VALUE!"}},{"$f":"ROUND(IFERROR(SUM((制限値幅取得!G495-制限値幅取得!E495)*建玉一覧取得!$X$6+制限値幅取得!E495),\"\"),)","v":{"$error":"#VALUE!"}}]
[null,492,{"$f":"建玉一覧取得!C501","v":0},{"$f":"建玉一覧取得!D501","v":0},{"$f":"_xll.SNT.StockInst(建玉一覧取得!C501,\"前日終値\")","v":"=SNT.StockInst(建玉一覧取得!C501,\"前日終値\") => 銘柄コードが不正です"},{"$f":"_xll.SNT.StockInstDetail(建玉一覧取得!C501,\"値幅上限値\")","v":"=SNT.StockInstDetail(建玉一覧取得!C501,\"値幅上限値\") => 銘柄コードが不正です"},{"$f":"_xll.SNT.StockInstDetail(建玉一覧取得!C501,\"値幅下限値\")","v":"=SNT.StockInstDetail(建玉一覧取得!C501,\"値幅下限値\") => 銘柄コードが不正です"},{"$f":"ROUND(IFERROR(SUM((制限値幅取得!F496-制限値幅取得!E496)*建玉一覧取得!$X$6+制限値幅取得!E496),\"\"),)","v":{"$error":"#VALUE!"}},{"$f":"ROUND(IFERROR(SUM((制限値幅取得!G496-制限値幅取得!E496)*建玉一覧取得!$X$6+制限値幅取得!E496),\"\"),)","v":{"$error":"#VALUE!"}}]
[null,493,{"$f":"建玉一覧取得!C502","v":0},{"$f":"建玉一覧取得!D502","v":0},{"$f":"_xll.SNT.StockInst(建玉一覧取得!C502,\"前日終値\")","v":"=SNT.StockInst(建玉一覧取得!C502,\"前日終値\") => 銘柄コードが不正です"},{"$f":"_xll.SNT.StockInstDetail(建玉一覧取得!C502,\"値幅上限値\")","v":"=SNT.StockInstDetail(建玉一覧取得!C502,\"値幅上限値\") => 銘柄コードが不正です"},{"$f":"_xll.SNT.StockInstDetail(建玉一覧取得!C502,\"値幅下限値\")","v":"=SNT.StockInstDetail(建玉一覧取得!C502,\"値幅下限値\") => 銘柄コードが不正です"},{"$f":"ROUND(IFERROR(SUM((制限値幅取得!F497-制限値幅取得!E497)*建玉一覧取得!$X$6+制限値幅取得!E497),\"\"),)","v":{"$error":"#VALUE!"}},{"$f":"ROUND(IFERROR(SUM((制限値幅取得!G497-制限値幅取得!E497)*建玉一覧取得!$X$6+制限値幅取得!E497),\"\"),)","v":{"$error":"#VALUE!"}}]
[null,494,{"$f":"建玉一覧取得!C503","v":0},{"$f":"建玉一覧取得!D503","v":0},{"$f":"_xll.SNT.StockInst(建玉一覧取得!C503,\"前日終値\")","v":"=SNT.StockInst(建玉一覧取得!C503,\"前日終値\") => 銘柄コードが不正です"},{"$f":"_xll.SNT.StockInstDetail(建玉一覧取得!C503,\"値幅上限値\")","v":"=SNT.StockInstDetail(建玉一覧取得!C503,\"値幅上限値\") => 銘柄コードが不正です"},{"$f":"_xll.SNT.StockInstDetail(建玉一覧取得!C503,\"値幅下限値\")","v":"=SNT.StockInstDetail(建玉一覧取得!C503,\"値幅下限値\") => 銘柄コードが不正です"},{"$f":"ROUND(IFERROR(SUM((制限値幅取得!F498-制限値幅取得!E498)*建玉一覧取得!$X$6+制限値幅取得!E498),\"\"),)","v":{"$error":"#VALUE!"}},{"$f":"ROUND(IFERROR(SUM((制限値幅取得!G498-制限値幅取得!E498)*建玉一覧取得!$X$6+制限値幅取得!E498),\"\"),)","v":{"$error":"#VALUE!"}}]
[null,495,{"$f":"建玉一覧取得!C504","v":0},{"$f":"建玉一覧取得!D504","v":0},{"$f":"_xll.SNT.StockInst(建玉一覧取得!C504,\"前日終値\")","v":"=SNT.StockInst(建玉一覧取得!C504,\"前日終値\") => 銘柄コードが不正です"},{"$f":"_xll.SNT.StockInstDetail(建玉一覧取得!C504,\"値幅上限値\")","v":"=SNT.StockInstDetail(建玉一覧取得!C504,\"値幅上限値\") => 銘柄コードが不正です"},{"$f":"_xll.SNT.StockInstDetail(建玉一覧取得!C504,\"値幅下限値\")","v":"=SNT.StockInstDetail(建玉一覧取得!C504,\"値幅下限値\") => 銘柄コードが不正です"},{"$f":"ROUND(IFERROR(SUM((制限値幅取得!F499-制限値幅取得!E499)*建玉一覧取得!$X$6+制限値幅取得!E499),\"\"),)","v":{"$error":"#VALUE!"}},{"$f":"ROUND(IFERROR(SUM((制限値幅取得!G499-制限値幅取得!E499)*建玉一覧取得!$X$6+制限値幅取得!E499),\"\"),)","v":{"$error":"#VALUE!"}}]
[null,496,{"$f":"建玉一覧取得!C505","v":0},{"$f":"建玉一覧取得!D505","v":0},{"$f":"_xll.SNT.StockInst(建玉一覧取得!C505,\"前日終値\")","v":"=SNT.StockInst(建玉一覧取得!C505,\"前日終値\") => 銘柄コードが不正です"},{"$f":"_xll.SNT.StockInstDetail(建玉一覧取得!C505,\"値幅上限値\")","v":"=SNT.StockInstDetail(建玉一覧取得!C505,\"値幅上限値\") => 銘柄コードが不正です"},{"$f":"_xll.SNT.StockInstDetail(建玉一覧取得!C505,\"値幅下限値\")","v":"=SNT.StockInstDetail(建玉一覧取得!C505,\"値幅下限値\") => 銘柄コードが不正です"},{"$f":"ROUND(IFERROR(SUM((制限値幅取得!F500-制限値幅取得!E500)*建玉一覧取得!$X$6+制限値幅取得!E500),\"\"),)","v":{"$error":"#VALUE!"}},{"$f":"ROUND(IFERROR(SUM((制限値幅取得!G500-制限値幅取得!E500)*建玉一覧取得!$X$6+制限値幅取得!E500),\"\"),)","v":{"$error":"#VALUE!"}}]
[null,497,{"$f":"建玉一覧取得!C506","v":0},{"$f":"建玉一覧取得!D506","v":0},{"$f":"_xll.SNT.StockInst(建玉一覧取得!C506,\"前日終値\")","v":"=SNT.StockInst(建玉一覧取得!C506,\"前日終値\") => 銘柄コードが不正です"},{"$f":"_xll.SNT.StockInstDetail(建玉一覧取得!C506,\"値幅上限値\")","v":"=SNT.StockInstDetail(建玉一覧取得!C506,\"値幅上限値\") => 銘柄コードが不正です"},{"$f":"_xll.SNT.StockInstDetail(建玉一覧取得!C506,\"値幅下限値\")","v":"=SNT.StockInstDetail(建玉一覧取得!C506,\"値幅下限値\") => 銘柄コードが不正です"},{"$f":"ROUND(IFERROR(SUM((制限値幅取得!F501-制限値幅取得!E501)*建玉一覧取得!$X$6+制限値幅取得!E501),\"\"),)","v":{"$error":"#VALUE!"}},{"$f":"ROUND(IFERROR(SUM((制限値幅取得!G501-制限値幅取得!E501)*建玉一覧取得!$X$6+制限値幅取得!E501),\"\"),)","v":{"$error":"#VALUE!"}}]
[null,498,{"$f":"建玉一覧取得!C507","v":0},{"$f":"建玉一覧取得!D507","v":0},{"$f":"_xll.SNT.StockInst(建玉一覧取得!C507,\"前日終値\")","v":"=SNT.StockInst(建玉一覧取得!C507,\"前日終値\") => 銘柄コードが不正です"},{"$f":"_xll.SNT.StockInstDetail(建玉一覧取得!C507,\"値幅上限値\")","v":"=SNT.StockInstDetail(建玉一覧取得!C507,\"値幅上限値\") => 銘柄コードが不正です"},{"$f":"_xll.SNT.StockInstDetail(建玉一覧取得!C507,\"値幅下限値\")","v":"=SNT.StockInstDetail(建玉一覧取得!C507,\"値幅下限値\") => 銘柄コードが不正です"},{"$f":"ROUND(IFERROR(SUM((制限値幅取得!F502-制限値幅取得!E502)*建玉一覧取得!$X$6+制限値幅取得!E502),\"\"),)","v":{"$error":"#VALUE!"}},{"$f":"ROUND(IFERROR(SUM((制限値幅取得!G502-制限値幅取得!E502)*建玉一覧取得!$X$6+制限値幅取得!E502),\"\"),)","v":{"$error":"#VALUE!"}}]
[null,499,{"$f":"建玉一覧取得!C508","v":0},{"$f":"建玉一覧取得!D508","v":0},{"$f":"_xll.SNT.StockInst(建玉一覧取得!C508,\"前日終値\")","v":"=SNT.StockInst(建玉一覧取得!C508,\"前日終値\") => 銘柄コードが不正です"},{"$f":"_xll.SNT.StockInstDetail(建玉一覧取得!C508,\"値幅上限値\")","v":"=SNT.StockInstDetail(建玉一覧取得!C508,\"値幅上限値\") => 銘柄コードが不正です"},{"$f":"_xll.SNT.StockInstDetail(建玉一覧取得!C508,\"値幅下限値\")","v":"=SNT.StockInstDetail(建玉一覧取得!C508,\"値幅下限値\") => 銘柄コードが不正です"},{"$f":"ROUND(IFERROR(SUM((制限値幅取得!F503-制限値幅取得!E503)*建玉一覧取得!$X$6+制限値幅取得!E503),\"\"),)","v":{"$error":"#VALUE!"}},{"$f":"ROUND(IFERROR(SUM((制限値幅取得!G503-制限値幅取得!E503)*建玉一覧取得!$X$6+制限値幅取得!E503),\"\"),)","v":{"$error":"#VALUE!"}}]
[null,500,{"$f":"建玉一覧取得!C509","v":0},{"$f":"建玉一覧取得!D509","v":0},{"$f":"_xll.SNT.StockInst(建玉一覧取得!C509,\"前日終値\")","v":"=SNT.StockInst(建玉一覧取得!C509,\"前日終値\") => 銘柄コードが不正です"},{"$f":"_xll.SNT.StockInstDetail(建玉一覧取得!C509,\"値幅上限値\")","v":"=SNT.StockInstDetail(建玉一覧取得!C509,\"値幅上限値\") => 銘柄コードが不正です"},{"$f":"_xll.SNT.StockInstDetail(建玉一覧取得!C509,\"値幅下限値\")","v":"=SNT.StockInstDetail(建玉一覧取得!C509,\"値幅下限値\") => 銘柄コードが不正です"},{"$f":"ROUND(IFERROR(SUM((制限値幅取得!F504-制限値幅取得!E504)*建玉一覧取得!$X$6+制限値幅取得!E504),\"\"),)","v":{"$error":"#VALUE!"}},{"$f":"ROUND(IFERROR(SUM((制限値幅取得!G504-制限値幅取得!E504)*建玉一覧取得!$X$6+制限値幅取得!E504),\"\"),)","v":{"$error":"#VALUE!"}}]