{"text_format":"1","workbook":"xlsx","n_sheets":3,"sheets":["説明","RSI表示シート","RSI計算シート"],"not_rendered":{"charts":0,"images":2,"macros":1,"external_links":0,"defined_names":1,"comments":0,"pivot_tables":0},"unopened":[],"bounds":{"document_bytes":16777216,"sheet_cells":100000,"rows_first":2000,"rows_last":500,"rows_between":2000,"halvings":0,"cell_chars":16384,"cell_head_chars":4096},"cells_cut":0,"cells_raw":0,"read":"whole","date_system":"1900"}

{"sheet":"説明","index":0,"n_rows":47,"n_cols":17,"rows_kept":47,"cut":false,"hidden":false,"merged":[]}
[]
[null,"サンプルシートの説明"]
[]
[]
[]
[null,null,null,null,null,null,null,null,null,null,null,null,null,null,null,null,"■使用手順"]
[null,null,null,null,null,null,null,null,null,null,null,null,null,null,null,null,"①RSI表示シートの銘柄コード欄に調べたい銘柄コードを入力します。"]
[]
[null,null,null,null,null,null,null,null,null,null,null,null,null,null,null,null,"②RSI計算シートの足種と更新間隔を設定し、「定時取得開始」ボタンをクリックします。"]
[null,null,null,null,null,null,null,null,null,null,null,null,null,null,null,null,"　 現在のRSIが計算され、RSI表示シートに反映されます。"]
[null,null,null,null,null,null,null,null,null,null,null,null,null,null,null,null,"　※足種：1m、5m、15m、1D、1W( m=分、D=日、W=週)"]
[null,null,null,null,null,null,null,null,null,null,null,null,null,null,null,null,"　※足種設定を変更する場合はクリアボタンを押してください。(ネオトレAPIの特性上、ヒストリカルデータがセルに保持されるため)"]
[null,null,null,null,null,null,null,null,null,null,null,null,null,null,null,null,"　※更新間隔は動作の安定性を保つため、60秒以上から設定が可能"]
[]
[null,null,null,null,null,null,null,null,null,null,null,null,null,null,null,null,"③「手動更新」ボタンを押すと更新間隔の設定に関係なく、情報が更新されます。"]
[null,null,null,null,null,null,null,null,null,null,null,null,null,null,null,null,"　更新間隔を待たずに、すぐに情報を更新したい場合に使用します。"]
[]
[null,null,null,null,null,null,null,null,null,null,null,null,null,null,null,null,"④RSI表示シートの閾値を入力します。その値に達するとフラグ1が立ちます。"]
[]
[null,null,null,null,null,null,null,null,null,null,null,null,null,null,null,null,"⑤シートを閉じる際はRSI計算シートの「更新終了」ボタンと「クリア」ボタンをクリックしてください。"]
[null,null,null,null,null,null,null,null,null,null,null,null,null,null,null,null,"※上記ボタンを押さずに閉じると、シートの自動的な情報取得により、再起動する場合があります。"]
[]
[null,null,null,null,null,null,null,null,null,null,null,null,null,null,null,null,"■使用例"]
[null,null,null,null,null,null,null,null,null,null,null,null,null,null,null,null,"逆張り戦略での投資を行っており、RSIが30以下となる価格で購入するルールで運用をしたい"]
[null,null,null,null,null,null,null,null,null,null,null,null,null,null,null,null,"「以下」の入力欄に30を入れ、閾値以下になるとフラグが立つようにし、"]
[null,null,null,null,null,null,null,null,null,null,null,null,null,null,null,null,"このフラグを利用して、自動で成行注文が発注されるようにする"]
[]
[null,null,null,null,null,null,null,null,null,null,null,null,null,null,null,null,"★発注式の例"]
[null,null,null,null,null,null,null,null,null,null,null,null,null,null,null,null,"※ネオトレAPIでは発注トリガーがあり、FALSE: 待機、TRUE: 発注を設定値としているため、"]
[null,null,null,null,null,null,null,null,null,null,null,null,null,null,null,null,"以下の設定を行うことで自動発注を実現できます。"]
[]
[null,null,null,null,null,null,null,null,null,null,null,null,null,null,null,null,"①RSI表示シートでIF文を使用し、フラグを表示させるセルが1を表示していたら、TRUEを返すようにする"]
[null,null,null,null,null,null,null,null,null,null,null,null,null,null,null,null,"※この例では、IF文入力セルはI9、Flagを表示させるセルはG9と仮定する"]
[null,null,null,null,null,null,null,null,null,null,null,null,null,null,null,null,"=IF(G9=1,TRUE,FALSE)"]
[]
[null,null,null,null,null,null,null,null,null,null,null,null,null,null,null,null,"②上記IF文の結果がTRUEの場合、発注されるようにする"]
[null,null,null,null,null,null,null,null,null,null,null,null,null,null,null,null,"※銘柄はコードはC9セルを参照"]
[null,null,null,null,null,null,null,null,null,null,null,null,null,null,null,null,"=IF(I9,SNT.EqtyOrder(1,I9,C9,3,0,100,0,,1,1,,1,))"]
[]
[null,null,null,null,null,null,null,null,null,null,null,null,null,null,null,null,"関数のご使用方法は以下のリンクの4.情報参照-取得関数、6.照会-取得関数をご参照ください。"]
[null,null,null,null,null,null,null,null,null,null,null,null,null,null,null,null,"https://www.sbineotrade.jp/tool/api/operation.html"]
[]
[null,null,null,null,null,null,null,null,null,null,null,null,null,null,null,null,"サンプルシート使用上の注意事項"]
[]
[null,null,null,null,null,null,null,null,null,null,null,null,null,null,null,null,"当サンプルシートは、特定の銘柄や商品の勧誘や売買の推奨等を目的としたものではありません。"]
[null,null,null,null,null,null,null,null,null,null,null,null,null,null,null,null,"当サンプルシートは、株式全般の推奨や株価動向の上昇または下落を示唆するものではありません。"]
[null,null,null,null,null,null,null,null,null,null,null,null,null,null,null,null,"投資にあたっての最終判断はお客様ご自身でお願いいたします。"]

{"sheet":"RSI表示シート","index":1,"n_rows":18,"n_cols":8,"rows_kept":18,"cut":false,"hidden":false,"merged":[]}
[]
[null,null,null,"ヒストリカル自動更新：",{"$f":"RSI計算シート!A2","v":"更新中 - 2025/10/16 16:40:17"}]
[null,null,null,"現在の足種設定：",{"$f":"RSI計算シート!B4","v":"1m"},"取得本数：",{"$f":"RSI計算シート!C4","v":14},"本"]
[null,null,null,"更新間隔（秒）：",{"$f":"RSI計算シート!B5","v":60}]
[]
[]
[null,null,null,null,null,null,"以下","以上"]
[null,null,"銘柄コード","銘柄名","現値","RSI",30,70]
[null,1,2432,{"$f":"IF(C9=\"\",\"\",_xll.SNT.StockInst(C9,\"銘柄名称\"))","v":"ディーエヌエ"},{"$f":"IF(C9=\"\",\"\",_xll.SNT.StockInst(C9,$E$8))","v":2309.5},{"$f":"RSI計算シート!H$46","v":41.610477806297617},{"$f":"IF($F9<=G$8,1,\"\")","v":""},{"$f":"IF($F9>=H$8,1,\"\")","v":""}]
[null,2,4063,{"$f":"IF(C10=\"\",\"\",_xll.SNT.StockInst(C10,\"銘柄名称\"))","v":"信越化"},{"$f":"IF(C10=\"\",\"\",_xll.SNT.StockInst(C10,$E$8))","v":4897},{"$f":"RSI計算シート!O$46","v":37.571178865596245},{"$f":"IF($F10<=G$8,1,\"\")","v":""},{"$f":"IF($F10>=H$8,1,\"\")","v":""}]
[null,3,5802,{"$f":"IF(C11=\"\",\"\",_xll.SNT.StockInst(C11,\"銘柄名称\"))","v":"住友電"},{"$f":"IF(C11=\"\",\"\",_xll.SNT.StockInst(C11,$E$8))","v":4458},{"$f":"RSI計算シート!V$46","v":37.249457323409786},"",""]
[null,4,5803,{"$f":"IF(C12=\"\",\"\",_xll.SNT.StockInst(C12,\"銘柄名称\"))","v":"フジクラ"},{"$f":"IF(C12=\"\",\"\",_xll.SNT.StockInst(C12,$E$8))","v":16445},{"$f":"RSI計算シート!AC$46","v":24.170121501730268},1,""]
[null,5,6315,{"$f":"IF(C13=\"\",\"\",_xll.SNT.StockInst(C13,\"銘柄名称\"))","v":"ＴＯＷＡ"},{"$f":"IF(C13=\"\",\"\",_xll.SNT.StockInst(C13,$E$8))","v":2021},{"$f":"RSI計算シート!AJ$46","v":79.971008165760878},"",1]
[null,6,6963,{"$f":"IF(C14=\"\",\"\",_xll.SNT.StockInst(C14,\"銘柄名称\"))","v":"ローム"},{"$f":"IF(C14=\"\",\"\",_xll.SNT.StockInst(C14,$E$8))","v":2313},{"$f":"RSI計算シート!AQ$46","v":34.032759652165531},"",""]
[null,7,7012,{"$f":"IF(C15=\"\",\"\",_xll.SNT.StockInst(C15,\"銘柄名称\"))","v":"川重"},{"$f":"IF(C15=\"\",\"\",_xll.SNT.StockInst(C15,$E$8))","v":9728},{"$f":"RSI計算シート!AX$46","v":35.770185031012844},"",""]
[null,8,7013,{"$f":"IF(C16=\"\",\"\",_xll.SNT.StockInst(C16,\"銘柄名称\"))","v":"ＩＨＩ"},{"$f":"IF(C16=\"\",\"\",_xll.SNT.StockInst(C16,$E$8))","v":2752},{"$f":"RSI計算シート!BE$46","v":19.352728444853003},1,""]
[null,9,8604,{"$f":"IF(C17=\"\",\"\",_xll.SNT.StockInst(C17,\"銘柄名称\"))","v":"野村"},{"$f":"IF(C17=\"\",\"\",_xll.SNT.StockInst(C17,$E$8))","v":1044},{"$f":"RSI計算シート!BL$46","v":29.464549321004373},1,""]
[null,10,7974,{"$f":"IF(C18=\"\",\"\",_xll.SNT.StockInst(C18,\"銘柄名称\"))","v":"任天堂"},{"$f":"IF(C18=\"\",\"\",_xll.SNT.StockInst(C18,$E$8))","v":12470},{"$f":"RSI計算シート!BS$46","v":67.963696403885194},"",""]

{"sheet":"RSI計算シート","index":2,"n_rows":46,"n_cols":71,"rows_kept":46,"cut":false,"hidden":false,"merged":[]}
[]
["更新中 - 2025/10/16 16:40:17"]
[]
["ヒストリカル足種設定","1m",14,"本"]
["更新間隔の設定（秒）",60,"※更新間隔は60秒以上入力可能"]
[]
[null,{"$f":"RSI表示シート!$C9","v":2432},{"$f":"IF($B7=\"\",\"← 銘柄コード\",_xll.SNT.StockInst($B7,\"銘柄名称\"))","v":"ディーエヌエ"},null,null,null,null,null,{"$f":"RSI表示シート!$C10","v":4063},{"$f":"IF($I7=\"\",\"← 銘柄コード\",_xll.SNT.StockInst($I7,\"銘柄名称\"))","v":"信越化"},null,null,null,null,null,{"$f":"RSI表示シート!$C11","v":5802},{"$f":"IF($P7=\"\",\"← 銘柄コード\",_xll.SNT.StockInst($P7,\"銘柄名称\"))","v":"住友電"},null,null,null,null,null,{"$f":"RSI表示シート!$C12","v":5803},{"$f":"IF($W7=\"\",\"← 銘柄コード\",_xll.SNT.StockInst($W7,\"銘柄名称\"))","v":"フジクラ"},null,null,null,null,null,{"$f":"RSI表示シート!$C13","v":6315},{"$f":"IF($AD7=\"\",\"← 銘柄コード\",_xll.SNT.StockInst($AD7,\"銘柄名称\"))","v":"ＴＯＷＡ"},null,null,null,null,null,{"$f":"RSI表示シート!$C14","v":6963},{"$f":"IF($AK7=\"\",\"← 銘柄コード\",_xll.SNT.StockInst($AK7,\"銘柄名称\"))","v":"ローム"},null,null,null,null,null,{"$f":"RSI表示シート!$C15","v":7012},{"$f":"IF($AR7=\"\",\"← 銘柄コード\",_xll.SNT.StockInst($AR7,\"銘柄名称\"))","v":"川重"},null,null,null,null,null,{"$f":"RSI表示シート!$C16","v":7013},{"$f":"IF($AY7=\"\",\"← 銘柄コード\",_xll.SNT.StockInst($AY7,\"銘柄名称\"))","v":"ＩＨＩ"},null,null,null,null,null,{"$f":"RSI表示シート!$C17","v":8604},{"$f":"IF($BF7=\"\",\"← 銘柄コード\",_xll.SNT.StockInst($BF7,\"銘柄名称\"))","v":"野村"},null,null,null,null,null,{"$f":"RSI表示シート!$C18","v":7974},{"$f":"IF($BM7=\"\",\"← 銘柄コード\",_xll.SNT.StockInst($BM7,\"銘柄名称\"))","v":"任天堂"}]
[{"$f":"_xll.SNT.StockHist(TRUE,B$7,$B$4,$C$4+1,\"日時@終値\")","v":"=@SNT.StockHist(TRUE,B$7,$B$4,$C$4+1,\"日時@終値\")"},null,null,null,null,null,null,null,{"$f":"_xll.SNT.StockHist(TRUE,I$7,$B$4,$C$4+1,\"終値\")","v":"=@SNT.StockHist(TRUE,I$7,$B$4,$C$4+1,\"終値\")"},null,null,null,null,null,null,{"$f":"_xll.SNT.StockHist(TRUE,P$7,$B$4,$C$4+1,\"終値\")","v":"=@SNT.StockHist(TRUE,P$7,$B$4,$C$4+1,\"終値\")"},null,null,null,null,null,null,{"$f":"_xll.SNT.StockHist(TRUE,W$7,$B$4,$C$4+1,\"終値\")","v":"=@SNT.StockHist(TRUE,W$7,$B$4,$C$4+1,\"終値\")"},null,null,null,null,null,null,{"$f":"_xll.SNT.StockHist(TRUE,AD$7,$B$4,$C$4+1,\"終値\")","v":"=@SNT.StockHist(TRUE,AD$7,$B$4,$C$4+1,\"終値\")"},null,null,null,null,null,null,{"$f":"_xll.SNT.StockHist(TRUE,AK$7,$B$4,$C$4+1,\"終値\")","v":"=@SNT.StockHist(TRUE,AK$7,$B$4,$C$4+1,\"終値\")"},null,null,null,null,null,null,{"$f":"_xll.SNT.StockHist(TRUE,AR$7,$B$4,$C$4+1,\"終値\")","v":"=@SNT.StockHist(TRUE,AR$7,$B$4,$C$4+1,\"終値\")"},null,null,null,null,null,null,{"$f":"_xll.SNT.StockHist(TRUE,AY$7,$B$4,$C$4+1,\"終値\")","v":"=@SNT.StockHist(TRUE,AY$7,$B$4,$C$4+1,\"終値\")"},null,null,null,null,null,null,{"$f":"_xll.SNT.StockHist(TRUE,BF$7,$B$4,$C$4+1,\"終値\")","v":"=@SNT.StockHist(TRUE,BF$7,$B$4,$C$4+1,\"終値\")"},null,null,null,null,null,null,{"$f":"_xll.SNT.StockHist(TRUE,BM$7,$B$4,$C$4+1,\"終値\")","v":"=@SNT.StockHist(TRUE,BM$7,$B$4,$C$4+1,\"終値\")"}]
["日時","終値","終値変化","Up","Down","U-avg","D-avg","RSI","終値","終値変化","Up","Down","U-avg","D-avg","RSI","終値","終値変化","Up","Down","U-avg","D-avg","RSI","終値","終値変化","Up","Down","U-avg","D-avg","RSI","終値","終値変化","Up","Down","U-avg","D-avg","RSI","終値","終値変化","Up","Down","U-avg","D-avg","RSI","終値","終値変化","Up","Down","U-avg","D-avg","RSI","終値","終値変化","Up","Down","U-avg","D-avg","RSI","終値","終値変化","Up","Down","U-avg","D-avg","RSI","終値","終値変化","Up","Down","U-avg","D-avg","RSI"]
["2025/10/17 15:16:00",2310.5,null,null,null,null,null,null,4901,null,null,null,null,null,null,4463,null,null,null,null,null,null,16465,null,null,null,null,null,null,2015,null,null,null,null,null,null,2316.5,null,null,null,null,null,null,9748,null,null,null,null,null,null,2767,null,null,null,null,null,null,1048,null,null,null,null,null,null,12425]
["2025/10/17 15:17:00",2312.5,{"$f":"IF(B11=\"\",0,B11-B10)","v":2},{"$f":"IF(C11>0, C11, 0)","v":2},{"$f":"IF(C11<0, -C11, 0)","v":0},{"$f":"SUM(D11:D24)/14","v":0.6428571428571429},{"$f":"SUM(E11:E24)/14","v":0.7142857142857143},{"$f":"IFERROR(F11/(F11+G11)*100,\"\")","v":47.368421052631582},4902,{"$f":"IF(I11=\"\",0,I11-I10)","v":1},{"$f":"IF(J11>0, J11, 0)","v":1},{"$f":"IF(J11<0, -J11, 0)","v":0},{"$f":"SUM(K11:K24)/14","v":0.42857142857142855},{"$f":"SUM(L11:L24)/14","v":0.7142857142857143},{"$f":"IFERROR(M11/(M11+N11)*100,\"\")","v":37.5},4465,{"$f":"IF(P11=\"\",0,P11-P10)","v":2},{"$f":"IF(Q11>0, Q11, 0)","v":2},{"$f":"IF(Q11<0, -Q11, 0)","v":0},{"$f":"SUM(R11:R24)/14","v":0.5714285714285714},{"$f":"SUM(S11:S24)/14","v":0.9285714285714286},{"$f":"IFERROR(T11/(T11+U11)*100,\"\")","v":38.095238095238095},16490,{"$f":"IF(W11=\"\",0,W11-W10)","v":25},{"$f":"IF(X11>0, X11, 0)","v":25},{"$f":"IF(X11<0, -X11, 0)","v":0},{"$f":"SUM(Y11:Y24)/14","v":2.1428571428571428},{"$f":"SUM(Z11:Z24)/14","v":3.5714285714285716},{"$f":"IFERROR(AA11/(AA11+AB11)*100,\"\")","v":37.5},2017,{"$f":"IF(AD11=\"\",0,AD11-AD10)","v":2},{"$f":"IF(AE11>0, AE11, 0)","v":2},{"$f":"IF(AE11<0, -AE11, 0)","v":0},{"$f":"SUM(AF11:AF24)/14","v":0.5714285714285714},{"$f":"SUM(AG11:AG24)/14","v":0.14285714285714285},{"$f":"IFERROR(AH11/(AH11+AI11)*100,\"\")","v":80},2318,{"$f":"IF(AK11=\"\",0,AK11-AK10)","v":1.5},{"$f":"IF(AL11>0, AL11, 0)","v":1.5},{"$f":"IF(AL11<0, -AL11, 0)","v":0},{"$f":"SUM(AM11:AM24)/14","v":0.4642857142857143},{"$f":"SUM(AN11:AN24)/14","v":0.7142857142857143},{"$f":"IFERROR(AO11/(AO11+AP11)*100,\"\")","v":39.393939393939391},9747,{"$f":"IF(AR11=\"\",0,AR11-AR10)","v":-1},{"$f":"IF(AS11>0, AS11, 0)","v":0},{"$f":"IF(AS11<0, -AS11, 0)","v":1},{"$f":"SUM(AT11:AT24)/14","v":1.6428571428571428},{"$f":"SUM(AU11:AU24)/14","v":3.0714285714285716},{"$f":"IFERROR(AV11/(AV11+AW11)*100,\"\")","v":34.848484848484844},2765.5,{"$f":"IF(AY11=\"\",0,AY11-AY10)","v":-1.5},{"$f":"IF(AZ11>0, AZ11, 0)","v":0},{"$f":"IF(AZ11<0, -AZ11, 0)","v":1.5},{"$f":"SUM(BA11:BA24)/14","v":0.2857142857142857},{"$f":"SUM(BB11:BB24)/14","v":1.3571428571428572},{"$f":"IFERROR(BC11/(BC11+BD11)*100,\"\")","v":17.391304347826086},1048,{"$f":"IF(BF11=\"\",0,BF11-BF10)","v":0},{"$f":"IF(BG11>0, BG11, 0)","v":0},{"$f":"IF(BG11<0, -BG11, 0)","v":0},{"$f":"SUM(BH11:BH24)/14","v":0.21428571428571427},{"$f":"SUM(BI11:BI24)/14","v":0.5},{"$f":"IFERROR(BJ11/(BJ11+BK11)*100,\"\")","v":30},12420,{"$f":"IF(BM11=\"\",0,BM11-BM10)","v":-5},{"$f":"IF(BN11>0, BN11, 0)","v":0},{"$f":"IF(BN11<0, -BN11, 0)","v":5},{"$f":"SUM(BO11:BO24)/14","v":6.0714285714285712},{"$f":"SUM(BP11:BP24)/14","v":2.8571428571428572},{"$f":"IFERROR(BQ11/(BQ11+BR11)*100,\"\")","v":68}]
["2025/10/17 15:18:00",2311,{"$f":"IFERROR(IF(B12=\"\", 0, B12 - IF(B11=\"\", LOOKUP(2, 1/(IF(ISNUMBER(B$10:B11), B$10:B11, \"\" )<>\"\"), B$10:B11), B11)),0)","v":-1.5},{"$f":"IF(C12>0, C12, 0)","v":0},{"$f":"IF(C12<0, -C12, 0)","v":1.5},{"$f":"IF(ISNUMBER(B12), ((F11*($C$4-1))+D12)/$C$4, F11)","v":0.59693877551020413},{"$f":"IF(ISNUMBER(B12), ((G11*($C$4-1))+E12)/$C$4, G11)","v":0.77040816326530615},{"$f":"IFERROR(F12/(F12+G12)*100,H11)","v":43.656716417910452},4901,{"$f":"IFERROR(IF(I12=\"\", 0, I12 - IF(I11=\"\", LOOKUP(2, 1/(IF(ISNUMBER(I$10:I11), I$10:I11, \"\" )<>\"\"), I$10:I11), I11)),0)","v":-1},{"$f":"IF(J12>0, J12, 0)","v":0},{"$f":"IF(J12<0, -J12, 0)","v":1},{"$f":"IF(ISNUMBER(I12), ((M11*($C$4-1))+K12)/$C$4, M11)","v":0.39795918367346939},{"$f":"IF(ISNUMBER(I12), ((N11*($C$4-1))+L12)/$C$4, N11)","v":0.73469387755102045},{"$f":"IFERROR(M12/(M12+N12)*100,O11)","v":35.13513513513513},4460,{"$f":"IFERROR(IF(P12=\"\", 0, P12 - IF(P11=\"\", LOOKUP(2, 1/(IF(ISNUMBER(P$10:P11), P$10:P11, \"\" )<>\"\"), P$10:P11), P11)),0)","v":-5},{"$f":"IF(Q12>0, Q12, 0)","v":0},{"$f":"IF(Q12<0, -Q12, 0)","v":5},{"$f":"IF(ISNUMBER(P12), ((T11*($C$4-1))+R12)/$C$4, T11)","v":0.53061224489795911},{"$f":"IF(ISNUMBER(P12), ((U11*($C$4-1))+S12)/$C$4, U11)","v":1.2193877551020407},{"$f":"IFERROR(T12/(T12+U12)*100,V11)","v":30.320699708454811},16480,{"$f":"IFERROR(IF(W12=\"\", 0, W12 - IF(W11=\"\", LOOKUP(2, 1/(IF(ISNUMBER(W$10:W11), W$10:W11, \"\" )<>\"\"), W$10:W11), W11)),0)","v":-10},{"$f":"IF(X12>0, X12, 0)","v":0},{"$f":"IF(X12<0, -X12, 0)","v":10},{"$f":"IF(ISNUMBER(W12), ((AA11*($C$4-1))+Y12)/$C$4, AA11)","v":1.989795918367347},{"$f":"IF(ISNUMBER(W12), ((AB11*($C$4-1))+Z12)/$C$4, AB11)","v":4.0306122448979593},{"$f":"IFERROR(AA12/(AA12+AB12)*100,AC11)","v":33.050847457627114},2017,{"$f":"IFERROR(IF(AD12=\"\", 0, AD12 - IF(AD11=\"\", LOOKUP(2, 1/(IF(ISNUMBER(AD$10:AD11), AD$10:AD11, \"\" )<>\"\"), AD$10:AD11), AD11)),0)","v":0},{"$f":"IF(AE12>0, AE12, 0)","v":0},{"$f":"IF(AE12<0, -AE12, 0)","v":0},{"$f":"IF(ISNUMBER(AD12), ((AH11*($C$4-1))+AF12)/$C$4, AH11)","v":0.53061224489795911},{"$f":"IF(ISNUMBER(AD12), ((AI11*($C$4-1))+AG12)/$C$4, AI11)","v":0.13265306122448978},{"$f":"IFERROR(AH12/(AH12+AI12)*100,AJ11)","v":80},2317,{"$f":"IFERROR(IF(AK12=\"\", 0, AK12 - IF(AK11=\"\", LOOKUP(2, 1/(IF(ISNUMBER(AK$10:AK11), AK$10:AK11, \"\" )<>\"\"), AK$10:AK11), AK11)),0)","v":-1},{"$f":"IF(AL12>0, AL12, 0)","v":0},{"$f":"IF(AL12<0, -AL12, 0)","v":1},{"$f":"IF(ISNUMBER(AK12), ((AO11*($C$4-1))+AM12)/$C$4, AO11)","v":0.43112244897959184},{"$f":"IF(ISNUMBER(AK12), ((AP11*($C$4-1))+AN12)/$C$4, AP11)","v":0.73469387755102045},{"$f":"IFERROR(AO12/(AO12+AP12)*100,AQ11)","v":36.980306345733041},9745,{"$f":"IFERROR(IF(AR12=\"\", 0, AR12 - IF(AR11=\"\", LOOKUP(2, 1/(IF(ISNUMBER(AR$10:AR11), AR$10:AR11, \"\" )<>\"\"), AR$10:AR11), AR11)),0)","v":-2},{"$f":"IF(AS12>0, AS12, 0)","v":0},{"$f":"IF(AS12<0, -AS12, 0)","v":2},{"$f":"IF(ISNUMBER(AR12), ((AV11*($C$4-1))+AT12)/$C$4, AV11)","v":1.5255102040816326},{"$f":"IF(ISNUMBER(AR12), ((AW11*($C$4-1))+AU12)/$C$4, AW11)","v":2.9948979591836737},{"$f":"IFERROR(AV12/(AV12+AW12)*100,AX11)","v":33.747178329571099},2763.5,{"$f":"IFERROR(IF(AY12=\"\", 0, AY12 - IF(AY11=\"\", LOOKUP(2, 1/(IF(ISNUMBER(AY$10:AY11), AY$10:AY11, \"\" )<>\"\"), AY$10:AY11), AY11)),0)","v":-2},{"$f":"IF(AZ12>0, AZ12, 0)","v":0},{"$f":"IF(AZ12<0, -AZ12, 0)","v":2},{"$f":"IF(ISNUMBER(AY12), ((BC11*($C$4-1))+BA12)/$C$4, BC11)","v":0.26530612244897955},{"$f":"IF(ISNUMBER(AY12), ((BD11*($C$4-1))+BB12)/$C$4, BD11)","v":1.403061224489796},{"$f":"IFERROR(BC12/(BC12+BD12)*100,BE11)","v":15.902140672782872},1048.5,{"$f":"IFERROR(IF(BF12=\"\", 0, BF12 - IF(BF11=\"\", LOOKUP(2, 1/(IF(ISNUMBER(BF$10:BF11), BF$10:BF11, \"\" )<>\"\"), BF$10:BF11), BF11)),0)","v":0.5},{"$f":"IF(BG12>0, BG12, 0)","v":0.5},{"$f":"IF(BG12<0, -BG12, 0)","v":0},{"$f":"IF(ISNUMBER(BF12), ((BJ11*($C$4-1))+BH12)/$C$4, BJ11)","v":0.23469387755102039},{"$f":"IF(ISNUMBER(BF12), ((BK11*($C$4-1))+BI12)/$C$4, BK11)","v":0.4642857142857143},{"$f":"IFERROR(BJ12/(BJ12+BK12)*100,BL11)","v":33.576642335766415},12450,{"$f":"IFERROR(IF(BM12=\"\", 0, BM12 - IF(BM11=\"\", LOOKUP(2, 1/(IF(ISNUMBER(BM$10:BM11), BM$10:BM11, \"\" )<>\"\"), BM$10:BM11), BM11)),0)","v":30},{"$f":"IF(BN12>0, BN12, 0)","v":30},{"$f":"IF(BN12<0, -BN12, 0)","v":0},{"$f":"IF(ISNUMBER(BM12), ((BQ11*($C$4-1))+BO12)/$C$4, BQ11)","v":7.7806122448979593},{"$f":"IF(ISNUMBER(BM12), ((BR11*($C$4-1))+BP12)/$C$4, BR11)","v":2.6530612244897962},{"$f":"IFERROR(BQ12/(BQ12+BR12)*100,BS11)","v":74.572127139364298}]
["2025/10/17 15:19:00",2311,{"$f":"IFERROR(IF(B13=\"\", 0, B13 - IF(B12=\"\", LOOKUP(2, 1/(IF(ISNUMBER(B$10:B12), B$10:B12, \"\" )<>\"\"), B$10:B12), B12)),0)","v":0},0,0,{"$f":"IF(ISNUMBER(B13), ((F12*($C$4-1))+D13)/$C$4, F12)","v":0.55430029154518956},{"$f":"IF(ISNUMBER(B13), ((G12*($C$4-1))+E13)/$C$4, G12)","v":0.71537900874635574},{"$f":"IFERROR(F13/(F13+G13)*100,H12)","v":43.656716417910445},4898,{"$f":"IFERROR(IF(I13=\"\", 0, I13 - IF(I12=\"\", LOOKUP(2, 1/(IF(ISNUMBER(I$10:I12), I$10:I12, \"\" )<>\"\"), I$10:I12), I12)),0)","v":-3},0,3,{"$f":"IF(ISNUMBER(I13), ((M12*($C$4-1))+K13)/$C$4, M12)","v":0.36953352769679298},{"$f":"IF(ISNUMBER(I13), ((N12*($C$4-1))+L13)/$C$4, N12)","v":0.89650145772594758},29.188255613126074,4460,{"$f":"IFERROR(IF(P13=\"\", 0, P13 - IF(P12=\"\", LOOKUP(2, 1/(IF(ISNUMBER(P$10:P12), P$10:P12, \"\" )<>\"\"), P$10:P12), P12)),0)","v":0},0,0,{"$f":"IF(ISNUMBER(P13), ((T12*($C$4-1))+R13)/$C$4, T12)","v":0.49271137026239059},{"$f":"IF(ISNUMBER(P13), ((U12*($C$4-1))+S13)/$C$4, U12)","v":1.1322886297376091},30.320699708454811,16470,{"$f":"IFERROR(IF(W13=\"\", 0, W13 - IF(W12=\"\", LOOKUP(2, 1/(IF(ISNUMBER(W$10:W12), W$10:W12, \"\" )<>\"\"), W$10:W12), W12)),0)","v":-10},0,10,{"$f":"IF(ISNUMBER(W13), ((AA12*($C$4-1))+Y13)/$C$4, AA12)","v":1.8476676384839652},{"$f":"IF(ISNUMBER(W13), ((AB12*($C$4-1))+Z13)/$C$4, AB12)","v":4.4569970845481048},29.306358381502889,2016,{"$f":"IFERROR(IF(AD13=\"\", 0, AD13 - IF(AD12=\"\", LOOKUP(2, 1/(IF(ISNUMBER(AD$10:AD12), AD$10:AD12, \"\" )<>\"\"), AD$10:AD12), AD12)),0)","v":-1},0,1,{"$f":"IF(ISNUMBER(AD13), ((AH12*($C$4-1))+AF13)/$C$4, AH12)","v":0.49271137026239059},{"$f":"IF(ISNUMBER(AD13), ((AI12*($C$4-1))+AG13)/$C$4, AI12)","v":0.19460641399416906},71.686108165429488,2317.5,{"$f":"IFERROR(IF(AK13=\"\", 0, AK13 - IF(AK12=\"\", LOOKUP(2, 1/(IF(ISNUMBER(AK$10:AK12), AK$10:AK12, \"\" )<>\"\"), AK$10:AK12), AK12)),0)","v":0.5},0.5,0,{"$f":"IF(ISNUMBER(AK13), ((AO12*($C$4-1))+AM13)/$C$4, AO12)","v":0.43604227405247814},{"$f":"IF(ISNUMBER(AK13), ((AP12*($C$4-1))+AN13)/$C$4, AP12)","v":0.68221574344023328},38.992993319211337,9740,{"$f":"IFERROR(IF(AR13=\"\", 0, AR13 - IF(AR12=\"\", LOOKUP(2, 1/(IF(ISNUMBER(AR$10:AR12), AR$10:AR12, \"\" )<>\"\"), AR$10:AR12), AR12)),0)","v":-5},0,5,{"$f":"IF(ISNUMBER(AR13), ((AV12*($C$4-1))+AT13)/$C$4, AV12)","v":1.416545189504373},{"$f":"IF(ISNUMBER(AR13), ((AW12*($C$4-1))+AU13)/$C$4, AW12)","v":3.1381195335276968},31.100976156184991,2762,{"$f":"IFERROR(IF(AY13=\"\", 0, AY13 - IF(AY12=\"\", LOOKUP(2, 1/(IF(ISNUMBER(AY$10:AY12), AY$10:AY12, \"\" )<>\"\"), AY$10:AY12), AY12)),0)","v":-1.5},0,1.5,{"$f":"IF(ISNUMBER(AY13), ((BC12*($C$4-1))+BA13)/$C$4, BC12)","v":0.2463556851311953},{"$f":"IF(ISNUMBER(AY13), ((BD12*($C$4-1))+BB13)/$C$4, BD12)","v":1.4099854227405249},14.873487348734871,1047.5,{"$f":"IFERROR(IF(BF13=\"\", 0, BF13 - IF(BF12=\"\", LOOKUP(2, 1/(IF(ISNUMBER(BF$10:BF12), BF$10:BF12, \"\" )<>\"\"), BF$10:BF12), BF12)),0)","v":-1},0,1,{"$f":"IF(ISNUMBER(BF13), ((BJ12*($C$4-1))+BH13)/$C$4, BJ12)","v":0.21793002915451895},{"$f":"IF(ISNUMBER(BF13), ((BK12*($C$4-1))+BI13)/$C$4, BK12)","v":0.50255102040816324},30.247850278199291,12450,{"$f":"IFERROR(IF(BM13=\"\", 0, BM13 - IF(BM12=\"\", LOOKUP(2, 1/(IF(ISNUMBER(BM$10:BM12), BM$10:BM12, \"\" )<>\"\"), BM$10:BM12), BM12)),0)","v":0},0,0,{"$f":"IF(ISNUMBER(BM13), ((BQ12*($C$4-1))+BO13)/$C$4, BQ12)","v":7.2248542274052472},{"$f":"IF(ISNUMBER(BM13), ((BR12*($C$4-1))+BP13)/$C$4, BR12)","v":2.4635568513119535},74.572127139364312]
["2025/10/17 15:20:00",2313,{"$f":"IFERROR(IF(B14=\"\", 0, B14 - IF(B13=\"\", LOOKUP(2, 1/(IF(ISNUMBER(B$10:B13), B$10:B13, \"\" )<>\"\"), B$10:B13), B13)),0)","v":2},2,0,0.65756455643481893,0.66428050812161599,49.745962977550221,4899,{"$f":"IFERROR(IF(I14=\"\", 0, I14 - IF(I13=\"\", LOOKUP(2, 1/(IF(ISNUMBER(I$10:I13), I$10:I13, \"\" )<>\"\"), I$10:I13), I13)),0)","v":1},1,0,0.41456684714702208,0.83246563931695128,33.244270028806412,4461,{"$f":"IFERROR(IF(P14=\"\", 0, P14 - IF(P13=\"\", LOOKUP(2, 1/(IF(ISNUMBER(P$10:P13), P$10:P13, \"\" )<>\"\"), P$10:P13), P13)),0)","v":1},1,0,0.52894627238650549,1.0514108704706371,33.470046614287355,16460,{"$f":"IFERROR(IF(W14=\"\", 0, W14 - IF(W13=\"\", LOOKUP(2, 1/(IF(ISNUMBER(W$10:W13), W$10:W13, \"\" )<>\"\"), W$10:W13), W13)),0)","v":-10},0,10,1.7156913785922534,4.8529258642232396,26.119521280811608,2016,{"$f":"IFERROR(IF(AD14=\"\", 0, AD14 - IF(AD13=\"\", LOOKUP(2, 1/(IF(ISNUMBER(AD$10:AD13), AD$10:AD13, \"\" )<>\"\"), AD$10:AD13), AD13)),0)","v":0},0,0,0.45751770095793409,0.18070595585172841,71.686108165429474,2317,{"$f":"IFERROR(IF(AK14=\"\", 0, AK14 - IF(AK13=\"\", LOOKUP(2, 1/(IF(ISNUMBER(AK$10:AK13), AK$10:AK13, \"\" )<>\"\"), AK$10:AK13), AK13)),0)","v":-0.5},0,0.5,0.40489639733444399,0.66920033319450234,37.696455619509237,9733,{"$f":"IFERROR(IF(AR14=\"\", 0, AR14 - IF(AR13=\"\", LOOKUP(2, 1/(IF(ISNUMBER(AR$10:AR13), AR$10:AR13, \"\" )<>\"\"), AR$10:AR13), AR13)),0)","v":-7},0,7,1.3153633902540605,3.4139681382757181,27.812881848504528,2756.5,{"$f":"IFERROR(IF(AY14=\"\", 0, AY14 - IF(AY13=\"\", LOOKUP(2, 1/(IF(ISNUMBER(AY$10:AY13), AY$10:AY13, \"\" )<>\"\"), AY$10:AY13), AY13)),0)","v":-5.5},0,5.5,0.22875885047896705,1.7021293211162016,11.847338123677147,1046.5,{"$f":"IFERROR(IF(BF14=\"\", 0, BF14 - IF(BF13=\"\", LOOKUP(2, 1/(IF(ISNUMBER(BF$10:BF13), BF$10:BF13, \"\" )<>\"\"), BF$10:BF13), BF13)),0)","v":-1},0,1,0.20236359850062474,0.5380830903790087,27.329934962207769,12440,{"$f":"IFERROR(IF(BM14=\"\", 0, BM14 - IF(BM13=\"\", LOOKUP(2, 1/(IF(ISNUMBER(BM$10:BM13), BM$10:BM13, \"\" )<>\"\"), BM$10:BM13), BM13)),0)","v":-10},0,10,6.7087932111620159,3.0018742190753853,69.086839389349819]
["2025/10/17 15:21:00",2315,{"$f":"IFERROR(IF(B15=\"\", 0, B15 - IF(B14=\"\", LOOKUP(2, 1/(IF(ISNUMBER(B$10:B14), B$10:B14, \"\" )<>\"\"), B$10:B14), B14)),0)","v":2},2,0,0.75345280240376045,0.61683190039864333,54.985128335947643,4898,{"$f":"IFERROR(IF(I15=\"\", 0, I15 - IF(I14=\"\", LOOKUP(2, 1/(IF(ISNUMBER(I$10:I14), I$10:I14, \"\" )<>\"\"), I$10:I14), I14)),0)","v":-1},0,1,0.38495492949366333,0.84443237936574056,31.312746334661234,4458,{"$f":"IFERROR(IF(P15=\"\", 0, P15 - IF(P14=\"\", LOOKUP(2, 1/(IF(ISNUMBER(P$10:P14), P$10:P14, \"\" )<>\"\"), P$10:P14), P14)),0)","v":-3},0,3,0.4911643957874694,1.1905958082941628,29.205376283456662,16460,{"$f":"IFERROR(IF(W15=\"\", 0, W15 - IF(W14=\"\", LOOKUP(2, 1/(IF(ISNUMBER(W$10:W14), W$10:W14, \"\" )<>\"\"), W$10:W14), W14)),0)","v":0},0,0,1.5931419944070926,4.506288302493008,26.119521280811608,2015,{"$f":"IFERROR(IF(AD15=\"\", 0, AD15 - IF(AD14=\"\", LOOKUP(2, 1/(IF(ISNUMBER(AD$10:AD14), AD$10:AD14, \"\" )<>\"\"), AD$10:AD14), AD14)),0)","v":-1},0,1,0.42483786517522454,0.23922695900517638,63.975360492790145,2318.5,{"$f":"IFERROR(IF(AK15=\"\", 0, AK15 - IF(AK14=\"\", LOOKUP(2, 1/(IF(ISNUMBER(AK$10:AK14), AK$10:AK14, \"\" )<>\"\"), AK$10:AK14), AK14)),0)","v":1.5},1.5,0,0.48311808323912653,0.62140030939489499,43.740157380901685,9722,{"$f":"IFERROR(IF(AR15=\"\", 0, AR15 - IF(AR14=\"\", LOOKUP(2, 1/(IF(ISNUMBER(AR$10:AR14), AR$10:AR14, \"\" )<>\"\"), AR$10:AR14), AR14)),0)","v":-11},0,11,1.2214088623787702,3.9558275569703096,23.591908181244207,2754.5,{"$f":"IFERROR(IF(AY15=\"\", 0, AY15 - IF(AY14=\"\", LOOKUP(2, 1/(IF(ISNUMBER(AY$10:AY14), AY$10:AY14, \"\" )<>\"\"), AY$10:AY14), AY14)),0)","v":-2},0,2,0.21241893258761227,1.72340579817933,10.973045710778544,1046.5,{"$f":"IFERROR(IF(BF15=\"\", 0, BF15 - IF(BF14=\"\", LOOKUP(2, 1/(IF(ISNUMBER(BF$10:BF14), BF$10:BF14, \"\" )<>\"\"), BF$10:BF14), BF14)),0)","v":0},0,0,0.18790905575058012,0.49964858392336525,27.329934962207769,12455,{"$f":"IFERROR(IF(BM15=\"\", 0, BM15 - IF(BM14=\"\", LOOKUP(2, 1/(IF(ISNUMBER(BM$10:BM14), BM$10:BM14, \"\" )<>\"\"), BM$10:BM14), BM14)),0)","v":15},15,0,7.3010222675075855,2.787454631998572,72.369916095708945]
["2025/10/17 15:22:00",2314.5,{"$f":"IFERROR(IF(B16=\"\", 0, B16 - IF(B15=\"\", LOOKUP(2, 1/(IF(ISNUMBER(B$10:B15), B$10:B15, \"\" )<>\"\"), B$10:B15), B15)),0)","v":-0.5},0,0.5,0.69963474508920609,0.60848676465588303,{"$f":"IFERROR(F16/(F16+G16)*100,H15)","v":53.483926369006994},4897,{"$f":"IFERROR(IF(I16=\"\", 0, I16 - IF(I15=\"\", LOOKUP(2, 1/(IF(ISNUMBER(I$10:I15), I$10:I15, \"\" )<>\"\"), I$10:I15), I15)),0)","v":-1},0,1,0.35745814881554455,0.8555443522681877,29.468871539521217,4458,{"$f":"IFERROR(IF(P16=\"\", 0, P16 - IF(P15=\"\", LOOKUP(2, 1/(IF(ISNUMBER(P$10:P15), P$10:P15, \"\" )<>\"\"), P$10:P15), P15)),0)","v":0},0,0,0.45608122465979306,1.1055532505588654,29.205376283456669,16455,{"$f":"IFERROR(IF(W16=\"\", 0, W16 - IF(W15=\"\", LOOKUP(2, 1/(IF(ISNUMBER(W$10:W15), W$10:W15, \"\" )<>\"\"), W$10:W15), W15)),0)","v":-5},0,5,1.4793461376637289,4.5415534237435073,24.57018461404077,2016,{"$f":"IFERROR(IF(AD16=\"\", 0, AD16 - IF(AD15=\"\", LOOKUP(2, 1/(IF(ISNUMBER(AD$10:AD15), AD$10:AD15, \"\" )<>\"\"), AD$10:AD15), AD15)),0)","v":1},1,0,0.4659208748055656,0.22213931907623521,67.715132912572514,2318,{"$f":"IFERROR(IF(AK16=\"\", 0, AK16 - IF(AK15=\"\", LOOKUP(2, 1/(IF(ISNUMBER(AK$10:AK15), AK$10:AK15, \"\" )<>\"\"), AK$10:AK15), AK15)),0)","v":-0.5},0,0.5,0.44860964872204606,0.61272885872383109,42.26829099055589,9733,{"$f":"IFERROR(IF(AR16=\"\", 0, AR16 - IF(AR15=\"\", LOOKUP(2, 1/(IF(ISNUMBER(AR$10:AR15), AR$10:AR15, \"\" )<>\"\"), AR$10:AR15), AR15)),0)","v":11},11,0,1.9198796579231439,3.6732684457581444,34.325564464483257,2753,{"$f":"IFERROR(IF(AY16=\"\", 0, AY16 - IF(AY15=\"\", LOOKUP(2, 1/(IF(ISNUMBER(AY$10:AY15), AY$10:AY15, \"\" )<>\"\"), AY$10:AY15), AY15)),0)","v":-1.5},0,1.5,0.1972461516884971,1.7074482411665208,10.355790011689878,1045.5,{"$f":"IFERROR(IF(BF16=\"\", 0, BF16 - IF(BF15=\"\", LOOKUP(2, 1/(IF(ISNUMBER(BF$10:BF15), BF$10:BF15, \"\" )<>\"\"), BF$10:BF15), BF15)),0)","v":-1},0,1,0.17448698033982438,0.53538797078598199,24.579960183564953,12450,{"$f":"IFERROR(IF(BM16=\"\", 0, BM16 - IF(BM15=\"\", LOOKUP(2, 1/(IF(ISNUMBER(BM$10:BM15), BM$10:BM15, \"\" )<>\"\"), BM$10:BM15), BM15)),0)","v":-5},0,5,6.7795206769713294,2.9454935868558172,69.712192630793552]
["2025/10/17 15:23:00",2315.5,{"$f":"IFERROR(IF(B17=\"\", 0, B17 - IF(B16=\"\", LOOKUP(2, 1/(IF(ISNUMBER(B$10:B16), B$10:B16, \"\" )<>\"\"), B$10:B16), B16)),0)","v":1},1,0,0.72108940615426287,0.56502342432331998,56.067351873512905,4897,{"$f":"IFERROR(IF(I17=\"\", 0, I17 - IF(I16=\"\", LOOKUP(2, 1/(IF(ISNUMBER(I$10:I16), I$10:I16, \"\" )<>\"\"), I$10:I16), I16)),0)","v":0},0,0,0.33192542390014851,0.79443404139188867,29.468871539521217,4458,{"$f":"IFERROR(IF(P17=\"\", 0, P17 - IF(P16=\"\", LOOKUP(2, 1/(IF(ISNUMBER(P$10:P16), P$10:P16, \"\" )<>\"\"), P$10:P16), P16)),0)","v":0},0,0,0.42350399432695068,1.0265851612332322,29.205376283456662,16460,{"$f":"IFERROR(IF(W17=\"\", 0, W17 - IF(W16=\"\", LOOKUP(2, 1/(IF(ISNUMBER(W$10:W16), W$10:W16, \"\" )<>\"\"), W$10:W16), W16)),0)","v":5},5,0,1.7308214135448912,4.2171567506189707,29.099323598276889,2017,{"$f":"IFERROR(IF(AD17=\"\", 0, AD17 - IF(AD16=\"\", LOOKUP(2, 1/(IF(ISNUMBER(AD$10:AD16), AD$10:AD16, \"\" )<>\"\"), AD$10:AD16), AD16)),0)","v":1},1,0,0.50406938374802512,0.20627222485650412,70.961545493339855,2321,{"$f":"IFERROR(IF(AK17=\"\", 0, AK17 - IF(AK16=\"\", LOOKUP(2, 1/(IF(ISNUMBER(AK$10:AK16), AK$10:AK16, \"\" )<>\"\"), AK$10:AK16), AK16)),0)","v":3},3,0,0.6308518166704713,0.56896251167212886,52.579120099517198,9737,{"$f":"IFERROR(IF(AR17=\"\", 0, AR17 - IF(AR16=\"\", LOOKUP(2, 1/(IF(ISNUMBER(AR$10:AR16), AR$10:AR16, \"\" )<>\"\"), AR$10:AR16), AR16)),0)","v":4},4,0,2.0684596823572052,3.410892128203991,37.750079824594316,2755,{"$f":"IFERROR(IF(AY17=\"\", 0, AY17 - IF(AY16=\"\", LOOKUP(2, 1/(IF(ISNUMBER(AY$10:AY16), AY$10:AY16, \"\" )<>\"\"), AY$10:AY16), AY16)),0)","v":2},2,0,0.32601428371074725,1.5854876525117694,17.05539908345644,1047,{"$f":"IFERROR(IF(BF17=\"\", 0, BF17 - IF(BF16=\"\", LOOKUP(2, 1/(IF(ISNUMBER(BF$10:BF16), BF$10:BF16, \"\" )<>\"\"), BF$10:BF16), BF16)),0)","v":1.5},1.5,0,0.26916648174412267,0.49714597287269757,35.124899787608719,12460,{"$f":"IFERROR(IF(BM17=\"\", 0, BM17 - IF(BM16=\"\", LOOKUP(2, 1/(IF(ISNUMBER(BM$10:BM16), BM$10:BM16, \"\" )<>\"\"), BM$10:BM16), BM16)),0)","v":10},10,0,7.0095549143305202,2.7351011877946871,71.93229643888418]
["2025/10/17 15:24:00",2317.5,{"$f":"IFERROR(IF(B18=\"\", 0, B18 - IF(B17=\"\", LOOKUP(2, 1/(IF(ISNUMBER(B$10:B17), B$10:B17, \"\" )<>\"\"), B$10:B17), B17)),0)","v":2},2,0,0.81244016285752985,0.52466460830022565,60.761144555191763,4893,{"$f":"IFERROR(IF(I18=\"\", 0, I18 - IF(I17=\"\", LOOKUP(2, 1/(IF(ISNUMBER(I$10:I17), I$10:I17, \"\" )<>\"\"), I$10:I17), I17)),0)","v":-4},0,4,0.30821646505013789,1.0234030384353252,23.145986090125078,4453,{"$f":"IFERROR(IF(P18=\"\", 0, P18 - IF(P17=\"\", LOOKUP(2, 1/(IF(ISNUMBER(P$10:P17), P$10:P17, \"\" )<>\"\"), P$10:P17), P17)),0)","v":-5},0,5,0.39325370901788276,1.31040050685943,23.082953415835799,16455,{"$f":"IFERROR(IF(W18=\"\", 0, W18 - IF(W17=\"\", LOOKUP(2, 1/(IF(ISNUMBER(W$10:W17), W$10:W17, \"\" )<>\"\"), W$10:W17), W17)),0)","v":-5},0,5,1.6071913125773989,4.273074125574758,27.331951754246838,2019,{"$f":"IFERROR(IF(AD18=\"\", 0, AD18 - IF(AD17=\"\", LOOKUP(2, 1/(IF(ISNUMBER(AD$10:AD17), AD$10:AD17, \"\" )<>\"\"), AD$10:AD17), AD17)),0)","v":2},2,0,0.6109215706231661,0.19153849450961097,76.131087036970669,2319.5,{"$f":"IFERROR(IF(AK18=\"\", 0, AK18 - IF(AK17=\"\", LOOKUP(2, 1/(IF(ISNUMBER(AK$10:AK17), AK$10:AK17, \"\" )<>\"\"), AK$10:AK17), AK17)),0)","v":-1.5},0,1.5,0.5857909726225804,0.63546518940983387,47.966265459631927,9745,{"$f":"IFERROR(IF(AR18=\"\", 0, AR18 - IF(AR17=\"\", LOOKUP(2, 1/(IF(ISNUMBER(AR$10:AR17), AR$10:AR17, \"\" )<>\"\"), AR$10:AR17), AR17)),0)","v":8},8,0,2.4921411336174049,3.1672569761894205,44.035444852323174,2757,{"$f":"IFERROR(IF(AY18=\"\", 0, AY18 - IF(AY17=\"\", LOOKUP(2, 1/(IF(ISNUMBER(AY$10:AY17), AY$10:AY17, \"\" )<>\"\"), AY$10:AY17), AY17)),0)","v":2},2,0,0.44558469201712247,1.4722385344752145,23.233877130171614,1048,{"$f":"IFERROR(IF(BF18=\"\", 0, BF18 - IF(BF17=\"\", LOOKUP(2, 1/(IF(ISNUMBER(BF$10:BF17), BF$10:BF17, \"\" )<>\"\"), BF$10:BF17), BF17)),0)","v":1},1,0,0.32136887590525681,0.46163554623893344,41.043047371969593,12490,{"$f":"IFERROR(IF(BM18=\"\", 0, BM18 - IF(BM17=\"\", LOOKUP(2, 1/(IF(ISNUMBER(BM$10:BM17), BM$10:BM17, \"\" )<>\"\"), BM$10:BM17), BM17)),0)","v":30},30,0,8.6517295633069118,2.5397368172379235,77.306487542570977]
["2025/10/17 15:25:00",null,{"$f":"IFERROR(IF(B19=\"\", 0, B19 - IF(B18=\"\", LOOKUP(2, 1/(IF(ISNUMBER(B$10:B18), B$10:B18, \"\" )<>\"\"), B$10:B18), B18)),0)","v":0},0,0,0.81244016285752985,0.52466460830022565,60.761144555191763,null,{"$f":"IFERROR(IF(I19=\"\", 0, I19 - IF(I18=\"\", LOOKUP(2, 1/(IF(ISNUMBER(I$10:I18), I$10:I18, \"\" )<>\"\"), I$10:I18), I18)),0)","v":0},0,0,0.30821646505013789,1.0234030384353252,23.145986090125078,null,{"$f":"IFERROR(IF(P19=\"\", 0, P19 - IF(P18=\"\", LOOKUP(2, 1/(IF(ISNUMBER(P$10:P18), P$10:P18, \"\" )<>\"\"), P$10:P18), P18)),0)","v":0},0,0,0.39325370901788276,1.31040050685943,23.082953415835799,null,{"$f":"IFERROR(IF(W19=\"\", 0, W19 - IF(W18=\"\", LOOKUP(2, 1/(IF(ISNUMBER(W$10:W18), W$10:W18, \"\" )<>\"\"), W$10:W18), W18)),0)","v":0},0,0,1.6071913125773989,4.273074125574758,27.331951754246838,null,{"$f":"IFERROR(IF(AD19=\"\", 0, AD19 - IF(AD18=\"\", LOOKUP(2, 1/(IF(ISNUMBER(AD$10:AD18), AD$10:AD18, \"\" )<>\"\"), AD$10:AD18), AD18)),0)","v":0},0,0,0.6109215706231661,0.19153849450961097,76.131087036970669,null,{"$f":"IFERROR(IF(AK19=\"\", 0, AK19 - IF(AK18=\"\", LOOKUP(2, 1/(IF(ISNUMBER(AK$10:AK18), AK$10:AK18, \"\" )<>\"\"), AK$10:AK18), AK18)),0)","v":0},0,0,0.5857909726225804,0.63546518940983387,47.966265459631927,null,{"$f":"IFERROR(IF(AR19=\"\", 0, AR19 - IF(AR18=\"\", LOOKUP(2, 1/(IF(ISNUMBER(AR$10:AR18), AR$10:AR18, \"\" )<>\"\"), AR$10:AR18), AR18)),0)","v":0},0,0,2.4921411336174049,3.1672569761894205,44.035444852323174,null,{"$f":"IFERROR(IF(AY19=\"\", 0, AY19 - IF(AY18=\"\", LOOKUP(2, 1/(IF(ISNUMBER(AY$10:AY18), AY$10:AY18, \"\" )<>\"\"), AY$10:AY18), AY18)),0)","v":0},0,0,0.44558469201712247,1.4722385344752145,23.233877130171614,null,{"$f":"IFERROR(IF(BF19=\"\", 0, BF19 - IF(BF18=\"\", LOOKUP(2, 1/(IF(ISNUMBER(BF$10:BF18), BF$10:BF18, \"\" )<>\"\"), BF$10:BF18), BF18)),0)","v":0},0,0,0.32136887590525681,0.46163554623893344,41.043047371969593,null,{"$f":"IFERROR(IF(BM19=\"\", 0, BM19 - IF(BM18=\"\", LOOKUP(2, 1/(IF(ISNUMBER(BM$10:BM18), BM$10:BM18, \"\" )<>\"\"), BM$10:BM18), BM18)),0)","v":0},0,0,8.6517295633069118,2.5397368172379235,77.306487542570977]
["2025/10/17 15:26:00",null,{"$f":"IFERROR(IF(B20=\"\", 0, B20 - IF(B19=\"\", LOOKUP(2, 1/(IF(ISNUMBER(B$10:B19), B$10:B19, \"\" )<>\"\"), B$10:B19), B19)),0)","v":0},0,0,0.81244016285752985,0.52466460830022565,60.761144555191763,null,{"$f":"IFERROR(IF(I20=\"\", 0, I20 - IF(I19=\"\", LOOKUP(2, 1/(IF(ISNUMBER(I$10:I19), I$10:I19, \"\" )<>\"\"), I$10:I19), I19)),0)","v":0},0,0,0.30821646505013789,1.0234030384353252,23.145986090125078,null,{"$f":"IFERROR(IF(P20=\"\", 0, P20 - IF(P19=\"\", LOOKUP(2, 1/(IF(ISNUMBER(P$10:P19), P$10:P19, \"\" )<>\"\"), P$10:P19), P19)),0)","v":0},0,0,0.39325370901788276,1.31040050685943,23.082953415835799,null,{"$f":"IFERROR(IF(W20=\"\", 0, W20 - IF(W19=\"\", LOOKUP(2, 1/(IF(ISNUMBER(W$10:W19), W$10:W19, \"\" )<>\"\"), W$10:W19), W19)),0)","v":0},0,0,1.6071913125773989,4.273074125574758,27.331951754246838,null,{"$f":"IFERROR(IF(AD20=\"\", 0, AD20 - IF(AD19=\"\", LOOKUP(2, 1/(IF(ISNUMBER(AD$10:AD19), AD$10:AD19, \"\" )<>\"\"), AD$10:AD19), AD19)),0)","v":0},0,0,0.6109215706231661,0.19153849450961097,76.131087036970669,null,{"$f":"IFERROR(IF(AK20=\"\", 0, AK20 - IF(AK19=\"\", LOOKUP(2, 1/(IF(ISNUMBER(AK$10:AK19), AK$10:AK19, \"\" )<>\"\"), AK$10:AK19), AK19)),0)","v":0},0,0,0.5857909726225804,0.63546518940983387,47.966265459631927,null,{"$f":"IFERROR(IF(AR20=\"\", 0, AR20 - IF(AR19=\"\", LOOKUP(2, 1/(IF(ISNUMBER(AR$10:AR19), AR$10:AR19, \"\" )<>\"\"), AR$10:AR19), AR19)),0)","v":0},0,0,2.4921411336174049,3.1672569761894205,44.035444852323174,null,{"$f":"IFERROR(IF(AY20=\"\", 0, AY20 - IF(AY19=\"\", LOOKUP(2, 1/(IF(ISNUMBER(AY$10:AY19), AY$10:AY19, \"\" )<>\"\"), AY$10:AY19), AY19)),0)","v":0},0,0,0.44558469201712247,1.4722385344752145,23.233877130171614,null,{"$f":"IFERROR(IF(BF20=\"\", 0, BF20 - IF(BF19=\"\", LOOKUP(2, 1/(IF(ISNUMBER(BF$10:BF19), BF$10:BF19, \"\" )<>\"\"), BF$10:BF19), BF19)),0)","v":0},0,0,0.32136887590525681,0.46163554623893344,41.043047371969593,null,{"$f":"IFERROR(IF(BM20=\"\", 0, BM20 - IF(BM19=\"\", LOOKUP(2, 1/(IF(ISNUMBER(BM$10:BM19), BM$10:BM19, \"\" )<>\"\"), BM$10:BM19), BM19)),0)","v":0},0,0,8.6517295633069118,2.5397368172379235,77.306487542570977]
["2025/10/17 15:27:00",null,{"$f":"IFERROR(IF(B21=\"\", 0, B21 - IF(B20=\"\", LOOKUP(2, 1/(IF(ISNUMBER(B$10:B20), B$10:B20, \"\" )<>\"\"), B$10:B20), B20)),0)","v":0},0,0,0.81244016285752985,0.52466460830022565,60.761144555191763,null,{"$f":"IFERROR(IF(I21=\"\", 0, I21 - IF(I20=\"\", LOOKUP(2, 1/(IF(ISNUMBER(I$10:I20), I$10:I20, \"\" )<>\"\"), I$10:I20), I20)),0)","v":0},0,0,0.30821646505013789,1.0234030384353252,23.145986090125078,null,{"$f":"IFERROR(IF(P21=\"\", 0, P21 - IF(P20=\"\", LOOKUP(2, 1/(IF(ISNUMBER(P$10:P20), P$10:P20, \"\" )<>\"\"), P$10:P20), P20)),0)","v":0},0,0,0.39325370901788276,1.31040050685943,23.082953415835799,null,{"$f":"IFERROR(IF(W21=\"\", 0, W21 - IF(W20=\"\", LOOKUP(2, 1/(IF(ISNUMBER(W$10:W20), W$10:W20, \"\" )<>\"\"), W$10:W20), W20)),0)","v":0},0,0,1.6071913125773989,4.273074125574758,27.331951754246838,null,{"$f":"IFERROR(IF(AD21=\"\", 0, AD21 - IF(AD20=\"\", LOOKUP(2, 1/(IF(ISNUMBER(AD$10:AD20), AD$10:AD20, \"\" )<>\"\"), AD$10:AD20), AD20)),0)","v":0},0,0,0.6109215706231661,0.19153849450961097,76.131087036970669,null,{"$f":"IFERROR(IF(AK21=\"\", 0, AK21 - IF(AK20=\"\", LOOKUP(2, 1/(IF(ISNUMBER(AK$10:AK20), AK$10:AK20, \"\" )<>\"\"), AK$10:AK20), AK20)),0)","v":0},0,0,0.5857909726225804,0.63546518940983387,47.966265459631927,null,{"$f":"IFERROR(IF(AR21=\"\", 0, AR21 - IF(AR20=\"\", LOOKUP(2, 1/(IF(ISNUMBER(AR$10:AR20), AR$10:AR20, \"\" )<>\"\"), AR$10:AR20), AR20)),0)","v":0},0,0,2.4921411336174049,3.1672569761894205,44.035444852323174,null,{"$f":"IFERROR(IF(AY21=\"\", 0, AY21 - IF(AY20=\"\", LOOKUP(2, 1/(IF(ISNUMBER(AY$10:AY20), AY$10:AY20, \"\" )<>\"\"), AY$10:AY20), AY20)),0)","v":0},0,0,0.44558469201712247,1.4722385344752145,23.233877130171614,null,{"$f":"IFERROR(IF(BF21=\"\", 0, BF21 - IF(BF20=\"\", LOOKUP(2, 1/(IF(ISNUMBER(BF$10:BF20), BF$10:BF20, \"\" )<>\"\"), BF$10:BF20), BF20)),0)","v":0},0,0,0.32136887590525681,0.46163554623893344,41.043047371969593,null,{"$f":"IFERROR(IF(BM21=\"\", 0, BM21 - IF(BM20=\"\", LOOKUP(2, 1/(IF(ISNUMBER(BM$10:BM20), BM$10:BM20, \"\" )<>\"\"), BM$10:BM20), BM20)),0)","v":0},0,0,8.6517295633069118,2.5397368172379235,77.306487542570977]
["2025/10/17 15:28:00",null,{"$f":"IFERROR(IF(B22=\"\", 0, B22 - IF(B21=\"\", LOOKUP(2, 1/(IF(ISNUMBER(B$10:B21), B$10:B21, \"\" )<>\"\"), B$10:B21), B21)),0)","v":0},0,0,0.81244016285752985,0.52466460830022565,60.761144555191763,null,{"$f":"IFERROR(IF(I22=\"\", 0, I22 - IF(I21=\"\", LOOKUP(2, 1/(IF(ISNUMBER(I$10:I21), I$10:I21, \"\" )<>\"\"), I$10:I21), I21)),0)","v":0},0,0,0.30821646505013789,1.0234030384353252,23.145986090125078,null,{"$f":"IFERROR(IF(P22=\"\", 0, P22 - IF(P21=\"\", LOOKUP(2, 1/(IF(ISNUMBER(P$10:P21), P$10:P21, \"\" )<>\"\"), P$10:P21), P21)),0)","v":0},0,0,0.39325370901788276,1.31040050685943,23.082953415835799,null,{"$f":"IFERROR(IF(W22=\"\", 0, W22 - IF(W21=\"\", LOOKUP(2, 1/(IF(ISNUMBER(W$10:W21), W$10:W21, \"\" )<>\"\"), W$10:W21), W21)),0)","v":0},0,0,1.6071913125773989,4.273074125574758,27.331951754246838,null,{"$f":"IFERROR(IF(AD22=\"\", 0, AD22 - IF(AD21=\"\", LOOKUP(2, 1/(IF(ISNUMBER(AD$10:AD21), AD$10:AD21, \"\" )<>\"\"), AD$10:AD21), AD21)),0)","v":0},0,0,0.6109215706231661,0.19153849450961097,76.131087036970669,null,{"$f":"IFERROR(IF(AK22=\"\", 0, AK22 - IF(AK21=\"\", LOOKUP(2, 1/(IF(ISNUMBER(AK$10:AK21), AK$10:AK21, \"\" )<>\"\"), AK$10:AK21), AK21)),0)","v":0},0,0,0.5857909726225804,0.63546518940983387,47.966265459631927,null,{"$f":"IFERROR(IF(AR22=\"\", 0, AR22 - IF(AR21=\"\", LOOKUP(2, 1/(IF(ISNUMBER(AR$10:AR21), AR$10:AR21, \"\" )<>\"\"), AR$10:AR21), AR21)),0)","v":0},0,0,2.4921411336174049,3.1672569761894205,44.035444852323174,null,{"$f":"IFERROR(IF(AY22=\"\", 0, AY22 - IF(AY21=\"\", LOOKUP(2, 1/(IF(ISNUMBER(AY$10:AY21), AY$10:AY21, \"\" )<>\"\"), AY$10:AY21), AY21)),0)","v":0},0,0,0.44558469201712247,1.4722385344752145,23.233877130171614,null,{"$f":"IFERROR(IF(BF22=\"\", 0, BF22 - IF(BF21=\"\", LOOKUP(2, 1/(IF(ISNUMBER(BF$10:BF21), BF$10:BF21, \"\" )<>\"\"), BF$10:BF21), BF21)),0)","v":0},0,0,0.32136887590525681,0.46163554623893344,41.043047371969593,null,{"$f":"IFERROR(IF(BM22=\"\", 0, BM22 - IF(BM21=\"\", LOOKUP(2, 1/(IF(ISNUMBER(BM$10:BM21), BM$10:BM21, \"\" )<>\"\"), BM$10:BM21), BM21)),0)","v":0},0,0,8.6517295633069118,2.5397368172379235,77.306487542570977]
["2025/10/17 15:29:00",null,{"$f":"IFERROR(IF(B23=\"\", 0, B23 - IF(B22=\"\", LOOKUP(2, 1/(IF(ISNUMBER(B$10:B22), B$10:B22, \"\" )<>\"\"), B$10:B22), B22)),0)","v":0},0,0,0.81244016285752985,0.52466460830022565,60.761144555191763,null,{"$f":"IFERROR(IF(I23=\"\", 0, I23 - IF(I22=\"\", LOOKUP(2, 1/(IF(ISNUMBER(I$10:I22), I$10:I22, \"\" )<>\"\"), I$10:I22), I22)),0)","v":0},0,0,0.30821646505013789,1.0234030384353252,23.145986090125078,null,{"$f":"IFERROR(IF(P23=\"\", 0, P23 - IF(P22=\"\", LOOKUP(2, 1/(IF(ISNUMBER(P$10:P22), P$10:P22, \"\" )<>\"\"), P$10:P22), P22)),0)","v":0},0,0,0.39325370901788276,1.31040050685943,23.082953415835799,null,{"$f":"IFERROR(IF(W23=\"\", 0, W23 - IF(W22=\"\", LOOKUP(2, 1/(IF(ISNUMBER(W$10:W22), W$10:W22, \"\" )<>\"\"), W$10:W22), W22)),0)","v":0},0,0,1.6071913125773989,4.273074125574758,27.331951754246838,null,{"$f":"IFERROR(IF(AD23=\"\", 0, AD23 - IF(AD22=\"\", LOOKUP(2, 1/(IF(ISNUMBER(AD$10:AD22), AD$10:AD22, \"\" )<>\"\"), AD$10:AD22), AD22)),0)","v":0},0,0,0.6109215706231661,0.19153849450961097,76.131087036970669,null,{"$f":"IFERROR(IF(AK23=\"\", 0, AK23 - IF(AK22=\"\", LOOKUP(2, 1/(IF(ISNUMBER(AK$10:AK22), AK$10:AK22, \"\" )<>\"\"), AK$10:AK22), AK22)),0)","v":0},0,0,0.5857909726225804,0.63546518940983387,47.966265459631927,null,{"$f":"IFERROR(IF(AR23=\"\", 0, AR23 - IF(AR22=\"\", LOOKUP(2, 1/(IF(ISNUMBER(AR$10:AR22), AR$10:AR22, \"\" )<>\"\"), AR$10:AR22), AR22)),0)","v":0},0,0,2.4921411336174049,3.1672569761894205,44.035444852323174,null,{"$f":"IFERROR(IF(AY23=\"\", 0, AY23 - IF(AY22=\"\", LOOKUP(2, 1/(IF(ISNUMBER(AY$10:AY22), AY$10:AY22, \"\" )<>\"\"), AY$10:AY22), AY22)),0)","v":0},0,0,0.44558469201712247,1.4722385344752145,23.233877130171614,null,{"$f":"IFERROR(IF(BF23=\"\", 0, BF23 - IF(BF22=\"\", LOOKUP(2, 1/(IF(ISNUMBER(BF$10:BF22), BF$10:BF22, \"\" )<>\"\"), BF$10:BF22), BF22)),0)","v":0},0,0,0.32136887590525681,0.46163554623893344,41.043047371969593,null,{"$f":"IFERROR(IF(BM23=\"\", 0, BM23 - IF(BM22=\"\", LOOKUP(2, 1/(IF(ISNUMBER(BM$10:BM22), BM$10:BM22, \"\" )<>\"\"), BM$10:BM22), BM22)),0)","v":0},0,0,8.6517295633069118,2.5397368172379235,77.306487542570977]
["2025/10/17 15:30:00",2309.5,{"$f":"IFERROR(IF(B24=\"\", 0, B24 - IF(B23=\"\", LOOKUP(2, 1/(IF(ISNUMBER(B$10:B23), B$10:B23, \"\" )<>\"\"), B$10:B23), B23)),0)","v":-8},0,8,0.75440872265342052,1.0586171362787808,41.610477806297617,4897,{"$f":"IFERROR(IF(I24=\"\", 0, I24 - IF(I23=\"\", LOOKUP(2, 1/(IF(ISNUMBER(I$10:I23), I$10:I23, \"\" )<>\"\"), I$10:I23), I23)),0)","v":4},4,0,0.57191528897512811,0.95030282140423061,37.571178865596245,4458,{"$f":"IFERROR(IF(P24=\"\", 0, P24 - IF(P23=\"\", LOOKUP(2, 1/(IF(ISNUMBER(P$10:P23), P$10:P23, \"\" )<>\"\"), P$10:P23), P23)),0)","v":5},5,0,0.72230701551660537,1.2168004706551849,37.249457323409786,16445,{"$f":"IFERROR(IF(W24=\"\", 0, W24 - IF(W23=\"\", LOOKUP(2, 1/(IF(ISNUMBER(W$10:W23), W$10:W23, \"\" )<>\"\"), W$10:W23), W23)),0)","v":-10},0,10,1.4923919331075848,4.6821402594622743,24.170121501730268,2021,{"$f":"IFERROR(IF(AD24=\"\", 0, AD24 - IF(AD23=\"\", LOOKUP(2, 1/(IF(ISNUMBER(AD$10:AD23), AD$10:AD23, \"\" )<>\"\"), AD$10:AD23), AD23)),0)","v":2},2,0,0.71014145843579712,0.17785717347321017,79.971008165760878,2313,{"$f":"IFERROR(IF(AK24=\"\", 0, AK24 - IF(AK23=\"\", LOOKUP(2, 1/(IF(ISNUMBER(AK$10:AK23), AK$10:AK23, \"\" )<>\"\"), AK$10:AK23), AK23)),0)","v":-6.5},0,6.5,0.54394876029239614,1.0543605330234171,34.032759652165531,9728,{"$f":"IFERROR(IF(AR24=\"\", 0, AR24 - IF(AR23=\"\", LOOKUP(2, 1/(IF(ISNUMBER(AR$10:AR23), AR$10:AR23, \"\" )<>\"\"), AR$10:AR23), AR23)),0)","v":-17},0,17,2.3141310526447332,4.1553100493187474,35.770185031012844,2752,{"$f":"IFERROR(IF(AY24=\"\", 0, AY24 - IF(AY23=\"\", LOOKUP(2, 1/(IF(ISNUMBER(AY$10:AY23), AY$10:AY23, \"\" )<>\"\"), AY$10:AY23), AY23)),0)","v":-5},0,5,0.41375721401589949,1.7242214962984135,19.352728444853003,1044,{"$f":"IFERROR(IF(BF24=\"\", 0, BF24 - IF(BF23=\"\", LOOKUP(2, 1/(IF(ISNUMBER(BF$10:BF23), BF$10:BF23, \"\" )<>\"\"), BF$10:BF23), BF23)),0)","v":-4},0,4,0.29841395619773847,0.714375864364724,29.464549321004373,12470,{"$f":"IFERROR(IF(BM24=\"\", 0, BM24 - IF(BM23=\"\", LOOKUP(2, 1/(IF(ISNUMBER(BM$10:BM23), BM$10:BM23, \"\" )<>\"\"), BM$10:BM23), BM23)),0)","v":-20},0,20,8.0337488802135617,3.7868984731495003,67.963696403885194]
["---","---",{"$f":"IFERROR(IF(B25=\"\", 0, B25 - IF(B24=\"\", LOOKUP(2, 1/(IF(ISNUMBER(B$10:B24), B$10:B24, \"\" )<>\"\"), B$10:B24), B24)),0)","v":0},0,0,0.75440872265342052,1.0586171362787808,41.610477806297617,"---",{"$f":"IFERROR(IF(I25=\"\", 0, I25 - IF(I24=\"\", LOOKUP(2, 1/(IF(ISNUMBER(I$10:I24), I$10:I24, \"\" )<>\"\"), I$10:I24), I24)),0)","v":0},0,0,0.57191528897512811,0.95030282140423061,37.571178865596245,"---",{"$f":"IFERROR(IF(P25=\"\", 0, P25 - IF(P24=\"\", LOOKUP(2, 1/(IF(ISNUMBER(P$10:P24), P$10:P24, \"\" )<>\"\"), P$10:P24), P24)),0)","v":0},0,0,0.72230701551660537,1.2168004706551849,37.249457323409786,"---",{"$f":"IFERROR(IF(W25=\"\", 0, W25 - IF(W24=\"\", LOOKUP(2, 1/(IF(ISNUMBER(W$10:W24), W$10:W24, \"\" )<>\"\"), W$10:W24), W24)),0)","v":0},0,0,1.4923919331075848,4.6821402594622743,24.170121501730268,"---",{"$f":"IFERROR(IF(AD25=\"\", 0, AD25 - IF(AD24=\"\", LOOKUP(2, 1/(IF(ISNUMBER(AD$10:AD24), AD$10:AD24, \"\" )<>\"\"), AD$10:AD24), AD24)),0)","v":0},0,0,0.71014145843579712,0.17785717347321017,79.971008165760878,"---",{"$f":"IFERROR(IF(AK25=\"\", 0, AK25 - IF(AK24=\"\", LOOKUP(2, 1/(IF(ISNUMBER(AK$10:AK24), AK$10:AK24, \"\" )<>\"\"), AK$10:AK24), AK24)),0)","v":0},0,0,0.54394876029239614,1.0543605330234171,34.032759652165531,"---",{"$f":"IFERROR(IF(AR25=\"\", 0, AR25 - IF(AR24=\"\", LOOKUP(2, 1/(IF(ISNUMBER(AR$10:AR24), AR$10:AR24, \"\" )<>\"\"), AR$10:AR24), AR24)),0)","v":0},0,0,2.3141310526447332,4.1553100493187474,35.770185031012844,"---",{"$f":"IFERROR(IF(AY25=\"\", 0, AY25 - IF(AY24=\"\", LOOKUP(2, 1/(IF(ISNUMBER(AY$10:AY24), AY$10:AY24, \"\" )<>\"\"), AY$10:AY24), AY24)),0)","v":0},0,0,0.41375721401589949,1.7242214962984135,19.352728444853003,"---",{"$f":"IFERROR(IF(BF25=\"\", 0, BF25 - IF(BF24=\"\", LOOKUP(2, 1/(IF(ISNUMBER(BF$10:BF24), BF$10:BF24, \"\" )<>\"\"), BF$10:BF24), BF24)),0)","v":0},0,0,0.29841395619773847,0.714375864364724,29.464549321004373,"---",{"$f":"IFERROR(IF(BM25=\"\", 0, BM25 - IF(BM24=\"\", LOOKUP(2, 1/(IF(ISNUMBER(BM$10:BM24), BM$10:BM24, \"\" )<>\"\"), BM$10:BM24), BM24)),0)","v":0},0,0,8.0337488802135617,3.7868984731495003,67.963696403885194]
[null,null,{"$f":"IFERROR(IF(B26=\"\", 0, B26 - IF(B25=\"\", LOOKUP(2, 1/(IF(ISNUMBER(B$10:B25), B$10:B25, \"\" )<>\"\"), B$10:B25), B25)),0)","v":0},0,0,0.75440872265342052,1.0586171362787808,41.610477806297617,null,{"$f":"IFERROR(IF(I26=\"\", 0, I26 - IF(I25=\"\", LOOKUP(2, 1/(IF(ISNUMBER(I$10:I25), I$10:I25, \"\" )<>\"\"), I$10:I25), I25)),0)","v":0},0,0,0.57191528897512811,0.95030282140423061,37.571178865596245,null,{"$f":"IFERROR(IF(P26=\"\", 0, P26 - IF(P25=\"\", LOOKUP(2, 1/(IF(ISNUMBER(P$10:P25), P$10:P25, \"\" )<>\"\"), P$10:P25), P25)),0)","v":0},0,0,0.72230701551660537,1.2168004706551849,37.249457323409786,null,{"$f":"IFERROR(IF(W26=\"\", 0, W26 - IF(W25=\"\", LOOKUP(2, 1/(IF(ISNUMBER(W$10:W25), W$10:W25, \"\" )<>\"\"), W$10:W25), W25)),0)","v":0},0,0,1.4923919331075848,4.6821402594622743,24.170121501730268,null,{"$f":"IFERROR(IF(AD26=\"\", 0, AD26 - IF(AD25=\"\", LOOKUP(2, 1/(IF(ISNUMBER(AD$10:AD25), AD$10:AD25, \"\" )<>\"\"), AD$10:AD25), AD25)),0)","v":0},0,0,0.71014145843579712,0.17785717347321017,79.971008165760878,null,{"$f":"IFERROR(IF(AK26=\"\", 0, AK26 - IF(AK25=\"\", LOOKUP(2, 1/(IF(ISNUMBER(AK$10:AK25), AK$10:AK25, \"\" )<>\"\"), AK$10:AK25), AK25)),0)","v":0},0,0,0.54394876029239614,1.0543605330234171,34.032759652165531,null,{"$f":"IFERROR(IF(AR26=\"\", 0, AR26 - IF(AR25=\"\", LOOKUP(2, 1/(IF(ISNUMBER(AR$10:AR25), AR$10:AR25, \"\" )<>\"\"), AR$10:AR25), AR25)),0)","v":0},0,0,2.3141310526447332,4.1553100493187474,35.770185031012844,null,{"$f":"IFERROR(IF(AY26=\"\", 0, AY26 - IF(AY25=\"\", LOOKUP(2, 1/(IF(ISNUMBER(AY$10:AY25), AY$10:AY25, \"\" )<>\"\"), AY$10:AY25), AY25)),0)","v":0},0,0,0.41375721401589949,1.7242214962984135,19.352728444853003,null,{"$f":"IFERROR(IF(BF26=\"\", 0, BF26 - IF(BF25=\"\", LOOKUP(2, 1/(IF(ISNUMBER(BF$10:BF25), BF$10:BF25, \"\" )<>\"\"), BF$10:BF25), BF25)),0)","v":0},0,0,0.29841395619773847,0.714375864364724,29.464549321004373,null,{"$f":"IFERROR(IF(BM26=\"\", 0, BM26 - IF(BM25=\"\", LOOKUP(2, 1/(IF(ISNUMBER(BM$10:BM25), BM$10:BM25, \"\" )<>\"\"), BM$10:BM25), BM25)),0)","v":0},0,0,8.0337488802135617,3.7868984731495003,67.963696403885194]
[null,null,{"$f":"IFERROR(IF(B27=\"\", 0, B27 - IF(B26=\"\", LOOKUP(2, 1/(IF(ISNUMBER(B$10:B26), B$10:B26, \"\" )<>\"\"), B$10:B26), B26)),0)","v":0},0,0,0.75440872265342052,1.0586171362787808,41.610477806297617,null,{"$f":"IFERROR(IF(I27=\"\", 0, I27 - IF(I26=\"\", LOOKUP(2, 1/(IF(ISNUMBER(I$10:I26), I$10:I26, \"\" )<>\"\"), I$10:I26), I26)),0)","v":0},0,0,0.57191528897512811,0.95030282140423061,37.571178865596245,null,{"$f":"IFERROR(IF(P27=\"\", 0, P27 - IF(P26=\"\", LOOKUP(2, 1/(IF(ISNUMBER(P$10:P26), P$10:P26, \"\" )<>\"\"), P$10:P26), P26)),0)","v":0},0,0,0.72230701551660537,1.2168004706551849,37.249457323409786,null,{"$f":"IFERROR(IF(W27=\"\", 0, W27 - IF(W26=\"\", LOOKUP(2, 1/(IF(ISNUMBER(W$10:W26), W$10:W26, \"\" )<>\"\"), W$10:W26), W26)),0)","v":0},0,0,1.4923919331075848,4.6821402594622743,24.170121501730268,null,{"$f":"IFERROR(IF(AD27=\"\", 0, AD27 - IF(AD26=\"\", LOOKUP(2, 1/(IF(ISNUMBER(AD$10:AD26), AD$10:AD26, \"\" )<>\"\"), AD$10:AD26), AD26)),0)","v":0},0,0,0.71014145843579712,0.17785717347321017,79.971008165760878,null,{"$f":"IFERROR(IF(AK27=\"\", 0, AK27 - IF(AK26=\"\", LOOKUP(2, 1/(IF(ISNUMBER(AK$10:AK26), AK$10:AK26, \"\" )<>\"\"), AK$10:AK26), AK26)),0)","v":0},0,0,0.54394876029239614,1.0543605330234171,34.032759652165531,null,{"$f":"IFERROR(IF(AR27=\"\", 0, AR27 - IF(AR26=\"\", LOOKUP(2, 1/(IF(ISNUMBER(AR$10:AR26), AR$10:AR26, \"\" )<>\"\"), AR$10:AR26), AR26)),0)","v":0},0,0,2.3141310526447332,4.1553100493187474,35.770185031012844,null,{"$f":"IFERROR(IF(AY27=\"\", 0, AY27 - IF(AY26=\"\", LOOKUP(2, 1/(IF(ISNUMBER(AY$10:AY26), AY$10:AY26, \"\" )<>\"\"), AY$10:AY26), AY26)),0)","v":0},0,0,0.41375721401589949,1.7242214962984135,19.352728444853003,null,{"$f":"IFERROR(IF(BF27=\"\", 0, BF27 - IF(BF26=\"\", LOOKUP(2, 1/(IF(ISNUMBER(BF$10:BF26), BF$10:BF26, \"\" )<>\"\"), BF$10:BF26), BF26)),0)","v":0},0,0,0.29841395619773847,0.714375864364724,29.464549321004373,null,{"$f":"IFERROR(IF(BM27=\"\", 0, BM27 - IF(BM26=\"\", LOOKUP(2, 1/(IF(ISNUMBER(BM$10:BM26), BM$10:BM26, \"\" )<>\"\"), BM$10:BM26), BM26)),0)","v":0},0,0,8.0337488802135617,3.7868984731495003,67.963696403885194]
[null,null,{"$f":"IFERROR(IF(B28=\"\", 0, B28 - IF(B27=\"\", LOOKUP(2, 1/(IF(ISNUMBER(B$10:B27), B$10:B27, \"\" )<>\"\"), B$10:B27), B27)),0)","v":0},0,0,0.75440872265342052,1.0586171362787808,41.610477806297617,null,{"$f":"IFERROR(IF(I28=\"\", 0, I28 - IF(I27=\"\", LOOKUP(2, 1/(IF(ISNUMBER(I$10:I27), I$10:I27, \"\" )<>\"\"), I$10:I27), I27)),0)","v":0},0,0,0.57191528897512811,0.95030282140423061,37.571178865596245,null,{"$f":"IFERROR(IF(P28=\"\", 0, P28 - IF(P27=\"\", LOOKUP(2, 1/(IF(ISNUMBER(P$10:P27), P$10:P27, \"\" )<>\"\"), P$10:P27), P27)),0)","v":0},0,0,0.72230701551660537,1.2168004706551849,37.249457323409786,null,{"$f":"IFERROR(IF(W28=\"\", 0, W28 - IF(W27=\"\", LOOKUP(2, 1/(IF(ISNUMBER(W$10:W27), W$10:W27, \"\" )<>\"\"), W$10:W27), W27)),0)","v":0},0,0,1.4923919331075848,4.6821402594622743,24.170121501730268,null,{"$f":"IFERROR(IF(AD28=\"\", 0, AD28 - IF(AD27=\"\", LOOKUP(2, 1/(IF(ISNUMBER(AD$10:AD27), AD$10:AD27, \"\" )<>\"\"), AD$10:AD27), AD27)),0)","v":0},0,0,0.71014145843579712,0.17785717347321017,79.971008165760878,null,{"$f":"IFERROR(IF(AK28=\"\", 0, AK28 - IF(AK27=\"\", LOOKUP(2, 1/(IF(ISNUMBER(AK$10:AK27), AK$10:AK27, \"\" )<>\"\"), AK$10:AK27), AK27)),0)","v":0},0,0,0.54394876029239614,1.0543605330234171,34.032759652165531,null,{"$f":"IFERROR(IF(AR28=\"\", 0, AR28 - IF(AR27=\"\", LOOKUP(2, 1/(IF(ISNUMBER(AR$10:AR27), AR$10:AR27, \"\" )<>\"\"), AR$10:AR27), AR27)),0)","v":0},0,0,2.3141310526447332,4.1553100493187474,35.770185031012844,null,{"$f":"IFERROR(IF(AY28=\"\", 0, AY28 - IF(AY27=\"\", LOOKUP(2, 1/(IF(ISNUMBER(AY$10:AY27), AY$10:AY27, \"\" )<>\"\"), AY$10:AY27), AY27)),0)","v":0},0,0,0.41375721401589949,1.7242214962984135,19.352728444853003,null,{"$f":"IFERROR(IF(BF28=\"\", 0, BF28 - IF(BF27=\"\", LOOKUP(2, 1/(IF(ISNUMBER(BF$10:BF27), BF$10:BF27, \"\" )<>\"\"), BF$10:BF27), BF27)),0)","v":0},0,0,0.29841395619773847,0.714375864364724,29.464549321004373,null,{"$f":"IFERROR(IF(BM28=\"\", 0, BM28 - IF(BM27=\"\", LOOKUP(2, 1/(IF(ISNUMBER(BM$10:BM27), BM$10:BM27, \"\" )<>\"\"), BM$10:BM27), BM27)),0)","v":0},0,0,8.0337488802135617,3.7868984731495003,67.963696403885194]
[null,null,{"$f":"IFERROR(IF(B29=\"\", 0, B29 - IF(B28=\"\", LOOKUP(2, 1/(IF(ISNUMBER(B$10:B28), B$10:B28, \"\" )<>\"\"), B$10:B28), B28)),0)","v":0},0,0,0.75440872265342052,1.0586171362787808,{"$f":"IFERROR(F29/(F29+G29)*100,H28)","v":41.610477806297617},null,{"$f":"IFERROR(IF(I29=\"\", 0, I29 - IF(I28=\"\", LOOKUP(2, 1/(IF(ISNUMBER(I$10:I28), I$10:I28, \"\" )<>\"\"), I$10:I28), I28)),0)","v":0},0,0,0.57191528897512811,0.95030282140423061,37.571178865596245,null,{"$f":"IFERROR(IF(P29=\"\", 0, P29 - IF(P28=\"\", LOOKUP(2, 1/(IF(ISNUMBER(P$10:P28), P$10:P28, \"\" )<>\"\"), P$10:P28), P28)),0)","v":0},0,0,0.72230701551660537,1.2168004706551849,37.249457323409786,null,{"$f":"IFERROR(IF(W29=\"\", 0, W29 - IF(W28=\"\", LOOKUP(2, 1/(IF(ISNUMBER(W$10:W28), W$10:W28, \"\" )<>\"\"), W$10:W28), W28)),0)","v":0},0,0,1.4923919331075848,4.6821402594622743,24.170121501730268,null,{"$f":"IFERROR(IF(AD29=\"\", 0, AD29 - IF(AD28=\"\", LOOKUP(2, 1/(IF(ISNUMBER(AD$10:AD28), AD$10:AD28, \"\" )<>\"\"), AD$10:AD28), AD28)),0)","v":0},0,0,0.71014145843579712,0.17785717347321017,79.971008165760878,null,{"$f":"IFERROR(IF(AK29=\"\", 0, AK29 - IF(AK28=\"\", LOOKUP(2, 1/(IF(ISNUMBER(AK$10:AK28), AK$10:AK28, \"\" )<>\"\"), AK$10:AK28), AK28)),0)","v":0},0,0,0.54394876029239614,1.0543605330234171,34.032759652165531,null,{"$f":"IFERROR(IF(AR29=\"\", 0, AR29 - IF(AR28=\"\", LOOKUP(2, 1/(IF(ISNUMBER(AR$10:AR28), AR$10:AR28, \"\" )<>\"\"), AR$10:AR28), AR28)),0)","v":0},0,0,2.3141310526447332,4.1553100493187474,35.770185031012844,null,{"$f":"IFERROR(IF(AY29=\"\", 0, AY29 - IF(AY28=\"\", LOOKUP(2, 1/(IF(ISNUMBER(AY$10:AY28), AY$10:AY28, \"\" )<>\"\"), AY$10:AY28), AY28)),0)","v":0},0,0,0.41375721401589949,1.7242214962984135,19.352728444853003,null,{"$f":"IFERROR(IF(BF29=\"\", 0, BF29 - IF(BF28=\"\", LOOKUP(2, 1/(IF(ISNUMBER(BF$10:BF28), BF$10:BF28, \"\" )<>\"\"), BF$10:BF28), BF28)),0)","v":0},0,0,0.29841395619773847,0.714375864364724,29.464549321004373,null,{"$f":"IFERROR(IF(BM29=\"\", 0, BM29 - IF(BM28=\"\", LOOKUP(2, 1/(IF(ISNUMBER(BM$10:BM28), BM$10:BM28, \"\" )<>\"\"), BM$10:BM28), BM28)),0)","v":0},0,0,8.0337488802135617,3.7868984731495003,67.963696403885194]
[null,null,{"$f":"IFERROR(IF(B30=\"\", 0, B30 - IF(B29=\"\", LOOKUP(2, 1/(IF(ISNUMBER(B$10:B29), B$10:B29, \"\" )<>\"\"), B$10:B29), B29)),0)","v":0},0,0,0.75440872265342052,1.0586171362787808,{"$f":"IFERROR(F30/(F30+G30)*100,H29)","v":41.610477806297617},null,{"$f":"IFERROR(IF(I30=\"\", 0, I30 - IF(I29=\"\", LOOKUP(2, 1/(IF(ISNUMBER(I$10:I29), I$10:I29, \"\" )<>\"\"), I$10:I29), I29)),0)","v":0},0,0,0.57191528897512811,0.95030282140423061,37.571178865596245,null,{"$f":"IFERROR(IF(P30=\"\", 0, P30 - IF(P29=\"\", LOOKUP(2, 1/(IF(ISNUMBER(P$10:P29), P$10:P29, \"\" )<>\"\"), P$10:P29), P29)),0)","v":0},0,0,0.72230701551660537,1.2168004706551849,37.249457323409786,null,{"$f":"IFERROR(IF(W30=\"\", 0, W30 - IF(W29=\"\", LOOKUP(2, 1/(IF(ISNUMBER(W$10:W29), W$10:W29, \"\" )<>\"\"), W$10:W29), W29)),0)","v":0},0,0,1.4923919331075848,4.6821402594622743,24.170121501730268,null,{"$f":"IFERROR(IF(AD30=\"\", 0, AD30 - IF(AD29=\"\", LOOKUP(2, 1/(IF(ISNUMBER(AD$10:AD29), AD$10:AD29, \"\" )<>\"\"), AD$10:AD29), AD29)),0)","v":0},0,0,0.71014145843579712,0.17785717347321017,79.971008165760878,null,{"$f":"IFERROR(IF(AK30=\"\", 0, AK30 - IF(AK29=\"\", LOOKUP(2, 1/(IF(ISNUMBER(AK$10:AK29), AK$10:AK29, \"\" )<>\"\"), AK$10:AK29), AK29)),0)","v":0},0,0,0.54394876029239614,1.0543605330234171,34.032759652165531,null,{"$f":"IFERROR(IF(AR30=\"\", 0, AR30 - IF(AR29=\"\", LOOKUP(2, 1/(IF(ISNUMBER(AR$10:AR29), AR$10:AR29, \"\" )<>\"\"), AR$10:AR29), AR29)),0)","v":0},0,0,2.3141310526447332,4.1553100493187474,35.770185031012844,null,{"$f":"IFERROR(IF(AY30=\"\", 0, AY30 - IF(AY29=\"\", LOOKUP(2, 1/(IF(ISNUMBER(AY$10:AY29), AY$10:AY29, \"\" )<>\"\"), AY$10:AY29), AY29)),0)","v":0},0,0,0.41375721401589949,1.7242214962984135,19.352728444853003,null,{"$f":"IFERROR(IF(BF30=\"\", 0, BF30 - IF(BF29=\"\", LOOKUP(2, 1/(IF(ISNUMBER(BF$10:BF29), BF$10:BF29, \"\" )<>\"\"), BF$10:BF29), BF29)),0)","v":0},0,0,0.29841395619773847,0.714375864364724,29.464549321004373,null,{"$f":"IFERROR(IF(BM30=\"\", 0, BM30 - IF(BM29=\"\", LOOKUP(2, 1/(IF(ISNUMBER(BM$10:BM29), BM$10:BM29, \"\" )<>\"\"), BM$10:BM29), BM29)),0)","v":0},0,0,8.0337488802135617,3.7868984731495003,67.963696403885194]
[null,null,{"$f":"IFERROR(IF(B31=\"\", 0, B31 - IF(B30=\"\", LOOKUP(2, 1/(IF(ISNUMBER(B$10:B30), B$10:B30, \"\" )<>\"\"), B$10:B30), B30)),0)","v":0},0,0,0.75440872265342052,1.0586171362787808,41.610477806297617,null,{"$f":"IFERROR(IF(I31=\"\", 0, I31 - IF(I30=\"\", LOOKUP(2, 1/(IF(ISNUMBER(I$10:I30), I$10:I30, \"\" )<>\"\"), I$10:I30), I30)),0)","v":0},0,0,0.57191528897512811,0.95030282140423061,37.571178865596245,null,{"$f":"IFERROR(IF(P31=\"\", 0, P31 - IF(P30=\"\", LOOKUP(2, 1/(IF(ISNUMBER(P$10:P30), P$10:P30, \"\" )<>\"\"), P$10:P30), P30)),0)","v":0},0,0,0.72230701551660537,1.2168004706551849,37.249457323409786,null,{"$f":"IFERROR(IF(W31=\"\", 0, W31 - IF(W30=\"\", LOOKUP(2, 1/(IF(ISNUMBER(W$10:W30), W$10:W30, \"\" )<>\"\"), W$10:W30), W30)),0)","v":0},0,0,1.4923919331075848,4.6821402594622743,24.170121501730268,null,{"$f":"IFERROR(IF(AD31=\"\", 0, AD31 - IF(AD30=\"\", LOOKUP(2, 1/(IF(ISNUMBER(AD$10:AD30), AD$10:AD30, \"\" )<>\"\"), AD$10:AD30), AD30)),0)","v":0},0,0,0.71014145843579712,0.17785717347321017,79.971008165760878,null,{"$f":"IFERROR(IF(AK31=\"\", 0, AK31 - IF(AK30=\"\", LOOKUP(2, 1/(IF(ISNUMBER(AK$10:AK30), AK$10:AK30, \"\" )<>\"\"), AK$10:AK30), AK30)),0)","v":0},0,0,0.54394876029239614,1.0543605330234171,34.032759652165531,null,{"$f":"IFERROR(IF(AR31=\"\", 0, AR31 - IF(AR30=\"\", LOOKUP(2, 1/(IF(ISNUMBER(AR$10:AR30), AR$10:AR30, \"\" )<>\"\"), AR$10:AR30), AR30)),0)","v":0},0,0,2.3141310526447332,4.1553100493187474,35.770185031012844,null,{"$f":"IFERROR(IF(AY31=\"\", 0, AY31 - IF(AY30=\"\", LOOKUP(2, 1/(IF(ISNUMBER(AY$10:AY30), AY$10:AY30, \"\" )<>\"\"), AY$10:AY30), AY30)),0)","v":0},0,0,0.41375721401589949,1.7242214962984135,19.352728444853003,null,{"$f":"IFERROR(IF(BF31=\"\", 0, BF31 - IF(BF30=\"\", LOOKUP(2, 1/(IF(ISNUMBER(BF$10:BF30), BF$10:BF30, \"\" )<>\"\"), BF$10:BF30), BF30)),0)","v":0},0,0,0.29841395619773847,0.714375864364724,29.464549321004373,null,{"$f":"IFERROR(IF(BM31=\"\", 0, BM31 - IF(BM30=\"\", LOOKUP(2, 1/(IF(ISNUMBER(BM$10:BM30), BM$10:BM30, \"\" )<>\"\"), BM$10:BM30), BM30)),0)","v":0},0,0,8.0337488802135617,3.7868984731495003,67.963696403885194]
[null,null,{"$f":"IFERROR(IF(B32=\"\", 0, B32 - IF(B31=\"\", LOOKUP(2, 1/(IF(ISNUMBER(B$10:B31), B$10:B31, \"\" )<>\"\"), B$10:B31), B31)),0)","v":0},0,0,0.75440872265342052,1.0586171362787808,41.610477806297617,null,{"$f":"IFERROR(IF(I32=\"\", 0, I32 - IF(I31=\"\", LOOKUP(2, 1/(IF(ISNUMBER(I$10:I31), I$10:I31, \"\" )<>\"\"), I$10:I31), I31)),0)","v":0},0,0,0.57191528897512811,0.95030282140423061,37.571178865596245,null,{"$f":"IFERROR(IF(P32=\"\", 0, P32 - IF(P31=\"\", LOOKUP(2, 1/(IF(ISNUMBER(P$10:P31), P$10:P31, \"\" )<>\"\"), P$10:P31), P31)),0)","v":0},0,0,0.72230701551660537,1.2168004706551849,37.249457323409786,null,{"$f":"IFERROR(IF(W32=\"\", 0, W32 - IF(W31=\"\", LOOKUP(2, 1/(IF(ISNUMBER(W$10:W31), W$10:W31, \"\" )<>\"\"), W$10:W31), W31)),0)","v":0},0,0,1.4923919331075848,4.6821402594622743,24.170121501730268,null,{"$f":"IFERROR(IF(AD32=\"\", 0, AD32 - IF(AD31=\"\", LOOKUP(2, 1/(IF(ISNUMBER(AD$10:AD31), AD$10:AD31, \"\" )<>\"\"), AD$10:AD31), AD31)),0)","v":0},0,0,0.71014145843579712,0.17785717347321017,79.971008165760878,null,{"$f":"IFERROR(IF(AK32=\"\", 0, AK32 - IF(AK31=\"\", LOOKUP(2, 1/(IF(ISNUMBER(AK$10:AK31), AK$10:AK31, \"\" )<>\"\"), AK$10:AK31), AK31)),0)","v":0},0,0,0.54394876029239614,1.0543605330234171,34.032759652165531,null,{"$f":"IFERROR(IF(AR32=\"\", 0, AR32 - IF(AR31=\"\", LOOKUP(2, 1/(IF(ISNUMBER(AR$10:AR31), AR$10:AR31, \"\" )<>\"\"), AR$10:AR31), AR31)),0)","v":0},0,0,2.3141310526447332,4.1553100493187474,35.770185031012844,null,{"$f":"IFERROR(IF(AY32=\"\", 0, AY32 - IF(AY31=\"\", LOOKUP(2, 1/(IF(ISNUMBER(AY$10:AY31), AY$10:AY31, \"\" )<>\"\"), AY$10:AY31), AY31)),0)","v":0},0,0,0.41375721401589949,1.7242214962984135,19.352728444853003,null,{"$f":"IFERROR(IF(BF32=\"\", 0, BF32 - IF(BF31=\"\", LOOKUP(2, 1/(IF(ISNUMBER(BF$10:BF31), BF$10:BF31, \"\" )<>\"\"), BF$10:BF31), BF31)),0)","v":0},0,0,0.29841395619773847,0.714375864364724,29.464549321004373,null,{"$f":"IFERROR(IF(BM32=\"\", 0, BM32 - IF(BM31=\"\", LOOKUP(2, 1/(IF(ISNUMBER(BM$10:BM31), BM$10:BM31, \"\" )<>\"\"), BM$10:BM31), BM31)),0)","v":0},0,0,8.0337488802135617,3.7868984731495003,67.963696403885194]
[null,null,{"$f":"IFERROR(IF(B33=\"\", 0, B33 - IF(B32=\"\", LOOKUP(2, 1/(IF(ISNUMBER(B$10:B32), B$10:B32, \"\" )<>\"\"), B$10:B32), B32)),0)","v":0},0,0,0.75440872265342052,1.0586171362787808,41.610477806297617,null,{"$f":"IFERROR(IF(I33=\"\", 0, I33 - IF(I32=\"\", LOOKUP(2, 1/(IF(ISNUMBER(I$10:I32), I$10:I32, \"\" )<>\"\"), I$10:I32), I32)),0)","v":0},0,0,0.57191528897512811,0.95030282140423061,37.571178865596245,null,{"$f":"IFERROR(IF(P33=\"\", 0, P33 - IF(P32=\"\", LOOKUP(2, 1/(IF(ISNUMBER(P$10:P32), P$10:P32, \"\" )<>\"\"), P$10:P32), P32)),0)","v":0},0,0,0.72230701551660537,1.2168004706551849,37.249457323409786,null,{"$f":"IFERROR(IF(W33=\"\", 0, W33 - IF(W32=\"\", LOOKUP(2, 1/(IF(ISNUMBER(W$10:W32), W$10:W32, \"\" )<>\"\"), W$10:W32), W32)),0)","v":0},0,0,1.4923919331075848,4.6821402594622743,24.170121501730268,null,{"$f":"IFERROR(IF(AD33=\"\", 0, AD33 - IF(AD32=\"\", LOOKUP(2, 1/(IF(ISNUMBER(AD$10:AD32), AD$10:AD32, \"\" )<>\"\"), AD$10:AD32), AD32)),0)","v":0},0,0,0.71014145843579712,0.17785717347321017,79.971008165760878,null,{"$f":"IFERROR(IF(AK33=\"\", 0, AK33 - IF(AK32=\"\", LOOKUP(2, 1/(IF(ISNUMBER(AK$10:AK32), AK$10:AK32, \"\" )<>\"\"), AK$10:AK32), AK32)),0)","v":0},0,0,0.54394876029239614,1.0543605330234171,34.032759652165531,null,{"$f":"IFERROR(IF(AR33=\"\", 0, AR33 - IF(AR32=\"\", LOOKUP(2, 1/(IF(ISNUMBER(AR$10:AR32), AR$10:AR32, \"\" )<>\"\"), AR$10:AR32), AR32)),0)","v":0},0,0,2.3141310526447332,4.1553100493187474,35.770185031012844,null,{"$f":"IFERROR(IF(AY33=\"\", 0, AY33 - IF(AY32=\"\", LOOKUP(2, 1/(IF(ISNUMBER(AY$10:AY32), AY$10:AY32, \"\" )<>\"\"), AY$10:AY32), AY32)),0)","v":0},0,0,0.41375721401589949,1.7242214962984135,19.352728444853003,null,{"$f":"IFERROR(IF(BF33=\"\", 0, BF33 - IF(BF32=\"\", LOOKUP(2, 1/(IF(ISNUMBER(BF$10:BF32), BF$10:BF32, \"\" )<>\"\"), BF$10:BF32), BF32)),0)","v":0},0,0,0.29841395619773847,0.714375864364724,29.464549321004373,null,{"$f":"IFERROR(IF(BM33=\"\", 0, BM33 - IF(BM32=\"\", LOOKUP(2, 1/(IF(ISNUMBER(BM$10:BM32), BM$10:BM32, \"\" )<>\"\"), BM$10:BM32), BM32)),0)","v":0},0,0,8.0337488802135617,3.7868984731495003,67.963696403885194]
[null,null,{"$f":"IFERROR(IF(B34=\"\", 0, B34 - IF(B33=\"\", LOOKUP(2, 1/(IF(ISNUMBER(B$10:B33), B$10:B33, \"\" )<>\"\"), B$10:B33), B33)),0)","v":0},0,0,0.75440872265342052,1.0586171362787808,41.610477806297617,null,{"$f":"IFERROR(IF(I34=\"\", 0, I34 - IF(I33=\"\", LOOKUP(2, 1/(IF(ISNUMBER(I$10:I33), I$10:I33, \"\" )<>\"\"), I$10:I33), I33)),0)","v":0},0,0,0.57191528897512811,0.95030282140423061,37.571178865596245,null,{"$f":"IFERROR(IF(P34=\"\", 0, P34 - IF(P33=\"\", LOOKUP(2, 1/(IF(ISNUMBER(P$10:P33), P$10:P33, \"\" )<>\"\"), P$10:P33), P33)),0)","v":0},0,0,0.72230701551660537,1.2168004706551849,37.249457323409786,null,{"$f":"IFERROR(IF(W34=\"\", 0, W34 - IF(W33=\"\", LOOKUP(2, 1/(IF(ISNUMBER(W$10:W33), W$10:W33, \"\" )<>\"\"), W$10:W33), W33)),0)","v":0},0,0,1.4923919331075848,4.6821402594622743,24.170121501730268,null,{"$f":"IFERROR(IF(AD34=\"\", 0, AD34 - IF(AD33=\"\", LOOKUP(2, 1/(IF(ISNUMBER(AD$10:AD33), AD$10:AD33, \"\" )<>\"\"), AD$10:AD33), AD33)),0)","v":0},0,0,0.71014145843579712,0.17785717347321017,79.971008165760878,null,{"$f":"IFERROR(IF(AK34=\"\", 0, AK34 - IF(AK33=\"\", LOOKUP(2, 1/(IF(ISNUMBER(AK$10:AK33), AK$10:AK33, \"\" )<>\"\"), AK$10:AK33), AK33)),0)","v":0},0,0,0.54394876029239614,1.0543605330234171,34.032759652165531,null,{"$f":"IFERROR(IF(AR34=\"\", 0, AR34 - IF(AR33=\"\", LOOKUP(2, 1/(IF(ISNUMBER(AR$10:AR33), AR$10:AR33, \"\" )<>\"\"), AR$10:AR33), AR33)),0)","v":0},0,0,2.3141310526447332,4.1553100493187474,35.770185031012844,null,{"$f":"IFERROR(IF(AY34=\"\", 0, AY34 - IF(AY33=\"\", LOOKUP(2, 1/(IF(ISNUMBER(AY$10:AY33), AY$10:AY33, \"\" )<>\"\"), AY$10:AY33), AY33)),0)","v":0},0,0,0.41375721401589949,1.7242214962984135,19.352728444853003,null,{"$f":"IFERROR(IF(BF34=\"\", 0, BF34 - IF(BF33=\"\", LOOKUP(2, 1/(IF(ISNUMBER(BF$10:BF33), BF$10:BF33, \"\" )<>\"\"), BF$10:BF33), BF33)),0)","v":0},0,0,0.29841395619773847,0.714375864364724,29.464549321004373,null,{"$f":"IFERROR(IF(BM34=\"\", 0, BM34 - IF(BM33=\"\", LOOKUP(2, 1/(IF(ISNUMBER(BM$10:BM33), BM$10:BM33, \"\" )<>\"\"), BM$10:BM33), BM33)),0)","v":0},0,0,8.0337488802135617,3.7868984731495003,67.963696403885194]
[null,null,{"$f":"IFERROR(IF(B35=\"\", 0, B35 - IF(B34=\"\", LOOKUP(2, 1/(IF(ISNUMBER(B$10:B34), B$10:B34, \"\" )<>\"\"), B$10:B34), B34)),0)","v":0},0,0,0.75440872265342052,1.0586171362787808,41.610477806297617,null,{"$f":"IFERROR(IF(I35=\"\", 0, I35 - IF(I34=\"\", LOOKUP(2, 1/(IF(ISNUMBER(I$10:I34), I$10:I34, \"\" )<>\"\"), I$10:I34), I34)),0)","v":0},0,0,0.57191528897512811,0.95030282140423061,37.571178865596245,null,{"$f":"IFERROR(IF(P35=\"\", 0, P35 - IF(P34=\"\", LOOKUP(2, 1/(IF(ISNUMBER(P$10:P34), P$10:P34, \"\" )<>\"\"), P$10:P34), P34)),0)","v":0},0,0,0.72230701551660537,1.2168004706551849,{"$f":"IFERROR(T35/(T35+U35)*100,V34)","v":37.249457323409786},null,{"$f":"IFERROR(IF(W35=\"\", 0, W35 - IF(W34=\"\", LOOKUP(2, 1/(IF(ISNUMBER(W$10:W34), W$10:W34, \"\" )<>\"\"), W$10:W34), W34)),0)","v":0},0,0,1.4923919331075848,4.6821402594622743,24.170121501730268,null,{"$f":"IFERROR(IF(AD35=\"\", 0, AD35 - IF(AD34=\"\", LOOKUP(2, 1/(IF(ISNUMBER(AD$10:AD34), AD$10:AD34, \"\" )<>\"\"), AD$10:AD34), AD34)),0)","v":0},0,0,0.71014145843579712,0.17785717347321017,79.971008165760878,null,{"$f":"IFERROR(IF(AK35=\"\", 0, AK35 - IF(AK34=\"\", LOOKUP(2, 1/(IF(ISNUMBER(AK$10:AK34), AK$10:AK34, \"\" )<>\"\"), AK$10:AK34), AK34)),0)","v":0},0,0,0.54394876029239614,1.0543605330234171,34.032759652165531,null,{"$f":"IFERROR(IF(AR35=\"\", 0, AR35 - IF(AR34=\"\", LOOKUP(2, 1/(IF(ISNUMBER(AR$10:AR34), AR$10:AR34, \"\" )<>\"\"), AR$10:AR34), AR34)),0)","v":0},0,0,2.3141310526447332,4.1553100493187474,35.770185031012844,null,{"$f":"IFERROR(IF(AY35=\"\", 0, AY35 - IF(AY34=\"\", LOOKUP(2, 1/(IF(ISNUMBER(AY$10:AY34), AY$10:AY34, \"\" )<>\"\"), AY$10:AY34), AY34)),0)","v":0},0,0,0.41375721401589949,1.7242214962984135,19.352728444853003,null,{"$f":"IFERROR(IF(BF35=\"\", 0, BF35 - IF(BF34=\"\", LOOKUP(2, 1/(IF(ISNUMBER(BF$10:BF34), BF$10:BF34, \"\" )<>\"\"), BF$10:BF34), BF34)),0)","v":0},0,0,0.29841395619773847,0.714375864364724,29.464549321004373,null,{"$f":"IFERROR(IF(BM35=\"\", 0, BM35 - IF(BM34=\"\", LOOKUP(2, 1/(IF(ISNUMBER(BM$10:BM34), BM$10:BM34, \"\" )<>\"\"), BM$10:BM34), BM34)),0)","v":0},0,0,8.0337488802135617,3.7868984731495003,67.963696403885194]
[null,null,{"$f":"IFERROR(IF(B36=\"\", 0, B36 - IF(B35=\"\", LOOKUP(2, 1/(IF(ISNUMBER(B$10:B35), B$10:B35, \"\" )<>\"\"), B$10:B35), B35)),0)","v":0},0,0,0.75440872265342052,1.0586171362787808,41.610477806297617,null,{"$f":"IFERROR(IF(I36=\"\", 0, I36 - IF(I35=\"\", LOOKUP(2, 1/(IF(ISNUMBER(I$10:I35), I$10:I35, \"\" )<>\"\"), I$10:I35), I35)),0)","v":0},0,0,0.57191528897512811,0.95030282140423061,37.571178865596245,null,{"$f":"IFERROR(IF(P36=\"\", 0, P36 - IF(P35=\"\", LOOKUP(2, 1/(IF(ISNUMBER(P$10:P35), P$10:P35, \"\" )<>\"\"), P$10:P35), P35)),0)","v":0},0,0,0.72230701551660537,1.2168004706551849,37.249457323409786,null,{"$f":"IFERROR(IF(W36=\"\", 0, W36 - IF(W35=\"\", LOOKUP(2, 1/(IF(ISNUMBER(W$10:W35), W$10:W35, \"\" )<>\"\"), W$10:W35), W35)),0)","v":0},0,0,1.4923919331075848,4.6821402594622743,24.170121501730268,null,{"$f":"IFERROR(IF(AD36=\"\", 0, AD36 - IF(AD35=\"\", LOOKUP(2, 1/(IF(ISNUMBER(AD$10:AD35), AD$10:AD35, \"\" )<>\"\"), AD$10:AD35), AD35)),0)","v":0},0,0,0.71014145843579712,0.17785717347321017,79.971008165760878,null,{"$f":"IFERROR(IF(AK36=\"\", 0, AK36 - IF(AK35=\"\", LOOKUP(2, 1/(IF(ISNUMBER(AK$10:AK35), AK$10:AK35, \"\" )<>\"\"), AK$10:AK35), AK35)),0)","v":0},0,0,0.54394876029239614,1.0543605330234171,34.032759652165531,null,{"$f":"IFERROR(IF(AR36=\"\", 0, AR36 - IF(AR35=\"\", LOOKUP(2, 1/(IF(ISNUMBER(AR$10:AR35), AR$10:AR35, \"\" )<>\"\"), AR$10:AR35), AR35)),0)","v":0},0,0,2.3141310526447332,4.1553100493187474,35.770185031012844,null,{"$f":"IFERROR(IF(AY36=\"\", 0, AY36 - IF(AY35=\"\", LOOKUP(2, 1/(IF(ISNUMBER(AY$10:AY35), AY$10:AY35, \"\" )<>\"\"), AY$10:AY35), AY35)),0)","v":0},0,0,0.41375721401589949,1.7242214962984135,19.352728444853003,null,{"$f":"IFERROR(IF(BF36=\"\", 0, BF36 - IF(BF35=\"\", LOOKUP(2, 1/(IF(ISNUMBER(BF$10:BF35), BF$10:BF35, \"\" )<>\"\"), BF$10:BF35), BF35)),0)","v":0},0,0,0.29841395619773847,0.714375864364724,29.464549321004373,null,{"$f":"IFERROR(IF(BM36=\"\", 0, BM36 - IF(BM35=\"\", LOOKUP(2, 1/(IF(ISNUMBER(BM$10:BM35), BM$10:BM35, \"\" )<>\"\"), BM$10:BM35), BM35)),0)","v":0},0,0,8.0337488802135617,3.7868984731495003,67.963696403885194]
[null,null,{"$f":"IFERROR(IF(B37=\"\", 0, B37 - IF(B36=\"\", LOOKUP(2, 1/(IF(ISNUMBER(B$10:B36), B$10:B36, \"\" )<>\"\"), B$10:B36), B36)),0)","v":0},0,0,0.75440872265342052,1.0586171362787808,41.610477806297617,null,{"$f":"IFERROR(IF(I37=\"\", 0, I37 - IF(I36=\"\", LOOKUP(2, 1/(IF(ISNUMBER(I$10:I36), I$10:I36, \"\" )<>\"\"), I$10:I36), I36)),0)","v":0},0,0,0.57191528897512811,0.95030282140423061,37.571178865596245,null,{"$f":"IFERROR(IF(P37=\"\", 0, P37 - IF(P36=\"\", LOOKUP(2, 1/(IF(ISNUMBER(P$10:P36), P$10:P36, \"\" )<>\"\"), P$10:P36), P36)),0)","v":0},0,0,0.72230701551660537,1.2168004706551849,37.249457323409786,null,{"$f":"IFERROR(IF(W37=\"\", 0, W37 - IF(W36=\"\", LOOKUP(2, 1/(IF(ISNUMBER(W$10:W36), W$10:W36, \"\" )<>\"\"), W$10:W36), W36)),0)","v":0},0,0,1.4923919331075848,4.6821402594622743,24.170121501730268,null,{"$f":"IFERROR(IF(AD37=\"\", 0, AD37 - IF(AD36=\"\", LOOKUP(2, 1/(IF(ISNUMBER(AD$10:AD36), AD$10:AD36, \"\" )<>\"\"), AD$10:AD36), AD36)),0)","v":0},0,0,0.71014145843579712,0.17785717347321017,79.971008165760878,null,{"$f":"IFERROR(IF(AK37=\"\", 0, AK37 - IF(AK36=\"\", LOOKUP(2, 1/(IF(ISNUMBER(AK$10:AK36), AK$10:AK36, \"\" )<>\"\"), AK$10:AK36), AK36)),0)","v":0},0,0,0.54394876029239614,1.0543605330234171,34.032759652165531,null,{"$f":"IFERROR(IF(AR37=\"\", 0, AR37 - IF(AR36=\"\", LOOKUP(2, 1/(IF(ISNUMBER(AR$10:AR36), AR$10:AR36, \"\" )<>\"\"), AR$10:AR36), AR36)),0)","v":0},0,0,2.3141310526447332,4.1553100493187474,35.770185031012844,null,{"$f":"IFERROR(IF(AY37=\"\", 0, AY37 - IF(AY36=\"\", LOOKUP(2, 1/(IF(ISNUMBER(AY$10:AY36), AY$10:AY36, \"\" )<>\"\"), AY$10:AY36), AY36)),0)","v":0},0,0,0.41375721401589949,1.7242214962984135,19.352728444853003,null,{"$f":"IFERROR(IF(BF37=\"\", 0, BF37 - IF(BF36=\"\", LOOKUP(2, 1/(IF(ISNUMBER(BF$10:BF36), BF$10:BF36, \"\" )<>\"\"), BF$10:BF36), BF36)),0)","v":0},0,0,0.29841395619773847,0.714375864364724,29.464549321004373,null,{"$f":"IFERROR(IF(BM37=\"\", 0, BM37 - IF(BM36=\"\", LOOKUP(2, 1/(IF(ISNUMBER(BM$10:BM36), BM$10:BM36, \"\" )<>\"\"), BM$10:BM36), BM36)),0)","v":0},0,0,8.0337488802135617,3.7868984731495003,67.963696403885194]
[null,null,{"$f":"IFERROR(IF(B38=\"\", 0, B38 - IF(B37=\"\", LOOKUP(2, 1/(IF(ISNUMBER(B$10:B37), B$10:B37, \"\" )<>\"\"), B$10:B37), B37)),0)","v":0},0,0,0.75440872265342052,1.0586171362787808,41.610477806297617,null,{"$f":"IFERROR(IF(I38=\"\", 0, I38 - IF(I37=\"\", LOOKUP(2, 1/(IF(ISNUMBER(I$10:I37), I$10:I37, \"\" )<>\"\"), I$10:I37), I37)),0)","v":0},0,0,0.57191528897512811,0.95030282140423061,37.571178865596245,null,{"$f":"IFERROR(IF(P38=\"\", 0, P38 - IF(P37=\"\", LOOKUP(2, 1/(IF(ISNUMBER(P$10:P37), P$10:P37, \"\" )<>\"\"), P$10:P37), P37)),0)","v":0},0,0,0.72230701551660537,1.2168004706551849,37.249457323409786,null,{"$f":"IFERROR(IF(W38=\"\", 0, W38 - IF(W37=\"\", LOOKUP(2, 1/(IF(ISNUMBER(W$10:W37), W$10:W37, \"\" )<>\"\"), W$10:W37), W37)),0)","v":0},0,0,1.4923919331075848,4.6821402594622743,24.170121501730268,null,{"$f":"IFERROR(IF(AD38=\"\", 0, AD38 - IF(AD37=\"\", LOOKUP(2, 1/(IF(ISNUMBER(AD$10:AD37), AD$10:AD37, \"\" )<>\"\"), AD$10:AD37), AD37)),0)","v":0},0,0,0.71014145843579712,0.17785717347321017,79.971008165760878,null,{"$f":"IFERROR(IF(AK38=\"\", 0, AK38 - IF(AK37=\"\", LOOKUP(2, 1/(IF(ISNUMBER(AK$10:AK37), AK$10:AK37, \"\" )<>\"\"), AK$10:AK37), AK37)),0)","v":0},0,0,0.54394876029239614,1.0543605330234171,34.032759652165531,null,{"$f":"IFERROR(IF(AR38=\"\", 0, AR38 - IF(AR37=\"\", LOOKUP(2, 1/(IF(ISNUMBER(AR$10:AR37), AR$10:AR37, \"\" )<>\"\"), AR$10:AR37), AR37)),0)","v":0},0,0,2.3141310526447332,4.1553100493187474,35.770185031012844,null,{"$f":"IFERROR(IF(AY38=\"\", 0, AY38 - IF(AY37=\"\", LOOKUP(2, 1/(IF(ISNUMBER(AY$10:AY37), AY$10:AY37, \"\" )<>\"\"), AY$10:AY37), AY37)),0)","v":0},0,0,0.41375721401589949,1.7242214962984135,19.352728444853003,null,{"$f":"IFERROR(IF(BF38=\"\", 0, BF38 - IF(BF37=\"\", LOOKUP(2, 1/(IF(ISNUMBER(BF$10:BF37), BF$10:BF37, \"\" )<>\"\"), BF$10:BF37), BF37)),0)","v":0},0,0,0.29841395619773847,0.714375864364724,29.464549321004373,null,{"$f":"IFERROR(IF(BM38=\"\", 0, BM38 - IF(BM37=\"\", LOOKUP(2, 1/(IF(ISNUMBER(BM$10:BM37), BM$10:BM37, \"\" )<>\"\"), BM$10:BM37), BM37)),0)","v":0},0,0,8.0337488802135617,3.7868984731495003,67.963696403885194]
[null,null,{"$f":"IFERROR(IF(B39=\"\", 0, B39 - IF(B38=\"\", LOOKUP(2, 1/(IF(ISNUMBER(B$10:B38), B$10:B38, \"\" )<>\"\"), B$10:B38), B38)),0)","v":0},0,0,0.75440872265342052,1.0586171362787808,41.610477806297617,null,{"$f":"IFERROR(IF(I39=\"\", 0, I39 - IF(I38=\"\", LOOKUP(2, 1/(IF(ISNUMBER(I$10:I38), I$10:I38, \"\" )<>\"\"), I$10:I38), I38)),0)","v":0},0,0,0.57191528897512811,0.95030282140423061,37.571178865596245,null,{"$f":"IFERROR(IF(P39=\"\", 0, P39 - IF(P38=\"\", LOOKUP(2, 1/(IF(ISNUMBER(P$10:P38), P$10:P38, \"\" )<>\"\"), P$10:P38), P38)),0)","v":0},0,0,0.72230701551660537,1.2168004706551849,37.249457323409786,null,{"$f":"IFERROR(IF(W39=\"\", 0, W39 - IF(W38=\"\", LOOKUP(2, 1/(IF(ISNUMBER(W$10:W38), W$10:W38, \"\" )<>\"\"), W$10:W38), W38)),0)","v":0},0,0,1.4923919331075848,4.6821402594622743,24.170121501730268,null,{"$f":"IFERROR(IF(AD39=\"\", 0, AD39 - IF(AD38=\"\", LOOKUP(2, 1/(IF(ISNUMBER(AD$10:AD38), AD$10:AD38, \"\" )<>\"\"), AD$10:AD38), AD38)),0)","v":0},0,0,0.71014145843579712,0.17785717347321017,79.971008165760878,null,{"$f":"IFERROR(IF(AK39=\"\", 0, AK39 - IF(AK38=\"\", LOOKUP(2, 1/(IF(ISNUMBER(AK$10:AK38), AK$10:AK38, \"\" )<>\"\"), AK$10:AK38), AK38)),0)","v":0},0,0,0.54394876029239614,1.0543605330234171,34.032759652165531,null,{"$f":"IFERROR(IF(AR39=\"\", 0, AR39 - IF(AR38=\"\", LOOKUP(2, 1/(IF(ISNUMBER(AR$10:AR38), AR$10:AR38, \"\" )<>\"\"), AR$10:AR38), AR38)),0)","v":0},0,0,2.3141310526447332,4.1553100493187474,35.770185031012844,null,{"$f":"IFERROR(IF(AY39=\"\", 0, AY39 - IF(AY38=\"\", LOOKUP(2, 1/(IF(ISNUMBER(AY$10:AY38), AY$10:AY38, \"\" )<>\"\"), AY$10:AY38), AY38)),0)","v":0},0,0,0.41375721401589949,1.7242214962984135,19.352728444853003,null,{"$f":"IFERROR(IF(BF39=\"\", 0, BF39 - IF(BF38=\"\", LOOKUP(2, 1/(IF(ISNUMBER(BF$10:BF38), BF$10:BF38, \"\" )<>\"\"), BF$10:BF38), BF38)),0)","v":0},0,0,0.29841395619773847,0.714375864364724,29.464549321004373,null,{"$f":"IFERROR(IF(BM39=\"\", 0, BM39 - IF(BM38=\"\", LOOKUP(2, 1/(IF(ISNUMBER(BM$10:BM38), BM$10:BM38, \"\" )<>\"\"), BM$10:BM38), BM38)),0)","v":0},0,0,8.0337488802135617,3.7868984731495003,67.963696403885194]
[null,null,{"$f":"IFERROR(IF(B40=\"\", 0, B40 - IF(B39=\"\", LOOKUP(2, 1/(IF(ISNUMBER(B$10:B39), B$10:B39, \"\" )<>\"\"), B$10:B39), B39)),0)","v":0},{"$f":"IF(C40>0, C40, 0)","v":0},{"$f":"IF(C40<0, -C40, 0)","v":0},{"$f":"IF(ISNUMBER(B40), ((F39*($C$4-1))+D40)/$C$4, F39)","v":0.75440872265342052},{"$f":"IF(ISNUMBER(B40), ((G39*($C$4-1))+E40)/$C$4, G39)","v":1.0586171362787808},{"$f":"IFERROR(F40/(F40+G40)*100,H39)","v":41.610477806297617},null,{"$f":"IFERROR(IF(I40=\"\", 0, I40 - IF(I39=\"\", LOOKUP(2, 1/(IF(ISNUMBER(I$10:I39), I$10:I39, \"\" )<>\"\"), I$10:I39), I39)),0)","v":0},{"$f":"IF(J40>0, J40, 0)","v":0},{"$f":"IF(J40<0, -J40, 0)","v":0},{"$f":"IF(ISNUMBER(I40), ((M39*($C$4-1))+K40)/$C$4, M39)","v":0.57191528897512811},{"$f":"IF(ISNUMBER(I40), ((N39*($C$4-1))+L40)/$C$4, N39)","v":0.95030282140423061},{"$f":"IFERROR(M40/(M40+N40)*100,O39)","v":37.571178865596245},null,{"$f":"IFERROR(IF(P40=\"\", 0, P40 - IF(P39=\"\", LOOKUP(2, 1/(IF(ISNUMBER(P$10:P39), P$10:P39, \"\" )<>\"\"), P$10:P39), P39)),0)","v":0},{"$f":"IF(Q40>0, Q40, 0)","v":0},{"$f":"IF(Q40<0, -Q40, 0)","v":0},{"$f":"IF(ISNUMBER(P40), ((T39*($C$4-1))+R40)/$C$4, T39)","v":0.72230701551660537},{"$f":"IF(ISNUMBER(P40), ((U39*($C$4-1))+S40)/$C$4, U39)","v":1.2168004706551849},{"$f":"IFERROR(T40/(T40+U40)*100,V39)","v":37.249457323409786},null,{"$f":"IFERROR(IF(W40=\"\", 0, W40 - IF(W39=\"\", LOOKUP(2, 1/(IF(ISNUMBER(W$10:W39), W$10:W39, \"\" )<>\"\"), W$10:W39), W39)),0)","v":0},{"$f":"IF(X40>0, X40, 0)","v":0},{"$f":"IF(X40<0, -X40, 0)","v":0},{"$f":"IF(ISNUMBER(W40), ((AA39*($C$4-1))+Y40)/$C$4, AA39)","v":1.4923919331075848},{"$f":"IF(ISNUMBER(W40), ((AB39*($C$4-1))+Z40)/$C$4, AB39)","v":4.6821402594622743},{"$f":"IFERROR(AA40/(AA40+AB40)*100,AC39)","v":24.170121501730268},null,{"$f":"IFERROR(IF(AD40=\"\", 0, AD40 - IF(AD39=\"\", LOOKUP(2, 1/(IF(ISNUMBER(AD$10:AD39), AD$10:AD39, \"\" )<>\"\"), AD$10:AD39), AD39)),0)","v":0},{"$f":"IF(AE40>0, AE40, 0)","v":0},{"$f":"IF(AE40<0, -AE40, 0)","v":0},{"$f":"IF(ISNUMBER(AD40), ((AH39*($C$4-1))+AF40)/$C$4, AH39)","v":0.71014145843579712},{"$f":"IF(ISNUMBER(AD40), ((AI39*($C$4-1))+AG40)/$C$4, AI39)","v":0.17785717347321017},{"$f":"IFERROR(AH40/(AH40+AI40)*100,AJ39)","v":79.971008165760878},null,{"$f":"IFERROR(IF(AK40=\"\", 0, AK40 - IF(AK39=\"\", LOOKUP(2, 1/(IF(ISNUMBER(AK$10:AK39), AK$10:AK39, \"\" )<>\"\"), AK$10:AK39), AK39)),0)","v":0},{"$f":"IF(AL40>0, AL40, 0)","v":0},{"$f":"IF(AL40<0, -AL40, 0)","v":0},{"$f":"IF(ISNUMBER(AK40), ((AO39*($C$4-1))+AM40)/$C$4, AO39)","v":0.54394876029239614},{"$f":"IF(ISNUMBER(AK40), ((AP39*($C$4-1))+AN40)/$C$4, AP39)","v":1.0543605330234171},{"$f":"IFERROR(AO40/(AO40+AP40)*100,AQ39)","v":34.032759652165531},null,{"$f":"IFERROR(IF(AR40=\"\", 0, AR40 - IF(AR39=\"\", LOOKUP(2, 1/(IF(ISNUMBER(AR$10:AR39), AR$10:AR39, \"\" )<>\"\"), AR$10:AR39), AR39)),0)","v":0},{"$f":"IF(AS40>0, AS40, 0)","v":0},{"$f":"IF(AS40<0, -AS40, 0)","v":0},{"$f":"IF(ISNUMBER(AR40), ((AV39*($C$4-1))+AT40)/$C$4, AV39)","v":2.3141310526447332},{"$f":"IF(ISNUMBER(AR40), ((AW39*($C$4-1))+AU40)/$C$4, AW39)","v":4.1553100493187474},{"$f":"IFERROR(AV40/(AV40+AW40)*100,AX39)","v":35.770185031012844},null,{"$f":"IFERROR(IF(AY40=\"\", 0, AY40 - IF(AY39=\"\", LOOKUP(2, 1/(IF(ISNUMBER(AY$10:AY39), AY$10:AY39, \"\" )<>\"\"), AY$10:AY39), AY39)),0)","v":0},{"$f":"IF(AZ40>0, AZ40, 0)","v":0},{"$f":"IF(AZ40<0, -AZ40, 0)","v":0},{"$f":"IF(ISNUMBER(AY40), ((BC39*($C$4-1))+BA40)/$C$4, BC39)","v":0.41375721401589949},{"$f":"IF(ISNUMBER(AY40), ((BD39*($C$4-1))+BB40)/$C$4, BD39)","v":1.7242214962984135},{"$f":"IFERROR(BC40/(BC40+BD40)*100,BE39)","v":19.352728444853003},null,{"$f":"IFERROR(IF(BF40=\"\", 0, BF40 - IF(BF39=\"\", LOOKUP(2, 1/(IF(ISNUMBER(BF$10:BF39), BF$10:BF39, \"\" )<>\"\"), BF$10:BF39), BF39)),0)","v":0},{"$f":"IF(BG40>0, BG40, 0)","v":0},{"$f":"IF(BG40<0, -BG40, 0)","v":0},{"$f":"IF(ISNUMBER(BF40), ((BJ39*($C$4-1))+BH40)/$C$4, BJ39)","v":0.29841395619773847},{"$f":"IF(ISNUMBER(BF40), ((BK39*($C$4-1))+BI40)/$C$4, BK39)","v":0.714375864364724},{"$f":"IFERROR(BJ40/(BJ40+BK40)*100,BL39)","v":29.464549321004373},null,{"$f":"IFERROR(IF(BM40=\"\", 0, BM40 - IF(BM39=\"\", LOOKUP(2, 1/(IF(ISNUMBER(BM$10:BM39), BM$10:BM39, \"\" )<>\"\"), BM$10:BM39), BM39)),0)","v":0},{"$f":"IF(BN40>0, BN40, 0)","v":0},{"$f":"IF(BN40<0, -BN40, 0)","v":0},{"$f":"IF(ISNUMBER(BM40), ((BQ39*($C$4-1))+BO40)/$C$4, BQ39)","v":8.0337488802135617},{"$f":"IF(ISNUMBER(BM40), ((BR39*($C$4-1))+BP40)/$C$4, BR39)","v":3.7868984731495003},{"$f":"IFERROR(BQ40/(BQ40+BR40)*100,BS39)","v":67.963696403885194}]
[]
[]
[null,null,"上昇幅の平均",{"$f":"IFERROR(SUMIF(D$10:D$39, \">0\") / $C$4, \"\")","v":0.6428571428571429},null,null,null,null,null,"上昇幅の平均",{"$f":"IFERROR(SUMIF(K$10:K$39, \">0\") / $C$4, \"\")","v":0.42857142857142855},null,null,null,null,null,"上昇幅の平均",{"$f":"IFERROR(SUMIF(R$10:R$39, \">0\") / $C$4, \"\")","v":0.5714285714285714},null,null,null,null,null,"上昇幅の平均",{"$f":"IFERROR(SUMIF(Y$10:Y$39, \">0\") / $C$4, \"\")","v":2.1428571428571428},null,null,null,null,null,"上昇幅の平均",{"$f":"IFERROR(SUMIF(AF$10:AF$39, \">0\") / $C$4, \"\")","v":0.5714285714285714},null,null,null,null,null,"上昇幅の平均",{"$f":"IFERROR(SUMIF(AM$10:AM$39, \">0\") / $C$4, \"\")","v":0.4642857142857143},null,null,null,null,null,"上昇幅の平均",{"$f":"IFERROR(SUMIF(AT$10:AT$39, \">0\") / $C$4, \"\")","v":1.6428571428571428},null,null,null,null,null,"上昇幅の平均",{"$f":"IFERROR(SUMIF(BA$10:BA$39, \">0\") / $C$4, \"\")","v":0.2857142857142857},null,null,null,null,null,"上昇幅の平均",{"$f":"IFERROR(SUMIF(BH$10:BH$39, \">0\") / $C$4, \"\")","v":0.21428571428571427},null,null,null,null,null,"上昇幅の平均",{"$f":"IFERROR(SUMIF(BO$10:BO$39, \">0\") / $C$4, \"\")","v":6.0714285714285712}]
[null,null,"下降幅の平均",null,{"$f":"IFERROR(SUM(E$10:E$39)/ $C$4, \"\")","v":0.7142857142857143},null,null,null,null,"下降幅の平均",null,{"$f":"IFERROR(SUM(L$10:L$39)/ $C$4, \"\")","v":0.7142857142857143},null,null,null,null,"下降幅の平均",null,{"$f":"IFERROR(SUM(S$10:S$39)/ $C$4, \"\")","v":0.9285714285714286},null,null,null,null,"下降幅の平均",null,{"$f":"IFERROR(SUM(Z$10:Z$39)/ $C$4, \"\")","v":3.5714285714285716},null,null,null,null,"下降幅の平均",null,{"$f":"IFERROR(SUM(AG$10:AG$39)/ $C$4, \"\")","v":0.14285714285714285},null,null,null,null,"下降幅の平均",null,{"$f":"IFERROR(SUM(AN$10:AN$39)/ $C$4, \"\")","v":0.7142857142857143},null,null,null,null,"下降幅の平均",null,{"$f":"IFERROR(SUM(AU$10:AU$39)/ $C$4, \"\")","v":3.0714285714285716},null,null,null,null,"下降幅の平均",null,{"$f":"IFERROR(SUM(BB$10:BB$39)/ $C$4, \"\")","v":1.3571428571428572},null,null,null,null,"下降幅の平均",null,{"$f":"IFERROR(SUM(BI$10:BI$39)/ $C$4, \"\")","v":0.5},null,null,null,null,"下降幅の平均",null,{"$f":"IFERROR(SUM(BP$10:BP$39)/ $C$4, \"\")","v":2.8571428571428572}]
[]
["RSI",null,null,"単純平均",{"$f":"D43/(D43+E44)*100","v":47.368421052631582},null,"平滑平均",{"$f":"H39","v":41.610477806297617},null,null,"単純平均",{"$f":"K43/(K43+L44)*100","v":37.5},null,"平滑平均",{"$f":"O39","v":37.571178865596245},null,null,"単純平均",{"$f":"R43/(R43+S44)*100","v":38.095238095238095},null,"平滑平均",{"$f":"V39","v":37.249457323409786},null,null,"単純平均",{"$f":"Y43/(Y43+Z44)*100","v":37.5},null,"平滑平均",{"$f":"AC39","v":24.170121501730268},null,null,"単純平均",{"$f":"AF43/(AF43+AG44)*100","v":80},null,"平滑平均",{"$f":"AJ39","v":79.971008165760878},null,null,"単純平均",{"$f":"AM43/(AM43+AN44)*100","v":39.393939393939391},null,"平滑平均",{"$f":"AQ39","v":34.032759652165531},null,null,"単純平均",{"$f":"AT43/(AT43+AU44)*100","v":34.848484848484844},null,"平滑平均",{"$f":"AX39","v":35.770185031012844},null,null,"単純平均",{"$f":"BA43/(BA43+BB44)*100","v":17.391304347826086},null,"平滑平均",{"$f":"BE39","v":19.352728444853003},null,null,"単純平均",{"$f":"BH43/(BH43+BI44)*100","v":30},null,"平滑平均",{"$f":"BL39","v":29.464549321004373},null,null,"単純平均",{"$f":"BO43/(BO43+BP44)*100","v":68},null,"平滑平均",{"$f":"BS39","v":67.963696403885194}]