{"text_format":"1","workbook":"xlsx","n_sheets":4,"sheets":["テクニカル分析サンプルシート","銘柄一覧シート","ヒストリカルデータ取得シート","計算ロジック説明"],"not_rendered":{"charts":0,"images":3,"macros":1,"external_links":0,"defined_names":1,"comments":0,"pivot_tables":0},"unopened":[],"bounds":{"document_bytes":16777216,"sheet_cells":100000,"rows_first":2000,"rows_last":500,"rows_between":2000,"halvings":0,"cell_chars":16384,"cell_head_chars":4096},"cells_cut":0,"cells_raw":0,"read":"whole","date_system":"1900"}

{"sheet":"テクニカル分析サンプルシート","index":0,"n_rows":48,"n_cols":23,"rows_kept":48,"cut":false,"hidden":false,"merged":[]}
[]
[null,"サンプルシートの説明"]
[]
[null,null,"＜　銘柄一覧シート　＞"]
[]
[]
[]
[]
[]
[]
[]
[]
[null,null,"①　銘柄コード入力エリア"]
[null,null,null,"利用者が入力するのは、銘柄コード4桁のみです。"]
[null,null,null,"直接入力でもコピーした情報を貼り付けていただいても大丈夫です。"]
[]
[null,null,null,null,null,null,null,"②","取引時間帯リアルタイム更新エリア"]
[null,null,null,null,null,null,null,null,"黄色セル（①）で入力した銘柄コードを反映して情報を表示するネオトレAPI関数がそれぞれのセルに入っています。"]
[null,null,null,null,null,null,null,null,"現値など取引時間では自動的に数値が更新されます。"]
[]
[null,null,null,null,null,null,null,null,null,null,"③","テクニカル分析結果表示エリア"]
[null,null,null,null,null,null,null,null,null,null,null,"別シート（ヒストリカルデータ取得シート）で取得したデータをもとに算出された結果が数値として"]
[null,null,null,null,null,null,null,null,null,null,null,"一覧化されて表示されます。"]
[]
[null,null,"＜　ヒストリカルデータ取得シート　＞"]
[null,null,null,null,null,null,null,null,null,null,null,null,null,null,null,null,null,null,null,null,null,"最大50銘柄の終値日足情報を200本取得します。"]
[null,null,null,null,null,null,null,null,null,null,null,null,null,null,null,null,null,null,null,null,null,"同シートにて、「移動平均」「ボリンジャーバンド」「RSI」の値を"]
[null,null,null,null,null,null,null,null,null,null,null,null,null,null,null,null,null,null,null,null,null,"エクセルの関数を使って計算しています。"]
[]
[null,null,null,null,null,null,null,null,null,null,null,null,null,null,null,null,null,null,null,null,null,"④","ヒストリカルデータ取得ボタン"]
[null,null,null,null,null,null,null,null,null,null,null,null,null,null,null,null,null,null,null,null,null,null,"50銘柄×200本の日足データ取得はエクセル挙動に負荷をかけます。"]
[null,null,null,null,null,null,null,null,null,null,null,null,null,null,null,null,null,null,null,null,null,null,"日足データを対象としているので、データ取得は基本的には"]
[null,null,null,null,null,null,null,null,null,null,null,null,null,null,null,null,null,null,null,null,null,null,"一日一回で大丈夫です。"]
[null,null,null,null,null,null,null,null,null,null,null,null,null,null,null,null,null,null,null,null,null,null,"「更新する」ボタンを押下すると、VBAプログラムにより"]
[null,null,null,null,null,null,null,null,null,null,null,null,null,null,null,null,null,null,null,null,null,null,"起動フラグを１に書き換えて、ヒストリカルデータ取得のネオトレAPI"]
[null,null,null,null,null,null,null,null,null,null,null,null,null,null,null,null,null,null,null,null,null,null,"関数が実行されます。"]
[]
[null,null,null,null,null,null,null,null,null,null,null,null,null,null,null,null,null,null,null,null,null,"⑤","テクニカル分析計算エリア"]
[null,null,null,null,null,null,null,null,null,null,null,null,null,null,null,null,null,null,null,null,null,null,"各銘柄のヒストリカル情報取得を組込んだExcel関数式により"]
[null,null,null,null,null,null,null,null,null,null,null,null,null,null,null,null,null,null,null,null,null,null,"数値計算をおこなっています。"]
[]
[]
[null,null,null,"＜　エクセルファイル終了時　＞"]
[]
[null,null,null,null,null,null,null,null,null,null,null,null,null,null,null,null,null,null,"ヒストリカルデータの健全性を保つため、エクセルファイル終了時に"]
[null,null,null,null,null,null,null,null,null,null,null,null,null,null,null,null,null,null,"ヒストリカルデータの情報クリアがVBAプログラムにより実行されます。"]
[]
[null,null,null,null,null,null,null,null,null,null,null,null,null,null,null,null,null,null,"その為、毎起動時に「ヒストリカルデータ取得シート」の「更新ボタン」をクリックしてください。"]

{"sheet":"銘柄一覧シート","index":1,"n_rows":53,"n_cols":18,"rows_kept":53,"cut":false,"hidden":false,"merged":[]}
[{"$f":"ヒストリカルデータ取得シート!A2","v":"更新日時 2024/12/12 12:19:22"}]
[null,null,null,"リアルタイム更新",null,null,null,null,null,"ボリンジャーバンド (50日)",null,null,"ＳＭＡ（Simple Moving Average）",null,null,null,null,"RSI  (60日)"]
["＃","銘柄コード","銘柄名","現値","前日終値","前日比","時間","Tick回数","ＶＷＡＰ","上限（＋2σ）","ゲージ","下限(－2σ)","トレンド","短期(10日)","中期(25日)","長期(200日)","直近足","RSI"]
[1,"7201",{"$f":"IF(B4=0,\"wait\",_xll.SNT.StockInst(B4,\"銘柄名称\"))","v":"日産自"},{"$f":"IF(B4=0,\"wait\",_xll.SNT.StockInst(B4,\"現値\"))","v":356.6},{"$f":"IF(B4=0,\"wait\",_xll.SNT.StockInst(B4,\"前日終値\"))","v":357},{"$f":"IFERROR(D4-E4,\"wait\")","v":-0.39999999999997726},{"$f":"IF(B4=0,\"wait\",MID(_xll.SNT.StockInst(B4,\"現値日時\"),12,5))","v":"09:02"},{"$f":"IF(B4=0,\"wait\",_xll.SNT.StockInst(B4,\"Tick回数\"))","v":569},{"$f":"IF(B4=0,\"wait\",_xll.SNT.StockInst(B4,\"VWAP\"))","v":355.26249999999999},{"$f":"ヒストリカルデータ取得シート!I$12","v":{"$error":"#DIV/0!"}},{"$f":"(D4-L4)/(J4-L4)","v":{"$error":"#DIV/0!"}},{"$f":"ヒストリカルデータ取得シート!I$14","v":{"$error":"#DIV/0!"}},{"$f":"IF(AND(N4>O4,O4>P4),\"上昇\",IF(AND(N4<O4,O4<P4),\"下降\",\"レンジ\"))","v":{"$error":"#DIV/0!"}},{"$f":"ヒストリカルデータ取得シート!I$5","v":{"$error":"#DIV/0!"}},{"$f":"ヒストリカルデータ取得シート!I$6","v":{"$error":"#DIV/0!"}},{"$f":"ヒストリカルデータ取得シート!I$7","v":{"$error":"#DIV/0!"}},{"$f":"ヒストリカルデータ取得シート!E$218","v":""},{"$f":"ヒストリカルデータ取得シート!I$11","v":"wait"}]
[2,7974,{"$f":"IF(B5=0,\"wait\",_xll.SNT.StockInst(B5,\"銘柄名称\"))","v":"任天堂"},{"$f":"IF(B5=0,\"wait\",_xll.SNT.StockInst(B5,\"現値\"))","v":9133},{"$f":"IF(B5=0,\"wait\",_xll.SNT.StockInst(B5,\"前日終値\"))","v":9139},{"$f":"IFERROR(D5-E5,\"wait\")","v":-6},{"$f":"IF(B5=0,\"wait\",MID(_xll.SNT.StockInst(B5,\"現値日時\"),12,5))","v":"09:02"},{"$f":"IF(B5=0,\"wait\",_xll.SNT.StockInst(B5,\"Tick回数\"))","v":457},{"$f":"IF(B5=0,\"wait\",_xll.SNT.StockInst(B5,\"VWAP\"))","v":9086.6923000000006},{"$f":"ヒストリカルデータ取得シート!R$12","v":{"$error":"#DIV/0!"}},{"$f":"(D5-L5)/(J5-L5)","v":{"$error":"#DIV/0!"}},{"$f":"ヒストリカルデータ取得シート!R$14","v":{"$error":"#DIV/0!"}},{"$f":"IF(AND(N5>O5,O5>P5),\"上昇\",IF(AND(N5<O5,O5<P5),\"下降\",\"レンジ\"))","v":{"$error":"#DIV/0!"}},{"$f":"ヒストリカルデータ取得シート!R$5","v":{"$error":"#DIV/0!"}},{"$f":"ヒストリカルデータ取得シート!R$6","v":{"$error":"#DIV/0!"}},{"$f":"ヒストリカルデータ取得シート!R$7","v":{"$error":"#DIV/0!"}},{"$f":"ヒストリカルデータ取得シート!N$218","v":""},{"$f":"ヒストリカルデータ取得シート!R$11","v":"wait"}]
[3,"3382",{"$f":"IF(B6=0,\"wait\",_xll.SNT.StockInst(B6,\"銘柄名称\"))","v":"セブン＆アイ"},{"$f":"IF(B6=0,\"wait\",_xll.SNT.StockInst(B6,\"現値\"))","v":2498},{"$f":"IF(B6=0,\"wait\",_xll.SNT.StockInst(B6,\"前日終値\"))","v":2510.5},-12.5,{"$f":"IF(B6=0,\"wait\",MID(_xll.SNT.StockInst(B6,\"現値日時\"),12,5))","v":"09:02"},{"$f":"IF(B6=0,\"wait\",_xll.SNT.StockInst(B6,\"Tick回数\"))","v":593},{"$f":"IF(B6=0,\"wait\",_xll.SNT.StockInst(B6,\"VWAP\"))","v":2482.9585999999999},{"$f":"ヒストリカルデータ取得シート!AA$12","v":{"$error":"#DIV/0!"}},{"$error":"#DIV/0!"},{"$f":"ヒストリカルデータ取得シート!AA$14","v":{"$error":"#DIV/0!"}},{"$error":"#DIV/0!"},{"$f":"ヒストリカルデータ取得シート!AA$5","v":{"$error":"#DIV/0!"}},{"$f":"ヒストリカルデータ取得シート!AA$6","v":{"$error":"#DIV/0!"}},{"$f":"ヒストリカルデータ取得シート!AA$7","v":{"$error":"#DIV/0!"}},{"$f":"ヒストリカルデータ取得シート!W$218","v":""},{"$f":"ヒストリカルデータ取得シート!AA$11","v":"wait"}]
[4,"9418",{"$f":"IF(B7=0,\"wait\",_xll.SNT.StockInst(B7,\"銘柄名称\"))","v":"ＵＮＥＸＴ"},{"$f":"IF(B7=0,\"wait\",_xll.SNT.StockInst(B7,\"現値\"))","v":1682},{"$f":"IF(B7=0,\"wait\",_xll.SNT.StockInst(B7,\"前日終値\"))","v":1687},-5,{"$f":"IF(B7=0,\"wait\",MID(_xll.SNT.StockInst(B7,\"現値日時\"),12,5))","v":"09:02"},{"$f":"IF(B7=0,\"wait\",_xll.SNT.StockInst(B7,\"Tick回数\"))","v":31},{"$f":"IF(B7=0,\"wait\",_xll.SNT.StockInst(B7,\"VWAP\"))","v":1670.2854},{"$f":"ヒストリカルデータ取得シート!AJ$12","v":{"$error":"#DIV/0!"}},{"$error":"#DIV/0!"},{"$f":"ヒストリカルデータ取得シート!AJ$14","v":{"$error":"#DIV/0!"}},{"$error":"#DIV/0!"},{"$f":"ヒストリカルデータ取得シート!AJ$5","v":{"$error":"#DIV/0!"}},{"$f":"ヒストリカルデータ取得シート!AJ$6","v":{"$error":"#DIV/0!"}},{"$f":"ヒストリカルデータ取得シート!AJ$7","v":{"$error":"#DIV/0!"}},{"$f":"ヒストリカルデータ取得シート!AF$218","v":""},{"$f":"ヒストリカルデータ取得シート!AJ$11","v":"wait"}]
[5,"8306",{"$f":"IF(B8=0,\"wait\",_xll.SNT.StockInst(B8,\"銘柄名称\"))","v":"三菱ＵＦＪ"},{"$f":"IF(B8=0,\"wait\",_xll.SNT.StockInst(B8,\"現値\"))","v":1854},{"$f":"IF(B8=0,\"wait\",_xll.SNT.StockInst(B8,\"前日終値\"))","v":1851.5},2.5,{"$f":"IF(B8=0,\"wait\",MID(_xll.SNT.StockInst(B8,\"現値日時\"),12,5))","v":"09:02"},{"$f":"IF(B8=0,\"wait\",_xll.SNT.StockInst(B8,\"Tick回数\"))","v":685},{"$f":"IF(B8=0,\"wait\",_xll.SNT.StockInst(B8,\"VWAP\"))","v":1850.2878000000001},{"$f":"ヒストリカルデータ取得シート!AS$12","v":{"$error":"#DIV/0!"}},{"$error":"#DIV/0!"},{"$f":"ヒストリカルデータ取得シート!AS$14","v":{"$error":"#DIV/0!"}},{"$error":"#DIV/0!"},{"$f":"ヒストリカルデータ取得シート!AS$5","v":{"$error":"#DIV/0!"}},{"$f":"ヒストリカルデータ取得シート!AS$6","v":{"$error":"#DIV/0!"}},{"$f":"ヒストリカルデータ取得シート!AS$7","v":{"$error":"#DIV/0!"}},{"$f":"ヒストリカルデータ取得シート!AO$218","v":""},{"$f":"ヒストリカルデータ取得シート!AS$11","v":"wait"}]
[6,"4883",{"$f":"IF(B9=0,\"wait\",_xll.SNT.StockInst(B9,\"銘柄名称\"))","v":"モダリス"},{"$f":"IF(B9=0,\"wait\",_xll.SNT.StockInst(B9,\"現値\"))","v":112},{"$f":"IF(B9=0,\"wait\",_xll.SNT.StockInst(B9,\"前日終値\"))","v":111},1,{"$f":"IF(B9=0,\"wait\",MID(_xll.SNT.StockInst(B9,\"現値日時\"),12,5))","v":"09:02"},{"$f":"IF(B9=0,\"wait\",_xll.SNT.StockInst(B9,\"Tick回数\"))","v":30},{"$f":"IF(B9=0,\"wait\",_xll.SNT.StockInst(B9,\"VWAP\"))","v":112.7483},{"$f":"ヒストリカルデータ取得シート!BB$12","v":{"$error":"#DIV/0!"}},{"$f":"(D9-L9)/(J9-L9)","v":{"$error":"#DIV/0!"}},{"$f":"ヒストリカルデータ取得シート!BB$14","v":{"$error":"#DIV/0!"}},{"$error":"#DIV/0!"},{"$f":"ヒストリカルデータ取得シート!BB$5","v":{"$error":"#DIV/0!"}},{"$f":"ヒストリカルデータ取得シート!BB$6","v":{"$error":"#DIV/0!"}},{"$f":"ヒストリカルデータ取得シート!BB$7","v":{"$error":"#DIV/0!"}},{"$f":"ヒストリカルデータ取得シート!AX$218","v":""},{"$f":"ヒストリカルデータ取得シート!BB$11","v":"wait"}]
[7,"4597",{"$f":"IF(B10=0,\"wait\",_xll.SNT.StockInst(B10,\"銘柄名称\"))","v":"ソレイジア"},{"$f":"IF(B10=0,\"wait\",_xll.SNT.StockInst(B10,\"現値\"))","v":43},{"$f":"IF(B10=0,\"wait\",_xll.SNT.StockInst(B10,\"前日終値\"))","v":43},0,{"$f":"IF(B10=0,\"wait\",MID(_xll.SNT.StockInst(B10,\"現値日時\"),12,5))","v":"09:02"},{"$f":"IF(B10=0,\"wait\",_xll.SNT.StockInst(B10,\"Tick回数\"))","v":10},{"$f":"IF(B10=0,\"wait\",_xll.SNT.StockInst(B10,\"VWAP\"))","v":43.994399999999999},{"$f":"ヒストリカルデータ取得シート!BK$12","v":{"$error":"#DIV/0!"}},{"$error":"#DIV/0!"},{"$f":"ヒストリカルデータ取得シート!BK$14","v":{"$error":"#DIV/0!"}},{"$error":"#DIV/0!"},{"$f":"ヒストリカルデータ取得シート!BK$5","v":{"$error":"#DIV/0!"}},{"$f":"ヒストリカルデータ取得シート!BK$6","v":{"$error":"#DIV/0!"}},{"$f":"ヒストリカルデータ取得シート!BK$7","v":{"$error":"#DIV/0!"}},{"$f":"ヒストリカルデータ取得シート!BG$218","v":""},{"$f":"ヒストリカルデータ取得シート!BK$11","v":"wait"}]
[8,"1579",{"$f":"IF(B11=0,\"wait\",_xll.SNT.StockInst(B11,\"銘柄名称\"))","v":"日経ブル２"},{"$f":"IF(B11=0,\"wait\",_xll.SNT.StockInst(B11,\"現値\"))","v":298.60000000000002},{"$f":"IF(B11=0,\"wait\",_xll.SNT.StockInst(B11,\"前日終値\"))","v":302.7},-4.0999999999999659,{"$f":"IF(B11=0,\"wait\",MID(_xll.SNT.StockInst(B11,\"現値日時\"),12,5))","v":"09:02"},{"$f":"IF(B11=0,\"wait\",_xll.SNT.StockInst(B11,\"Tick回数\"))","v":468},{"$f":"IF(B11=0,\"wait\",_xll.SNT.StockInst(B11,\"VWAP\"))","v":298.26670000000001},{"$f":"ヒストリカルデータ取得シート!BT$12","v":{"$error":"#DIV/0!"}},{"$error":"#DIV/0!"},{"$f":"ヒストリカルデータ取得シート!BT$14","v":{"$error":"#DIV/0!"}},{"$error":"#DIV/0!"},{"$f":"ヒストリカルデータ取得シート!BT$5","v":{"$error":"#DIV/0!"}},{"$f":"ヒストリカルデータ取得シート!BT$6","v":{"$error":"#DIV/0!"}},{"$f":"ヒストリカルデータ取得シート!BT$7","v":{"$error":"#DIV/0!"}},{"$f":"ヒストリカルデータ取得シート!BP$218","v":""},{"$f":"ヒストリカルデータ取得シート!BT$11","v":"wait"}]
[9,"7003",{"$f":"IF(B12=0,\"wait\",_xll.SNT.StockInst(B12,\"銘柄名称\"))","v":"三井Ｅ＆Ｓ"},{"$f":"IF(B12=0,\"wait\",_xll.SNT.StockInst(B12,\"現値\"))","v":1588},{"$f":"IF(B12=0,\"wait\",_xll.SNT.StockInst(B12,\"前日終値\"))","v":1598},-10,{"$f":"IF(B12=0,\"wait\",MID(_xll.SNT.StockInst(B12,\"現値日時\"),12,5))","v":"09:02"},{"$f":"IF(B12=0,\"wait\",_xll.SNT.StockInst(B12,\"Tick回数\"))","v":578},{"$f":"IF(B12=0,\"wait\",_xll.SNT.StockInst(B12,\"VWAP\"))","v":1597.0917999999999},{"$f":"ヒストリカルデータ取得シート!CC$12","v":{"$error":"#DIV/0!"}},{"$error":"#DIV/0!"},{"$f":"ヒストリカルデータ取得シート!CC$14","v":{"$error":"#DIV/0!"}},{"$error":"#DIV/0!"},{"$f":"ヒストリカルデータ取得シート!CC$5","v":{"$error":"#DIV/0!"}},{"$f":"ヒストリカルデータ取得シート!CC$6","v":{"$error":"#DIV/0!"}},{"$f":"ヒストリカルデータ取得シート!CC$7","v":{"$error":"#DIV/0!"}},{"$f":"ヒストリカルデータ取得シート!BY$218","v":""},{"$f":"ヒストリカルデータ取得シート!CC$11","v":"wait"}]
[10,"7267",{"$f":"IF(B13=0,\"wait\",_xll.SNT.StockInst(B13,\"銘柄名称\"))","v":"ホンダ"},{"$f":"IF(B13=0,\"wait\",_xll.SNT.StockInst(B13,\"現値\"))","v":1298.5},{"$f":"IF(B13=0,\"wait\",_xll.SNT.StockInst(B13,\"前日終値\"))","v":1300},-1.5,{"$f":"IF(B13=0,\"wait\",MID(_xll.SNT.StockInst(B13,\"現値日時\"),12,5))","v":"09:02"},{"$f":"IF(B13=0,\"wait\",_xll.SNT.StockInst(B13,\"Tick回数\"))","v":349},{"$f":"IF(B13=0,\"wait\",_xll.SNT.StockInst(B13,\"VWAP\"))","v":1290.6288999999999},{"$f":"ヒストリカルデータ取得シート!CL$12","v":{"$error":"#DIV/0!"}},{"$error":"#DIV/0!"},{"$f":"ヒストリカルデータ取得シート!CL$14","v":{"$error":"#DIV/0!"}},{"$error":"#DIV/0!"},{"$f":"ヒストリカルデータ取得シート!CL$5","v":{"$error":"#DIV/0!"}},{"$f":"ヒストリカルデータ取得シート!CL$6","v":{"$error":"#DIV/0!"}},{"$f":"ヒストリカルデータ取得シート!CL$7","v":{"$error":"#DIV/0!"}},{"$f":"ヒストリカルデータ取得シート!CH$218","v":""},{"$f":"ヒストリカルデータ取得シート!CL$11","v":"wait"}]
[11,"7211",{"$f":"IF(B14=0,\"wait\",_xll.SNT.StockInst(B14,\"銘柄名称\"))","v":"三菱自"},{"$f":"IF(B14=0,\"wait\",_xll.SNT.StockInst(B14,\"現値\"))","v":417.3},{"$f":"IF(B14=0,\"wait\",_xll.SNT.StockInst(B14,\"前日終値\"))","v":418.1},-0.80000000000001137,{"$f":"IF(B14=0,\"wait\",MID(_xll.SNT.StockInst(B14,\"現値日時\"),12,5))","v":"09:02"},{"$f":"IF(B14=0,\"wait\",_xll.SNT.StockInst(B14,\"Tick回数\"))","v":236},{"$f":"IF(B14=0,\"wait\",_xll.SNT.StockInst(B14,\"VWAP\"))","v":415.18680000000001},{"$f":"ヒストリカルデータ取得シート!CU$12","v":{"$error":"#DIV/0!"}},{"$error":"#DIV/0!"},{"$f":"ヒストリカルデータ取得シート!CU$14","v":{"$error":"#DIV/0!"}},{"$error":"#DIV/0!"},{"$f":"ヒストリカルデータ取得シート!CU$5","v":{"$error":"#DIV/0!"}},{"$f":"ヒストリカルデータ取得シート!CU$6","v":{"$error":"#DIV/0!"}},{"$f":"ヒストリカルデータ取得シート!CU$7","v":{"$error":"#DIV/0!"}},{"$f":"ヒストリカルデータ取得シート!CQ$218","v":""},{"$f":"ヒストリカルデータ取得シート!CU$11","v":"wait"}]
[12,"7011",{"$f":"IF(B15=0,\"wait\",_xll.SNT.StockInst(B15,\"銘柄名称\"))","v":"三菱重"},{"$f":"IF(B15=0,\"wait\",_xll.SNT.StockInst(B15,\"現値\"))","v":2359},{"$f":"IF(B15=0,\"wait\",_xll.SNT.StockInst(B15,\"前日終値\"))","v":2390},-31,{"$f":"IF(B15=0,\"wait\",MID(_xll.SNT.StockInst(B15,\"現値日時\"),12,5))","v":"09:02"},{"$f":"IF(B15=0,\"wait\",_xll.SNT.StockInst(B15,\"Tick回数\"))","v":3375},{"$f":"IF(B15=0,\"wait\",_xll.SNT.StockInst(B15,\"VWAP\"))","v":2354.8328999999999},{"$f":"ヒストリカルデータ取得シート!DD$12","v":{"$error":"#DIV/0!"}},{"$error":"#DIV/0!"},{"$f":"ヒストリカルデータ取得シート!DD$14","v":{"$error":"#DIV/0!"}},{"$error":"#DIV/0!"},{"$f":"ヒストリカルデータ取得シート!DD$5","v":{"$error":"#DIV/0!"}},{"$f":"ヒストリカルデータ取得シート!DD$6","v":{"$error":"#DIV/0!"}},{"$f":"ヒストリカルデータ取得シート!DD$7","v":{"$error":"#DIV/0!"}},{"$f":"ヒストリカルデータ取得シート!CZ$218","v":""},{"$f":"ヒストリカルデータ取得シート!DD$11","v":"wait"}]
[13,"4583",{"$f":"IF(B16=0,\"wait\",_xll.SNT.StockInst(B16,\"銘柄名称\"))","v":"カイオム"},{"$f":"IF(B16=0,\"wait\",_xll.SNT.StockInst(B16,\"現値\"))","v":231},{"$f":"IF(B16=0,\"wait\",_xll.SNT.StockInst(B16,\"前日終値\"))","v":228},3,{"$f":"IF(B16=0,\"wait\",MID(_xll.SNT.StockInst(B16,\"現値日時\"),12,5))","v":"09:02"},{"$f":"IF(B16=0,\"wait\",_xll.SNT.StockInst(B16,\"Tick回数\"))","v":214},{"$f":"IF(B16=0,\"wait\",_xll.SNT.StockInst(B16,\"VWAP\"))","v":230.09780000000001},{"$f":"ヒストリカルデータ取得シート!DM$12","v":{"$error":"#DIV/0!"}},{"$error":"#DIV/0!"},{"$f":"ヒストリカルデータ取得シート!DM$14","v":{"$error":"#DIV/0!"}},{"$error":"#DIV/0!"},{"$f":"ヒストリカルデータ取得シート!DM$5","v":{"$error":"#DIV/0!"}},{"$f":"ヒストリカルデータ取得シート!DM$6","v":{"$error":"#DIV/0!"}},{"$f":"ヒストリカルデータ取得シート!DM$7","v":{"$error":"#DIV/0!"}},{"$f":"ヒストリカルデータ取得シート!DI$218","v":""},{"$f":"ヒストリカルデータ取得シート!DM$11","v":"wait"}]
[14,"2586",{"$f":"IF(B17=0,\"wait\",_xll.SNT.StockInst(B17,\"銘柄名称\"))","v":"フルッタ"},{"$f":"IF(B17=0,\"wait\",_xll.SNT.StockInst(B17,\"現値\"))","v":139},{"$f":"IF(B17=0,\"wait\",_xll.SNT.StockInst(B17,\"前日終値\"))","v":144},-5,{"$f":"IF(B17=0,\"wait\",MID(_xll.SNT.StockInst(B17,\"現値日時\"),12,5))","v":"09:02"},{"$f":"IF(B17=0,\"wait\",_xll.SNT.StockInst(B17,\"Tick回数\"))","v":144},{"$f":"IF(B17=0,\"wait\",_xll.SNT.StockInst(B17,\"VWAP\"))","v":140.25579999999999},{"$f":"ヒストリカルデータ取得シート!DV$12","v":{"$error":"#DIV/0!"}},{"$error":"#DIV/0!"},{"$f":"ヒストリカルデータ取得シート!DV$14","v":{"$error":"#DIV/0!"}},{"$error":"#DIV/0!"},{"$f":"ヒストリカルデータ取得シート!DV$5","v":{"$error":"#DIV/0!"}},{"$f":"ヒストリカルデータ取得シート!DV$6","v":{"$error":"#DIV/0!"}},{"$f":"ヒストリカルデータ取得シート!DV$7","v":{"$error":"#DIV/0!"}},{"$f":"ヒストリカルデータ取得シート!DR$218","v":""},{"$f":"ヒストリカルデータ取得シート!DV$11","v":"wait"}]
[15,"190A",{"$f":"IF(B18=0,\"wait\",_xll.SNT.StockInst(B18,\"銘柄名称\"))","v":"コーディア"},{"$f":"IF(B18=0,\"wait\",_xll.SNT.StockInst(B18,\"現値\"))","v":239},{"$f":"IF(B18=0,\"wait\",_xll.SNT.StockInst(B18,\"前日終値\"))","v":237},2,{"$f":"IF(B18=0,\"wait\",MID(_xll.SNT.StockInst(B18,\"現値日時\"),12,5))","v":"09:02"},{"$f":"IF(B18=0,\"wait\",_xll.SNT.StockInst(B18,\"Tick回数\"))","v":16},{"$f":"IF(B18=0,\"wait\",_xll.SNT.StockInst(B18,\"VWAP\"))","v":239.92509999999999},{"$f":"ヒストリカルデータ取得シート!EE$12","v":{"$error":"#DIV/0!"}},{"$error":"#DIV/0!"},{"$f":"ヒストリカルデータ取得シート!EE$14","v":{"$error":"#DIV/0!"}},{"$error":"#DIV/0!"},{"$f":"ヒストリカルデータ取得シート!EE$5","v":{"$error":"#DIV/0!"}},{"$f":"ヒストリカルデータ取得シート!EE$6","v":{"$error":"#DIV/0!"}},{"$f":"ヒストリカルデータ取得シート!EE$7","v":{"$error":"#DIV/0!"}},{"$f":"ヒストリカルデータ取得シート!EA$218","v":""},{"$f":"ヒストリカルデータ取得シート!EE$11","v":"wait"}]
[16,"9107",{"$f":"IF(B19=0,\"wait\",_xll.SNT.StockInst(B19,\"銘柄名称\"))","v":"川崎汽"},{"$f":"IF(B19=0,\"wait\",_xll.SNT.StockInst(B19,\"現値\"))","v":2086.5},{"$f":"IF(B19=0,\"wait\",_xll.SNT.StockInst(B19,\"前日終値\"))","v":2079.5},7,{"$f":"IF(B19=0,\"wait\",MID(_xll.SNT.StockInst(B19,\"現値日時\"),12,5))","v":"09:02"},{"$f":"IF(B19=0,\"wait\",_xll.SNT.StockInst(B19,\"Tick回数\"))","v":409},{"$f":"IF(B19=0,\"wait\",_xll.SNT.StockInst(B19,\"VWAP\"))","v":2081.1550000000002},{"$f":"ヒストリカルデータ取得シート!EN$12","v":{"$error":"#DIV/0!"}},{"$error":"#DIV/0!"},{"$f":"ヒストリカルデータ取得シート!EN$14","v":{"$error":"#DIV/0!"}},{"$error":"#DIV/0!"},{"$f":"ヒストリカルデータ取得シート!EN$5","v":{"$error":"#DIV/0!"}},{"$f":"ヒストリカルデータ取得シート!EN$6","v":{"$error":"#DIV/0!"}},{"$f":"ヒストリカルデータ取得シート!EN$7","v":{"$error":"#DIV/0!"}},{"$f":"ヒストリカルデータ取得シート!EJ$218","v":""},{"$f":"ヒストリカルデータ取得シート!EN$11","v":"wait"}]
[17,"7203",{"$f":"IF(B20=0,\"wait\",_xll.SNT.StockInst(B20,\"銘柄名称\"))","v":"トヨタ"},{"$f":"IF(B20=0,\"wait\",_xll.SNT.StockInst(B20,\"現値\"))","v":2676.5},{"$f":"IF(B20=0,\"wait\",_xll.SNT.StockInst(B20,\"前日終値\"))","v":2718.5},-42,{"$f":"IF(B20=0,\"wait\",MID(_xll.SNT.StockInst(B20,\"現値日時\"),12,5))","v":"09:02"},{"$f":"IF(B20=0,\"wait\",_xll.SNT.StockInst(B20,\"Tick回数\"))","v":1238},{"$f":"IF(B20=0,\"wait\",_xll.SNT.StockInst(B20,\"VWAP\"))","v":2669.1410000000001},{"$f":"ヒストリカルデータ取得シート!EW$12","v":{"$error":"#DIV/0!"}},{"$error":"#DIV/0!"},{"$f":"ヒストリカルデータ取得シート!EW$14","v":{"$error":"#DIV/0!"}},{"$error":"#DIV/0!"},{"$f":"ヒストリカルデータ取得シート!EW$5","v":{"$error":"#DIV/0!"}},{"$f":"ヒストリカルデータ取得シート!EW$6","v":{"$error":"#DIV/0!"}},{"$f":"ヒストリカルデータ取得シート!EW$7","v":{"$error":"#DIV/0!"}},{"$f":"ヒストリカルデータ取得シート!ES$218","v":""},{"$f":"ヒストリカルデータ取得シート!EW$11","v":"wait"}]
[18,"5803",{"$f":"IF(B21=0,\"wait\",_xll.SNT.StockInst(B21,\"銘柄名称\"))","v":"フジクラ"},{"$f":"IF(B21=0,\"wait\",_xll.SNT.StockInst(B21,\"現値\"))","v":6229},{"$f":"IF(B21=0,\"wait\",_xll.SNT.StockInst(B21,\"前日終値\"))","v":6130},99,{"$f":"IF(B21=0,\"wait\",MID(_xll.SNT.StockInst(B21,\"現値日時\"),12,5))","v":"09:02"},{"$f":"IF(B21=0,\"wait\",_xll.SNT.StockInst(B21,\"Tick回数\"))","v":1945},{"$f":"IF(B21=0,\"wait\",_xll.SNT.StockInst(B21,\"VWAP\"))","v":6162.7281999999996},{"$f":"ヒストリカルデータ取得シート!FF$12","v":{"$error":"#DIV/0!"}},{"$error":"#DIV/0!"},{"$f":"ヒストリカルデータ取得シート!FF$14","v":{"$error":"#DIV/0!"}},{"$error":"#DIV/0!"},{"$f":"ヒストリカルデータ取得シート!FF$5","v":{"$error":"#DIV/0!"}},{"$f":"ヒストリカルデータ取得シート!FF$6","v":{"$error":"#DIV/0!"}},{"$f":"ヒストリカルデータ取得シート!FF$7","v":{"$error":"#DIV/0!"}},{"$f":"ヒストリカルデータ取得シート!FB$218","v":""},{"$f":"ヒストリカルデータ取得シート!FF$11","v":"wait"}]
[19,"3778",{"$f":"IF(B22=0,\"wait\",_xll.SNT.StockInst(B22,\"銘柄名称\"))","v":"さくらネット"},{"$f":"IF(B22=0,\"wait\",_xll.SNT.StockInst(B22,\"現値\"))","v":4610},{"$f":"IF(B22=0,\"wait\",_xll.SNT.StockInst(B22,\"前日終値\"))","v":4630},-20,{"$f":"IF(B22=0,\"wait\",MID(_xll.SNT.StockInst(B22,\"現値日時\"),12,5))","v":"09:02"},{"$f":"IF(B22=0,\"wait\",_xll.SNT.StockInst(B22,\"Tick回数\"))","v":202},{"$f":"IF(B22=0,\"wait\",_xll.SNT.StockInst(B22,\"VWAP\"))","v":4621.6934000000001},{"$f":"ヒストリカルデータ取得シート!FO$12","v":{"$error":"#DIV/0!"}},{"$error":"#DIV/0!"},{"$f":"ヒストリカルデータ取得シート!FO$14","v":{"$error":"#DIV/0!"}},{"$error":"#DIV/0!"},{"$f":"ヒストリカルデータ取得シート!FO$5","v":{"$error":"#DIV/0!"}},{"$f":"ヒストリカルデータ取得シート!FO$6","v":{"$error":"#DIV/0!"}},{"$f":"ヒストリカルデータ取得シート!FO$7","v":{"$error":"#DIV/0!"}},{"$f":"ヒストリカルデータ取得シート!FK$218","v":""},{"$f":"ヒストリカルデータ取得シート!FO$11","v":"wait"}]
[20,"6857",{"$f":"IF(B23=0,\"wait\",_xll.SNT.StockInst(B23,\"銘柄名称\"))","v":"アドテスト"},{"$f":"IF(B23=0,\"wait\",_xll.SNT.StockInst(B23,\"現値\"))","v":9004},{"$f":"IF(B23=0,\"wait\",_xll.SNT.StockInst(B23,\"前日終値\"))","v":8865},139,{"$f":"IF(B23=0,\"wait\",MID(_xll.SNT.StockInst(B23,\"現値日時\"),12,5))","v":"09:02"},{"$f":"IF(B23=0,\"wait\",_xll.SNT.StockInst(B23,\"Tick回数\"))","v":2038},{"$f":"IF(B23=0,\"wait\",_xll.SNT.StockInst(B23,\"VWAP\"))","v":9001.0292000000009},{"$f":"ヒストリカルデータ取得シート!FX$12","v":{"$error":"#DIV/0!"}},{"$error":"#DIV/0!"},{"$f":"ヒストリカルデータ取得シート!FX$14","v":{"$error":"#DIV/0!"}},{"$error":"#DIV/0!"},{"$f":"ヒストリカルデータ取得シート!FX$5","v":{"$error":"#DIV/0!"}},{"$f":"ヒストリカルデータ取得シート!FX$6","v":{"$error":"#DIV/0!"}},{"$f":"ヒストリカルデータ取得シート!FX$7","v":{"$error":"#DIV/0!"}},{"$f":"ヒストリカルデータ取得シート!FT$218","v":""},{"$f":"ヒストリカルデータ取得シート!FX$11","v":"wait"}]
[21,"7746",{"$f":"IF(B24=0,\"wait\",_xll.SNT.StockInst(B24,\"銘柄名称\"))","v":"岡本硝子"},{"$f":"IF(B24=0,\"wait\",_xll.SNT.StockInst(B24,\"現値\"))","v":200},{"$f":"IF(B24=0,\"wait\",_xll.SNT.StockInst(B24,\"前日終値\"))","v":205},-5,{"$f":"IF(B24=0,\"wait\",MID(_xll.SNT.StockInst(B24,\"現値日時\"),12,5))","v":"09:02"},{"$f":"IF(B24=0,\"wait\",_xll.SNT.StockInst(B24,\"Tick回数\"))","v":25},{"$f":"IF(B24=0,\"wait\",_xll.SNT.StockInst(B24,\"VWAP\"))","v":201.07320000000001},{"$f":"ヒストリカルデータ取得シート!GG$12","v":{"$error":"#DIV/0!"}},{"$f":"(D24-L24)/(J24-L24)","v":{"$error":"#DIV/0!"}},{"$f":"ヒストリカルデータ取得シート!GG$14","v":{"$error":"#DIV/0!"}},{"$error":"#DIV/0!"},{"$f":"ヒストリカルデータ取得シート!GG$5","v":{"$error":"#DIV/0!"}},{"$f":"ヒストリカルデータ取得シート!GG$6","v":{"$error":"#DIV/0!"}},{"$f":"ヒストリカルデータ取得シート!GG$7","v":{"$error":"#DIV/0!"}},{"$f":"ヒストリカルデータ取得シート!FT$218","v":""},{"$f":"ヒストリカルデータ取得シート!GG$11","v":"wait"}]
[22,"8058",{"$f":"IF(B25=0,\"wait\",_xll.SNT.StockInst(B25,\"銘柄名称\"))","v":"三菱商"},{"$f":"IF(B25=0,\"wait\",_xll.SNT.StockInst(B25,\"現値\"))","v":2571.5},{"$f":"IF(B25=0,\"wait\",_xll.SNT.StockInst(B25,\"前日終値\"))","v":2573.5},-2,{"$f":"IF(B25=0,\"wait\",MID(_xll.SNT.StockInst(B25,\"現値日時\"),12,5))","v":"09:02"},{"$f":"IF(B25=0,\"wait\",_xll.SNT.StockInst(B25,\"Tick回数\"))","v":583},{"$f":"IF(B25=0,\"wait\",_xll.SNT.StockInst(B25,\"VWAP\"))","v":2551.3135000000002},{"$f":"ヒストリカルデータ取得シート!GP$12","v":{"$error":"#DIV/0!"}},{"$f":"(D25-L25)/(J25-L25)","v":{"$error":"#DIV/0!"}},{"$f":"ヒストリカルデータ取得シート!GP$14","v":{"$error":"#DIV/0!"}},{"$error":"#DIV/0!"},{"$f":"ヒストリカルデータ取得シート!GP$5","v":{"$error":"#DIV/0!"}},{"$f":"ヒストリカルデータ取得シート!GP$6","v":{"$error":"#DIV/0!"}},{"$f":"ヒストリカルデータ取得シート!GP$7","v":{"$error":"#DIV/0!"}},{"$f":"ヒストリカルデータ取得シート!FT$218","v":""},{"$f":"ヒストリカルデータ取得シート!GP$11","v":"wait"}]
[23,"9424",{"$f":"IF(B26=0,\"wait\",_xll.SNT.StockInst(B26,\"銘柄名称\"))","v":"日本通信"},{"$f":"IF(B26=0,\"wait\",_xll.SNT.StockInst(B26,\"現値\"))","v":135},{"$f":"IF(B26=0,\"wait\",_xll.SNT.StockInst(B26,\"前日終値\"))","v":135},0,{"$f":"IF(B26=0,\"wait\",MID(_xll.SNT.StockInst(B26,\"現値日時\"),12,5))","v":"09:01"},{"$f":"IF(B26=0,\"wait\",_xll.SNT.StockInst(B26,\"Tick回数\"))","v":29},{"$f":"IF(B26=0,\"wait\",_xll.SNT.StockInst(B26,\"VWAP\"))","v":133.3323},{"$f":"ヒストリカルデータ取得シート!GY$12","v":{"$error":"#DIV/0!"}},{"$f":"(D26-L26)/(J26-L26)","v":{"$error":"#DIV/0!"}},{"$f":"ヒストリカルデータ取得シート!GY$14","v":{"$error":"#DIV/0!"}},{"$error":"#DIV/0!"},{"$f":"ヒストリカルデータ取得シート!GY$5","v":{"$error":"#DIV/0!"}},{"$f":"ヒストリカルデータ取得シート!GY$6","v":{"$error":"#DIV/0!"}},{"$f":"ヒストリカルデータ取得シート!GY$7","v":{"$error":"#DIV/0!"}},{"$f":"ヒストリカルデータ取得シート!FT$218","v":""},{"$f":"ヒストリカルデータ取得シート!GY$11","v":"wait"}]
[24,"7012",{"$f":"IF(B27=0,\"wait\",_xll.SNT.StockInst(B27,\"銘柄名称\"))","v":"川重"},{"$f":"IF(B27=0,\"wait\",_xll.SNT.StockInst(B27,\"現値\"))","v":6547},{"$f":"IF(B27=0,\"wait\",_xll.SNT.StockInst(B27,\"前日終値\"))","v":6624},-77,{"$f":"IF(B27=0,\"wait\",MID(_xll.SNT.StockInst(B27,\"現値日時\"),12,5))","v":"09:02"},{"$f":"IF(B27=0,\"wait\",_xll.SNT.StockInst(B27,\"Tick回数\"))","v":1358},{"$f":"IF(B27=0,\"wait\",_xll.SNT.StockInst(B27,\"VWAP\"))","v":6578.8896999999997},{"$f":"ヒストリカルデータ取得シート!HH$12","v":{"$error":"#DIV/0!"}},{"$f":"(D27-L27)/(J27-L27)","v":{"$error":"#DIV/0!"}},{"$f":"ヒストリカルデータ取得シート!HH$14","v":{"$error":"#DIV/0!"}},{"$error":"#DIV/0!"},{"$f":"ヒストリカルデータ取得シート!HH$5","v":{"$error":"#DIV/0!"}},{"$f":"ヒストリカルデータ取得シート!HH$6","v":{"$error":"#DIV/0!"}},{"$f":"ヒストリカルデータ取得シート!HH$7","v":{"$error":"#DIV/0!"}},{"$f":"ヒストリカルデータ取得シート!FT$218","v":""},{"$f":"ヒストリカルデータ取得シート!HH$11","v":"wait"}]
[25,"7261",{"$f":"IF(B28=0,\"wait\",_xll.SNT.StockInst(B28,\"銘柄名称\"))","v":"マツダ"},{"$f":"IF(B28=0,\"wait\",_xll.SNT.StockInst(B28,\"現値\"))","v":968.5},{"$f":"IF(B28=0,\"wait\",_xll.SNT.StockInst(B28,\"前日終値\"))","v":972.4},-3.8999999999999773,{"$f":"IF(B28=0,\"wait\",MID(_xll.SNT.StockInst(B28,\"現値日時\"),12,5))","v":"09:02"},{"$f":"IF(B28=0,\"wait\",_xll.SNT.StockInst(B28,\"Tick回数\"))","v":363},{"$f":"IF(B28=0,\"wait\",_xll.SNT.StockInst(B28,\"VWAP\"))","v":960.09339999999997},{"$f":"ヒストリカルデータ取得シート!HQ$12","v":{"$error":"#DIV/0!"}},{"$f":"(D28-L28)/(J28-L28)","v":{"$error":"#DIV/0!"}},{"$f":"ヒストリカルデータ取得シート!HQ$14","v":{"$error":"#DIV/0!"}},{"$error":"#DIV/0!"},{"$f":"ヒストリカルデータ取得シート!HQ$5","v":{"$error":"#DIV/0!"}},{"$f":"ヒストリカルデータ取得シート!HQ$6","v":{"$error":"#DIV/0!"}},{"$f":"ヒストリカルデータ取得シート!HQ$7","v":{"$error":"#DIV/0!"}},{"$f":"ヒストリカルデータ取得シート!FT$218","v":""},{"$f":"ヒストリカルデータ取得シート!HQ$11","v":"wait"}]
[26,"4188",{"$f":"IF(B29=0,\"wait\",_xll.SNT.StockInst(B29,\"銘柄名称\"))","v":"三菱ケミＧ"},{"$f":"IF(B29=0,\"wait\",_xll.SNT.StockInst(B29,\"現値\"))","v":787.9},{"$f":"IF(B29=0,\"wait\",_xll.SNT.StockInst(B29,\"前日終値\"))","v":794.8},-6.8999999999999773,{"$f":"IF(B29=0,\"wait\",MID(_xll.SNT.StockInst(B29,\"現値日時\"),12,5))","v":"09:02"},{"$f":"IF(B29=0,\"wait\",_xll.SNT.StockInst(B29,\"Tick回数\"))","v":304},{"$f":"IF(B29=0,\"wait\",_xll.SNT.StockInst(B29,\"VWAP\"))","v":780.67669999999998},{"$f":"ヒストリカルデータ取得シート!HZ$12","v":{"$error":"#DIV/0!"}},{"$error":"#DIV/0!"},{"$f":"ヒストリカルデータ取得シート!HZ$14","v":{"$error":"#DIV/0!"}},{"$error":"#DIV/0!"},{"$f":"ヒストリカルデータ取得シート!HZ$5","v":{"$error":"#DIV/0!"}},{"$f":"ヒストリカルデータ取得シート!HZ$6","v":{"$error":"#DIV/0!"}},{"$f":"ヒストリカルデータ取得シート!HZ$7","v":{"$error":"#DIV/0!"}},{"$f":"ヒストリカルデータ取得シート!FT$218","v":""},{"$f":"ヒストリカルデータ取得シート!HZ$11","v":"wait"}]
[27,"9104",{"$f":"IF(B30=0,\"wait\",_xll.SNT.StockInst(B30,\"銘柄名称\"))","v":"商船三井"},{"$f":"IF(B30=0,\"wait\",_xll.SNT.StockInst(B30,\"現値\"))","v":5216},{"$f":"IF(B30=0,\"wait\",_xll.SNT.StockInst(B30,\"前日終値\"))","v":5220},-4,{"$f":"IF(B30=0,\"wait\",MID(_xll.SNT.StockInst(B30,\"現値日時\"),12,5))","v":"09:02"},{"$f":"IF(B30=0,\"wait\",_xll.SNT.StockInst(B30,\"Tick回数\"))","v":346},{"$f":"IF(B30=0,\"wait\",_xll.SNT.StockInst(B30,\"VWAP\"))","v":5187.7079000000003},{"$f":"ヒストリカルデータ取得シート!II$12","v":{"$error":"#DIV/0!"}},{"$error":"#DIV/0!"},{"$f":"ヒストリカルデータ取得シート!II$14","v":{"$error":"#DIV/0!"}},{"$error":"#DIV/0!"},{"$f":"ヒストリカルデータ取得シート!II$5","v":{"$error":"#DIV/0!"}},{"$f":"ヒストリカルデータ取得シート!II$6","v":{"$error":"#DIV/0!"}},{"$f":"ヒストリカルデータ取得シート!II$7","v":{"$error":"#DIV/0!"}},{"$f":"ヒストリカルデータ取得シート!FT$218","v":""},{"$f":"ヒストリカルデータ取得シート!II$11","v":"wait"}]
[28,"5595",{"$f":"IF(B31=0,\"wait\",_xll.SNT.StockInst(B31,\"銘柄名称\"))","v":"ＱＰＳ研究所"},{"$f":"IF(B31=0,\"wait\",_xll.SNT.StockInst(B31,\"現値\"))","v":1176},{"$f":"IF(B31=0,\"wait\",_xll.SNT.StockInst(B31,\"前日終値\"))","v":1199},-23,{"$f":"IF(B31=0,\"wait\",MID(_xll.SNT.StockInst(B31,\"現値日時\"),12,5))","v":"09:02"},{"$f":"IF(B31=0,\"wait\",_xll.SNT.StockInst(B31,\"Tick回数\"))","v":279},{"$f":"IF(B31=0,\"wait\",_xll.SNT.StockInst(B31,\"VWAP\"))","v":1187.7765999999999},{"$f":"ヒストリカルデータ取得シート!IR$12","v":{"$error":"#DIV/0!"}},{"$error":"#DIV/0!"},{"$f":"ヒストリカルデータ取得シート!IR$14","v":{"$error":"#DIV/0!"}},{"$error":"#DIV/0!"},{"$f":"ヒストリカルデータ取得シート!IR$5","v":{"$error":"#DIV/0!"}},{"$f":"ヒストリカルデータ取得シート!IR$6","v":{"$error":"#DIV/0!"}},{"$f":"ヒストリカルデータ取得シート!IR$7","v":{"$error":"#DIV/0!"}},{"$f":"ヒストリカルデータ取得シート!FT$218","v":""},{"$f":"ヒストリカルデータ取得シート!IR$11","v":"wait"}]
[29,"3237",{"$f":"IF(B32=0,\"wait\",_xll.SNT.StockInst(B32,\"銘柄名称\"))","v":"イントランス"},{"$f":"IF(B32=0,\"wait\",_xll.SNT.StockInst(B32,\"現値\"))","v":105},{"$f":"IF(B32=0,\"wait\",_xll.SNT.StockInst(B32,\"前日終値\"))","v":104},1,{"$f":"IF(B32=0,\"wait\",MID(_xll.SNT.StockInst(B32,\"現値日時\"),12,5))","v":"09:00"},{"$f":"IF(B32=0,\"wait\",_xll.SNT.StockInst(B32,\"Tick回数\"))","v":1},{"$f":"IF(B32=0,\"wait\",_xll.SNT.StockInst(B32,\"VWAP\"))","v":105},{"$f":"ヒストリカルデータ取得シート!JA$12","v":{"$error":"#DIV/0!"}},{"$error":"#DIV/0!"},{"$f":"ヒストリカルデータ取得シート!JA$14","v":{"$error":"#DIV/0!"}},{"$error":"#DIV/0!"},{"$f":"ヒストリカルデータ取得シート!JA$5","v":{"$error":"#DIV/0!"}},{"$f":"ヒストリカルデータ取得シート!JA$6","v":{"$error":"#DIV/0!"}},{"$f":"ヒストリカルデータ取得シート!JA$7","v":{"$error":"#DIV/0!"}},{"$f":"ヒストリカルデータ取得シート!FT$218","v":""},{"$f":"ヒストリカルデータ取得シート!JA$11","v":"wait"}]
[30,"8604",{"$f":"IF(B33=0,\"wait\",_xll.SNT.StockInst(B33,\"銘柄名称\"))","v":"野村"},{"$f":"IF(B33=0,\"wait\",_xll.SNT.StockInst(B33,\"現値\"))","v":917.1},{"$f":"IF(B33=0,\"wait\",_xll.SNT.StockInst(B33,\"前日終値\"))","v":922.6},-5.5,{"$f":"IF(B33=0,\"wait\",MID(_xll.SNT.StockInst(B33,\"現値日時\"),12,5))","v":"09:02"},{"$f":"IF(B33=0,\"wait\",_xll.SNT.StockInst(B33,\"Tick回数\"))","v":413},{"$f":"IF(B33=0,\"wait\",_xll.SNT.StockInst(B33,\"VWAP\"))","v":908.10419999999999},{"$f":"ヒストリカルデータ取得シート!JJ$12","v":{"$error":"#DIV/0!"}},{"$error":"#DIV/0!"},{"$f":"ヒストリカルデータ取得シート!JJ$14","v":{"$error":"#DIV/0!"}},{"$error":"#DIV/0!"},{"$f":"ヒストリカルデータ取得シート!JJ$5","v":{"$error":"#DIV/0!"}},{"$f":"ヒストリカルデータ取得シート!JJ$6","v":{"$error":"#DIV/0!"}},{"$f":"ヒストリカルデータ取得シート!JJ$7","v":{"$error":"#DIV/0!"}},{"$f":"ヒストリカルデータ取得シート!FT$218","v":""},{"$f":"ヒストリカルデータ取得シート!JJ$11","v":"wait"}]
[31,"2345",{"$f":"IF(B34=0,\"wait\",_xll.SNT.StockInst(B34,\"銘柄名称\"))","v":"クシム"},{"$f":"IF(B34=0,\"wait\",_xll.SNT.StockInst(B34,\"現値\"))","v":413},{"$f":"IF(B34=0,\"wait\",_xll.SNT.StockInst(B34,\"前日終値\"))","v":418},-5,{"$f":"IF(B34=0,\"wait\",MID(_xll.SNT.StockInst(B34,\"現値日時\"),12,5))","v":"09:02"},{"$f":"IF(B34=0,\"wait\",_xll.SNT.StockInst(B34,\"Tick回数\"))","v":92},{"$f":"IF(B34=0,\"wait\",_xll.SNT.StockInst(B34,\"VWAP\"))","v":418.55560000000003},{"$f":"ヒストリカルデータ取得シート!JS$12","v":{"$error":"#DIV/0!"}},{"$error":"#DIV/0!"},{"$f":"ヒストリカルデータ取得シート!JS$14","v":{"$error":"#DIV/0!"}},{"$error":"#DIV/0!"},{"$f":"ヒストリカルデータ取得シート!JS$5","v":{"$error":"#DIV/0!"}},{"$f":"ヒストリカルデータ取得シート!JS$6","v":{"$error":"#DIV/0!"}},{"$f":"ヒストリカルデータ取得シート!JS$7","v":{"$error":"#DIV/0!"}},{"$f":"ヒストリカルデータ取得シート!FT$218","v":""},{"$f":"ヒストリカルデータ取得シート!JS$11","v":"wait"}]
[32,"3823",{"$f":"IF(B35=0,\"wait\",_xll.SNT.StockInst(B35,\"銘柄名称\"))","v":"ＷＨＤＣ"},{"$f":"IF(B35=0,\"wait\",_xll.SNT.StockInst(B35,\"現値\"))","v":29},{"$f":"IF(B35=0,\"wait\",_xll.SNT.StockInst(B35,\"前日終値\"))","v":29},0,{"$f":"IF(B35=0,\"wait\",MID(_xll.SNT.StockInst(B35,\"現値日時\"),12,5))","v":"09:00"},{"$f":"IF(B35=0,\"wait\",_xll.SNT.StockInst(B35,\"Tick回数\"))","v":1},{"$f":"IF(B35=0,\"wait\",_xll.SNT.StockInst(B35,\"VWAP\"))","v":29},{"$f":"ヒストリカルデータ取得シート!KB$12","v":{"$error":"#DIV/0!"}},{"$error":"#DIV/0!"},{"$f":"ヒストリカルデータ取得シート!KB$14","v":{"$error":"#DIV/0!"}},{"$error":"#DIV/0!"},{"$f":"ヒストリカルデータ取得シート!KB$5","v":{"$error":"#DIV/0!"}},{"$f":"ヒストリカルデータ取得シート!KB$6","v":{"$error":"#DIV/0!"}},{"$f":"ヒストリカルデータ取得シート!KB$7","v":{"$error":"#DIV/0!"}},{"$f":"ヒストリカルデータ取得シート!FT$218","v":""},{"$f":"ヒストリカルデータ取得シート!KB$11","v":"wait"}]
[33,"6048",{"$f":"IF(B36=0,\"wait\",_xll.SNT.StockInst(B36,\"銘柄名称\"))","v":"デザインワン"},{"$f":"IF(B36=0,\"wait\",_xll.SNT.StockInst(B36,\"現値\"))","v":115},{"$f":"IF(B36=0,\"wait\",_xll.SNT.StockInst(B36,\"前日終値\"))","v":115},0,{"$f":"IF(B36=0,\"wait\",MID(_xll.SNT.StockInst(B36,\"現値日時\"),12,5))","v":"09:00"},{"$f":"IF(B36=0,\"wait\",_xll.SNT.StockInst(B36,\"Tick回数\"))","v":1},{"$f":"IF(B36=0,\"wait\",_xll.SNT.StockInst(B36,\"VWAP\"))","v":115},{"$f":"ヒストリカルデータ取得シート!KK$12","v":{"$error":"#DIV/0!"}},{"$error":"#DIV/0!"},{"$f":"ヒストリカルデータ取得シート!KK$14","v":{"$error":"#DIV/0!"}},{"$error":"#DIV/0!"},{"$f":"ヒストリカルデータ取得シート!KK$5","v":{"$error":"#DIV/0!"}},{"$f":"ヒストリカルデータ取得シート!KK$6","v":{"$error":"#DIV/0!"}},{"$f":"ヒストリカルデータ取得シート!KK$7","v":{"$error":"#DIV/0!"}},{"$f":"ヒストリカルデータ取得シート!FT$218","v":""},{"$f":"ヒストリカルデータ取得シート!KK$11","v":"wait"}]
[34,"4564",{"$f":"IF(B37=0,\"wait\",_xll.SNT.StockInst(B37,\"銘柄名称\"))","v":"ＯＴＳ"},{"$f":"IF(B37=0,\"wait\",_xll.SNT.StockInst(B37,\"現値\"))","v":31},{"$f":"IF(B37=0,\"wait\",_xll.SNT.StockInst(B37,\"前日終値\"))","v":31},0,{"$f":"IF(B37=0,\"wait\",MID(_xll.SNT.StockInst(B37,\"現値日時\"),12,5))","v":"09:02"},{"$f":"IF(B37=0,\"wait\",_xll.SNT.StockInst(B37,\"Tick回数\"))","v":6},{"$f":"IF(B37=0,\"wait\",_xll.SNT.StockInst(B37,\"VWAP\"))","v":31},{"$f":"ヒストリカルデータ取得シート!KT$12","v":{"$error":"#DIV/0!"}},{"$error":"#DIV/0!"},{"$f":"ヒストリカルデータ取得シート!KT$14","v":{"$error":"#DIV/0!"}},{"$error":"#DIV/0!"},{"$f":"ヒストリカルデータ取得シート!KT$5","v":{"$error":"#DIV/0!"}},{"$f":"ヒストリカルデータ取得シート!KT$6","v":{"$error":"#DIV/0!"}},{"$f":"ヒストリカルデータ取得シート!KT$7","v":{"$error":"#DIV/0!"}},{"$f":"ヒストリカルデータ取得シート!FT$218","v":""},{"$f":"ヒストリカルデータ取得シート!KT$11","v":"wait"}]
[35,"3003",{"$f":"IF(B38=0,\"wait\",_xll.SNT.StockInst(B38,\"銘柄名称\"))","v":"ヒューリック"},{"$f":"IF(B38=0,\"wait\",_xll.SNT.StockInst(B38,\"現値\"))","v":1376},{"$f":"IF(B38=0,\"wait\",_xll.SNT.StockInst(B38,\"前日終値\"))","v":1376.5},-0.5,{"$f":"IF(B38=0,\"wait\",MID(_xll.SNT.StockInst(B38,\"現値日時\"),12,5))","v":"09:02"},{"$f":"IF(B38=0,\"wait\",_xll.SNT.StockInst(B38,\"Tick回数\"))","v":166},{"$f":"IF(B38=0,\"wait\",_xll.SNT.StockInst(B38,\"VWAP\"))","v":1373.4278999999999},{"$f":"ヒストリカルデータ取得シート!LC$12","v":{"$error":"#DIV/0!"}},{"$error":"#DIV/0!"},{"$f":"ヒストリカルデータ取得シート!LC$14","v":{"$error":"#DIV/0!"}},{"$error":"#DIV/0!"},{"$f":"ヒストリカルデータ取得シート!LC$5","v":{"$error":"#DIV/0!"}},{"$f":"ヒストリカルデータ取得シート!LC$6","v":{"$error":"#DIV/0!"}},{"$f":"ヒストリカルデータ取得シート!LC$7","v":{"$error":"#DIV/0!"}},{"$f":"ヒストリカルデータ取得シート!FT$218","v":""},{"$f":"ヒストリカルデータ取得シート!LC$11","v":"wait"}]
[36,"9504",{"$f":"IF(B39=0,\"wait\",_xll.SNT.StockInst(B39,\"銘柄名称\"))","v":"中国電"},{"$f":"IF(B39=0,\"wait\",_xll.SNT.StockInst(B39,\"現値\"))","v":896.4},{"$f":"IF(B39=0,\"wait\",_xll.SNT.StockInst(B39,\"前日終値\"))","v":890.6},5.7999999999999545,{"$f":"IF(B39=0,\"wait\",MID(_xll.SNT.StockInst(B39,\"現値日時\"),12,5))","v":"09:02"},{"$f":"IF(B39=0,\"wait\",_xll.SNT.StockInst(B39,\"Tick回数\"))","v":176},{"$f":"IF(B39=0,\"wait\",_xll.SNT.StockInst(B39,\"VWAP\"))","v":891.77570000000003},{"$f":"ヒストリカルデータ取得シート!LL$12","v":{"$error":"#DIV/0!"}},{"$error":"#DIV/0!"},{"$f":"ヒストリカルデータ取得シート!LL$14","v":{"$error":"#DIV/0!"}},{"$error":"#DIV/0!"},{"$f":"ヒストリカルデータ取得シート!LL$5","v":{"$error":"#DIV/0!"}},{"$f":"ヒストリカルデータ取得シート!LL$6","v":{"$error":"#DIV/0!"}},{"$f":"ヒストリカルデータ取得シート!LL$7","v":{"$error":"#DIV/0!"}},{"$f":"ヒストリカルデータ取得シート!FT$218","v":""},{"$f":"ヒストリカルデータ取得シート!LL$11","v":"wait"}]
[37,"3777",{"$f":"IF(B40=0,\"wait\",_xll.SNT.StockInst(B40,\"銘柄名称\"))","v":"環境フレンド"},{"$f":"IF(B40=0,\"wait\",_xll.SNT.StockInst(B40,\"現値\"))","v":32},{"$f":"IF(B40=0,\"wait\",_xll.SNT.StockInst(B40,\"前日終値\"))","v":32},0,{"$f":"IF(B40=0,\"wait\",MID(_xll.SNT.StockInst(B40,\"現値日時\"),12,5))","v":"09:00"},{"$f":"IF(B40=0,\"wait\",_xll.SNT.StockInst(B40,\"Tick回数\"))","v":2},{"$f":"IF(B40=0,\"wait\",_xll.SNT.StockInst(B40,\"VWAP\"))","v":32},{"$f":"ヒストリカルデータ取得シート!LU$12","v":{"$error":"#DIV/0!"}},{"$error":"#DIV/0!"},{"$f":"ヒストリカルデータ取得シート!LU$14","v":{"$error":"#DIV/0!"}},{"$error":"#DIV/0!"},{"$f":"ヒストリカルデータ取得シート!LU$5","v":{"$error":"#DIV/0!"}},{"$f":"ヒストリカルデータ取得シート!LU$6","v":{"$error":"#DIV/0!"}},{"$f":"ヒストリカルデータ取得シート!LU$7","v":{"$error":"#DIV/0!"}},{"$f":"ヒストリカルデータ取得シート!FT$218","v":""},{"$f":"ヒストリカルデータ取得シート!LU$11","v":"wait"}]
[38,"4385",{"$f":"IF(B41=0,\"wait\",_xll.SNT.StockInst(B41,\"銘柄名称\"))","v":"メルカリ"},{"$f":"IF(B41=0,\"wait\",_xll.SNT.StockInst(B41,\"現値\"))","v":1944},{"$f":"IF(B41=0,\"wait\",_xll.SNT.StockInst(B41,\"前日終値\"))","v":1927},17,{"$f":"IF(B41=0,\"wait\",MID(_xll.SNT.StockInst(B41,\"現値日時\"),12,5))","v":"09:02"},{"$f":"IF(B41=0,\"wait\",_xll.SNT.StockInst(B41,\"Tick回数\"))","v":502},{"$f":"IF(B41=0,\"wait\",_xll.SNT.StockInst(B41,\"VWAP\"))","v":1930.0492999999999},{"$f":"ヒストリカルデータ取得シート!MD$12","v":{"$error":"#DIV/0!"}},{"$error":"#DIV/0!"},{"$f":"ヒストリカルデータ取得シート!MD$14","v":{"$error":"#DIV/0!"}},{"$error":"#DIV/0!"},{"$f":"ヒストリカルデータ取得シート!MD$5","v":{"$error":"#DIV/0!"}},{"$f":"ヒストリカルデータ取得シート!MD$6","v":{"$error":"#DIV/0!"}},{"$f":"ヒストリカルデータ取得シート!MD$7","v":{"$error":"#DIV/0!"}},{"$f":"ヒストリカルデータ取得シート!FT$218","v":""},{"$f":"ヒストリカルデータ取得シート!MD$11","v":"wait"}]
[39,"9101",{"$f":"IF(B42=0,\"wait\",_xll.SNT.StockInst(B42,\"銘柄名称\"))","v":"郵船"},{"$f":"IF(B42=0,\"wait\",_xll.SNT.StockInst(B42,\"現値\"))","v":5037},{"$f":"IF(B42=0,\"wait\",_xll.SNT.StockInst(B42,\"前日終値\"))","v":5020},17,{"$f":"IF(B42=0,\"wait\",MID(_xll.SNT.StockInst(B42,\"現値日時\"),12,5))","v":"09:02"},{"$f":"IF(B42=0,\"wait\",_xll.SNT.StockInst(B42,\"Tick回数\"))","v":387},{"$f":"IF(B42=0,\"wait\",_xll.SNT.StockInst(B42,\"VWAP\"))","v":5014.5082000000002},{"$f":"ヒストリカルデータ取得シート!MM$12","v":{"$error":"#DIV/0!"}},{"$error":"#DIV/0!"},{"$f":"ヒストリカルデータ取得シート!MM$14","v":{"$error":"#DIV/0!"}},{"$error":"#DIV/0!"},{"$f":"ヒストリカルデータ取得シート!MM$5","v":{"$error":"#DIV/0!"}},{"$f":"ヒストリカルデータ取得シート!MM$6","v":{"$error":"#DIV/0!"}},{"$f":"ヒストリカルデータ取得シート!MM$7","v":{"$error":"#DIV/0!"}},{"$f":"ヒストリカルデータ取得シート!FT$218","v":""},{"$f":"ヒストリカルデータ取得シート!MM$11","v":"wait"}]
[40,"4563",{"$f":"IF(B43=0,\"wait\",_xll.SNT.StockInst(B43,\"銘柄名称\"))","v":"アンジェス"},{"$f":"IF(B43=0,\"wait\",_xll.SNT.StockInst(B43,\"現値\"))","v":52},{"$f":"IF(B43=0,\"wait\",_xll.SNT.StockInst(B43,\"前日終値\"))","v":51},1,{"$f":"IF(B43=0,\"wait\",MID(_xll.SNT.StockInst(B43,\"現値日時\"),12,5))","v":"09:02"},{"$f":"IF(B43=0,\"wait\",_xll.SNT.StockInst(B43,\"Tick回数\"))","v":14},{"$f":"IF(B43=0,\"wait\",_xll.SNT.StockInst(B43,\"VWAP\"))","v":52.852499999999999},{"$f":"ヒストリカルデータ取得シート!MV$12","v":{"$error":"#DIV/0!"}},{"$error":"#DIV/0!"},{"$f":"ヒストリカルデータ取得シート!MV$14","v":{"$error":"#DIV/0!"}},{"$error":"#DIV/0!"},{"$f":"ヒストリカルデータ取得シート!MV$5","v":{"$error":"#DIV/0!"}},{"$f":"ヒストリカルデータ取得シート!MV$6","v":{"$error":"#DIV/0!"}},{"$f":"ヒストリカルデータ取得シート!MV$7","v":{"$error":"#DIV/0!"}},{"$f":"ヒストリカルデータ取得シート!FT$218","v":""},{"$f":"ヒストリカルデータ取得シート!MV$11","v":"wait"}]
[41,"4005",{"$f":"IF(B44=0,\"wait\",_xll.SNT.StockInst(B44,\"銘柄名称\"))","v":"住友化"},{"$f":"IF(B44=0,\"wait\",_xll.SNT.StockInst(B44,\"現値\"))","v":349},{"$f":"IF(B44=0,\"wait\",_xll.SNT.StockInst(B44,\"前日終値\"))","v":352.4},-3.3999999999999773,{"$f":"IF(B44=0,\"wait\",MID(_xll.SNT.StockInst(B44,\"現値日時\"),12,5))","v":"09:02"},{"$f":"IF(B44=0,\"wait\",_xll.SNT.StockInst(B44,\"Tick回数\"))","v":329},{"$f":"IF(B44=0,\"wait\",_xll.SNT.StockInst(B44,\"VWAP\"))","v":349.2099},{"$f":"ヒストリカルデータ取得シート!NC$12","v":{"$error":"#DIV/0!"}},{"$f":"(D44-L44)/(J44-L44)","v":{"$error":"#DIV/0!"}},{"$f":"ヒストリカルデータ取得シート!NC$14","v":{"$error":"#DIV/0!"}},{"$error":"#DIV/0!"},{"$f":"ヒストリカルデータ取得シート!NC$5","v":{"$error":"#DIV/0!"}},{"$f":"ヒストリカルデータ取得シート!NC$6","v":{"$error":"#DIV/0!"}},{"$f":"ヒストリカルデータ取得シート!NC$7","v":{"$error":"#DIV/0!"}},{"$f":"ヒストリカルデータ取得シート!FT$218","v":""},{"$f":"ヒストリカルデータ取得シート!NC$11","v":"wait"}]
[42,"4344",{"$f":"IF(B45=0,\"wait\",_xll.SNT.StockInst(B45,\"銘柄名称\"))","v":"ソースネクス"},{"$f":"IF(B45=0,\"wait\",_xll.SNT.StockInst(B45,\"現値\"))","v":184},{"$f":"IF(B45=0,\"wait\",_xll.SNT.StockInst(B45,\"前日終値\"))","v":185},-1,{"$f":"IF(B45=0,\"wait\",MID(_xll.SNT.StockInst(B45,\"現値日時\"),12,5))","v":"09:02"},{"$f":"IF(B45=0,\"wait\",_xll.SNT.StockInst(B45,\"Tick回数\"))","v":24},{"$f":"IF(B45=0,\"wait\",_xll.SNT.StockInst(B45,\"VWAP\"))","v":183.03550000000001},{"$f":"ヒストリカルデータ取得シート!NL$12","v":{"$error":"#DIV/0!"}},{"$f":"(D45-L45)/(J45-L45)","v":{"$error":"#DIV/0!"}},{"$f":"ヒストリカルデータ取得シート!NL$14","v":{"$error":"#DIV/0!"}},{"$error":"#DIV/0!"},{"$f":"ヒストリカルデータ取得シート!NL$5","v":{"$error":"#DIV/0!"}},{"$f":"ヒストリカルデータ取得シート!NL$6","v":{"$error":"#DIV/0!"}},{"$f":"ヒストリカルデータ取得シート!NL$7","v":{"$error":"#DIV/0!"}},{"$f":"ヒストリカルデータ取得シート!FT$218","v":""},{"$f":"ヒストリカルデータ取得シート!NL$11","v":"wait"}]
[43,"3436",{"$f":"IF(B46=0,\"wait\",_xll.SNT.StockInst(B46,\"銘柄名称\"))","v":"ＳＵＭＣＯ"},{"$f":"IF(B46=0,\"wait\",_xll.SNT.StockInst(B46,\"現値\"))","v":1169},{"$f":"IF(B46=0,\"wait\",_xll.SNT.StockInst(B46,\"前日終値\"))","v":1180},-11,{"$f":"IF(B46=0,\"wait\",MID(_xll.SNT.StockInst(B46,\"現値日時\"),12,5))","v":"09:02"},{"$f":"IF(B46=0,\"wait\",_xll.SNT.StockInst(B46,\"Tick回数\"))","v":314},{"$f":"IF(B46=0,\"wait\",_xll.SNT.StockInst(B46,\"VWAP\"))","v":1169.1502},{"$f":"ヒストリカルデータ取得シート!NU$12","v":{"$error":"#DIV/0!"}},{"$error":"#DIV/0!"},{"$f":"ヒストリカルデータ取得シート!NU$14","v":{"$error":"#DIV/0!"}},{"$error":"#DIV/0!"},{"$f":"ヒストリカルデータ取得シート!NU$5","v":{"$error":"#DIV/0!"}},{"$f":"ヒストリカルデータ取得シート!NU$6","v":{"$error":"#DIV/0!"}},{"$f":"ヒストリカルデータ取得シート!NU$7","v":{"$error":"#DIV/0!"}},{"$f":"ヒストリカルデータ取得シート!FT$218","v":""},{"$f":"ヒストリカルデータ取得シート!NU$11","v":"wait"}]
[44,"8136",{"$f":"IF(B47=0,\"wait\",_xll.SNT.StockInst(B47,\"銘柄名称\"))","v":"サンリオ"},{"$f":"IF(B47=0,\"wait\",_xll.SNT.StockInst(B47,\"現値\"))","v":4533},{"$f":"IF(B47=0,\"wait\",_xll.SNT.StockInst(B47,\"前日終値\"))","v":4540},-7,{"$f":"IF(B47=0,\"wait\",MID(_xll.SNT.StockInst(B47,\"現値日時\"),12,5))","v":"09:02"},{"$f":"IF(B47=0,\"wait\",_xll.SNT.StockInst(B47,\"Tick回数\"))","v":467},{"$f":"IF(B47=0,\"wait\",_xll.SNT.StockInst(B47,\"VWAP\"))","v":4531.8469999999998},{"$f":"ヒストリカルデータ取得シート!OD$12","v":{"$error":"#DIV/0!"}},{"$error":"#DIV/0!"},{"$f":"ヒストリカルデータ取得シート!OD$14","v":{"$error":"#DIV/0!"}},{"$error":"#DIV/0!"},{"$f":"ヒストリカルデータ取得シート!OD$5","v":{"$error":"#DIV/0!"}},{"$f":"ヒストリカルデータ取得シート!OD$6","v":{"$error":"#DIV/0!"}},{"$f":"ヒストリカルデータ取得シート!OD$7","v":{"$error":"#DIV/0!"}},{"$f":"ヒストリカルデータ取得シート!FT$218","v":""},{"$f":"ヒストリカルデータ取得シート!OD$11","v":"wait"}]
[45,"8593",{"$f":"IF(B48=0,\"wait\",_xll.SNT.StockInst(B48,\"銘柄名称\"))","v":"三菱ＨＣキャ"},{"$f":"IF(B48=0,\"wait\",_xll.SNT.StockInst(B48,\"現値\"))","v":1018.5},{"$f":"IF(B48=0,\"wait\",_xll.SNT.StockInst(B48,\"前日終値\"))","v":1019.5},-1,{"$f":"IF(B48=0,\"wait\",MID(_xll.SNT.StockInst(B48,\"現値日時\"),12,5))","v":"09:02"},{"$f":"IF(B48=0,\"wait\",_xll.SNT.StockInst(B48,\"Tick回数\"))","v":96},{"$f":"IF(B48=0,\"wait\",_xll.SNT.StockInst(B48,\"VWAP\"))","v":1015.3052},{"$f":"ヒストリカルデータ取得シート!OM$12","v":{"$error":"#DIV/0!"}},{"$error":"#DIV/0!"},{"$f":"ヒストリカルデータ取得シート!OM$14","v":{"$error":"#DIV/0!"}},{"$error":"#DIV/0!"},{"$f":"ヒストリカルデータ取得シート!OM$5","v":{"$error":"#DIV/0!"}},{"$f":"ヒストリカルデータ取得シート!OM$6","v":{"$error":"#DIV/0!"}},{"$f":"ヒストリカルデータ取得シート!OM$7","v":{"$error":"#DIV/0!"}},{"$f":"ヒストリカルデータ取得シート!FT$218","v":""},{"$f":"ヒストリカルデータ取得シート!OM$11","v":"wait"}]
[46,"7238",{"$f":"IF(B49=0,\"wait\",_xll.SNT.StockInst(B49,\"銘柄名称\"))","v":"ブレーキ"},{"$f":"IF(B49=0,\"wait\",_xll.SNT.StockInst(B49,\"現値\"))","v":114},{"$f":"IF(B49=0,\"wait\",_xll.SNT.StockInst(B49,\"前日終値\"))","v":113},1,{"$f":"IF(B49=0,\"wait\",MID(_xll.SNT.StockInst(B49,\"現値日時\"),12,5))","v":"09:00"},{"$f":"IF(B49=0,\"wait\",_xll.SNT.StockInst(B49,\"Tick回数\"))","v":5},{"$f":"IF(B49=0,\"wait\",_xll.SNT.StockInst(B49,\"VWAP\"))","v":113.0031},{"$f":"ヒストリカルデータ取得シート!OV$12","v":{"$error":"#DIV/0!"}},{"$error":"#DIV/0!"},{"$f":"ヒストリカルデータ取得シート!OV$14","v":{"$error":"#DIV/0!"}},{"$error":"#DIV/0!"},{"$f":"ヒストリカルデータ取得シート!OV$5","v":{"$error":"#DIV/0!"}},{"$f":"ヒストリカルデータ取得シート!OV$6","v":{"$error":"#DIV/0!"}},{"$f":"ヒストリカルデータ取得シート!OV$7","v":{"$error":"#DIV/0!"}},{"$f":"ヒストリカルデータ取得シート!FT$218","v":""},{"$f":"ヒストリカルデータ取得シート!OV$11","v":"wait"}]
[47,"2563",{"$f":"IF(B50=0,\"wait\",_xll.SNT.StockInst(B50,\"銘柄名称\"))","v":"ｉＳ米国株Ｈ"},{"$f":"IF(B50=0,\"wait\",_xll.SNT.StockInst(B50,\"現値\"))","v":341.6},{"$f":"IF(B50=0,\"wait\",_xll.SNT.StockInst(B50,\"前日終値\"))","v":342.7},-1.0999999999999659,{"$f":"IF(B50=0,\"wait\",MID(_xll.SNT.StockInst(B50,\"現値日時\"),12,5))","v":"09:02"},{"$f":"IF(B50=0,\"wait\",_xll.SNT.StockInst(B50,\"Tick回数\"))","v":6},{"$f":"IF(B50=0,\"wait\",_xll.SNT.StockInst(B50,\"VWAP\"))","v":341.62819999999999},{"$f":"ヒストリカルデータ取得シート!PE$12","v":{"$error":"#DIV/0!"}},{"$error":"#DIV/0!"},{"$f":"ヒストリカルデータ取得シート!PE$14","v":{"$error":"#DIV/0!"}},{"$error":"#DIV/0!"},{"$f":"ヒストリカルデータ取得シート!PE$5","v":{"$error":"#DIV/0!"}},{"$f":"ヒストリカルデータ取得シート!PE$6","v":{"$error":"#DIV/0!"}},{"$f":"ヒストリカルデータ取得シート!PE$7","v":{"$error":"#DIV/0!"}},{"$f":"ヒストリカルデータ取得シート!FT$218","v":""},{"$f":"ヒストリカルデータ取得シート!PE$11","v":"wait"}]
[48,"7013",{"$f":"IF(B51=0,\"wait\",_xll.SNT.StockInst(B51,\"銘柄名称\"))","v":"ＩＨＩ"},{"$f":"IF(B51=0,\"wait\",_xll.SNT.StockInst(B51,\"現値\"))","v":8655},{"$f":"IF(B51=0,\"wait\",_xll.SNT.StockInst(B51,\"前日終値\"))","v":8730},-75,{"$f":"IF(B51=0,\"wait\",MID(_xll.SNT.StockInst(B51,\"現値日時\"),12,5))","v":"09:02"},{"$f":"IF(B51=0,\"wait\",_xll.SNT.StockInst(B51,\"Tick回数\"))","v":985},{"$f":"IF(B51=0,\"wait\",_xll.SNT.StockInst(B51,\"VWAP\"))","v":8675.9010999999991},{"$f":"ヒストリカルデータ取得シート!PN$12","v":{"$error":"#DIV/0!"}},{"$error":"#DIV/0!"},{"$f":"ヒストリカルデータ取得シート!PN$14","v":{"$error":"#DIV/0!"}},{"$error":"#DIV/0!"},{"$f":"ヒストリカルデータ取得シート!PN$5","v":{"$error":"#DIV/0!"}},{"$f":"ヒストリカルデータ取得シート!PN$6","v":{"$error":"#DIV/0!"}},{"$f":"ヒストリカルデータ取得シート!PN$7","v":{"$error":"#DIV/0!"}},{"$f":"ヒストリカルデータ取得シート!FT$218","v":""},{"$f":"ヒストリカルデータ取得シート!PN$11","v":"wait"}]
[49,"2752",{"$f":"IF(B52=0,\"wait\",_xll.SNT.StockInst(B52,\"銘柄名称\"))","v":"フジオフード"},{"$f":"IF(B52=0,\"wait\",_xll.SNT.StockInst(B52,\"現値\"))","v":1188},{"$f":"IF(B52=0,\"wait\",_xll.SNT.StockInst(B52,\"前日終値\"))","v":1183},5,{"$f":"IF(B52=0,\"wait\",MID(_xll.SNT.StockInst(B52,\"現値日時\"),12,5))","v":"09:02"},{"$f":"IF(B52=0,\"wait\",_xll.SNT.StockInst(B52,\"Tick回数\"))","v":17},{"$f":"IF(B52=0,\"wait\",_xll.SNT.StockInst(B52,\"VWAP\"))","v":1189.9253000000001},{"$f":"ヒストリカルデータ取得シート!PW$12","v":{"$error":"#DIV/0!"}},{"$error":"#DIV/0!"},{"$f":"ヒストリカルデータ取得シート!PW$14","v":{"$error":"#DIV/0!"}},{"$error":"#DIV/0!"},{"$f":"ヒストリカルデータ取得シート!PW$5","v":{"$error":"#DIV/0!"}},{"$f":"ヒストリカルデータ取得シート!PW$6","v":{"$error":"#DIV/0!"}},{"$f":"ヒストリカルデータ取得シート!PW$7","v":{"$error":"#DIV/0!"}},{"$f":"ヒストリカルデータ取得シート!FT$218","v":""},{"$f":"ヒストリカルデータ取得シート!PW$11","v":"wait"}]
[50,"4506",{"$f":"IF(B53=0,\"wait\",_xll.SNT.StockInst(B53,\"銘柄名称\"))","v":"住友ファーマ"},{"$f":"IF(B53=0,\"wait\",_xll.SNT.StockInst(B53,\"現値\"))","v":597},{"$f":"IF(B53=0,\"wait\",_xll.SNT.StockInst(B53,\"前日終値\"))","v":600},-3,{"$f":"IF(B53=0,\"wait\",MID(_xll.SNT.StockInst(B53,\"現値日時\"),12,5))","v":"09:02"},{"$f":"IF(B53=0,\"wait\",_xll.SNT.StockInst(B53,\"Tick回数\"))","v":65},{"$f":"IF(B53=0,\"wait\",_xll.SNT.StockInst(B53,\"VWAP\"))","v":596.88739999999996},{"$f":"ヒストリカルデータ取得シート!QF$12","v":{"$error":"#DIV/0!"}},{"$error":"#DIV/0!"},{"$f":"ヒストリカルデータ取得シート!QF$14","v":{"$error":"#DIV/0!"}},{"$error":"#DIV/0!"},{"$f":"ヒストリカルデータ取得シート!QF$5","v":{"$error":"#DIV/0!"}},{"$f":"ヒストリカルデータ取得シート!QF$6","v":{"$error":"#DIV/0!"}},{"$f":"ヒストリカルデータ取得シート!QF$7","v":{"$error":"#DIV/0!"}},{"$f":"ヒストリカルデータ取得シート!FT$218","v":""},{"$f":"ヒストリカルデータ取得シート!QF$11","v":"wait"}]

{"sheet":"ヒストリカルデータ取得シート","index":2,"n_rows":240,"n_cols":448,"rows_kept":240,"cut":false,"hidden":false,"merged":[]}
[]
["更新日時 2024/12/12 12:19:22"]
[]
[null,null,null,1,{"$f":"銘柄一覧シート!B4","v":"7201"},null,null,null,null,null,null,null,2,{"$f":"銘柄一覧シート!B5","v":7974},null,null,null,null,null,null,null,3,{"$f":"銘柄一覧シート!B6","v":"3382"},null,null,null,null,null,null,null,4,{"$f":"銘柄一覧シート!B7","v":"9418"},null,null,null,null,null,null,null,5,{"$f":"銘柄一覧シート!B8","v":"8306"},null,null,null,null,null,null,null,6,{"$f":"銘柄一覧シート!B9","v":"4883"},null,null,null,null,null,null,null,7,{"$f":"銘柄一覧シート!B10","v":"4597"},null,null,null,null,null,null,null,8,{"$f":"銘柄一覧シート!B11","v":"1579"},null,null,null,null,null,null,null,9,{"$f":"銘柄一覧シート!B12","v":"7003"},null,null,null,null,null,null,null,10,{"$f":"銘柄一覧シート!B13","v":"7267"},null,null,null,null,null,null,null,11,{"$f":"銘柄一覧シート!B14","v":"7211"},null,null,null,null,null,null,null,12,{"$f":"銘柄一覧シート!B15","v":"7011"},null,null,null,null,null,null,null,13,{"$f":"銘柄一覧シート!B16","v":"4583"},null,null,null,null,null,null,null,14,{"$f":"銘柄一覧シート!B17","v":"2586"},null,null,null,null,null,null,null,15,{"$f":"銘柄一覧シート!B18","v":"190A"},null,null,null,null,null,null,null,16,{"$f":"銘柄一覧シート!B19","v":"9107"},null,null,null,null,null,null,null,17,{"$f":"銘柄一覧シート!B20","v":"7203"},null,null,null,null,null,null,null,18,{"$f":"銘柄一覧シート!B21","v":"5803"},null,null,null,null,null,null,null,19,{"$f":"銘柄一覧シート!B22","v":"3778"},null,null,null,null,null,null,null,20,{"$f":"銘柄一覧シート!B23","v":"6857"},null,null,null,null,null,null,null,21,{"$f":"銘柄一覧シート!B24","v":"7746"},null,null,null,null,null,null,null,22,{"$f":"銘柄一覧シート!B25","v":"8058"},null,null,null,null,null,null,null,23,{"$f":"銘柄一覧シート!B26","v":"9424"},null,null,null,null,null,null,null,24,{"$f":"銘柄一覧シート!B27","v":"7012"},null,null,null,null,null,null,null,25,{"$f":"銘柄一覧シート!B28","v":"7261"},null,null,null,null,null,null,null,26,{"$f":"銘柄一覧シート!B29","v":"4188"},null,null,null,null,null,null,null,27,{"$f":"銘柄一覧シート!B30","v":"9104"},null,null,null,null,null,null,null,28,{"$f":"銘柄一覧シート!B31","v":"5595"},null,null,null,null,null,null,null,29,{"$f":"銘柄一覧シート!B32","v":"3237"},null,null,null,null,null,null,null,30,{"$f":"銘柄一覧シート!B33","v":"8604"},null,null,null,null,null,null,null,31,{"$f":"銘柄一覧シート!B34","v":"2345"},null,null,null,null,null,null,null,32,{"$f":"銘柄一覧シート!B35","v":"3823"},null,null,null,null,null,null,null,33,{"$f":"銘柄一覧シート!B36","v":"6048"},null,null,null,null,null,null,null,34,{"$f":"銘柄一覧シート!B37","v":"4564"},null,null,null,null,null,null,null,35,{"$f":"銘柄一覧シート!B38","v":"3003"},null,null,null,null,null,null,null,36,{"$f":"銘柄一覧シート!B39","v":"9504"},null,null,null,null,null,null,null,37,{"$f":"銘柄一覧シート!B40","v":"3777"},null,null,null,null,null,null,null,38,{"$f":"銘柄一覧シート!B41","v":"4385"},null,null,null,null,null,null,null,39,{"$f":"銘柄一覧シート!B42","v":"9101"},null,null,null,null,null,null,null,40,{"$f":"銘柄一覧シート!B43","v":"4563"},null,null,null,null,null,41,{"$f":"銘柄一覧シート!B44","v":"4005"},null,null,null,null,null,null,null,42,{"$f":"銘柄一覧シート!B45","v":"4344"},null,null,null,null,null,null,null,43,{"$f":"銘柄一覧シート!B46","v":"3436"},null,null,null,null,null,null,null,44,{"$f":"銘柄一覧シート!B47","v":"8136"},null,null,null,null,null,null,null,45,{"$f":"銘柄一覧シート!B48","v":"8593"},null,null,null,null,null,null,null,46,{"$f":"銘柄一覧シート!B49","v":"7238"},null,null,null,null,null,null,null,47,{"$f":"銘柄一覧シート!B50","v":"2563"},null,null,null,null,null,null,null,48,{"$f":"銘柄一覧シート!B51","v":"7013"},null,null,null,null,null,null,null,49,{"$f":"銘柄一覧シート!B52","v":"2752"},null,null,null,null,null,null,null,50,{"$f":"銘柄一覧シート!B53","v":"4506"}]
[null,null,null,null,null,"MA","短期",10,{"$f":"IF(E4=0,\"wait\",AVERAGE(G209:G218))","v":{"$error":"#DIV/0!"}},null,null,null,null,null,"MA","短期",10,{"$f":"IF(N4=0,\"wait\",AVERAGE(P209:P218))","v":{"$error":"#DIV/0!"}},null,null,null,null,null,"MA","短期",10,{"$f":"IF(W4=0,\"wait\",AVERAGE(Y209:Y218))","v":{"$error":"#DIV/0!"}},null,null,null,null,null,"MA","短期",10,{"$f":"IF(AF4=0,\"wait\",AVERAGE(AH209:AH218))","v":{"$error":"#DIV/0!"}},null,null,null,null,null,"MA","短期",10,{"$f":"IF(AO4=0,\"wait\",AVERAGE(AQ209:AQ218))","v":{"$error":"#DIV/0!"}},null,null,null,null,null,"MA","短期",10,{"$f":"IF(AX4=0,\"wait\",AVERAGE(AZ209:AZ218))","v":{"$error":"#DIV/0!"}},null,null,null,null,null,"MA","短期",10,{"$f":"IF(BG4=0,\"wait\",AVERAGE(BI209:BI218))","v":{"$error":"#DIV/0!"}},null,null,null,null,null,"MA","短期",10,{"$f":"IF(BP4=0,\"wait\",AVERAGE(BR209:BR218))","v":{"$error":"#DIV/0!"}},null,null,null,null,null,"MA","短期",10,{"$f":"IF(BY4=0,\"wait\",AVERAGE(CA209:CA218))","v":{"$error":"#DIV/0!"}},null,null,null,null,null,"MA","短期",10,{"$f":"IF(CH4=0,\"wait\",AVERAGE(CJ209:CJ218))","v":{"$error":"#DIV/0!"}},null,null,null,null,null,"MA","短期",10,{"$f":"IF(CQ4=0,\"wait\",AVERAGE(CS209:CS218))","v":{"$error":"#DIV/0!"}},null,null,null,null,null,"MA","短期",10,{"$f":"IF(CZ4=0,\"wait\",AVERAGE(DB209:DB218))","v":{"$error":"#DIV/0!"}},null,null,null,null,null,"MA","短期",10,{"$f":"IF(DI4=0,\"wait\",AVERAGE(DK209:DK218))","v":{"$error":"#DIV/0!"}},null,null,null,null,null,"MA","短期",10,{"$f":"IF(DR4=0,\"wait\",AVERAGE(DT209:DT218))","v":{"$error":"#DIV/0!"}},null,null,null,null,null,"MA","短期",10,{"$f":"IF(EA4=0,\"wait\",AVERAGE(EC209:EC218))","v":{"$error":"#DIV/0!"}},null,null,null,null,null,"MA","短期",10,{"$f":"IF(EJ4=0,\"wait\",AVERAGE(EL209:EL218))","v":{"$error":"#DIV/0!"}},null,null,null,null,null,"MA","短期",10,{"$f":"IF(ES4=0,\"wait\",AVERAGE(EU209:EU218))","v":{"$error":"#DIV/0!"}},null,null,null,null,null,"MA","短期",10,{"$f":"IF(FB4=0,\"wait\",AVERAGE(FD209:FD218))","v":{"$error":"#DIV/0!"}},null,null,null,null,null,"MA","短期",10,{"$f":"IF(FK4=0,\"wait\",AVERAGE(FM209:FM218))","v":{"$error":"#DIV/0!"}},null,null,null,null,null,"MA","短期",10,{"$f":"IF(FT4=0,\"wait\",AVERAGE(FV209:FV218))","v":{"$error":"#DIV/0!"}},null,null,null,null,null,"MA","短期",10,{"$f":"IF(GC4=0,\"wait\",AVERAGE(GE209:GE218))","v":{"$error":"#DIV/0!"}},null,null,null,null,null,"MA","短期",10,{"$f":"IF(GL4=0,\"wait\",AVERAGE(GN209:GN218))","v":{"$error":"#DIV/0!"}},null,null,null,null,null,"MA","短期",10,{"$f":"IF(GU4=0,\"wait\",AVERAGE(GW209:GW218))","v":{"$error":"#DIV/0!"}},null,null,null,null,null,"MA","短期",10,{"$f":"IF(HD4=0,\"wait\",AVERAGE(HF209:HF218))","v":{"$error":"#DIV/0!"}},null,null,null,null,null,"MA","短期",10,{"$f":"IF(HM4=0,\"wait\",AVERAGE(HO209:HO218))","v":{"$error":"#DIV/0!"}},null,null,null,null,null,"MA","短期",10,{"$f":"IF(HV4=0,\"wait\",AVERAGE(HX209:HX218))","v":{"$error":"#DIV/0!"}},null,null,null,null,null,"MA","短期",10,{"$f":"IF(IE4=0,\"wait\",AVERAGE(IG209:IG218))","v":{"$error":"#DIV/0!"}},null,null,null,null,null,"MA","短期",10,{"$f":"IF(IN4=0,\"wait\",AVERAGE(IP209:IP218))","v":{"$error":"#DIV/0!"}},null,null,null,null,null,"MA","短期",10,{"$f":"IF(IW4=0,\"wait\",AVERAGE(IY209:IY218))","v":{"$error":"#DIV/0!"}},null,null,null,null,null,"MA","短期",10,{"$f":"IF(JF4=0,\"wait\",AVERAGE(JH209:JH218))","v":{"$error":"#DIV/0!"}},null,null,null,null,null,"MA","短期",10,{"$f":"IF(JO4=0,\"wait\",AVERAGE(JQ209:JQ218))","v":{"$error":"#DIV/0!"}},null,null,null,null,null,"MA","短期",10,{"$f":"IF(JX4=0,\"wait\",AVERAGE(JZ209:JZ218))","v":{"$error":"#DIV/0!"}},null,null,null,null,null,"MA","短期",10,{"$f":"IF(KG4=0,\"wait\",AVERAGE(KI209:KI218))","v":{"$error":"#DIV/0!"}},null,null,null,null,null,"MA","短期",10,{"$f":"IF(KP4=0,\"wait\",AVERAGE(KR209:KR218))","v":{"$error":"#DIV/0!"}},null,null,null,null,null,"MA","短期",10,{"$f":"IF(KY4=0,\"wait\",AVERAGE(LA209:LA218))","v":{"$error":"#DIV/0!"}},null,null,null,null,null,"MA","短期",10,{"$f":"IF(LH4=0,\"wait\",AVERAGE(LJ209:LJ218))","v":{"$error":"#DIV/0!"}},null,null,null,null,null,"MA","短期",10,{"$f":"IF(LQ4=0,\"wait\",AVERAGE(LS209:LS218))","v":{"$error":"#DIV/0!"}},null,null,null,null,null,"MA","短期",10,{"$f":"IF(LZ4=0,\"wait\",AVERAGE(MB209:MB218))","v":{"$error":"#DIV/0!"}},null,null,null,null,null,"MA","短期",10,{"$f":"IF(MI4=0,\"wait\",AVERAGE(MK209:MK218))","v":{"$error":"#DIV/0!"}},null,null,null,null,null,"MA","短期",10,{"$f":"IF(MR4=0,\"wait\",AVERAGE(MT209:MT218))","v":{"$error":"#DIV/0!"}},null,null,null,"MA","短期",10,{"$f":"IF(MY4=0,\"wait\",AVERAGE(NA209:NA218))","v":{"$error":"#DIV/0!"}},null,null,null,null,null,"MA","短期",10,{"$f":"IF(NH4=0,\"wait\",AVERAGE(NJ209:NJ218))","v":{"$error":"#DIV/0!"}},null,null,null,null,null,"MA","短期",10,{"$f":"IF(NQ4=0,\"wait\",AVERAGE(NS209:NS218))","v":{"$error":"#DIV/0!"}},null,null,null,null,null,"MA","短期",10,{"$f":"IF(NZ4=0,\"wait\",AVERAGE(OB209:OB218))","v":{"$error":"#DIV/0!"}},null,null,null,null,null,"MA","短期",10,{"$f":"IF(OI4=0,\"wait\",AVERAGE(OK209:OK218))","v":{"$error":"#DIV/0!"}},null,null,null,null,null,"MA","短期",10,{"$f":"IF(OR4=0,\"wait\",AVERAGE(OT209:OT218))","v":{"$error":"#DIV/0!"}},null,null,null,null,null,"MA","短期",10,{"$f":"IF(PA4=0,\"wait\",AVERAGE(PC209:PC218))","v":{"$error":"#DIV/0!"}},null,null,null,null,null,"MA","短期",10,{"$f":"IF(PJ4=0,\"wait\",AVERAGE(PL209:PL218))","v":{"$error":"#DIV/0!"}},null,null,null,null,null,"MA","短期",10,{"$f":"IF(PS4=0,\"wait\",AVERAGE(PU209:PU218))","v":{"$error":"#DIV/0!"}},null,null,null,null,null,"MA","短期",10,{"$f":"IF(QB4=0,\"wait\",AVERAGE(QD209:QD218))","v":{"$error":"#DIV/0!"}}]
[null,null,null,null,null,null,"中期",25,{"$f":"IF(E4=0,\"wait\",AVERAGE(G194:G218))","v":{"$error":"#DIV/0!"}},null,null,null,null,null,null,"中期",25,{"$f":"IF(N4=0,\"wait\",AVERAGE(P194:P218))","v":{"$error":"#DIV/0!"}},null,null,null,null,null,null,"中期",25,{"$f":"IF(W4=0,\"wait\",AVERAGE(Y194:Y218))","v":{"$error":"#DIV/0!"}},null,null,null,null,null,null,"中期",25,{"$f":"IF(AF4=0,\"wait\",AVERAGE(AH194:AH218))","v":{"$error":"#DIV/0!"}},null,null,null,null,null,null,"中期",25,{"$f":"IF(AO4=0,\"wait\",AVERAGE(AQ194:AQ218))","v":{"$error":"#DIV/0!"}},null,null,null,null,null,null,"中期",25,{"$f":"IF(AX4=0,\"wait\",AVERAGE(AZ194:AZ218))","v":{"$error":"#DIV/0!"}},null,null,null,null,null,null,"中期",25,{"$f":"IF(BG4=0,\"wait\",AVERAGE(BI194:BI218))","v":{"$error":"#DIV/0!"}},null,null,null,null,null,null,"中期",25,{"$f":"IF(BP4=0,\"wait\",AVERAGE(BR194:BR218))","v":{"$error":"#DIV/0!"}},null,null,null,null,null,null,"中期",25,{"$f":"IF(BY4=0,\"wait\",AVERAGE(CA194:CA218))","v":{"$error":"#DIV/0!"}},null,null,null,null,null,null,"中期",25,{"$f":"IF(CH4=0,\"wait\",AVERAGE(CJ194:CJ218))","v":{"$error":"#DIV/0!"}},null,null,null,null,null,null,"中期",25,{"$f":"IF(CQ4=0,\"wait\",AVERAGE(CS194:CS218))","v":{"$error":"#DIV/0!"}},null,null,null,null,null,null,"中期",25,{"$f":"IF(CZ4=0,\"wait\",AVERAGE(DB194:DB218))","v":{"$error":"#DIV/0!"}},null,null,null,null,null,null,"中期",25,{"$f":"IF(DI4=0,\"wait\",AVERAGE(DK194:DK218))","v":{"$error":"#DIV/0!"}},null,null,null,null,null,null,"中期",25,{"$f":"IF(DR4=0,\"wait\",AVERAGE(DT194:DT218))","v":{"$error":"#DIV/0!"}},null,null,null,null,null,null,"中期",25,{"$f":"IF(EA4=0,\"wait\",AVERAGE(EC194:EC218))","v":{"$error":"#DIV/0!"}},null,null,null,null,null,null,"中期",25,{"$f":"IF(EJ4=0,\"wait\",AVERAGE(EL194:EL218))","v":{"$error":"#DIV/0!"}},null,null,null,null,null,null,"中期",25,{"$f":"IF(ES4=0,\"wait\",AVERAGE(EU194:EU218))","v":{"$error":"#DIV/0!"}},null,null,null,null,null,null,"中期",25,{"$f":"IF(FB4=0,\"wait\",AVERAGE(FD194:FD218))","v":{"$error":"#DIV/0!"}},null,null,null,null,null,null,"中期",25,{"$f":"IF(FK4=0,\"wait\",AVERAGE(FM194:FM218))","v":{"$error":"#DIV/0!"}},null,null,null,null,null,null,"中期",25,{"$f":"IF(FT4=0,\"wait\",AVERAGE(FV194:FV218))","v":{"$error":"#DIV/0!"}},null,null,null,null,null,null,"中期",25,{"$f":"IF(GC4=0,\"wait\",AVERAGE(GE194:GE218))","v":{"$error":"#DIV/0!"}},null,null,null,null,null,null,"中期",25,{"$f":"IF(GL4=0,\"wait\",AVERAGE(GN194:GN218))","v":{"$error":"#DIV/0!"}},null,null,null,null,null,null,"中期",25,{"$f":"IF(GU4=0,\"wait\",AVERAGE(GW194:GW218))","v":{"$error":"#DIV/0!"}},null,null,null,null,null,null,"中期",25,{"$f":"IF(HD4=0,\"wait\",AVERAGE(HF194:HF218))","v":{"$error":"#DIV/0!"}},null,null,null,null,null,null,"中期",25,{"$f":"IF(HM4=0,\"wait\",AVERAGE(HO194:HO218))","v":{"$error":"#DIV/0!"}},null,null,null,null,null,null,"中期",25,{"$f":"IF(HV4=0,\"wait\",AVERAGE(HX194:HX218))","v":{"$error":"#DIV/0!"}},null,null,null,null,null,null,"中期",25,{"$f":"IF(IE4=0,\"wait\",AVERAGE(IG194:IG218))","v":{"$error":"#DIV/0!"}},null,null,null,null,null,null,"中期",25,{"$f":"IF(IN4=0,\"wait\",AVERAGE(IP194:IP218))","v":{"$error":"#DIV/0!"}},null,null,null,null,null,null,"中期",25,{"$f":"IF(IW4=0,\"wait\",AVERAGE(IY194:IY218))","v":{"$error":"#DIV/0!"}},null,null,null,null,null,null,"中期",25,{"$f":"IF(JF4=0,\"wait\",AVERAGE(JH194:JH218))","v":{"$error":"#DIV/0!"}},null,null,null,null,null,null,"中期",25,{"$f":"IF(JO4=0,\"wait\",AVERAGE(JQ194:JQ218))","v":{"$error":"#DIV/0!"}},null,null,null,null,null,null,"中期",25,{"$f":"IF(JX4=0,\"wait\",AVERAGE(JZ194:JZ218))","v":{"$error":"#DIV/0!"}},null,null,null,null,null,null,"中期",25,{"$f":"IF(KG4=0,\"wait\",AVERAGE(KI194:KI218))","v":{"$error":"#DIV/0!"}},null,null,null,null,null,null,"中期",25,{"$f":"IF(KP4=0,\"wait\",AVERAGE(KR194:KR218))","v":{"$error":"#DIV/0!"}},null,null,null,null,null,null,"中期",25,{"$f":"IF(KY4=0,\"wait\",AVERAGE(LA194:LA218))","v":{"$error":"#DIV/0!"}},null,null,null,null,null,null,"中期",25,{"$f":"IF(LH4=0,\"wait\",AVERAGE(LJ194:LJ218))","v":{"$error":"#DIV/0!"}},null,null,null,null,null,null,"中期",25,{"$f":"IF(LQ4=0,\"wait\",AVERAGE(LS194:LS218))","v":{"$error":"#DIV/0!"}},null,null,null,null,null,null,"中期",25,{"$f":"IF(LZ4=0,\"wait\",AVERAGE(MB194:MB218))","v":{"$error":"#DIV/0!"}},null,null,null,null,null,null,"中期",25,{"$f":"IF(MI4=0,\"wait\",AVERAGE(MK194:MK218))","v":{"$error":"#DIV/0!"}},null,null,null,null,null,null,"中期",25,{"$f":"IF(MR4=0,\"wait\",AVERAGE(MT194:MT218))","v":{"$error":"#DIV/0!"}},null,null,null,null,"中期",25,{"$f":"IF(MY4=0,\"wait\",AVERAGE(NA194:NA218))","v":{"$error":"#DIV/0!"}},null,null,null,null,null,null,"中期",25,{"$f":"IF(NH4=0,\"wait\",AVERAGE(NJ194:NJ218))","v":{"$error":"#DIV/0!"}},null,null,null,null,null,null,"中期",25,{"$f":"IF(NQ4=0,\"wait\",AVERAGE(NS194:NS218))","v":{"$error":"#DIV/0!"}},null,null,null,null,null,null,"中期",25,{"$f":"IF(NZ4=0,\"wait\",AVERAGE(OB194:OB218))","v":{"$error":"#DIV/0!"}},null,null,null,null,null,null,"中期",25,{"$f":"IF(OI4=0,\"wait\",AVERAGE(OK194:OK218))","v":{"$error":"#DIV/0!"}},null,null,null,null,null,null,"中期",25,{"$f":"IF(OR4=0,\"wait\",AVERAGE(OT194:OT218))","v":{"$error":"#DIV/0!"}},null,null,null,null,null,null,"中期",25,{"$f":"IF(PA4=0,\"wait\",AVERAGE(PC194:PC218))","v":{"$error":"#DIV/0!"}},null,null,null,null,null,null,"中期",25,{"$f":"IF(PJ4=0,\"wait\",AVERAGE(PL194:PL218))","v":{"$error":"#DIV/0!"}},null,null,null,null,null,null,"中期",25,{"$f":"IF(PS4=0,\"wait\",AVERAGE(PU194:PU218))","v":{"$error":"#DIV/0!"}},null,null,null,null,null,null,"中期",25,{"$f":"IF(QB4=0,\"wait\",AVERAGE(QD194:QD218))","v":{"$error":"#DIV/0!"}}]
[null,null,null,null,null,null,"長期",200,{"$f":"IF(E4=0,\"wait\",AVERAGE(G19:G218))","v":{"$error":"#DIV/0!"}},null,null,null,null,null,null,"長期",200,{"$f":"IF(N4=0,\"wait\",AVERAGE(P19:P218))","v":{"$error":"#DIV/0!"}},null,null,null,null,null,null,"長期",200,{"$f":"IF(W4=0,\"wait\",AVERAGE(Y19:Y218))","v":{"$error":"#DIV/0!"}},null,null,null,null,null,null,"長期",200,{"$f":"IF(AF4=0,\"wait\",AVERAGE(AH19:AH218))","v":{"$error":"#DIV/0!"}},null,null,null,null,null,null,"長期",200,{"$f":"IF(AO4=0,\"wait\",AVERAGE(AQ19:AQ218))","v":{"$error":"#DIV/0!"}},null,null,null,null,null,null,"長期",200,{"$f":"IF(AX4=0,\"wait\",AVERAGE(AZ19:AZ218))","v":{"$error":"#DIV/0!"}},null,null,null,null,null,null,"長期",200,{"$f":"IF(BG4=0,\"wait\",AVERAGE(BI19:BI218))","v":{"$error":"#DIV/0!"}},null,null,null,null,null,null,"長期",200,{"$f":"IF(BP4=0,\"wait\",AVERAGE(BR19:BR218))","v":{"$error":"#DIV/0!"}},null,null,null,null,null,null,"長期",200,{"$f":"IF(BY4=0,\"wait\",AVERAGE(CA19:CA218))","v":{"$error":"#DIV/0!"}},null,null,null,null,null,null,"長期",200,{"$f":"IF(CH4=0,\"wait\",AVERAGE(CJ19:CJ218))","v":{"$error":"#DIV/0!"}},null,null,null,null,null,null,"長期",200,{"$f":"IF(CQ4=0,\"wait\",AVERAGE(CS19:CS218))","v":{"$error":"#DIV/0!"}},null,null,null,null,null,null,"長期",200,{"$f":"IF(CZ4=0,\"wait\",AVERAGE(DB19:DB218))","v":{"$error":"#DIV/0!"}},null,null,null,null,null,null,"長期",200,{"$f":"IF(DI4=0,\"wait\",AVERAGE(DK19:DK218))","v":{"$error":"#DIV/0!"}},null,null,null,null,null,null,"長期",200,{"$f":"IF(DR4=0,\"wait\",AVERAGE(DT19:DT218))","v":{"$error":"#DIV/0!"}},null,null,null,null,null,null,"長期",200,{"$f":"IF(EA4=0,\"wait\",AVERAGE(EC19:EC218))","v":{"$error":"#DIV/0!"}},null,null,null,null,null,null,"長期",200,{"$f":"IF(EJ4=0,\"wait\",AVERAGE(EL19:EL218))","v":{"$error":"#DIV/0!"}},null,null,null,null,null,null,"長期",200,{"$f":"IF(ES4=0,\"wait\",AVERAGE(EU19:EU218))","v":{"$error":"#DIV/0!"}},null,null,null,null,null,null,"長期",200,{"$f":"IF(FB4=0,\"wait\",AVERAGE(FD19:FD218))","v":{"$error":"#DIV/0!"}},null,null,null,null,null,null,"長期",200,{"$f":"IF(FK4=0,\"wait\",AVERAGE(FM19:FM218))","v":{"$error":"#DIV/0!"}},null,null,null,null,null,null,"長期",200,{"$f":"IF(FT4=0,\"wait\",AVERAGE(FV19:FV218))","v":{"$error":"#DIV/0!"}},null,null,null,null,null,null,"長期",200,{"$f":"IF(GC4=0,\"wait\",AVERAGE(GE19:GE218))","v":{"$error":"#DIV/0!"}},null,null,null,null,null,null,"長期",200,{"$f":"IF(GL4=0,\"wait\",AVERAGE(GN19:GN218))","v":{"$error":"#DIV/0!"}},null,null,null,null,null,null,"長期",200,{"$f":"IF(GU4=0,\"wait\",AVERAGE(GW19:GW218))","v":{"$error":"#DIV/0!"}},null,null,null,null,null,null,"長期",200,{"$f":"IF(HD4=0,\"wait\",AVERAGE(HF19:HF218))","v":{"$error":"#DIV/0!"}},null,null,null,null,null,null,"長期",200,{"$f":"IF(HM4=0,\"wait\",AVERAGE(HO19:HO218))","v":{"$error":"#DIV/0!"}},null,null,null,null,null,null,"長期",200,{"$f":"IF(HV4=0,\"wait\",AVERAGE(HX19:HX218))","v":{"$error":"#DIV/0!"}},null,null,null,null,null,null,"長期",200,{"$f":"IF(IE4=0,\"wait\",AVERAGE(IG19:IG218))","v":{"$error":"#DIV/0!"}},null,null,null,null,null,null,"長期",200,{"$f":"IF(IN4=0,\"wait\",AVERAGE(IP19:IP218))","v":{"$error":"#DIV/0!"}},null,null,null,null,null,null,"長期",200,{"$f":"IF(IW4=0,\"wait\",AVERAGE(IY19:IY218))","v":{"$error":"#DIV/0!"}},null,null,null,null,null,null,"長期",200,{"$f":"IF(JF4=0,\"wait\",AVERAGE(JH19:JH218))","v":{"$error":"#DIV/0!"}},null,null,null,null,null,null,"長期",200,{"$f":"IF(JO4=0,\"wait\",AVERAGE(JQ19:JQ218))","v":{"$error":"#DIV/0!"}},null,null,null,null,null,null,"長期",200,{"$f":"IF(JX4=0,\"wait\",AVERAGE(JZ19:JZ218))","v":{"$error":"#DIV/0!"}},null,null,null,null,null,null,"長期",200,{"$f":"IF(KG4=0,\"wait\",AVERAGE(KI19:KI218))","v":{"$error":"#DIV/0!"}},null,null,null,null,null,null,"長期",200,{"$f":"IF(KP4=0,\"wait\",AVERAGE(KR19:KR218))","v":{"$error":"#DIV/0!"}},null,null,null,null,null,null,"長期",200,{"$f":"IF(KY4=0,\"wait\",AVERAGE(LA19:LA218))","v":{"$error":"#DIV/0!"}},null,null,null,null,null,null,"長期",200,{"$f":"IF(LH4=0,\"wait\",AVERAGE(LJ19:LJ218))","v":{"$error":"#DIV/0!"}},null,null,null,null,null,null,"長期",200,{"$f":"IF(LQ4=0,\"wait\",AVERAGE(LS19:LS218))","v":{"$error":"#DIV/0!"}},null,null,null,null,null,null,"長期",200,{"$f":"IF(LZ4=0,\"wait\",AVERAGE(MB19:MB218))","v":{"$error":"#DIV/0!"}},null,null,null,null,null,null,"長期",200,{"$f":"IF(MI4=0,\"wait\",AVERAGE(MK19:MK218))","v":{"$error":"#DIV/0!"}},null,null,null,null,null,null,"長期",200,{"$f":"IF(MR4=0,\"wait\",AVERAGE(MT19:MT218))","v":{"$error":"#DIV/0!"}},null,null,null,null,"長期",200,{"$f":"IF(MY4=0,\"wait\",AVERAGE(NA19:NA218))","v":{"$error":"#DIV/0!"}},null,null,null,null,null,null,"長期",200,{"$f":"IF(NH4=0,\"wait\",AVERAGE(NJ19:NJ218))","v":{"$error":"#DIV/0!"}},null,null,null,null,null,null,"長期",200,{"$f":"IF(NQ4=0,\"wait\",AVERAGE(NS19:NS218))","v":{"$error":"#DIV/0!"}},null,null,null,null,null,null,"長期",200,{"$f":"IF(NZ4=0,\"wait\",AVERAGE(OB19:OB218))","v":{"$error":"#DIV/0!"}},null,null,null,null,null,null,"長期",200,{"$f":"IF(OI4=0,\"wait\",AVERAGE(OK19:OK218))","v":{"$error":"#DIV/0!"}},null,null,null,null,null,null,"長期",200,{"$f":"IF(OR4=0,\"wait\",AVERAGE(OT19:OT218))","v":{"$error":"#DIV/0!"}},null,null,null,null,null,null,"長期",200,{"$f":"IF(PA4=0,\"wait\",AVERAGE(PC19:PC218))","v":{"$error":"#DIV/0!"}},null,null,null,null,null,null,"長期",200,{"$f":"IF(PJ4=0,\"wait\",AVERAGE(PL19:PL218))","v":{"$error":"#DIV/0!"}},null,null,null,null,null,null,"長期",200,{"$f":"IF(PS4=0,\"wait\",AVERAGE(PU19:PU218))","v":{"$error":"#DIV/0!"}},null,null,null,null,null,null,"長期",200,{"$f":"IF(QB4=0,\"wait\",AVERAGE(QD19:QD218))","v":{"$error":"#DIV/0!"}}]
[]
[null,null,null,null,null,null,null,"上昇幅の平均（Average Gain）",{"$f":"IF(E4=0,\"wait\",AVERAGEIF(H$159:H$218, \">0\"))","v":{"$error":"#DIV/0!"}},null,null,null,null,null,null,null,"上昇幅の平均（Average Gain）",{"$f":"IF(N4=0,\"wait\",AVERAGEIF(Q$159:Q$218, \">0\"))","v":{"$error":"#DIV/0!"}},null,null,null,null,null,null,null,"上昇幅の平均（Average Gain）",{"$f":"IF(W4=0,\"wait\",AVERAGEIF(Z$159:Z$218, \">0\"))","v":{"$error":"#DIV/0!"}},null,null,null,null,null,null,null,"上昇幅の平均（Average Gain）",{"$f":"IF(AF4=0,\"wait\",AVERAGEIF(AI$159:AI$218, \">0\"))","v":{"$error":"#DIV/0!"}},null,null,null,null,null,null,null,"上昇幅の平均（Average Gain）",{"$f":"IF(AO4=0,\"wait\",AVERAGEIF(AR$159:AR$218, \">0\"))","v":{"$error":"#DIV/0!"}},null,null,null,null,null,null,null,"上昇幅の平均（Average Gain）",{"$f":"IF(AX4=0,\"wait\",AVERAGEIF(BA$159:BA$218, \">0\"))","v":{"$error":"#DIV/0!"}},null,null,null,null,null,null,null,"上昇幅の平均（Average Gain）",{"$f":"IF(BG4=0,\"wait\",AVERAGEIF(BJ$159:BJ$218, \">0\"))","v":{"$error":"#DIV/0!"}},null,null,null,null,null,null,null,"上昇幅の平均（Average Gain）",{"$f":"IF(BP4=0,\"wait\",AVERAGEIF(BS$159:BS$218, \">0\"))","v":{"$error":"#DIV/0!"}},null,null,null,null,null,null,null,"上昇幅の平均（Average Gain）",{"$f":"IF(BY4=0,\"wait\",AVERAGEIF(CB$159:CB$218, \">0\"))","v":{"$error":"#DIV/0!"}},null,null,null,null,null,null,null,"上昇幅の平均（Average Gain）",{"$f":"IF(CH4=0,\"wait\",AVERAGEIF(CK$159:CK$218, \">0\"))","v":{"$error":"#DIV/0!"}},null,null,null,null,null,null,null,"上昇幅の平均（Average Gain）",{"$f":"IF(CQ4=0,\"wait\",AVERAGEIF(CT$159:CT$218, \">0\"))","v":{"$error":"#DIV/0!"}},null,null,null,null,null,null,null,"上昇幅の平均（Average Gain）",{"$f":"IF(CZ4=0,\"wait\",AVERAGEIF(DC$159:DC$218, \">0\"))","v":{"$error":"#DIV/0!"}},null,null,null,null,null,null,null,"上昇幅の平均（Average Gain）",{"$f":"IF(DI4=0,\"wait\",AVERAGEIF(DL$159:DL$218, \">0\"))","v":{"$error":"#DIV/0!"}},null,null,null,null,null,null,null,"上昇幅の平均（Average Gain）",{"$f":"IF(DR4=0,\"wait\",AVERAGEIF(DU$159:DU$218, \">0\"))","v":{"$error":"#DIV/0!"}},null,null,null,null,null,null,null,"上昇幅の平均（Average Gain）",{"$f":"IF(EA4=0,\"wait\",AVERAGEIF(ED$159:ED$218, \">0\"))","v":{"$error":"#DIV/0!"}},null,null,null,null,null,null,null,"上昇幅の平均（Average Gain）",{"$f":"IF(EJ4=0,\"wait\",AVERAGEIF(EM$159:EM$218, \">0\"))","v":{"$error":"#DIV/0!"}},null,null,null,null,null,null,null,"上昇幅の平均（Average Gain）",{"$f":"IF(ES4=0,\"wait\",AVERAGEIF(EV$159:EV$218, \">0\"))","v":{"$error":"#DIV/0!"}},null,null,null,null,null,null,null,"上昇幅の平均（Average Gain）",{"$f":"IF(FB4=0,\"wait\",AVERAGEIF(FE$159:FE$218, \">0\"))","v":{"$error":"#DIV/0!"}},null,null,null,null,null,null,null,"上昇幅の平均（Average Gain）",{"$f":"IF(FK4=0,\"wait\",AVERAGEIF(FN$159:FN$218, \">0\"))","v":{"$error":"#DIV/0!"}},null,null,null,null,null,null,null,"上昇幅の平均（Average Gain）",{"$f":"IF(FT4=0,\"wait\",AVERAGEIF(FW$159:FW$218, \">0\"))","v":{"$error":"#DIV/0!"}},null,null,null,null,null,null,null,"上昇幅の平均（Average Gain）",{"$f":"IF(GC4=0,\"wait\",AVERAGEIF(GF$159:GF$218, \">0\"))","v":{"$error":"#DIV/0!"}},null,null,null,null,null,null,null,"上昇幅の平均（Average Gain）",{"$f":"IF(GL4=0,\"wait\",AVERAGEIF(GO$159:GO$218, \">0\"))","v":{"$error":"#DIV/0!"}},null,null,null,null,null,null,null,"上昇幅の平均（Average Gain）",{"$f":"IF(GU4=0,\"wait\",AVERAGEIF(GX$159:GX$218, \">0\"))","v":{"$error":"#DIV/0!"}},null,null,null,null,null,null,null,"上昇幅の平均（Average Gain）",{"$f":"IF(HD4=0,\"wait\",AVERAGEIF(HG$159:HG$218, \">0\"))","v":{"$error":"#DIV/0!"}},null,null,null,null,null,null,null,"上昇幅の平均（Average Gain）",{"$f":"IF(HM4=0,\"wait\",AVERAGEIF(HP$159:HP$218, \">0\"))","v":{"$error":"#DIV/0!"}},null,null,null,null,null,null,null,"上昇幅の平均（Average Gain）",{"$f":"IF(HV4=0,\"wait\",AVERAGEIF(HY$159:HY$218, \">0\"))","v":{"$error":"#DIV/0!"}},null,null,null,null,null,null,null,"上昇幅の平均（Average Gain）",{"$f":"IF(IE4=0,\"wait\",AVERAGEIF(IH$159:IH$218, \">0\"))","v":{"$error":"#DIV/0!"}},null,null,null,null,null,null,null,"上昇幅の平均（Average Gain）",{"$f":"IF(IN4=0,\"wait\",AVERAGEIF(IQ$159:IQ$218, \">0\"))","v":{"$error":"#DIV/0!"}},null,null,null,null,null,null,null,"上昇幅の平均（Average Gain）",{"$f":"IF(IW4=0,\"wait\",AVERAGEIF(IZ$159:IZ$218, \">0\"))","v":{"$error":"#DIV/0!"}},null,null,null,null,null,null,null,"上昇幅の平均（Average Gain）",{"$f":"IF(JF4=0,\"wait\",AVERAGEIF(JI$159:JI$218, \">0\"))","v":{"$error":"#DIV/0!"}},null,null,null,null,null,null,null,"上昇幅の平均（Average Gain）",{"$f":"IF(JO4=0,\"wait\",AVERAGEIF(JR$159:JR$218, \">0\"))","v":{"$error":"#DIV/0!"}},null,null,null,null,null,null,null,"上昇幅の平均（Average Gain）",{"$f":"IF(JX4=0,\"wait\",AVERAGEIF(KA$159:KA$218, \">0\"))","v":{"$error":"#DIV/0!"}},null,null,null,null,null,null,null,"上昇幅の平均（Average Gain）",{"$f":"IF(KG4=0,\"wait\",AVERAGEIF(KJ$159:KJ$218, \">0\"))","v":{"$error":"#DIV/0!"}},null,null,null,null,null,null,null,"上昇幅の平均（Average Gain）",{"$f":"IF(KP4=0,\"wait\",AVERAGEIF(KS$159:KS$218, \">0\"))","v":{"$error":"#DIV/0!"}},null,null,null,null,null,null,null,"上昇幅の平均（Average Gain）",{"$f":"IF(KY4=0,\"wait\",AVERAGEIF(LB$159:LB$218, \">0\"))","v":{"$error":"#DIV/0!"}},null,null,null,null,null,null,null,"上昇幅の平均（Average Gain）",{"$f":"IF(LH4=0,\"wait\",AVERAGEIF(LK$159:LK$218, \">0\"))","v":{"$error":"#DIV/0!"}},null,null,null,null,null,null,null,"上昇幅の平均（Average Gain）",{"$f":"IF(LQ4=0,\"wait\",AVERAGEIF(LT$159:LT$218, \">0\"))","v":{"$error":"#DIV/0!"}},null,null,null,null,null,null,null,"上昇幅の平均（Average Gain）",{"$f":"IF(LZ4=0,\"wait\",AVERAGEIF(MC$159:MC$218, \">0\"))","v":{"$error":"#DIV/0!"}},null,null,null,null,null,null,null,"上昇幅の平均（Average Gain）",{"$f":"IF(MI4=0,\"wait\",AVERAGEIF(ML$159:ML$218, \">0\"))","v":{"$error":"#DIV/0!"}},null,null,null,null,null,null,null,"上昇幅の平均（Average Gain）",{"$f":"IF(MR4=0,\"wait\",AVERAGEIF(MU$159:MU$218, \">0\"))","v":{"$error":"#DIV/0!"}},null,null,null,null,null,"上昇幅の平均（Average Gain）",{"$f":"IF(MY4=0,\"wait\",AVERAGEIF(NB$159:NB$218, \">0\"))","v":{"$error":"#DIV/0!"}},null,null,null,null,null,null,null,"上昇幅の平均（Average Gain）",{"$f":"IF(NH4=0,\"wait\",AVERAGEIF(NK$159:NK$218, \">0\"))","v":{"$error":"#DIV/0!"}},null,null,null,null,null,null,null,"上昇幅の平均（Average Gain）",{"$f":"IF(NQ4=0,\"wait\",AVERAGEIF(NT$159:NT$218, \">0\"))","v":{"$error":"#DIV/0!"}},null,null,null,null,null,null,null,"上昇幅の平均（Average Gain）",{"$f":"IF(NZ4=0,\"wait\",AVERAGEIF(OC$159:OC$218, \">0\"))","v":{"$error":"#DIV/0!"}},null,null,null,null,null,null,null,"上昇幅の平均（Average Gain）",{"$f":"IF(OI4=0,\"wait\",AVERAGEIF(OL$159:OL$218, \">0\"))","v":{"$error":"#DIV/0!"}},null,null,null,null,null,null,null,"上昇幅の平均（Average Gain）",{"$f":"IF(OR4=0,\"wait\",AVERAGEIF(OU$159:OU$218, \">0\"))","v":{"$error":"#DIV/0!"}},null,null,null,null,null,null,null,"上昇幅の平均（Average Gain）",{"$f":"IF(PA4=0,\"wait\",AVERAGEIF(PD$159:PD$218, \">0\"))","v":{"$error":"#DIV/0!"}},null,null,null,null,null,null,null,"上昇幅の平均（Average Gain）",{"$f":"IF(PJ4=0,\"wait\",AVERAGEIF(PM$159:PM$218, \">0\"))","v":{"$error":"#DIV/0!"}},null,null,null,null,null,null,null,"上昇幅の平均（Average Gain）",{"$f":"IF(PS4=0,\"wait\",AVERAGEIF(PV$159:PV$218, \">0\"))","v":{"$error":"#DIV/0!"}},null,null,null,null,null,null,null,"上昇幅の平均（Average Gain）",{"$f":"IF(QB4=0,\"wait\",AVERAGEIF(QE$159:QE$218, \">0\"))","v":{"$error":"#DIV/0!"}}]
[null,null,null,null,null,null,null,"下降幅の平均（Average Loss）",{"$f":"IF(E4=0,\"wait\",-(AVERAGEIF(H$159:H$218, \"<0\")))","v":{"$error":"#DIV/0!"}},null,null,null,null,null,null,null,"下降幅の平均（Average Loss）",{"$f":"IF(N4=0,\"wait\",-(AVERAGEIF(Q$159:Q$218, \"<0\")))","v":{"$error":"#DIV/0!"}},null,null,null,null,null,null,null,"下降幅の平均（Average Loss）",{"$f":"IF(W4=0,\"wait\",-(AVERAGEIF(Z$159:Z$218, \"<0\")))","v":{"$error":"#DIV/0!"}},null,null,null,null,null,null,null,"下降幅の平均（Average Loss）",{"$f":"IF(AF4=0,\"wait\",-(AVERAGEIF(AI$159:AI$218, \"<0\")))","v":{"$error":"#DIV/0!"}},null,null,null,null,null,null,null,"下降幅の平均（Average Loss）",{"$f":"IF(AO4=0,\"wait\",-(AVERAGEIF(AR$159:AR$218, \"<0\")))","v":{"$error":"#DIV/0!"}},null,null,null,null,null,null,null,"下降幅の平均（Average Loss）",{"$f":"IF(AX4=0,\"wait\",-(AVERAGEIF(BA$159:BA$218, \"<0\")))","v":{"$error":"#DIV/0!"}},null,null,null,null,null,null,null,"下降幅の平均（Average Loss）",{"$f":"IF(BG4=0,\"wait\",-(AVERAGEIF(BJ$159:BJ$218, \"<0\")))","v":{"$error":"#DIV/0!"}},null,null,null,null,null,null,null,"下降幅の平均（Average Loss）",{"$f":"IF(BP4=0,\"wait\",-(AVERAGEIF(BS$159:BS$218, \"<0\")))","v":{"$error":"#DIV/0!"}},null,null,null,null,null,null,null,"下降幅の平均（Average Loss）",{"$f":"IF(BY4=0,\"wait\",-(AVERAGEIF(CB$159:CB$218, \"<0\")))","v":{"$error":"#DIV/0!"}},null,null,null,null,null,null,null,"下降幅の平均（Average Loss）",{"$f":"IF(CH4=0,\"wait\",-(AVERAGEIF(CK$159:CK$218, \"<0\")))","v":{"$error":"#DIV/0!"}},null,null,null,null,null,null,null,"下降幅の平均（Average Loss）",{"$f":"IF(CQ4=0,\"wait\",-(AVERAGEIF(CT$159:CT$218, \"<0\")))","v":{"$error":"#DIV/0!"}},null,null,null,null,null,null,null,"下降幅の平均（Average Loss）",{"$f":"IF(CZ4=0,\"wait\",-(AVERAGEIF(DC$159:DC$218, \"<0\")))","v":{"$error":"#DIV/0!"}},null,null,null,null,null,null,null,"下降幅の平均（Average Loss）",{"$f":"IF(DI4=0,\"wait\",-(AVERAGEIF(DL$159:DL$218, \"<0\")))","v":{"$error":"#DIV/0!"}},null,null,null,null,null,null,null,"下降幅の平均（Average Loss）",{"$f":"IF(DR4=0,\"wait\",-(AVERAGEIF(DU$159:DU$218, \"<0\")))","v":{"$error":"#DIV/0!"}},null,null,null,null,null,null,null,"下降幅の平均（Average Loss）",{"$f":"IF(EA4=0,\"wait\",-(AVERAGEIF(ED$159:ED$218, \"<0\")))","v":{"$error":"#DIV/0!"}},null,null,null,null,null,null,null,"下降幅の平均（Average Loss）",{"$f":"IF(EJ4=0,\"wait\",-(AVERAGEIF(EM$159:EM$218, \"<0\")))","v":{"$error":"#DIV/0!"}},null,null,null,null,null,null,null,"下降幅の平均（Average Loss）",{"$f":"IF(ES4=0,\"wait\",-(AVERAGEIF(EV$159:EV$218, \"<0\")))","v":{"$error":"#DIV/0!"}},null,null,null,null,null,null,null,"下降幅の平均（Average Loss）",{"$f":"IF(FB4=0,\"wait\",-(AVERAGEIF(FE$159:FE$218, \"<0\")))","v":{"$error":"#DIV/0!"}},null,null,null,null,null,null,null,"下降幅の平均（Average Loss）",{"$f":"IF(FK4=0,\"wait\",-(AVERAGEIF(FN$159:FN$218, \"<0\")))","v":{"$error":"#DIV/0!"}},null,null,null,null,null,null,null,"下降幅の平均（Average Loss）",{"$f":"IF(FT4=0,\"wait\",-(AVERAGEIF(FW$159:FW$218, \"<0\")))","v":{"$error":"#DIV/0!"}},null,null,null,null,null,null,null,"下降幅の平均（Average Loss）",{"$f":"IF(GC4=0,\"wait\",-(AVERAGEIF(GF$159:GF$218, \"<0\")))","v":{"$error":"#DIV/0!"}},null,null,null,null,null,null,null,"下降幅の平均（Average Loss）",{"$f":"IF(GL4=0,\"wait\",-(AVERAGEIF(GO$159:GO$218, \"<0\")))","v":{"$error":"#DIV/0!"}},null,null,null,null,null,null,null,"下降幅の平均（Average Loss）",{"$f":"IF(GU4=0,\"wait\",-(AVERAGEIF(GX$159:GX$218, \"<0\")))","v":{"$error":"#DIV/0!"}},null,null,null,null,null,null,null,"下降幅の平均（Average Loss）",{"$f":"IF(HD4=0,\"wait\",-(AVERAGEIF(HG$159:HG$218, \"<0\")))","v":{"$error":"#DIV/0!"}},null,null,null,null,null,null,null,"下降幅の平均（Average Loss）",{"$f":"IF(HM4=0,\"wait\",-(AVERAGEIF(HP$159:HP$218, \"<0\")))","v":{"$error":"#DIV/0!"}},null,null,null,null,null,null,null,"下降幅の平均（Average Loss）",{"$f":"IF(HV4=0,\"wait\",-(AVERAGEIF(HY$159:HY$218, \"<0\")))","v":{"$error":"#DIV/0!"}},null,null,null,null,null,null,null,"下降幅の平均（Average Loss）",{"$f":"IF(IE4=0,\"wait\",-(AVERAGEIF(IH$159:IH$218, \"<0\")))","v":{"$error":"#DIV/0!"}},null,null,null,null,null,null,null,"下降幅の平均（Average Loss）",{"$f":"IF(IN4=0,\"wait\",-(AVERAGEIF(IQ$159:IQ$218, \"<0\")))","v":{"$error":"#DIV/0!"}},null,null,null,null,null,null,null,"下降幅の平均（Average Loss）",{"$f":"IF(IW4=0,\"wait\",-(AVERAGEIF(IZ$159:IZ$218, \"<0\")))","v":{"$error":"#DIV/0!"}},null,null,null,null,null,null,null,"下降幅の平均（Average Loss）",{"$f":"IF(JF4=0,\"wait\",-(AVERAGEIF(JI$159:JI$218, \"<0\")))","v":{"$error":"#DIV/0!"}},null,null,null,null,null,null,null,"下降幅の平均（Average Loss）",{"$f":"IF(JO4=0,\"wait\",-(AVERAGEIF(JR$159:JR$218, \"<0\")))","v":{"$error":"#DIV/0!"}},null,null,null,null,null,null,null,"下降幅の平均（Average Loss）",{"$f":"IF(JX4=0,\"wait\",-(AVERAGEIF(KA$159:KA$218, \"<0\")))","v":{"$error":"#DIV/0!"}},null,null,null,null,null,null,null,"下降幅の平均（Average Loss）",{"$f":"IF(KG4=0,\"wait\",-(AVERAGEIF(KJ$159:KJ$218, \"<0\")))","v":{"$error":"#DIV/0!"}},null,null,null,null,null,null,null,"下降幅の平均（Average Loss）",{"$f":"IF(KP4=0,\"wait\",-(AVERAGEIF(KS$159:KS$218, \"<0\")))","v":{"$error":"#DIV/0!"}},null,null,null,null,null,null,null,"下降幅の平均（Average Loss）",{"$f":"IF(KY4=0,\"wait\",-(AVERAGEIF(LB$159:LB$218, \"<0\")))","v":{"$error":"#DIV/0!"}},null,null,null,null,null,null,null,"下降幅の平均（Average Loss）",{"$f":"IF(LH4=0,\"wait\",-(AVERAGEIF(LK$159:LK$218, \"<0\")))","v":{"$error":"#DIV/0!"}},null,null,null,null,null,null,null,"下降幅の平均（Average Loss）",{"$f":"IF(LQ4=0,\"wait\",-(AVERAGEIF(LT$159:LT$218, \"<0\")))","v":{"$error":"#DIV/0!"}},null,null,null,null,null,null,null,"下降幅の平均（Average Loss）",{"$f":"IF(LZ4=0,\"wait\",-(AVERAGEIF(MC$159:MC$218, \"<0\")))","v":{"$error":"#DIV/0!"}},null,null,null,null,null,null,null,"下降幅の平均（Average Loss）",{"$f":"IF(MI4=0,\"wait\",-(AVERAGEIF(ML$159:ML$218, \"<0\")))","v":{"$error":"#DIV/0!"}},null,null,null,null,null,null,null,"下降幅の平均（Average Loss）",{"$f":"IF(MR4=0,\"wait\",-(AVERAGEIF(MU$159:MU$218, \"<0\")))","v":{"$error":"#DIV/0!"}},null,null,null,null,null,"下降幅の平均（Average Loss）",{"$f":"IF(MY4=0,\"wait\",-(AVERAGEIF(NB$159:NB$218, \"<0\")))","v":{"$error":"#DIV/0!"}},null,null,null,null,null,null,null,"下降幅の平均（Average Loss）",{"$f":"IF(NH4=0,\"wait\",-(AVERAGEIF(NK$159:NK$218, \"<0\")))","v":{"$error":"#DIV/0!"}},null,null,null,null,null,null,null,"下降幅の平均（Average Loss）",{"$f":"IF(NQ4=0,\"wait\",-(AVERAGEIF(NT$159:NT$218, \"<0\")))","v":{"$error":"#DIV/0!"}},null,null,null,null,null,null,null,"下降幅の平均（Average Loss）",{"$f":"IF(NZ4=0,\"wait\",-(AVERAGEIF(OC$159:OC$218, \"<0\")))","v":{"$error":"#DIV/0!"}},null,null,null,null,null,null,null,"下降幅の平均（Average Loss）",{"$f":"IF(OI4=0,\"wait\",-(AVERAGEIF(OL$159:OL$218, \"<0\")))","v":{"$error":"#DIV/0!"}},null,null,null,null,null,null,null,"下降幅の平均（Average Loss）",{"$f":"IF(OR4=0,\"wait\",-(AVERAGEIF(OU$159:OU$218, \"<0\")))","v":{"$error":"#DIV/0!"}},null,null,null,null,null,null,null,"下降幅の平均（Average Loss）",{"$f":"IF(PA4=0,\"wait\",-(AVERAGEIF(PD$159:PD$218, \"<0\")))","v":{"$error":"#DIV/0!"}},null,null,null,null,null,null,null,"下降幅の平均（Average Loss）",{"$f":"IF(PJ4=0,\"wait\",-(AVERAGEIF(PM$159:PM$218, \"<0\")))","v":{"$error":"#DIV/0!"}},null,null,null,null,null,null,null,"下降幅の平均（Average Loss）",{"$f":"IF(PS4=0,\"wait\",-(AVERAGEIF(PV$159:PV$218, \"<0\")))","v":{"$error":"#DIV/0!"}},null,null,null,null,null,null,null,"下降幅の平均（Average Loss）",{"$f":"IF(QB4=0,\"wait\",-(AVERAGEIF(QE$159:QE$218, \"<0\")))","v":{"$error":"#DIV/0!"}}]
[null,null,null,null,null,null,null,"RSI",{"$f":"IFERROR(100-(100/(1+(I9/I10))),\"wait\")","v":"wait"},null,null,null,null,null,null,null,"RSI",{"$f":"IFERROR(100-(100/(1+(R9/R10))),\"wait\")","v":"wait"},null,null,null,null,null,null,null,"RSI",{"$f":"IFERROR(100-(100/(1+(AA9/AA10))),\"wait\")","v":"wait"},null,null,null,null,null,null,null,"RSI",{"$f":"IFERROR(100-(100/(1+(AJ9/AJ10))),\"wait\")","v":"wait"},null,null,null,null,null,null,null,"RSI",{"$f":"IFERROR(100-(100/(1+(AS9/AS10))),\"wait\")","v":"wait"},null,null,null,null,null,null,null,"RSI",{"$f":"IFERROR(100-(100/(1+(BB9/BB10))),\"wait\")","v":"wait"},null,null,null,null,null,null,null,"RSI",{"$f":"IFERROR(100-(100/(1+(BK9/BK10))),\"wait\")","v":"wait"},null,null,null,null,null,null,null,"RSI",{"$f":"IFERROR(100-(100/(1+(BT9/BT10))),\"wait\")","v":"wait"},null,null,null,null,null,null,null,"RSI",{"$f":"IFERROR(100-(100/(1+(CC9/CC10))),\"wait\")","v":"wait"},null,null,null,null,null,null,null,"RSI",{"$f":"IFERROR(100-(100/(1+(CL9/CL10))),\"wait\")","v":"wait"},null,null,null,null,null,null,null,"RSI",{"$f":"IFERROR(100-(100/(1+(CU9/CU10))),\"wait\")","v":"wait"},null,null,null,null,null,null,null,"RSI",{"$f":"IFERROR(100-(100/(1+(DD9/DD10))),\"wait\")","v":"wait"},null,null,null,null,null,null,null,"RSI",{"$f":"IFERROR(100-(100/(1+(DM9/DM10))),\"wait\")","v":"wait"},null,null,null,null,null,null,null,"RSI",{"$f":"IFERROR(100-(100/(1+(DV9/DV10))),\"wait\")","v":"wait"},null,null,null,null,null,null,null,"RSI",{"$f":"IFERROR(100-(100/(1+(EE9/EE10))),\"wait\")","v":"wait"},null,null,null,null,null,null,null,"RSI",{"$f":"IFERROR(100-(100/(1+(EN9/EN10))),\"wait\")","v":"wait"},null,null,null,null,null,null,null,"RSI",{"$f":"IFERROR(100-(100/(1+(EW9/EW10))),\"wait\")","v":"wait"},null,null,null,null,null,null,null,"RSI",{"$f":"IFERROR(100-(100/(1+(FF9/FF10))),\"wait\")","v":"wait"},null,null,null,null,null,null,null,"RSI",{"$f":"IFERROR(100-(100/(1+(FO9/FO10))),\"wait\")","v":"wait"},null,null,null,null,null,null,null,"RSI",{"$f":"IFERROR(100-(100/(1+(FX9/FX10))),\"wait\")","v":"wait"},null,null,null,null,null,null,null,"RSI",{"$f":"IFERROR(100-(100/(1+(GG9/GG10))),\"wait\")","v":"wait"},null,null,null,null,null,null,null,"RSI",{"$f":"IFERROR(100-(100/(1+(GP9/GP10))),\"wait\")","v":"wait"},null,null,null,null,null,null,null,"RSI",{"$f":"IFERROR(100-(100/(1+(GY9/GY10))),\"wait\")","v":"wait"},null,null,null,null,null,null,null,"RSI",{"$f":"IFERROR(100-(100/(1+(HH9/HH10))),\"wait\")","v":"wait"},null,null,null,null,null,null,null,"RSI",{"$f":"IFERROR(100-(100/(1+(HQ9/HQ10))),\"wait\")","v":"wait"},null,null,null,null,null,null,null,"RSI",{"$f":"IFERROR(100-(100/(1+(HZ9/HZ10))),\"wait\")","v":"wait"},null,null,null,null,null,null,null,"RSI",{"$f":"IFERROR(100-(100/(1+(II9/II10))),\"wait\")","v":"wait"},null,null,null,null,null,null,null,"RSI",{"$f":"IFERROR(100-(100/(1+(IR9/IR10))),\"wait\")","v":"wait"},null,null,null,null,null,null,null,"RSI",{"$f":"IFERROR(100-(100/(1+(JA9/JA10))),\"wait\")","v":"wait"},null,null,null,null,null,null,null,"RSI",{"$f":"IFERROR(100-(100/(1+(JJ9/JJ10))),\"wait\")","v":"wait"},null,null,null,null,null,null,null,"RSI",{"$f":"IFERROR(100-(100/(1+(JS9/JS10))),\"wait\")","v":"wait"},null,null,null,null,null,null,null,"RSI",{"$f":"IFERROR(100-(100/(1+(KB9/KB10))),\"wait\")","v":"wait"},null,null,null,null,null,null,null,"RSI",{"$f":"IFERROR(100-(100/(1+(KK9/KK10))),\"wait\")","v":"wait"},null,null,null,null,null,null,null,"RSI",{"$f":"IFERROR(100-(100/(1+(KT9/KT10))),\"wait\")","v":"wait"},null,null,null,null,null,null,null,"RSI",{"$f":"IFERROR(100-(100/(1+(LC9/LC10))),\"wait\")","v":"wait"},null,null,null,null,null,null,null,"RSI",{"$f":"IFERROR(100-(100/(1+(LL9/LL10))),\"wait\")","v":"wait"},null,null,null,null,null,null,null,"RSI",{"$f":"IFERROR(100-(100/(1+(LU9/LU10))),\"wait\")","v":"wait"},null,null,null,null,null,null,null,"RSI",{"$f":"IFERROR(100-(100/(1+(MD9/MD10))),\"wait\")","v":"wait"},null,null,null,null,null,null,null,"RSI",{"$f":"IFERROR(100-(100/(1+(MM9/MM10))),\"wait\")","v":"wait"},null,null,null,null,null,null,null,"RSI",{"$f":"IFERROR(100-(100/(1+(MV9/MV10))),\"wait\")","v":"wait"},null,null,null,null,null,"RSI",{"$f":"IFERROR(100-(100/(1+(NC9/NC10))),\"wait\")","v":"wait"},null,null,null,null,null,null,null,"RSI",{"$f":"IFERROR(100-(100/(1+(NL9/NL10))),\"wait\")","v":"wait"},null,null,null,null,null,null,null,"RSI",{"$f":"IFERROR(100-(100/(1+(NU9/NU10))),\"wait\")","v":"wait"},null,null,null,null,null,null,null,"RSI",{"$f":"IFERROR(100-(100/(1+(OD9/OD10))),\"wait\")","v":"wait"},null,null,null,null,null,null,null,"RSI",{"$f":"IFERROR(100-(100/(1+(OM9/OM10))),\"wait\")","v":"wait"},null,null,null,null,null,null,null,"RSI",{"$f":"IFERROR(100-(100/(1+(OV9/OV10))),\"wait\")","v":"wait"},null,null,null,null,null,null,null,"RSI",{"$f":"IFERROR(100-(100/(1+(PE9/PE10))),\"wait\")","v":"wait"},null,null,null,null,null,null,null,"RSI",{"$f":"IFERROR(100-(100/(1+(PN9/PN10))),\"wait\")","v":"wait"},null,null,null,null,null,null,null,"RSI",{"$f":"IFERROR(100-(100/(1+(PW9/PW10))),\"wait\")","v":"wait"},null,null,null,null,null,null,null,"RSI",{"$f":"IFERROR(100-(100/(1+(QF9/QF10))),\"wait\")","v":"wait"}]
[null,null,null,null,null,null,null,"上限バンド（＋２σ）",{"$f":"IF(E4=0,\"wait\",AVERAGE(G$169:G$218)+2*_xlfn.STDEV.S(G$169:G$218))","v":{"$error":"#DIV/0!"}},null,null,null,null,null,null,null,"上限バンド（＋２σ）",{"$f":"IF(N4=0,\"wait\",AVERAGE(P$169:P$218)+2*_xlfn.STDEV.S(P$169:P$218))","v":{"$error":"#DIV/0!"}},null,null,null,null,null,null,null,"上限バンド（＋２σ）",{"$f":"IF(W4=0,\"wait\",AVERAGE(Y$169:Y$218)+2*_xlfn.STDEV.S(Y$169:Y$218))","v":{"$error":"#DIV/0!"}},null,null,null,null,null,null,null,"上限バンド（＋２σ）",{"$f":"IF(AF4=0,\"wait\",AVERAGE(AH$169:AH$218)+2*_xlfn.STDEV.S(AH$169:AH$218))","v":{"$error":"#DIV/0!"}},null,null,null,null,null,null,null,"上限バンド（＋２σ）",{"$f":"IF(AO4=0,\"wait\",AVERAGE(AQ$169:AQ$218)+2*_xlfn.STDEV.S(AQ$169:AQ$218))","v":{"$error":"#DIV/0!"}},null,null,null,null,null,null,null,"上限バンド（＋２σ）",{"$f":"IF(AX4=0,\"wait\",AVERAGE(AZ$169:AZ$218)+2*_xlfn.STDEV.S(AZ$169:AZ$218))","v":{"$error":"#DIV/0!"}},null,null,null,null,null,null,null,"上限バンド（＋２σ）",{"$f":"IF(BG4=0,\"wait\",AVERAGE(BI$169:BI$218)+2*_xlfn.STDEV.S(BI$169:BI$218))","v":{"$error":"#DIV/0!"}},null,null,null,null,null,null,null,"上限バンド（＋２σ）",{"$f":"IF(BP4=0,\"wait\",AVERAGE(BR$169:BR$218)+2*_xlfn.STDEV.S(BR$169:BR$218))","v":{"$error":"#DIV/0!"}},null,null,null,null,null,null,null,"上限バンド（＋２σ）",{"$f":"IF(BY4=0,\"wait\",AVERAGE(CA$169:CA$218)+2*_xlfn.STDEV.S(CA$169:CA$218))","v":{"$error":"#DIV/0!"}},null,null,null,null,null,null,null,"上限バンド（＋２σ）",{"$f":"IF(CH4=0,\"wait\",AVERAGE(CJ$169:CJ$218)+2*_xlfn.STDEV.S(CJ$169:CJ$218))","v":{"$error":"#DIV/0!"}},null,null,null,null,null,null,null,"上限バンド（＋２σ）",{"$f":"IF(CQ4=0,\"wait\",AVERAGE(CS$169:CS$218)+2*_xlfn.STDEV.S(CS$169:CS$218))","v":{"$error":"#DIV/0!"}},null,null,null,null,null,null,null,"上限バンド（＋２σ）",{"$f":"IF(CZ4=0,\"wait\",AVERAGE(DB$169:DB$218)+2*_xlfn.STDEV.S(DB$169:DB$218))","v":{"$error":"#DIV/0!"}},null,null,null,null,null,null,null,"上限バンド（＋２σ）",{"$f":"IF(DI4=0,\"wait\",AVERAGE(DK$169:DK$218)+2*_xlfn.STDEV.S(DK$169:DK$218))","v":{"$error":"#DIV/0!"}},null,null,null,null,null,null,null,"上限バンド（＋２σ）",{"$f":"IF(DR4=0,\"wait\",AVERAGE(DT$169:DT$218)+2*_xlfn.STDEV.S(DT$169:DT$218))","v":{"$error":"#DIV/0!"}},null,null,null,null,null,null,null,"上限バンド（＋２σ）",{"$f":"IF(EA4=0,\"wait\",AVERAGE(EC$169:EC$218)+2*_xlfn.STDEV.S(EC$169:EC$218))","v":{"$error":"#DIV/0!"}},null,null,null,null,null,null,null,"上限バンド（＋２σ）",{"$f":"IF(EJ4=0,\"wait\",AVERAGE(EL$169:EL$218)+2*_xlfn.STDEV.S(EL$169:EL$218))","v":{"$error":"#DIV/0!"}},null,null,null,null,null,null,null,"上限バンド（＋２σ）",{"$f":"IF(ES4=0,\"wait\",AVERAGE(EU$169:EU$218)+2*_xlfn.STDEV.S(EU$169:EU$218))","v":{"$error":"#DIV/0!"}},null,null,null,null,null,null,null,"上限バンド（＋２σ）",{"$f":"IF(FB4=0,\"wait\",AVERAGE(FD$169:FD$218)+2*_xlfn.STDEV.S(FD$169:FD$218))","v":{"$error":"#DIV/0!"}},null,null,null,null,null,null,null,"上限バンド（＋２σ）",{"$f":"IF(FK4=0,\"wait\",AVERAGE(FM$169:FM$218)+2*_xlfn.STDEV.S(FM$169:FM$218))","v":{"$error":"#DIV/0!"}},null,null,null,null,null,null,null,"上限バンド（＋２σ）",{"$f":"IF(FT4=0,\"wait\",AVERAGE(FV$169:FV$218)+2*_xlfn.STDEV.S(FV$169:FV$218))","v":{"$error":"#DIV/0!"}},null,null,null,null,null,null,null,"上限バンド（＋２σ）",{"$f":"IF(GC4=0,\"wait\",AVERAGE(GE$169:GE$218)+2*_xlfn.STDEV.S(GE$169:GE$218))","v":{"$error":"#DIV/0!"}},null,null,null,null,null,null,null,"上限バンド（＋２σ）",{"$f":"IF(GL4=0,\"wait\",AVERAGE(GN$169:GN$218)+2*_xlfn.STDEV.S(GN$169:GN$218))","v":{"$error":"#DIV/0!"}},null,null,null,null,null,null,null,"上限バンド（＋２σ）",{"$f":"IF(GU4=0,\"wait\",AVERAGE(GW$169:GW$218)+2*_xlfn.STDEV.S(GW$169:GW$218))","v":{"$error":"#DIV/0!"}},null,null,null,null,null,null,null,"上限バンド（＋２σ）",{"$f":"IF(HD4=0,\"wait\",AVERAGE(HF$169:HF$218)+2*_xlfn.STDEV.S(HF$169:HF$218))","v":{"$error":"#DIV/0!"}},null,null,null,null,null,null,null,"上限バンド（＋２σ）",{"$f":"IF(HM4=0,\"wait\",AVERAGE(HO$169:HO$218)+2*_xlfn.STDEV.S(HO$169:HO$218))","v":{"$error":"#DIV/0!"}},null,null,null,null,null,null,null,"上限バンド（＋２σ）",{"$f":"IF(HV4=0,\"wait\",AVERAGE(HX$169:HX$218)+2*_xlfn.STDEV.S(HX$169:HX$218))","v":{"$error":"#DIV/0!"}},null,null,null,null,null,null,null,"上限バンド（＋２σ）",{"$f":"IF(IE4=0,\"wait\",AVERAGE(IG$169:IG$218)+2*_xlfn.STDEV.S(IG$169:IG$218))","v":{"$error":"#DIV/0!"}},null,null,null,null,null,null,null,"上限バンド（＋２σ）",{"$f":"IF(IN4=0,\"wait\",AVERAGE(IP$169:IP$218)+2*_xlfn.STDEV.S(IP$169:IP$218))","v":{"$error":"#DIV/0!"}},null,null,null,null,null,null,null,"上限バンド（＋２σ）",{"$f":"IF(IW4=0,\"wait\",AVERAGE(IY$169:IY$218)+2*_xlfn.STDEV.S(IY$169:IY$218))","v":{"$error":"#DIV/0!"}},null,null,null,null,null,null,null,"上限バンド（＋２σ）",{"$f":"IF(JF4=0,\"wait\",AVERAGE(JH$169:JH$218)+2*_xlfn.STDEV.S(JH$169:JH$218))","v":{"$error":"#DIV/0!"}},null,null,null,null,null,null,null,"上限バンド（＋２σ）",{"$f":"IF(JO4=0,\"wait\",AVERAGE(JQ$169:JQ$218)+2*_xlfn.STDEV.S(JQ$169:JQ$218))","v":{"$error":"#DIV/0!"}},null,null,null,null,null,null,null,"上限バンド（＋２σ）",{"$f":"IF(JX4=0,\"wait\",AVERAGE(JZ$169:JZ$218)+2*_xlfn.STDEV.S(JZ$169:JZ$218))","v":{"$error":"#DIV/0!"}},null,null,null,null,null,null,null,"上限バンド（＋２σ）",{"$f":"IF(KG4=0,\"wait\",AVERAGE(KI$169:KI$218)+2*_xlfn.STDEV.S(KI$169:KI$218))","v":{"$error":"#DIV/0!"}},null,null,null,null,null,null,null,"上限バンド（＋２σ）",{"$f":"IF(KP4=0,\"wait\",AVERAGE(KR$169:KR$218)+2*_xlfn.STDEV.S(KR$169:KR$218))","v":{"$error":"#DIV/0!"}},null,null,null,null,null,null,null,"上限バンド（＋２σ）",{"$f":"IF(KY4=0,\"wait\",AVERAGE(LA$169:LA$218)+2*_xlfn.STDEV.S(LA$169:LA$218))","v":{"$error":"#DIV/0!"}},null,null,null,null,null,null,null,"上限バンド（＋２σ）",{"$f":"IF(LH4=0,\"wait\",AVERAGE(LJ$169:LJ$218)+2*_xlfn.STDEV.S(LJ$169:LJ$218))","v":{"$error":"#DIV/0!"}},null,null,null,null,null,null,null,"上限バンド（＋２σ）",{"$f":"IF(LQ4=0,\"wait\",AVERAGE(LS$169:LS$218)+2*_xlfn.STDEV.S(LS$169:LS$218))","v":{"$error":"#DIV/0!"}},null,null,null,null,null,null,null,"上限バンド（＋２σ）",{"$f":"IF(LZ4=0,\"wait\",AVERAGE(MB$169:MB$218)+2*_xlfn.STDEV.S(MB$169:MB$218))","v":{"$error":"#DIV/0!"}},null,null,null,null,null,null,null,"上限バンド（＋２σ）",{"$f":"IF(MI4=0,\"wait\",AVERAGE(MK$169:MK$218)+2*_xlfn.STDEV.S(MK$169:MK$218))","v":{"$error":"#DIV/0!"}},null,null,null,null,null,null,null,"上限バンド（＋２σ）",{"$f":"IF(MR4=0,\"wait\",AVERAGE(MT$169:MT$218)+2*_xlfn.STDEV.S(MT$169:MT$218))","v":{"$error":"#DIV/0!"}},null,null,null,null,null,"上限バンド（＋２σ）",{"$f":"IF(MY4=0,\"wait\",AVERAGE(NA$169:NA$218)+2*_xlfn.STDEV.S(NA$169:NA$218))","v":{"$error":"#DIV/0!"}},null,null,null,null,null,null,null,"上限バンド（＋２σ）",{"$f":"IF(NH4=0,\"wait\",AVERAGE(NJ$169:NJ$218)+2*_xlfn.STDEV.S(NJ$169:NJ$218))","v":{"$error":"#DIV/0!"}},null,null,null,null,null,null,null,"上限バンド（＋２σ）",{"$f":"IF(NQ4=0,\"wait\",AVERAGE(NS$169:NS$218)+2*_xlfn.STDEV.S(NS$169:NS$218))","v":{"$error":"#DIV/0!"}},null,null,null,null,null,null,null,"上限バンド（＋２σ）",{"$f":"IF(NZ4=0,\"wait\",AVERAGE(OB$169:OB$218)+2*_xlfn.STDEV.S(OB$169:OB$218))","v":{"$error":"#DIV/0!"}},null,null,null,null,null,null,null,"上限バンド（＋２σ）",{"$f":"IF(OI4=0,\"wait\",AVERAGE(OK$169:OK$218)+2*_xlfn.STDEV.S(OK$169:OK$218))","v":{"$error":"#DIV/0!"}},null,null,null,null,null,null,null,"上限バンド（＋２σ）",{"$f":"IF(OR4=0,\"wait\",AVERAGE(OT$169:OT$218)+2*_xlfn.STDEV.S(OT$169:OT$218))","v":{"$error":"#DIV/0!"}},null,null,null,null,null,null,null,"上限バンド（＋２σ）",{"$f":"IF(PA4=0,\"wait\",AVERAGE(PC$169:PC$218)+2*_xlfn.STDEV.S(PC$169:PC$218))","v":{"$error":"#DIV/0!"}},null,null,null,null,null,null,null,"上限バンド（＋２σ）",{"$f":"IF(PJ4=0,\"wait\",AVERAGE(PL$169:PL$218)+2*_xlfn.STDEV.S(PL$169:PL$218))","v":{"$error":"#DIV/0!"}},null,null,null,null,null,null,null,"上限バンド（＋２σ）",{"$f":"IF(PS4=0,\"wait\",AVERAGE(PU$169:PU$218)+2*_xlfn.STDEV.S(PU$169:PU$218))","v":{"$error":"#DIV/0!"}},null,null,null,null,null,null,null,"上限バンド（＋２σ）",{"$f":"IF(QB4=0,\"wait\",AVERAGE(QD$169:QD$218)+2*_xlfn.STDEV.S(QD$169:QD$218))","v":{"$error":"#DIV/0!"}}]
[null,null,null,null,null,null,null,"STDEV.S",{"$f":"IF(E4=0,\"wait\",_xlfn.STDEV.S(G$169:G$218))","v":{"$error":"#DIV/0!"}},null,null,null,null,null,null,null,"STDEV.S",{"$f":"IF(N4=0,\"wait\",_xlfn.STDEV.S(P$169:P$218))","v":{"$error":"#DIV/0!"}},null,null,null,null,null,null,null,"STDEV.S",{"$f":"IF(W4=0,\"wait\",_xlfn.STDEV.S(Y$169:Y$218))","v":{"$error":"#DIV/0!"}},null,null,null,null,null,null,null,"STDEV.S",{"$f":"IF(AF4=0,\"wait\",_xlfn.STDEV.S(AH$169:AH$218))","v":{"$error":"#DIV/0!"}},null,null,null,null,null,null,null,"STDEV.S",{"$f":"IF(AO4=0,\"wait\",_xlfn.STDEV.S(AQ$169:AQ$218))","v":{"$error":"#DIV/0!"}},null,null,null,null,null,null,null,"STDEV.S",{"$f":"IF(AX4=0,\"wait\",_xlfn.STDEV.S(AZ$169:AZ$218))","v":{"$error":"#DIV/0!"}},null,null,null,null,null,null,null,"STDEV.S",{"$f":"IF(BG4=0,\"wait\",_xlfn.STDEV.S(BI$169:BI$218))","v":{"$error":"#DIV/0!"}},null,null,null,null,null,null,null,"STDEV.S",{"$f":"IF(BP4=0,\"wait\",_xlfn.STDEV.S(BR$169:BR$218))","v":{"$error":"#DIV/0!"}},null,null,null,null,null,null,null,"STDEV.S",{"$f":"IF(BY4=0,\"wait\",_xlfn.STDEV.S(CA$169:CA$218))","v":{"$error":"#DIV/0!"}},null,null,null,null,null,null,null,"STDEV.S",{"$f":"IF(CH4=0,\"wait\",_xlfn.STDEV.S(CJ$169:CJ$218))","v":{"$error":"#DIV/0!"}},null,null,null,null,null,null,null,"STDEV.S",{"$f":"IF(CQ4=0,\"wait\",_xlfn.STDEV.S(CS$169:CS$218))","v":{"$error":"#DIV/0!"}},null,null,null,null,null,null,null,"STDEV.S",{"$f":"IF(CZ4=0,\"wait\",_xlfn.STDEV.S(DB$169:DB$218))","v":{"$error":"#DIV/0!"}},null,null,null,null,null,null,null,"STDEV.S",{"$f":"IF(DI4=0,\"wait\",_xlfn.STDEV.S(DK$169:DK$218))","v":{"$error":"#DIV/0!"}},null,null,null,null,null,null,null,"STDEV.S",{"$f":"IF(DR4=0,\"wait\",_xlfn.STDEV.S(DT$169:DT$218))","v":{"$error":"#DIV/0!"}},null,null,null,null,null,null,null,"STDEV.S",{"$f":"IF(EA4=0,\"wait\",_xlfn.STDEV.S(EC$169:EC$218))","v":{"$error":"#DIV/0!"}},null,null,null,null,null,null,null,"STDEV.S",{"$f":"IF(EJ4=0,\"wait\",_xlfn.STDEV.S(EL$169:EL$218))","v":{"$error":"#DIV/0!"}},null,null,null,null,null,null,null,"STDEV.S",{"$f":"IF(ES4=0,\"wait\",_xlfn.STDEV.S(EU$169:EU$218))","v":{"$error":"#DIV/0!"}},null,null,null,null,null,null,null,"STDEV.S",{"$f":"IF(FB4=0,\"wait\",_xlfn.STDEV.S(FD$169:FD$218))","v":{"$error":"#DIV/0!"}},null,null,null,null,null,null,null,"STDEV.S",{"$f":"IF(FK4=0,\"wait\",_xlfn.STDEV.S(FM$169:FM$218))","v":{"$error":"#DIV/0!"}},null,null,null,null,null,null,null,"STDEV.S",{"$f":"IF(FT4=0,\"wait\",_xlfn.STDEV.S(FV$169:FV$218))","v":{"$error":"#DIV/0!"}},null,null,null,null,null,null,null,"STDEV.S",{"$f":"IF(GC4=0,\"wait\",_xlfn.STDEV.S(GE$169:GE$218))","v":{"$error":"#DIV/0!"}},null,null,null,null,null,null,null,"STDEV.S",{"$f":"IF(GL4=0,\"wait\",_xlfn.STDEV.S(GN$169:GN$218))","v":{"$error":"#DIV/0!"}},null,null,null,null,null,null,null,"STDEV.S",{"$f":"IF(GU4=0,\"wait\",_xlfn.STDEV.S(GW$169:GW$218))","v":{"$error":"#DIV/0!"}},null,null,null,null,null,null,null,"STDEV.S",{"$f":"IF(HD4=0,\"wait\",_xlfn.STDEV.S(HF$169:HF$218))","v":{"$error":"#DIV/0!"}},null,null,null,null,null,null,null,"STDEV.S",{"$f":"IF(HM4=0,\"wait\",_xlfn.STDEV.S(HO$169:HO$218))","v":{"$error":"#DIV/0!"}},null,null,null,null,null,null,null,"STDEV.S",{"$f":"IF(HV4=0,\"wait\",_xlfn.STDEV.S(HX$169:HX$218))","v":{"$error":"#DIV/0!"}},null,null,null,null,null,null,null,"STDEV.S",{"$f":"IF(IE4=0,\"wait\",_xlfn.STDEV.S(IG$169:IG$218))","v":{"$error":"#DIV/0!"}},null,null,null,null,null,null,null,"STDEV.S",{"$f":"IF(IN4=0,\"wait\",_xlfn.STDEV.S(IP$169:IP$218))","v":{"$error":"#DIV/0!"}},null,null,null,null,null,null,null,"STDEV.S",{"$f":"IF(IW4=0,\"wait\",_xlfn.STDEV.S(IY$169:IY$218))","v":{"$error":"#DIV/0!"}},null,null,null,null,null,null,null,"STDEV.S",{"$f":"IF(JF4=0,\"wait\",_xlfn.STDEV.S(JH$169:JH$218))","v":{"$error":"#DIV/0!"}},null,null,null,null,null,null,null,"STDEV.S",{"$f":"IF(JO4=0,\"wait\",_xlfn.STDEV.S(JQ$169:JQ$218))","v":{"$error":"#DIV/0!"}},null,null,null,null,null,null,null,"STDEV.S",{"$f":"IF(JX4=0,\"wait\",_xlfn.STDEV.S(JZ$169:JZ$218))","v":{"$error":"#DIV/0!"}},null,null,null,null,null,null,null,"STDEV.S",{"$f":"IF(KG4=0,\"wait\",_xlfn.STDEV.S(KI$169:KI$218))","v":{"$error":"#DIV/0!"}},null,null,null,null,null,null,null,"STDEV.S",{"$f":"IF(KP4=0,\"wait\",_xlfn.STDEV.S(KR$169:KR$218))","v":{"$error":"#DIV/0!"}},null,null,null,null,null,null,null,"STDEV.S",{"$f":"IF(KY4=0,\"wait\",_xlfn.STDEV.S(LA$169:LA$218))","v":{"$error":"#DIV/0!"}},null,null,null,null,null,null,null,"STDEV.S",{"$f":"IF(LH4=0,\"wait\",_xlfn.STDEV.S(LJ$169:LJ$218))","v":{"$error":"#DIV/0!"}},null,null,null,null,null,null,null,"STDEV.S",{"$f":"IF(LQ4=0,\"wait\",_xlfn.STDEV.S(LS$169:LS$218))","v":{"$error":"#DIV/0!"}},null,null,null,null,null,null,null,"STDEV.S",{"$f":"IF(LZ4=0,\"wait\",_xlfn.STDEV.S(MB$169:MB$218))","v":{"$error":"#DIV/0!"}},null,null,null,null,null,null,null,"STDEV.S",{"$f":"IF(MI4=0,\"wait\",_xlfn.STDEV.S(MK$169:MK$218))","v":{"$error":"#DIV/0!"}},null,null,null,null,null,null,null,"STDEV.S",{"$f":"IF(MR4=0,\"wait\",_xlfn.STDEV.S(MT$169:MT$218))","v":{"$error":"#DIV/0!"}},null,null,null,null,null,"STDEV.S",{"$f":"IF(MY4=0,\"wait\",_xlfn.STDEV.S(NA$169:NA$218))","v":{"$error":"#DIV/0!"}},null,null,null,null,null,null,null,"STDEV.S",{"$f":"IF(NH4=0,\"wait\",_xlfn.STDEV.S(NJ$169:NJ$218))","v":{"$error":"#DIV/0!"}},null,null,null,null,null,null,null,"STDEV.S",{"$f":"IF(NQ4=0,\"wait\",_xlfn.STDEV.S(NS$169:NS$218))","v":{"$error":"#DIV/0!"}},null,null,null,null,null,null,null,"STDEV.S",{"$f":"IF(NZ4=0,\"wait\",_xlfn.STDEV.S(OB$169:OB$218))","v":{"$error":"#DIV/0!"}},null,null,null,null,null,null,null,"STDEV.S",{"$f":"IF(OI4=0,\"wait\",_xlfn.STDEV.S(OK$169:OK$218))","v":{"$error":"#DIV/0!"}},null,null,null,null,null,null,null,"STDEV.S",{"$f":"IF(OR4=0,\"wait\",_xlfn.STDEV.S(OT$169:OT$218))","v":{"$error":"#DIV/0!"}},null,null,null,null,null,null,null,"STDEV.S",{"$f":"IF(PA4=0,\"wait\",_xlfn.STDEV.S(PC$169:PC$218))","v":{"$error":"#DIV/0!"}},null,null,null,null,null,null,null,"STDEV.S",{"$f":"IF(PJ4=0,\"wait\",_xlfn.STDEV.S(PL$169:PL$218))","v":{"$error":"#DIV/0!"}},null,null,null,null,null,null,null,"STDEV.S",{"$f":"IF(PS4=0,\"wait\",_xlfn.STDEV.S(PU$169:PU$218))","v":{"$error":"#DIV/0!"}},null,null,null,null,null,null,null,"STDEV.S",{"$f":"IF(QB4=0,\"wait\",_xlfn.STDEV.S(QD$169:QD$218))","v":{"$error":"#DIV/0!"}}]
[null,null,null,null,null,null,null,"下限バンド（－２σ）",{"$f":"IF(E4=0,\"wait\",AVERAGE(G$169:G$218)-2*_xlfn.STDEV.S(G$169:G$218))","v":{"$error":"#DIV/0!"}},null,null,null,null,null,null,null,"下限バンド（－２σ）",{"$f":"IF(N4=0,\"wait\",AVERAGE(P$169:P$218)-2*_xlfn.STDEV.S(P$169:P$218))","v":{"$error":"#DIV/0!"}},null,null,null,null,null,null,null,"下限バンド（－２σ）",{"$f":"IF(W4=0,\"wait\",AVERAGE(Y$169:Y$218)-2*_xlfn.STDEV.S(Y$169:Y$218))","v":{"$error":"#DIV/0!"}},null,null,null,null,null,null,null,"下限バンド（－２σ）",{"$f":"IF(AF4=0,\"wait\",AVERAGE(AH$169:AH$218)-2*_xlfn.STDEV.S(AH$169:AH$218))","v":{"$error":"#DIV/0!"}},null,null,null,null,null,null,null,"下限バンド（－２σ）",{"$f":"IF(AO4=0,\"wait\",AVERAGE(AQ$169:AQ$218)-2*_xlfn.STDEV.S(AQ$169:AQ$218))","v":{"$error":"#DIV/0!"}},null,null,null,null,null,null,null,"下限バンド（－２σ）",{"$f":"IF(AX4=0,\"wait\",AVERAGE(AZ$169:AZ$218)-2*_xlfn.STDEV.S(AZ$169:AZ$218))","v":{"$error":"#DIV/0!"}},null,null,null,null,null,null,null,"下限バンド（－２σ）",{"$f":"IF(BG4=0,\"wait\",AVERAGE(BI$169:BI$218)-2*_xlfn.STDEV.S(BI$169:BI$218))","v":{"$error":"#DIV/0!"}},null,null,null,null,null,null,null,"下限バンド（－２σ）",{"$f":"IF(BP4=0,\"wait\",AVERAGE(BR$169:BR$218)-2*_xlfn.STDEV.S(BR$169:BR$218))","v":{"$error":"#DIV/0!"}},null,null,null,null,null,null,null,"下限バンド（－２σ）",{"$f":"IF(BY4=0,\"wait\",AVERAGE(CA$169:CA$218)-2*_xlfn.STDEV.S(CA$169:CA$218))","v":{"$error":"#DIV/0!"}},null,null,null,null,null,null,null,"下限バンド（－２σ）",{"$f":"IF(CH4=0,\"wait\",AVERAGE(CJ$169:CJ$218)-2*_xlfn.STDEV.S(CJ$169:CJ$218))","v":{"$error":"#DIV/0!"}},null,null,null,null,null,null,null,"下限バンド（－２σ）",{"$f":"IF(CQ4=0,\"wait\",AVERAGE(CS$169:CS$218)-2*_xlfn.STDEV.S(CS$169:CS$218))","v":{"$error":"#DIV/0!"}},null,null,null,null,null,null,null,"下限バンド（－２σ）",{"$f":"IF(CZ4=0,\"wait\",AVERAGE(DB$169:DB$218)-2*_xlfn.STDEV.S(DB$169:DB$218))","v":{"$error":"#DIV/0!"}},null,null,null,null,null,null,null,"下限バンド（－２σ）",{"$f":"IF(DI4=0,\"wait\",AVERAGE(DK$169:DK$218)-2*_xlfn.STDEV.S(DK$169:DK$218))","v":{"$error":"#DIV/0!"}},null,null,null,null,null,null,null,"下限バンド（－２σ）",{"$f":"IF(DR4=0,\"wait\",AVERAGE(DT$169:DT$218)-2*_xlfn.STDEV.S(DT$169:DT$218))","v":{"$error":"#DIV/0!"}},null,null,null,null,null,null,null,"下限バンド（－２σ）",{"$f":"IF(EA4=0,\"wait\",AVERAGE(EC$169:EC$218)-2*_xlfn.STDEV.S(EC$169:EC$218))","v":{"$error":"#DIV/0!"}},null,null,null,null,null,null,null,"下限バンド（－２σ）",{"$f":"IF(EJ4=0,\"wait\",AVERAGE(EL$169:EL$218)-2*_xlfn.STDEV.S(EL$169:EL$218))","v":{"$error":"#DIV/0!"}},null,null,null,null,null,null,null,"下限バンド（－２σ）",{"$f":"IF(ES4=0,\"wait\",AVERAGE(EU$169:EU$218)-2*_xlfn.STDEV.S(EU$169:EU$218))","v":{"$error":"#DIV/0!"}},null,null,null,null,null,null,null,"下限バンド（－２σ）",{"$f":"IF(FB4=0,\"wait\",AVERAGE(FD$169:FD$218)-2*_xlfn.STDEV.S(FD$169:FD$218))","v":{"$error":"#DIV/0!"}},null,null,null,null,null,null,null,"下限バンド（－２σ）",{"$f":"IF(FK4=0,\"wait\",AVERAGE(FM$169:FM$218)-2*_xlfn.STDEV.S(FM$169:FM$218))","v":{"$error":"#DIV/0!"}},null,null,null,null,null,null,null,"下限バンド（－２σ）",{"$f":"IF(FT4=0,\"wait\",AVERAGE(FV$169:FV$218)-2*_xlfn.STDEV.S(FV$169:FV$218))","v":{"$error":"#DIV/0!"}},null,null,null,null,null,null,null,"下限バンド（－２σ）",{"$f":"IF(GC4=0,\"wait\",AVERAGE(GE$169:GE$218)-2*_xlfn.STDEV.S(GE$169:GE$218))","v":{"$error":"#DIV/0!"}},null,null,null,null,null,null,null,"下限バンド（－２σ）",{"$f":"IF(GL4=0,\"wait\",AVERAGE(GN$169:GN$218)-2*_xlfn.STDEV.S(GN$169:GN$218))","v":{"$error":"#DIV/0!"}},null,null,null,null,null,null,null,"下限バンド（－２σ）",{"$f":"IF(GU4=0,\"wait\",AVERAGE(GW$169:GW$218)-2*_xlfn.STDEV.S(GW$169:GW$218))","v":{"$error":"#DIV/0!"}},null,null,null,null,null,null,null,"下限バンド（－２σ）",{"$f":"IF(HD4=0,\"wait\",AVERAGE(HF$169:HF$218)-2*_xlfn.STDEV.S(HF$169:HF$218))","v":{"$error":"#DIV/0!"}},null,null,null,null,null,null,null,"下限バンド（－２σ）",{"$f":"IF(HM4=0,\"wait\",AVERAGE(HO$169:HO$218)-2*_xlfn.STDEV.S(HO$169:HO$218))","v":{"$error":"#DIV/0!"}},null,null,null,null,null,null,null,"下限バンド（－２σ）",{"$f":"IF(HV4=0,\"wait\",AVERAGE(HX$169:HX$218)-2*_xlfn.STDEV.S(HX$169:HX$218))","v":{"$error":"#DIV/0!"}},null,null,null,null,null,null,null,"下限バンド（－２σ）",{"$f":"IF(IE4=0,\"wait\",AVERAGE(IG$169:IG$218)-2*_xlfn.STDEV.S(IG$169:IG$218))","v":{"$error":"#DIV/0!"}},null,null,null,null,null,null,null,"下限バンド（－２σ）",{"$f":"IF(IN4=0,\"wait\",AVERAGE(IP$169:IP$218)-2*_xlfn.STDEV.S(IP$169:IP$218))","v":{"$error":"#DIV/0!"}},null,null,null,null,null,null,null,"下限バンド（－２σ）",{"$f":"IF(IW4=0,\"wait\",AVERAGE(IY$169:IY$218)-2*_xlfn.STDEV.S(IY$169:IY$218))","v":{"$error":"#DIV/0!"}},null,null,null,null,null,null,null,"下限バンド（－２σ）",{"$f":"IF(JF4=0,\"wait\",AVERAGE(JH$169:JH$218)-2*_xlfn.STDEV.S(JH$169:JH$218))","v":{"$error":"#DIV/0!"}},null,null,null,null,null,null,null,"下限バンド（－２σ）",{"$f":"IF(JO4=0,\"wait\",AVERAGE(JQ$169:JQ$218)-2*_xlfn.STDEV.S(JQ$169:JQ$218))","v":{"$error":"#DIV/0!"}},null,null,null,null,null,null,null,"下限バンド（－２σ）",{"$f":"IF(JX4=0,\"wait\",AVERAGE(JZ$169:JZ$218)-2*_xlfn.STDEV.S(JZ$169:JZ$218))","v":{"$error":"#DIV/0!"}},null,null,null,null,null,null,null,"下限バンド（－２σ）",{"$f":"IF(KG4=0,\"wait\",AVERAGE(KI$169:KI$218)-2*_xlfn.STDEV.S(KI$169:KI$218))","v":{"$error":"#DIV/0!"}},null,null,null,null,null,null,null,"下限バンド（－２σ）",{"$f":"IF(KP4=0,\"wait\",AVERAGE(KR$169:KR$218)-2*_xlfn.STDEV.S(KR$169:KR$218))","v":{"$error":"#DIV/0!"}},null,null,null,null,null,null,null,"下限バンド（－２σ）",{"$f":"IF(KY4=0,\"wait\",AVERAGE(LA$169:LA$218)-2*_xlfn.STDEV.S(LA$169:LA$218))","v":{"$error":"#DIV/0!"}},null,null,null,null,null,null,null,"下限バンド（－２σ）",{"$f":"IF(LH4=0,\"wait\",AVERAGE(LJ$169:LJ$218)-2*_xlfn.STDEV.S(LJ$169:LJ$218))","v":{"$error":"#DIV/0!"}},null,null,null,null,null,null,null,"下限バンド（－２σ）",{"$f":"IF(LQ4=0,\"wait\",AVERAGE(LS$169:LS$218)-2*_xlfn.STDEV.S(LS$169:LS$218))","v":{"$error":"#DIV/0!"}},null,null,null,null,null,null,null,"下限バンド（－２σ）",{"$f":"IF(LZ4=0,\"wait\",AVERAGE(MB$169:MB$218)-2*_xlfn.STDEV.S(MB$169:MB$218))","v":{"$error":"#DIV/0!"}},null,null,null,null,null,null,null,"下限バンド（－２σ）",{"$f":"IF(MI4=0,\"wait\",AVERAGE(MK$169:MK$218)-2*_xlfn.STDEV.S(MK$169:MK$218))","v":{"$error":"#DIV/0!"}},null,null,null,null,null,null,null,"下限バンド（－２σ）",{"$f":"IF(MR4=0,\"wait\",AVERAGE(MT$169:MT$218)-2*_xlfn.STDEV.S(MT$169:MT$218))","v":{"$error":"#DIV/0!"}},null,null,null,null,null,"下限バンド（－２σ）",{"$f":"IF(MY4=0,\"wait\",AVERAGE(NA$169:NA$218)-2*_xlfn.STDEV.S(NA$169:NA$218))","v":{"$error":"#DIV/0!"}},null,null,null,null,null,null,null,"下限バンド（－２σ）",{"$f":"IF(NH4=0,\"wait\",AVERAGE(NJ$169:NJ$218)-2*_xlfn.STDEV.S(NJ$169:NJ$218))","v":{"$error":"#DIV/0!"}},null,null,null,null,null,null,null,"下限バンド（－２σ）",{"$f":"IF(NQ4=0,\"wait\",AVERAGE(NS$169:NS$218)-2*_xlfn.STDEV.S(NS$169:NS$218))","v":{"$error":"#DIV/0!"}},null,null,null,null,null,null,null,"下限バンド（－２σ）",{"$f":"IF(NZ4=0,\"wait\",AVERAGE(OB$169:OB$218)-2*_xlfn.STDEV.S(OB$169:OB$218))","v":{"$error":"#DIV/0!"}},null,null,null,null,null,null,null,"下限バンド（－２σ）",{"$f":"IF(OI4=0,\"wait\",AVERAGE(OK$169:OK$218)-2*_xlfn.STDEV.S(OK$169:OK$218))","v":{"$error":"#DIV/0!"}},null,null,null,null,null,null,null,"下限バンド（－２σ）",{"$f":"IF(OR4=0,\"wait\",AVERAGE(OT$169:OT$218)-2*_xlfn.STDEV.S(OT$169:OT$218))","v":{"$error":"#DIV/0!"}},null,null,null,null,null,null,null,"下限バンド（－２σ）",{"$f":"IF(PA4=0,\"wait\",AVERAGE(PC$169:PC$218)-2*_xlfn.STDEV.S(PC$169:PC$218))","v":{"$error":"#DIV/0!"}},null,null,null,null,null,null,null,"下限バンド（－２σ）",{"$f":"IF(PJ4=0,\"wait\",AVERAGE(PL$169:PL$218)-2*_xlfn.STDEV.S(PL$169:PL$218))","v":{"$error":"#DIV/0!"}},null,null,null,null,null,null,null,"下限バンド（－２σ）",{"$f":"IF(PS4=0,\"wait\",AVERAGE(PU$169:PU$218)-2*_xlfn.STDEV.S(PU$169:PU$218))","v":{"$error":"#DIV/0!"}},null,null,null,null,null,null,null,"下限バンド（－２σ）",{"$f":"IF(QB4=0,\"wait\",AVERAGE(QD$169:QD$218)-2*_xlfn.STDEV.S(QD$169:QD$218))","v":{"$error":"#DIV/0!"}}]
["起動フラグ　（１以外は停止）"]
[0,null,null,null,null,{"$f":"IF($A$16=1,_xll.SNT.StockHist(TRUE,E4,\"1D\",201,\"日時@終値\"),\"wait\")","v":"wait"},null,null,null,null,null,null,null,null,{"$f":"IF($A$16=1,_xll.SNT.StockHist(TRUE,N4,\"1D\",201,\"日時@終値\"),\"wait\")","v":"wait"},null,null,null,null,null,null,null,null,{"$f":"IF($A$16=1,_xll.SNT.StockHist(TRUE,W4,\"1D\",201,\"日時@終値\"),\"wait\")","v":"wait"},null,null,null,null,null,null,null,null,{"$f":"IF($A$16=1,_xll.SNT.StockHist(TRUE,AF4,\"1D\",201,\"日時@終値\"),\"wait\")","v":"wait"},null,null,null,null,null,null,null,null,{"$f":"IF($A$16=1,_xll.SNT.StockHist(TRUE,AO4,\"1D\",201,\"日時@終値\"),\"wait\")","v":"wait"},null,null,null,null,null,null,null,null,{"$f":"IF($A$16=1,_xll.SNT.StockHist(TRUE,AX4,\"1D\",201,\"日時@終値\"),\"wait\")","v":"wait"},null,null,null,null,null,null,null,null,{"$f":"IF($A$16=1,_xll.SNT.StockHist(TRUE,BG4,\"1D\",201,\"日時@終値\"),\"wait\")","v":"wait"},null,null,null,null,null,null,null,null,{"$f":"IF($A$16=1,_xll.SNT.StockHist(TRUE,BP4,\"1D\",201,\"日時@終値\"),\"wait\")","v":"wait"},null,null,null,null,null,null,null,null,{"$f":"IF($A$16=1,_xll.SNT.StockHist(TRUE,BY4,\"1D\",201,\"日時@終値\"),\"wait\")","v":"wait"},null,null,null,null,null,null,null,null,{"$f":"IF($A$16=1,_xll.SNT.StockHist(TRUE,CH4,\"1D\",201,\"日時@終値\"),\"wait\")","v":"wait"},null,null,null,null,null,null,null,null,{"$f":"IF($A$16=1,_xll.SNT.StockHist(TRUE,CQ4,\"1D\",201,\"日時@終値\"),\"wait\")","v":"wait"},null,null,null,null,null,null,null,null,{"$f":"IF($A$16=1,_xll.SNT.StockHist(TRUE,CZ4,\"1D\",201,\"日時@終値\"),\"wait\")","v":"wait"},null,null,null,null,null,null,null,null,{"$f":"IF($A$16=1,_xll.SNT.StockHist(TRUE,DI4,\"1D\",201,\"日時@終値\"),\"wait\")","v":"wait"},null,null,null,null,null,null,null,null,{"$f":"IF($A$16=1,_xll.SNT.StockHist(TRUE,DR4,\"1D\",201,\"日時@終値\"),\"wait\")","v":"wait"},null,null,null,null,null,null,null,null,{"$f":"IF($A$16=1,_xll.SNT.StockHist(TRUE,EA4,\"1D\",201,\"日時@終値\"),\"wait\")","v":"wait"},null,null,null,null,null,null,null,null,{"$f":"IF($A$16=1,_xll.SNT.StockHist(TRUE,EJ4,\"1D\",201,\"日時@終値\"),\"wait\")","v":"wait"},null,null,null,null,null,null,null,null,{"$f":"IF($A$16=1,_xll.SNT.StockHist(TRUE,ES4,\"1D\",201,\"日時@終値\"),\"wait\")","v":"wait"},null,null,null,null,null,null,null,null,{"$f":"IF($A$16=1,_xll.SNT.StockHist(TRUE,FB4,\"1D\",201,\"日時@終値\"),\"wait\")","v":"wait"},null,null,null,null,null,null,null,null,{"$f":"IF($A$16=1,_xll.SNT.StockHist(TRUE,FK4,\"1D\",201,\"日時@終値\"),\"wait\")","v":"wait"},null,null,null,null,null,null,null,null,{"$f":"IF($A$16=1,_xll.SNT.StockHist(TRUE,FT4,\"1D\",201,\"日時@終値\"),\"wait\")","v":"wait"},null,null,null,null,null,null,null,null,{"$f":"IF($A$16=1,_xll.SNT.StockHist(TRUE,GC4,\"1D\",201,\"日時@終値\"),\"wait\")","v":"wait"},null,null,null,null,null,null,null,null,{"$f":"IF($A$16=1,_xll.SNT.StockHist(TRUE,GL4,\"1D\",201,\"日時@終値\"),\"wait\")","v":"wait"},null,null,null,null,null,null,null,null,{"$f":"IF($A$16=1,_xll.SNT.StockHist(TRUE,GU4,\"1D\",201,\"日時@終値\"),\"wait\")","v":"wait"},null,null,null,null,null,null,null,null,{"$f":"IF($A$16=1,_xll.SNT.StockHist(TRUE,HD4,\"1D\",201,\"日時@終値\"),\"wait\")","v":"wait"},null,null,null,null,null,null,null,null,{"$f":"IF($A$16=1,_xll.SNT.StockHist(TRUE,HM4,\"1D\",201,\"日時@終値\"),\"wait\")","v":"wait"},null,null,null,null,null,null,null,null,{"$f":"IF($A$16=1,_xll.SNT.StockHist(TRUE,HV4,\"1D\",201,\"日時@終値\"),\"wait\")","v":"wait"},null,null,null,null,null,null,null,null,{"$f":"IF($A$16=1,_xll.SNT.StockHist(TRUE,IE4,\"1D\",201,\"日時@終値\"),\"wait\")","v":"wait"},null,null,null,null,null,null,null,null,{"$f":"IF($A$16=1,_xll.SNT.StockHist(TRUE,IN4,\"1D\",201,\"日時@終値\"),\"wait\")","v":"wait"},null,null,null,null,null,null,null,null,{"$f":"IF($A$16=1,_xll.SNT.StockHist(TRUE,IW4,\"1D\",201,\"日時@終値\"),\"wait\")","v":"wait"},null,null,null,null,null,null,null,null,{"$f":"IF($A$16=1,_xll.SNT.StockHist(TRUE,JF4,\"1D\",201,\"日時@終値\"),\"wait\")","v":"wait"},null,null,null,null,null,null,null,null,{"$f":"IF($A$16=1,_xll.SNT.StockHist(TRUE,JO4,\"1D\",201,\"日時@終値\"),\"wait\")","v":"wait"},null,null,null,null,null,null,null,null,{"$f":"IF($A$16=1,_xll.SNT.StockHist(TRUE,JX4,\"1D\",201,\"日時@終値\"),\"wait\")","v":"wait"},null,null,null,null,null,null,null,null,{"$f":"IF($A$16=1,_xll.SNT.StockHist(TRUE,KG4,\"1D\",201,\"日時@終値\"),\"wait\")","v":"wait"},null,null,null,null,null,null,null,null,{"$f":"IF($A$16=1,_xll.SNT.StockHist(TRUE,KP4,\"1D\",201,\"日時@終値\"),\"wait\")","v":"wait"},null,null,null,null,null,null,null,null,{"$f":"IF($A$16=1,_xll.SNT.StockHist(TRUE,KY4,\"1D\",201,\"日時@終値\"),\"wait\")","v":"wait"},null,null,null,null,null,null,null,null,{"$f":"IF($A$16=1,_xll.SNT.StockHist(TRUE,LH4,\"1D\",201,\"日時@終値\"),\"wait\")","v":"wait"},null,null,null,null,null,null,null,null,{"$f":"IF($A$16=1,_xll.SNT.StockHist(TRUE,LQ4,\"1D\",201,\"日時@終値\"),\"wait\")","v":"wait"},null,null,null,null,null,null,null,null,{"$f":"IF($A$16=1,_xll.SNT.StockHist(TRUE,LZ4,\"1D\",201,\"日時@終値\"),\"wait\")","v":"wait"},null,null,null,null,null,null,null,null,{"$f":"IF($A$16=1,_xll.SNT.StockHist(TRUE,MI4,\"1D\",201,\"日時@終値\"),\"wait\")","v":"wait"},null,null,null,null,null,null,null,null,{"$f":"IF($A$16=1,_xll.SNT.StockHist(TRUE,MR4,\"1D\",201,\"日時@終値\"),\"wait\")","v":"wait"},null,null,null,null,null,null,{"$f":"IF($A$16=1,_xll.SNT.StockHist(TRUE,MY4,\"1D\",201,\"日時@終値\"),\"wait\")","v":"wait"},null,null,null,null,null,null,null,null,{"$f":"IF($A$16=1,_xll.SNT.StockHist(TRUE,NH4,\"1D\",201,\"日時@終値\"),\"wait\")","v":"wait"},null,null,null,null,null,null,null,null,{"$f":"IF($A$16=1,_xll.SNT.StockHist(TRUE,NQ4,\"1D\",201,\"日時@終値\"),\"wait\")","v":"wait"},null,null,null,null,null,null,null,null,{"$f":"IF($A$16=1,_xll.SNT.StockHist(TRUE,NZ4,\"1D\",201,\"日時@終値\"),\"wait\")","v":"wait"},null,null,null,null,null,null,null,null,{"$f":"IF($A$16=1,_xll.SNT.StockHist(TRUE,OI4,\"1D\",201,\"日時@終値\"),\"wait\")","v":"wait"},null,null,null,null,null,null,null,null,{"$f":"IF($A$16=1,_xll.SNT.StockHist(TRUE,OR4,\"1D\",201,\"日時@終値\"),\"wait\")","v":"wait"},null,null,null,null,null,null,null,null,{"$f":"IF($A$16=1,_xll.SNT.StockHist(TRUE,PA4,\"1D\",201,\"日時@終値\"),\"wait\")","v":"wait"},null,null,null,null,null,null,null,null,{"$f":"IF($A$16=1,_xll.SNT.StockHist(TRUE,PJ4,\"1D\",201,\"日時@終値\"),\"wait\")","v":"wait"},null,null,null,null,null,null,null,null,{"$f":"IF($A$16=1,_xll.SNT.StockHist(TRUE,PS4,\"1D\",201,\"日時@終値\"),\"wait\")","v":"wait"},null,null,null,null,null,null,null,null,{"$f":"IF($A$16=1,_xll.SNT.StockHist(TRUE,QB4,\"1D\",201,\"日時@終値\"),\"wait\")","v":"wait"}]
[null,null,null,null,null,"日時","終値","差",null,null,null,null,null,null,"日時","終値","差",null,null,null,null,null,null,"日時","終値","差",null,null,null,null,null,null,"日時","終値","差",null,null,null,null,null,null,"日時","終値","差",null,null,null,null,null,null,"日時","終値","差",null,null,null,null,null,null,"日時","終値","差",null,null,null,null,null,null,"日時","終値","差",null,null,null,null,null,null,"日時","終値","差",null,null,null,null,null,null,"日時","終値","差",null,null,null,null,null,null,"日時","終値","差",null,null,null,null,null,null,"日時","終値","差",null,null,null,null,null,null,"日時","終値","差",null,null,null,null,null,null,"日時","終値","差",null,null,null,null,null,null,"日時","終値","差",null,null,null,null,null,null,"日時","終値","差",null,null,null,null,null,null,"日時","終値","差",null,null,null,null,null,null,"日時","終値","差",null,null,null,null,null,null,"日時","終値","差",null,null,null,null,null,null,"日時","終値","差",null,null,null,null,null,null,"日時","終値","差",null,null,null,null,null,null,"日時","終値","差",null,null,null,null,null,null,"日時","終値","差",null,null,null,null,null,null,"日時","終値","差",null,null,null,null,null,null,"日時","終値","差",null,null,null,null,null,null,"日時","終値","差",null,null,null,null,null,null,"日時","終値","差",null,null,null,null,null,null,"日時","終値","差",null,null,null,null,null,null,"日時","終値","差",null,null,null,null,null,null,"日時","終値","差",null,null,null,null,null,null,"日時","終値","差",null,null,null,null,null,null,"日時","終値","差",null,null,null,null,null,null,"日時","終値","差",null,null,null,null,null,null,"日時","終値","差",null,null,null,null,null,null,"日時","終値","差",null,null,null,null,null,null,"日時","終値","差",null,null,null,null,null,null,"日時","終値","差",null,null,null,null,null,null,"日時","終値","差",null,null,null,null,null,null,"日時","終値","差",null,null,null,null,null,null,"日時","終値","差",null,null,null,null,"日時","終値","差",null,null,null,null,null,null,"日時","終値","差",null,null,null,null,null,null,"日時","終値","差",null,null,null,null,null,null,"日時","終値","差",null,null,null,null,null,null,"日時","終値","差",null,null,null,null,null,null,"日時","終値","差",null,null,null,null,null,null,"日時","終値","差",null,null,null,null,null,null,"日時","終値","差",null,null,null,null,null,null,"日時","終値","差",null,null,null,null,null,null,"日時","終値","差"]
[null,null,null,201,{"$f":"MID(F18,6,5)","v":""},null,null,null,null,null,null,null,201,{"$f":"MID(O18,6,5)","v":""},null,null,null,null,null,null,null,201,{"$f":"MID(X18,6,5)","v":""},null,null,null,null,null,null,null,201,{"$f":"MID(AG18,6,5)","v":""},null,null,null,null,null,null,null,201,{"$f":"MID(AP18,6,5)","v":""},null,null,null,null,null,null,null,201,{"$f":"MID(AY18,6,5)","v":""},null,null,null,null,null,null,null,201,{"$f":"MID(BH18,6,5)","v":""},null,null,null,null,null,null,null,201,{"$f":"MID(BQ18,6,5)","v":""},null,null,null,null,null,null,null,201,{"$f":"MID(BZ18,6,5)","v":""},null,null,null,null,null,null,null,201,{"$f":"MID(CI18,6,5)","v":""},null,null,null,null,null,null,null,201,{"$f":"MID(CR18,6,5)","v":""},null,null,null,null,null,null,null,201,{"$f":"MID(DA18,6,5)","v":""},null,null,null,null,null,null,null,201,{"$f":"MID(DJ18,6,5)","v":""},null,null,null,null,null,null,null,201,{"$f":"MID(DS18,6,5)","v":""},null,null,null,null,null,null,null,201,{"$f":"MID(EB18,6,5)","v":""},null,null,null,null,null,null,null,201,{"$f":"MID(EK18,6,5)","v":""},null,null,null,null,null,null,null,201,{"$f":"MID(ET18,6,5)","v":""},null,null,null,null,null,null,null,201,{"$f":"MID(FC18,6,5)","v":""},null,null,null,null,null,null,null,201,{"$f":"MID(FL18,6,5)","v":""},null,null,null,null,null,null,null,201,{"$f":"MID(FU18,6,5)","v":""},null,null,null,null,null,null,null,201,{"$f":"MID(GD18,6,5)","v":""},null,null,null,null,null,null,null,201,{"$f":"MID(GM18,6,5)","v":""},null,null,null,null,null,null,null,201,{"$f":"MID(GV18,6,5)","v":""},null,null,null,null,null,null,null,201,{"$f":"MID(HE18,6,5)","v":""},null,null,null,null,null,null,null,201,{"$f":"MID(HN18,6,5)","v":""},null,null,null,null,null,null,null,201,{"$f":"MID(HW18,6,5)","v":""},null,null,null,null,null,null,null,201,{"$f":"MID(IF18,6,5)","v":""},null,null,null,null,null,null,null,201,{"$f":"MID(IO18,6,5)","v":""},null,null,null,null,null,null,null,201,{"$f":"MID(IX18,6,5)","v":""},null,null,null,null,null,null,null,201,{"$f":"MID(JG18,6,5)","v":""},null,null,null,null,null,null,null,201,{"$f":"MID(JP18,6,5)","v":""},null,null,null,null,null,null,null,201,{"$f":"MID(JY18,6,5)","v":""},null,null,null,null,null,null,null,201,{"$f":"MID(KH18,6,5)","v":""},null,null,null,null,null,null,null,201,{"$f":"MID(KQ18,6,5)","v":""},null,null,null,null,null,null,null,201,{"$f":"MID(KZ18,6,5)","v":""},null,null,null,null,null,null,null,201,{"$f":"MID(LI18,6,5)","v":""},null,null,null,null,null,null,null,201,{"$f":"MID(LR18,6,5)","v":""},null,null,null,null,null,null,null,201,{"$f":"MID(MA18,6,5)","v":""},null,null,null,null,null,null,null,201,{"$f":"MID(MJ18,6,5)","v":""},null,null,null,null,null,null,null,201,{"$f":"MID(MS18,6,5)","v":""},null,null,null,null,null,201,{"$f":"MID(MZ18,6,5)","v":""},null,null,null,null,null,null,null,201,{"$f":"MID(NI18,6,5)","v":""},null,null,null,null,null,null,null,201,{"$f":"MID(NR18,6,5)","v":""},null,null,null,null,null,null,null,201,{"$f":"MID(OA18,6,5)","v":""},null,null,null,null,null,null,null,201,{"$f":"MID(OJ18,6,5)","v":""},null,null,null,null,null,null,null,201,{"$f":"MID(OS18,6,5)","v":""},null,null,null,null,null,null,null,201,{"$f":"MID(PB18,6,5)","v":""},null,null,null,null,null,null,null,201,{"$f":"MID(PK18,6,5)","v":""},null,null,null,null,null,null,null,201,{"$f":"MID(PT18,6,5)","v":""},null,null,null,null,null,null,null,201,{"$f":"MID(QC18,6,5)","v":""}]
[null,null,null,200,"",null,null,{"$f":"IF(G19=\"\", 0, G19 - IF(G18=\"\", LOOKUP(2, 1/(G$17:G17<>\"\"), G$17:G17), G18))","v":0},null,null,null,null,200,"",null,null,{"$f":"IF(P19=\"\", 0, P19 - IF(P18=\"\", LOOKUP(2, 1/(P$17:P17<>\"\"), P$17:P17), P18))","v":0},null,null,null,null,200,"",null,null,{"$f":"IF(Y19=\"\", 0, Y19 - IF(Y18=\"\", LOOKUP(2, 1/(Y$17:Y17<>\"\"), Y$17:Y17), Y18))","v":0},null,null,null,null,200,"",null,null,{"$f":"IF(AH19=\"\", 0, AH19 - IF(AH18=\"\", LOOKUP(2, 1/(AH$17:AH17<>\"\"), AH$17:AH17), AH18))","v":0},null,null,null,null,200,"",null,null,{"$f":"IF(AQ19=\"\", 0, AQ19 - IF(AQ18=\"\", LOOKUP(2, 1/(AQ$17:AQ17<>\"\"), AQ$17:AQ17), AQ18))","v":0},null,null,null,null,200,"",null,null,{"$f":"IF(AZ19=\"\", 0, AZ19 - IF(AZ18=\"\", LOOKUP(2, 1/(AZ$17:AZ17<>\"\"), AZ$17:AZ17), AZ18))","v":0},null,null,null,null,200,"",null,null,{"$f":"IF(BI19=\"\", 0, BI19 - IF(BI18=\"\", LOOKUP(2, 1/(BI$17:BI17<>\"\"), BI$17:BI17), BI18))","v":0},null,null,null,null,200,"",null,null,{"$f":"IF(BR19=\"\", 0, BR19 - IF(BR18=\"\", LOOKUP(2, 1/(BR$17:BR17<>\"\"), BR$17:BR17), BR18))","v":0},null,null,null,null,200,"",null,null,{"$f":"IF(CA19=\"\", 0, CA19 - IF(CA18=\"\", LOOKUP(2, 1/(CA$17:CA17<>\"\"), CA$17:CA17), CA18))","v":0},null,null,null,null,200,"",null,null,{"$f":"IF(CJ19=\"\", 0, CJ19 - IF(CJ18=\"\", LOOKUP(2, 1/(CJ$17:CJ17<>\"\"), CJ$17:CJ17), CJ18))","v":0},null,null,null,null,200,"",null,null,{"$f":"IF(CS19=\"\", 0, CS19 - IF(CS18=\"\", LOOKUP(2, 1/(CS$17:CS17<>\"\"), CS$17:CS17), CS18))","v":0},null,null,null,null,200,"",null,null,{"$f":"IF(DB19=\"\", 0, DB19 - IF(DB18=\"\", LOOKUP(2, 1/(DB$17:DB17<>\"\"), DB$17:DB17), DB18))","v":0},null,null,null,null,200,"",null,null,{"$f":"IF(DK19=\"\", 0, DK19 - IF(DK18=\"\", LOOKUP(2, 1/(DK$17:DK17<>\"\"), DK$17:DK17), DK18))","v":0},null,null,null,null,200,"",null,null,{"$f":"IF(DT19=\"\", 0, DT19 - IF(DT18=\"\", LOOKUP(2, 1/(DT$17:DT17<>\"\"), DT$17:DT17), DT18))","v":0},null,null,null,null,200,"",null,null,{"$f":"IF(EC19=\"\", 0, EC19 - IF(EC18=\"\", LOOKUP(2, 1/(EC$17:EC17<>\"\"), EC$17:EC17), EC18))","v":0},null,null,null,null,200,"",null,null,{"$f":"IF(EL19=\"\", 0, EL19 - IF(EL18=\"\", LOOKUP(2, 1/(EL$17:EL17<>\"\"), EL$17:EL17), EL18))","v":0},null,null,null,null,200,"",null,null,{"$f":"IF(EU19=\"\", 0, EU19 - IF(EU18=\"\", LOOKUP(2, 1/(EU$17:EU17<>\"\"), EU$17:EU17), EU18))","v":0},null,null,null,null,200,"",null,null,{"$f":"IF(FD19=\"\", 0, FD19 - IF(FD18=\"\", LOOKUP(2, 1/(FD$17:FD17<>\"\"), FD$17:FD17), FD18))","v":0},null,null,null,null,200,"",null,null,{"$f":"IF(FM19=\"\", 0, FM19 - IF(FM18=\"\", LOOKUP(2, 1/(FM$17:FM17<>\"\"), FM$17:FM17), FM18))","v":0},null,null,null,null,200,"",null,null,{"$f":"IF(FV19=\"\", 0, FV19 - IF(FV18=\"\", LOOKUP(2, 1/(FV$17:FV17<>\"\"), FV$17:FV17), FV18))","v":0},null,null,null,null,200,"",null,null,{"$f":"IF(GE19=\"\", 0, GE19 - IF(GE18=\"\", LOOKUP(2, 1/(GE$17:GE17<>\"\"), GE$17:GE17), GE18))","v":0},null,null,null,null,200,"",null,null,{"$f":"IF(GN19=\"\", 0, GN19 - IF(GN18=\"\", LOOKUP(2, 1/(GN$17:GN17<>\"\"), GN$17:GN17), GN18))","v":0},null,null,null,null,200,"",null,null,{"$f":"IF(GW19=\"\", 0, GW19 - IF(GW18=\"\", LOOKUP(2, 1/(GW$17:GW17<>\"\"), GW$17:GW17), GW18))","v":0},null,null,null,null,200,"",null,null,{"$f":"IF(HF19=\"\", 0, HF19 - IF(HF18=\"\", LOOKUP(2, 1/(HF$17:HF17<>\"\"), HF$17:HF17), HF18))","v":0},null,null,null,null,200,"",null,null,{"$f":"IF(HO19=\"\", 0, HO19 - IF(HO18=\"\", LOOKUP(2, 1/(HO$17:HO17<>\"\"), HO$17:HO17), HO18))","v":0},null,null,null,null,200,"",null,null,{"$f":"IF(HX19=\"\", 0, HX19 - IF(HX18=\"\", LOOKUP(2, 1/(HX$17:HX17<>\"\"), HX$17:HX17), HX18))","v":0},null,null,null,null,200,"",null,null,{"$f":"IF(IG19=\"\", 0, IG19 - IF(IG18=\"\", LOOKUP(2, 1/(IG$17:IG17<>\"\"), IG$17:IG17), IG18))","v":0},null,null,null,null,200,"",null,null,{"$f":"IF(IP19=\"\", 0, IP19 - IF(IP18=\"\", LOOKUP(2, 1/(IP$17:IP17<>\"\"), IP$17:IP17), IP18))","v":0},null,null,null,null,200,"",null,null,{"$f":"IF(IY19=\"\", 0, IY19 - IF(IY18=\"\", LOOKUP(2, 1/(IY$17:IY17<>\"\"), IY$17:IY17), IY18))","v":0},null,null,null,null,200,"",null,null,{"$f":"IF(JH19=\"\", 0, JH19 - IF(JH18=\"\", LOOKUP(2, 1/(JH$17:JH17<>\"\"), JH$17:JH17), JH18))","v":0},null,null,null,null,200,"",null,null,{"$f":"IF(JQ19=\"\", 0, JQ19 - IF(JQ18=\"\", LOOKUP(2, 1/(JQ$17:JQ17<>\"\"), JQ$17:JQ17), JQ18))","v":0},null,null,null,null,200,"",null,null,{"$f":"IF(JZ19=\"\", 0, JZ19 - IF(JZ18=\"\", LOOKUP(2, 1/(JZ$17:JZ17<>\"\"), JZ$17:JZ17), JZ18))","v":0},null,null,null,null,200,"",null,null,{"$f":"IF(KI19=\"\", 0, KI19 - IF(KI18=\"\", LOOKUP(2, 1/(KI$17:KI17<>\"\"), KI$17:KI17), KI18))","v":0},null,null,null,null,200,"",null,null,{"$f":"IF(KR19=\"\", 0, KR19 - IF(KR18=\"\", LOOKUP(2, 1/(KR$17:KR17<>\"\"), KR$17:KR17), KR18))","v":0},null,null,null,null,200,"",null,null,{"$f":"IF(LA19=\"\", 0, LA19 - IF(LA18=\"\", LOOKUP(2, 1/(LA$17:LA17<>\"\"), LA$17:LA17), LA18))","v":0},null,null,null,null,200,"",null,null,{"$f":"IF(LJ19=\"\", 0, LJ19 - IF(LJ18=\"\", LOOKUP(2, 1/(LJ$17:LJ17<>\"\"), LJ$17:LJ17), LJ18))","v":0},null,null,null,null,200,"",null,null,{"$f":"IF(LS19=\"\", 0, LS19 - IF(LS18=\"\", LOOKUP(2, 1/(LS$17:LS17<>\"\"), LS$17:LS17), LS18))","v":0},null,null,null,null,200,"",null,null,{"$f":"IF(MB19=\"\", 0, MB19 - IF(MB18=\"\", LOOKUP(2, 1/(MB$17:MB17<>\"\"), MB$17:MB17), MB18))","v":0},null,null,null,null,200,"",null,null,{"$f":"IF(MK19=\"\", 0, MK19 - IF(MK18=\"\", LOOKUP(2, 1/(MK$17:MK17<>\"\"), MK$17:MK17), MK18))","v":0},null,null,null,null,200,"",null,null,{"$f":"IF(MT19=\"\", 0, MT19 - IF(MT18=\"\", LOOKUP(2, 1/(MT$17:MT17<>\"\"), MT$17:MT17), MT18))","v":0},null,null,200,"",null,null,{"$f":"IF(NA19=\"\", 0, NA19 - IF(NA18=\"\", LOOKUP(2, 1/(NA$17:NA17<>\"\"), NA$17:NA17), NA18))","v":0},null,null,null,null,200,"",null,null,{"$f":"IF(NJ19=\"\", 0, NJ19 - IF(NJ18=\"\", LOOKUP(2, 1/(NJ$17:NJ17<>\"\"), NJ$17:NJ17), NJ18))","v":0},null,null,null,null,200,"",null,null,{"$f":"IF(NS19=\"\", 0, NS19 - IF(NS18=\"\", LOOKUP(2, 1/(NS$17:NS17<>\"\"), NS$17:NS17), NS18))","v":0},null,null,null,null,200,"",null,null,{"$f":"IF(OB19=\"\", 0, OB19 - IF(OB18=\"\", LOOKUP(2, 1/(OB$17:OB17<>\"\"), OB$17:OB17), OB18))","v":0},null,null,null,null,200,"",null,null,{"$f":"IF(OK19=\"\", 0, OK19 - IF(OK18=\"\", LOOKUP(2, 1/(OK$17:OK17<>\"\"), OK$17:OK17), OK18))","v":0},null,null,null,null,200,"",null,null,{"$f":"IF(OT19=\"\", 0, OT19 - IF(OT18=\"\", LOOKUP(2, 1/(OT$17:OT17<>\"\"), OT$17:OT17), OT18))","v":0},null,null,null,null,200,"",null,null,{"$f":"IF(PC19=\"\", 0, PC19 - IF(PC18=\"\", LOOKUP(2, 1/(PC$17:PC17<>\"\"), PC$17:PC17), PC18))","v":0},null,null,null,null,200,"",null,null,{"$f":"IF(PL19=\"\", 0, PL19 - IF(PL18=\"\", LOOKUP(2, 1/(PL$17:PL17<>\"\"), PL$17:PL17), PL18))","v":0},null,null,null,null,200,"",null,null,{"$f":"IF(PU19=\"\", 0, PU19 - IF(PU18=\"\", LOOKUP(2, 1/(PU$17:PU17<>\"\"), PU$17:PU17), PU18))","v":0},null,null,null,null,200,"",null,null,{"$f":"IF(QD19=\"\", 0, QD19 - IF(QD18=\"\", LOOKUP(2, 1/(QD$17:QD17<>\"\"), QD$17:QD17), QD18))","v":0}]
[null,null,null,199,"",null,null,{"$f":"IF(G20=\"\", 0, G20 - IF(G19=\"\", LOOKUP(2, 1/(G$17:G18<>\"\"), G$17:G18), G19))","v":0},null,null,null,null,199,"",null,null,{"$f":"IF(P20=\"\", 0, P20 - IF(P19=\"\", LOOKUP(2, 1/(P$17:P18<>\"\"), P$17:P18), P19))","v":0},null,null,null,null,199,"",null,null,{"$f":"IF(Y20=\"\", 0, Y20 - IF(Y19=\"\", LOOKUP(2, 1/(Y$17:Y18<>\"\"), Y$17:Y18), Y19))","v":0},null,null,null,null,199,"",null,null,{"$f":"IF(AH20=\"\", 0, AH20 - IF(AH19=\"\", LOOKUP(2, 1/(AH$17:AH18<>\"\"), AH$17:AH18), AH19))","v":0},null,null,null,null,199,"",null,null,{"$f":"IF(AQ20=\"\", 0, AQ20 - IF(AQ19=\"\", LOOKUP(2, 1/(AQ$17:AQ18<>\"\"), AQ$17:AQ18), AQ19))","v":0},null,null,null,null,199,"",null,null,{"$f":"IF(AZ20=\"\", 0, AZ20 - IF(AZ19=\"\", LOOKUP(2, 1/(AZ$17:AZ18<>\"\"), AZ$17:AZ18), AZ19))","v":0},null,null,null,null,199,"",null,null,{"$f":"IF(BI20=\"\", 0, BI20 - IF(BI19=\"\", LOOKUP(2, 1/(BI$17:BI18<>\"\"), BI$17:BI18), BI19))","v":0},null,null,null,null,199,"",null,null,{"$f":"IF(BR20=\"\", 0, BR20 - IF(BR19=\"\", LOOKUP(2, 1/(BR$17:BR18<>\"\"), BR$17:BR18), BR19))","v":0},null,null,null,null,199,"",null,null,{"$f":"IF(CA20=\"\", 0, CA20 - IF(CA19=\"\", LOOKUP(2, 1/(CA$17:CA18<>\"\"), CA$17:CA18), CA19))","v":0},null,null,null,null,199,"",null,null,{"$f":"IF(CJ20=\"\", 0, CJ20 - IF(CJ19=\"\", LOOKUP(2, 1/(CJ$17:CJ18<>\"\"), CJ$17:CJ18), CJ19))","v":0},null,null,null,null,199,"",null,null,{"$f":"IF(CS20=\"\", 0, CS20 - IF(CS19=\"\", LOOKUP(2, 1/(CS$17:CS18<>\"\"), CS$17:CS18), CS19))","v":0},null,null,null,null,199,"",null,null,{"$f":"IF(DB20=\"\", 0, DB20 - IF(DB19=\"\", LOOKUP(2, 1/(DB$17:DB18<>\"\"), DB$17:DB18), DB19))","v":0},null,null,null,null,199,"",null,null,{"$f":"IF(DK20=\"\", 0, DK20 - IF(DK19=\"\", LOOKUP(2, 1/(DK$17:DK18<>\"\"), DK$17:DK18), DK19))","v":0},null,null,null,null,199,"",null,null,{"$f":"IF(DT20=\"\", 0, DT20 - IF(DT19=\"\", LOOKUP(2, 1/(DT$17:DT18<>\"\"), DT$17:DT18), DT19))","v":0},null,null,null,null,199,"",null,null,{"$f":"IF(EC20=\"\", 0, EC20 - IF(EC19=\"\", LOOKUP(2, 1/(EC$17:EC18<>\"\"), EC$17:EC18), EC19))","v":0},null,null,null,null,199,"",null,null,{"$f":"IF(EL20=\"\", 0, EL20 - IF(EL19=\"\", LOOKUP(2, 1/(EL$17:EL18<>\"\"), EL$17:EL18), EL19))","v":0},null,null,null,null,199,"",null,null,{"$f":"IF(EU20=\"\", 0, EU20 - IF(EU19=\"\", LOOKUP(2, 1/(EU$17:EU18<>\"\"), EU$17:EU18), EU19))","v":0},null,null,null,null,199,"",null,null,{"$f":"IF(FD20=\"\", 0, FD20 - IF(FD19=\"\", LOOKUP(2, 1/(FD$17:FD18<>\"\"), FD$17:FD18), FD19))","v":0},null,null,null,null,199,"",null,null,{"$f":"IF(FM20=\"\", 0, FM20 - IF(FM19=\"\", LOOKUP(2, 1/(FM$17:FM18<>\"\"), FM$17:FM18), FM19))","v":0},null,null,null,null,199,"",null,null,{"$f":"IF(FV20=\"\", 0, FV20 - IF(FV19=\"\", LOOKUP(2, 1/(FV$17:FV18<>\"\"), FV$17:FV18), FV19))","v":0},null,null,null,null,199,"",null,null,{"$f":"IF(GE20=\"\", 0, GE20 - IF(GE19=\"\", LOOKUP(2, 1/(GE$17:GE18<>\"\"), GE$17:GE18), GE19))","v":0},null,null,null,null,199,"",null,null,{"$f":"IF(GN20=\"\", 0, GN20 - IF(GN19=\"\", LOOKUP(2, 1/(GN$17:GN18<>\"\"), GN$17:GN18), GN19))","v":0},null,null,null,null,199,"",null,null,{"$f":"IF(GW20=\"\", 0, GW20 - IF(GW19=\"\", LOOKUP(2, 1/(GW$17:GW18<>\"\"), GW$17:GW18), GW19))","v":0},null,null,null,null,199,"",null,null,{"$f":"IF(HF20=\"\", 0, HF20 - IF(HF19=\"\", LOOKUP(2, 1/(HF$17:HF18<>\"\"), HF$17:HF18), HF19))","v":0},null,null,null,null,199,"",null,null,{"$f":"IF(HO20=\"\", 0, HO20 - IF(HO19=\"\", LOOKUP(2, 1/(HO$17:HO18<>\"\"), HO$17:HO18), HO19))","v":0},null,null,null,null,199,"",null,null,{"$f":"IF(HX20=\"\", 0, HX20 - IF(HX19=\"\", LOOKUP(2, 1/(HX$17:HX18<>\"\"), HX$17:HX18), HX19))","v":0},null,null,null,null,199,"",null,null,{"$f":"IF(IG20=\"\", 0, IG20 - IF(IG19=\"\", LOOKUP(2, 1/(IG$17:IG18<>\"\"), IG$17:IG18), IG19))","v":0},null,null,null,null,199,"",null,null,{"$f":"IF(IP20=\"\", 0, IP20 - IF(IP19=\"\", LOOKUP(2, 1/(IP$17:IP18<>\"\"), IP$17:IP18), IP19))","v":0},null,null,null,null,199,"",null,null,{"$f":"IF(IY20=\"\", 0, IY20 - IF(IY19=\"\", LOOKUP(2, 1/(IY$17:IY18<>\"\"), IY$17:IY18), IY19))","v":0},null,null,null,null,199,"",null,null,{"$f":"IF(JH20=\"\", 0, JH20 - IF(JH19=\"\", LOOKUP(2, 1/(JH$17:JH18<>\"\"), JH$17:JH18), JH19))","v":0},null,null,null,null,199,"",null,null,{"$f":"IF(JQ20=\"\", 0, JQ20 - IF(JQ19=\"\", LOOKUP(2, 1/(JQ$17:JQ18<>\"\"), JQ$17:JQ18), JQ19))","v":0},null,null,null,null,199,"",null,null,{"$f":"IF(JZ20=\"\", 0, JZ20 - IF(JZ19=\"\", LOOKUP(2, 1/(JZ$17:JZ18<>\"\"), JZ$17:JZ18), JZ19))","v":0},null,null,null,null,199,"",null,null,{"$f":"IF(KI20=\"\", 0, KI20 - IF(KI19=\"\", LOOKUP(2, 1/(KI$17:KI18<>\"\"), KI$17:KI18), KI19))","v":0},null,null,null,null,199,"",null,null,{"$f":"IF(KR20=\"\", 0, KR20 - IF(KR19=\"\", LOOKUP(2, 1/(KR$17:KR18<>\"\"), KR$17:KR18), KR19))","v":0},null,null,null,null,199,"",null,null,{"$f":"IF(LA20=\"\", 0, LA20 - IF(LA19=\"\", LOOKUP(2, 1/(LA$17:LA18<>\"\"), LA$17:LA18), LA19))","v":0},null,null,null,null,199,"",null,null,{"$f":"IF(LJ20=\"\", 0, LJ20 - IF(LJ19=\"\", LOOKUP(2, 1/(LJ$17:LJ18<>\"\"), LJ$17:LJ18), LJ19))","v":0},null,null,null,null,199,"",null,null,{"$f":"IF(LS20=\"\", 0, LS20 - IF(LS19=\"\", LOOKUP(2, 1/(LS$17:LS18<>\"\"), LS$17:LS18), LS19))","v":0},null,null,null,null,199,"",null,null,{"$f":"IF(MB20=\"\", 0, MB20 - IF(MB19=\"\", LOOKUP(2, 1/(MB$17:MB18<>\"\"), MB$17:MB18), MB19))","v":0},null,null,null,null,199,"",null,null,{"$f":"IF(MK20=\"\", 0, MK20 - IF(MK19=\"\", LOOKUP(2, 1/(MK$17:MK18<>\"\"), MK$17:MK18), MK19))","v":0},null,null,null,null,199,"",null,null,{"$f":"IF(MT20=\"\", 0, MT20 - IF(MT19=\"\", LOOKUP(2, 1/(MT$17:MT18<>\"\"), MT$17:MT18), MT19))","v":0},null,null,199,"",null,null,{"$f":"IF(NA20=\"\", 0, NA20 - IF(NA19=\"\", LOOKUP(2, 1/(NA$17:NA18<>\"\"), NA$17:NA18), NA19))","v":0},null,null,null,null,199,"",null,null,{"$f":"IF(NJ20=\"\", 0, NJ20 - IF(NJ19=\"\", LOOKUP(2, 1/(NJ$17:NJ18<>\"\"), NJ$17:NJ18), NJ19))","v":0},null,null,null,null,199,"",null,null,{"$f":"IF(NS20=\"\", 0, NS20 - IF(NS19=\"\", LOOKUP(2, 1/(NS$17:NS18<>\"\"), NS$17:NS18), NS19))","v":0},null,null,null,null,199,"",null,null,{"$f":"IF(OB20=\"\", 0, OB20 - IF(OB19=\"\", LOOKUP(2, 1/(OB$17:OB18<>\"\"), OB$17:OB18), OB19))","v":0},null,null,null,null,199,"",null,null,{"$f":"IF(OK20=\"\", 0, OK20 - IF(OK19=\"\", LOOKUP(2, 1/(OK$17:OK18<>\"\"), OK$17:OK18), OK19))","v":0},null,null,null,null,199,"",null,null,{"$f":"IF(OT20=\"\", 0, OT20 - IF(OT19=\"\", LOOKUP(2, 1/(OT$17:OT18<>\"\"), OT$17:OT18), OT19))","v":0},null,null,null,null,199,"",null,null,{"$f":"IF(PC20=\"\", 0, PC20 - IF(PC19=\"\", LOOKUP(2, 1/(PC$17:PC18<>\"\"), PC$17:PC18), PC19))","v":0},null,null,null,null,199,"",null,null,{"$f":"IF(PL20=\"\", 0, PL20 - IF(PL19=\"\", LOOKUP(2, 1/(PL$17:PL18<>\"\"), PL$17:PL18), PL19))","v":0},null,null,null,null,199,"",null,null,{"$f":"IF(PU20=\"\", 0, PU20 - IF(PU19=\"\", LOOKUP(2, 1/(PU$17:PU18<>\"\"), PU$17:PU18), PU19))","v":0},null,null,null,null,199,"",null,null,{"$f":"IF(QD20=\"\", 0, QD20 - IF(QD19=\"\", LOOKUP(2, 1/(QD$17:QD18<>\"\"), QD$17:QD18), QD19))","v":0}]
[null,null,null,198,"",null,null,{"$f":"IF(G21=\"\", 0, G21 - IF(G20=\"\", LOOKUP(2, 1/(G$17:G19<>\"\"), G$17:G19), G20))","v":0},null,null,null,null,198,"",null,null,{"$f":"IF(P21=\"\", 0, P21 - IF(P20=\"\", LOOKUP(2, 1/(P$17:P19<>\"\"), P$17:P19), P20))","v":0},null,null,null,null,198,"",null,null,{"$f":"IF(Y21=\"\", 0, Y21 - IF(Y20=\"\", LOOKUP(2, 1/(Y$17:Y19<>\"\"), Y$17:Y19), Y20))","v":0},null,null,null,null,198,"",null,null,{"$f":"IF(AH21=\"\", 0, AH21 - IF(AH20=\"\", LOOKUP(2, 1/(AH$17:AH19<>\"\"), AH$17:AH19), AH20))","v":0},null,null,null,null,198,"",null,null,{"$f":"IF(AQ21=\"\", 0, AQ21 - IF(AQ20=\"\", LOOKUP(2, 1/(AQ$17:AQ19<>\"\"), AQ$17:AQ19), AQ20))","v":0},null,null,null,null,198,"",null,null,{"$f":"IF(AZ21=\"\", 0, AZ21 - IF(AZ20=\"\", LOOKUP(2, 1/(AZ$17:AZ19<>\"\"), AZ$17:AZ19), AZ20))","v":0},null,null,null,null,198,"",null,null,{"$f":"IF(BI21=\"\", 0, BI21 - IF(BI20=\"\", LOOKUP(2, 1/(BI$17:BI19<>\"\"), BI$17:BI19), BI20))","v":0},null,null,null,null,198,"",null,null,{"$f":"IF(BR21=\"\", 0, BR21 - IF(BR20=\"\", LOOKUP(2, 1/(BR$17:BR19<>\"\"), BR$17:BR19), BR20))","v":0},null,null,null,null,198,"",null,null,{"$f":"IF(CA21=\"\", 0, CA21 - IF(CA20=\"\", LOOKUP(2, 1/(CA$17:CA19<>\"\"), CA$17:CA19), CA20))","v":0},null,null,null,null,198,"",null,null,{"$f":"IF(CJ21=\"\", 0, CJ21 - IF(CJ20=\"\", LOOKUP(2, 1/(CJ$17:CJ19<>\"\"), CJ$17:CJ19), CJ20))","v":0},null,null,null,null,198,"",null,null,{"$f":"IF(CS21=\"\", 0, CS21 - IF(CS20=\"\", LOOKUP(2, 1/(CS$17:CS19<>\"\"), CS$17:CS19), CS20))","v":0},null,null,null,null,198,"",null,null,{"$f":"IF(DB21=\"\", 0, DB21 - IF(DB20=\"\", LOOKUP(2, 1/(DB$17:DB19<>\"\"), DB$17:DB19), DB20))","v":0},null,null,null,null,198,"",null,null,{"$f":"IF(DK21=\"\", 0, DK21 - IF(DK20=\"\", LOOKUP(2, 1/(DK$17:DK19<>\"\"), DK$17:DK19), DK20))","v":0},null,null,null,null,198,"",null,null,{"$f":"IF(DT21=\"\", 0, DT21 - IF(DT20=\"\", LOOKUP(2, 1/(DT$17:DT19<>\"\"), DT$17:DT19), DT20))","v":0},null,null,null,null,198,"",null,null,{"$f":"IF(EC21=\"\", 0, EC21 - IF(EC20=\"\", LOOKUP(2, 1/(EC$17:EC19<>\"\"), EC$17:EC19), EC20))","v":0},null,null,null,null,198,"",null,null,{"$f":"IF(EL21=\"\", 0, EL21 - IF(EL20=\"\", LOOKUP(2, 1/(EL$17:EL19<>\"\"), EL$17:EL19), EL20))","v":0},null,null,null,null,198,"",null,null,{"$f":"IF(EU21=\"\", 0, EU21 - IF(EU20=\"\", LOOKUP(2, 1/(EU$17:EU19<>\"\"), EU$17:EU19), EU20))","v":0},null,null,null,null,198,"",null,null,{"$f":"IF(FD21=\"\", 0, FD21 - IF(FD20=\"\", LOOKUP(2, 1/(FD$17:FD19<>\"\"), FD$17:FD19), FD20))","v":0},null,null,null,null,198,"",null,null,{"$f":"IF(FM21=\"\", 0, FM21 - IF(FM20=\"\", LOOKUP(2, 1/(FM$17:FM19<>\"\"), FM$17:FM19), FM20))","v":0},null,null,null,null,198,"",null,null,{"$f":"IF(FV21=\"\", 0, FV21 - IF(FV20=\"\", LOOKUP(2, 1/(FV$17:FV19<>\"\"), FV$17:FV19), FV20))","v":0},null,null,null,null,198,"",null,null,{"$f":"IF(GE21=\"\", 0, GE21 - IF(GE20=\"\", LOOKUP(2, 1/(GE$17:GE19<>\"\"), GE$17:GE19), GE20))","v":0},null,null,null,null,198,"",null,null,{"$f":"IF(GN21=\"\", 0, GN21 - IF(GN20=\"\", LOOKUP(2, 1/(GN$17:GN19<>\"\"), GN$17:GN19), GN20))","v":0},null,null,null,null,198,"",null,null,{"$f":"IF(GW21=\"\", 0, GW21 - IF(GW20=\"\", LOOKUP(2, 1/(GW$17:GW19<>\"\"), GW$17:GW19), GW20))","v":0},null,null,null,null,198,"",null,null,{"$f":"IF(HF21=\"\", 0, HF21 - IF(HF20=\"\", LOOKUP(2, 1/(HF$17:HF19<>\"\"), HF$17:HF19), HF20))","v":0},null,null,null,null,198,"",null,null,{"$f":"IF(HO21=\"\", 0, HO21 - IF(HO20=\"\", LOOKUP(2, 1/(HO$17:HO19<>\"\"), HO$17:HO19), HO20))","v":0},null,null,null,null,198,"",null,null,{"$f":"IF(HX21=\"\", 0, HX21 - IF(HX20=\"\", LOOKUP(2, 1/(HX$17:HX19<>\"\"), HX$17:HX19), HX20))","v":0},null,null,null,null,198,"",null,null,{"$f":"IF(IG21=\"\", 0, IG21 - IF(IG20=\"\", LOOKUP(2, 1/(IG$17:IG19<>\"\"), IG$17:IG19), IG20))","v":0},null,null,null,null,198,"",null,null,{"$f":"IF(IP21=\"\", 0, IP21 - IF(IP20=\"\", LOOKUP(2, 1/(IP$17:IP19<>\"\"), IP$17:IP19), IP20))","v":0},null,null,null,null,198,"",null,null,{"$f":"IF(IY21=\"\", 0, IY21 - IF(IY20=\"\", LOOKUP(2, 1/(IY$17:IY19<>\"\"), IY$17:IY19), IY20))","v":0},null,null,null,null,198,"",null,null,{"$f":"IF(JH21=\"\", 0, JH21 - IF(JH20=\"\", LOOKUP(2, 1/(JH$17:JH19<>\"\"), JH$17:JH19), JH20))","v":0},null,null,null,null,198,"",null,null,{"$f":"IF(JQ21=\"\", 0, JQ21 - IF(JQ20=\"\", LOOKUP(2, 1/(JQ$17:JQ19<>\"\"), JQ$17:JQ19), JQ20))","v":0},null,null,null,null,198,"",null,null,{"$f":"IF(JZ21=\"\", 0, JZ21 - IF(JZ20=\"\", LOOKUP(2, 1/(JZ$17:JZ19<>\"\"), JZ$17:JZ19), JZ20))","v":0},null,null,null,null,198,"",null,null,{"$f":"IF(KI21=\"\", 0, KI21 - IF(KI20=\"\", LOOKUP(2, 1/(KI$17:KI19<>\"\"), KI$17:KI19), KI20))","v":0},null,null,null,null,198,"",null,null,{"$f":"IF(KR21=\"\", 0, KR21 - IF(KR20=\"\", LOOKUP(2, 1/(KR$17:KR19<>\"\"), KR$17:KR19), KR20))","v":0},null,null,null,null,198,"",null,null,{"$f":"IF(LA21=\"\", 0, LA21 - IF(LA20=\"\", LOOKUP(2, 1/(LA$17:LA19<>\"\"), LA$17:LA19), LA20))","v":0},null,null,null,null,198,"",null,null,{"$f":"IF(LJ21=\"\", 0, LJ21 - IF(LJ20=\"\", LOOKUP(2, 1/(LJ$17:LJ19<>\"\"), LJ$17:LJ19), LJ20))","v":0},null,null,null,null,198,"",null,null,{"$f":"IF(LS21=\"\", 0, LS21 - IF(LS20=\"\", LOOKUP(2, 1/(LS$17:LS19<>\"\"), LS$17:LS19), LS20))","v":0},null,null,null,null,198,"",null,null,{"$f":"IF(MB21=\"\", 0, MB21 - IF(MB20=\"\", LOOKUP(2, 1/(MB$17:MB19<>\"\"), MB$17:MB19), MB20))","v":0},null,null,null,null,198,"",null,null,{"$f":"IF(MK21=\"\", 0, MK21 - IF(MK20=\"\", LOOKUP(2, 1/(MK$17:MK19<>\"\"), MK$17:MK19), MK20))","v":0},null,null,null,null,198,"",null,null,{"$f":"IF(MT21=\"\", 0, MT21 - IF(MT20=\"\", LOOKUP(2, 1/(MT$17:MT19<>\"\"), MT$17:MT19), MT20))","v":0},null,null,198,"",null,null,{"$f":"IF(NA21=\"\", 0, NA21 - IF(NA20=\"\", LOOKUP(2, 1/(NA$17:NA19<>\"\"), NA$17:NA19), NA20))","v":0},null,null,null,null,198,"",null,null,{"$f":"IF(NJ21=\"\", 0, NJ21 - IF(NJ20=\"\", LOOKUP(2, 1/(NJ$17:NJ19<>\"\"), NJ$17:NJ19), NJ20))","v":0},null,null,null,null,198,"",null,null,{"$f":"IF(NS21=\"\", 0, NS21 - IF(NS20=\"\", LOOKUP(2, 1/(NS$17:NS19<>\"\"), NS$17:NS19), NS20))","v":0},null,null,null,null,198,"",null,null,{"$f":"IF(OB21=\"\", 0, OB21 - IF(OB20=\"\", LOOKUP(2, 1/(OB$17:OB19<>\"\"), OB$17:OB19), OB20))","v":0},null,null,null,null,198,"",null,null,{"$f":"IF(OK21=\"\", 0, OK21 - IF(OK20=\"\", LOOKUP(2, 1/(OK$17:OK19<>\"\"), OK$17:OK19), OK20))","v":0},null,null,null,null,198,"",null,null,{"$f":"IF(OT21=\"\", 0, OT21 - IF(OT20=\"\", LOOKUP(2, 1/(OT$17:OT19<>\"\"), OT$17:OT19), OT20))","v":0},null,null,null,null,198,"",null,null,{"$f":"IF(PC21=\"\", 0, PC21 - IF(PC20=\"\", LOOKUP(2, 1/(PC$17:PC19<>\"\"), PC$17:PC19), PC20))","v":0},null,null,null,null,198,"",null,null,{"$f":"IF(PL21=\"\", 0, PL21 - IF(PL20=\"\", LOOKUP(2, 1/(PL$17:PL19<>\"\"), PL$17:PL19), PL20))","v":0},null,null,null,null,198,"",null,null,{"$f":"IF(PU21=\"\", 0, PU21 - IF(PU20=\"\", LOOKUP(2, 1/(PU$17:PU19<>\"\"), PU$17:PU19), PU20))","v":0},null,null,null,null,198,"",null,null,{"$f":"IF(QD21=\"\", 0, QD21 - IF(QD20=\"\", LOOKUP(2, 1/(QD$17:QD19<>\"\"), QD$17:QD19), QD20))","v":0}]
[null,null,null,197,"",null,null,{"$f":"IF(G22=\"\", 0, G22 - IF(G21=\"\", LOOKUP(2, 1/(G$17:G20<>\"\"), G$17:G20), G21))","v":0},null,null,null,null,197,"",null,null,{"$f":"IF(P22=\"\", 0, P22 - IF(P21=\"\", LOOKUP(2, 1/(P$17:P20<>\"\"), P$17:P20), P21))","v":0},null,null,null,null,197,"",null,null,{"$f":"IF(Y22=\"\", 0, Y22 - IF(Y21=\"\", LOOKUP(2, 1/(Y$17:Y20<>\"\"), Y$17:Y20), Y21))","v":0},null,null,null,null,197,"",null,null,{"$f":"IF(AH22=\"\", 0, AH22 - IF(AH21=\"\", LOOKUP(2, 1/(AH$17:AH20<>\"\"), AH$17:AH20), AH21))","v":0},null,null,null,null,197,"",null,null,{"$f":"IF(AQ22=\"\", 0, AQ22 - IF(AQ21=\"\", LOOKUP(2, 1/(AQ$17:AQ20<>\"\"), AQ$17:AQ20), AQ21))","v":0},null,null,null,null,197,"",null,null,{"$f":"IF(AZ22=\"\", 0, AZ22 - IF(AZ21=\"\", LOOKUP(2, 1/(AZ$17:AZ20<>\"\"), AZ$17:AZ20), AZ21))","v":0},null,null,null,null,197,"",null,null,{"$f":"IF(BI22=\"\", 0, BI22 - IF(BI21=\"\", LOOKUP(2, 1/(BI$17:BI20<>\"\"), BI$17:BI20), BI21))","v":0},null,null,null,null,197,"",null,null,{"$f":"IF(BR22=\"\", 0, BR22 - IF(BR21=\"\", LOOKUP(2, 1/(BR$17:BR20<>\"\"), BR$17:BR20), BR21))","v":0},null,null,null,null,197,"",null,null,{"$f":"IF(CA22=\"\", 0, CA22 - IF(CA21=\"\", LOOKUP(2, 1/(CA$17:CA20<>\"\"), CA$17:CA20), CA21))","v":0},null,null,null,null,197,"",null,null,{"$f":"IF(CJ22=\"\", 0, CJ22 - IF(CJ21=\"\", LOOKUP(2, 1/(CJ$17:CJ20<>\"\"), CJ$17:CJ20), CJ21))","v":0},null,null,null,null,197,"",null,null,{"$f":"IF(CS22=\"\", 0, CS22 - IF(CS21=\"\", LOOKUP(2, 1/(CS$17:CS20<>\"\"), CS$17:CS20), CS21))","v":0},null,null,null,null,197,"",null,null,{"$f":"IF(DB22=\"\", 0, DB22 - IF(DB21=\"\", LOOKUP(2, 1/(DB$17:DB20<>\"\"), DB$17:DB20), DB21))","v":0},null,null,null,null,197,"",null,null,{"$f":"IF(DK22=\"\", 0, DK22 - IF(DK21=\"\", LOOKUP(2, 1/(DK$17:DK20<>\"\"), DK$17:DK20), DK21))","v":0},null,null,null,null,197,"",null,null,{"$f":"IF(DT22=\"\", 0, DT22 - IF(DT21=\"\", LOOKUP(2, 1/(DT$17:DT20<>\"\"), DT$17:DT20), DT21))","v":0},null,null,null,null,197,"",null,null,{"$f":"IF(EC22=\"\", 0, EC22 - IF(EC21=\"\", LOOKUP(2, 1/(EC$17:EC20<>\"\"), EC$17:EC20), EC21))","v":0},null,null,null,null,197,"",null,null,{"$f":"IF(EL22=\"\", 0, EL22 - IF(EL21=\"\", LOOKUP(2, 1/(EL$17:EL20<>\"\"), EL$17:EL20), EL21))","v":0},null,null,null,null,197,"",null,null,{"$f":"IF(EU22=\"\", 0, EU22 - IF(EU21=\"\", LOOKUP(2, 1/(EU$17:EU20<>\"\"), EU$17:EU20), EU21))","v":0},null,null,null,null,197,"",null,null,{"$f":"IF(FD22=\"\", 0, FD22 - IF(FD21=\"\", LOOKUP(2, 1/(FD$17:FD20<>\"\"), FD$17:FD20), FD21))","v":0},null,null,null,null,197,"",null,null,{"$f":"IF(FM22=\"\", 0, FM22 - IF(FM21=\"\", LOOKUP(2, 1/(FM$17:FM20<>\"\"), FM$17:FM20), FM21))","v":0},null,null,null,null,197,"",null,null,{"$f":"IF(FV22=\"\", 0, FV22 - IF(FV21=\"\", LOOKUP(2, 1/(FV$17:FV20<>\"\"), FV$17:FV20), FV21))","v":0},null,null,null,null,197,"",null,null,{"$f":"IF(GE22=\"\", 0, GE22 - IF(GE21=\"\", LOOKUP(2, 1/(GE$17:GE20<>\"\"), GE$17:GE20), GE21))","v":0},null,null,null,null,197,"",null,null,{"$f":"IF(GN22=\"\", 0, GN22 - IF(GN21=\"\", LOOKUP(2, 1/(GN$17:GN20<>\"\"), GN$17:GN20), GN21))","v":0},null,null,null,null,197,"",null,null,{"$f":"IF(GW22=\"\", 0, GW22 - IF(GW21=\"\", LOOKUP(2, 1/(GW$17:GW20<>\"\"), GW$17:GW20), GW21))","v":0},null,null,null,null,197,"",null,null,{"$f":"IF(HF22=\"\", 0, HF22 - IF(HF21=\"\", LOOKUP(2, 1/(HF$17:HF20<>\"\"), HF$17:HF20), HF21))","v":0},null,null,null,null,197,"",null,null,{"$f":"IF(HO22=\"\", 0, HO22 - IF(HO21=\"\", LOOKUP(2, 1/(HO$17:HO20<>\"\"), HO$17:HO20), HO21))","v":0},null,null,null,null,197,"",null,null,{"$f":"IF(HX22=\"\", 0, HX22 - IF(HX21=\"\", LOOKUP(2, 1/(HX$17:HX20<>\"\"), HX$17:HX20), HX21))","v":0},null,null,null,null,197,"",null,null,{"$f":"IF(IG22=\"\", 0, IG22 - IF(IG21=\"\", LOOKUP(2, 1/(IG$17:IG20<>\"\"), IG$17:IG20), IG21))","v":0},null,null,null,null,197,"",null,null,{"$f":"IF(IP22=\"\", 0, IP22 - IF(IP21=\"\", LOOKUP(2, 1/(IP$17:IP20<>\"\"), IP$17:IP20), IP21))","v":0},null,null,null,null,197,"",null,null,{"$f":"IF(IY22=\"\", 0, IY22 - IF(IY21=\"\", LOOKUP(2, 1/(IY$17:IY20<>\"\"), IY$17:IY20), IY21))","v":0},null,null,null,null,197,"",null,null,{"$f":"IF(JH22=\"\", 0, JH22 - IF(JH21=\"\", LOOKUP(2, 1/(JH$17:JH20<>\"\"), JH$17:JH20), JH21))","v":0},null,null,null,null,197,"",null,null,{"$f":"IF(JQ22=\"\", 0, JQ22 - IF(JQ21=\"\", LOOKUP(2, 1/(JQ$17:JQ20<>\"\"), JQ$17:JQ20), JQ21))","v":0},null,null,null,null,197,"",null,null,{"$f":"IF(JZ22=\"\", 0, JZ22 - IF(JZ21=\"\", LOOKUP(2, 1/(JZ$17:JZ20<>\"\"), JZ$17:JZ20), JZ21))","v":0},null,null,null,null,197,"",null,null,{"$f":"IF(KI22=\"\", 0, KI22 - IF(KI21=\"\", LOOKUP(2, 1/(KI$17:KI20<>\"\"), KI$17:KI20), KI21))","v":0},null,null,null,null,197,"",null,null,{"$f":"IF(KR22=\"\", 0, KR22 - IF(KR21=\"\", LOOKUP(2, 1/(KR$17:KR20<>\"\"), KR$17:KR20), KR21))","v":0},null,null,null,null,197,"",null,null,{"$f":"IF(LA22=\"\", 0, LA22 - IF(LA21=\"\", LOOKUP(2, 1/(LA$17:LA20<>\"\"), LA$17:LA20), LA21))","v":0},null,null,null,null,197,"",null,null,{"$f":"IF(LJ22=\"\", 0, LJ22 - IF(LJ21=\"\", LOOKUP(2, 1/(LJ$17:LJ20<>\"\"), LJ$17:LJ20), LJ21))","v":0},null,null,null,null,197,"",null,null,{"$f":"IF(LS22=\"\", 0, LS22 - IF(LS21=\"\", LOOKUP(2, 1/(LS$17:LS20<>\"\"), LS$17:LS20), LS21))","v":0},null,null,null,null,197,"",null,null,{"$f":"IF(MB22=\"\", 0, MB22 - IF(MB21=\"\", LOOKUP(2, 1/(MB$17:MB20<>\"\"), MB$17:MB20), MB21))","v":0},null,null,null,null,197,"",null,null,{"$f":"IF(MK22=\"\", 0, MK22 - IF(MK21=\"\", LOOKUP(2, 1/(MK$17:MK20<>\"\"), MK$17:MK20), MK21))","v":0},null,null,null,null,197,"",null,null,{"$f":"IF(MT22=\"\", 0, MT22 - IF(MT21=\"\", LOOKUP(2, 1/(MT$17:MT20<>\"\"), MT$17:MT20), MT21))","v":0},null,null,197,"",null,null,{"$f":"IF(NA22=\"\", 0, NA22 - IF(NA21=\"\", LOOKUP(2, 1/(NA$17:NA20<>\"\"), NA$17:NA20), NA21))","v":0},null,null,null,null,197,"",null,null,{"$f":"IF(NJ22=\"\", 0, NJ22 - IF(NJ21=\"\", LOOKUP(2, 1/(NJ$17:NJ20<>\"\"), NJ$17:NJ20), NJ21))","v":0},null,null,null,null,197,"",null,null,{"$f":"IF(NS22=\"\", 0, NS22 - IF(NS21=\"\", LOOKUP(2, 1/(NS$17:NS20<>\"\"), NS$17:NS20), NS21))","v":0},null,null,null,null,197,"",null,null,{"$f":"IF(OB22=\"\", 0, OB22 - IF(OB21=\"\", LOOKUP(2, 1/(OB$17:OB20<>\"\"), OB$17:OB20), OB21))","v":0},null,null,null,null,197,"",null,null,{"$f":"IF(OK22=\"\", 0, OK22 - IF(OK21=\"\", LOOKUP(2, 1/(OK$17:OK20<>\"\"), OK$17:OK20), OK21))","v":0},null,null,null,null,197,"",null,null,{"$f":"IF(OT22=\"\", 0, OT22 - IF(OT21=\"\", LOOKUP(2, 1/(OT$17:OT20<>\"\"), OT$17:OT20), OT21))","v":0},null,null,null,null,197,"",null,null,{"$f":"IF(PC22=\"\", 0, PC22 - IF(PC21=\"\", LOOKUP(2, 1/(PC$17:PC20<>\"\"), PC$17:PC20), PC21))","v":0},null,null,null,null,197,"",null,null,{"$f":"IF(PL22=\"\", 0, PL22 - IF(PL21=\"\", LOOKUP(2, 1/(PL$17:PL20<>\"\"), PL$17:PL20), PL21))","v":0},null,null,null,null,197,"",null,null,{"$f":"IF(PU22=\"\", 0, PU22 - IF(PU21=\"\", LOOKUP(2, 1/(PU$17:PU20<>\"\"), PU$17:PU20), PU21))","v":0},null,null,null,null,197,"",null,null,{"$f":"IF(QD22=\"\", 0, QD22 - IF(QD21=\"\", LOOKUP(2, 1/(QD$17:QD20<>\"\"), QD$17:QD20), QD21))","v":0}]
[null,null,null,196,"",null,null,{"$f":"IF(G23=\"\", 0, G23 - IF(G22=\"\", LOOKUP(2, 1/(G$17:G21<>\"\"), G$17:G21), G22))","v":0},null,null,null,null,196,"",null,null,{"$f":"IF(P23=\"\", 0, P23 - IF(P22=\"\", LOOKUP(2, 1/(P$17:P21<>\"\"), P$17:P21), P22))","v":0},null,null,null,null,196,"",null,null,{"$f":"IF(Y23=\"\", 0, Y23 - IF(Y22=\"\", LOOKUP(2, 1/(Y$17:Y21<>\"\"), Y$17:Y21), Y22))","v":0},null,null,null,null,196,"",null,null,{"$f":"IF(AH23=\"\", 0, AH23 - IF(AH22=\"\", LOOKUP(2, 1/(AH$17:AH21<>\"\"), AH$17:AH21), AH22))","v":0},null,null,null,null,196,"",null,null,{"$f":"IF(AQ23=\"\", 0, AQ23 - IF(AQ22=\"\", LOOKUP(2, 1/(AQ$17:AQ21<>\"\"), AQ$17:AQ21), AQ22))","v":0},null,null,null,null,196,"",null,null,{"$f":"IF(AZ23=\"\", 0, AZ23 - IF(AZ22=\"\", LOOKUP(2, 1/(AZ$17:AZ21<>\"\"), AZ$17:AZ21), AZ22))","v":0},null,null,null,null,196,"",null,null,{"$f":"IF(BI23=\"\", 0, BI23 - IF(BI22=\"\", LOOKUP(2, 1/(BI$17:BI21<>\"\"), BI$17:BI21), BI22))","v":0},null,null,null,null,196,"",null,null,{"$f":"IF(BR23=\"\", 0, BR23 - IF(BR22=\"\", LOOKUP(2, 1/(BR$17:BR21<>\"\"), BR$17:BR21), BR22))","v":0},null,null,null,null,196,"",null,null,{"$f":"IF(CA23=\"\", 0, CA23 - IF(CA22=\"\", LOOKUP(2, 1/(CA$17:CA21<>\"\"), CA$17:CA21), CA22))","v":0},null,null,null,null,196,"",null,null,{"$f":"IF(CJ23=\"\", 0, CJ23 - IF(CJ22=\"\", LOOKUP(2, 1/(CJ$17:CJ21<>\"\"), CJ$17:CJ21), CJ22))","v":0},null,null,null,null,196,"",null,null,{"$f":"IF(CS23=\"\", 0, CS23 - IF(CS22=\"\", LOOKUP(2, 1/(CS$17:CS21<>\"\"), CS$17:CS21), CS22))","v":0},null,null,null,null,196,"",null,null,{"$f":"IF(DB23=\"\", 0, DB23 - IF(DB22=\"\", LOOKUP(2, 1/(DB$17:DB21<>\"\"), DB$17:DB21), DB22))","v":0},null,null,null,null,196,"",null,null,{"$f":"IF(DK23=\"\", 0, DK23 - IF(DK22=\"\", LOOKUP(2, 1/(DK$17:DK21<>\"\"), DK$17:DK21), DK22))","v":0},null,null,null,null,196,"",null,null,{"$f":"IF(DT23=\"\", 0, DT23 - IF(DT22=\"\", LOOKUP(2, 1/(DT$17:DT21<>\"\"), DT$17:DT21), DT22))","v":0},null,null,null,null,196,"",null,null,{"$f":"IF(EC23=\"\", 0, EC23 - IF(EC22=\"\", LOOKUP(2, 1/(EC$17:EC21<>\"\"), EC$17:EC21), EC22))","v":0},null,null,null,null,196,"",null,null,{"$f":"IF(EL23=\"\", 0, EL23 - IF(EL22=\"\", LOOKUP(2, 1/(EL$17:EL21<>\"\"), EL$17:EL21), EL22))","v":0},null,null,null,null,196,"",null,null,{"$f":"IF(EU23=\"\", 0, EU23 - IF(EU22=\"\", LOOKUP(2, 1/(EU$17:EU21<>\"\"), EU$17:EU21), EU22))","v":0},null,null,null,null,196,"",null,null,{"$f":"IF(FD23=\"\", 0, FD23 - IF(FD22=\"\", LOOKUP(2, 1/(FD$17:FD21<>\"\"), FD$17:FD21), FD22))","v":0},null,null,null,null,196,"",null,null,{"$f":"IF(FM23=\"\", 0, FM23 - IF(FM22=\"\", LOOKUP(2, 1/(FM$17:FM21<>\"\"), FM$17:FM21), FM22))","v":0},null,null,null,null,196,"",null,null,{"$f":"IF(FV23=\"\", 0, FV23 - IF(FV22=\"\", LOOKUP(2, 1/(FV$17:FV21<>\"\"), FV$17:FV21), FV22))","v":0},null,null,null,null,196,"",null,null,{"$f":"IF(GE23=\"\", 0, GE23 - IF(GE22=\"\", LOOKUP(2, 1/(GE$17:GE21<>\"\"), GE$17:GE21), GE22))","v":0},null,null,null,null,196,"",null,null,{"$f":"IF(GN23=\"\", 0, GN23 - IF(GN22=\"\", LOOKUP(2, 1/(GN$17:GN21<>\"\"), GN$17:GN21), GN22))","v":0},null,null,null,null,196,"",null,null,{"$f":"IF(GW23=\"\", 0, GW23 - IF(GW22=\"\", LOOKUP(2, 1/(GW$17:GW21<>\"\"), GW$17:GW21), GW22))","v":0},null,null,null,null,196,"",null,null,{"$f":"IF(HF23=\"\", 0, HF23 - IF(HF22=\"\", LOOKUP(2, 1/(HF$17:HF21<>\"\"), HF$17:HF21), HF22))","v":0},null,null,null,null,196,"",null,null,{"$f":"IF(HO23=\"\", 0, HO23 - IF(HO22=\"\", LOOKUP(2, 1/(HO$17:HO21<>\"\"), HO$17:HO21), HO22))","v":0},null,null,null,null,196,"",null,null,{"$f":"IF(HX23=\"\", 0, HX23 - IF(HX22=\"\", LOOKUP(2, 1/(HX$17:HX21<>\"\"), HX$17:HX21), HX22))","v":0},null,null,null,null,196,"",null,null,{"$f":"IF(IG23=\"\", 0, IG23 - IF(IG22=\"\", LOOKUP(2, 1/(IG$17:IG21<>\"\"), IG$17:IG21), IG22))","v":0},null,null,null,null,196,"",null,null,{"$f":"IF(IP23=\"\", 0, IP23 - IF(IP22=\"\", LOOKUP(2, 1/(IP$17:IP21<>\"\"), IP$17:IP21), IP22))","v":0},null,null,null,null,196,"",null,null,{"$f":"IF(IY23=\"\", 0, IY23 - IF(IY22=\"\", LOOKUP(2, 1/(IY$17:IY21<>\"\"), IY$17:IY21), IY22))","v":0},null,null,null,null,196,"",null,null,{"$f":"IF(JH23=\"\", 0, JH23 - IF(JH22=\"\", LOOKUP(2, 1/(JH$17:JH21<>\"\"), JH$17:JH21), JH22))","v":0},null,null,null,null,196,"",null,null,{"$f":"IF(JQ23=\"\", 0, JQ23 - IF(JQ22=\"\", LOOKUP(2, 1/(JQ$17:JQ21<>\"\"), JQ$17:JQ21), JQ22))","v":0},null,null,null,null,196,"",null,null,{"$f":"IF(JZ23=\"\", 0, JZ23 - IF(JZ22=\"\", LOOKUP(2, 1/(JZ$17:JZ21<>\"\"), JZ$17:JZ21), JZ22))","v":0},null,null,null,null,196,"",null,null,{"$f":"IF(KI23=\"\", 0, KI23 - IF(KI22=\"\", LOOKUP(2, 1/(KI$17:KI21<>\"\"), KI$17:KI21), KI22))","v":0},null,null,null,null,196,"",null,null,{"$f":"IF(KR23=\"\", 0, KR23 - IF(KR22=\"\", LOOKUP(2, 1/(KR$17:KR21<>\"\"), KR$17:KR21), KR22))","v":0},null,null,null,null,196,"",null,null,{"$f":"IF(LA23=\"\", 0, LA23 - IF(LA22=\"\", LOOKUP(2, 1/(LA$17:LA21<>\"\"), LA$17:LA21), LA22))","v":0},null,null,null,null,196,"",null,null,{"$f":"IF(LJ23=\"\", 0, LJ23 - IF(LJ22=\"\", LOOKUP(2, 1/(LJ$17:LJ21<>\"\"), LJ$17:LJ21), LJ22))","v":0},null,null,null,null,196,"",null,null,{"$f":"IF(LS23=\"\", 0, LS23 - IF(LS22=\"\", LOOKUP(2, 1/(LS$17:LS21<>\"\"), LS$17:LS21), LS22))","v":0},null,null,null,null,196,"",null,null,{"$f":"IF(MB23=\"\", 0, MB23 - IF(MB22=\"\", LOOKUP(2, 1/(MB$17:MB21<>\"\"), MB$17:MB21), MB22))","v":0},null,null,null,null,196,"",null,null,{"$f":"IF(MK23=\"\", 0, MK23 - IF(MK22=\"\", LOOKUP(2, 1/(MK$17:MK21<>\"\"), MK$17:MK21), MK22))","v":0},null,null,null,null,196,"",null,null,{"$f":"IF(MT23=\"\", 0, MT23 - IF(MT22=\"\", LOOKUP(2, 1/(MT$17:MT21<>\"\"), MT$17:MT21), MT22))","v":0},null,null,196,"",null,null,{"$f":"IF(NA23=\"\", 0, NA23 - IF(NA22=\"\", LOOKUP(2, 1/(NA$17:NA21<>\"\"), NA$17:NA21), NA22))","v":0},null,null,null,null,196,"",null,null,{"$f":"IF(NJ23=\"\", 0, NJ23 - IF(NJ22=\"\", LOOKUP(2, 1/(NJ$17:NJ21<>\"\"), NJ$17:NJ21), NJ22))","v":0},null,null,null,null,196,"",null,null,{"$f":"IF(NS23=\"\", 0, NS23 - IF(NS22=\"\", LOOKUP(2, 1/(NS$17:NS21<>\"\"), NS$17:NS21), NS22))","v":0},null,null,null,null,196,"",null,null,{"$f":"IF(OB23=\"\", 0, OB23 - IF(OB22=\"\", LOOKUP(2, 1/(OB$17:OB21<>\"\"), OB$17:OB21), OB22))","v":0},null,null,null,null,196,"",null,null,{"$f":"IF(OK23=\"\", 0, OK23 - IF(OK22=\"\", LOOKUP(2, 1/(OK$17:OK21<>\"\"), OK$17:OK21), OK22))","v":0},null,null,null,null,196,"",null,null,{"$f":"IF(OT23=\"\", 0, OT23 - IF(OT22=\"\", LOOKUP(2, 1/(OT$17:OT21<>\"\"), OT$17:OT21), OT22))","v":0},null,null,null,null,196,"",null,null,{"$f":"IF(PC23=\"\", 0, PC23 - IF(PC22=\"\", LOOKUP(2, 1/(PC$17:PC21<>\"\"), PC$17:PC21), PC22))","v":0},null,null,null,null,196,"",null,null,{"$f":"IF(PL23=\"\", 0, PL23 - IF(PL22=\"\", LOOKUP(2, 1/(PL$17:PL21<>\"\"), PL$17:PL21), PL22))","v":0},null,null,null,null,196,"",null,null,{"$f":"IF(PU23=\"\", 0, PU23 - IF(PU22=\"\", LOOKUP(2, 1/(PU$17:PU21<>\"\"), PU$17:PU21), PU22))","v":0},null,null,null,null,196,"",null,null,{"$f":"IF(QD23=\"\", 0, QD23 - IF(QD22=\"\", LOOKUP(2, 1/(QD$17:QD21<>\"\"), QD$17:QD21), QD22))","v":0}]
[null,null,null,195,"",null,null,{"$f":"IF(G24=\"\", 0, G24 - IF(G23=\"\", LOOKUP(2, 1/(G$17:G22<>\"\"), G$17:G22), G23))","v":0},null,null,null,null,195,"",null,null,{"$f":"IF(P24=\"\", 0, P24 - IF(P23=\"\", LOOKUP(2, 1/(P$17:P22<>\"\"), P$17:P22), P23))","v":0},null,null,null,null,195,"",null,null,{"$f":"IF(Y24=\"\", 0, Y24 - IF(Y23=\"\", LOOKUP(2, 1/(Y$17:Y22<>\"\"), Y$17:Y22), Y23))","v":0},null,null,null,null,195,"",null,null,{"$f":"IF(AH24=\"\", 0, AH24 - IF(AH23=\"\", LOOKUP(2, 1/(AH$17:AH22<>\"\"), AH$17:AH22), AH23))","v":0},null,null,null,null,195,"",null,null,{"$f":"IF(AQ24=\"\", 0, AQ24 - IF(AQ23=\"\", LOOKUP(2, 1/(AQ$17:AQ22<>\"\"), AQ$17:AQ22), AQ23))","v":0},null,null,null,null,195,"",null,null,{"$f":"IF(AZ24=\"\", 0, AZ24 - IF(AZ23=\"\", LOOKUP(2, 1/(AZ$17:AZ22<>\"\"), AZ$17:AZ22), AZ23))","v":0},null,null,null,null,195,"",null,null,{"$f":"IF(BI24=\"\", 0, BI24 - IF(BI23=\"\", LOOKUP(2, 1/(BI$17:BI22<>\"\"), BI$17:BI22), BI23))","v":0},null,null,null,null,195,"",null,null,{"$f":"IF(BR24=\"\", 0, BR24 - IF(BR23=\"\", LOOKUP(2, 1/(BR$17:BR22<>\"\"), BR$17:BR22), BR23))","v":0},null,null,null,null,195,"",null,null,{"$f":"IF(CA24=\"\", 0, CA24 - IF(CA23=\"\", LOOKUP(2, 1/(CA$17:CA22<>\"\"), CA$17:CA22), CA23))","v":0},null,null,null,null,195,"",null,null,{"$f":"IF(CJ24=\"\", 0, CJ24 - IF(CJ23=\"\", LOOKUP(2, 1/(CJ$17:CJ22<>\"\"), CJ$17:CJ22), CJ23))","v":0},null,null,null,null,195,"",null,null,{"$f":"IF(CS24=\"\", 0, CS24 - IF(CS23=\"\", LOOKUP(2, 1/(CS$17:CS22<>\"\"), CS$17:CS22), CS23))","v":0},null,null,null,null,195,"",null,null,{"$f":"IF(DB24=\"\", 0, DB24 - IF(DB23=\"\", LOOKUP(2, 1/(DB$17:DB22<>\"\"), DB$17:DB22), DB23))","v":0},null,null,null,null,195,"",null,null,{"$f":"IF(DK24=\"\", 0, DK24 - IF(DK23=\"\", LOOKUP(2, 1/(DK$17:DK22<>\"\"), DK$17:DK22), DK23))","v":0},null,null,null,null,195,"",null,null,{"$f":"IF(DT24=\"\", 0, DT24 - IF(DT23=\"\", LOOKUP(2, 1/(DT$17:DT22<>\"\"), DT$17:DT22), DT23))","v":0},null,null,null,null,195,"",null,null,{"$f":"IF(EC24=\"\", 0, EC24 - IF(EC23=\"\", LOOKUP(2, 1/(EC$17:EC22<>\"\"), EC$17:EC22), EC23))","v":0},null,null,null,null,195,"",null,null,{"$f":"IF(EL24=\"\", 0, EL24 - IF(EL23=\"\", LOOKUP(2, 1/(EL$17:EL22<>\"\"), EL$17:EL22), EL23))","v":0},null,null,null,null,195,"",null,null,{"$f":"IF(EU24=\"\", 0, EU24 - IF(EU23=\"\", LOOKUP(2, 1/(EU$17:EU22<>\"\"), EU$17:EU22), EU23))","v":0},null,null,null,null,195,"",null,null,{"$f":"IF(FD24=\"\", 0, FD24 - IF(FD23=\"\", LOOKUP(2, 1/(FD$17:FD22<>\"\"), FD$17:FD22), FD23))","v":0},null,null,null,null,195,"",null,null,{"$f":"IF(FM24=\"\", 0, FM24 - IF(FM23=\"\", LOOKUP(2, 1/(FM$17:FM22<>\"\"), FM$17:FM22), FM23))","v":0},null,null,null,null,195,"",null,null,{"$f":"IF(FV24=\"\", 0, FV24 - IF(FV23=\"\", LOOKUP(2, 1/(FV$17:FV22<>\"\"), FV$17:FV22), FV23))","v":0},null,null,null,null,195,"",null,null,{"$f":"IF(GE24=\"\", 0, GE24 - IF(GE23=\"\", LOOKUP(2, 1/(GE$17:GE22<>\"\"), GE$17:GE22), GE23))","v":0},null,null,null,null,195,"",null,null,{"$f":"IF(GN24=\"\", 0, GN24 - IF(GN23=\"\", LOOKUP(2, 1/(GN$17:GN22<>\"\"), GN$17:GN22), GN23))","v":0},null,null,null,null,195,"",null,null,{"$f":"IF(GW24=\"\", 0, GW24 - IF(GW23=\"\", LOOKUP(2, 1/(GW$17:GW22<>\"\"), GW$17:GW22), GW23))","v":0},null,null,null,null,195,"",null,null,{"$f":"IF(HF24=\"\", 0, HF24 - IF(HF23=\"\", LOOKUP(2, 1/(HF$17:HF22<>\"\"), HF$17:HF22), HF23))","v":0},null,null,null,null,195,"",null,null,{"$f":"IF(HO24=\"\", 0, HO24 - IF(HO23=\"\", LOOKUP(2, 1/(HO$17:HO22<>\"\"), HO$17:HO22), HO23))","v":0},null,null,null,null,195,"",null,null,{"$f":"IF(HX24=\"\", 0, HX24 - IF(HX23=\"\", LOOKUP(2, 1/(HX$17:HX22<>\"\"), HX$17:HX22), HX23))","v":0},null,null,null,null,195,"",null,null,{"$f":"IF(IG24=\"\", 0, IG24 - IF(IG23=\"\", LOOKUP(2, 1/(IG$17:IG22<>\"\"), IG$17:IG22), IG23))","v":0},null,null,null,null,195,"",null,null,{"$f":"IF(IP24=\"\", 0, IP24 - IF(IP23=\"\", LOOKUP(2, 1/(IP$17:IP22<>\"\"), IP$17:IP22), IP23))","v":0},null,null,null,null,195,"",null,null,{"$f":"IF(IY24=\"\", 0, IY24 - IF(IY23=\"\", LOOKUP(2, 1/(IY$17:IY22<>\"\"), IY$17:IY22), IY23))","v":0},null,null,null,null,195,"",null,null,{"$f":"IF(JH24=\"\", 0, JH24 - IF(JH23=\"\", LOOKUP(2, 1/(JH$17:JH22<>\"\"), JH$17:JH22), JH23))","v":0},null,null,null,null,195,"",null,null,{"$f":"IF(JQ24=\"\", 0, JQ24 - IF(JQ23=\"\", LOOKUP(2, 1/(JQ$17:JQ22<>\"\"), JQ$17:JQ22), JQ23))","v":0},null,null,null,null,195,"",null,null,{"$f":"IF(JZ24=\"\", 0, JZ24 - IF(JZ23=\"\", LOOKUP(2, 1/(JZ$17:JZ22<>\"\"), JZ$17:JZ22), JZ23))","v":0},null,null,null,null,195,"",null,null,{"$f":"IF(KI24=\"\", 0, KI24 - IF(KI23=\"\", LOOKUP(2, 1/(KI$17:KI22<>\"\"), KI$17:KI22), KI23))","v":0},null,null,null,null,195,"",null,null,{"$f":"IF(KR24=\"\", 0, KR24 - IF(KR23=\"\", LOOKUP(2, 1/(KR$17:KR22<>\"\"), KR$17:KR22), KR23))","v":0},null,null,null,null,195,"",null,null,{"$f":"IF(LA24=\"\", 0, LA24 - IF(LA23=\"\", LOOKUP(2, 1/(LA$17:LA22<>\"\"), LA$17:LA22), LA23))","v":0},null,null,null,null,195,"",null,null,{"$f":"IF(LJ24=\"\", 0, LJ24 - IF(LJ23=\"\", LOOKUP(2, 1/(LJ$17:LJ22<>\"\"), LJ$17:LJ22), LJ23))","v":0},null,null,null,null,195,"",null,null,{"$f":"IF(LS24=\"\", 0, LS24 - IF(LS23=\"\", LOOKUP(2, 1/(LS$17:LS22<>\"\"), LS$17:LS22), LS23))","v":0},null,null,null,null,195,"",null,null,{"$f":"IF(MB24=\"\", 0, MB24 - IF(MB23=\"\", LOOKUP(2, 1/(MB$17:MB22<>\"\"), MB$17:MB22), MB23))","v":0},null,null,null,null,195,"",null,null,{"$f":"IF(MK24=\"\", 0, MK24 - IF(MK23=\"\", LOOKUP(2, 1/(MK$17:MK22<>\"\"), MK$17:MK22), MK23))","v":0},null,null,null,null,195,"",null,null,{"$f":"IF(MT24=\"\", 0, MT24 - IF(MT23=\"\", LOOKUP(2, 1/(MT$17:MT22<>\"\"), MT$17:MT22), MT23))","v":0},null,null,195,"",null,null,{"$f":"IF(NA24=\"\", 0, NA24 - IF(NA23=\"\", LOOKUP(2, 1/(NA$17:NA22<>\"\"), NA$17:NA22), NA23))","v":0},null,null,null,null,195,"",null,null,{"$f":"IF(NJ24=\"\", 0, NJ24 - IF(NJ23=\"\", LOOKUP(2, 1/(NJ$17:NJ22<>\"\"), NJ$17:NJ22), NJ23))","v":0},null,null,null,null,195,"",null,null,{"$f":"IF(NS24=\"\", 0, NS24 - IF(NS23=\"\", LOOKUP(2, 1/(NS$17:NS22<>\"\"), NS$17:NS22), NS23))","v":0},null,null,null,null,195,"",null,null,{"$f":"IF(OB24=\"\", 0, OB24 - IF(OB23=\"\", LOOKUP(2, 1/(OB$17:OB22<>\"\"), OB$17:OB22), OB23))","v":0},null,null,null,null,195,"",null,null,{"$f":"IF(OK24=\"\", 0, OK24 - IF(OK23=\"\", LOOKUP(2, 1/(OK$17:OK22<>\"\"), OK$17:OK22), OK23))","v":0},null,null,null,null,195,"",null,null,{"$f":"IF(OT24=\"\", 0, OT24 - IF(OT23=\"\", LOOKUP(2, 1/(OT$17:OT22<>\"\"), OT$17:OT22), OT23))","v":0},null,null,null,null,195,"",null,null,{"$f":"IF(PC24=\"\", 0, PC24 - IF(PC23=\"\", LOOKUP(2, 1/(PC$17:PC22<>\"\"), PC$17:PC22), PC23))","v":0},null,null,null,null,195,"",null,null,{"$f":"IF(PL24=\"\", 0, PL24 - IF(PL23=\"\", LOOKUP(2, 1/(PL$17:PL22<>\"\"), PL$17:PL22), PL23))","v":0},null,null,null,null,195,"",null,null,{"$f":"IF(PU24=\"\", 0, PU24 - IF(PU23=\"\", LOOKUP(2, 1/(PU$17:PU22<>\"\"), PU$17:PU22), PU23))","v":0},null,null,null,null,195,"",null,null,{"$f":"IF(QD24=\"\", 0, QD24 - IF(QD23=\"\", LOOKUP(2, 1/(QD$17:QD22<>\"\"), QD$17:QD22), QD23))","v":0}]
[null,null,null,194,"",null,null,{"$f":"IF(G25=\"\", 0, G25 - IF(G24=\"\", LOOKUP(2, 1/(G$17:G23<>\"\"), G$17:G23), G24))","v":0},null,null,null,null,194,"",null,null,{"$f":"IF(P25=\"\", 0, P25 - IF(P24=\"\", LOOKUP(2, 1/(P$17:P23<>\"\"), P$17:P23), P24))","v":0},null,null,null,null,194,"",null,null,{"$f":"IF(Y25=\"\", 0, Y25 - IF(Y24=\"\", LOOKUP(2, 1/(Y$17:Y23<>\"\"), Y$17:Y23), Y24))","v":0},null,null,null,null,194,"",null,null,{"$f":"IF(AH25=\"\", 0, AH25 - IF(AH24=\"\", LOOKUP(2, 1/(AH$17:AH23<>\"\"), AH$17:AH23), AH24))","v":0},null,null,null,null,194,"",null,null,{"$f":"IF(AQ25=\"\", 0, AQ25 - IF(AQ24=\"\", LOOKUP(2, 1/(AQ$17:AQ23<>\"\"), AQ$17:AQ23), AQ24))","v":0},null,null,null,null,194,"",null,null,{"$f":"IF(AZ25=\"\", 0, AZ25 - IF(AZ24=\"\", LOOKUP(2, 1/(AZ$17:AZ23<>\"\"), AZ$17:AZ23), AZ24))","v":0},null,null,null,null,194,"",null,null,{"$f":"IF(BI25=\"\", 0, BI25 - IF(BI24=\"\", LOOKUP(2, 1/(BI$17:BI23<>\"\"), BI$17:BI23), BI24))","v":0},null,null,null,null,194,"",null,null,{"$f":"IF(BR25=\"\", 0, BR25 - IF(BR24=\"\", LOOKUP(2, 1/(BR$17:BR23<>\"\"), BR$17:BR23), BR24))","v":0},null,null,null,null,194,"",null,null,{"$f":"IF(CA25=\"\", 0, CA25 - IF(CA24=\"\", LOOKUP(2, 1/(CA$17:CA23<>\"\"), CA$17:CA23), CA24))","v":0},null,null,null,null,194,"",null,null,{"$f":"IF(CJ25=\"\", 0, CJ25 - IF(CJ24=\"\", LOOKUP(2, 1/(CJ$17:CJ23<>\"\"), CJ$17:CJ23), CJ24))","v":0},null,null,null,null,194,"",null,null,{"$f":"IF(CS25=\"\", 0, CS25 - IF(CS24=\"\", LOOKUP(2, 1/(CS$17:CS23<>\"\"), CS$17:CS23), CS24))","v":0},null,null,null,null,194,"",null,null,{"$f":"IF(DB25=\"\", 0, DB25 - IF(DB24=\"\", LOOKUP(2, 1/(DB$17:DB23<>\"\"), DB$17:DB23), DB24))","v":0},null,null,null,null,194,"",null,null,{"$f":"IF(DK25=\"\", 0, DK25 - IF(DK24=\"\", LOOKUP(2, 1/(DK$17:DK23<>\"\"), DK$17:DK23), DK24))","v":0},null,null,null,null,194,"",null,null,{"$f":"IF(DT25=\"\", 0, DT25 - IF(DT24=\"\", LOOKUP(2, 1/(DT$17:DT23<>\"\"), DT$17:DT23), DT24))","v":0},null,null,null,null,194,"",null,null,{"$f":"IF(EC25=\"\", 0, EC25 - IF(EC24=\"\", LOOKUP(2, 1/(EC$17:EC23<>\"\"), EC$17:EC23), EC24))","v":0},null,null,null,null,194,"",null,null,{"$f":"IF(EL25=\"\", 0, EL25 - IF(EL24=\"\", LOOKUP(2, 1/(EL$17:EL23<>\"\"), EL$17:EL23), EL24))","v":0},null,null,null,null,194,"",null,null,{"$f":"IF(EU25=\"\", 0, EU25 - IF(EU24=\"\", LOOKUP(2, 1/(EU$17:EU23<>\"\"), EU$17:EU23), EU24))","v":0},null,null,null,null,194,"",null,null,{"$f":"IF(FD25=\"\", 0, FD25 - IF(FD24=\"\", LOOKUP(2, 1/(FD$17:FD23<>\"\"), FD$17:FD23), FD24))","v":0},null,null,null,null,194,"",null,null,{"$f":"IF(FM25=\"\", 0, FM25 - IF(FM24=\"\", LOOKUP(2, 1/(FM$17:FM23<>\"\"), FM$17:FM23), FM24))","v":0},null,null,null,null,194,"",null,null,{"$f":"IF(FV25=\"\", 0, FV25 - IF(FV24=\"\", LOOKUP(2, 1/(FV$17:FV23<>\"\"), FV$17:FV23), FV24))","v":0},null,null,null,null,194,"",null,null,{"$f":"IF(GE25=\"\", 0, GE25 - IF(GE24=\"\", LOOKUP(2, 1/(GE$17:GE23<>\"\"), GE$17:GE23), GE24))","v":0},null,null,null,null,194,"",null,null,{"$f":"IF(GN25=\"\", 0, GN25 - IF(GN24=\"\", LOOKUP(2, 1/(GN$17:GN23<>\"\"), GN$17:GN23), GN24))","v":0},null,null,null,null,194,"",null,null,{"$f":"IF(GW25=\"\", 0, GW25 - IF(GW24=\"\", LOOKUP(2, 1/(GW$17:GW23<>\"\"), GW$17:GW23), GW24))","v":0},null,null,null,null,194,"",null,null,{"$f":"IF(HF25=\"\", 0, HF25 - IF(HF24=\"\", LOOKUP(2, 1/(HF$17:HF23<>\"\"), HF$17:HF23), HF24))","v":0},null,null,null,null,194,"",null,null,{"$f":"IF(HO25=\"\", 0, HO25 - IF(HO24=\"\", LOOKUP(2, 1/(HO$17:HO23<>\"\"), HO$17:HO23), HO24))","v":0},null,null,null,null,194,"",null,null,{"$f":"IF(HX25=\"\", 0, HX25 - IF(HX24=\"\", LOOKUP(2, 1/(HX$17:HX23<>\"\"), HX$17:HX23), HX24))","v":0},null,null,null,null,194,"",null,null,{"$f":"IF(IG25=\"\", 0, IG25 - IF(IG24=\"\", LOOKUP(2, 1/(IG$17:IG23<>\"\"), IG$17:IG23), IG24))","v":0},null,null,null,null,194,"",null,null,{"$f":"IF(IP25=\"\", 0, IP25 - IF(IP24=\"\", LOOKUP(2, 1/(IP$17:IP23<>\"\"), IP$17:IP23), IP24))","v":0},null,null,null,null,194,"",null,null,{"$f":"IF(IY25=\"\", 0, IY25 - IF(IY24=\"\", LOOKUP(2, 1/(IY$17:IY23<>\"\"), IY$17:IY23), IY24))","v":0},null,null,null,null,194,"",null,null,{"$f":"IF(JH25=\"\", 0, JH25 - IF(JH24=\"\", LOOKUP(2, 1/(JH$17:JH23<>\"\"), JH$17:JH23), JH24))","v":0},null,null,null,null,194,"",null,null,{"$f":"IF(JQ25=\"\", 0, JQ25 - IF(JQ24=\"\", LOOKUP(2, 1/(JQ$17:JQ23<>\"\"), JQ$17:JQ23), JQ24))","v":0},null,null,null,null,194,"",null,null,{"$f":"IF(JZ25=\"\", 0, JZ25 - IF(JZ24=\"\", LOOKUP(2, 1/(JZ$17:JZ23<>\"\"), JZ$17:JZ23), JZ24))","v":0},null,null,null,null,194,"",null,null,{"$f":"IF(KI25=\"\", 0, KI25 - IF(KI24=\"\", LOOKUP(2, 1/(KI$17:KI23<>\"\"), KI$17:KI23), KI24))","v":0},null,null,null,null,194,"",null,null,{"$f":"IF(KR25=\"\", 0, KR25 - IF(KR24=\"\", LOOKUP(2, 1/(KR$17:KR23<>\"\"), KR$17:KR23), KR24))","v":0},null,null,null,null,194,"",null,null,{"$f":"IF(LA25=\"\", 0, LA25 - IF(LA24=\"\", LOOKUP(2, 1/(LA$17:LA23<>\"\"), LA$17:LA23), LA24))","v":0},null,null,null,null,194,"",null,null,{"$f":"IF(LJ25=\"\", 0, LJ25 - IF(LJ24=\"\", LOOKUP(2, 1/(LJ$17:LJ23<>\"\"), LJ$17:LJ23), LJ24))","v":0},null,null,null,null,194,"",null,null,{"$f":"IF(LS25=\"\", 0, LS25 - IF(LS24=\"\", LOOKUP(2, 1/(LS$17:LS23<>\"\"), LS$17:LS23), LS24))","v":0},null,null,null,null,194,"",null,null,{"$f":"IF(MB25=\"\", 0, MB25 - IF(MB24=\"\", LOOKUP(2, 1/(MB$17:MB23<>\"\"), MB$17:MB23), MB24))","v":0},null,null,null,null,194,"",null,null,{"$f":"IF(MK25=\"\", 0, MK25 - IF(MK24=\"\", LOOKUP(2, 1/(MK$17:MK23<>\"\"), MK$17:MK23), MK24))","v":0},null,null,null,null,194,"",null,null,{"$f":"IF(MT25=\"\", 0, MT25 - IF(MT24=\"\", LOOKUP(2, 1/(MT$17:MT23<>\"\"), MT$17:MT23), MT24))","v":0},null,null,194,"",null,null,{"$f":"IF(NA25=\"\", 0, NA25 - IF(NA24=\"\", LOOKUP(2, 1/(NA$17:NA23<>\"\"), NA$17:NA23), NA24))","v":0},null,null,null,null,194,"",null,null,{"$f":"IF(NJ25=\"\", 0, NJ25 - IF(NJ24=\"\", LOOKUP(2, 1/(NJ$17:NJ23<>\"\"), NJ$17:NJ23), NJ24))","v":0},null,null,null,null,194,"",null,null,{"$f":"IF(NS25=\"\", 0, NS25 - IF(NS24=\"\", LOOKUP(2, 1/(NS$17:NS23<>\"\"), NS$17:NS23), NS24))","v":0},null,null,null,null,194,"",null,null,{"$f":"IF(OB25=\"\", 0, OB25 - IF(OB24=\"\", LOOKUP(2, 1/(OB$17:OB23<>\"\"), OB$17:OB23), OB24))","v":0},null,null,null,null,194,"",null,null,{"$f":"IF(OK25=\"\", 0, OK25 - IF(OK24=\"\", LOOKUP(2, 1/(OK$17:OK23<>\"\"), OK$17:OK23), OK24))","v":0},null,null,null,null,194,"",null,null,{"$f":"IF(OT25=\"\", 0, OT25 - IF(OT24=\"\", LOOKUP(2, 1/(OT$17:OT23<>\"\"), OT$17:OT23), OT24))","v":0},null,null,null,null,194,"",null,null,{"$f":"IF(PC25=\"\", 0, PC25 - IF(PC24=\"\", LOOKUP(2, 1/(PC$17:PC23<>\"\"), PC$17:PC23), PC24))","v":0},null,null,null,null,194,"",null,null,{"$f":"IF(PL25=\"\", 0, PL25 - IF(PL24=\"\", LOOKUP(2, 1/(PL$17:PL23<>\"\"), PL$17:PL23), PL24))","v":0},null,null,null,null,194,"",null,null,{"$f":"IF(PU25=\"\", 0, PU25 - IF(PU24=\"\", LOOKUP(2, 1/(PU$17:PU23<>\"\"), PU$17:PU23), PU24))","v":0},null,null,null,null,194,"",null,null,{"$f":"IF(QD25=\"\", 0, QD25 - IF(QD24=\"\", LOOKUP(2, 1/(QD$17:QD23<>\"\"), QD$17:QD23), QD24))","v":0}]
[null,null,null,193,"",null,null,{"$f":"IF(G26=\"\", 0, G26 - IF(G25=\"\", LOOKUP(2, 1/(G$17:G24<>\"\"), G$17:G24), G25))","v":0},null,null,null,null,193,"",null,null,{"$f":"IF(P26=\"\", 0, P26 - IF(P25=\"\", LOOKUP(2, 1/(P$17:P24<>\"\"), P$17:P24), P25))","v":0},null,null,null,null,193,"",null,null,{"$f":"IF(Y26=\"\", 0, Y26 - IF(Y25=\"\", LOOKUP(2, 1/(Y$17:Y24<>\"\"), Y$17:Y24), Y25))","v":0},null,null,null,null,193,"",null,null,{"$f":"IF(AH26=\"\", 0, AH26 - IF(AH25=\"\", LOOKUP(2, 1/(AH$17:AH24<>\"\"), AH$17:AH24), AH25))","v":0},null,null,null,null,193,"",null,null,{"$f":"IF(AQ26=\"\", 0, AQ26 - IF(AQ25=\"\", LOOKUP(2, 1/(AQ$17:AQ24<>\"\"), AQ$17:AQ24), AQ25))","v":0},null,null,null,null,193,"",null,null,{"$f":"IF(AZ26=\"\", 0, AZ26 - IF(AZ25=\"\", LOOKUP(2, 1/(AZ$17:AZ24<>\"\"), AZ$17:AZ24), AZ25))","v":0},null,null,null,null,193,"",null,null,{"$f":"IF(BI26=\"\", 0, BI26 - IF(BI25=\"\", LOOKUP(2, 1/(BI$17:BI24<>\"\"), BI$17:BI24), BI25))","v":0},null,null,null,null,193,"",null,null,{"$f":"IF(BR26=\"\", 0, BR26 - IF(BR25=\"\", LOOKUP(2, 1/(BR$17:BR24<>\"\"), BR$17:BR24), BR25))","v":0},null,null,null,null,193,"",null,null,{"$f":"IF(CA26=\"\", 0, CA26 - IF(CA25=\"\", LOOKUP(2, 1/(CA$17:CA24<>\"\"), CA$17:CA24), CA25))","v":0},null,null,null,null,193,"",null,null,{"$f":"IF(CJ26=\"\", 0, CJ26 - IF(CJ25=\"\", LOOKUP(2, 1/(CJ$17:CJ24<>\"\"), CJ$17:CJ24), CJ25))","v":0},null,null,null,null,193,"",null,null,{"$f":"IF(CS26=\"\", 0, CS26 - IF(CS25=\"\", LOOKUP(2, 1/(CS$17:CS24<>\"\"), CS$17:CS24), CS25))","v":0},null,null,null,null,193,"",null,null,{"$f":"IF(DB26=\"\", 0, DB26 - IF(DB25=\"\", LOOKUP(2, 1/(DB$17:DB24<>\"\"), DB$17:DB24), DB25))","v":0},null,null,null,null,193,"",null,null,{"$f":"IF(DK26=\"\", 0, DK26 - IF(DK25=\"\", LOOKUP(2, 1/(DK$17:DK24<>\"\"), DK$17:DK24), DK25))","v":0},null,null,null,null,193,"",null,null,{"$f":"IF(DT26=\"\", 0, DT26 - IF(DT25=\"\", LOOKUP(2, 1/(DT$17:DT24<>\"\"), DT$17:DT24), DT25))","v":0},null,null,null,null,193,"",null,null,{"$f":"IF(EC26=\"\", 0, EC26 - IF(EC25=\"\", LOOKUP(2, 1/(EC$17:EC24<>\"\"), EC$17:EC24), EC25))","v":0},null,null,null,null,193,"",null,null,{"$f":"IF(EL26=\"\", 0, EL26 - IF(EL25=\"\", LOOKUP(2, 1/(EL$17:EL24<>\"\"), EL$17:EL24), EL25))","v":0},null,null,null,null,193,"",null,null,{"$f":"IF(EU26=\"\", 0, EU26 - IF(EU25=\"\", LOOKUP(2, 1/(EU$17:EU24<>\"\"), EU$17:EU24), EU25))","v":0},null,null,null,null,193,"",null,null,{"$f":"IF(FD26=\"\", 0, FD26 - IF(FD25=\"\", LOOKUP(2, 1/(FD$17:FD24<>\"\"), FD$17:FD24), FD25))","v":0},null,null,null,null,193,"",null,null,{"$f":"IF(FM26=\"\", 0, FM26 - IF(FM25=\"\", LOOKUP(2, 1/(FM$17:FM24<>\"\"), FM$17:FM24), FM25))","v":0},null,null,null,null,193,"",null,null,{"$f":"IF(FV26=\"\", 0, FV26 - IF(FV25=\"\", LOOKUP(2, 1/(FV$17:FV24<>\"\"), FV$17:FV24), FV25))","v":0},null,null,null,null,193,"",null,null,{"$f":"IF(GE26=\"\", 0, GE26 - IF(GE25=\"\", LOOKUP(2, 1/(GE$17:GE24<>\"\"), GE$17:GE24), GE25))","v":0},null,null,null,null,193,"",null,null,{"$f":"IF(GN26=\"\", 0, GN26 - IF(GN25=\"\", LOOKUP(2, 1/(GN$17:GN24<>\"\"), GN$17:GN24), GN25))","v":0},null,null,null,null,193,"",null,null,{"$f":"IF(GW26=\"\", 0, GW26 - IF(GW25=\"\", LOOKUP(2, 1/(GW$17:GW24<>\"\"), GW$17:GW24), GW25))","v":0},null,null,null,null,193,"",null,null,{"$f":"IF(HF26=\"\", 0, HF26 - IF(HF25=\"\", LOOKUP(2, 1/(HF$17:HF24<>\"\"), HF$17:HF24), HF25))","v":0},null,null,null,null,193,"",null,null,{"$f":"IF(HO26=\"\", 0, HO26 - IF(HO25=\"\", LOOKUP(2, 1/(HO$17:HO24<>\"\"), HO$17:HO24), HO25))","v":0},null,null,null,null,193,"",null,null,{"$f":"IF(HX26=\"\", 0, HX26 - IF(HX25=\"\", LOOKUP(2, 1/(HX$17:HX24<>\"\"), HX$17:HX24), HX25))","v":0},null,null,null,null,193,"",null,null,{"$f":"IF(IG26=\"\", 0, IG26 - IF(IG25=\"\", LOOKUP(2, 1/(IG$17:IG24<>\"\"), IG$17:IG24), IG25))","v":0},null,null,null,null,193,"",null,null,{"$f":"IF(IP26=\"\", 0, IP26 - IF(IP25=\"\", LOOKUP(2, 1/(IP$17:IP24<>\"\"), IP$17:IP24), IP25))","v":0},null,null,null,null,193,"",null,null,{"$f":"IF(IY26=\"\", 0, IY26 - IF(IY25=\"\", LOOKUP(2, 1/(IY$17:IY24<>\"\"), IY$17:IY24), IY25))","v":0},null,null,null,null,193,"",null,null,{"$f":"IF(JH26=\"\", 0, JH26 - IF(JH25=\"\", LOOKUP(2, 1/(JH$17:JH24<>\"\"), JH$17:JH24), JH25))","v":0},null,null,null,null,193,"",null,null,{"$f":"IF(JQ26=\"\", 0, JQ26 - IF(JQ25=\"\", LOOKUP(2, 1/(JQ$17:JQ24<>\"\"), JQ$17:JQ24), JQ25))","v":0},null,null,null,null,193,"",null,null,{"$f":"IF(JZ26=\"\", 0, JZ26 - IF(JZ25=\"\", LOOKUP(2, 1/(JZ$17:JZ24<>\"\"), JZ$17:JZ24), JZ25))","v":0},null,null,null,null,193,"",null,null,{"$f":"IF(KI26=\"\", 0, KI26 - IF(KI25=\"\", LOOKUP(2, 1/(KI$17:KI24<>\"\"), KI$17:KI24), KI25))","v":0},null,null,null,null,193,"",null,null,{"$f":"IF(KR26=\"\", 0, KR26 - IF(KR25=\"\", LOOKUP(2, 1/(KR$17:KR24<>\"\"), KR$17:KR24), KR25))","v":0},null,null,null,null,193,"",null,null,{"$f":"IF(LA26=\"\", 0, LA26 - IF(LA25=\"\", LOOKUP(2, 1/(LA$17:LA24<>\"\"), LA$17:LA24), LA25))","v":0},null,null,null,null,193,"",null,null,{"$f":"IF(LJ26=\"\", 0, LJ26 - IF(LJ25=\"\", LOOKUP(2, 1/(LJ$17:LJ24<>\"\"), LJ$17:LJ24), LJ25))","v":0},null,null,null,null,193,"",null,null,{"$f":"IF(LS26=\"\", 0, LS26 - IF(LS25=\"\", LOOKUP(2, 1/(LS$17:LS24<>\"\"), LS$17:LS24), LS25))","v":0},null,null,null,null,193,"",null,null,{"$f":"IF(MB26=\"\", 0, MB26 - IF(MB25=\"\", LOOKUP(2, 1/(MB$17:MB24<>\"\"), MB$17:MB24), MB25))","v":0},null,null,null,null,193,"",null,null,{"$f":"IF(MK26=\"\", 0, MK26 - IF(MK25=\"\", LOOKUP(2, 1/(MK$17:MK24<>\"\"), MK$17:MK24), MK25))","v":0},null,null,null,null,193,"",null,null,{"$f":"IF(MT26=\"\", 0, MT26 - IF(MT25=\"\", LOOKUP(2, 1/(MT$17:MT24<>\"\"), MT$17:MT24), MT25))","v":0},null,null,193,"",null,null,{"$f":"IF(NA26=\"\", 0, NA26 - IF(NA25=\"\", LOOKUP(2, 1/(NA$17:NA24<>\"\"), NA$17:NA24), NA25))","v":0},null,null,null,null,193,"",null,null,{"$f":"IF(NJ26=\"\", 0, NJ26 - IF(NJ25=\"\", LOOKUP(2, 1/(NJ$17:NJ24<>\"\"), NJ$17:NJ24), NJ25))","v":0},null,null,null,null,193,"",null,null,{"$f":"IF(NS26=\"\", 0, NS26 - IF(NS25=\"\", LOOKUP(2, 1/(NS$17:NS24<>\"\"), NS$17:NS24), NS25))","v":0},null,null,null,null,193,"",null,null,{"$f":"IF(OB26=\"\", 0, OB26 - IF(OB25=\"\", LOOKUP(2, 1/(OB$17:OB24<>\"\"), OB$17:OB24), OB25))","v":0},null,null,null,null,193,"",null,null,{"$f":"IF(OK26=\"\", 0, OK26 - IF(OK25=\"\", LOOKUP(2, 1/(OK$17:OK24<>\"\"), OK$17:OK24), OK25))","v":0},null,null,null,null,193,"",null,null,{"$f":"IF(OT26=\"\", 0, OT26 - IF(OT25=\"\", LOOKUP(2, 1/(OT$17:OT24<>\"\"), OT$17:OT24), OT25))","v":0},null,null,null,null,193,"",null,null,{"$f":"IF(PC26=\"\", 0, PC26 - IF(PC25=\"\", LOOKUP(2, 1/(PC$17:PC24<>\"\"), PC$17:PC24), PC25))","v":0},null,null,null,null,193,"",null,null,{"$f":"IF(PL26=\"\", 0, PL26 - IF(PL25=\"\", LOOKUP(2, 1/(PL$17:PL24<>\"\"), PL$17:PL24), PL25))","v":0},null,null,null,null,193,"",null,null,{"$f":"IF(PU26=\"\", 0, PU26 - IF(PU25=\"\", LOOKUP(2, 1/(PU$17:PU24<>\"\"), PU$17:PU24), PU25))","v":0},null,null,null,null,193,"",null,null,{"$f":"IF(QD26=\"\", 0, QD26 - IF(QD25=\"\", LOOKUP(2, 1/(QD$17:QD24<>\"\"), QD$17:QD24), QD25))","v":0}]
[null,null,null,192,"",null,null,{"$f":"IF(G27=\"\", 0, G27 - IF(G26=\"\", LOOKUP(2, 1/(G$17:G25<>\"\"), G$17:G25), G26))","v":0},null,null,null,null,192,"",null,null,{"$f":"IF(P27=\"\", 0, P27 - IF(P26=\"\", LOOKUP(2, 1/(P$17:P25<>\"\"), P$17:P25), P26))","v":0},null,null,null,null,192,"",null,null,{"$f":"IF(Y27=\"\", 0, Y27 - IF(Y26=\"\", LOOKUP(2, 1/(Y$17:Y25<>\"\"), Y$17:Y25), Y26))","v":0},null,null,null,null,192,"",null,null,{"$f":"IF(AH27=\"\", 0, AH27 - IF(AH26=\"\", LOOKUP(2, 1/(AH$17:AH25<>\"\"), AH$17:AH25), AH26))","v":0},null,null,null,null,192,"",null,null,{"$f":"IF(AQ27=\"\", 0, AQ27 - IF(AQ26=\"\", LOOKUP(2, 1/(AQ$17:AQ25<>\"\"), AQ$17:AQ25), AQ26))","v":0},null,null,null,null,192,"",null,null,{"$f":"IF(AZ27=\"\", 0, AZ27 - IF(AZ26=\"\", LOOKUP(2, 1/(AZ$17:AZ25<>\"\"), AZ$17:AZ25), AZ26))","v":0},null,null,null,null,192,"",null,null,{"$f":"IF(BI27=\"\", 0, BI27 - IF(BI26=\"\", LOOKUP(2, 1/(BI$17:BI25<>\"\"), BI$17:BI25), BI26))","v":0},null,null,null,null,192,"",null,null,{"$f":"IF(BR27=\"\", 0, BR27 - IF(BR26=\"\", LOOKUP(2, 1/(BR$17:BR25<>\"\"), BR$17:BR25), BR26))","v":0},null,null,null,null,192,"",null,null,{"$f":"IF(CA27=\"\", 0, CA27 - IF(CA26=\"\", LOOKUP(2, 1/(CA$17:CA25<>\"\"), CA$17:CA25), CA26))","v":0},null,null,null,null,192,"",null,null,{"$f":"IF(CJ27=\"\", 0, CJ27 - IF(CJ26=\"\", LOOKUP(2, 1/(CJ$17:CJ25<>\"\"), CJ$17:CJ25), CJ26))","v":0},null,null,null,null,192,"",null,null,{"$f":"IF(CS27=\"\", 0, CS27 - IF(CS26=\"\", LOOKUP(2, 1/(CS$17:CS25<>\"\"), CS$17:CS25), CS26))","v":0},null,null,null,null,192,"",null,null,{"$f":"IF(DB27=\"\", 0, DB27 - IF(DB26=\"\", LOOKUP(2, 1/(DB$17:DB25<>\"\"), DB$17:DB25), DB26))","v":0},null,null,null,null,192,"",null,null,{"$f":"IF(DK27=\"\", 0, DK27 - IF(DK26=\"\", LOOKUP(2, 1/(DK$17:DK25<>\"\"), DK$17:DK25), DK26))","v":0},null,null,null,null,192,"",null,null,{"$f":"IF(DT27=\"\", 0, DT27 - IF(DT26=\"\", LOOKUP(2, 1/(DT$17:DT25<>\"\"), DT$17:DT25), DT26))","v":0},null,null,null,null,192,"",null,null,{"$f":"IF(EC27=\"\", 0, EC27 - IF(EC26=\"\", LOOKUP(2, 1/(EC$17:EC25<>\"\"), EC$17:EC25), EC26))","v":0},null,null,null,null,192,"",null,null,{"$f":"IF(EL27=\"\", 0, EL27 - IF(EL26=\"\", LOOKUP(2, 1/(EL$17:EL25<>\"\"), EL$17:EL25), EL26))","v":0},null,null,null,null,192,"",null,null,{"$f":"IF(EU27=\"\", 0, EU27 - IF(EU26=\"\", LOOKUP(2, 1/(EU$17:EU25<>\"\"), EU$17:EU25), EU26))","v":0},null,null,null,null,192,"",null,null,{"$f":"IF(FD27=\"\", 0, FD27 - IF(FD26=\"\", LOOKUP(2, 1/(FD$17:FD25<>\"\"), FD$17:FD25), FD26))","v":0},null,null,null,null,192,"",null,null,{"$f":"IF(FM27=\"\", 0, FM27 - IF(FM26=\"\", LOOKUP(2, 1/(FM$17:FM25<>\"\"), FM$17:FM25), FM26))","v":0},null,null,null,null,192,"",null,null,{"$f":"IF(FV27=\"\", 0, FV27 - IF(FV26=\"\", LOOKUP(2, 1/(FV$17:FV25<>\"\"), FV$17:FV25), FV26))","v":0},null,null,null,null,192,"",null,null,{"$f":"IF(GE27=\"\", 0, GE27 - IF(GE26=\"\", LOOKUP(2, 1/(GE$17:GE25<>\"\"), GE$17:GE25), GE26))","v":0},null,null,null,null,192,"",null,null,{"$f":"IF(GN27=\"\", 0, GN27 - IF(GN26=\"\", LOOKUP(2, 1/(GN$17:GN25<>\"\"), GN$17:GN25), GN26))","v":0},null,null,null,null,192,"",null,null,{"$f":"IF(GW27=\"\", 0, GW27 - IF(GW26=\"\", LOOKUP(2, 1/(GW$17:GW25<>\"\"), GW$17:GW25), GW26))","v":0},null,null,null,null,192,"",null,null,{"$f":"IF(HF27=\"\", 0, HF27 - IF(HF26=\"\", LOOKUP(2, 1/(HF$17:HF25<>\"\"), HF$17:HF25), HF26))","v":0},null,null,null,null,192,"",null,null,{"$f":"IF(HO27=\"\", 0, HO27 - IF(HO26=\"\", LOOKUP(2, 1/(HO$17:HO25<>\"\"), HO$17:HO25), HO26))","v":0},null,null,null,null,192,"",null,null,{"$f":"IF(HX27=\"\", 0, HX27 - IF(HX26=\"\", LOOKUP(2, 1/(HX$17:HX25<>\"\"), HX$17:HX25), HX26))","v":0},null,null,null,null,192,"",null,null,{"$f":"IF(IG27=\"\", 0, IG27 - IF(IG26=\"\", LOOKUP(2, 1/(IG$17:IG25<>\"\"), IG$17:IG25), IG26))","v":0},null,null,null,null,192,"",null,null,{"$f":"IF(IP27=\"\", 0, IP27 - IF(IP26=\"\", LOOKUP(2, 1/(IP$17:IP25<>\"\"), IP$17:IP25), IP26))","v":0},null,null,null,null,192,"",null,null,{"$f":"IF(IY27=\"\", 0, IY27 - IF(IY26=\"\", LOOKUP(2, 1/(IY$17:IY25<>\"\"), IY$17:IY25), IY26))","v":0},null,null,null,null,192,"",null,null,{"$f":"IF(JH27=\"\", 0, JH27 - IF(JH26=\"\", LOOKUP(2, 1/(JH$17:JH25<>\"\"), JH$17:JH25), JH26))","v":0},null,null,null,null,192,"",null,null,{"$f":"IF(JQ27=\"\", 0, JQ27 - IF(JQ26=\"\", LOOKUP(2, 1/(JQ$17:JQ25<>\"\"), JQ$17:JQ25), JQ26))","v":0},null,null,null,null,192,"",null,null,{"$f":"IF(JZ27=\"\", 0, JZ27 - IF(JZ26=\"\", LOOKUP(2, 1/(JZ$17:JZ25<>\"\"), JZ$17:JZ25), JZ26))","v":0},null,null,null,null,192,"",null,null,{"$f":"IF(KI27=\"\", 0, KI27 - IF(KI26=\"\", LOOKUP(2, 1/(KI$17:KI25<>\"\"), KI$17:KI25), KI26))","v":0},null,null,null,null,192,"",null,null,{"$f":"IF(KR27=\"\", 0, KR27 - IF(KR26=\"\", LOOKUP(2, 1/(KR$17:KR25<>\"\"), KR$17:KR25), KR26))","v":0},null,null,null,null,192,"",null,null,{"$f":"IF(LA27=\"\", 0, LA27 - IF(LA26=\"\", LOOKUP(2, 1/(LA$17:LA25<>\"\"), LA$17:LA25), LA26))","v":0},null,null,null,null,192,"",null,null,{"$f":"IF(LJ27=\"\", 0, LJ27 - IF(LJ26=\"\", LOOKUP(2, 1/(LJ$17:LJ25<>\"\"), LJ$17:LJ25), LJ26))","v":0},null,null,null,null,192,"",null,null,{"$f":"IF(LS27=\"\", 0, LS27 - IF(LS26=\"\", LOOKUP(2, 1/(LS$17:LS25<>\"\"), LS$17:LS25), LS26))","v":0},null,null,null,null,192,"",null,null,{"$f":"IF(MB27=\"\", 0, MB27 - IF(MB26=\"\", LOOKUP(2, 1/(MB$17:MB25<>\"\"), MB$17:MB25), MB26))","v":0},null,null,null,null,192,"",null,null,{"$f":"IF(MK27=\"\", 0, MK27 - IF(MK26=\"\", LOOKUP(2, 1/(MK$17:MK25<>\"\"), MK$17:MK25), MK26))","v":0},null,null,null,null,192,"",null,null,{"$f":"IF(MT27=\"\", 0, MT27 - IF(MT26=\"\", LOOKUP(2, 1/(MT$17:MT25<>\"\"), MT$17:MT25), MT26))","v":0},null,null,192,"",null,null,{"$f":"IF(NA27=\"\", 0, NA27 - IF(NA26=\"\", LOOKUP(2, 1/(NA$17:NA25<>\"\"), NA$17:NA25), NA26))","v":0},null,null,null,null,192,"",null,null,{"$f":"IF(NJ27=\"\", 0, NJ27 - IF(NJ26=\"\", LOOKUP(2, 1/(NJ$17:NJ25<>\"\"), NJ$17:NJ25), NJ26))","v":0},null,null,null,null,192,"",null,null,{"$f":"IF(NS27=\"\", 0, NS27 - IF(NS26=\"\", LOOKUP(2, 1/(NS$17:NS25<>\"\"), NS$17:NS25), NS26))","v":0},null,null,null,null,192,"",null,null,{"$f":"IF(OB27=\"\", 0, OB27 - IF(OB26=\"\", LOOKUP(2, 1/(OB$17:OB25<>\"\"), OB$17:OB25), OB26))","v":0},null,null,null,null,192,"",null,null,{"$f":"IF(OK27=\"\", 0, OK27 - IF(OK26=\"\", LOOKUP(2, 1/(OK$17:OK25<>\"\"), OK$17:OK25), OK26))","v":0},null,null,null,null,192,"",null,null,{"$f":"IF(OT27=\"\", 0, OT27 - IF(OT26=\"\", LOOKUP(2, 1/(OT$17:OT25<>\"\"), OT$17:OT25), OT26))","v":0},null,null,null,null,192,"",null,null,{"$f":"IF(PC27=\"\", 0, PC27 - IF(PC26=\"\", LOOKUP(2, 1/(PC$17:PC25<>\"\"), PC$17:PC25), PC26))","v":0},null,null,null,null,192,"",null,null,{"$f":"IF(PL27=\"\", 0, PL27 - IF(PL26=\"\", LOOKUP(2, 1/(PL$17:PL25<>\"\"), PL$17:PL25), PL26))","v":0},null,null,null,null,192,"",null,null,{"$f":"IF(PU27=\"\", 0, PU27 - IF(PU26=\"\", LOOKUP(2, 1/(PU$17:PU25<>\"\"), PU$17:PU25), PU26))","v":0},null,null,null,null,192,"",null,null,{"$f":"IF(QD27=\"\", 0, QD27 - IF(QD26=\"\", LOOKUP(2, 1/(QD$17:QD25<>\"\"), QD$17:QD25), QD26))","v":0}]
[null,null,null,191,"",null,null,{"$f":"IF(G28=\"\", 0, G28 - IF(G27=\"\", LOOKUP(2, 1/(G$17:G26<>\"\"), G$17:G26), G27))","v":0},null,null,null,null,191,"",null,null,{"$f":"IF(P28=\"\", 0, P28 - IF(P27=\"\", LOOKUP(2, 1/(P$17:P26<>\"\"), P$17:P26), P27))","v":0},null,null,null,null,191,"",null,null,{"$f":"IF(Y28=\"\", 0, Y28 - IF(Y27=\"\", LOOKUP(2, 1/(Y$17:Y26<>\"\"), Y$17:Y26), Y27))","v":0},null,null,null,null,191,"",null,null,{"$f":"IF(AH28=\"\", 0, AH28 - IF(AH27=\"\", LOOKUP(2, 1/(AH$17:AH26<>\"\"), AH$17:AH26), AH27))","v":0},null,null,null,null,191,"",null,null,{"$f":"IF(AQ28=\"\", 0, AQ28 - IF(AQ27=\"\", LOOKUP(2, 1/(AQ$17:AQ26<>\"\"), AQ$17:AQ26), AQ27))","v":0},null,null,null,null,191,"",null,null,{"$f":"IF(AZ28=\"\", 0, AZ28 - IF(AZ27=\"\", LOOKUP(2, 1/(AZ$17:AZ26<>\"\"), AZ$17:AZ26), AZ27))","v":0},null,null,null,null,191,"",null,null,{"$f":"IF(BI28=\"\", 0, BI28 - IF(BI27=\"\", LOOKUP(2, 1/(BI$17:BI26<>\"\"), BI$17:BI26), BI27))","v":0},null,null,null,null,191,"",null,null,{"$f":"IF(BR28=\"\", 0, BR28 - IF(BR27=\"\", LOOKUP(2, 1/(BR$17:BR26<>\"\"), BR$17:BR26), BR27))","v":0},null,null,null,null,191,"",null,null,{"$f":"IF(CA28=\"\", 0, CA28 - IF(CA27=\"\", LOOKUP(2, 1/(CA$17:CA26<>\"\"), CA$17:CA26), CA27))","v":0},null,null,null,null,191,"",null,null,{"$f":"IF(CJ28=\"\", 0, CJ28 - IF(CJ27=\"\", LOOKUP(2, 1/(CJ$17:CJ26<>\"\"), CJ$17:CJ26), CJ27))","v":0},null,null,null,null,191,"",null,null,{"$f":"IF(CS28=\"\", 0, CS28 - IF(CS27=\"\", LOOKUP(2, 1/(CS$17:CS26<>\"\"), CS$17:CS26), CS27))","v":0},null,null,null,null,191,"",null,null,{"$f":"IF(DB28=\"\", 0, DB28 - IF(DB27=\"\", LOOKUP(2, 1/(DB$17:DB26<>\"\"), DB$17:DB26), DB27))","v":0},null,null,null,null,191,"",null,null,{"$f":"IF(DK28=\"\", 0, DK28 - IF(DK27=\"\", LOOKUP(2, 1/(DK$17:DK26<>\"\"), DK$17:DK26), DK27))","v":0},null,null,null,null,191,"",null,null,{"$f":"IF(DT28=\"\", 0, DT28 - IF(DT27=\"\", LOOKUP(2, 1/(DT$17:DT26<>\"\"), DT$17:DT26), DT27))","v":0},null,null,null,null,191,"",null,null,{"$f":"IF(EC28=\"\", 0, EC28 - IF(EC27=\"\", LOOKUP(2, 1/(EC$17:EC26<>\"\"), EC$17:EC26), EC27))","v":0},null,null,null,null,191,"",null,null,{"$f":"IF(EL28=\"\", 0, EL28 - IF(EL27=\"\", LOOKUP(2, 1/(EL$17:EL26<>\"\"), EL$17:EL26), EL27))","v":0},null,null,null,null,191,"",null,null,{"$f":"IF(EU28=\"\", 0, EU28 - IF(EU27=\"\", LOOKUP(2, 1/(EU$17:EU26<>\"\"), EU$17:EU26), EU27))","v":0},null,null,null,null,191,"",null,null,{"$f":"IF(FD28=\"\", 0, FD28 - IF(FD27=\"\", LOOKUP(2, 1/(FD$17:FD26<>\"\"), FD$17:FD26), FD27))","v":0},null,null,null,null,191,"",null,null,{"$f":"IF(FM28=\"\", 0, FM28 - IF(FM27=\"\", LOOKUP(2, 1/(FM$17:FM26<>\"\"), FM$17:FM26), FM27))","v":0},null,null,null,null,191,"",null,null,{"$f":"IF(FV28=\"\", 0, FV28 - IF(FV27=\"\", LOOKUP(2, 1/(FV$17:FV26<>\"\"), FV$17:FV26), FV27))","v":0},null,null,null,null,191,"",null,null,{"$f":"IF(GE28=\"\", 0, GE28 - IF(GE27=\"\", LOOKUP(2, 1/(GE$17:GE26<>\"\"), GE$17:GE26), GE27))","v":0},null,null,null,null,191,"",null,null,{"$f":"IF(GN28=\"\", 0, GN28 - IF(GN27=\"\", LOOKUP(2, 1/(GN$17:GN26<>\"\"), GN$17:GN26), GN27))","v":0},null,null,null,null,191,"",null,null,{"$f":"IF(GW28=\"\", 0, GW28 - IF(GW27=\"\", LOOKUP(2, 1/(GW$17:GW26<>\"\"), GW$17:GW26), GW27))","v":0},null,null,null,null,191,"",null,null,{"$f":"IF(HF28=\"\", 0, HF28 - IF(HF27=\"\", LOOKUP(2, 1/(HF$17:HF26<>\"\"), HF$17:HF26), HF27))","v":0},null,null,null,null,191,"",null,null,{"$f":"IF(HO28=\"\", 0, HO28 - IF(HO27=\"\", LOOKUP(2, 1/(HO$17:HO26<>\"\"), HO$17:HO26), HO27))","v":0},null,null,null,null,191,"",null,null,{"$f":"IF(HX28=\"\", 0, HX28 - IF(HX27=\"\", LOOKUP(2, 1/(HX$17:HX26<>\"\"), HX$17:HX26), HX27))","v":0},null,null,null,null,191,"",null,null,{"$f":"IF(IG28=\"\", 0, IG28 - IF(IG27=\"\", LOOKUP(2, 1/(IG$17:IG26<>\"\"), IG$17:IG26), IG27))","v":0},null,null,null,null,191,"",null,null,{"$f":"IF(IP28=\"\", 0, IP28 - IF(IP27=\"\", LOOKUP(2, 1/(IP$17:IP26<>\"\"), IP$17:IP26), IP27))","v":0},null,null,null,null,191,"",null,null,{"$f":"IF(IY28=\"\", 0, IY28 - IF(IY27=\"\", LOOKUP(2, 1/(IY$17:IY26<>\"\"), IY$17:IY26), IY27))","v":0},null,null,null,null,191,"",null,null,{"$f":"IF(JH28=\"\", 0, JH28 - IF(JH27=\"\", LOOKUP(2, 1/(JH$17:JH26<>\"\"), JH$17:JH26), JH27))","v":0},null,null,null,null,191,"",null,null,{"$f":"IF(JQ28=\"\", 0, JQ28 - IF(JQ27=\"\", LOOKUP(2, 1/(JQ$17:JQ26<>\"\"), JQ$17:JQ26), JQ27))","v":0},null,null,null,null,191,"",null,null,{"$f":"IF(JZ28=\"\", 0, JZ28 - IF(JZ27=\"\", LOOKUP(2, 1/(JZ$17:JZ26<>\"\"), JZ$17:JZ26), JZ27))","v":0},null,null,null,null,191,"",null,null,{"$f":"IF(KI28=\"\", 0, KI28 - IF(KI27=\"\", LOOKUP(2, 1/(KI$17:KI26<>\"\"), KI$17:KI26), KI27))","v":0},null,null,null,null,191,"",null,null,{"$f":"IF(KR28=\"\", 0, KR28 - IF(KR27=\"\", LOOKUP(2, 1/(KR$17:KR26<>\"\"), KR$17:KR26), KR27))","v":0},null,null,null,null,191,"",null,null,{"$f":"IF(LA28=\"\", 0, LA28 - IF(LA27=\"\", LOOKUP(2, 1/(LA$17:LA26<>\"\"), LA$17:LA26), LA27))","v":0},null,null,null,null,191,"",null,null,{"$f":"IF(LJ28=\"\", 0, LJ28 - IF(LJ27=\"\", LOOKUP(2, 1/(LJ$17:LJ26<>\"\"), LJ$17:LJ26), LJ27))","v":0},null,null,null,null,191,"",null,null,{"$f":"IF(LS28=\"\", 0, LS28 - IF(LS27=\"\", LOOKUP(2, 1/(LS$17:LS26<>\"\"), LS$17:LS26), LS27))","v":0},null,null,null,null,191,"",null,null,{"$f":"IF(MB28=\"\", 0, MB28 - IF(MB27=\"\", LOOKUP(2, 1/(MB$17:MB26<>\"\"), MB$17:MB26), MB27))","v":0},null,null,null,null,191,"",null,null,{"$f":"IF(MK28=\"\", 0, MK28 - IF(MK27=\"\", LOOKUP(2, 1/(MK$17:MK26<>\"\"), MK$17:MK26), MK27))","v":0},null,null,null,null,191,"",null,null,{"$f":"IF(MT28=\"\", 0, MT28 - IF(MT27=\"\", LOOKUP(2, 1/(MT$17:MT26<>\"\"), MT$17:MT26), MT27))","v":0},null,null,191,"",null,null,{"$f":"IF(NA28=\"\", 0, NA28 - IF(NA27=\"\", LOOKUP(2, 1/(NA$17:NA26<>\"\"), NA$17:NA26), NA27))","v":0},null,null,null,null,191,"",null,null,{"$f":"IF(NJ28=\"\", 0, NJ28 - IF(NJ27=\"\", LOOKUP(2, 1/(NJ$17:NJ26<>\"\"), NJ$17:NJ26), NJ27))","v":0},null,null,null,null,191,"",null,null,{"$f":"IF(NS28=\"\", 0, NS28 - IF(NS27=\"\", LOOKUP(2, 1/(NS$17:NS26<>\"\"), NS$17:NS26), NS27))","v":0},null,null,null,null,191,"",null,null,{"$f":"IF(OB28=\"\", 0, OB28 - IF(OB27=\"\", LOOKUP(2, 1/(OB$17:OB26<>\"\"), OB$17:OB26), OB27))","v":0},null,null,null,null,191,"",null,null,{"$f":"IF(OK28=\"\", 0, OK28 - IF(OK27=\"\", LOOKUP(2, 1/(OK$17:OK26<>\"\"), OK$17:OK26), OK27))","v":0},null,null,null,null,191,"",null,null,{"$f":"IF(OT28=\"\", 0, OT28 - IF(OT27=\"\", LOOKUP(2, 1/(OT$17:OT26<>\"\"), OT$17:OT26), OT27))","v":0},null,null,null,null,191,"",null,null,{"$f":"IF(PC28=\"\", 0, PC28 - IF(PC27=\"\", LOOKUP(2, 1/(PC$17:PC26<>\"\"), PC$17:PC26), PC27))","v":0},null,null,null,null,191,"",null,null,{"$f":"IF(PL28=\"\", 0, PL28 - IF(PL27=\"\", LOOKUP(2, 1/(PL$17:PL26<>\"\"), PL$17:PL26), PL27))","v":0},null,null,null,null,191,"",null,null,{"$f":"IF(PU28=\"\", 0, PU28 - IF(PU27=\"\", LOOKUP(2, 1/(PU$17:PU26<>\"\"), PU$17:PU26), PU27))","v":0},null,null,null,null,191,"",null,null,{"$f":"IF(QD28=\"\", 0, QD28 - IF(QD27=\"\", LOOKUP(2, 1/(QD$17:QD26<>\"\"), QD$17:QD26), QD27))","v":0}]
[null,null,null,190,"",null,null,{"$f":"IF(G29=\"\", 0, G29 - IF(G28=\"\", LOOKUP(2, 1/(G$17:G27<>\"\"), G$17:G27), G28))","v":0},null,null,null,null,190,"",null,null,{"$f":"IF(P29=\"\", 0, P29 - IF(P28=\"\", LOOKUP(2, 1/(P$17:P27<>\"\"), P$17:P27), P28))","v":0},null,null,null,null,190,"",null,null,{"$f":"IF(Y29=\"\", 0, Y29 - IF(Y28=\"\", LOOKUP(2, 1/(Y$17:Y27<>\"\"), Y$17:Y27), Y28))","v":0},null,null,null,null,190,"",null,null,{"$f":"IF(AH29=\"\", 0, AH29 - IF(AH28=\"\", LOOKUP(2, 1/(AH$17:AH27<>\"\"), AH$17:AH27), AH28))","v":0},null,null,null,null,190,"",null,null,{"$f":"IF(AQ29=\"\", 0, AQ29 - IF(AQ28=\"\", LOOKUP(2, 1/(AQ$17:AQ27<>\"\"), AQ$17:AQ27), AQ28))","v":0},null,null,null,null,190,"",null,null,{"$f":"IF(AZ29=\"\", 0, AZ29 - IF(AZ28=\"\", LOOKUP(2, 1/(AZ$17:AZ27<>\"\"), AZ$17:AZ27), AZ28))","v":0},null,null,null,null,190,"",null,null,{"$f":"IF(BI29=\"\", 0, BI29 - IF(BI28=\"\", LOOKUP(2, 1/(BI$17:BI27<>\"\"), BI$17:BI27), BI28))","v":0},null,null,null,null,190,"",null,null,{"$f":"IF(BR29=\"\", 0, BR29 - IF(BR28=\"\", LOOKUP(2, 1/(BR$17:BR27<>\"\"), BR$17:BR27), BR28))","v":0},null,null,null,null,190,"",null,null,{"$f":"IF(CA29=\"\", 0, CA29 - IF(CA28=\"\", LOOKUP(2, 1/(CA$17:CA27<>\"\"), CA$17:CA27), CA28))","v":0},null,null,null,null,190,"",null,null,{"$f":"IF(CJ29=\"\", 0, CJ29 - IF(CJ28=\"\", LOOKUP(2, 1/(CJ$17:CJ27<>\"\"), CJ$17:CJ27), CJ28))","v":0},null,null,null,null,190,"",null,null,{"$f":"IF(CS29=\"\", 0, CS29 - IF(CS28=\"\", LOOKUP(2, 1/(CS$17:CS27<>\"\"), CS$17:CS27), CS28))","v":0},null,null,null,null,190,"",null,null,{"$f":"IF(DB29=\"\", 0, DB29 - IF(DB28=\"\", LOOKUP(2, 1/(DB$17:DB27<>\"\"), DB$17:DB27), DB28))","v":0},null,null,null,null,190,"",null,null,{"$f":"IF(DK29=\"\", 0, DK29 - IF(DK28=\"\", LOOKUP(2, 1/(DK$17:DK27<>\"\"), DK$17:DK27), DK28))","v":0},null,null,null,null,190,"",null,null,{"$f":"IF(DT29=\"\", 0, DT29 - IF(DT28=\"\", LOOKUP(2, 1/(DT$17:DT27<>\"\"), DT$17:DT27), DT28))","v":0},null,null,null,null,190,"",null,null,{"$f":"IF(EC29=\"\", 0, EC29 - IF(EC28=\"\", LOOKUP(2, 1/(EC$17:EC27<>\"\"), EC$17:EC27), EC28))","v":0},null,null,null,null,190,"",null,null,{"$f":"IF(EL29=\"\", 0, EL29 - IF(EL28=\"\", LOOKUP(2, 1/(EL$17:EL27<>\"\"), EL$17:EL27), EL28))","v":0},null,null,null,null,190,"",null,null,{"$f":"IF(EU29=\"\", 0, EU29 - IF(EU28=\"\", LOOKUP(2, 1/(EU$17:EU27<>\"\"), EU$17:EU27), EU28))","v":0},null,null,null,null,190,"",null,null,{"$f":"IF(FD29=\"\", 0, FD29 - IF(FD28=\"\", LOOKUP(2, 1/(FD$17:FD27<>\"\"), FD$17:FD27), FD28))","v":0},null,null,null,null,190,"",null,null,{"$f":"IF(FM29=\"\", 0, FM29 - IF(FM28=\"\", LOOKUP(2, 1/(FM$17:FM27<>\"\"), FM$17:FM27), FM28))","v":0},null,null,null,null,190,"",null,null,{"$f":"IF(FV29=\"\", 0, FV29 - IF(FV28=\"\", LOOKUP(2, 1/(FV$17:FV27<>\"\"), FV$17:FV27), FV28))","v":0},null,null,null,null,190,"",null,null,{"$f":"IF(GE29=\"\", 0, GE29 - IF(GE28=\"\", LOOKUP(2, 1/(GE$17:GE27<>\"\"), GE$17:GE27), GE28))","v":0},null,null,null,null,190,"",null,null,{"$f":"IF(GN29=\"\", 0, GN29 - IF(GN28=\"\", LOOKUP(2, 1/(GN$17:GN27<>\"\"), GN$17:GN27), GN28))","v":0},null,null,null,null,190,"",null,null,{"$f":"IF(GW29=\"\", 0, GW29 - IF(GW28=\"\", LOOKUP(2, 1/(GW$17:GW27<>\"\"), GW$17:GW27), GW28))","v":0},null,null,null,null,190,"",null,null,{"$f":"IF(HF29=\"\", 0, HF29 - IF(HF28=\"\", LOOKUP(2, 1/(HF$17:HF27<>\"\"), HF$17:HF27), HF28))","v":0},null,null,null,null,190,"",null,null,{"$f":"IF(HO29=\"\", 0, HO29 - IF(HO28=\"\", LOOKUP(2, 1/(HO$17:HO27<>\"\"), HO$17:HO27), HO28))","v":0},null,null,null,null,190,"",null,null,{"$f":"IF(HX29=\"\", 0, HX29 - IF(HX28=\"\", LOOKUP(2, 1/(HX$17:HX27<>\"\"), HX$17:HX27), HX28))","v":0},null,null,null,null,190,"",null,null,{"$f":"IF(IG29=\"\", 0, IG29 - IF(IG28=\"\", LOOKUP(2, 1/(IG$17:IG27<>\"\"), IG$17:IG27), IG28))","v":0},null,null,null,null,190,"",null,null,{"$f":"IF(IP29=\"\", 0, IP29 - IF(IP28=\"\", LOOKUP(2, 1/(IP$17:IP27<>\"\"), IP$17:IP27), IP28))","v":0},null,null,null,null,190,"",null,null,{"$f":"IF(IY29=\"\", 0, IY29 - IF(IY28=\"\", LOOKUP(2, 1/(IY$17:IY27<>\"\"), IY$17:IY27), IY28))","v":0},null,null,null,null,190,"",null,null,{"$f":"IF(JH29=\"\", 0, JH29 - IF(JH28=\"\", LOOKUP(2, 1/(JH$17:JH27<>\"\"), JH$17:JH27), JH28))","v":0},null,null,null,null,190,"",null,null,{"$f":"IF(JQ29=\"\", 0, JQ29 - IF(JQ28=\"\", LOOKUP(2, 1/(JQ$17:JQ27<>\"\"), JQ$17:JQ27), JQ28))","v":0},null,null,null,null,190,"",null,null,{"$f":"IF(JZ29=\"\", 0, JZ29 - IF(JZ28=\"\", LOOKUP(2, 1/(JZ$17:JZ27<>\"\"), JZ$17:JZ27), JZ28))","v":0},null,null,null,null,190,"",null,null,{"$f":"IF(KI29=\"\", 0, KI29 - IF(KI28=\"\", LOOKUP(2, 1/(KI$17:KI27<>\"\"), KI$17:KI27), KI28))","v":0},null,null,null,null,190,"",null,null,{"$f":"IF(KR29=\"\", 0, KR29 - IF(KR28=\"\", LOOKUP(2, 1/(KR$17:KR27<>\"\"), KR$17:KR27), KR28))","v":0},null,null,null,null,190,"",null,null,{"$f":"IF(LA29=\"\", 0, LA29 - IF(LA28=\"\", LOOKUP(2, 1/(LA$17:LA27<>\"\"), LA$17:LA27), LA28))","v":0},null,null,null,null,190,"",null,null,{"$f":"IF(LJ29=\"\", 0, LJ29 - IF(LJ28=\"\", LOOKUP(2, 1/(LJ$17:LJ27<>\"\"), LJ$17:LJ27), LJ28))","v":0},null,null,null,null,190,"",null,null,{"$f":"IF(LS29=\"\", 0, LS29 - IF(LS28=\"\", LOOKUP(2, 1/(LS$17:LS27<>\"\"), LS$17:LS27), LS28))","v":0},null,null,null,null,190,"",null,null,{"$f":"IF(MB29=\"\", 0, MB29 - IF(MB28=\"\", LOOKUP(2, 1/(MB$17:MB27<>\"\"), MB$17:MB27), MB28))","v":0},null,null,null,null,190,"",null,null,{"$f":"IF(MK29=\"\", 0, MK29 - IF(MK28=\"\", LOOKUP(2, 1/(MK$17:MK27<>\"\"), MK$17:MK27), MK28))","v":0},null,null,null,null,190,"",null,null,{"$f":"IF(MT29=\"\", 0, MT29 - IF(MT28=\"\", LOOKUP(2, 1/(MT$17:MT27<>\"\"), MT$17:MT27), MT28))","v":0},null,null,190,"",null,null,{"$f":"IF(NA29=\"\", 0, NA29 - IF(NA28=\"\", LOOKUP(2, 1/(NA$17:NA27<>\"\"), NA$17:NA27), NA28))","v":0},null,null,null,null,190,"",null,null,{"$f":"IF(NJ29=\"\", 0, NJ29 - IF(NJ28=\"\", LOOKUP(2, 1/(NJ$17:NJ27<>\"\"), NJ$17:NJ27), NJ28))","v":0},null,null,null,null,190,"",null,null,{"$f":"IF(NS29=\"\", 0, NS29 - IF(NS28=\"\", LOOKUP(2, 1/(NS$17:NS27<>\"\"), NS$17:NS27), NS28))","v":0},null,null,null,null,190,"",null,null,{"$f":"IF(OB29=\"\", 0, OB29 - IF(OB28=\"\", LOOKUP(2, 1/(OB$17:OB27<>\"\"), OB$17:OB27), OB28))","v":0},null,null,null,null,190,"",null,null,{"$f":"IF(OK29=\"\", 0, OK29 - IF(OK28=\"\", LOOKUP(2, 1/(OK$17:OK27<>\"\"), OK$17:OK27), OK28))","v":0},null,null,null,null,190,"",null,null,{"$f":"IF(OT29=\"\", 0, OT29 - IF(OT28=\"\", LOOKUP(2, 1/(OT$17:OT27<>\"\"), OT$17:OT27), OT28))","v":0},null,null,null,null,190,"",null,null,{"$f":"IF(PC29=\"\", 0, PC29 - IF(PC28=\"\", LOOKUP(2, 1/(PC$17:PC27<>\"\"), PC$17:PC27), PC28))","v":0},null,null,null,null,190,"",null,null,{"$f":"IF(PL29=\"\", 0, PL29 - IF(PL28=\"\", LOOKUP(2, 1/(PL$17:PL27<>\"\"), PL$17:PL27), PL28))","v":0},null,null,null,null,190,"",null,null,{"$f":"IF(PU29=\"\", 0, PU29 - IF(PU28=\"\", LOOKUP(2, 1/(PU$17:PU27<>\"\"), PU$17:PU27), PU28))","v":0},null,null,null,null,190,"",null,null,{"$f":"IF(QD29=\"\", 0, QD29 - IF(QD28=\"\", LOOKUP(2, 1/(QD$17:QD27<>\"\"), QD$17:QD27), QD28))","v":0}]
[null,null,null,189,"",null,null,{"$f":"IF(G30=\"\", 0, G30 - IF(G29=\"\", LOOKUP(2, 1/(G$17:G28<>\"\"), G$17:G28), G29))","v":0},null,null,null,null,189,"",null,null,{"$f":"IF(P30=\"\", 0, P30 - IF(P29=\"\", LOOKUP(2, 1/(P$17:P28<>\"\"), P$17:P28), P29))","v":0},null,null,null,null,189,"",null,null,{"$f":"IF(Y30=\"\", 0, Y30 - IF(Y29=\"\", LOOKUP(2, 1/(Y$17:Y28<>\"\"), Y$17:Y28), Y29))","v":0},null,null,null,null,189,"",null,null,{"$f":"IF(AH30=\"\", 0, AH30 - IF(AH29=\"\", LOOKUP(2, 1/(AH$17:AH28<>\"\"), AH$17:AH28), AH29))","v":0},null,null,null,null,189,"",null,null,{"$f":"IF(AQ30=\"\", 0, AQ30 - IF(AQ29=\"\", LOOKUP(2, 1/(AQ$17:AQ28<>\"\"), AQ$17:AQ28), AQ29))","v":0},null,null,null,null,189,"",null,null,{"$f":"IF(AZ30=\"\", 0, AZ30 - IF(AZ29=\"\", LOOKUP(2, 1/(AZ$17:AZ28<>\"\"), AZ$17:AZ28), AZ29))","v":0},null,null,null,null,189,"",null,null,{"$f":"IF(BI30=\"\", 0, BI30 - IF(BI29=\"\", LOOKUP(2, 1/(BI$17:BI28<>\"\"), BI$17:BI28), BI29))","v":0},null,null,null,null,189,"",null,null,{"$f":"IF(BR30=\"\", 0, BR30 - IF(BR29=\"\", LOOKUP(2, 1/(BR$17:BR28<>\"\"), BR$17:BR28), BR29))","v":0},null,null,null,null,189,"",null,null,{"$f":"IF(CA30=\"\", 0, CA30 - IF(CA29=\"\", LOOKUP(2, 1/(CA$17:CA28<>\"\"), CA$17:CA28), CA29))","v":0},null,null,null,null,189,"",null,null,{"$f":"IF(CJ30=\"\", 0, CJ30 - IF(CJ29=\"\", LOOKUP(2, 1/(CJ$17:CJ28<>\"\"), CJ$17:CJ28), CJ29))","v":0},null,null,null,null,189,"",null,null,{"$f":"IF(CS30=\"\", 0, CS30 - IF(CS29=\"\", LOOKUP(2, 1/(CS$17:CS28<>\"\"), CS$17:CS28), CS29))","v":0},null,null,null,null,189,"",null,null,{"$f":"IF(DB30=\"\", 0, DB30 - IF(DB29=\"\", LOOKUP(2, 1/(DB$17:DB28<>\"\"), DB$17:DB28), DB29))","v":0},null,null,null,null,189,"",null,null,{"$f":"IF(DK30=\"\", 0, DK30 - IF(DK29=\"\", LOOKUP(2, 1/(DK$17:DK28<>\"\"), DK$17:DK28), DK29))","v":0},null,null,null,null,189,"",null,null,{"$f":"IF(DT30=\"\", 0, DT30 - IF(DT29=\"\", LOOKUP(2, 1/(DT$17:DT28<>\"\"), DT$17:DT28), DT29))","v":0},null,null,null,null,189,"",null,null,{"$f":"IF(EC30=\"\", 0, EC30 - IF(EC29=\"\", LOOKUP(2, 1/(EC$17:EC28<>\"\"), EC$17:EC28), EC29))","v":0},null,null,null,null,189,"",null,null,{"$f":"IF(EL30=\"\", 0, EL30 - IF(EL29=\"\", LOOKUP(2, 1/(EL$17:EL28<>\"\"), EL$17:EL28), EL29))","v":0},null,null,null,null,189,"",null,null,{"$f":"IF(EU30=\"\", 0, EU30 - IF(EU29=\"\", LOOKUP(2, 1/(EU$17:EU28<>\"\"), EU$17:EU28), EU29))","v":0},null,null,null,null,189,"",null,null,{"$f":"IF(FD30=\"\", 0, FD30 - IF(FD29=\"\", LOOKUP(2, 1/(FD$17:FD28<>\"\"), FD$17:FD28), FD29))","v":0},null,null,null,null,189,"",null,null,{"$f":"IF(FM30=\"\", 0, FM30 - IF(FM29=\"\", LOOKUP(2, 1/(FM$17:FM28<>\"\"), FM$17:FM28), FM29))","v":0},null,null,null,null,189,"",null,null,{"$f":"IF(FV30=\"\", 0, FV30 - IF(FV29=\"\", LOOKUP(2, 1/(FV$17:FV28<>\"\"), FV$17:FV28), FV29))","v":0},null,null,null,null,189,"",null,null,{"$f":"IF(GE30=\"\", 0, GE30 - IF(GE29=\"\", LOOKUP(2, 1/(GE$17:GE28<>\"\"), GE$17:GE28), GE29))","v":0},null,null,null,null,189,"",null,null,{"$f":"IF(GN30=\"\", 0, GN30 - IF(GN29=\"\", LOOKUP(2, 1/(GN$17:GN28<>\"\"), GN$17:GN28), GN29))","v":0},null,null,null,null,189,"",null,null,{"$f":"IF(GW30=\"\", 0, GW30 - IF(GW29=\"\", LOOKUP(2, 1/(GW$17:GW28<>\"\"), GW$17:GW28), GW29))","v":0},null,null,null,null,189,"",null,null,{"$f":"IF(HF30=\"\", 0, HF30 - IF(HF29=\"\", LOOKUP(2, 1/(HF$17:HF28<>\"\"), HF$17:HF28), HF29))","v":0},null,null,null,null,189,"",null,null,{"$f":"IF(HO30=\"\", 0, HO30 - IF(HO29=\"\", LOOKUP(2, 1/(HO$17:HO28<>\"\"), HO$17:HO28), HO29))","v":0},null,null,null,null,189,"",null,null,{"$f":"IF(HX30=\"\", 0, HX30 - IF(HX29=\"\", LOOKUP(2, 1/(HX$17:HX28<>\"\"), HX$17:HX28), HX29))","v":0},null,null,null,null,189,"",null,null,{"$f":"IF(IG30=\"\", 0, IG30 - IF(IG29=\"\", LOOKUP(2, 1/(IG$17:IG28<>\"\"), IG$17:IG28), IG29))","v":0},null,null,null,null,189,"",null,null,{"$f":"IF(IP30=\"\", 0, IP30 - IF(IP29=\"\", LOOKUP(2, 1/(IP$17:IP28<>\"\"), IP$17:IP28), IP29))","v":0},null,null,null,null,189,"",null,null,{"$f":"IF(IY30=\"\", 0, IY30 - IF(IY29=\"\", LOOKUP(2, 1/(IY$17:IY28<>\"\"), IY$17:IY28), IY29))","v":0},null,null,null,null,189,"",null,null,{"$f":"IF(JH30=\"\", 0, JH30 - IF(JH29=\"\", LOOKUP(2, 1/(JH$17:JH28<>\"\"), JH$17:JH28), JH29))","v":0},null,null,null,null,189,"",null,null,{"$f":"IF(JQ30=\"\", 0, JQ30 - IF(JQ29=\"\", LOOKUP(2, 1/(JQ$17:JQ28<>\"\"), JQ$17:JQ28), JQ29))","v":0},null,null,null,null,189,"",null,null,{"$f":"IF(JZ30=\"\", 0, JZ30 - IF(JZ29=\"\", LOOKUP(2, 1/(JZ$17:JZ28<>\"\"), JZ$17:JZ28), JZ29))","v":0},null,null,null,null,189,"",null,null,{"$f":"IF(KI30=\"\", 0, KI30 - IF(KI29=\"\", LOOKUP(2, 1/(KI$17:KI28<>\"\"), KI$17:KI28), KI29))","v":0},null,null,null,null,189,"",null,null,{"$f":"IF(KR30=\"\", 0, KR30 - IF(KR29=\"\", LOOKUP(2, 1/(KR$17:KR28<>\"\"), KR$17:KR28), KR29))","v":0},null,null,null,null,189,"",null,null,{"$f":"IF(LA30=\"\", 0, LA30 - IF(LA29=\"\", LOOKUP(2, 1/(LA$17:LA28<>\"\"), LA$17:LA28), LA29))","v":0},null,null,null,null,189,"",null,null,{"$f":"IF(LJ30=\"\", 0, LJ30 - IF(LJ29=\"\", LOOKUP(2, 1/(LJ$17:LJ28<>\"\"), LJ$17:LJ28), LJ29))","v":0},null,null,null,null,189,"",null,null,{"$f":"IF(LS30=\"\", 0, LS30 - IF(LS29=\"\", LOOKUP(2, 1/(LS$17:LS28<>\"\"), LS$17:LS28), LS29))","v":0},null,null,null,null,189,"",null,null,{"$f":"IF(MB30=\"\", 0, MB30 - IF(MB29=\"\", LOOKUP(2, 1/(MB$17:MB28<>\"\"), MB$17:MB28), MB29))","v":0},null,null,null,null,189,"",null,null,{"$f":"IF(MK30=\"\", 0, MK30 - IF(MK29=\"\", LOOKUP(2, 1/(MK$17:MK28<>\"\"), MK$17:MK28), MK29))","v":0},null,null,null,null,189,"",null,null,{"$f":"IF(MT30=\"\", 0, MT30 - IF(MT29=\"\", LOOKUP(2, 1/(MT$17:MT28<>\"\"), MT$17:MT28), MT29))","v":0},null,null,189,"",null,null,{"$f":"IF(NA30=\"\", 0, NA30 - IF(NA29=\"\", LOOKUP(2, 1/(NA$17:NA28<>\"\"), NA$17:NA28), NA29))","v":0},null,null,null,null,189,"",null,null,{"$f":"IF(NJ30=\"\", 0, NJ30 - IF(NJ29=\"\", LOOKUP(2, 1/(NJ$17:NJ28<>\"\"), NJ$17:NJ28), NJ29))","v":0},null,null,null,null,189,"",null,null,{"$f":"IF(NS30=\"\", 0, NS30 - IF(NS29=\"\", LOOKUP(2, 1/(NS$17:NS28<>\"\"), NS$17:NS28), NS29))","v":0},null,null,null,null,189,"",null,null,{"$f":"IF(OB30=\"\", 0, OB30 - IF(OB29=\"\", LOOKUP(2, 1/(OB$17:OB28<>\"\"), OB$17:OB28), OB29))","v":0},null,null,null,null,189,"",null,null,{"$f":"IF(OK30=\"\", 0, OK30 - IF(OK29=\"\", LOOKUP(2, 1/(OK$17:OK28<>\"\"), OK$17:OK28), OK29))","v":0},null,null,null,null,189,"",null,null,{"$f":"IF(OT30=\"\", 0, OT30 - IF(OT29=\"\", LOOKUP(2, 1/(OT$17:OT28<>\"\"), OT$17:OT28), OT29))","v":0},null,null,null,null,189,"",null,null,{"$f":"IF(PC30=\"\", 0, PC30 - IF(PC29=\"\", LOOKUP(2, 1/(PC$17:PC28<>\"\"), PC$17:PC28), PC29))","v":0},null,null,null,null,189,"",null,null,{"$f":"IF(PL30=\"\", 0, PL30 - IF(PL29=\"\", LOOKUP(2, 1/(PL$17:PL28<>\"\"), PL$17:PL28), PL29))","v":0},null,null,null,null,189,"",null,null,{"$f":"IF(PU30=\"\", 0, PU30 - IF(PU29=\"\", LOOKUP(2, 1/(PU$17:PU28<>\"\"), PU$17:PU28), PU29))","v":0},null,null,null,null,189,"",null,null,{"$f":"IF(QD30=\"\", 0, QD30 - IF(QD29=\"\", LOOKUP(2, 1/(QD$17:QD28<>\"\"), QD$17:QD28), QD29))","v":0}]
[null,null,null,188,"",null,null,{"$f":"IF(G31=\"\", 0, G31 - IF(G30=\"\", LOOKUP(2, 1/(G$17:G29<>\"\"), G$17:G29), G30))","v":0},null,null,null,null,188,"",null,null,{"$f":"IF(P31=\"\", 0, P31 - IF(P30=\"\", LOOKUP(2, 1/(P$17:P29<>\"\"), P$17:P29), P30))","v":0},null,null,null,null,188,"",null,null,{"$f":"IF(Y31=\"\", 0, Y31 - IF(Y30=\"\", LOOKUP(2, 1/(Y$17:Y29<>\"\"), Y$17:Y29), Y30))","v":0},null,null,null,null,188,"",null,null,{"$f":"IF(AH31=\"\", 0, AH31 - IF(AH30=\"\", LOOKUP(2, 1/(AH$17:AH29<>\"\"), AH$17:AH29), AH30))","v":0},null,null,null,null,188,"",null,null,{"$f":"IF(AQ31=\"\", 0, AQ31 - IF(AQ30=\"\", LOOKUP(2, 1/(AQ$17:AQ29<>\"\"), AQ$17:AQ29), AQ30))","v":0},null,null,null,null,188,"",null,null,{"$f":"IF(AZ31=\"\", 0, AZ31 - IF(AZ30=\"\", LOOKUP(2, 1/(AZ$17:AZ29<>\"\"), AZ$17:AZ29), AZ30))","v":0},null,null,null,null,188,"",null,null,{"$f":"IF(BI31=\"\", 0, BI31 - IF(BI30=\"\", LOOKUP(2, 1/(BI$17:BI29<>\"\"), BI$17:BI29), BI30))","v":0},null,null,null,null,188,"",null,null,{"$f":"IF(BR31=\"\", 0, BR31 - IF(BR30=\"\", LOOKUP(2, 1/(BR$17:BR29<>\"\"), BR$17:BR29), BR30))","v":0},null,null,null,null,188,"",null,null,{"$f":"IF(CA31=\"\", 0, CA31 - IF(CA30=\"\", LOOKUP(2, 1/(CA$17:CA29<>\"\"), CA$17:CA29), CA30))","v":0},null,null,null,null,188,"",null,null,{"$f":"IF(CJ31=\"\", 0, CJ31 - IF(CJ30=\"\", LOOKUP(2, 1/(CJ$17:CJ29<>\"\"), CJ$17:CJ29), CJ30))","v":0},null,null,null,null,188,"",null,null,{"$f":"IF(CS31=\"\", 0, CS31 - IF(CS30=\"\", LOOKUP(2, 1/(CS$17:CS29<>\"\"), CS$17:CS29), CS30))","v":0},null,null,null,null,188,"",null,null,{"$f":"IF(DB31=\"\", 0, DB31 - IF(DB30=\"\", LOOKUP(2, 1/(DB$17:DB29<>\"\"), DB$17:DB29), DB30))","v":0},null,null,null,null,188,"",null,null,{"$f":"IF(DK31=\"\", 0, DK31 - IF(DK30=\"\", LOOKUP(2, 1/(DK$17:DK29<>\"\"), DK$17:DK29), DK30))","v":0},null,null,null,null,188,"",null,null,{"$f":"IF(DT31=\"\", 0, DT31 - IF(DT30=\"\", LOOKUP(2, 1/(DT$17:DT29<>\"\"), DT$17:DT29), DT30))","v":0},null,null,null,null,188,"",null,null,{"$f":"IF(EC31=\"\", 0, EC31 - IF(EC30=\"\", LOOKUP(2, 1/(EC$17:EC29<>\"\"), EC$17:EC29), EC30))","v":0},null,null,null,null,188,"",null,null,{"$f":"IF(EL31=\"\", 0, EL31 - IF(EL30=\"\", LOOKUP(2, 1/(EL$17:EL29<>\"\"), EL$17:EL29), EL30))","v":0},null,null,null,null,188,"",null,null,{"$f":"IF(EU31=\"\", 0, EU31 - IF(EU30=\"\", LOOKUP(2, 1/(EU$17:EU29<>\"\"), EU$17:EU29), EU30))","v":0},null,null,null,null,188,"",null,null,{"$f":"IF(FD31=\"\", 0, FD31 - IF(FD30=\"\", LOOKUP(2, 1/(FD$17:FD29<>\"\"), FD$17:FD29), FD30))","v":0},null,null,null,null,188,"",null,null,{"$f":"IF(FM31=\"\", 0, FM31 - IF(FM30=\"\", LOOKUP(2, 1/(FM$17:FM29<>\"\"), FM$17:FM29), FM30))","v":0},null,null,null,null,188,"",null,null,{"$f":"IF(FV31=\"\", 0, FV31 - IF(FV30=\"\", LOOKUP(2, 1/(FV$17:FV29<>\"\"), FV$17:FV29), FV30))","v":0},null,null,null,null,188,"",null,null,{"$f":"IF(GE31=\"\", 0, GE31 - IF(GE30=\"\", LOOKUP(2, 1/(GE$17:GE29<>\"\"), GE$17:GE29), GE30))","v":0},null,null,null,null,188,"",null,null,{"$f":"IF(GN31=\"\", 0, GN31 - IF(GN30=\"\", LOOKUP(2, 1/(GN$17:GN29<>\"\"), GN$17:GN29), GN30))","v":0},null,null,null,null,188,"",null,null,{"$f":"IF(GW31=\"\", 0, GW31 - IF(GW30=\"\", LOOKUP(2, 1/(GW$17:GW29<>\"\"), GW$17:GW29), GW30))","v":0},null,null,null,null,188,"",null,null,{"$f":"IF(HF31=\"\", 0, HF31 - IF(HF30=\"\", LOOKUP(2, 1/(HF$17:HF29<>\"\"), HF$17:HF29), HF30))","v":0},null,null,null,null,188,"",null,null,{"$f":"IF(HO31=\"\", 0, HO31 - IF(HO30=\"\", LOOKUP(2, 1/(HO$17:HO29<>\"\"), HO$17:HO29), HO30))","v":0},null,null,null,null,188,"",null,null,{"$f":"IF(HX31=\"\", 0, HX31 - IF(HX30=\"\", LOOKUP(2, 1/(HX$17:HX29<>\"\"), HX$17:HX29), HX30))","v":0},null,null,null,null,188,"",null,null,{"$f":"IF(IG31=\"\", 0, IG31 - IF(IG30=\"\", LOOKUP(2, 1/(IG$17:IG29<>\"\"), IG$17:IG29), IG30))","v":0},null,null,null,null,188,"",null,null,{"$f":"IF(IP31=\"\", 0, IP31 - IF(IP30=\"\", LOOKUP(2, 1/(IP$17:IP29<>\"\"), IP$17:IP29), IP30))","v":0},null,null,null,null,188,"",null,null,{"$f":"IF(IY31=\"\", 0, IY31 - IF(IY30=\"\", LOOKUP(2, 1/(IY$17:IY29<>\"\"), IY$17:IY29), IY30))","v":0},null,null,null,null,188,"",null,null,{"$f":"IF(JH31=\"\", 0, JH31 - IF(JH30=\"\", LOOKUP(2, 1/(JH$17:JH29<>\"\"), JH$17:JH29), JH30))","v":0},null,null,null,null,188,"",null,null,{"$f":"IF(JQ31=\"\", 0, JQ31 - IF(JQ30=\"\", LOOKUP(2, 1/(JQ$17:JQ29<>\"\"), JQ$17:JQ29), JQ30))","v":0},null,null,null,null,188,"",null,null,{"$f":"IF(JZ31=\"\", 0, JZ31 - IF(JZ30=\"\", LOOKUP(2, 1/(JZ$17:JZ29<>\"\"), JZ$17:JZ29), JZ30))","v":0},null,null,null,null,188,"",null,null,{"$f":"IF(KI31=\"\", 0, KI31 - IF(KI30=\"\", LOOKUP(2, 1/(KI$17:KI29<>\"\"), KI$17:KI29), KI30))","v":0},null,null,null,null,188,"",null,null,{"$f":"IF(KR31=\"\", 0, KR31 - IF(KR30=\"\", LOOKUP(2, 1/(KR$17:KR29<>\"\"), KR$17:KR29), KR30))","v":0},null,null,null,null,188,"",null,null,{"$f":"IF(LA31=\"\", 0, LA31 - IF(LA30=\"\", LOOKUP(2, 1/(LA$17:LA29<>\"\"), LA$17:LA29), LA30))","v":0},null,null,null,null,188,"",null,null,{"$f":"IF(LJ31=\"\", 0, LJ31 - IF(LJ30=\"\", LOOKUP(2, 1/(LJ$17:LJ29<>\"\"), LJ$17:LJ29), LJ30))","v":0},null,null,null,null,188,"",null,null,{"$f":"IF(LS31=\"\", 0, LS31 - IF(LS30=\"\", LOOKUP(2, 1/(LS$17:LS29<>\"\"), LS$17:LS29), LS30))","v":0},null,null,null,null,188,"",null,null,{"$f":"IF(MB31=\"\", 0, MB31 - IF(MB30=\"\", LOOKUP(2, 1/(MB$17:MB29<>\"\"), MB$17:MB29), MB30))","v":0},null,null,null,null,188,"",null,null,{"$f":"IF(MK31=\"\", 0, MK31 - IF(MK30=\"\", LOOKUP(2, 1/(MK$17:MK29<>\"\"), MK$17:MK29), MK30))","v":0},null,null,null,null,188,"",null,null,{"$f":"IF(MT31=\"\", 0, MT31 - IF(MT30=\"\", LOOKUP(2, 1/(MT$17:MT29<>\"\"), MT$17:MT29), MT30))","v":0},null,null,188,"",null,null,{"$f":"IF(NA31=\"\", 0, NA31 - IF(NA30=\"\", LOOKUP(2, 1/(NA$17:NA29<>\"\"), NA$17:NA29), NA30))","v":0},null,null,null,null,188,"",null,null,{"$f":"IF(NJ31=\"\", 0, NJ31 - IF(NJ30=\"\", LOOKUP(2, 1/(NJ$17:NJ29<>\"\"), NJ$17:NJ29), NJ30))","v":0},null,null,null,null,188,"",null,null,{"$f":"IF(NS31=\"\", 0, NS31 - IF(NS30=\"\", LOOKUP(2, 1/(NS$17:NS29<>\"\"), NS$17:NS29), NS30))","v":0},null,null,null,null,188,"",null,null,{"$f":"IF(OB31=\"\", 0, OB31 - IF(OB30=\"\", LOOKUP(2, 1/(OB$17:OB29<>\"\"), OB$17:OB29), OB30))","v":0},null,null,null,null,188,"",null,null,{"$f":"IF(OK31=\"\", 0, OK31 - IF(OK30=\"\", LOOKUP(2, 1/(OK$17:OK29<>\"\"), OK$17:OK29), OK30))","v":0},null,null,null,null,188,"",null,null,{"$f":"IF(OT31=\"\", 0, OT31 - IF(OT30=\"\", LOOKUP(2, 1/(OT$17:OT29<>\"\"), OT$17:OT29), OT30))","v":0},null,null,null,null,188,"",null,null,{"$f":"IF(PC31=\"\", 0, PC31 - IF(PC30=\"\", LOOKUP(2, 1/(PC$17:PC29<>\"\"), PC$17:PC29), PC30))","v":0},null,null,null,null,188,"",null,null,{"$f":"IF(PL31=\"\", 0, PL31 - IF(PL30=\"\", LOOKUP(2, 1/(PL$17:PL29<>\"\"), PL$17:PL29), PL30))","v":0},null,null,null,null,188,"",null,null,{"$f":"IF(PU31=\"\", 0, PU31 - IF(PU30=\"\", LOOKUP(2, 1/(PU$17:PU29<>\"\"), PU$17:PU29), PU30))","v":0},null,null,null,null,188,"",null,null,{"$f":"IF(QD31=\"\", 0, QD31 - IF(QD30=\"\", LOOKUP(2, 1/(QD$17:QD29<>\"\"), QD$17:QD29), QD30))","v":0}]
[null,null,null,187,"",null,null,{"$f":"IF(G32=\"\", 0, G32 - IF(G31=\"\", LOOKUP(2, 1/(G$17:G30<>\"\"), G$17:G30), G31))","v":0},null,null,null,null,187,"",null,null,{"$f":"IF(P32=\"\", 0, P32 - IF(P31=\"\", LOOKUP(2, 1/(P$17:P30<>\"\"), P$17:P30), P31))","v":0},null,null,null,null,187,"",null,null,{"$f":"IF(Y32=\"\", 0, Y32 - IF(Y31=\"\", LOOKUP(2, 1/(Y$17:Y30<>\"\"), Y$17:Y30), Y31))","v":0},null,null,null,null,187,"",null,null,{"$f":"IF(AH32=\"\", 0, AH32 - IF(AH31=\"\", LOOKUP(2, 1/(AH$17:AH30<>\"\"), AH$17:AH30), AH31))","v":0},null,null,null,null,187,"",null,null,{"$f":"IF(AQ32=\"\", 0, AQ32 - IF(AQ31=\"\", LOOKUP(2, 1/(AQ$17:AQ30<>\"\"), AQ$17:AQ30), AQ31))","v":0},null,null,null,null,187,"",null,null,{"$f":"IF(AZ32=\"\", 0, AZ32 - IF(AZ31=\"\", LOOKUP(2, 1/(AZ$17:AZ30<>\"\"), AZ$17:AZ30), AZ31))","v":0},null,null,null,null,187,"",null,null,{"$f":"IF(BI32=\"\", 0, BI32 - IF(BI31=\"\", LOOKUP(2, 1/(BI$17:BI30<>\"\"), BI$17:BI30), BI31))","v":0},null,null,null,null,187,"",null,null,{"$f":"IF(BR32=\"\", 0, BR32 - IF(BR31=\"\", LOOKUP(2, 1/(BR$17:BR30<>\"\"), BR$17:BR30), BR31))","v":0},null,null,null,null,187,"",null,null,{"$f":"IF(CA32=\"\", 0, CA32 - IF(CA31=\"\", LOOKUP(2, 1/(CA$17:CA30<>\"\"), CA$17:CA30), CA31))","v":0},null,null,null,null,187,"",null,null,{"$f":"IF(CJ32=\"\", 0, CJ32 - IF(CJ31=\"\", LOOKUP(2, 1/(CJ$17:CJ30<>\"\"), CJ$17:CJ30), CJ31))","v":0},null,null,null,null,187,"",null,null,{"$f":"IF(CS32=\"\", 0, CS32 - IF(CS31=\"\", LOOKUP(2, 1/(CS$17:CS30<>\"\"), CS$17:CS30), CS31))","v":0},null,null,null,null,187,"",null,null,{"$f":"IF(DB32=\"\", 0, DB32 - IF(DB31=\"\", LOOKUP(2, 1/(DB$17:DB30<>\"\"), DB$17:DB30), DB31))","v":0},null,null,null,null,187,"",null,null,{"$f":"IF(DK32=\"\", 0, DK32 - IF(DK31=\"\", LOOKUP(2, 1/(DK$17:DK30<>\"\"), DK$17:DK30), DK31))","v":0},null,null,null,null,187,"",null,null,{"$f":"IF(DT32=\"\", 0, DT32 - IF(DT31=\"\", LOOKUP(2, 1/(DT$17:DT30<>\"\"), DT$17:DT30), DT31))","v":0},null,null,null,null,187,"",null,null,{"$f":"IF(EC32=\"\", 0, EC32 - IF(EC31=\"\", LOOKUP(2, 1/(EC$17:EC30<>\"\"), EC$17:EC30), EC31))","v":0},null,null,null,null,187,"",null,null,{"$f":"IF(EL32=\"\", 0, EL32 - IF(EL31=\"\", LOOKUP(2, 1/(EL$17:EL30<>\"\"), EL$17:EL30), EL31))","v":0},null,null,null,null,187,"",null,null,{"$f":"IF(EU32=\"\", 0, EU32 - IF(EU31=\"\", LOOKUP(2, 1/(EU$17:EU30<>\"\"), EU$17:EU30), EU31))","v":0},null,null,null,null,187,"",null,null,{"$f":"IF(FD32=\"\", 0, FD32 - IF(FD31=\"\", LOOKUP(2, 1/(FD$17:FD30<>\"\"), FD$17:FD30), FD31))","v":0},null,null,null,null,187,"",null,null,{"$f":"IF(FM32=\"\", 0, FM32 - IF(FM31=\"\", LOOKUP(2, 1/(FM$17:FM30<>\"\"), FM$17:FM30), FM31))","v":0},null,null,null,null,187,"",null,null,{"$f":"IF(FV32=\"\", 0, FV32 - IF(FV31=\"\", LOOKUP(2, 1/(FV$17:FV30<>\"\"), FV$17:FV30), FV31))","v":0},null,null,null,null,187,"",null,null,{"$f":"IF(GE32=\"\", 0, GE32 - IF(GE31=\"\", LOOKUP(2, 1/(GE$17:GE30<>\"\"), GE$17:GE30), GE31))","v":0},null,null,null,null,187,"",null,null,{"$f":"IF(GN32=\"\", 0, GN32 - IF(GN31=\"\", LOOKUP(2, 1/(GN$17:GN30<>\"\"), GN$17:GN30), GN31))","v":0},null,null,null,null,187,"",null,null,{"$f":"IF(GW32=\"\", 0, GW32 - IF(GW31=\"\", LOOKUP(2, 1/(GW$17:GW30<>\"\"), GW$17:GW30), GW31))","v":0},null,null,null,null,187,"",null,null,{"$f":"IF(HF32=\"\", 0, HF32 - IF(HF31=\"\", LOOKUP(2, 1/(HF$17:HF30<>\"\"), HF$17:HF30), HF31))","v":0},null,null,null,null,187,"",null,null,{"$f":"IF(HO32=\"\", 0, HO32 - IF(HO31=\"\", LOOKUP(2, 1/(HO$17:HO30<>\"\"), HO$17:HO30), HO31))","v":0},null,null,null,null,187,"",null,null,{"$f":"IF(HX32=\"\", 0, HX32 - IF(HX31=\"\", LOOKUP(2, 1/(HX$17:HX30<>\"\"), HX$17:HX30), HX31))","v":0},null,null,null,null,187,"",null,null,{"$f":"IF(IG32=\"\", 0, IG32 - IF(IG31=\"\", LOOKUP(2, 1/(IG$17:IG30<>\"\"), IG$17:IG30), IG31))","v":0},null,null,null,null,187,"",null,null,{"$f":"IF(IP32=\"\", 0, IP32 - IF(IP31=\"\", LOOKUP(2, 1/(IP$17:IP30<>\"\"), IP$17:IP30), IP31))","v":0},null,null,null,null,187,"",null,null,{"$f":"IF(IY32=\"\", 0, IY32 - IF(IY31=\"\", LOOKUP(2, 1/(IY$17:IY30<>\"\"), IY$17:IY30), IY31))","v":0},null,null,null,null,187,"",null,null,{"$f":"IF(JH32=\"\", 0, JH32 - IF(JH31=\"\", LOOKUP(2, 1/(JH$17:JH30<>\"\"), JH$17:JH30), JH31))","v":0},null,null,null,null,187,"",null,null,{"$f":"IF(JQ32=\"\", 0, JQ32 - IF(JQ31=\"\", LOOKUP(2, 1/(JQ$17:JQ30<>\"\"), JQ$17:JQ30), JQ31))","v":0},null,null,null,null,187,"",null,null,{"$f":"IF(JZ32=\"\", 0, JZ32 - IF(JZ31=\"\", LOOKUP(2, 1/(JZ$17:JZ30<>\"\"), JZ$17:JZ30), JZ31))","v":0},null,null,null,null,187,"",null,null,{"$f":"IF(KI32=\"\", 0, KI32 - IF(KI31=\"\", LOOKUP(2, 1/(KI$17:KI30<>\"\"), KI$17:KI30), KI31))","v":0},null,null,null,null,187,"",null,null,{"$f":"IF(KR32=\"\", 0, KR32 - IF(KR31=\"\", LOOKUP(2, 1/(KR$17:KR30<>\"\"), KR$17:KR30), KR31))","v":0},null,null,null,null,187,"",null,null,{"$f":"IF(LA32=\"\", 0, LA32 - IF(LA31=\"\", LOOKUP(2, 1/(LA$17:LA30<>\"\"), LA$17:LA30), LA31))","v":0},null,null,null,null,187,"",null,null,{"$f":"IF(LJ32=\"\", 0, LJ32 - IF(LJ31=\"\", LOOKUP(2, 1/(LJ$17:LJ30<>\"\"), LJ$17:LJ30), LJ31))","v":0},null,null,null,null,187,"",null,null,{"$f":"IF(LS32=\"\", 0, LS32 - IF(LS31=\"\", LOOKUP(2, 1/(LS$17:LS30<>\"\"), LS$17:LS30), LS31))","v":0},null,null,null,null,187,"",null,null,{"$f":"IF(MB32=\"\", 0, MB32 - IF(MB31=\"\", LOOKUP(2, 1/(MB$17:MB30<>\"\"), MB$17:MB30), MB31))","v":0},null,null,null,null,187,"",null,null,{"$f":"IF(MK32=\"\", 0, MK32 - IF(MK31=\"\", LOOKUP(2, 1/(MK$17:MK30<>\"\"), MK$17:MK30), MK31))","v":0},null,null,null,null,187,"",null,null,{"$f":"IF(MT32=\"\", 0, MT32 - IF(MT31=\"\", LOOKUP(2, 1/(MT$17:MT30<>\"\"), MT$17:MT30), MT31))","v":0},null,null,187,"",null,null,{"$f":"IF(NA32=\"\", 0, NA32 - IF(NA31=\"\", LOOKUP(2, 1/(NA$17:NA30<>\"\"), NA$17:NA30), NA31))","v":0},null,null,null,null,187,"",null,null,{"$f":"IF(NJ32=\"\", 0, NJ32 - IF(NJ31=\"\", LOOKUP(2, 1/(NJ$17:NJ30<>\"\"), NJ$17:NJ30), NJ31))","v":0},null,null,null,null,187,"",null,null,{"$f":"IF(NS32=\"\", 0, NS32 - IF(NS31=\"\", LOOKUP(2, 1/(NS$17:NS30<>\"\"), NS$17:NS30), NS31))","v":0},null,null,null,null,187,"",null,null,{"$f":"IF(OB32=\"\", 0, OB32 - IF(OB31=\"\", LOOKUP(2, 1/(OB$17:OB30<>\"\"), OB$17:OB30), OB31))","v":0},null,null,null,null,187,"",null,null,{"$f":"IF(OK32=\"\", 0, OK32 - IF(OK31=\"\", LOOKUP(2, 1/(OK$17:OK30<>\"\"), OK$17:OK30), OK31))","v":0},null,null,null,null,187,"",null,null,{"$f":"IF(OT32=\"\", 0, OT32 - IF(OT31=\"\", LOOKUP(2, 1/(OT$17:OT30<>\"\"), OT$17:OT30), OT31))","v":0},null,null,null,null,187,"",null,null,{"$f":"IF(PC32=\"\", 0, PC32 - IF(PC31=\"\", LOOKUP(2, 1/(PC$17:PC30<>\"\"), PC$17:PC30), PC31))","v":0},null,null,null,null,187,"",null,null,{"$f":"IF(PL32=\"\", 0, PL32 - IF(PL31=\"\", LOOKUP(2, 1/(PL$17:PL30<>\"\"), PL$17:PL30), PL31))","v":0},null,null,null,null,187,"",null,null,{"$f":"IF(PU32=\"\", 0, PU32 - IF(PU31=\"\", LOOKUP(2, 1/(PU$17:PU30<>\"\"), PU$17:PU30), PU31))","v":0},null,null,null,null,187,"",null,null,{"$f":"IF(QD32=\"\", 0, QD32 - IF(QD31=\"\", LOOKUP(2, 1/(QD$17:QD30<>\"\"), QD$17:QD30), QD31))","v":0}]
[null,null,null,186,"",null,null,{"$f":"IF(G33=\"\", 0, G33 - IF(G32=\"\", LOOKUP(2, 1/(G$17:G31<>\"\"), G$17:G31), G32))","v":0},null,null,null,null,186,"",null,null,{"$f":"IF(P33=\"\", 0, P33 - IF(P32=\"\", LOOKUP(2, 1/(P$17:P31<>\"\"), P$17:P31), P32))","v":0},null,null,null,null,186,"",null,null,{"$f":"IF(Y33=\"\", 0, Y33 - IF(Y32=\"\", LOOKUP(2, 1/(Y$17:Y31<>\"\"), Y$17:Y31), Y32))","v":0},null,null,null,null,186,"",null,null,{"$f":"IF(AH33=\"\", 0, AH33 - IF(AH32=\"\", LOOKUP(2, 1/(AH$17:AH31<>\"\"), AH$17:AH31), AH32))","v":0},null,null,null,null,186,"",null,null,{"$f":"IF(AQ33=\"\", 0, AQ33 - IF(AQ32=\"\", LOOKUP(2, 1/(AQ$17:AQ31<>\"\"), AQ$17:AQ31), AQ32))","v":0},null,null,null,null,186,"",null,null,{"$f":"IF(AZ33=\"\", 0, AZ33 - IF(AZ32=\"\", LOOKUP(2, 1/(AZ$17:AZ31<>\"\"), AZ$17:AZ31), AZ32))","v":0},null,null,null,null,186,"",null,null,{"$f":"IF(BI33=\"\", 0, BI33 - IF(BI32=\"\", LOOKUP(2, 1/(BI$17:BI31<>\"\"), BI$17:BI31), BI32))","v":0},null,null,null,null,186,"",null,null,{"$f":"IF(BR33=\"\", 0, BR33 - IF(BR32=\"\", LOOKUP(2, 1/(BR$17:BR31<>\"\"), BR$17:BR31), BR32))","v":0},null,null,null,null,186,"",null,null,{"$f":"IF(CA33=\"\", 0, CA33 - IF(CA32=\"\", LOOKUP(2, 1/(CA$17:CA31<>\"\"), CA$17:CA31), CA32))","v":0},null,null,null,null,186,"",null,null,{"$f":"IF(CJ33=\"\", 0, CJ33 - IF(CJ32=\"\", LOOKUP(2, 1/(CJ$17:CJ31<>\"\"), CJ$17:CJ31), CJ32))","v":0},null,null,null,null,186,"",null,null,{"$f":"IF(CS33=\"\", 0, CS33 - IF(CS32=\"\", LOOKUP(2, 1/(CS$17:CS31<>\"\"), CS$17:CS31), CS32))","v":0},null,null,null,null,186,"",null,null,{"$f":"IF(DB33=\"\", 0, DB33 - IF(DB32=\"\", LOOKUP(2, 1/(DB$17:DB31<>\"\"), DB$17:DB31), DB32))","v":0},null,null,null,null,186,"",null,null,{"$f":"IF(DK33=\"\", 0, DK33 - IF(DK32=\"\", LOOKUP(2, 1/(DK$17:DK31<>\"\"), DK$17:DK31), DK32))","v":0},null,null,null,null,186,"",null,null,{"$f":"IF(DT33=\"\", 0, DT33 - IF(DT32=\"\", LOOKUP(2, 1/(DT$17:DT31<>\"\"), DT$17:DT31), DT32))","v":0},null,null,null,null,186,"",null,null,{"$f":"IF(EC33=\"\", 0, EC33 - IF(EC32=\"\", LOOKUP(2, 1/(EC$17:EC31<>\"\"), EC$17:EC31), EC32))","v":0},null,null,null,null,186,"",null,null,{"$f":"IF(EL33=\"\", 0, EL33 - IF(EL32=\"\", LOOKUP(2, 1/(EL$17:EL31<>\"\"), EL$17:EL31), EL32))","v":0},null,null,null,null,186,"",null,null,{"$f":"IF(EU33=\"\", 0, EU33 - IF(EU32=\"\", LOOKUP(2, 1/(EU$17:EU31<>\"\"), EU$17:EU31), EU32))","v":0},null,null,null,null,186,"",null,null,{"$f":"IF(FD33=\"\", 0, FD33 - IF(FD32=\"\", LOOKUP(2, 1/(FD$17:FD31<>\"\"), FD$17:FD31), FD32))","v":0},null,null,null,null,186,"",null,null,{"$f":"IF(FM33=\"\", 0, FM33 - IF(FM32=\"\", LOOKUP(2, 1/(FM$17:FM31<>\"\"), FM$17:FM31), FM32))","v":0},null,null,null,null,186,"",null,null,{"$f":"IF(FV33=\"\", 0, FV33 - IF(FV32=\"\", LOOKUP(2, 1/(FV$17:FV31<>\"\"), FV$17:FV31), FV32))","v":0},null,null,null,null,186,"",null,null,{"$f":"IF(GE33=\"\", 0, GE33 - IF(GE32=\"\", LOOKUP(2, 1/(GE$17:GE31<>\"\"), GE$17:GE31), GE32))","v":0},null,null,null,null,186,"",null,null,{"$f":"IF(GN33=\"\", 0, GN33 - IF(GN32=\"\", LOOKUP(2, 1/(GN$17:GN31<>\"\"), GN$17:GN31), GN32))","v":0},null,null,null,null,186,"",null,null,{"$f":"IF(GW33=\"\", 0, GW33 - IF(GW32=\"\", LOOKUP(2, 1/(GW$17:GW31<>\"\"), GW$17:GW31), GW32))","v":0},null,null,null,null,186,"",null,null,{"$f":"IF(HF33=\"\", 0, HF33 - IF(HF32=\"\", LOOKUP(2, 1/(HF$17:HF31<>\"\"), HF$17:HF31), HF32))","v":0},null,null,null,null,186,"",null,null,{"$f":"IF(HO33=\"\", 0, HO33 - IF(HO32=\"\", LOOKUP(2, 1/(HO$17:HO31<>\"\"), HO$17:HO31), HO32))","v":0},null,null,null,null,186,"",null,null,{"$f":"IF(HX33=\"\", 0, HX33 - IF(HX32=\"\", LOOKUP(2, 1/(HX$17:HX31<>\"\"), HX$17:HX31), HX32))","v":0},null,null,null,null,186,"",null,null,{"$f":"IF(IG33=\"\", 0, IG33 - IF(IG32=\"\", LOOKUP(2, 1/(IG$17:IG31<>\"\"), IG$17:IG31), IG32))","v":0},null,null,null,null,186,"",null,null,{"$f":"IF(IP33=\"\", 0, IP33 - IF(IP32=\"\", LOOKUP(2, 1/(IP$17:IP31<>\"\"), IP$17:IP31), IP32))","v":0},null,null,null,null,186,"",null,null,{"$f":"IF(IY33=\"\", 0, IY33 - IF(IY32=\"\", LOOKUP(2, 1/(IY$17:IY31<>\"\"), IY$17:IY31), IY32))","v":0},null,null,null,null,186,"",null,null,{"$f":"IF(JH33=\"\", 0, JH33 - IF(JH32=\"\", LOOKUP(2, 1/(JH$17:JH31<>\"\"), JH$17:JH31), JH32))","v":0},null,null,null,null,186,"",null,null,{"$f":"IF(JQ33=\"\", 0, JQ33 - IF(JQ32=\"\", LOOKUP(2, 1/(JQ$17:JQ31<>\"\"), JQ$17:JQ31), JQ32))","v":0},null,null,null,null,186,"",null,null,{"$f":"IF(JZ33=\"\", 0, JZ33 - IF(JZ32=\"\", LOOKUP(2, 1/(JZ$17:JZ31<>\"\"), JZ$17:JZ31), JZ32))","v":0},null,null,null,null,186,"",null,null,{"$f":"IF(KI33=\"\", 0, KI33 - IF(KI32=\"\", LOOKUP(2, 1/(KI$17:KI31<>\"\"), KI$17:KI31), KI32))","v":0},null,null,null,null,186,"",null,null,{"$f":"IF(KR33=\"\", 0, KR33 - IF(KR32=\"\", LOOKUP(2, 1/(KR$17:KR31<>\"\"), KR$17:KR31), KR32))","v":0},null,null,null,null,186,"",null,null,{"$f":"IF(LA33=\"\", 0, LA33 - IF(LA32=\"\", LOOKUP(2, 1/(LA$17:LA31<>\"\"), LA$17:LA31), LA32))","v":0},null,null,null,null,186,"",null,null,{"$f":"IF(LJ33=\"\", 0, LJ33 - IF(LJ32=\"\", LOOKUP(2, 1/(LJ$17:LJ31<>\"\"), LJ$17:LJ31), LJ32))","v":0},null,null,null,null,186,"",null,null,{"$f":"IF(LS33=\"\", 0, LS33 - IF(LS32=\"\", LOOKUP(2, 1/(LS$17:LS31<>\"\"), LS$17:LS31), LS32))","v":0},null,null,null,null,186,"",null,null,{"$f":"IF(MB33=\"\", 0, MB33 - IF(MB32=\"\", LOOKUP(2, 1/(MB$17:MB31<>\"\"), MB$17:MB31), MB32))","v":0},null,null,null,null,186,"",null,null,{"$f":"IF(MK33=\"\", 0, MK33 - IF(MK32=\"\", LOOKUP(2, 1/(MK$17:MK31<>\"\"), MK$17:MK31), MK32))","v":0},null,null,null,null,186,"",null,null,{"$f":"IF(MT33=\"\", 0, MT33 - IF(MT32=\"\", LOOKUP(2, 1/(MT$17:MT31<>\"\"), MT$17:MT31), MT32))","v":0},null,null,186,"",null,null,{"$f":"IF(NA33=\"\", 0, NA33 - IF(NA32=\"\", LOOKUP(2, 1/(NA$17:NA31<>\"\"), NA$17:NA31), NA32))","v":0},null,null,null,null,186,"",null,null,{"$f":"IF(NJ33=\"\", 0, NJ33 - IF(NJ32=\"\", LOOKUP(2, 1/(NJ$17:NJ31<>\"\"), NJ$17:NJ31), NJ32))","v":0},null,null,null,null,186,"",null,null,{"$f":"IF(NS33=\"\", 0, NS33 - IF(NS32=\"\", LOOKUP(2, 1/(NS$17:NS31<>\"\"), NS$17:NS31), NS32))","v":0},null,null,null,null,186,"",null,null,{"$f":"IF(OB33=\"\", 0, OB33 - IF(OB32=\"\", LOOKUP(2, 1/(OB$17:OB31<>\"\"), OB$17:OB31), OB32))","v":0},null,null,null,null,186,"",null,null,{"$f":"IF(OK33=\"\", 0, OK33 - IF(OK32=\"\", LOOKUP(2, 1/(OK$17:OK31<>\"\"), OK$17:OK31), OK32))","v":0},null,null,null,null,186,"",null,null,{"$f":"IF(OT33=\"\", 0, OT33 - IF(OT32=\"\", LOOKUP(2, 1/(OT$17:OT31<>\"\"), OT$17:OT31), OT32))","v":0},null,null,null,null,186,"",null,null,{"$f":"IF(PC33=\"\", 0, PC33 - IF(PC32=\"\", LOOKUP(2, 1/(PC$17:PC31<>\"\"), PC$17:PC31), PC32))","v":0},null,null,null,null,186,"",null,null,{"$f":"IF(PL33=\"\", 0, PL33 - IF(PL32=\"\", LOOKUP(2, 1/(PL$17:PL31<>\"\"), PL$17:PL31), PL32))","v":0},null,null,null,null,186,"",null,null,{"$f":"IF(PU33=\"\", 0, PU33 - IF(PU32=\"\", LOOKUP(2, 1/(PU$17:PU31<>\"\"), PU$17:PU31), PU32))","v":0},null,null,null,null,186,"",null,null,{"$f":"IF(QD33=\"\", 0, QD33 - IF(QD32=\"\", LOOKUP(2, 1/(QD$17:QD31<>\"\"), QD$17:QD31), QD32))","v":0}]
[null,null,null,185,"",null,null,{"$f":"IF(G34=\"\", 0, G34 - IF(G33=\"\", LOOKUP(2, 1/(G$17:G32<>\"\"), G$17:G32), G33))","v":0},null,null,null,null,185,"",null,null,{"$f":"IF(P34=\"\", 0, P34 - IF(P33=\"\", LOOKUP(2, 1/(P$17:P32<>\"\"), P$17:P32), P33))","v":0},null,null,null,null,185,"",null,null,{"$f":"IF(Y34=\"\", 0, Y34 - IF(Y33=\"\", LOOKUP(2, 1/(Y$17:Y32<>\"\"), Y$17:Y32), Y33))","v":0},null,null,null,null,185,"",null,null,{"$f":"IF(AH34=\"\", 0, AH34 - IF(AH33=\"\", LOOKUP(2, 1/(AH$17:AH32<>\"\"), AH$17:AH32), AH33))","v":0},null,null,null,null,185,"",null,null,{"$f":"IF(AQ34=\"\", 0, AQ34 - IF(AQ33=\"\", LOOKUP(2, 1/(AQ$17:AQ32<>\"\"), AQ$17:AQ32), AQ33))","v":0},null,null,null,null,185,"",null,null,{"$f":"IF(AZ34=\"\", 0, AZ34 - IF(AZ33=\"\", LOOKUP(2, 1/(AZ$17:AZ32<>\"\"), AZ$17:AZ32), AZ33))","v":0},null,null,null,null,185,"",null,null,{"$f":"IF(BI34=\"\", 0, BI34 - IF(BI33=\"\", LOOKUP(2, 1/(BI$17:BI32<>\"\"), BI$17:BI32), BI33))","v":0},null,null,null,null,185,"",null,null,{"$f":"IF(BR34=\"\", 0, BR34 - IF(BR33=\"\", LOOKUP(2, 1/(BR$17:BR32<>\"\"), BR$17:BR32), BR33))","v":0},null,null,null,null,185,"",null,null,{"$f":"IF(CA34=\"\", 0, CA34 - IF(CA33=\"\", LOOKUP(2, 1/(CA$17:CA32<>\"\"), CA$17:CA32), CA33))","v":0},null,null,null,null,185,"",null,null,{"$f":"IF(CJ34=\"\", 0, CJ34 - IF(CJ33=\"\", LOOKUP(2, 1/(CJ$17:CJ32<>\"\"), CJ$17:CJ32), CJ33))","v":0},null,null,null,null,185,"",null,null,{"$f":"IF(CS34=\"\", 0, CS34 - IF(CS33=\"\", LOOKUP(2, 1/(CS$17:CS32<>\"\"), CS$17:CS32), CS33))","v":0},null,null,null,null,185,"",null,null,{"$f":"IF(DB34=\"\", 0, DB34 - IF(DB33=\"\", LOOKUP(2, 1/(DB$17:DB32<>\"\"), DB$17:DB32), DB33))","v":0},null,null,null,null,185,"",null,null,{"$f":"IF(DK34=\"\", 0, DK34 - IF(DK33=\"\", LOOKUP(2, 1/(DK$17:DK32<>\"\"), DK$17:DK32), DK33))","v":0},null,null,null,null,185,"",null,null,{"$f":"IF(DT34=\"\", 0, DT34 - IF(DT33=\"\", LOOKUP(2, 1/(DT$17:DT32<>\"\"), DT$17:DT32), DT33))","v":0},null,null,null,null,185,"",null,null,{"$f":"IF(EC34=\"\", 0, EC34 - IF(EC33=\"\", LOOKUP(2, 1/(EC$17:EC32<>\"\"), EC$17:EC32), EC33))","v":0},null,null,null,null,185,"",null,null,{"$f":"IF(EL34=\"\", 0, EL34 - IF(EL33=\"\", LOOKUP(2, 1/(EL$17:EL32<>\"\"), EL$17:EL32), EL33))","v":0},null,null,null,null,185,"",null,null,{"$f":"IF(EU34=\"\", 0, EU34 - IF(EU33=\"\", LOOKUP(2, 1/(EU$17:EU32<>\"\"), EU$17:EU32), EU33))","v":0},null,null,null,null,185,"",null,null,{"$f":"IF(FD34=\"\", 0, FD34 - IF(FD33=\"\", LOOKUP(2, 1/(FD$17:FD32<>\"\"), FD$17:FD32), FD33))","v":0},null,null,null,null,185,"",null,null,{"$f":"IF(FM34=\"\", 0, FM34 - IF(FM33=\"\", LOOKUP(2, 1/(FM$17:FM32<>\"\"), FM$17:FM32), FM33))","v":0},null,null,null,null,185,"",null,null,{"$f":"IF(FV34=\"\", 0, FV34 - IF(FV33=\"\", LOOKUP(2, 1/(FV$17:FV32<>\"\"), FV$17:FV32), FV33))","v":0},null,null,null,null,185,"",null,null,{"$f":"IF(GE34=\"\", 0, GE34 - IF(GE33=\"\", LOOKUP(2, 1/(GE$17:GE32<>\"\"), GE$17:GE32), GE33))","v":0},null,null,null,null,185,"",null,null,{"$f":"IF(GN34=\"\", 0, GN34 - IF(GN33=\"\", LOOKUP(2, 1/(GN$17:GN32<>\"\"), GN$17:GN32), GN33))","v":0},null,null,null,null,185,"",null,null,{"$f":"IF(GW34=\"\", 0, GW34 - IF(GW33=\"\", LOOKUP(2, 1/(GW$17:GW32<>\"\"), GW$17:GW32), GW33))","v":0},null,null,null,null,185,"",null,null,{"$f":"IF(HF34=\"\", 0, HF34 - IF(HF33=\"\", LOOKUP(2, 1/(HF$17:HF32<>\"\"), HF$17:HF32), HF33))","v":0},null,null,null,null,185,"",null,null,{"$f":"IF(HO34=\"\", 0, HO34 - IF(HO33=\"\", LOOKUP(2, 1/(HO$17:HO32<>\"\"), HO$17:HO32), HO33))","v":0},null,null,null,null,185,"",null,null,{"$f":"IF(HX34=\"\", 0, HX34 - IF(HX33=\"\", LOOKUP(2, 1/(HX$17:HX32<>\"\"), HX$17:HX32), HX33))","v":0},null,null,null,null,185,"",null,null,{"$f":"IF(IG34=\"\", 0, IG34 - IF(IG33=\"\", LOOKUP(2, 1/(IG$17:IG32<>\"\"), IG$17:IG32), IG33))","v":0},null,null,null,null,185,"",null,null,{"$f":"IF(IP34=\"\", 0, IP34 - IF(IP33=\"\", LOOKUP(2, 1/(IP$17:IP32<>\"\"), IP$17:IP32), IP33))","v":0},null,null,null,null,185,"",null,null,{"$f":"IF(IY34=\"\", 0, IY34 - IF(IY33=\"\", LOOKUP(2, 1/(IY$17:IY32<>\"\"), IY$17:IY32), IY33))","v":0},null,null,null,null,185,"",null,null,{"$f":"IF(JH34=\"\", 0, JH34 - IF(JH33=\"\", LOOKUP(2, 1/(JH$17:JH32<>\"\"), JH$17:JH32), JH33))","v":0},null,null,null,null,185,"",null,null,{"$f":"IF(JQ34=\"\", 0, JQ34 - IF(JQ33=\"\", LOOKUP(2, 1/(JQ$17:JQ32<>\"\"), JQ$17:JQ32), JQ33))","v":0},null,null,null,null,185,"",null,null,{"$f":"IF(JZ34=\"\", 0, JZ34 - IF(JZ33=\"\", LOOKUP(2, 1/(JZ$17:JZ32<>\"\"), JZ$17:JZ32), JZ33))","v":0},null,null,null,null,185,"",null,null,{"$f":"IF(KI34=\"\", 0, KI34 - IF(KI33=\"\", LOOKUP(2, 1/(KI$17:KI32<>\"\"), KI$17:KI32), KI33))","v":0},null,null,null,null,185,"",null,null,{"$f":"IF(KR34=\"\", 0, KR34 - IF(KR33=\"\", LOOKUP(2, 1/(KR$17:KR32<>\"\"), KR$17:KR32), KR33))","v":0},null,null,null,null,185,"",null,null,{"$f":"IF(LA34=\"\", 0, LA34 - IF(LA33=\"\", LOOKUP(2, 1/(LA$17:LA32<>\"\"), LA$17:LA32), LA33))","v":0},null,null,null,null,185,"",null,null,{"$f":"IF(LJ34=\"\", 0, LJ34 - IF(LJ33=\"\", LOOKUP(2, 1/(LJ$17:LJ32<>\"\"), LJ$17:LJ32), LJ33))","v":0},null,null,null,null,185,"",null,null,{"$f":"IF(LS34=\"\", 0, LS34 - IF(LS33=\"\", LOOKUP(2, 1/(LS$17:LS32<>\"\"), LS$17:LS32), LS33))","v":0},null,null,null,null,185,"",null,null,{"$f":"IF(MB34=\"\", 0, MB34 - IF(MB33=\"\", LOOKUP(2, 1/(MB$17:MB32<>\"\"), MB$17:MB32), MB33))","v":0},null,null,null,null,185,"",null,null,{"$f":"IF(MK34=\"\", 0, MK34 - IF(MK33=\"\", LOOKUP(2, 1/(MK$17:MK32<>\"\"), MK$17:MK32), MK33))","v":0},null,null,null,null,185,"",null,null,{"$f":"IF(MT34=\"\", 0, MT34 - IF(MT33=\"\", LOOKUP(2, 1/(MT$17:MT32<>\"\"), MT$17:MT32), MT33))","v":0},null,null,185,"",null,null,{"$f":"IF(NA34=\"\", 0, NA34 - IF(NA33=\"\", LOOKUP(2, 1/(NA$17:NA32<>\"\"), NA$17:NA32), NA33))","v":0},null,null,null,null,185,"",null,null,{"$f":"IF(NJ34=\"\", 0, NJ34 - IF(NJ33=\"\", LOOKUP(2, 1/(NJ$17:NJ32<>\"\"), NJ$17:NJ32), NJ33))","v":0},null,null,null,null,185,"",null,null,{"$f":"IF(NS34=\"\", 0, NS34 - IF(NS33=\"\", LOOKUP(2, 1/(NS$17:NS32<>\"\"), NS$17:NS32), NS33))","v":0},null,null,null,null,185,"",null,null,{"$f":"IF(OB34=\"\", 0, OB34 - IF(OB33=\"\", LOOKUP(2, 1/(OB$17:OB32<>\"\"), OB$17:OB32), OB33))","v":0},null,null,null,null,185,"",null,null,{"$f":"IF(OK34=\"\", 0, OK34 - IF(OK33=\"\", LOOKUP(2, 1/(OK$17:OK32<>\"\"), OK$17:OK32), OK33))","v":0},null,null,null,null,185,"",null,null,{"$f":"IF(OT34=\"\", 0, OT34 - IF(OT33=\"\", LOOKUP(2, 1/(OT$17:OT32<>\"\"), OT$17:OT32), OT33))","v":0},null,null,null,null,185,"",null,null,{"$f":"IF(PC34=\"\", 0, PC34 - IF(PC33=\"\", LOOKUP(2, 1/(PC$17:PC32<>\"\"), PC$17:PC32), PC33))","v":0},null,null,null,null,185,"",null,null,{"$f":"IF(PL34=\"\", 0, PL34 - IF(PL33=\"\", LOOKUP(2, 1/(PL$17:PL32<>\"\"), PL$17:PL32), PL33))","v":0},null,null,null,null,185,"",null,null,{"$f":"IF(PU34=\"\", 0, PU34 - IF(PU33=\"\", LOOKUP(2, 1/(PU$17:PU32<>\"\"), PU$17:PU32), PU33))","v":0},null,null,null,null,185,"",null,null,{"$f":"IF(QD34=\"\", 0, QD34 - IF(QD33=\"\", LOOKUP(2, 1/(QD$17:QD32<>\"\"), QD$17:QD32), QD33))","v":0}]
[null,null,null,184,"",null,null,{"$f":"IF(G35=\"\", 0, G35 - IF(G34=\"\", LOOKUP(2, 1/(G$17:G33<>\"\"), G$17:G33), G34))","v":0},null,null,null,null,184,"",null,null,{"$f":"IF(P35=\"\", 0, P35 - IF(P34=\"\", LOOKUP(2, 1/(P$17:P33<>\"\"), P$17:P33), P34))","v":0},null,null,null,null,184,"",null,null,{"$f":"IF(Y35=\"\", 0, Y35 - IF(Y34=\"\", LOOKUP(2, 1/(Y$17:Y33<>\"\"), Y$17:Y33), Y34))","v":0},null,null,null,null,184,"",null,null,{"$f":"IF(AH35=\"\", 0, AH35 - IF(AH34=\"\", LOOKUP(2, 1/(AH$17:AH33<>\"\"), AH$17:AH33), AH34))","v":0},null,null,null,null,184,"",null,null,{"$f":"IF(AQ35=\"\", 0, AQ35 - IF(AQ34=\"\", LOOKUP(2, 1/(AQ$17:AQ33<>\"\"), AQ$17:AQ33), AQ34))","v":0},null,null,null,null,184,"",null,null,{"$f":"IF(AZ35=\"\", 0, AZ35 - IF(AZ34=\"\", LOOKUP(2, 1/(AZ$17:AZ33<>\"\"), AZ$17:AZ33), AZ34))","v":0},null,null,null,null,184,"",null,null,{"$f":"IF(BI35=\"\", 0, BI35 - IF(BI34=\"\", LOOKUP(2, 1/(BI$17:BI33<>\"\"), BI$17:BI33), BI34))","v":0},null,null,null,null,184,"",null,null,{"$f":"IF(BR35=\"\", 0, BR35 - IF(BR34=\"\", LOOKUP(2, 1/(BR$17:BR33<>\"\"), BR$17:BR33), BR34))","v":0},null,null,null,null,184,"",null,null,{"$f":"IF(CA35=\"\", 0, CA35 - IF(CA34=\"\", LOOKUP(2, 1/(CA$17:CA33<>\"\"), CA$17:CA33), CA34))","v":0},null,null,null,null,184,"",null,null,{"$f":"IF(CJ35=\"\", 0, CJ35 - IF(CJ34=\"\", LOOKUP(2, 1/(CJ$17:CJ33<>\"\"), CJ$17:CJ33), CJ34))","v":0},null,null,null,null,184,"",null,null,{"$f":"IF(CS35=\"\", 0, CS35 - IF(CS34=\"\", LOOKUP(2, 1/(CS$17:CS33<>\"\"), CS$17:CS33), CS34))","v":0},null,null,null,null,184,"",null,null,{"$f":"IF(DB35=\"\", 0, DB35 - IF(DB34=\"\", LOOKUP(2, 1/(DB$17:DB33<>\"\"), DB$17:DB33), DB34))","v":0},null,null,null,null,184,"",null,null,{"$f":"IF(DK35=\"\", 0, DK35 - IF(DK34=\"\", LOOKUP(2, 1/(DK$17:DK33<>\"\"), DK$17:DK33), DK34))","v":0},null,null,null,null,184,"",null,null,{"$f":"IF(DT35=\"\", 0, DT35 - IF(DT34=\"\", LOOKUP(2, 1/(DT$17:DT33<>\"\"), DT$17:DT33), DT34))","v":0},null,null,null,null,184,"",null,null,{"$f":"IF(EC35=\"\", 0, EC35 - IF(EC34=\"\", LOOKUP(2, 1/(EC$17:EC33<>\"\"), EC$17:EC33), EC34))","v":0},null,null,null,null,184,"",null,null,{"$f":"IF(EL35=\"\", 0, EL35 - IF(EL34=\"\", LOOKUP(2, 1/(EL$17:EL33<>\"\"), EL$17:EL33), EL34))","v":0},null,null,null,null,184,"",null,null,{"$f":"IF(EU35=\"\", 0, EU35 - IF(EU34=\"\", LOOKUP(2, 1/(EU$17:EU33<>\"\"), EU$17:EU33), EU34))","v":0},null,null,null,null,184,"",null,null,{"$f":"IF(FD35=\"\", 0, FD35 - IF(FD34=\"\", LOOKUP(2, 1/(FD$17:FD33<>\"\"), FD$17:FD33), FD34))","v":0},null,null,null,null,184,"",null,null,{"$f":"IF(FM35=\"\", 0, FM35 - IF(FM34=\"\", LOOKUP(2, 1/(FM$17:FM33<>\"\"), FM$17:FM33), FM34))","v":0},null,null,null,null,184,"",null,null,{"$f":"IF(FV35=\"\", 0, FV35 - IF(FV34=\"\", LOOKUP(2, 1/(FV$17:FV33<>\"\"), FV$17:FV33), FV34))","v":0},null,null,null,null,184,"",null,null,{"$f":"IF(GE35=\"\", 0, GE35 - IF(GE34=\"\", LOOKUP(2, 1/(GE$17:GE33<>\"\"), GE$17:GE33), GE34))","v":0},null,null,null,null,184,"",null,null,{"$f":"IF(GN35=\"\", 0, GN35 - IF(GN34=\"\", LOOKUP(2, 1/(GN$17:GN33<>\"\"), GN$17:GN33), GN34))","v":0},null,null,null,null,184,"",null,null,{"$f":"IF(GW35=\"\", 0, GW35 - IF(GW34=\"\", LOOKUP(2, 1/(GW$17:GW33<>\"\"), GW$17:GW33), GW34))","v":0},null,null,null,null,184,"",null,null,{"$f":"IF(HF35=\"\", 0, HF35 - IF(HF34=\"\", LOOKUP(2, 1/(HF$17:HF33<>\"\"), HF$17:HF33), HF34))","v":0},null,null,null,null,184,"",null,null,{"$f":"IF(HO35=\"\", 0, HO35 - IF(HO34=\"\", LOOKUP(2, 1/(HO$17:HO33<>\"\"), HO$17:HO33), HO34))","v":0},null,null,null,null,184,"",null,null,{"$f":"IF(HX35=\"\", 0, HX35 - IF(HX34=\"\", LOOKUP(2, 1/(HX$17:HX33<>\"\"), HX$17:HX33), HX34))","v":0},null,null,null,null,184,"",null,null,{"$f":"IF(IG35=\"\", 0, IG35 - IF(IG34=\"\", LOOKUP(2, 1/(IG$17:IG33<>\"\"), IG$17:IG33), IG34))","v":0},null,null,null,null,184,"",null,null,{"$f":"IF(IP35=\"\", 0, IP35 - IF(IP34=\"\", LOOKUP(2, 1/(IP$17:IP33<>\"\"), IP$17:IP33), IP34))","v":0},null,null,null,null,184,"",null,null,{"$f":"IF(IY35=\"\", 0, IY35 - IF(IY34=\"\", LOOKUP(2, 1/(IY$17:IY33<>\"\"), IY$17:IY33), IY34))","v":0},null,null,null,null,184,"",null,null,{"$f":"IF(JH35=\"\", 0, JH35 - IF(JH34=\"\", LOOKUP(2, 1/(JH$17:JH33<>\"\"), JH$17:JH33), JH34))","v":0},null,null,null,null,184,"",null,null,{"$f":"IF(JQ35=\"\", 0, JQ35 - IF(JQ34=\"\", LOOKUP(2, 1/(JQ$17:JQ33<>\"\"), JQ$17:JQ33), JQ34))","v":0},null,null,null,null,184,"",null,null,{"$f":"IF(JZ35=\"\", 0, JZ35 - IF(JZ34=\"\", LOOKUP(2, 1/(JZ$17:JZ33<>\"\"), JZ$17:JZ33), JZ34))","v":0},null,null,null,null,184,"",null,null,{"$f":"IF(KI35=\"\", 0, KI35 - IF(KI34=\"\", LOOKUP(2, 1/(KI$17:KI33<>\"\"), KI$17:KI33), KI34))","v":0},null,null,null,null,184,"",null,null,{"$f":"IF(KR35=\"\", 0, KR35 - IF(KR34=\"\", LOOKUP(2, 1/(KR$17:KR33<>\"\"), KR$17:KR33), KR34))","v":0},null,null,null,null,184,"",null,null,{"$f":"IF(LA35=\"\", 0, LA35 - IF(LA34=\"\", LOOKUP(2, 1/(LA$17:LA33<>\"\"), LA$17:LA33), LA34))","v":0},null,null,null,null,184,"",null,null,{"$f":"IF(LJ35=\"\", 0, LJ35 - IF(LJ34=\"\", LOOKUP(2, 1/(LJ$17:LJ33<>\"\"), LJ$17:LJ33), LJ34))","v":0},null,null,null,null,184,"",null,null,{"$f":"IF(LS35=\"\", 0, LS35 - IF(LS34=\"\", LOOKUP(2, 1/(LS$17:LS33<>\"\"), LS$17:LS33), LS34))","v":0},null,null,null,null,184,"",null,null,{"$f":"IF(MB35=\"\", 0, MB35 - IF(MB34=\"\", LOOKUP(2, 1/(MB$17:MB33<>\"\"), MB$17:MB33), MB34))","v":0},null,null,null,null,184,"",null,null,{"$f":"IF(MK35=\"\", 0, MK35 - IF(MK34=\"\", LOOKUP(2, 1/(MK$17:MK33<>\"\"), MK$17:MK33), MK34))","v":0},null,null,null,null,184,"",null,null,{"$f":"IF(MT35=\"\", 0, MT35 - IF(MT34=\"\", LOOKUP(2, 1/(MT$17:MT33<>\"\"), MT$17:MT33), MT34))","v":0},null,null,184,"",null,null,{"$f":"IF(NA35=\"\", 0, NA35 - IF(NA34=\"\", LOOKUP(2, 1/(NA$17:NA33<>\"\"), NA$17:NA33), NA34))","v":0},null,null,null,null,184,"",null,null,{"$f":"IF(NJ35=\"\", 0, NJ35 - IF(NJ34=\"\", LOOKUP(2, 1/(NJ$17:NJ33<>\"\"), NJ$17:NJ33), NJ34))","v":0},null,null,null,null,184,"",null,null,{"$f":"IF(NS35=\"\", 0, NS35 - IF(NS34=\"\", LOOKUP(2, 1/(NS$17:NS33<>\"\"), NS$17:NS33), NS34))","v":0},null,null,null,null,184,"",null,null,{"$f":"IF(OB35=\"\", 0, OB35 - IF(OB34=\"\", LOOKUP(2, 1/(OB$17:OB33<>\"\"), OB$17:OB33), OB34))","v":0},null,null,null,null,184,"",null,null,{"$f":"IF(OK35=\"\", 0, OK35 - IF(OK34=\"\", LOOKUP(2, 1/(OK$17:OK33<>\"\"), OK$17:OK33), OK34))","v":0},null,null,null,null,184,"",null,null,{"$f":"IF(OT35=\"\", 0, OT35 - IF(OT34=\"\", LOOKUP(2, 1/(OT$17:OT33<>\"\"), OT$17:OT33), OT34))","v":0},null,null,null,null,184,"",null,null,{"$f":"IF(PC35=\"\", 0, PC35 - IF(PC34=\"\", LOOKUP(2, 1/(PC$17:PC33<>\"\"), PC$17:PC33), PC34))","v":0},null,null,null,null,184,"",null,null,{"$f":"IF(PL35=\"\", 0, PL35 - IF(PL34=\"\", LOOKUP(2, 1/(PL$17:PL33<>\"\"), PL$17:PL33), PL34))","v":0},null,null,null,null,184,"",null,null,{"$f":"IF(PU35=\"\", 0, PU35 - IF(PU34=\"\", LOOKUP(2, 1/(PU$17:PU33<>\"\"), PU$17:PU33), PU34))","v":0},null,null,null,null,184,"",null,null,{"$f":"IF(QD35=\"\", 0, QD35 - IF(QD34=\"\", LOOKUP(2, 1/(QD$17:QD33<>\"\"), QD$17:QD33), QD34))","v":0}]
[null,null,null,183,"",null,null,{"$f":"IF(G36=\"\", 0, G36 - IF(G35=\"\", LOOKUP(2, 1/(G$17:G34<>\"\"), G$17:G34), G35))","v":0},null,null,null,null,183,"",null,null,{"$f":"IF(P36=\"\", 0, P36 - IF(P35=\"\", LOOKUP(2, 1/(P$17:P34<>\"\"), P$17:P34), P35))","v":0},null,null,null,null,183,"",null,null,{"$f":"IF(Y36=\"\", 0, Y36 - IF(Y35=\"\", LOOKUP(2, 1/(Y$17:Y34<>\"\"), Y$17:Y34), Y35))","v":0},null,null,null,null,183,"",null,null,{"$f":"IF(AH36=\"\", 0, AH36 - IF(AH35=\"\", LOOKUP(2, 1/(AH$17:AH34<>\"\"), AH$17:AH34), AH35))","v":0},null,null,null,null,183,"",null,null,{"$f":"IF(AQ36=\"\", 0, AQ36 - IF(AQ35=\"\", LOOKUP(2, 1/(AQ$17:AQ34<>\"\"), AQ$17:AQ34), AQ35))","v":0},null,null,null,null,183,"",null,null,{"$f":"IF(AZ36=\"\", 0, AZ36 - IF(AZ35=\"\", LOOKUP(2, 1/(AZ$17:AZ34<>\"\"), AZ$17:AZ34), AZ35))","v":0},null,null,null,null,183,"",null,null,{"$f":"IF(BI36=\"\", 0, BI36 - IF(BI35=\"\", LOOKUP(2, 1/(BI$17:BI34<>\"\"), BI$17:BI34), BI35))","v":0},null,null,null,null,183,"",null,null,{"$f":"IF(BR36=\"\", 0, BR36 - IF(BR35=\"\", LOOKUP(2, 1/(BR$17:BR34<>\"\"), BR$17:BR34), BR35))","v":0},null,null,null,null,183,"",null,null,{"$f":"IF(CA36=\"\", 0, CA36 - IF(CA35=\"\", LOOKUP(2, 1/(CA$17:CA34<>\"\"), CA$17:CA34), CA35))","v":0},null,null,null,null,183,"",null,null,{"$f":"IF(CJ36=\"\", 0, CJ36 - IF(CJ35=\"\", LOOKUP(2, 1/(CJ$17:CJ34<>\"\"), CJ$17:CJ34), CJ35))","v":0},null,null,null,null,183,"",null,null,{"$f":"IF(CS36=\"\", 0, CS36 - IF(CS35=\"\", LOOKUP(2, 1/(CS$17:CS34<>\"\"), CS$17:CS34), CS35))","v":0},null,null,null,null,183,"",null,null,{"$f":"IF(DB36=\"\", 0, DB36 - IF(DB35=\"\", LOOKUP(2, 1/(DB$17:DB34<>\"\"), DB$17:DB34), DB35))","v":0},null,null,null,null,183,"",null,null,{"$f":"IF(DK36=\"\", 0, DK36 - IF(DK35=\"\", LOOKUP(2, 1/(DK$17:DK34<>\"\"), DK$17:DK34), DK35))","v":0},null,null,null,null,183,"",null,null,{"$f":"IF(DT36=\"\", 0, DT36 - IF(DT35=\"\", LOOKUP(2, 1/(DT$17:DT34<>\"\"), DT$17:DT34), DT35))","v":0},null,null,null,null,183,"",null,null,{"$f":"IF(EC36=\"\", 0, EC36 - IF(EC35=\"\", LOOKUP(2, 1/(EC$17:EC34<>\"\"), EC$17:EC34), EC35))","v":0},null,null,null,null,183,"",null,null,{"$f":"IF(EL36=\"\", 0, EL36 - IF(EL35=\"\", LOOKUP(2, 1/(EL$17:EL34<>\"\"), EL$17:EL34), EL35))","v":0},null,null,null,null,183,"",null,null,{"$f":"IF(EU36=\"\", 0, EU36 - IF(EU35=\"\", LOOKUP(2, 1/(EU$17:EU34<>\"\"), EU$17:EU34), EU35))","v":0},null,null,null,null,183,"",null,null,{"$f":"IF(FD36=\"\", 0, FD36 - IF(FD35=\"\", LOOKUP(2, 1/(FD$17:FD34<>\"\"), FD$17:FD34), FD35))","v":0},null,null,null,null,183,"",null,null,{"$f":"IF(FM36=\"\", 0, FM36 - IF(FM35=\"\", LOOKUP(2, 1/(FM$17:FM34<>\"\"), FM$17:FM34), FM35))","v":0},null,null,null,null,183,"",null,null,{"$f":"IF(FV36=\"\", 0, FV36 - IF(FV35=\"\", LOOKUP(2, 1/(FV$17:FV34<>\"\"), FV$17:FV34), FV35))","v":0},null,null,null,null,183,"",null,null,{"$f":"IF(GE36=\"\", 0, GE36 - IF(GE35=\"\", LOOKUP(2, 1/(GE$17:GE34<>\"\"), GE$17:GE34), GE35))","v":0},null,null,null,null,183,"",null,null,{"$f":"IF(GN36=\"\", 0, GN36 - IF(GN35=\"\", LOOKUP(2, 1/(GN$17:GN34<>\"\"), GN$17:GN34), GN35))","v":0},null,null,null,null,183,"",null,null,{"$f":"IF(GW36=\"\", 0, GW36 - IF(GW35=\"\", LOOKUP(2, 1/(GW$17:GW34<>\"\"), GW$17:GW34), GW35))","v":0},null,null,null,null,183,"",null,null,{"$f":"IF(HF36=\"\", 0, HF36 - IF(HF35=\"\", LOOKUP(2, 1/(HF$17:HF34<>\"\"), HF$17:HF34), HF35))","v":0},null,null,null,null,183,"",null,null,{"$f":"IF(HO36=\"\", 0, HO36 - IF(HO35=\"\", LOOKUP(2, 1/(HO$17:HO34<>\"\"), HO$17:HO34), HO35))","v":0},null,null,null,null,183,"",null,null,{"$f":"IF(HX36=\"\", 0, HX36 - IF(HX35=\"\", LOOKUP(2, 1/(HX$17:HX34<>\"\"), HX$17:HX34), HX35))","v":0},null,null,null,null,183,"",null,null,{"$f":"IF(IG36=\"\", 0, IG36 - IF(IG35=\"\", LOOKUP(2, 1/(IG$17:IG34<>\"\"), IG$17:IG34), IG35))","v":0},null,null,null,null,183,"",null,null,{"$f":"IF(IP36=\"\", 0, IP36 - IF(IP35=\"\", LOOKUP(2, 1/(IP$17:IP34<>\"\"), IP$17:IP34), IP35))","v":0},null,null,null,null,183,"",null,null,{"$f":"IF(IY36=\"\", 0, IY36 - IF(IY35=\"\", LOOKUP(2, 1/(IY$17:IY34<>\"\"), IY$17:IY34), IY35))","v":0},null,null,null,null,183,"",null,null,{"$f":"IF(JH36=\"\", 0, JH36 - IF(JH35=\"\", LOOKUP(2, 1/(JH$17:JH34<>\"\"), JH$17:JH34), JH35))","v":0},null,null,null,null,183,"",null,null,{"$f":"IF(JQ36=\"\", 0, JQ36 - IF(JQ35=\"\", LOOKUP(2, 1/(JQ$17:JQ34<>\"\"), JQ$17:JQ34), JQ35))","v":0},null,null,null,null,183,"",null,null,{"$f":"IF(JZ36=\"\", 0, JZ36 - IF(JZ35=\"\", LOOKUP(2, 1/(JZ$17:JZ34<>\"\"), JZ$17:JZ34), JZ35))","v":0},null,null,null,null,183,"",null,null,{"$f":"IF(KI36=\"\", 0, KI36 - IF(KI35=\"\", LOOKUP(2, 1/(KI$17:KI34<>\"\"), KI$17:KI34), KI35))","v":0},null,null,null,null,183,"",null,null,{"$f":"IF(KR36=\"\", 0, KR36 - IF(KR35=\"\", LOOKUP(2, 1/(KR$17:KR34<>\"\"), KR$17:KR34), KR35))","v":0},null,null,null,null,183,"",null,null,{"$f":"IF(LA36=\"\", 0, LA36 - IF(LA35=\"\", LOOKUP(2, 1/(LA$17:LA34<>\"\"), LA$17:LA34), LA35))","v":0},null,null,null,null,183,"",null,null,{"$f":"IF(LJ36=\"\", 0, LJ36 - IF(LJ35=\"\", LOOKUP(2, 1/(LJ$17:LJ34<>\"\"), LJ$17:LJ34), LJ35))","v":0},null,null,null,null,183,"",null,null,{"$f":"IF(LS36=\"\", 0, LS36 - IF(LS35=\"\", LOOKUP(2, 1/(LS$17:LS34<>\"\"), LS$17:LS34), LS35))","v":0},null,null,null,null,183,"",null,null,{"$f":"IF(MB36=\"\", 0, MB36 - IF(MB35=\"\", LOOKUP(2, 1/(MB$17:MB34<>\"\"), MB$17:MB34), MB35))","v":0},null,null,null,null,183,"",null,null,{"$f":"IF(MK36=\"\", 0, MK36 - IF(MK35=\"\", LOOKUP(2, 1/(MK$17:MK34<>\"\"), MK$17:MK34), MK35))","v":0},null,null,null,null,183,"",null,null,{"$f":"IF(MT36=\"\", 0, MT36 - IF(MT35=\"\", LOOKUP(2, 1/(MT$17:MT34<>\"\"), MT$17:MT34), MT35))","v":0},null,null,183,"",null,null,{"$f":"IF(NA36=\"\", 0, NA36 - IF(NA35=\"\", LOOKUP(2, 1/(NA$17:NA34<>\"\"), NA$17:NA34), NA35))","v":0},null,null,null,null,183,"",null,null,{"$f":"IF(NJ36=\"\", 0, NJ36 - IF(NJ35=\"\", LOOKUP(2, 1/(NJ$17:NJ34<>\"\"), NJ$17:NJ34), NJ35))","v":0},null,null,null,null,183,"",null,null,{"$f":"IF(NS36=\"\", 0, NS36 - IF(NS35=\"\", LOOKUP(2, 1/(NS$17:NS34<>\"\"), NS$17:NS34), NS35))","v":0},null,null,null,null,183,"",null,null,{"$f":"IF(OB36=\"\", 0, OB36 - IF(OB35=\"\", LOOKUP(2, 1/(OB$17:OB34<>\"\"), OB$17:OB34), OB35))","v":0},null,null,null,null,183,"",null,null,{"$f":"IF(OK36=\"\", 0, OK36 - IF(OK35=\"\", LOOKUP(2, 1/(OK$17:OK34<>\"\"), OK$17:OK34), OK35))","v":0},null,null,null,null,183,"",null,null,{"$f":"IF(OT36=\"\", 0, OT36 - IF(OT35=\"\", LOOKUP(2, 1/(OT$17:OT34<>\"\"), OT$17:OT34), OT35))","v":0},null,null,null,null,183,"",null,null,{"$f":"IF(PC36=\"\", 0, PC36 - IF(PC35=\"\", LOOKUP(2, 1/(PC$17:PC34<>\"\"), PC$17:PC34), PC35))","v":0},null,null,null,null,183,"",null,null,{"$f":"IF(PL36=\"\", 0, PL36 - IF(PL35=\"\", LOOKUP(2, 1/(PL$17:PL34<>\"\"), PL$17:PL34), PL35))","v":0},null,null,null,null,183,"",null,null,{"$f":"IF(PU36=\"\", 0, PU36 - IF(PU35=\"\", LOOKUP(2, 1/(PU$17:PU34<>\"\"), PU$17:PU34), PU35))","v":0},null,null,null,null,183,"",null,null,{"$f":"IF(QD36=\"\", 0, QD36 - IF(QD35=\"\", LOOKUP(2, 1/(QD$17:QD34<>\"\"), QD$17:QD34), QD35))","v":0}]
[null,null,null,182,"",null,null,{"$f":"IF(G37=\"\", 0, G37 - IF(G36=\"\", LOOKUP(2, 1/(G$17:G35<>\"\"), G$17:G35), G36))","v":0},null,null,null,null,182,"",null,null,{"$f":"IF(P37=\"\", 0, P37 - IF(P36=\"\", LOOKUP(2, 1/(P$17:P35<>\"\"), P$17:P35), P36))","v":0},null,null,null,null,182,"",null,null,{"$f":"IF(Y37=\"\", 0, Y37 - IF(Y36=\"\", LOOKUP(2, 1/(Y$17:Y35<>\"\"), Y$17:Y35), Y36))","v":0},null,null,null,null,182,"",null,null,{"$f":"IF(AH37=\"\", 0, AH37 - IF(AH36=\"\", LOOKUP(2, 1/(AH$17:AH35<>\"\"), AH$17:AH35), AH36))","v":0},null,null,null,null,182,"",null,null,{"$f":"IF(AQ37=\"\", 0, AQ37 - IF(AQ36=\"\", LOOKUP(2, 1/(AQ$17:AQ35<>\"\"), AQ$17:AQ35), AQ36))","v":0},null,null,null,null,182,"",null,null,{"$f":"IF(AZ37=\"\", 0, AZ37 - IF(AZ36=\"\", LOOKUP(2, 1/(AZ$17:AZ35<>\"\"), AZ$17:AZ35), AZ36))","v":0},null,null,null,null,182,"",null,null,{"$f":"IF(BI37=\"\", 0, BI37 - IF(BI36=\"\", LOOKUP(2, 1/(BI$17:BI35<>\"\"), BI$17:BI35), BI36))","v":0},null,null,null,null,182,"",null,null,{"$f":"IF(BR37=\"\", 0, BR37 - IF(BR36=\"\", LOOKUP(2, 1/(BR$17:BR35<>\"\"), BR$17:BR35), BR36))","v":0},null,null,null,null,182,"",null,null,{"$f":"IF(CA37=\"\", 0, CA37 - IF(CA36=\"\", LOOKUP(2, 1/(CA$17:CA35<>\"\"), CA$17:CA35), CA36))","v":0},null,null,null,null,182,"",null,null,{"$f":"IF(CJ37=\"\", 0, CJ37 - IF(CJ36=\"\", LOOKUP(2, 1/(CJ$17:CJ35<>\"\"), CJ$17:CJ35), CJ36))","v":0},null,null,null,null,182,"",null,null,{"$f":"IF(CS37=\"\", 0, CS37 - IF(CS36=\"\", LOOKUP(2, 1/(CS$17:CS35<>\"\"), CS$17:CS35), CS36))","v":0},null,null,null,null,182,"",null,null,{"$f":"IF(DB37=\"\", 0, DB37 - IF(DB36=\"\", LOOKUP(2, 1/(DB$17:DB35<>\"\"), DB$17:DB35), DB36))","v":0},null,null,null,null,182,"",null,null,{"$f":"IF(DK37=\"\", 0, DK37 - IF(DK36=\"\", LOOKUP(2, 1/(DK$17:DK35<>\"\"), DK$17:DK35), DK36))","v":0},null,null,null,null,182,"",null,null,{"$f":"IF(DT37=\"\", 0, DT37 - IF(DT36=\"\", LOOKUP(2, 1/(DT$17:DT35<>\"\"), DT$17:DT35), DT36))","v":0},null,null,null,null,182,"",null,null,{"$f":"IF(EC37=\"\", 0, EC37 - IF(EC36=\"\", LOOKUP(2, 1/(EC$17:EC35<>\"\"), EC$17:EC35), EC36))","v":0},null,null,null,null,182,"",null,null,{"$f":"IF(EL37=\"\", 0, EL37 - IF(EL36=\"\", LOOKUP(2, 1/(EL$17:EL35<>\"\"), EL$17:EL35), EL36))","v":0},null,null,null,null,182,"",null,null,{"$f":"IF(EU37=\"\", 0, EU37 - IF(EU36=\"\", LOOKUP(2, 1/(EU$17:EU35<>\"\"), EU$17:EU35), EU36))","v":0},null,null,null,null,182,"",null,null,{"$f":"IF(FD37=\"\", 0, FD37 - IF(FD36=\"\", LOOKUP(2, 1/(FD$17:FD35<>\"\"), FD$17:FD35), FD36))","v":0},null,null,null,null,182,"",null,null,{"$f":"IF(FM37=\"\", 0, FM37 - IF(FM36=\"\", LOOKUP(2, 1/(FM$17:FM35<>\"\"), FM$17:FM35), FM36))","v":0},null,null,null,null,182,"",null,null,{"$f":"IF(FV37=\"\", 0, FV37 - IF(FV36=\"\", LOOKUP(2, 1/(FV$17:FV35<>\"\"), FV$17:FV35), FV36))","v":0},null,null,null,null,182,"",null,null,{"$f":"IF(GE37=\"\", 0, GE37 - IF(GE36=\"\", LOOKUP(2, 1/(GE$17:GE35<>\"\"), GE$17:GE35), GE36))","v":0},null,null,null,null,182,"",null,null,{"$f":"IF(GN37=\"\", 0, GN37 - IF(GN36=\"\", LOOKUP(2, 1/(GN$17:GN35<>\"\"), GN$17:GN35), GN36))","v":0},null,null,null,null,182,"",null,null,{"$f":"IF(GW37=\"\", 0, GW37 - IF(GW36=\"\", LOOKUP(2, 1/(GW$17:GW35<>\"\"), GW$17:GW35), GW36))","v":0},null,null,null,null,182,"",null,null,{"$f":"IF(HF37=\"\", 0, HF37 - IF(HF36=\"\", LOOKUP(2, 1/(HF$17:HF35<>\"\"), HF$17:HF35), HF36))","v":0},null,null,null,null,182,"",null,null,{"$f":"IF(HO37=\"\", 0, HO37 - IF(HO36=\"\", LOOKUP(2, 1/(HO$17:HO35<>\"\"), HO$17:HO35), HO36))","v":0},null,null,null,null,182,"",null,null,{"$f":"IF(HX37=\"\", 0, HX37 - IF(HX36=\"\", LOOKUP(2, 1/(HX$17:HX35<>\"\"), HX$17:HX35), HX36))","v":0},null,null,null,null,182,"",null,null,{"$f":"IF(IG37=\"\", 0, IG37 - IF(IG36=\"\", LOOKUP(2, 1/(IG$17:IG35<>\"\"), IG$17:IG35), IG36))","v":0},null,null,null,null,182,"",null,null,{"$f":"IF(IP37=\"\", 0, IP37 - IF(IP36=\"\", LOOKUP(2, 1/(IP$17:IP35<>\"\"), IP$17:IP35), IP36))","v":0},null,null,null,null,182,"",null,null,{"$f":"IF(IY37=\"\", 0, IY37 - IF(IY36=\"\", LOOKUP(2, 1/(IY$17:IY35<>\"\"), IY$17:IY35), IY36))","v":0},null,null,null,null,182,"",null,null,{"$f":"IF(JH37=\"\", 0, JH37 - IF(JH36=\"\", LOOKUP(2, 1/(JH$17:JH35<>\"\"), JH$17:JH35), JH36))","v":0},null,null,null,null,182,"",null,null,{"$f":"IF(JQ37=\"\", 0, JQ37 - IF(JQ36=\"\", LOOKUP(2, 1/(JQ$17:JQ35<>\"\"), JQ$17:JQ35), JQ36))","v":0},null,null,null,null,182,"",null,null,{"$f":"IF(JZ37=\"\", 0, JZ37 - IF(JZ36=\"\", LOOKUP(2, 1/(JZ$17:JZ35<>\"\"), JZ$17:JZ35), JZ36))","v":0},null,null,null,null,182,"",null,null,{"$f":"IF(KI37=\"\", 0, KI37 - IF(KI36=\"\", LOOKUP(2, 1/(KI$17:KI35<>\"\"), KI$17:KI35), KI36))","v":0},null,null,null,null,182,"",null,null,{"$f":"IF(KR37=\"\", 0, KR37 - IF(KR36=\"\", LOOKUP(2, 1/(KR$17:KR35<>\"\"), KR$17:KR35), KR36))","v":0},null,null,null,null,182,"",null,null,{"$f":"IF(LA37=\"\", 0, LA37 - IF(LA36=\"\", LOOKUP(2, 1/(LA$17:LA35<>\"\"), LA$17:LA35), LA36))","v":0},null,null,null,null,182,"",null,null,{"$f":"IF(LJ37=\"\", 0, LJ37 - IF(LJ36=\"\", LOOKUP(2, 1/(LJ$17:LJ35<>\"\"), LJ$17:LJ35), LJ36))","v":0},null,null,null,null,182,"",null,null,{"$f":"IF(LS37=\"\", 0, LS37 - IF(LS36=\"\", LOOKUP(2, 1/(LS$17:LS35<>\"\"), LS$17:LS35), LS36))","v":0},null,null,null,null,182,"",null,null,{"$f":"IF(MB37=\"\", 0, MB37 - IF(MB36=\"\", LOOKUP(2, 1/(MB$17:MB35<>\"\"), MB$17:MB35), MB36))","v":0},null,null,null,null,182,"",null,null,{"$f":"IF(MK37=\"\", 0, MK37 - IF(MK36=\"\", LOOKUP(2, 1/(MK$17:MK35<>\"\"), MK$17:MK35), MK36))","v":0},null,null,null,null,182,"",null,null,{"$f":"IF(MT37=\"\", 0, MT37 - IF(MT36=\"\", LOOKUP(2, 1/(MT$17:MT35<>\"\"), MT$17:MT35), MT36))","v":0},null,null,182,"",null,null,{"$f":"IF(NA37=\"\", 0, NA37 - IF(NA36=\"\", LOOKUP(2, 1/(NA$17:NA35<>\"\"), NA$17:NA35), NA36))","v":0},null,null,null,null,182,"",null,null,{"$f":"IF(NJ37=\"\", 0, NJ37 - IF(NJ36=\"\", LOOKUP(2, 1/(NJ$17:NJ35<>\"\"), NJ$17:NJ35), NJ36))","v":0},null,null,null,null,182,"",null,null,{"$f":"IF(NS37=\"\", 0, NS37 - IF(NS36=\"\", LOOKUP(2, 1/(NS$17:NS35<>\"\"), NS$17:NS35), NS36))","v":0},null,null,null,null,182,"",null,null,{"$f":"IF(OB37=\"\", 0, OB37 - IF(OB36=\"\", LOOKUP(2, 1/(OB$17:OB35<>\"\"), OB$17:OB35), OB36))","v":0},null,null,null,null,182,"",null,null,{"$f":"IF(OK37=\"\", 0, OK37 - IF(OK36=\"\", LOOKUP(2, 1/(OK$17:OK35<>\"\"), OK$17:OK35), OK36))","v":0},null,null,null,null,182,"",null,null,{"$f":"IF(OT37=\"\", 0, OT37 - IF(OT36=\"\", LOOKUP(2, 1/(OT$17:OT35<>\"\"), OT$17:OT35), OT36))","v":0},null,null,null,null,182,"",null,null,{"$f":"IF(PC37=\"\", 0, PC37 - IF(PC36=\"\", LOOKUP(2, 1/(PC$17:PC35<>\"\"), PC$17:PC35), PC36))","v":0},null,null,null,null,182,"",null,null,{"$f":"IF(PL37=\"\", 0, PL37 - IF(PL36=\"\", LOOKUP(2, 1/(PL$17:PL35<>\"\"), PL$17:PL35), PL36))","v":0},null,null,null,null,182,"",null,null,{"$f":"IF(PU37=\"\", 0, PU37 - IF(PU36=\"\", LOOKUP(2, 1/(PU$17:PU35<>\"\"), PU$17:PU35), PU36))","v":0},null,null,null,null,182,"",null,null,{"$f":"IF(QD37=\"\", 0, QD37 - IF(QD36=\"\", LOOKUP(2, 1/(QD$17:QD35<>\"\"), QD$17:QD35), QD36))","v":0}]
[null,null,null,181,"",null,null,{"$f":"IF(G38=\"\", 0, G38 - IF(G37=\"\", LOOKUP(2, 1/(G$17:G36<>\"\"), G$17:G36), G37))","v":0},null,null,null,null,181,"",null,null,{"$f":"IF(P38=\"\", 0, P38 - IF(P37=\"\", LOOKUP(2, 1/(P$17:P36<>\"\"), P$17:P36), P37))","v":0},null,null,null,null,181,"",null,null,{"$f":"IF(Y38=\"\", 0, Y38 - IF(Y37=\"\", LOOKUP(2, 1/(Y$17:Y36<>\"\"), Y$17:Y36), Y37))","v":0},null,null,null,null,181,"",null,null,{"$f":"IF(AH38=\"\", 0, AH38 - IF(AH37=\"\", LOOKUP(2, 1/(AH$17:AH36<>\"\"), AH$17:AH36), AH37))","v":0},null,null,null,null,181,"",null,null,{"$f":"IF(AQ38=\"\", 0, AQ38 - IF(AQ37=\"\", LOOKUP(2, 1/(AQ$17:AQ36<>\"\"), AQ$17:AQ36), AQ37))","v":0},null,null,null,null,181,"",null,null,{"$f":"IF(AZ38=\"\", 0, AZ38 - IF(AZ37=\"\", LOOKUP(2, 1/(AZ$17:AZ36<>\"\"), AZ$17:AZ36), AZ37))","v":0},null,null,null,null,181,"",null,null,{"$f":"IF(BI38=\"\", 0, BI38 - IF(BI37=\"\", LOOKUP(2, 1/(BI$17:BI36<>\"\"), BI$17:BI36), BI37))","v":0},null,null,null,null,181,"",null,null,{"$f":"IF(BR38=\"\", 0, BR38 - IF(BR37=\"\", LOOKUP(2, 1/(BR$17:BR36<>\"\"), BR$17:BR36), BR37))","v":0},null,null,null,null,181,"",null,null,{"$f":"IF(CA38=\"\", 0, CA38 - IF(CA37=\"\", LOOKUP(2, 1/(CA$17:CA36<>\"\"), CA$17:CA36), CA37))","v":0},null,null,null,null,181,"",null,null,{"$f":"IF(CJ38=\"\", 0, CJ38 - IF(CJ37=\"\", LOOKUP(2, 1/(CJ$17:CJ36<>\"\"), CJ$17:CJ36), CJ37))","v":0},null,null,null,null,181,"",null,null,{"$f":"IF(CS38=\"\", 0, CS38 - IF(CS37=\"\", LOOKUP(2, 1/(CS$17:CS36<>\"\"), CS$17:CS36), CS37))","v":0},null,null,null,null,181,"",null,null,{"$f":"IF(DB38=\"\", 0, DB38 - IF(DB37=\"\", LOOKUP(2, 1/(DB$17:DB36<>\"\"), DB$17:DB36), DB37))","v":0},null,null,null,null,181,"",null,null,{"$f":"IF(DK38=\"\", 0, DK38 - IF(DK37=\"\", LOOKUP(2, 1/(DK$17:DK36<>\"\"), DK$17:DK36), DK37))","v":0},null,null,null,null,181,"",null,null,{"$f":"IF(DT38=\"\", 0, DT38 - IF(DT37=\"\", LOOKUP(2, 1/(DT$17:DT36<>\"\"), DT$17:DT36), DT37))","v":0},null,null,null,null,181,"",null,null,{"$f":"IF(EC38=\"\", 0, EC38 - IF(EC37=\"\", LOOKUP(2, 1/(EC$17:EC36<>\"\"), EC$17:EC36), EC37))","v":0},null,null,null,null,181,"",null,null,{"$f":"IF(EL38=\"\", 0, EL38 - IF(EL37=\"\", LOOKUP(2, 1/(EL$17:EL36<>\"\"), EL$17:EL36), EL37))","v":0},null,null,null,null,181,"",null,null,{"$f":"IF(EU38=\"\", 0, EU38 - IF(EU37=\"\", LOOKUP(2, 1/(EU$17:EU36<>\"\"), EU$17:EU36), EU37))","v":0},null,null,null,null,181,"",null,null,{"$f":"IF(FD38=\"\", 0, FD38 - IF(FD37=\"\", LOOKUP(2, 1/(FD$17:FD36<>\"\"), FD$17:FD36), FD37))","v":0},null,null,null,null,181,"",null,null,{"$f":"IF(FM38=\"\", 0, FM38 - IF(FM37=\"\", LOOKUP(2, 1/(FM$17:FM36<>\"\"), FM$17:FM36), FM37))","v":0},null,null,null,null,181,"",null,null,{"$f":"IF(FV38=\"\", 0, FV38 - IF(FV37=\"\", LOOKUP(2, 1/(FV$17:FV36<>\"\"), FV$17:FV36), FV37))","v":0},null,null,null,null,181,"",null,null,{"$f":"IF(GE38=\"\", 0, GE38 - IF(GE37=\"\", LOOKUP(2, 1/(GE$17:GE36<>\"\"), GE$17:GE36), GE37))","v":0},null,null,null,null,181,"",null,null,{"$f":"IF(GN38=\"\", 0, GN38 - IF(GN37=\"\", LOOKUP(2, 1/(GN$17:GN36<>\"\"), GN$17:GN36), GN37))","v":0},null,null,null,null,181,"",null,null,{"$f":"IF(GW38=\"\", 0, GW38 - IF(GW37=\"\", LOOKUP(2, 1/(GW$17:GW36<>\"\"), GW$17:GW36), GW37))","v":0},null,null,null,null,181,"",null,null,{"$f":"IF(HF38=\"\", 0, HF38 - IF(HF37=\"\", LOOKUP(2, 1/(HF$17:HF36<>\"\"), HF$17:HF36), HF37))","v":0},null,null,null,null,181,"",null,null,{"$f":"IF(HO38=\"\", 0, HO38 - IF(HO37=\"\", LOOKUP(2, 1/(HO$17:HO36<>\"\"), HO$17:HO36), HO37))","v":0},null,null,null,null,181,"",null,null,{"$f":"IF(HX38=\"\", 0, HX38 - IF(HX37=\"\", LOOKUP(2, 1/(HX$17:HX36<>\"\"), HX$17:HX36), HX37))","v":0},null,null,null,null,181,"",null,null,{"$f":"IF(IG38=\"\", 0, IG38 - IF(IG37=\"\", LOOKUP(2, 1/(IG$17:IG36<>\"\"), IG$17:IG36), IG37))","v":0},null,null,null,null,181,"",null,null,{"$f":"IF(IP38=\"\", 0, IP38 - IF(IP37=\"\", LOOKUP(2, 1/(IP$17:IP36<>\"\"), IP$17:IP36), IP37))","v":0},null,null,null,null,181,"",null,null,{"$f":"IF(IY38=\"\", 0, IY38 - IF(IY37=\"\", LOOKUP(2, 1/(IY$17:IY36<>\"\"), IY$17:IY36), IY37))","v":0},null,null,null,null,181,"",null,null,{"$f":"IF(JH38=\"\", 0, JH38 - IF(JH37=\"\", LOOKUP(2, 1/(JH$17:JH36<>\"\"), JH$17:JH36), JH37))","v":0},null,null,null,null,181,"",null,null,{"$f":"IF(JQ38=\"\", 0, JQ38 - IF(JQ37=\"\", LOOKUP(2, 1/(JQ$17:JQ36<>\"\"), JQ$17:JQ36), JQ37))","v":0},null,null,null,null,181,"",null,null,{"$f":"IF(JZ38=\"\", 0, JZ38 - IF(JZ37=\"\", LOOKUP(2, 1/(JZ$17:JZ36<>\"\"), JZ$17:JZ36), JZ37))","v":0},null,null,null,null,181,"",null,null,{"$f":"IF(KI38=\"\", 0, KI38 - IF(KI37=\"\", LOOKUP(2, 1/(KI$17:KI36<>\"\"), KI$17:KI36), KI37))","v":0},null,null,null,null,181,"",null,null,{"$f":"IF(KR38=\"\", 0, KR38 - IF(KR37=\"\", LOOKUP(2, 1/(KR$17:KR36<>\"\"), KR$17:KR36), KR37))","v":0},null,null,null,null,181,"",null,null,{"$f":"IF(LA38=\"\", 0, LA38 - IF(LA37=\"\", LOOKUP(2, 1/(LA$17:LA36<>\"\"), LA$17:LA36), LA37))","v":0},null,null,null,null,181,"",null,null,{"$f":"IF(LJ38=\"\", 0, LJ38 - IF(LJ37=\"\", LOOKUP(2, 1/(LJ$17:LJ36<>\"\"), LJ$17:LJ36), LJ37))","v":0},null,null,null,null,181,"",null,null,{"$f":"IF(LS38=\"\", 0, LS38 - IF(LS37=\"\", LOOKUP(2, 1/(LS$17:LS36<>\"\"), LS$17:LS36), LS37))","v":0},null,null,null,null,181,"",null,null,{"$f":"IF(MB38=\"\", 0, MB38 - IF(MB37=\"\", LOOKUP(2, 1/(MB$17:MB36<>\"\"), MB$17:MB36), MB37))","v":0},null,null,null,null,181,"",null,null,{"$f":"IF(MK38=\"\", 0, MK38 - IF(MK37=\"\", LOOKUP(2, 1/(MK$17:MK36<>\"\"), MK$17:MK36), MK37))","v":0},null,null,null,null,181,"",null,null,{"$f":"IF(MT38=\"\", 0, MT38 - IF(MT37=\"\", LOOKUP(2, 1/(MT$17:MT36<>\"\"), MT$17:MT36), MT37))","v":0},null,null,181,"",null,null,{"$f":"IF(NA38=\"\", 0, NA38 - IF(NA37=\"\", LOOKUP(2, 1/(NA$17:NA36<>\"\"), NA$17:NA36), NA37))","v":0},null,null,null,null,181,"",null,null,{"$f":"IF(NJ38=\"\", 0, NJ38 - IF(NJ37=\"\", LOOKUP(2, 1/(NJ$17:NJ36<>\"\"), NJ$17:NJ36), NJ37))","v":0},null,null,null,null,181,"",null,null,{"$f":"IF(NS38=\"\", 0, NS38 - IF(NS37=\"\", LOOKUP(2, 1/(NS$17:NS36<>\"\"), NS$17:NS36), NS37))","v":0},null,null,null,null,181,"",null,null,{"$f":"IF(OB38=\"\", 0, OB38 - IF(OB37=\"\", LOOKUP(2, 1/(OB$17:OB36<>\"\"), OB$17:OB36), OB37))","v":0},null,null,null,null,181,"",null,null,{"$f":"IF(OK38=\"\", 0, OK38 - IF(OK37=\"\", LOOKUP(2, 1/(OK$17:OK36<>\"\"), OK$17:OK36), OK37))","v":0},null,null,null,null,181,"",null,null,{"$f":"IF(OT38=\"\", 0, OT38 - IF(OT37=\"\", LOOKUP(2, 1/(OT$17:OT36<>\"\"), OT$17:OT36), OT37))","v":0},null,null,null,null,181,"",null,null,{"$f":"IF(PC38=\"\", 0, PC38 - IF(PC37=\"\", LOOKUP(2, 1/(PC$17:PC36<>\"\"), PC$17:PC36), PC37))","v":0},null,null,null,null,181,"",null,null,{"$f":"IF(PL38=\"\", 0, PL38 - IF(PL37=\"\", LOOKUP(2, 1/(PL$17:PL36<>\"\"), PL$17:PL36), PL37))","v":0},null,null,null,null,181,"",null,null,{"$f":"IF(PU38=\"\", 0, PU38 - IF(PU37=\"\", LOOKUP(2, 1/(PU$17:PU36<>\"\"), PU$17:PU36), PU37))","v":0},null,null,null,null,181,"",null,null,{"$f":"IF(QD38=\"\", 0, QD38 - IF(QD37=\"\", LOOKUP(2, 1/(QD$17:QD36<>\"\"), QD$17:QD36), QD37))","v":0}]
[null,null,null,180,"",null,null,{"$f":"IF(G39=\"\", 0, G39 - IF(G38=\"\", LOOKUP(2, 1/(G$17:G37<>\"\"), G$17:G37), G38))","v":0},null,null,null,null,180,"",null,null,{"$f":"IF(P39=\"\", 0, P39 - IF(P38=\"\", LOOKUP(2, 1/(P$17:P37<>\"\"), P$17:P37), P38))","v":0},null,null,null,null,180,"",null,null,{"$f":"IF(Y39=\"\", 0, Y39 - IF(Y38=\"\", LOOKUP(2, 1/(Y$17:Y37<>\"\"), Y$17:Y37), Y38))","v":0},null,null,null,null,180,"",null,null,{"$f":"IF(AH39=\"\", 0, AH39 - IF(AH38=\"\", LOOKUP(2, 1/(AH$17:AH37<>\"\"), AH$17:AH37), AH38))","v":0},null,null,null,null,180,"",null,null,{"$f":"IF(AQ39=\"\", 0, AQ39 - IF(AQ38=\"\", LOOKUP(2, 1/(AQ$17:AQ37<>\"\"), AQ$17:AQ37), AQ38))","v":0},null,null,null,null,180,"",null,null,{"$f":"IF(AZ39=\"\", 0, AZ39 - IF(AZ38=\"\", LOOKUP(2, 1/(AZ$17:AZ37<>\"\"), AZ$17:AZ37), AZ38))","v":0},null,null,null,null,180,"",null,null,{"$f":"IF(BI39=\"\", 0, BI39 - IF(BI38=\"\", LOOKUP(2, 1/(BI$17:BI37<>\"\"), BI$17:BI37), BI38))","v":0},null,null,null,null,180,"",null,null,{"$f":"IF(BR39=\"\", 0, BR39 - IF(BR38=\"\", LOOKUP(2, 1/(BR$17:BR37<>\"\"), BR$17:BR37), BR38))","v":0},null,null,null,null,180,"",null,null,{"$f":"IF(CA39=\"\", 0, CA39 - IF(CA38=\"\", LOOKUP(2, 1/(CA$17:CA37<>\"\"), CA$17:CA37), CA38))","v":0},null,null,null,null,180,"",null,null,{"$f":"IF(CJ39=\"\", 0, CJ39 - IF(CJ38=\"\", LOOKUP(2, 1/(CJ$17:CJ37<>\"\"), CJ$17:CJ37), CJ38))","v":0},null,null,null,null,180,"",null,null,{"$f":"IF(CS39=\"\", 0, CS39 - IF(CS38=\"\", LOOKUP(2, 1/(CS$17:CS37<>\"\"), CS$17:CS37), CS38))","v":0},null,null,null,null,180,"",null,null,{"$f":"IF(DB39=\"\", 0, DB39 - IF(DB38=\"\", LOOKUP(2, 1/(DB$17:DB37<>\"\"), DB$17:DB37), DB38))","v":0},null,null,null,null,180,"",null,null,{"$f":"IF(DK39=\"\", 0, DK39 - IF(DK38=\"\", LOOKUP(2, 1/(DK$17:DK37<>\"\"), DK$17:DK37), DK38))","v":0},null,null,null,null,180,"",null,null,{"$f":"IF(DT39=\"\", 0, DT39 - IF(DT38=\"\", LOOKUP(2, 1/(DT$17:DT37<>\"\"), DT$17:DT37), DT38))","v":0},null,null,null,null,180,"",null,null,{"$f":"IF(EC39=\"\", 0, EC39 - IF(EC38=\"\", LOOKUP(2, 1/(EC$17:EC37<>\"\"), EC$17:EC37), EC38))","v":0},null,null,null,null,180,"",null,null,{"$f":"IF(EL39=\"\", 0, EL39 - IF(EL38=\"\", LOOKUP(2, 1/(EL$17:EL37<>\"\"), EL$17:EL37), EL38))","v":0},null,null,null,null,180,"",null,null,{"$f":"IF(EU39=\"\", 0, EU39 - IF(EU38=\"\", LOOKUP(2, 1/(EU$17:EU37<>\"\"), EU$17:EU37), EU38))","v":0},null,null,null,null,180,"",null,null,{"$f":"IF(FD39=\"\", 0, FD39 - IF(FD38=\"\", LOOKUP(2, 1/(FD$17:FD37<>\"\"), FD$17:FD37), FD38))","v":0},null,null,null,null,180,"",null,null,{"$f":"IF(FM39=\"\", 0, FM39 - IF(FM38=\"\", LOOKUP(2, 1/(FM$17:FM37<>\"\"), FM$17:FM37), FM38))","v":0},null,null,null,null,180,"",null,null,{"$f":"IF(FV39=\"\", 0, FV39 - IF(FV38=\"\", LOOKUP(2, 1/(FV$17:FV37<>\"\"), FV$17:FV37), FV38))","v":0},null,null,null,null,180,"",null,null,{"$f":"IF(GE39=\"\", 0, GE39 - IF(GE38=\"\", LOOKUP(2, 1/(GE$17:GE37<>\"\"), GE$17:GE37), GE38))","v":0},null,null,null,null,180,"",null,null,{"$f":"IF(GN39=\"\", 0, GN39 - IF(GN38=\"\", LOOKUP(2, 1/(GN$17:GN37<>\"\"), GN$17:GN37), GN38))","v":0},null,null,null,null,180,"",null,null,{"$f":"IF(GW39=\"\", 0, GW39 - IF(GW38=\"\", LOOKUP(2, 1/(GW$17:GW37<>\"\"), GW$17:GW37), GW38))","v":0},null,null,null,null,180,"",null,null,{"$f":"IF(HF39=\"\", 0, HF39 - IF(HF38=\"\", LOOKUP(2, 1/(HF$17:HF37<>\"\"), HF$17:HF37), HF38))","v":0},null,null,null,null,180,"",null,null,{"$f":"IF(HO39=\"\", 0, HO39 - IF(HO38=\"\", LOOKUP(2, 1/(HO$17:HO37<>\"\"), HO$17:HO37), HO38))","v":0},null,null,null,null,180,"",null,null,{"$f":"IF(HX39=\"\", 0, HX39 - IF(HX38=\"\", LOOKUP(2, 1/(HX$17:HX37<>\"\"), HX$17:HX37), HX38))","v":0},null,null,null,null,180,"",null,null,{"$f":"IF(IG39=\"\", 0, IG39 - IF(IG38=\"\", LOOKUP(2, 1/(IG$17:IG37<>\"\"), IG$17:IG37), IG38))","v":0},null,null,null,null,180,"",null,null,{"$f":"IF(IP39=\"\", 0, IP39 - IF(IP38=\"\", LOOKUP(2, 1/(IP$17:IP37<>\"\"), IP$17:IP37), IP38))","v":0},null,null,null,null,180,"",null,null,{"$f":"IF(IY39=\"\", 0, IY39 - IF(IY38=\"\", LOOKUP(2, 1/(IY$17:IY37<>\"\"), IY$17:IY37), IY38))","v":0},null,null,null,null,180,"",null,null,{"$f":"IF(JH39=\"\", 0, JH39 - IF(JH38=\"\", LOOKUP(2, 1/(JH$17:JH37<>\"\"), JH$17:JH37), JH38))","v":0},null,null,null,null,180,"",null,null,{"$f":"IF(JQ39=\"\", 0, JQ39 - IF(JQ38=\"\", LOOKUP(2, 1/(JQ$17:JQ37<>\"\"), JQ$17:JQ37), JQ38))","v":0},null,null,null,null,180,"",null,null,{"$f":"IF(JZ39=\"\", 0, JZ39 - IF(JZ38=\"\", LOOKUP(2, 1/(JZ$17:JZ37<>\"\"), JZ$17:JZ37), JZ38))","v":0},null,null,null,null,180,"",null,null,{"$f":"IF(KI39=\"\", 0, KI39 - IF(KI38=\"\", LOOKUP(2, 1/(KI$17:KI37<>\"\"), KI$17:KI37), KI38))","v":0},null,null,null,null,180,"",null,null,{"$f":"IF(KR39=\"\", 0, KR39 - IF(KR38=\"\", LOOKUP(2, 1/(KR$17:KR37<>\"\"), KR$17:KR37), KR38))","v":0},null,null,null,null,180,"",null,null,{"$f":"IF(LA39=\"\", 0, LA39 - IF(LA38=\"\", LOOKUP(2, 1/(LA$17:LA37<>\"\"), LA$17:LA37), LA38))","v":0},null,null,null,null,180,"",null,null,{"$f":"IF(LJ39=\"\", 0, LJ39 - IF(LJ38=\"\", LOOKUP(2, 1/(LJ$17:LJ37<>\"\"), LJ$17:LJ37), LJ38))","v":0},null,null,null,null,180,"",null,null,{"$f":"IF(LS39=\"\", 0, LS39 - IF(LS38=\"\", LOOKUP(2, 1/(LS$17:LS37<>\"\"), LS$17:LS37), LS38))","v":0},null,null,null,null,180,"",null,null,{"$f":"IF(MB39=\"\", 0, MB39 - IF(MB38=\"\", LOOKUP(2, 1/(MB$17:MB37<>\"\"), MB$17:MB37), MB38))","v":0},null,null,null,null,180,"",null,null,{"$f":"IF(MK39=\"\", 0, MK39 - IF(MK38=\"\", LOOKUP(2, 1/(MK$17:MK37<>\"\"), MK$17:MK37), MK38))","v":0},null,null,null,null,180,"",null,null,{"$f":"IF(MT39=\"\", 0, MT39 - IF(MT38=\"\", LOOKUP(2, 1/(MT$17:MT37<>\"\"), MT$17:MT37), MT38))","v":0},null,null,180,"",null,null,{"$f":"IF(NA39=\"\", 0, NA39 - IF(NA38=\"\", LOOKUP(2, 1/(NA$17:NA37<>\"\"), NA$17:NA37), NA38))","v":0},null,null,null,null,180,"",null,null,{"$f":"IF(NJ39=\"\", 0, NJ39 - IF(NJ38=\"\", LOOKUP(2, 1/(NJ$17:NJ37<>\"\"), NJ$17:NJ37), NJ38))","v":0},null,null,null,null,180,"",null,null,{"$f":"IF(NS39=\"\", 0, NS39 - IF(NS38=\"\", LOOKUP(2, 1/(NS$17:NS37<>\"\"), NS$17:NS37), NS38))","v":0},null,null,null,null,180,"",null,null,{"$f":"IF(OB39=\"\", 0, OB39 - IF(OB38=\"\", LOOKUP(2, 1/(OB$17:OB37<>\"\"), OB$17:OB37), OB38))","v":0},null,null,null,null,180,"",null,null,{"$f":"IF(OK39=\"\", 0, OK39 - IF(OK38=\"\", LOOKUP(2, 1/(OK$17:OK37<>\"\"), OK$17:OK37), OK38))","v":0},null,null,null,null,180,"",null,null,{"$f":"IF(OT39=\"\", 0, OT39 - IF(OT38=\"\", LOOKUP(2, 1/(OT$17:OT37<>\"\"), OT$17:OT37), OT38))","v":0},null,null,null,null,180,"",null,null,{"$f":"IF(PC39=\"\", 0, PC39 - IF(PC38=\"\", LOOKUP(2, 1/(PC$17:PC37<>\"\"), PC$17:PC37), PC38))","v":0},null,null,null,null,180,"",null,null,{"$f":"IF(PL39=\"\", 0, PL39 - IF(PL38=\"\", LOOKUP(2, 1/(PL$17:PL37<>\"\"), PL$17:PL37), PL38))","v":0},null,null,null,null,180,"",null,null,{"$f":"IF(PU39=\"\", 0, PU39 - IF(PU38=\"\", LOOKUP(2, 1/(PU$17:PU37<>\"\"), PU$17:PU37), PU38))","v":0},null,null,null,null,180,"",null,null,{"$f":"IF(QD39=\"\", 0, QD39 - IF(QD38=\"\", LOOKUP(2, 1/(QD$17:QD37<>\"\"), QD$17:QD37), QD38))","v":0}]
[null,null,null,179,"",null,null,{"$f":"IF(G40=\"\", 0, G40 - IF(G39=\"\", LOOKUP(2, 1/(G$17:G38<>\"\"), G$17:G38), G39))","v":0},null,null,null,null,179,"",null,null,{"$f":"IF(P40=\"\", 0, P40 - IF(P39=\"\", LOOKUP(2, 1/(P$17:P38<>\"\"), P$17:P38), P39))","v":0},null,null,null,null,179,"",null,null,{"$f":"IF(Y40=\"\", 0, Y40 - IF(Y39=\"\", LOOKUP(2, 1/(Y$17:Y38<>\"\"), Y$17:Y38), Y39))","v":0},null,null,null,null,179,"",null,null,{"$f":"IF(AH40=\"\", 0, AH40 - IF(AH39=\"\", LOOKUP(2, 1/(AH$17:AH38<>\"\"), AH$17:AH38), AH39))","v":0},null,null,null,null,179,"",null,null,{"$f":"IF(AQ40=\"\", 0, AQ40 - IF(AQ39=\"\", LOOKUP(2, 1/(AQ$17:AQ38<>\"\"), AQ$17:AQ38), AQ39))","v":0},null,null,null,null,179,"",null,null,{"$f":"IF(AZ40=\"\", 0, AZ40 - IF(AZ39=\"\", LOOKUP(2, 1/(AZ$17:AZ38<>\"\"), AZ$17:AZ38), AZ39))","v":0},null,null,null,null,179,"",null,null,{"$f":"IF(BI40=\"\", 0, BI40 - IF(BI39=\"\", LOOKUP(2, 1/(BI$17:BI38<>\"\"), BI$17:BI38), BI39))","v":0},null,null,null,null,179,"",null,null,{"$f":"IF(BR40=\"\", 0, BR40 - IF(BR39=\"\", LOOKUP(2, 1/(BR$17:BR38<>\"\"), BR$17:BR38), BR39))","v":0},null,null,null,null,179,"",null,null,{"$f":"IF(CA40=\"\", 0, CA40 - IF(CA39=\"\", LOOKUP(2, 1/(CA$17:CA38<>\"\"), CA$17:CA38), CA39))","v":0},null,null,null,null,179,"",null,null,{"$f":"IF(CJ40=\"\", 0, CJ40 - IF(CJ39=\"\", LOOKUP(2, 1/(CJ$17:CJ38<>\"\"), CJ$17:CJ38), CJ39))","v":0},null,null,null,null,179,"",null,null,{"$f":"IF(CS40=\"\", 0, CS40 - IF(CS39=\"\", LOOKUP(2, 1/(CS$17:CS38<>\"\"), CS$17:CS38), CS39))","v":0},null,null,null,null,179,"",null,null,{"$f":"IF(DB40=\"\", 0, DB40 - IF(DB39=\"\", LOOKUP(2, 1/(DB$17:DB38<>\"\"), DB$17:DB38), DB39))","v":0},null,null,null,null,179,"",null,null,{"$f":"IF(DK40=\"\", 0, DK40 - IF(DK39=\"\", LOOKUP(2, 1/(DK$17:DK38<>\"\"), DK$17:DK38), DK39))","v":0},null,null,null,null,179,"",null,null,{"$f":"IF(DT40=\"\", 0, DT40 - IF(DT39=\"\", LOOKUP(2, 1/(DT$17:DT38<>\"\"), DT$17:DT38), DT39))","v":0},null,null,null,null,179,"",null,null,{"$f":"IF(EC40=\"\", 0, EC40 - IF(EC39=\"\", LOOKUP(2, 1/(EC$17:EC38<>\"\"), EC$17:EC38), EC39))","v":0},null,null,null,null,179,"",null,null,{"$f":"IF(EL40=\"\", 0, EL40 - IF(EL39=\"\", LOOKUP(2, 1/(EL$17:EL38<>\"\"), EL$17:EL38), EL39))","v":0},null,null,null,null,179,"",null,null,{"$f":"IF(EU40=\"\", 0, EU40 - IF(EU39=\"\", LOOKUP(2, 1/(EU$17:EU38<>\"\"), EU$17:EU38), EU39))","v":0},null,null,null,null,179,"",null,null,{"$f":"IF(FD40=\"\", 0, FD40 - IF(FD39=\"\", LOOKUP(2, 1/(FD$17:FD38<>\"\"), FD$17:FD38), FD39))","v":0},null,null,null,null,179,"",null,null,{"$f":"IF(FM40=\"\", 0, FM40 - IF(FM39=\"\", LOOKUP(2, 1/(FM$17:FM38<>\"\"), FM$17:FM38), FM39))","v":0},null,null,null,null,179,"",null,null,{"$f":"IF(FV40=\"\", 0, FV40 - IF(FV39=\"\", LOOKUP(2, 1/(FV$17:FV38<>\"\"), FV$17:FV38), FV39))","v":0},null,null,null,null,179,"",null,null,{"$f":"IF(GE40=\"\", 0, GE40 - IF(GE39=\"\", LOOKUP(2, 1/(GE$17:GE38<>\"\"), GE$17:GE38), GE39))","v":0},null,null,null,null,179,"",null,null,{"$f":"IF(GN40=\"\", 0, GN40 - IF(GN39=\"\", LOOKUP(2, 1/(GN$17:GN38<>\"\"), GN$17:GN38), GN39))","v":0},null,null,null,null,179,"",null,null,{"$f":"IF(GW40=\"\", 0, GW40 - IF(GW39=\"\", LOOKUP(2, 1/(GW$17:GW38<>\"\"), GW$17:GW38), GW39))","v":0},null,null,null,null,179,"",null,null,{"$f":"IF(HF40=\"\", 0, HF40 - IF(HF39=\"\", LOOKUP(2, 1/(HF$17:HF38<>\"\"), HF$17:HF38), HF39))","v":0},null,null,null,null,179,"",null,null,{"$f":"IF(HO40=\"\", 0, HO40 - IF(HO39=\"\", LOOKUP(2, 1/(HO$17:HO38<>\"\"), HO$17:HO38), HO39))","v":0},null,null,null,null,179,"",null,null,{"$f":"IF(HX40=\"\", 0, HX40 - IF(HX39=\"\", LOOKUP(2, 1/(HX$17:HX38<>\"\"), HX$17:HX38), HX39))","v":0},null,null,null,null,179,"",null,null,{"$f":"IF(IG40=\"\", 0, IG40 - IF(IG39=\"\", LOOKUP(2, 1/(IG$17:IG38<>\"\"), IG$17:IG38), IG39))","v":0},null,null,null,null,179,"",null,null,{"$f":"IF(IP40=\"\", 0, IP40 - IF(IP39=\"\", LOOKUP(2, 1/(IP$17:IP38<>\"\"), IP$17:IP38), IP39))","v":0},null,null,null,null,179,"",null,null,{"$f":"IF(IY40=\"\", 0, IY40 - IF(IY39=\"\", LOOKUP(2, 1/(IY$17:IY38<>\"\"), IY$17:IY38), IY39))","v":0},null,null,null,null,179,"",null,null,{"$f":"IF(JH40=\"\", 0, JH40 - IF(JH39=\"\", LOOKUP(2, 1/(JH$17:JH38<>\"\"), JH$17:JH38), JH39))","v":0},null,null,null,null,179,"",null,null,{"$f":"IF(JQ40=\"\", 0, JQ40 - IF(JQ39=\"\", LOOKUP(2, 1/(JQ$17:JQ38<>\"\"), JQ$17:JQ38), JQ39))","v":0},null,null,null,null,179,"",null,null,{"$f":"IF(JZ40=\"\", 0, JZ40 - IF(JZ39=\"\", LOOKUP(2, 1/(JZ$17:JZ38<>\"\"), JZ$17:JZ38), JZ39))","v":0},null,null,null,null,179,"",null,null,{"$f":"IF(KI40=\"\", 0, KI40 - IF(KI39=\"\", LOOKUP(2, 1/(KI$17:KI38<>\"\"), KI$17:KI38), KI39))","v":0},null,null,null,null,179,"",null,null,{"$f":"IF(KR40=\"\", 0, KR40 - IF(KR39=\"\", LOOKUP(2, 1/(KR$17:KR38<>\"\"), KR$17:KR38), KR39))","v":0},null,null,null,null,179,"",null,null,{"$f":"IF(LA40=\"\", 0, LA40 - IF(LA39=\"\", LOOKUP(2, 1/(LA$17:LA38<>\"\"), LA$17:LA38), LA39))","v":0},null,null,null,null,179,"",null,null,{"$f":"IF(LJ40=\"\", 0, LJ40 - IF(LJ39=\"\", LOOKUP(2, 1/(LJ$17:LJ38<>\"\"), LJ$17:LJ38), LJ39))","v":0},null,null,null,null,179,"",null,null,{"$f":"IF(LS40=\"\", 0, LS40 - IF(LS39=\"\", LOOKUP(2, 1/(LS$17:LS38<>\"\"), LS$17:LS38), LS39))","v":0},null,null,null,null,179,"",null,null,{"$f":"IF(MB40=\"\", 0, MB40 - IF(MB39=\"\", LOOKUP(2, 1/(MB$17:MB38<>\"\"), MB$17:MB38), MB39))","v":0},null,null,null,null,179,"",null,null,{"$f":"IF(MK40=\"\", 0, MK40 - IF(MK39=\"\", LOOKUP(2, 1/(MK$17:MK38<>\"\"), MK$17:MK38), MK39))","v":0},null,null,null,null,179,"",null,null,{"$f":"IF(MT40=\"\", 0, MT40 - IF(MT39=\"\", LOOKUP(2, 1/(MT$17:MT38<>\"\"), MT$17:MT38), MT39))","v":0},null,null,179,"",null,null,{"$f":"IF(NA40=\"\", 0, NA40 - IF(NA39=\"\", LOOKUP(2, 1/(NA$17:NA38<>\"\"), NA$17:NA38), NA39))","v":0},null,null,null,null,179,"",null,null,{"$f":"IF(NJ40=\"\", 0, NJ40 - IF(NJ39=\"\", LOOKUP(2, 1/(NJ$17:NJ38<>\"\"), NJ$17:NJ38), NJ39))","v":0},null,null,null,null,179,"",null,null,{"$f":"IF(NS40=\"\", 0, NS40 - IF(NS39=\"\", LOOKUP(2, 1/(NS$17:NS38<>\"\"), NS$17:NS38), NS39))","v":0},null,null,null,null,179,"",null,null,{"$f":"IF(OB40=\"\", 0, OB40 - IF(OB39=\"\", LOOKUP(2, 1/(OB$17:OB38<>\"\"), OB$17:OB38), OB39))","v":0},null,null,null,null,179,"",null,null,{"$f":"IF(OK40=\"\", 0, OK40 - IF(OK39=\"\", LOOKUP(2, 1/(OK$17:OK38<>\"\"), OK$17:OK38), OK39))","v":0},null,null,null,null,179,"",null,null,{"$f":"IF(OT40=\"\", 0, OT40 - IF(OT39=\"\", LOOKUP(2, 1/(OT$17:OT38<>\"\"), OT$17:OT38), OT39))","v":0},null,null,null,null,179,"",null,null,{"$f":"IF(PC40=\"\", 0, PC40 - IF(PC39=\"\", LOOKUP(2, 1/(PC$17:PC38<>\"\"), PC$17:PC38), PC39))","v":0},null,null,null,null,179,"",null,null,{"$f":"IF(PL40=\"\", 0, PL40 - IF(PL39=\"\", LOOKUP(2, 1/(PL$17:PL38<>\"\"), PL$17:PL38), PL39))","v":0},null,null,null,null,179,"",null,null,{"$f":"IF(PU40=\"\", 0, PU40 - IF(PU39=\"\", LOOKUP(2, 1/(PU$17:PU38<>\"\"), PU$17:PU38), PU39))","v":0},null,null,null,null,179,"",null,null,{"$f":"IF(QD40=\"\", 0, QD40 - IF(QD39=\"\", LOOKUP(2, 1/(QD$17:QD38<>\"\"), QD$17:QD38), QD39))","v":0}]
[null,null,null,178,"",null,null,{"$f":"IF(G41=\"\", 0, G41 - IF(G40=\"\", LOOKUP(2, 1/(G$17:G39<>\"\"), G$17:G39), G40))","v":0},null,null,null,null,178,"",null,null,{"$f":"IF(P41=\"\", 0, P41 - IF(P40=\"\", LOOKUP(2, 1/(P$17:P39<>\"\"), P$17:P39), P40))","v":0},null,null,null,null,178,"",null,null,{"$f":"IF(Y41=\"\", 0, Y41 - IF(Y40=\"\", LOOKUP(2, 1/(Y$17:Y39<>\"\"), Y$17:Y39), Y40))","v":0},null,null,null,null,178,"",null,null,{"$f":"IF(AH41=\"\", 0, AH41 - IF(AH40=\"\", LOOKUP(2, 1/(AH$17:AH39<>\"\"), AH$17:AH39), AH40))","v":0},null,null,null,null,178,"",null,null,{"$f":"IF(AQ41=\"\", 0, AQ41 - IF(AQ40=\"\", LOOKUP(2, 1/(AQ$17:AQ39<>\"\"), AQ$17:AQ39), AQ40))","v":0},null,null,null,null,178,"",null,null,{"$f":"IF(AZ41=\"\", 0, AZ41 - IF(AZ40=\"\", LOOKUP(2, 1/(AZ$17:AZ39<>\"\"), AZ$17:AZ39), AZ40))","v":0},null,null,null,null,178,"",null,null,{"$f":"IF(BI41=\"\", 0, BI41 - IF(BI40=\"\", LOOKUP(2, 1/(BI$17:BI39<>\"\"), BI$17:BI39), BI40))","v":0},null,null,null,null,178,"",null,null,{"$f":"IF(BR41=\"\", 0, BR41 - IF(BR40=\"\", LOOKUP(2, 1/(BR$17:BR39<>\"\"), BR$17:BR39), BR40))","v":0},null,null,null,null,178,"",null,null,{"$f":"IF(CA41=\"\", 0, CA41 - IF(CA40=\"\", LOOKUP(2, 1/(CA$17:CA39<>\"\"), CA$17:CA39), CA40))","v":0},null,null,null,null,178,"",null,null,{"$f":"IF(CJ41=\"\", 0, CJ41 - IF(CJ40=\"\", LOOKUP(2, 1/(CJ$17:CJ39<>\"\"), CJ$17:CJ39), CJ40))","v":0},null,null,null,null,178,"",null,null,{"$f":"IF(CS41=\"\", 0, CS41 - IF(CS40=\"\", LOOKUP(2, 1/(CS$17:CS39<>\"\"), CS$17:CS39), CS40))","v":0},null,null,null,null,178,"",null,null,{"$f":"IF(DB41=\"\", 0, DB41 - IF(DB40=\"\", LOOKUP(2, 1/(DB$17:DB39<>\"\"), DB$17:DB39), DB40))","v":0},null,null,null,null,178,"",null,null,{"$f":"IF(DK41=\"\", 0, DK41 - IF(DK40=\"\", LOOKUP(2, 1/(DK$17:DK39<>\"\"), DK$17:DK39), DK40))","v":0},null,null,null,null,178,"",null,null,{"$f":"IF(DT41=\"\", 0, DT41 - IF(DT40=\"\", LOOKUP(2, 1/(DT$17:DT39<>\"\"), DT$17:DT39), DT40))","v":0},null,null,null,null,178,"",null,null,{"$f":"IF(EC41=\"\", 0, EC41 - IF(EC40=\"\", LOOKUP(2, 1/(EC$17:EC39<>\"\"), EC$17:EC39), EC40))","v":0},null,null,null,null,178,"",null,null,{"$f":"IF(EL41=\"\", 0, EL41 - IF(EL40=\"\", LOOKUP(2, 1/(EL$17:EL39<>\"\"), EL$17:EL39), EL40))","v":0},null,null,null,null,178,"",null,null,{"$f":"IF(EU41=\"\", 0, EU41 - IF(EU40=\"\", LOOKUP(2, 1/(EU$17:EU39<>\"\"), EU$17:EU39), EU40))","v":0},null,null,null,null,178,"",null,null,{"$f":"IF(FD41=\"\", 0, FD41 - IF(FD40=\"\", LOOKUP(2, 1/(FD$17:FD39<>\"\"), FD$17:FD39), FD40))","v":0},null,null,null,null,178,"",null,null,{"$f":"IF(FM41=\"\", 0, FM41 - IF(FM40=\"\", LOOKUP(2, 1/(FM$17:FM39<>\"\"), FM$17:FM39), FM40))","v":0},null,null,null,null,178,"",null,null,{"$f":"IF(FV41=\"\", 0, FV41 - IF(FV40=\"\", LOOKUP(2, 1/(FV$17:FV39<>\"\"), FV$17:FV39), FV40))","v":0},null,null,null,null,178,"",null,null,{"$f":"IF(GE41=\"\", 0, GE41 - IF(GE40=\"\", LOOKUP(2, 1/(GE$17:GE39<>\"\"), GE$17:GE39), GE40))","v":0},null,null,null,null,178,"",null,null,{"$f":"IF(GN41=\"\", 0, GN41 - IF(GN40=\"\", LOOKUP(2, 1/(GN$17:GN39<>\"\"), GN$17:GN39), GN40))","v":0},null,null,null,null,178,"",null,null,{"$f":"IF(GW41=\"\", 0, GW41 - IF(GW40=\"\", LOOKUP(2, 1/(GW$17:GW39<>\"\"), GW$17:GW39), GW40))","v":0},null,null,null,null,178,"",null,null,{"$f":"IF(HF41=\"\", 0, HF41 - IF(HF40=\"\", LOOKUP(2, 1/(HF$17:HF39<>\"\"), HF$17:HF39), HF40))","v":0},null,null,null,null,178,"",null,null,{"$f":"IF(HO41=\"\", 0, HO41 - IF(HO40=\"\", LOOKUP(2, 1/(HO$17:HO39<>\"\"), HO$17:HO39), HO40))","v":0},null,null,null,null,178,"",null,null,{"$f":"IF(HX41=\"\", 0, HX41 - IF(HX40=\"\", LOOKUP(2, 1/(HX$17:HX39<>\"\"), HX$17:HX39), HX40))","v":0},null,null,null,null,178,"",null,null,{"$f":"IF(IG41=\"\", 0, IG41 - IF(IG40=\"\", LOOKUP(2, 1/(IG$17:IG39<>\"\"), IG$17:IG39), IG40))","v":0},null,null,null,null,178,"",null,null,{"$f":"IF(IP41=\"\", 0, IP41 - IF(IP40=\"\", LOOKUP(2, 1/(IP$17:IP39<>\"\"), IP$17:IP39), IP40))","v":0},null,null,null,null,178,"",null,null,{"$f":"IF(IY41=\"\", 0, IY41 - IF(IY40=\"\", LOOKUP(2, 1/(IY$17:IY39<>\"\"), IY$17:IY39), IY40))","v":0},null,null,null,null,178,"",null,null,{"$f":"IF(JH41=\"\", 0, JH41 - IF(JH40=\"\", LOOKUP(2, 1/(JH$17:JH39<>\"\"), JH$17:JH39), JH40))","v":0},null,null,null,null,178,"",null,null,{"$f":"IF(JQ41=\"\", 0, JQ41 - IF(JQ40=\"\", LOOKUP(2, 1/(JQ$17:JQ39<>\"\"), JQ$17:JQ39), JQ40))","v":0},null,null,null,null,178,"",null,null,{"$f":"IF(JZ41=\"\", 0, JZ41 - IF(JZ40=\"\", LOOKUP(2, 1/(JZ$17:JZ39<>\"\"), JZ$17:JZ39), JZ40))","v":0},null,null,null,null,178,"",null,null,{"$f":"IF(KI41=\"\", 0, KI41 - IF(KI40=\"\", LOOKUP(2, 1/(KI$17:KI39<>\"\"), KI$17:KI39), KI40))","v":0},null,null,null,null,178,"",null,null,{"$f":"IF(KR41=\"\", 0, KR41 - IF(KR40=\"\", LOOKUP(2, 1/(KR$17:KR39<>\"\"), KR$17:KR39), KR40))","v":0},null,null,null,null,178,"",null,null,{"$f":"IF(LA41=\"\", 0, LA41 - IF(LA40=\"\", LOOKUP(2, 1/(LA$17:LA39<>\"\"), LA$17:LA39), LA40))","v":0},null,null,null,null,178,"",null,null,{"$f":"IF(LJ41=\"\", 0, LJ41 - IF(LJ40=\"\", LOOKUP(2, 1/(LJ$17:LJ39<>\"\"), LJ$17:LJ39), LJ40))","v":0},null,null,null,null,178,"",null,null,{"$f":"IF(LS41=\"\", 0, LS41 - IF(LS40=\"\", LOOKUP(2, 1/(LS$17:LS39<>\"\"), LS$17:LS39), LS40))","v":0},null,null,null,null,178,"",null,null,{"$f":"IF(MB41=\"\", 0, MB41 - IF(MB40=\"\", LOOKUP(2, 1/(MB$17:MB39<>\"\"), MB$17:MB39), MB40))","v":0},null,null,null,null,178,"",null,null,{"$f":"IF(MK41=\"\", 0, MK41 - IF(MK40=\"\", LOOKUP(2, 1/(MK$17:MK39<>\"\"), MK$17:MK39), MK40))","v":0},null,null,null,null,178,"",null,null,{"$f":"IF(MT41=\"\", 0, MT41 - IF(MT40=\"\", LOOKUP(2, 1/(MT$17:MT39<>\"\"), MT$17:MT39), MT40))","v":0},null,null,178,"",null,null,{"$f":"IF(NA41=\"\", 0, NA41 - IF(NA40=\"\", LOOKUP(2, 1/(NA$17:NA39<>\"\"), NA$17:NA39), NA40))","v":0},null,null,null,null,178,"",null,null,{"$f":"IF(NJ41=\"\", 0, NJ41 - IF(NJ40=\"\", LOOKUP(2, 1/(NJ$17:NJ39<>\"\"), NJ$17:NJ39), NJ40))","v":0},null,null,null,null,178,"",null,null,{"$f":"IF(NS41=\"\", 0, NS41 - IF(NS40=\"\", LOOKUP(2, 1/(NS$17:NS39<>\"\"), NS$17:NS39), NS40))","v":0},null,null,null,null,178,"",null,null,{"$f":"IF(OB41=\"\", 0, OB41 - IF(OB40=\"\", LOOKUP(2, 1/(OB$17:OB39<>\"\"), OB$17:OB39), OB40))","v":0},null,null,null,null,178,"",null,null,{"$f":"IF(OK41=\"\", 0, OK41 - IF(OK40=\"\", LOOKUP(2, 1/(OK$17:OK39<>\"\"), OK$17:OK39), OK40))","v":0},null,null,null,null,178,"",null,null,{"$f":"IF(OT41=\"\", 0, OT41 - IF(OT40=\"\", LOOKUP(2, 1/(OT$17:OT39<>\"\"), OT$17:OT39), OT40))","v":0},null,null,null,null,178,"",null,null,{"$f":"IF(PC41=\"\", 0, PC41 - IF(PC40=\"\", LOOKUP(2, 1/(PC$17:PC39<>\"\"), PC$17:PC39), PC40))","v":0},null,null,null,null,178,"",null,null,{"$f":"IF(PL41=\"\", 0, PL41 - IF(PL40=\"\", LOOKUP(2, 1/(PL$17:PL39<>\"\"), PL$17:PL39), PL40))","v":0},null,null,null,null,178,"",null,null,{"$f":"IF(PU41=\"\", 0, PU41 - IF(PU40=\"\", LOOKUP(2, 1/(PU$17:PU39<>\"\"), PU$17:PU39), PU40))","v":0},null,null,null,null,178,"",null,null,{"$f":"IF(QD41=\"\", 0, QD41 - IF(QD40=\"\", LOOKUP(2, 1/(QD$17:QD39<>\"\"), QD$17:QD39), QD40))","v":0}]
[null,null,null,177,"",null,null,{"$f":"IF(G42=\"\", 0, G42 - IF(G41=\"\", LOOKUP(2, 1/(G$17:G40<>\"\"), G$17:G40), G41))","v":0},null,null,null,null,177,"",null,null,{"$f":"IF(P42=\"\", 0, P42 - IF(P41=\"\", LOOKUP(2, 1/(P$17:P40<>\"\"), P$17:P40), P41))","v":0},null,null,null,null,177,"",null,null,{"$f":"IF(Y42=\"\", 0, Y42 - IF(Y41=\"\", LOOKUP(2, 1/(Y$17:Y40<>\"\"), Y$17:Y40), Y41))","v":0},null,null,null,null,177,"",null,null,{"$f":"IF(AH42=\"\", 0, AH42 - IF(AH41=\"\", LOOKUP(2, 1/(AH$17:AH40<>\"\"), AH$17:AH40), AH41))","v":0},null,null,null,null,177,"",null,null,{"$f":"IF(AQ42=\"\", 0, AQ42 - IF(AQ41=\"\", LOOKUP(2, 1/(AQ$17:AQ40<>\"\"), AQ$17:AQ40), AQ41))","v":0},null,null,null,null,177,"",null,null,{"$f":"IF(AZ42=\"\", 0, AZ42 - IF(AZ41=\"\", LOOKUP(2, 1/(AZ$17:AZ40<>\"\"), AZ$17:AZ40), AZ41))","v":0},null,null,null,null,177,"",null,null,{"$f":"IF(BI42=\"\", 0, BI42 - IF(BI41=\"\", LOOKUP(2, 1/(BI$17:BI40<>\"\"), BI$17:BI40), BI41))","v":0},null,null,null,null,177,"",null,null,{"$f":"IF(BR42=\"\", 0, BR42 - IF(BR41=\"\", LOOKUP(2, 1/(BR$17:BR40<>\"\"), BR$17:BR40), BR41))","v":0},null,null,null,null,177,"",null,null,{"$f":"IF(CA42=\"\", 0, CA42 - IF(CA41=\"\", LOOKUP(2, 1/(CA$17:CA40<>\"\"), CA$17:CA40), CA41))","v":0},null,null,null,null,177,"",null,null,{"$f":"IF(CJ42=\"\", 0, CJ42 - IF(CJ41=\"\", LOOKUP(2, 1/(CJ$17:CJ40<>\"\"), CJ$17:CJ40), CJ41))","v":0},null,null,null,null,177,"",null,null,{"$f":"IF(CS42=\"\", 0, CS42 - IF(CS41=\"\", LOOKUP(2, 1/(CS$17:CS40<>\"\"), CS$17:CS40), CS41))","v":0},null,null,null,null,177,"",null,null,{"$f":"IF(DB42=\"\", 0, DB42 - IF(DB41=\"\", LOOKUP(2, 1/(DB$17:DB40<>\"\"), DB$17:DB40), DB41))","v":0},null,null,null,null,177,"",null,null,{"$f":"IF(DK42=\"\", 0, DK42 - IF(DK41=\"\", LOOKUP(2, 1/(DK$17:DK40<>\"\"), DK$17:DK40), DK41))","v":0},null,null,null,null,177,"",null,null,{"$f":"IF(DT42=\"\", 0, DT42 - IF(DT41=\"\", LOOKUP(2, 1/(DT$17:DT40<>\"\"), DT$17:DT40), DT41))","v":0},null,null,null,null,177,"",null,null,{"$f":"IF(EC42=\"\", 0, EC42 - IF(EC41=\"\", LOOKUP(2, 1/(EC$17:EC40<>\"\"), EC$17:EC40), EC41))","v":0},null,null,null,null,177,"",null,null,{"$f":"IF(EL42=\"\", 0, EL42 - IF(EL41=\"\", LOOKUP(2, 1/(EL$17:EL40<>\"\"), EL$17:EL40), EL41))","v":0},null,null,null,null,177,"",null,null,{"$f":"IF(EU42=\"\", 0, EU42 - IF(EU41=\"\", LOOKUP(2, 1/(EU$17:EU40<>\"\"), EU$17:EU40), EU41))","v":0},null,null,null,null,177,"",null,null,{"$f":"IF(FD42=\"\", 0, FD42 - IF(FD41=\"\", LOOKUP(2, 1/(FD$17:FD40<>\"\"), FD$17:FD40), FD41))","v":0},null,null,null,null,177,"",null,null,{"$f":"IF(FM42=\"\", 0, FM42 - IF(FM41=\"\", LOOKUP(2, 1/(FM$17:FM40<>\"\"), FM$17:FM40), FM41))","v":0},null,null,null,null,177,"",null,null,{"$f":"IF(FV42=\"\", 0, FV42 - IF(FV41=\"\", LOOKUP(2, 1/(FV$17:FV40<>\"\"), FV$17:FV40), FV41))","v":0},null,null,null,null,177,"",null,null,{"$f":"IF(GE42=\"\", 0, GE42 - IF(GE41=\"\", LOOKUP(2, 1/(GE$17:GE40<>\"\"), GE$17:GE40), GE41))","v":0},null,null,null,null,177,"",null,null,{"$f":"IF(GN42=\"\", 0, GN42 - IF(GN41=\"\", LOOKUP(2, 1/(GN$17:GN40<>\"\"), GN$17:GN40), GN41))","v":0},null,null,null,null,177,"",null,null,{"$f":"IF(GW42=\"\", 0, GW42 - IF(GW41=\"\", LOOKUP(2, 1/(GW$17:GW40<>\"\"), GW$17:GW40), GW41))","v":0},null,null,null,null,177,"",null,null,{"$f":"IF(HF42=\"\", 0, HF42 - IF(HF41=\"\", LOOKUP(2, 1/(HF$17:HF40<>\"\"), HF$17:HF40), HF41))","v":0},null,null,null,null,177,"",null,null,{"$f":"IF(HO42=\"\", 0, HO42 - IF(HO41=\"\", LOOKUP(2, 1/(HO$17:HO40<>\"\"), HO$17:HO40), HO41))","v":0},null,null,null,null,177,"",null,null,{"$f":"IF(HX42=\"\", 0, HX42 - IF(HX41=\"\", LOOKUP(2, 1/(HX$17:HX40<>\"\"), HX$17:HX40), HX41))","v":0},null,null,null,null,177,"",null,null,{"$f":"IF(IG42=\"\", 0, IG42 - IF(IG41=\"\", LOOKUP(2, 1/(IG$17:IG40<>\"\"), IG$17:IG40), IG41))","v":0},null,null,null,null,177,"",null,null,{"$f":"IF(IP42=\"\", 0, IP42 - IF(IP41=\"\", LOOKUP(2, 1/(IP$17:IP40<>\"\"), IP$17:IP40), IP41))","v":0},null,null,null,null,177,"",null,null,{"$f":"IF(IY42=\"\", 0, IY42 - IF(IY41=\"\", LOOKUP(2, 1/(IY$17:IY40<>\"\"), IY$17:IY40), IY41))","v":0},null,null,null,null,177,"",null,null,{"$f":"IF(JH42=\"\", 0, JH42 - IF(JH41=\"\", LOOKUP(2, 1/(JH$17:JH40<>\"\"), JH$17:JH40), JH41))","v":0},null,null,null,null,177,"",null,null,{"$f":"IF(JQ42=\"\", 0, JQ42 - IF(JQ41=\"\", LOOKUP(2, 1/(JQ$17:JQ40<>\"\"), JQ$17:JQ40), JQ41))","v":0},null,null,null,null,177,"",null,null,{"$f":"IF(JZ42=\"\", 0, JZ42 - IF(JZ41=\"\", LOOKUP(2, 1/(JZ$17:JZ40<>\"\"), JZ$17:JZ40), JZ41))","v":0},null,null,null,null,177,"",null,null,{"$f":"IF(KI42=\"\", 0, KI42 - IF(KI41=\"\", LOOKUP(2, 1/(KI$17:KI40<>\"\"), KI$17:KI40), KI41))","v":0},null,null,null,null,177,"",null,null,{"$f":"IF(KR42=\"\", 0, KR42 - IF(KR41=\"\", LOOKUP(2, 1/(KR$17:KR40<>\"\"), KR$17:KR40), KR41))","v":0},null,null,null,null,177,"",null,null,{"$f":"IF(LA42=\"\", 0, LA42 - IF(LA41=\"\", LOOKUP(2, 1/(LA$17:LA40<>\"\"), LA$17:LA40), LA41))","v":0},null,null,null,null,177,"",null,null,{"$f":"IF(LJ42=\"\", 0, LJ42 - IF(LJ41=\"\", LOOKUP(2, 1/(LJ$17:LJ40<>\"\"), LJ$17:LJ40), LJ41))","v":0},null,null,null,null,177,"",null,null,{"$f":"IF(LS42=\"\", 0, LS42 - IF(LS41=\"\", LOOKUP(2, 1/(LS$17:LS40<>\"\"), LS$17:LS40), LS41))","v":0},null,null,null,null,177,"",null,null,{"$f":"IF(MB42=\"\", 0, MB42 - IF(MB41=\"\", LOOKUP(2, 1/(MB$17:MB40<>\"\"), MB$17:MB40), MB41))","v":0},null,null,null,null,177,"",null,null,{"$f":"IF(MK42=\"\", 0, MK42 - IF(MK41=\"\", LOOKUP(2, 1/(MK$17:MK40<>\"\"), MK$17:MK40), MK41))","v":0},null,null,null,null,177,"",null,null,{"$f":"IF(MT42=\"\", 0, MT42 - IF(MT41=\"\", LOOKUP(2, 1/(MT$17:MT40<>\"\"), MT$17:MT40), MT41))","v":0},null,null,177,"",null,null,{"$f":"IF(NA42=\"\", 0, NA42 - IF(NA41=\"\", LOOKUP(2, 1/(NA$17:NA40<>\"\"), NA$17:NA40), NA41))","v":0},null,null,null,null,177,"",null,null,{"$f":"IF(NJ42=\"\", 0, NJ42 - IF(NJ41=\"\", LOOKUP(2, 1/(NJ$17:NJ40<>\"\"), NJ$17:NJ40), NJ41))","v":0},null,null,null,null,177,"",null,null,{"$f":"IF(NS42=\"\", 0, NS42 - IF(NS41=\"\", LOOKUP(2, 1/(NS$17:NS40<>\"\"), NS$17:NS40), NS41))","v":0},null,null,null,null,177,"",null,null,{"$f":"IF(OB42=\"\", 0, OB42 - IF(OB41=\"\", LOOKUP(2, 1/(OB$17:OB40<>\"\"), OB$17:OB40), OB41))","v":0},null,null,null,null,177,"",null,null,{"$f":"IF(OK42=\"\", 0, OK42 - IF(OK41=\"\", LOOKUP(2, 1/(OK$17:OK40<>\"\"), OK$17:OK40), OK41))","v":0},null,null,null,null,177,"",null,null,{"$f":"IF(OT42=\"\", 0, OT42 - IF(OT41=\"\", LOOKUP(2, 1/(OT$17:OT40<>\"\"), OT$17:OT40), OT41))","v":0},null,null,null,null,177,"",null,null,{"$f":"IF(PC42=\"\", 0, PC42 - IF(PC41=\"\", LOOKUP(2, 1/(PC$17:PC40<>\"\"), PC$17:PC40), PC41))","v":0},null,null,null,null,177,"",null,null,{"$f":"IF(PL42=\"\", 0, PL42 - IF(PL41=\"\", LOOKUP(2, 1/(PL$17:PL40<>\"\"), PL$17:PL40), PL41))","v":0},null,null,null,null,177,"",null,null,{"$f":"IF(PU42=\"\", 0, PU42 - IF(PU41=\"\", LOOKUP(2, 1/(PU$17:PU40<>\"\"), PU$17:PU40), PU41))","v":0},null,null,null,null,177,"",null,null,{"$f":"IF(QD42=\"\", 0, QD42 - IF(QD41=\"\", LOOKUP(2, 1/(QD$17:QD40<>\"\"), QD$17:QD40), QD41))","v":0}]
[null,null,null,176,"",null,null,{"$f":"IF(G43=\"\", 0, G43 - IF(G42=\"\", LOOKUP(2, 1/(G$17:G41<>\"\"), G$17:G41), G42))","v":0},null,null,null,null,176,"",null,null,{"$f":"IF(P43=\"\", 0, P43 - IF(P42=\"\", LOOKUP(2, 1/(P$17:P41<>\"\"), P$17:P41), P42))","v":0},null,null,null,null,176,"",null,null,{"$f":"IF(Y43=\"\", 0, Y43 - IF(Y42=\"\", LOOKUP(2, 1/(Y$17:Y41<>\"\"), Y$17:Y41), Y42))","v":0},null,null,null,null,176,"",null,null,{"$f":"IF(AH43=\"\", 0, AH43 - IF(AH42=\"\", LOOKUP(2, 1/(AH$17:AH41<>\"\"), AH$17:AH41), AH42))","v":0},null,null,null,null,176,"",null,null,{"$f":"IF(AQ43=\"\", 0, AQ43 - IF(AQ42=\"\", LOOKUP(2, 1/(AQ$17:AQ41<>\"\"), AQ$17:AQ41), AQ42))","v":0},null,null,null,null,176,"",null,null,{"$f":"IF(AZ43=\"\", 0, AZ43 - IF(AZ42=\"\", LOOKUP(2, 1/(AZ$17:AZ41<>\"\"), AZ$17:AZ41), AZ42))","v":0},null,null,null,null,176,"",null,null,{"$f":"IF(BI43=\"\", 0, BI43 - IF(BI42=\"\", LOOKUP(2, 1/(BI$17:BI41<>\"\"), BI$17:BI41), BI42))","v":0},null,null,null,null,176,"",null,null,{"$f":"IF(BR43=\"\", 0, BR43 - IF(BR42=\"\", LOOKUP(2, 1/(BR$17:BR41<>\"\"), BR$17:BR41), BR42))","v":0},null,null,null,null,176,"",null,null,{"$f":"IF(CA43=\"\", 0, CA43 - IF(CA42=\"\", LOOKUP(2, 1/(CA$17:CA41<>\"\"), CA$17:CA41), CA42))","v":0},null,null,null,null,176,"",null,null,{"$f":"IF(CJ43=\"\", 0, CJ43 - IF(CJ42=\"\", LOOKUP(2, 1/(CJ$17:CJ41<>\"\"), CJ$17:CJ41), CJ42))","v":0},null,null,null,null,176,"",null,null,{"$f":"IF(CS43=\"\", 0, CS43 - IF(CS42=\"\", LOOKUP(2, 1/(CS$17:CS41<>\"\"), CS$17:CS41), CS42))","v":0},null,null,null,null,176,"",null,null,{"$f":"IF(DB43=\"\", 0, DB43 - IF(DB42=\"\", LOOKUP(2, 1/(DB$17:DB41<>\"\"), DB$17:DB41), DB42))","v":0},null,null,null,null,176,"",null,null,{"$f":"IF(DK43=\"\", 0, DK43 - IF(DK42=\"\", LOOKUP(2, 1/(DK$17:DK41<>\"\"), DK$17:DK41), DK42))","v":0},null,null,null,null,176,"",null,null,{"$f":"IF(DT43=\"\", 0, DT43 - IF(DT42=\"\", LOOKUP(2, 1/(DT$17:DT41<>\"\"), DT$17:DT41), DT42))","v":0},null,null,null,null,176,"",null,null,{"$f":"IF(EC43=\"\", 0, EC43 - IF(EC42=\"\", LOOKUP(2, 1/(EC$17:EC41<>\"\"), EC$17:EC41), EC42))","v":0},null,null,null,null,176,"",null,null,{"$f":"IF(EL43=\"\", 0, EL43 - IF(EL42=\"\", LOOKUP(2, 1/(EL$17:EL41<>\"\"), EL$17:EL41), EL42))","v":0},null,null,null,null,176,"",null,null,{"$f":"IF(EU43=\"\", 0, EU43 - IF(EU42=\"\", LOOKUP(2, 1/(EU$17:EU41<>\"\"), EU$17:EU41), EU42))","v":0},null,null,null,null,176,"",null,null,{"$f":"IF(FD43=\"\", 0, FD43 - IF(FD42=\"\", LOOKUP(2, 1/(FD$17:FD41<>\"\"), FD$17:FD41), FD42))","v":0},null,null,null,null,176,"",null,null,{"$f":"IF(FM43=\"\", 0, FM43 - IF(FM42=\"\", LOOKUP(2, 1/(FM$17:FM41<>\"\"), FM$17:FM41), FM42))","v":0},null,null,null,null,176,"",null,null,{"$f":"IF(FV43=\"\", 0, FV43 - IF(FV42=\"\", LOOKUP(2, 1/(FV$17:FV41<>\"\"), FV$17:FV41), FV42))","v":0},null,null,null,null,176,"",null,null,{"$f":"IF(GE43=\"\", 0, GE43 - IF(GE42=\"\", LOOKUP(2, 1/(GE$17:GE41<>\"\"), GE$17:GE41), GE42))","v":0},null,null,null,null,176,"",null,null,{"$f":"IF(GN43=\"\", 0, GN43 - IF(GN42=\"\", LOOKUP(2, 1/(GN$17:GN41<>\"\"), GN$17:GN41), GN42))","v":0},null,null,null,null,176,"",null,null,{"$f":"IF(GW43=\"\", 0, GW43 - IF(GW42=\"\", LOOKUP(2, 1/(GW$17:GW41<>\"\"), GW$17:GW41), GW42))","v":0},null,null,null,null,176,"",null,null,{"$f":"IF(HF43=\"\", 0, HF43 - IF(HF42=\"\", LOOKUP(2, 1/(HF$17:HF41<>\"\"), HF$17:HF41), HF42))","v":0},null,null,null,null,176,"",null,null,{"$f":"IF(HO43=\"\", 0, HO43 - IF(HO42=\"\", LOOKUP(2, 1/(HO$17:HO41<>\"\"), HO$17:HO41), HO42))","v":0},null,null,null,null,176,"",null,null,{"$f":"IF(HX43=\"\", 0, HX43 - IF(HX42=\"\", LOOKUP(2, 1/(HX$17:HX41<>\"\"), HX$17:HX41), HX42))","v":0},null,null,null,null,176,"",null,null,{"$f":"IF(IG43=\"\", 0, IG43 - IF(IG42=\"\", LOOKUP(2, 1/(IG$17:IG41<>\"\"), IG$17:IG41), IG42))","v":0},null,null,null,null,176,"",null,null,{"$f":"IF(IP43=\"\", 0, IP43 - IF(IP42=\"\", LOOKUP(2, 1/(IP$17:IP41<>\"\"), IP$17:IP41), IP42))","v":0},null,null,null,null,176,"",null,null,{"$f":"IF(IY43=\"\", 0, IY43 - IF(IY42=\"\", LOOKUP(2, 1/(IY$17:IY41<>\"\"), IY$17:IY41), IY42))","v":0},null,null,null,null,176,"",null,null,{"$f":"IF(JH43=\"\", 0, JH43 - IF(JH42=\"\", LOOKUP(2, 1/(JH$17:JH41<>\"\"), JH$17:JH41), JH42))","v":0},null,null,null,null,176,"",null,null,{"$f":"IF(JQ43=\"\", 0, JQ43 - IF(JQ42=\"\", LOOKUP(2, 1/(JQ$17:JQ41<>\"\"), JQ$17:JQ41), JQ42))","v":0},null,null,null,null,176,"",null,null,{"$f":"IF(JZ43=\"\", 0, JZ43 - IF(JZ42=\"\", LOOKUP(2, 1/(JZ$17:JZ41<>\"\"), JZ$17:JZ41), JZ42))","v":0},null,null,null,null,176,"",null,null,{"$f":"IF(KI43=\"\", 0, KI43 - IF(KI42=\"\", LOOKUP(2, 1/(KI$17:KI41<>\"\"), KI$17:KI41), KI42))","v":0},null,null,null,null,176,"",null,null,{"$f":"IF(KR43=\"\", 0, KR43 - IF(KR42=\"\", LOOKUP(2, 1/(KR$17:KR41<>\"\"), KR$17:KR41), KR42))","v":0},null,null,null,null,176,"",null,null,{"$f":"IF(LA43=\"\", 0, LA43 - IF(LA42=\"\", LOOKUP(2, 1/(LA$17:LA41<>\"\"), LA$17:LA41), LA42))","v":0},null,null,null,null,176,"",null,null,{"$f":"IF(LJ43=\"\", 0, LJ43 - IF(LJ42=\"\", LOOKUP(2, 1/(LJ$17:LJ41<>\"\"), LJ$17:LJ41), LJ42))","v":0},null,null,null,null,176,"",null,null,{"$f":"IF(LS43=\"\", 0, LS43 - IF(LS42=\"\", LOOKUP(2, 1/(LS$17:LS41<>\"\"), LS$17:LS41), LS42))","v":0},null,null,null,null,176,"",null,null,{"$f":"IF(MB43=\"\", 0, MB43 - IF(MB42=\"\", LOOKUP(2, 1/(MB$17:MB41<>\"\"), MB$17:MB41), MB42))","v":0},null,null,null,null,176,"",null,null,{"$f":"IF(MK43=\"\", 0, MK43 - IF(MK42=\"\", LOOKUP(2, 1/(MK$17:MK41<>\"\"), MK$17:MK41), MK42))","v":0},null,null,null,null,176,"",null,null,{"$f":"IF(MT43=\"\", 0, MT43 - IF(MT42=\"\", LOOKUP(2, 1/(MT$17:MT41<>\"\"), MT$17:MT41), MT42))","v":0},null,null,176,"",null,null,{"$f":"IF(NA43=\"\", 0, NA43 - IF(NA42=\"\", LOOKUP(2, 1/(NA$17:NA41<>\"\"), NA$17:NA41), NA42))","v":0},null,null,null,null,176,"",null,null,{"$f":"IF(NJ43=\"\", 0, NJ43 - IF(NJ42=\"\", LOOKUP(2, 1/(NJ$17:NJ41<>\"\"), NJ$17:NJ41), NJ42))","v":0},null,null,null,null,176,"",null,null,{"$f":"IF(NS43=\"\", 0, NS43 - IF(NS42=\"\", LOOKUP(2, 1/(NS$17:NS41<>\"\"), NS$17:NS41), NS42))","v":0},null,null,null,null,176,"",null,null,{"$f":"IF(OB43=\"\", 0, OB43 - IF(OB42=\"\", LOOKUP(2, 1/(OB$17:OB41<>\"\"), OB$17:OB41), OB42))","v":0},null,null,null,null,176,"",null,null,{"$f":"IF(OK43=\"\", 0, OK43 - IF(OK42=\"\", LOOKUP(2, 1/(OK$17:OK41<>\"\"), OK$17:OK41), OK42))","v":0},null,null,null,null,176,"",null,null,{"$f":"IF(OT43=\"\", 0, OT43 - IF(OT42=\"\", LOOKUP(2, 1/(OT$17:OT41<>\"\"), OT$17:OT41), OT42))","v":0},null,null,null,null,176,"",null,null,{"$f":"IF(PC43=\"\", 0, PC43 - IF(PC42=\"\", LOOKUP(2, 1/(PC$17:PC41<>\"\"), PC$17:PC41), PC42))","v":0},null,null,null,null,176,"",null,null,{"$f":"IF(PL43=\"\", 0, PL43 - IF(PL42=\"\", LOOKUP(2, 1/(PL$17:PL41<>\"\"), PL$17:PL41), PL42))","v":0},null,null,null,null,176,"",null,null,{"$f":"IF(PU43=\"\", 0, PU43 - IF(PU42=\"\", LOOKUP(2, 1/(PU$17:PU41<>\"\"), PU$17:PU41), PU42))","v":0},null,null,null,null,176,"",null,null,{"$f":"IF(QD43=\"\", 0, QD43 - IF(QD42=\"\", LOOKUP(2, 1/(QD$17:QD41<>\"\"), QD$17:QD41), QD42))","v":0}]
[null,null,null,175,"",null,null,{"$f":"IF(G44=\"\", 0, G44 - IF(G43=\"\", LOOKUP(2, 1/(G$17:G42<>\"\"), G$17:G42), G43))","v":0},null,null,null,null,175,"",null,null,{"$f":"IF(P44=\"\", 0, P44 - IF(P43=\"\", LOOKUP(2, 1/(P$17:P42<>\"\"), P$17:P42), P43))","v":0},null,null,null,null,175,"",null,null,{"$f":"IF(Y44=\"\", 0, Y44 - IF(Y43=\"\", LOOKUP(2, 1/(Y$17:Y42<>\"\"), Y$17:Y42), Y43))","v":0},null,null,null,null,175,"",null,null,{"$f":"IF(AH44=\"\", 0, AH44 - IF(AH43=\"\", LOOKUP(2, 1/(AH$17:AH42<>\"\"), AH$17:AH42), AH43))","v":0},null,null,null,null,175,"",null,null,{"$f":"IF(AQ44=\"\", 0, AQ44 - IF(AQ43=\"\", LOOKUP(2, 1/(AQ$17:AQ42<>\"\"), AQ$17:AQ42), AQ43))","v":0},null,null,null,null,175,"",null,null,{"$f":"IF(AZ44=\"\", 0, AZ44 - IF(AZ43=\"\", LOOKUP(2, 1/(AZ$17:AZ42<>\"\"), AZ$17:AZ42), AZ43))","v":0},null,null,null,null,175,"",null,null,{"$f":"IF(BI44=\"\", 0, BI44 - IF(BI43=\"\", LOOKUP(2, 1/(BI$17:BI42<>\"\"), BI$17:BI42), BI43))","v":0},null,null,null,null,175,"",null,null,{"$f":"IF(BR44=\"\", 0, BR44 - IF(BR43=\"\", LOOKUP(2, 1/(BR$17:BR42<>\"\"), BR$17:BR42), BR43))","v":0},null,null,null,null,175,"",null,null,{"$f":"IF(CA44=\"\", 0, CA44 - IF(CA43=\"\", LOOKUP(2, 1/(CA$17:CA42<>\"\"), CA$17:CA42), CA43))","v":0},null,null,null,null,175,"",null,null,{"$f":"IF(CJ44=\"\", 0, CJ44 - IF(CJ43=\"\", LOOKUP(2, 1/(CJ$17:CJ42<>\"\"), CJ$17:CJ42), CJ43))","v":0},null,null,null,null,175,"",null,null,{"$f":"IF(CS44=\"\", 0, CS44 - IF(CS43=\"\", LOOKUP(2, 1/(CS$17:CS42<>\"\"), CS$17:CS42), CS43))","v":0},null,null,null,null,175,"",null,null,{"$f":"IF(DB44=\"\", 0, DB44 - IF(DB43=\"\", LOOKUP(2, 1/(DB$17:DB42<>\"\"), DB$17:DB42), DB43))","v":0},null,null,null,null,175,"",null,null,{"$f":"IF(DK44=\"\", 0, DK44 - IF(DK43=\"\", LOOKUP(2, 1/(DK$17:DK42<>\"\"), DK$17:DK42), DK43))","v":0},null,null,null,null,175,"",null,null,{"$f":"IF(DT44=\"\", 0, DT44 - IF(DT43=\"\", LOOKUP(2, 1/(DT$17:DT42<>\"\"), DT$17:DT42), DT43))","v":0},null,null,null,null,175,"",null,null,{"$f":"IF(EC44=\"\", 0, EC44 - IF(EC43=\"\", LOOKUP(2, 1/(EC$17:EC42<>\"\"), EC$17:EC42), EC43))","v":0},null,null,null,null,175,"",null,null,{"$f":"IF(EL44=\"\", 0, EL44 - IF(EL43=\"\", LOOKUP(2, 1/(EL$17:EL42<>\"\"), EL$17:EL42), EL43))","v":0},null,null,null,null,175,"",null,null,{"$f":"IF(EU44=\"\", 0, EU44 - IF(EU43=\"\", LOOKUP(2, 1/(EU$17:EU42<>\"\"), EU$17:EU42), EU43))","v":0},null,null,null,null,175,"",null,null,{"$f":"IF(FD44=\"\", 0, FD44 - IF(FD43=\"\", LOOKUP(2, 1/(FD$17:FD42<>\"\"), FD$17:FD42), FD43))","v":0},null,null,null,null,175,"",null,null,{"$f":"IF(FM44=\"\", 0, FM44 - IF(FM43=\"\", LOOKUP(2, 1/(FM$17:FM42<>\"\"), FM$17:FM42), FM43))","v":0},null,null,null,null,175,"",null,null,{"$f":"IF(FV44=\"\", 0, FV44 - IF(FV43=\"\", LOOKUP(2, 1/(FV$17:FV42<>\"\"), FV$17:FV42), FV43))","v":0},null,null,null,null,175,"",null,null,{"$f":"IF(GE44=\"\", 0, GE44 - IF(GE43=\"\", LOOKUP(2, 1/(GE$17:GE42<>\"\"), GE$17:GE42), GE43))","v":0},null,null,null,null,175,"",null,null,{"$f":"IF(GN44=\"\", 0, GN44 - IF(GN43=\"\", LOOKUP(2, 1/(GN$17:GN42<>\"\"), GN$17:GN42), GN43))","v":0},null,null,null,null,175,"",null,null,{"$f":"IF(GW44=\"\", 0, GW44 - IF(GW43=\"\", LOOKUP(2, 1/(GW$17:GW42<>\"\"), GW$17:GW42), GW43))","v":0},null,null,null,null,175,"",null,null,{"$f":"IF(HF44=\"\", 0, HF44 - IF(HF43=\"\", LOOKUP(2, 1/(HF$17:HF42<>\"\"), HF$17:HF42), HF43))","v":0},null,null,null,null,175,"",null,null,{"$f":"IF(HO44=\"\", 0, HO44 - IF(HO43=\"\", LOOKUP(2, 1/(HO$17:HO42<>\"\"), HO$17:HO42), HO43))","v":0},null,null,null,null,175,"",null,null,{"$f":"IF(HX44=\"\", 0, HX44 - IF(HX43=\"\", LOOKUP(2, 1/(HX$17:HX42<>\"\"), HX$17:HX42), HX43))","v":0},null,null,null,null,175,"",null,null,{"$f":"IF(IG44=\"\", 0, IG44 - IF(IG43=\"\", LOOKUP(2, 1/(IG$17:IG42<>\"\"), IG$17:IG42), IG43))","v":0},null,null,null,null,175,"",null,null,{"$f":"IF(IP44=\"\", 0, IP44 - IF(IP43=\"\", LOOKUP(2, 1/(IP$17:IP42<>\"\"), IP$17:IP42), IP43))","v":0},null,null,null,null,175,"",null,null,{"$f":"IF(IY44=\"\", 0, IY44 - IF(IY43=\"\", LOOKUP(2, 1/(IY$17:IY42<>\"\"), IY$17:IY42), IY43))","v":0},null,null,null,null,175,"",null,null,{"$f":"IF(JH44=\"\", 0, JH44 - IF(JH43=\"\", LOOKUP(2, 1/(JH$17:JH42<>\"\"), JH$17:JH42), JH43))","v":0},null,null,null,null,175,"",null,null,{"$f":"IF(JQ44=\"\", 0, JQ44 - IF(JQ43=\"\", LOOKUP(2, 1/(JQ$17:JQ42<>\"\"), JQ$17:JQ42), JQ43))","v":0},null,null,null,null,175,"",null,null,{"$f":"IF(JZ44=\"\", 0, JZ44 - IF(JZ43=\"\", LOOKUP(2, 1/(JZ$17:JZ42<>\"\"), JZ$17:JZ42), JZ43))","v":0},null,null,null,null,175,"",null,null,{"$f":"IF(KI44=\"\", 0, KI44 - IF(KI43=\"\", LOOKUP(2, 1/(KI$17:KI42<>\"\"), KI$17:KI42), KI43))","v":0},null,null,null,null,175,"",null,null,{"$f":"IF(KR44=\"\", 0, KR44 - IF(KR43=\"\", LOOKUP(2, 1/(KR$17:KR42<>\"\"), KR$17:KR42), KR43))","v":0},null,null,null,null,175,"",null,null,{"$f":"IF(LA44=\"\", 0, LA44 - IF(LA43=\"\", LOOKUP(2, 1/(LA$17:LA42<>\"\"), LA$17:LA42), LA43))","v":0},null,null,null,null,175,"",null,null,{"$f":"IF(LJ44=\"\", 0, LJ44 - IF(LJ43=\"\", LOOKUP(2, 1/(LJ$17:LJ42<>\"\"), LJ$17:LJ42), LJ43))","v":0},null,null,null,null,175,"",null,null,{"$f":"IF(LS44=\"\", 0, LS44 - IF(LS43=\"\", LOOKUP(2, 1/(LS$17:LS42<>\"\"), LS$17:LS42), LS43))","v":0},null,null,null,null,175,"",null,null,{"$f":"IF(MB44=\"\", 0, MB44 - IF(MB43=\"\", LOOKUP(2, 1/(MB$17:MB42<>\"\"), MB$17:MB42), MB43))","v":0},null,null,null,null,175,"",null,null,{"$f":"IF(MK44=\"\", 0, MK44 - IF(MK43=\"\", LOOKUP(2, 1/(MK$17:MK42<>\"\"), MK$17:MK42), MK43))","v":0},null,null,null,null,175,"",null,null,{"$f":"IF(MT44=\"\", 0, MT44 - IF(MT43=\"\", LOOKUP(2, 1/(MT$17:MT42<>\"\"), MT$17:MT42), MT43))","v":0},null,null,175,"",null,null,{"$f":"IF(NA44=\"\", 0, NA44 - IF(NA43=\"\", LOOKUP(2, 1/(NA$17:NA42<>\"\"), NA$17:NA42), NA43))","v":0},null,null,null,null,175,"",null,null,{"$f":"IF(NJ44=\"\", 0, NJ44 - IF(NJ43=\"\", LOOKUP(2, 1/(NJ$17:NJ42<>\"\"), NJ$17:NJ42), NJ43))","v":0},null,null,null,null,175,"",null,null,{"$f":"IF(NS44=\"\", 0, NS44 - IF(NS43=\"\", LOOKUP(2, 1/(NS$17:NS42<>\"\"), NS$17:NS42), NS43))","v":0},null,null,null,null,175,"",null,null,{"$f":"IF(OB44=\"\", 0, OB44 - IF(OB43=\"\", LOOKUP(2, 1/(OB$17:OB42<>\"\"), OB$17:OB42), OB43))","v":0},null,null,null,null,175,"",null,null,{"$f":"IF(OK44=\"\", 0, OK44 - IF(OK43=\"\", LOOKUP(2, 1/(OK$17:OK42<>\"\"), OK$17:OK42), OK43))","v":0},null,null,null,null,175,"",null,null,{"$f":"IF(OT44=\"\", 0, OT44 - IF(OT43=\"\", LOOKUP(2, 1/(OT$17:OT42<>\"\"), OT$17:OT42), OT43))","v":0},null,null,null,null,175,"",null,null,{"$f":"IF(PC44=\"\", 0, PC44 - IF(PC43=\"\", LOOKUP(2, 1/(PC$17:PC42<>\"\"), PC$17:PC42), PC43))","v":0},null,null,null,null,175,"",null,null,{"$f":"IF(PL44=\"\", 0, PL44 - IF(PL43=\"\", LOOKUP(2, 1/(PL$17:PL42<>\"\"), PL$17:PL42), PL43))","v":0},null,null,null,null,175,"",null,null,{"$f":"IF(PU44=\"\", 0, PU44 - IF(PU43=\"\", LOOKUP(2, 1/(PU$17:PU42<>\"\"), PU$17:PU42), PU43))","v":0},null,null,null,null,175,"",null,null,{"$f":"IF(QD44=\"\", 0, QD44 - IF(QD43=\"\", LOOKUP(2, 1/(QD$17:QD42<>\"\"), QD$17:QD42), QD43))","v":0}]
[null,null,null,174,"",null,null,{"$f":"IF(G45=\"\", 0, G45 - IF(G44=\"\", LOOKUP(2, 1/(G$17:G43<>\"\"), G$17:G43), G44))","v":0},null,null,null,null,174,"",null,null,{"$f":"IF(P45=\"\", 0, P45 - IF(P44=\"\", LOOKUP(2, 1/(P$17:P43<>\"\"), P$17:P43), P44))","v":0},null,null,null,null,174,"",null,null,{"$f":"IF(Y45=\"\", 0, Y45 - IF(Y44=\"\", LOOKUP(2, 1/(Y$17:Y43<>\"\"), Y$17:Y43), Y44))","v":0},null,null,null,null,174,"",null,null,{"$f":"IF(AH45=\"\", 0, AH45 - IF(AH44=\"\", LOOKUP(2, 1/(AH$17:AH43<>\"\"), AH$17:AH43), AH44))","v":0},null,null,null,null,174,"",null,null,{"$f":"IF(AQ45=\"\", 0, AQ45 - IF(AQ44=\"\", LOOKUP(2, 1/(AQ$17:AQ43<>\"\"), AQ$17:AQ43), AQ44))","v":0},null,null,null,null,174,"",null,null,{"$f":"IF(AZ45=\"\", 0, AZ45 - IF(AZ44=\"\", LOOKUP(2, 1/(AZ$17:AZ43<>\"\"), AZ$17:AZ43), AZ44))","v":0},null,null,null,null,174,"",null,null,{"$f":"IF(BI45=\"\", 0, BI45 - IF(BI44=\"\", LOOKUP(2, 1/(BI$17:BI43<>\"\"), BI$17:BI43), BI44))","v":0},null,null,null,null,174,"",null,null,{"$f":"IF(BR45=\"\", 0, BR45 - IF(BR44=\"\", LOOKUP(2, 1/(BR$17:BR43<>\"\"), BR$17:BR43), BR44))","v":0},null,null,null,null,174,"",null,null,{"$f":"IF(CA45=\"\", 0, CA45 - IF(CA44=\"\", LOOKUP(2, 1/(CA$17:CA43<>\"\"), CA$17:CA43), CA44))","v":0},null,null,null,null,174,"",null,null,{"$f":"IF(CJ45=\"\", 0, CJ45 - IF(CJ44=\"\", LOOKUP(2, 1/(CJ$17:CJ43<>\"\"), CJ$17:CJ43), CJ44))","v":0},null,null,null,null,174,"",null,null,{"$f":"IF(CS45=\"\", 0, CS45 - IF(CS44=\"\", LOOKUP(2, 1/(CS$17:CS43<>\"\"), CS$17:CS43), CS44))","v":0},null,null,null,null,174,"",null,null,{"$f":"IF(DB45=\"\", 0, DB45 - IF(DB44=\"\", LOOKUP(2, 1/(DB$17:DB43<>\"\"), DB$17:DB43), DB44))","v":0},null,null,null,null,174,"",null,null,{"$f":"IF(DK45=\"\", 0, DK45 - IF(DK44=\"\", LOOKUP(2, 1/(DK$17:DK43<>\"\"), DK$17:DK43), DK44))","v":0},null,null,null,null,174,"",null,null,{"$f":"IF(DT45=\"\", 0, DT45 - IF(DT44=\"\", LOOKUP(2, 1/(DT$17:DT43<>\"\"), DT$17:DT43), DT44))","v":0},null,null,null,null,174,"",null,null,{"$f":"IF(EC45=\"\", 0, EC45 - IF(EC44=\"\", LOOKUP(2, 1/(EC$17:EC43<>\"\"), EC$17:EC43), EC44))","v":0},null,null,null,null,174,"",null,null,{"$f":"IF(EL45=\"\", 0, EL45 - IF(EL44=\"\", LOOKUP(2, 1/(EL$17:EL43<>\"\"), EL$17:EL43), EL44))","v":0},null,null,null,null,174,"",null,null,{"$f":"IF(EU45=\"\", 0, EU45 - IF(EU44=\"\", LOOKUP(2, 1/(EU$17:EU43<>\"\"), EU$17:EU43), EU44))","v":0},null,null,null,null,174,"",null,null,{"$f":"IF(FD45=\"\", 0, FD45 - IF(FD44=\"\", LOOKUP(2, 1/(FD$17:FD43<>\"\"), FD$17:FD43), FD44))","v":0},null,null,null,null,174,"",null,null,{"$f":"IF(FM45=\"\", 0, FM45 - IF(FM44=\"\", LOOKUP(2, 1/(FM$17:FM43<>\"\"), FM$17:FM43), FM44))","v":0},null,null,null,null,174,"",null,null,{"$f":"IF(FV45=\"\", 0, FV45 - IF(FV44=\"\", LOOKUP(2, 1/(FV$17:FV43<>\"\"), FV$17:FV43), FV44))","v":0},null,null,null,null,174,"",null,null,{"$f":"IF(GE45=\"\", 0, GE45 - IF(GE44=\"\", LOOKUP(2, 1/(GE$17:GE43<>\"\"), GE$17:GE43), GE44))","v":0},null,null,null,null,174,"",null,null,{"$f":"IF(GN45=\"\", 0, GN45 - IF(GN44=\"\", LOOKUP(2, 1/(GN$17:GN43<>\"\"), GN$17:GN43), GN44))","v":0},null,null,null,null,174,"",null,null,{"$f":"IF(GW45=\"\", 0, GW45 - IF(GW44=\"\", LOOKUP(2, 1/(GW$17:GW43<>\"\"), GW$17:GW43), GW44))","v":0},null,null,null,null,174,"",null,null,{"$f":"IF(HF45=\"\", 0, HF45 - IF(HF44=\"\", LOOKUP(2, 1/(HF$17:HF43<>\"\"), HF$17:HF43), HF44))","v":0},null,null,null,null,174,"",null,null,{"$f":"IF(HO45=\"\", 0, HO45 - IF(HO44=\"\", LOOKUP(2, 1/(HO$17:HO43<>\"\"), HO$17:HO43), HO44))","v":0},null,null,null,null,174,"",null,null,{"$f":"IF(HX45=\"\", 0, HX45 - IF(HX44=\"\", LOOKUP(2, 1/(HX$17:HX43<>\"\"), HX$17:HX43), HX44))","v":0},null,null,null,null,174,"",null,null,{"$f":"IF(IG45=\"\", 0, IG45 - IF(IG44=\"\", LOOKUP(2, 1/(IG$17:IG43<>\"\"), IG$17:IG43), IG44))","v":0},null,null,null,null,174,"",null,null,{"$f":"IF(IP45=\"\", 0, IP45 - IF(IP44=\"\", LOOKUP(2, 1/(IP$17:IP43<>\"\"), IP$17:IP43), IP44))","v":0},null,null,null,null,174,"",null,null,{"$f":"IF(IY45=\"\", 0, IY45 - IF(IY44=\"\", LOOKUP(2, 1/(IY$17:IY43<>\"\"), IY$17:IY43), IY44))","v":0},null,null,null,null,174,"",null,null,{"$f":"IF(JH45=\"\", 0, JH45 - IF(JH44=\"\", LOOKUP(2, 1/(JH$17:JH43<>\"\"), JH$17:JH43), JH44))","v":0},null,null,null,null,174,"",null,null,{"$f":"IF(JQ45=\"\", 0, JQ45 - IF(JQ44=\"\", LOOKUP(2, 1/(JQ$17:JQ43<>\"\"), JQ$17:JQ43), JQ44))","v":0},null,null,null,null,174,"",null,null,{"$f":"IF(JZ45=\"\", 0, JZ45 - IF(JZ44=\"\", LOOKUP(2, 1/(JZ$17:JZ43<>\"\"), JZ$17:JZ43), JZ44))","v":0},null,null,null,null,174,"",null,null,{"$f":"IF(KI45=\"\", 0, KI45 - IF(KI44=\"\", LOOKUP(2, 1/(KI$17:KI43<>\"\"), KI$17:KI43), KI44))","v":0},null,null,null,null,174,"",null,null,{"$f":"IF(KR45=\"\", 0, KR45 - IF(KR44=\"\", LOOKUP(2, 1/(KR$17:KR43<>\"\"), KR$17:KR43), KR44))","v":0},null,null,null,null,174,"",null,null,{"$f":"IF(LA45=\"\", 0, LA45 - IF(LA44=\"\", LOOKUP(2, 1/(LA$17:LA43<>\"\"), LA$17:LA43), LA44))","v":0},null,null,null,null,174,"",null,null,{"$f":"IF(LJ45=\"\", 0, LJ45 - IF(LJ44=\"\", LOOKUP(2, 1/(LJ$17:LJ43<>\"\"), LJ$17:LJ43), LJ44))","v":0},null,null,null,null,174,"",null,null,{"$f":"IF(LS45=\"\", 0, LS45 - IF(LS44=\"\", LOOKUP(2, 1/(LS$17:LS43<>\"\"), LS$17:LS43), LS44))","v":0},null,null,null,null,174,"",null,null,{"$f":"IF(MB45=\"\", 0, MB45 - IF(MB44=\"\", LOOKUP(2, 1/(MB$17:MB43<>\"\"), MB$17:MB43), MB44))","v":0},null,null,null,null,174,"",null,null,{"$f":"IF(MK45=\"\", 0, MK45 - IF(MK44=\"\", LOOKUP(2, 1/(MK$17:MK43<>\"\"), MK$17:MK43), MK44))","v":0},null,null,null,null,174,"",null,null,{"$f":"IF(MT45=\"\", 0, MT45 - IF(MT44=\"\", LOOKUP(2, 1/(MT$17:MT43<>\"\"), MT$17:MT43), MT44))","v":0},null,null,174,"",null,null,{"$f":"IF(NA45=\"\", 0, NA45 - IF(NA44=\"\", LOOKUP(2, 1/(NA$17:NA43<>\"\"), NA$17:NA43), NA44))","v":0},null,null,null,null,174,"",null,null,{"$f":"IF(NJ45=\"\", 0, NJ45 - IF(NJ44=\"\", LOOKUP(2, 1/(NJ$17:NJ43<>\"\"), NJ$17:NJ43), NJ44))","v":0},null,null,null,null,174,"",null,null,{"$f":"IF(NS45=\"\", 0, NS45 - IF(NS44=\"\", LOOKUP(2, 1/(NS$17:NS43<>\"\"), NS$17:NS43), NS44))","v":0},null,null,null,null,174,"",null,null,{"$f":"IF(OB45=\"\", 0, OB45 - IF(OB44=\"\", LOOKUP(2, 1/(OB$17:OB43<>\"\"), OB$17:OB43), OB44))","v":0},null,null,null,null,174,"",null,null,{"$f":"IF(OK45=\"\", 0, OK45 - IF(OK44=\"\", LOOKUP(2, 1/(OK$17:OK43<>\"\"), OK$17:OK43), OK44))","v":0},null,null,null,null,174,"",null,null,{"$f":"IF(OT45=\"\", 0, OT45 - IF(OT44=\"\", LOOKUP(2, 1/(OT$17:OT43<>\"\"), OT$17:OT43), OT44))","v":0},null,null,null,null,174,"",null,null,{"$f":"IF(PC45=\"\", 0, PC45 - IF(PC44=\"\", LOOKUP(2, 1/(PC$17:PC43<>\"\"), PC$17:PC43), PC44))","v":0},null,null,null,null,174,"",null,null,{"$f":"IF(PL45=\"\", 0, PL45 - IF(PL44=\"\", LOOKUP(2, 1/(PL$17:PL43<>\"\"), PL$17:PL43), PL44))","v":0},null,null,null,null,174,"",null,null,{"$f":"IF(PU45=\"\", 0, PU45 - IF(PU44=\"\", LOOKUP(2, 1/(PU$17:PU43<>\"\"), PU$17:PU43), PU44))","v":0},null,null,null,null,174,"",null,null,{"$f":"IF(QD45=\"\", 0, QD45 - IF(QD44=\"\", LOOKUP(2, 1/(QD$17:QD43<>\"\"), QD$17:QD43), QD44))","v":0}]
[null,null,null,173,"",null,null,{"$f":"IF(G46=\"\", 0, G46 - IF(G45=\"\", LOOKUP(2, 1/(G$17:G44<>\"\"), G$17:G44), G45))","v":0},null,null,null,null,173,"",null,null,{"$f":"IF(P46=\"\", 0, P46 - IF(P45=\"\", LOOKUP(2, 1/(P$17:P44<>\"\"), P$17:P44), P45))","v":0},null,null,null,null,173,"",null,null,{"$f":"IF(Y46=\"\", 0, Y46 - IF(Y45=\"\", LOOKUP(2, 1/(Y$17:Y44<>\"\"), Y$17:Y44), Y45))","v":0},null,null,null,null,173,"",null,null,{"$f":"IF(AH46=\"\", 0, AH46 - IF(AH45=\"\", LOOKUP(2, 1/(AH$17:AH44<>\"\"), AH$17:AH44), AH45))","v":0},null,null,null,null,173,"",null,null,{"$f":"IF(AQ46=\"\", 0, AQ46 - IF(AQ45=\"\", LOOKUP(2, 1/(AQ$17:AQ44<>\"\"), AQ$17:AQ44), AQ45))","v":0},null,null,null,null,173,"",null,null,{"$f":"IF(AZ46=\"\", 0, AZ46 - IF(AZ45=\"\", LOOKUP(2, 1/(AZ$17:AZ44<>\"\"), AZ$17:AZ44), AZ45))","v":0},null,null,null,null,173,"",null,null,{"$f":"IF(BI46=\"\", 0, BI46 - IF(BI45=\"\", LOOKUP(2, 1/(BI$17:BI44<>\"\"), BI$17:BI44), BI45))","v":0},null,null,null,null,173,"",null,null,{"$f":"IF(BR46=\"\", 0, BR46 - IF(BR45=\"\", LOOKUP(2, 1/(BR$17:BR44<>\"\"), BR$17:BR44), BR45))","v":0},null,null,null,null,173,"",null,null,{"$f":"IF(CA46=\"\", 0, CA46 - IF(CA45=\"\", LOOKUP(2, 1/(CA$17:CA44<>\"\"), CA$17:CA44), CA45))","v":0},null,null,null,null,173,"",null,null,{"$f":"IF(CJ46=\"\", 0, CJ46 - IF(CJ45=\"\", LOOKUP(2, 1/(CJ$17:CJ44<>\"\"), CJ$17:CJ44), CJ45))","v":0},null,null,null,null,173,"",null,null,{"$f":"IF(CS46=\"\", 0, CS46 - IF(CS45=\"\", LOOKUP(2, 1/(CS$17:CS44<>\"\"), CS$17:CS44), CS45))","v":0},null,null,null,null,173,"",null,null,{"$f":"IF(DB46=\"\", 0, DB46 - IF(DB45=\"\", LOOKUP(2, 1/(DB$17:DB44<>\"\"), DB$17:DB44), DB45))","v":0},null,null,null,null,173,"",null,null,{"$f":"IF(DK46=\"\", 0, DK46 - IF(DK45=\"\", LOOKUP(2, 1/(DK$17:DK44<>\"\"), DK$17:DK44), DK45))","v":0},null,null,null,null,173,"",null,null,{"$f":"IF(DT46=\"\", 0, DT46 - IF(DT45=\"\", LOOKUP(2, 1/(DT$17:DT44<>\"\"), DT$17:DT44), DT45))","v":0},null,null,null,null,173,"",null,null,{"$f":"IF(EC46=\"\", 0, EC46 - IF(EC45=\"\", LOOKUP(2, 1/(EC$17:EC44<>\"\"), EC$17:EC44), EC45))","v":0},null,null,null,null,173,"",null,null,{"$f":"IF(EL46=\"\", 0, EL46 - IF(EL45=\"\", LOOKUP(2, 1/(EL$17:EL44<>\"\"), EL$17:EL44), EL45))","v":0},null,null,null,null,173,"",null,null,{"$f":"IF(EU46=\"\", 0, EU46 - IF(EU45=\"\", LOOKUP(2, 1/(EU$17:EU44<>\"\"), EU$17:EU44), EU45))","v":0},null,null,null,null,173,"",null,null,{"$f":"IF(FD46=\"\", 0, FD46 - IF(FD45=\"\", LOOKUP(2, 1/(FD$17:FD44<>\"\"), FD$17:FD44), FD45))","v":0},null,null,null,null,173,"",null,null,{"$f":"IF(FM46=\"\", 0, FM46 - IF(FM45=\"\", LOOKUP(2, 1/(FM$17:FM44<>\"\"), FM$17:FM44), FM45))","v":0},null,null,null,null,173,"",null,null,{"$f":"IF(FV46=\"\", 0, FV46 - IF(FV45=\"\", LOOKUP(2, 1/(FV$17:FV44<>\"\"), FV$17:FV44), FV45))","v":0},null,null,null,null,173,"",null,null,{"$f":"IF(GE46=\"\", 0, GE46 - IF(GE45=\"\", LOOKUP(2, 1/(GE$17:GE44<>\"\"), GE$17:GE44), GE45))","v":0},null,null,null,null,173,"",null,null,{"$f":"IF(GN46=\"\", 0, GN46 - IF(GN45=\"\", LOOKUP(2, 1/(GN$17:GN44<>\"\"), GN$17:GN44), GN45))","v":0},null,null,null,null,173,"",null,null,{"$f":"IF(GW46=\"\", 0, GW46 - IF(GW45=\"\", LOOKUP(2, 1/(GW$17:GW44<>\"\"), GW$17:GW44), GW45))","v":0},null,null,null,null,173,"",null,null,{"$f":"IF(HF46=\"\", 0, HF46 - IF(HF45=\"\", LOOKUP(2, 1/(HF$17:HF44<>\"\"), HF$17:HF44), HF45))","v":0},null,null,null,null,173,"",null,null,{"$f":"IF(HO46=\"\", 0, HO46 - IF(HO45=\"\", LOOKUP(2, 1/(HO$17:HO44<>\"\"), HO$17:HO44), HO45))","v":0},null,null,null,null,173,"",null,null,{"$f":"IF(HX46=\"\", 0, HX46 - IF(HX45=\"\", LOOKUP(2, 1/(HX$17:HX44<>\"\"), HX$17:HX44), HX45))","v":0},null,null,null,null,173,"",null,null,{"$f":"IF(IG46=\"\", 0, IG46 - IF(IG45=\"\", LOOKUP(2, 1/(IG$17:IG44<>\"\"), IG$17:IG44), IG45))","v":0},null,null,null,null,173,"",null,null,{"$f":"IF(IP46=\"\", 0, IP46 - IF(IP45=\"\", LOOKUP(2, 1/(IP$17:IP44<>\"\"), IP$17:IP44), IP45))","v":0},null,null,null,null,173,"",null,null,{"$f":"IF(IY46=\"\", 0, IY46 - IF(IY45=\"\", LOOKUP(2, 1/(IY$17:IY44<>\"\"), IY$17:IY44), IY45))","v":0},null,null,null,null,173,"",null,null,{"$f":"IF(JH46=\"\", 0, JH46 - IF(JH45=\"\", LOOKUP(2, 1/(JH$17:JH44<>\"\"), JH$17:JH44), JH45))","v":0},null,null,null,null,173,"",null,null,{"$f":"IF(JQ46=\"\", 0, JQ46 - IF(JQ45=\"\", LOOKUP(2, 1/(JQ$17:JQ44<>\"\"), JQ$17:JQ44), JQ45))","v":0},null,null,null,null,173,"",null,null,{"$f":"IF(JZ46=\"\", 0, JZ46 - IF(JZ45=\"\", LOOKUP(2, 1/(JZ$17:JZ44<>\"\"), JZ$17:JZ44), JZ45))","v":0},null,null,null,null,173,"",null,null,{"$f":"IF(KI46=\"\", 0, KI46 - IF(KI45=\"\", LOOKUP(2, 1/(KI$17:KI44<>\"\"), KI$17:KI44), KI45))","v":0},null,null,null,null,173,"",null,null,{"$f":"IF(KR46=\"\", 0, KR46 - IF(KR45=\"\", LOOKUP(2, 1/(KR$17:KR44<>\"\"), KR$17:KR44), KR45))","v":0},null,null,null,null,173,"",null,null,{"$f":"IF(LA46=\"\", 0, LA46 - IF(LA45=\"\", LOOKUP(2, 1/(LA$17:LA44<>\"\"), LA$17:LA44), LA45))","v":0},null,null,null,null,173,"",null,null,{"$f":"IF(LJ46=\"\", 0, LJ46 - IF(LJ45=\"\", LOOKUP(2, 1/(LJ$17:LJ44<>\"\"), LJ$17:LJ44), LJ45))","v":0},null,null,null,null,173,"",null,null,{"$f":"IF(LS46=\"\", 0, LS46 - IF(LS45=\"\", LOOKUP(2, 1/(LS$17:LS44<>\"\"), LS$17:LS44), LS45))","v":0},null,null,null,null,173,"",null,null,{"$f":"IF(MB46=\"\", 0, MB46 - IF(MB45=\"\", LOOKUP(2, 1/(MB$17:MB44<>\"\"), MB$17:MB44), MB45))","v":0},null,null,null,null,173,"",null,null,{"$f":"IF(MK46=\"\", 0, MK46 - IF(MK45=\"\", LOOKUP(2, 1/(MK$17:MK44<>\"\"), MK$17:MK44), MK45))","v":0},null,null,null,null,173,"",null,null,{"$f":"IF(MT46=\"\", 0, MT46 - IF(MT45=\"\", LOOKUP(2, 1/(MT$17:MT44<>\"\"), MT$17:MT44), MT45))","v":0},null,null,173,"",null,null,{"$f":"IF(NA46=\"\", 0, NA46 - IF(NA45=\"\", LOOKUP(2, 1/(NA$17:NA44<>\"\"), NA$17:NA44), NA45))","v":0},null,null,null,null,173,"",null,null,{"$f":"IF(NJ46=\"\", 0, NJ46 - IF(NJ45=\"\", LOOKUP(2, 1/(NJ$17:NJ44<>\"\"), NJ$17:NJ44), NJ45))","v":0},null,null,null,null,173,"",null,null,{"$f":"IF(NS46=\"\", 0, NS46 - IF(NS45=\"\", LOOKUP(2, 1/(NS$17:NS44<>\"\"), NS$17:NS44), NS45))","v":0},null,null,null,null,173,"",null,null,{"$f":"IF(OB46=\"\", 0, OB46 - IF(OB45=\"\", LOOKUP(2, 1/(OB$17:OB44<>\"\"), OB$17:OB44), OB45))","v":0},null,null,null,null,173,"",null,null,{"$f":"IF(OK46=\"\", 0, OK46 - IF(OK45=\"\", LOOKUP(2, 1/(OK$17:OK44<>\"\"), OK$17:OK44), OK45))","v":0},null,null,null,null,173,"",null,null,{"$f":"IF(OT46=\"\", 0, OT46 - IF(OT45=\"\", LOOKUP(2, 1/(OT$17:OT44<>\"\"), OT$17:OT44), OT45))","v":0},null,null,null,null,173,"",null,null,{"$f":"IF(PC46=\"\", 0, PC46 - IF(PC45=\"\", LOOKUP(2, 1/(PC$17:PC44<>\"\"), PC$17:PC44), PC45))","v":0},null,null,null,null,173,"",null,null,{"$f":"IF(PL46=\"\", 0, PL46 - IF(PL45=\"\", LOOKUP(2, 1/(PL$17:PL44<>\"\"), PL$17:PL44), PL45))","v":0},null,null,null,null,173,"",null,null,{"$f":"IF(PU46=\"\", 0, PU46 - IF(PU45=\"\", LOOKUP(2, 1/(PU$17:PU44<>\"\"), PU$17:PU44), PU45))","v":0},null,null,null,null,173,"",null,null,{"$f":"IF(QD46=\"\", 0, QD46 - IF(QD45=\"\", LOOKUP(2, 1/(QD$17:QD44<>\"\"), QD$17:QD44), QD45))","v":0}]
[null,null,null,172,"",null,null,{"$f":"IF(G47=\"\", 0, G47 - IF(G46=\"\", LOOKUP(2, 1/(G$17:G45<>\"\"), G$17:G45), G46))","v":0},null,null,null,null,172,"",null,null,{"$f":"IF(P47=\"\", 0, P47 - IF(P46=\"\", LOOKUP(2, 1/(P$17:P45<>\"\"), P$17:P45), P46))","v":0},null,null,null,null,172,"",null,null,{"$f":"IF(Y47=\"\", 0, Y47 - IF(Y46=\"\", LOOKUP(2, 1/(Y$17:Y45<>\"\"), Y$17:Y45), Y46))","v":0},null,null,null,null,172,"",null,null,{"$f":"IF(AH47=\"\", 0, AH47 - IF(AH46=\"\", LOOKUP(2, 1/(AH$17:AH45<>\"\"), AH$17:AH45), AH46))","v":0},null,null,null,null,172,"",null,null,{"$f":"IF(AQ47=\"\", 0, AQ47 - IF(AQ46=\"\", LOOKUP(2, 1/(AQ$17:AQ45<>\"\"), AQ$17:AQ45), AQ46))","v":0},null,null,null,null,172,"",null,null,{"$f":"IF(AZ47=\"\", 0, AZ47 - IF(AZ46=\"\", LOOKUP(2, 1/(AZ$17:AZ45<>\"\"), AZ$17:AZ45), AZ46))","v":0},null,null,null,null,172,"",null,null,{"$f":"IF(BI47=\"\", 0, BI47 - IF(BI46=\"\", LOOKUP(2, 1/(BI$17:BI45<>\"\"), BI$17:BI45), BI46))","v":0},null,null,null,null,172,"",null,null,{"$f":"IF(BR47=\"\", 0, BR47 - IF(BR46=\"\", LOOKUP(2, 1/(BR$17:BR45<>\"\"), BR$17:BR45), BR46))","v":0},null,null,null,null,172,"",null,null,{"$f":"IF(CA47=\"\", 0, CA47 - IF(CA46=\"\", LOOKUP(2, 1/(CA$17:CA45<>\"\"), CA$17:CA45), CA46))","v":0},null,null,null,null,172,"",null,null,{"$f":"IF(CJ47=\"\", 0, CJ47 - IF(CJ46=\"\", LOOKUP(2, 1/(CJ$17:CJ45<>\"\"), CJ$17:CJ45), CJ46))","v":0},null,null,null,null,172,"",null,null,{"$f":"IF(CS47=\"\", 0, CS47 - IF(CS46=\"\", LOOKUP(2, 1/(CS$17:CS45<>\"\"), CS$17:CS45), CS46))","v":0},null,null,null,null,172,"",null,null,{"$f":"IF(DB47=\"\", 0, DB47 - IF(DB46=\"\", LOOKUP(2, 1/(DB$17:DB45<>\"\"), DB$17:DB45), DB46))","v":0},null,null,null,null,172,"",null,null,{"$f":"IF(DK47=\"\", 0, DK47 - IF(DK46=\"\", LOOKUP(2, 1/(DK$17:DK45<>\"\"), DK$17:DK45), DK46))","v":0},null,null,null,null,172,"",null,null,{"$f":"IF(DT47=\"\", 0, DT47 - IF(DT46=\"\", LOOKUP(2, 1/(DT$17:DT45<>\"\"), DT$17:DT45), DT46))","v":0},null,null,null,null,172,"",null,null,{"$f":"IF(EC47=\"\", 0, EC47 - IF(EC46=\"\", LOOKUP(2, 1/(EC$17:EC45<>\"\"), EC$17:EC45), EC46))","v":0},null,null,null,null,172,"",null,null,{"$f":"IF(EL47=\"\", 0, EL47 - IF(EL46=\"\", LOOKUP(2, 1/(EL$17:EL45<>\"\"), EL$17:EL45), EL46))","v":0},null,null,null,null,172,"",null,null,{"$f":"IF(EU47=\"\", 0, EU47 - IF(EU46=\"\", LOOKUP(2, 1/(EU$17:EU45<>\"\"), EU$17:EU45), EU46))","v":0},null,null,null,null,172,"",null,null,{"$f":"IF(FD47=\"\", 0, FD47 - IF(FD46=\"\", LOOKUP(2, 1/(FD$17:FD45<>\"\"), FD$17:FD45), FD46))","v":0},null,null,null,null,172,"",null,null,{"$f":"IF(FM47=\"\", 0, FM47 - IF(FM46=\"\", LOOKUP(2, 1/(FM$17:FM45<>\"\"), FM$17:FM45), FM46))","v":0},null,null,null,null,172,"",null,null,{"$f":"IF(FV47=\"\", 0, FV47 - IF(FV46=\"\", LOOKUP(2, 1/(FV$17:FV45<>\"\"), FV$17:FV45), FV46))","v":0},null,null,null,null,172,"",null,null,{"$f":"IF(GE47=\"\", 0, GE47 - IF(GE46=\"\", LOOKUP(2, 1/(GE$17:GE45<>\"\"), GE$17:GE45), GE46))","v":0},null,null,null,null,172,"",null,null,{"$f":"IF(GN47=\"\", 0, GN47 - IF(GN46=\"\", LOOKUP(2, 1/(GN$17:GN45<>\"\"), GN$17:GN45), GN46))","v":0},null,null,null,null,172,"",null,null,{"$f":"IF(GW47=\"\", 0, GW47 - IF(GW46=\"\", LOOKUP(2, 1/(GW$17:GW45<>\"\"), GW$17:GW45), GW46))","v":0},null,null,null,null,172,"",null,null,{"$f":"IF(HF47=\"\", 0, HF47 - IF(HF46=\"\", LOOKUP(2, 1/(HF$17:HF45<>\"\"), HF$17:HF45), HF46))","v":0},null,null,null,null,172,"",null,null,{"$f":"IF(HO47=\"\", 0, HO47 - IF(HO46=\"\", LOOKUP(2, 1/(HO$17:HO45<>\"\"), HO$17:HO45), HO46))","v":0},null,null,null,null,172,"",null,null,{"$f":"IF(HX47=\"\", 0, HX47 - IF(HX46=\"\", LOOKUP(2, 1/(HX$17:HX45<>\"\"), HX$17:HX45), HX46))","v":0},null,null,null,null,172,"",null,null,{"$f":"IF(IG47=\"\", 0, IG47 - IF(IG46=\"\", LOOKUP(2, 1/(IG$17:IG45<>\"\"), IG$17:IG45), IG46))","v":0},null,null,null,null,172,"",null,null,{"$f":"IF(IP47=\"\", 0, IP47 - IF(IP46=\"\", LOOKUP(2, 1/(IP$17:IP45<>\"\"), IP$17:IP45), IP46))","v":0},null,null,null,null,172,"",null,null,{"$f":"IF(IY47=\"\", 0, IY47 - IF(IY46=\"\", LOOKUP(2, 1/(IY$17:IY45<>\"\"), IY$17:IY45), IY46))","v":0},null,null,null,null,172,"",null,null,{"$f":"IF(JH47=\"\", 0, JH47 - IF(JH46=\"\", LOOKUP(2, 1/(JH$17:JH45<>\"\"), JH$17:JH45), JH46))","v":0},null,null,null,null,172,"",null,null,{"$f":"IF(JQ47=\"\", 0, JQ47 - IF(JQ46=\"\", LOOKUP(2, 1/(JQ$17:JQ45<>\"\"), JQ$17:JQ45), JQ46))","v":0},null,null,null,null,172,"",null,null,{"$f":"IF(JZ47=\"\", 0, JZ47 - IF(JZ46=\"\", LOOKUP(2, 1/(JZ$17:JZ45<>\"\"), JZ$17:JZ45), JZ46))","v":0},null,null,null,null,172,"",null,null,{"$f":"IF(KI47=\"\", 0, KI47 - IF(KI46=\"\", LOOKUP(2, 1/(KI$17:KI45<>\"\"), KI$17:KI45), KI46))","v":0},null,null,null,null,172,"",null,null,{"$f":"IF(KR47=\"\", 0, KR47 - IF(KR46=\"\", LOOKUP(2, 1/(KR$17:KR45<>\"\"), KR$17:KR45), KR46))","v":0},null,null,null,null,172,"",null,null,{"$f":"IF(LA47=\"\", 0, LA47 - IF(LA46=\"\", LOOKUP(2, 1/(LA$17:LA45<>\"\"), LA$17:LA45), LA46))","v":0},null,null,null,null,172,"",null,null,{"$f":"IF(LJ47=\"\", 0, LJ47 - IF(LJ46=\"\", LOOKUP(2, 1/(LJ$17:LJ45<>\"\"), LJ$17:LJ45), LJ46))","v":0},null,null,null,null,172,"",null,null,{"$f":"IF(LS47=\"\", 0, LS47 - IF(LS46=\"\", LOOKUP(2, 1/(LS$17:LS45<>\"\"), LS$17:LS45), LS46))","v":0},null,null,null,null,172,"",null,null,{"$f":"IF(MB47=\"\", 0, MB47 - IF(MB46=\"\", LOOKUP(2, 1/(MB$17:MB45<>\"\"), MB$17:MB45), MB46))","v":0},null,null,null,null,172,"",null,null,{"$f":"IF(MK47=\"\", 0, MK47 - IF(MK46=\"\", LOOKUP(2, 1/(MK$17:MK45<>\"\"), MK$17:MK45), MK46))","v":0},null,null,null,null,172,"",null,null,{"$f":"IF(MT47=\"\", 0, MT47 - IF(MT46=\"\", LOOKUP(2, 1/(MT$17:MT45<>\"\"), MT$17:MT45), MT46))","v":0},null,null,172,"",null,null,{"$f":"IF(NA47=\"\", 0, NA47 - IF(NA46=\"\", LOOKUP(2, 1/(NA$17:NA45<>\"\"), NA$17:NA45), NA46))","v":0},null,null,null,null,172,"",null,null,{"$f":"IF(NJ47=\"\", 0, NJ47 - IF(NJ46=\"\", LOOKUP(2, 1/(NJ$17:NJ45<>\"\"), NJ$17:NJ45), NJ46))","v":0},null,null,null,null,172,"",null,null,{"$f":"IF(NS47=\"\", 0, NS47 - IF(NS46=\"\", LOOKUP(2, 1/(NS$17:NS45<>\"\"), NS$17:NS45), NS46))","v":0},null,null,null,null,172,"",null,null,{"$f":"IF(OB47=\"\", 0, OB47 - IF(OB46=\"\", LOOKUP(2, 1/(OB$17:OB45<>\"\"), OB$17:OB45), OB46))","v":0},null,null,null,null,172,"",null,null,{"$f":"IF(OK47=\"\", 0, OK47 - IF(OK46=\"\", LOOKUP(2, 1/(OK$17:OK45<>\"\"), OK$17:OK45), OK46))","v":0},null,null,null,null,172,"",null,null,{"$f":"IF(OT47=\"\", 0, OT47 - IF(OT46=\"\", LOOKUP(2, 1/(OT$17:OT45<>\"\"), OT$17:OT45), OT46))","v":0},null,null,null,null,172,"",null,null,{"$f":"IF(PC47=\"\", 0, PC47 - IF(PC46=\"\", LOOKUP(2, 1/(PC$17:PC45<>\"\"), PC$17:PC45), PC46))","v":0},null,null,null,null,172,"",null,null,{"$f":"IF(PL47=\"\", 0, PL47 - IF(PL46=\"\", LOOKUP(2, 1/(PL$17:PL45<>\"\"), PL$17:PL45), PL46))","v":0},null,null,null,null,172,"",null,null,{"$f":"IF(PU47=\"\", 0, PU47 - IF(PU46=\"\", LOOKUP(2, 1/(PU$17:PU45<>\"\"), PU$17:PU45), PU46))","v":0},null,null,null,null,172,"",null,null,{"$f":"IF(QD47=\"\", 0, QD47 - IF(QD46=\"\", LOOKUP(2, 1/(QD$17:QD45<>\"\"), QD$17:QD45), QD46))","v":0}]
[null,null,null,171,"",null,null,{"$f":"IF(G48=\"\", 0, G48 - IF(G47=\"\", LOOKUP(2, 1/(G$17:G46<>\"\"), G$17:G46), G47))","v":0},null,null,null,null,171,"",null,null,{"$f":"IF(P48=\"\", 0, P48 - IF(P47=\"\", LOOKUP(2, 1/(P$17:P46<>\"\"), P$17:P46), P47))","v":0},null,null,null,null,171,"",null,null,{"$f":"IF(Y48=\"\", 0, Y48 - IF(Y47=\"\", LOOKUP(2, 1/(Y$17:Y46<>\"\"), Y$17:Y46), Y47))","v":0},null,null,null,null,171,"",null,null,{"$f":"IF(AH48=\"\", 0, AH48 - IF(AH47=\"\", LOOKUP(2, 1/(AH$17:AH46<>\"\"), AH$17:AH46), AH47))","v":0},null,null,null,null,171,"",null,null,{"$f":"IF(AQ48=\"\", 0, AQ48 - IF(AQ47=\"\", LOOKUP(2, 1/(AQ$17:AQ46<>\"\"), AQ$17:AQ46), AQ47))","v":0},null,null,null,null,171,"",null,null,{"$f":"IF(AZ48=\"\", 0, AZ48 - IF(AZ47=\"\", LOOKUP(2, 1/(AZ$17:AZ46<>\"\"), AZ$17:AZ46), AZ47))","v":0},null,null,null,null,171,"",null,null,{"$f":"IF(BI48=\"\", 0, BI48 - IF(BI47=\"\", LOOKUP(2, 1/(BI$17:BI46<>\"\"), BI$17:BI46), BI47))","v":0},null,null,null,null,171,"",null,null,{"$f":"IF(BR48=\"\", 0, BR48 - IF(BR47=\"\", LOOKUP(2, 1/(BR$17:BR46<>\"\"), BR$17:BR46), BR47))","v":0},null,null,null,null,171,"",null,null,{"$f":"IF(CA48=\"\", 0, CA48 - IF(CA47=\"\", LOOKUP(2, 1/(CA$17:CA46<>\"\"), CA$17:CA46), CA47))","v":0},null,null,null,null,171,"",null,null,{"$f":"IF(CJ48=\"\", 0, CJ48 - IF(CJ47=\"\", LOOKUP(2, 1/(CJ$17:CJ46<>\"\"), CJ$17:CJ46), CJ47))","v":0},null,null,null,null,171,"",null,null,{"$f":"IF(CS48=\"\", 0, CS48 - IF(CS47=\"\", LOOKUP(2, 1/(CS$17:CS46<>\"\"), CS$17:CS46), CS47))","v":0},null,null,null,null,171,"",null,null,{"$f":"IF(DB48=\"\", 0, DB48 - IF(DB47=\"\", LOOKUP(2, 1/(DB$17:DB46<>\"\"), DB$17:DB46), DB47))","v":0},null,null,null,null,171,"",null,null,{"$f":"IF(DK48=\"\", 0, DK48 - IF(DK47=\"\", LOOKUP(2, 1/(DK$17:DK46<>\"\"), DK$17:DK46), DK47))","v":0},null,null,null,null,171,"",null,null,{"$f":"IF(DT48=\"\", 0, DT48 - IF(DT47=\"\", LOOKUP(2, 1/(DT$17:DT46<>\"\"), DT$17:DT46), DT47))","v":0},null,null,null,null,171,"",null,null,{"$f":"IF(EC48=\"\", 0, EC48 - IF(EC47=\"\", LOOKUP(2, 1/(EC$17:EC46<>\"\"), EC$17:EC46), EC47))","v":0},null,null,null,null,171,"",null,null,{"$f":"IF(EL48=\"\", 0, EL48 - IF(EL47=\"\", LOOKUP(2, 1/(EL$17:EL46<>\"\"), EL$17:EL46), EL47))","v":0},null,null,null,null,171,"",null,null,{"$f":"IF(EU48=\"\", 0, EU48 - IF(EU47=\"\", LOOKUP(2, 1/(EU$17:EU46<>\"\"), EU$17:EU46), EU47))","v":0},null,null,null,null,171,"",null,null,{"$f":"IF(FD48=\"\", 0, FD48 - IF(FD47=\"\", LOOKUP(2, 1/(FD$17:FD46<>\"\"), FD$17:FD46), FD47))","v":0},null,null,null,null,171,"",null,null,{"$f":"IF(FM48=\"\", 0, FM48 - IF(FM47=\"\", LOOKUP(2, 1/(FM$17:FM46<>\"\"), FM$17:FM46), FM47))","v":0},null,null,null,null,171,"",null,null,{"$f":"IF(FV48=\"\", 0, FV48 - IF(FV47=\"\", LOOKUP(2, 1/(FV$17:FV46<>\"\"), FV$17:FV46), FV47))","v":0},null,null,null,null,171,"",null,null,{"$f":"IF(GE48=\"\", 0, GE48 - IF(GE47=\"\", LOOKUP(2, 1/(GE$17:GE46<>\"\"), GE$17:GE46), GE47))","v":0},null,null,null,null,171,"",null,null,{"$f":"IF(GN48=\"\", 0, GN48 - IF(GN47=\"\", LOOKUP(2, 1/(GN$17:GN46<>\"\"), GN$17:GN46), GN47))","v":0},null,null,null,null,171,"",null,null,{"$f":"IF(GW48=\"\", 0, GW48 - IF(GW47=\"\", LOOKUP(2, 1/(GW$17:GW46<>\"\"), GW$17:GW46), GW47))","v":0},null,null,null,null,171,"",null,null,{"$f":"IF(HF48=\"\", 0, HF48 - IF(HF47=\"\", LOOKUP(2, 1/(HF$17:HF46<>\"\"), HF$17:HF46), HF47))","v":0},null,null,null,null,171,"",null,null,{"$f":"IF(HO48=\"\", 0, HO48 - IF(HO47=\"\", LOOKUP(2, 1/(HO$17:HO46<>\"\"), HO$17:HO46), HO47))","v":0},null,null,null,null,171,"",null,null,{"$f":"IF(HX48=\"\", 0, HX48 - IF(HX47=\"\", LOOKUP(2, 1/(HX$17:HX46<>\"\"), HX$17:HX46), HX47))","v":0},null,null,null,null,171,"",null,null,{"$f":"IF(IG48=\"\", 0, IG48 - IF(IG47=\"\", LOOKUP(2, 1/(IG$17:IG46<>\"\"), IG$17:IG46), IG47))","v":0},null,null,null,null,171,"",null,null,{"$f":"IF(IP48=\"\", 0, IP48 - IF(IP47=\"\", LOOKUP(2, 1/(IP$17:IP46<>\"\"), IP$17:IP46), IP47))","v":0},null,null,null,null,171,"",null,null,{"$f":"IF(IY48=\"\", 0, IY48 - IF(IY47=\"\", LOOKUP(2, 1/(IY$17:IY46<>\"\"), IY$17:IY46), IY47))","v":0},null,null,null,null,171,"",null,null,{"$f":"IF(JH48=\"\", 0, JH48 - IF(JH47=\"\", LOOKUP(2, 1/(JH$17:JH46<>\"\"), JH$17:JH46), JH47))","v":0},null,null,null,null,171,"",null,null,{"$f":"IF(JQ48=\"\", 0, JQ48 - IF(JQ47=\"\", LOOKUP(2, 1/(JQ$17:JQ46<>\"\"), JQ$17:JQ46), JQ47))","v":0},null,null,null,null,171,"",null,null,{"$f":"IF(JZ48=\"\", 0, JZ48 - IF(JZ47=\"\", LOOKUP(2, 1/(JZ$17:JZ46<>\"\"), JZ$17:JZ46), JZ47))","v":0},null,null,null,null,171,"",null,null,{"$f":"IF(KI48=\"\", 0, KI48 - IF(KI47=\"\", LOOKUP(2, 1/(KI$17:KI46<>\"\"), KI$17:KI46), KI47))","v":0},null,null,null,null,171,"",null,null,{"$f":"IF(KR48=\"\", 0, KR48 - IF(KR47=\"\", LOOKUP(2, 1/(KR$17:KR46<>\"\"), KR$17:KR46), KR47))","v":0},null,null,null,null,171,"",null,null,{"$f":"IF(LA48=\"\", 0, LA48 - IF(LA47=\"\", LOOKUP(2, 1/(LA$17:LA46<>\"\"), LA$17:LA46), LA47))","v":0},null,null,null,null,171,"",null,null,{"$f":"IF(LJ48=\"\", 0, LJ48 - IF(LJ47=\"\", LOOKUP(2, 1/(LJ$17:LJ46<>\"\"), LJ$17:LJ46), LJ47))","v":0},null,null,null,null,171,"",null,null,{"$f":"IF(LS48=\"\", 0, LS48 - IF(LS47=\"\", LOOKUP(2, 1/(LS$17:LS46<>\"\"), LS$17:LS46), LS47))","v":0},null,null,null,null,171,"",null,null,{"$f":"IF(MB48=\"\", 0, MB48 - IF(MB47=\"\", LOOKUP(2, 1/(MB$17:MB46<>\"\"), MB$17:MB46), MB47))","v":0},null,null,null,null,171,"",null,null,{"$f":"IF(MK48=\"\", 0, MK48 - IF(MK47=\"\", LOOKUP(2, 1/(MK$17:MK46<>\"\"), MK$17:MK46), MK47))","v":0},null,null,null,null,171,"",null,null,{"$f":"IF(MT48=\"\", 0, MT48 - IF(MT47=\"\", LOOKUP(2, 1/(MT$17:MT46<>\"\"), MT$17:MT46), MT47))","v":0},null,null,171,"",null,null,{"$f":"IF(NA48=\"\", 0, NA48 - IF(NA47=\"\", LOOKUP(2, 1/(NA$17:NA46<>\"\"), NA$17:NA46), NA47))","v":0},null,null,null,null,171,"",null,null,{"$f":"IF(NJ48=\"\", 0, NJ48 - IF(NJ47=\"\", LOOKUP(2, 1/(NJ$17:NJ46<>\"\"), NJ$17:NJ46), NJ47))","v":0},null,null,null,null,171,"",null,null,{"$f":"IF(NS48=\"\", 0, NS48 - IF(NS47=\"\", LOOKUP(2, 1/(NS$17:NS46<>\"\"), NS$17:NS46), NS47))","v":0},null,null,null,null,171,"",null,null,{"$f":"IF(OB48=\"\", 0, OB48 - IF(OB47=\"\", LOOKUP(2, 1/(OB$17:OB46<>\"\"), OB$17:OB46), OB47))","v":0},null,null,null,null,171,"",null,null,{"$f":"IF(OK48=\"\", 0, OK48 - IF(OK47=\"\", LOOKUP(2, 1/(OK$17:OK46<>\"\"), OK$17:OK46), OK47))","v":0},null,null,null,null,171,"",null,null,{"$f":"IF(OT48=\"\", 0, OT48 - IF(OT47=\"\", LOOKUP(2, 1/(OT$17:OT46<>\"\"), OT$17:OT46), OT47))","v":0},null,null,null,null,171,"",null,null,{"$f":"IF(PC48=\"\", 0, PC48 - IF(PC47=\"\", LOOKUP(2, 1/(PC$17:PC46<>\"\"), PC$17:PC46), PC47))","v":0},null,null,null,null,171,"",null,null,{"$f":"IF(PL48=\"\", 0, PL48 - IF(PL47=\"\", LOOKUP(2, 1/(PL$17:PL46<>\"\"), PL$17:PL46), PL47))","v":0},null,null,null,null,171,"",null,null,{"$f":"IF(PU48=\"\", 0, PU48 - IF(PU47=\"\", LOOKUP(2, 1/(PU$17:PU46<>\"\"), PU$17:PU46), PU47))","v":0},null,null,null,null,171,"",null,null,{"$f":"IF(QD48=\"\", 0, QD48 - IF(QD47=\"\", LOOKUP(2, 1/(QD$17:QD46<>\"\"), QD$17:QD46), QD47))","v":0}]
[null,null,null,170,"",null,null,{"$f":"IF(G49=\"\", 0, G49 - IF(G48=\"\", LOOKUP(2, 1/(G$17:G47<>\"\"), G$17:G47), G48))","v":0},null,null,null,null,170,"",null,null,{"$f":"IF(P49=\"\", 0, P49 - IF(P48=\"\", LOOKUP(2, 1/(P$17:P47<>\"\"), P$17:P47), P48))","v":0},null,null,null,null,170,"",null,null,{"$f":"IF(Y49=\"\", 0, Y49 - IF(Y48=\"\", LOOKUP(2, 1/(Y$17:Y47<>\"\"), Y$17:Y47), Y48))","v":0},null,null,null,null,170,"",null,null,{"$f":"IF(AH49=\"\", 0, AH49 - IF(AH48=\"\", LOOKUP(2, 1/(AH$17:AH47<>\"\"), AH$17:AH47), AH48))","v":0},null,null,null,null,170,"",null,null,{"$f":"IF(AQ49=\"\", 0, AQ49 - IF(AQ48=\"\", LOOKUP(2, 1/(AQ$17:AQ47<>\"\"), AQ$17:AQ47), AQ48))","v":0},null,null,null,null,170,"",null,null,{"$f":"IF(AZ49=\"\", 0, AZ49 - IF(AZ48=\"\", LOOKUP(2, 1/(AZ$17:AZ47<>\"\"), AZ$17:AZ47), AZ48))","v":0},null,null,null,null,170,"",null,null,{"$f":"IF(BI49=\"\", 0, BI49 - IF(BI48=\"\", LOOKUP(2, 1/(BI$17:BI47<>\"\"), BI$17:BI47), BI48))","v":0},null,null,null,null,170,"",null,null,{"$f":"IF(BR49=\"\", 0, BR49 - IF(BR48=\"\", LOOKUP(2, 1/(BR$17:BR47<>\"\"), BR$17:BR47), BR48))","v":0},null,null,null,null,170,"",null,null,{"$f":"IF(CA49=\"\", 0, CA49 - IF(CA48=\"\", LOOKUP(2, 1/(CA$17:CA47<>\"\"), CA$17:CA47), CA48))","v":0},null,null,null,null,170,"",null,null,{"$f":"IF(CJ49=\"\", 0, CJ49 - IF(CJ48=\"\", LOOKUP(2, 1/(CJ$17:CJ47<>\"\"), CJ$17:CJ47), CJ48))","v":0},null,null,null,null,170,"",null,null,{"$f":"IF(CS49=\"\", 0, CS49 - IF(CS48=\"\", LOOKUP(2, 1/(CS$17:CS47<>\"\"), CS$17:CS47), CS48))","v":0},null,null,null,null,170,"",null,null,{"$f":"IF(DB49=\"\", 0, DB49 - IF(DB48=\"\", LOOKUP(2, 1/(DB$17:DB47<>\"\"), DB$17:DB47), DB48))","v":0},null,null,null,null,170,"",null,null,{"$f":"IF(DK49=\"\", 0, DK49 - IF(DK48=\"\", LOOKUP(2, 1/(DK$17:DK47<>\"\"), DK$17:DK47), DK48))","v":0},null,null,null,null,170,"",null,null,{"$f":"IF(DT49=\"\", 0, DT49 - IF(DT48=\"\", LOOKUP(2, 1/(DT$17:DT47<>\"\"), DT$17:DT47), DT48))","v":0},null,null,null,null,170,"",null,null,{"$f":"IF(EC49=\"\", 0, EC49 - IF(EC48=\"\", LOOKUP(2, 1/(EC$17:EC47<>\"\"), EC$17:EC47), EC48))","v":0},null,null,null,null,170,"",null,null,{"$f":"IF(EL49=\"\", 0, EL49 - IF(EL48=\"\", LOOKUP(2, 1/(EL$17:EL47<>\"\"), EL$17:EL47), EL48))","v":0},null,null,null,null,170,"",null,null,{"$f":"IF(EU49=\"\", 0, EU49 - IF(EU48=\"\", LOOKUP(2, 1/(EU$17:EU47<>\"\"), EU$17:EU47), EU48))","v":0},null,null,null,null,170,"",null,null,{"$f":"IF(FD49=\"\", 0, FD49 - IF(FD48=\"\", LOOKUP(2, 1/(FD$17:FD47<>\"\"), FD$17:FD47), FD48))","v":0},null,null,null,null,170,"",null,null,{"$f":"IF(FM49=\"\", 0, FM49 - IF(FM48=\"\", LOOKUP(2, 1/(FM$17:FM47<>\"\"), FM$17:FM47), FM48))","v":0},null,null,null,null,170,"",null,null,{"$f":"IF(FV49=\"\", 0, FV49 - IF(FV48=\"\", LOOKUP(2, 1/(FV$17:FV47<>\"\"), FV$17:FV47), FV48))","v":0},null,null,null,null,170,"",null,null,{"$f":"IF(GE49=\"\", 0, GE49 - IF(GE48=\"\", LOOKUP(2, 1/(GE$17:GE47<>\"\"), GE$17:GE47), GE48))","v":0},null,null,null,null,170,"",null,null,{"$f":"IF(GN49=\"\", 0, GN49 - IF(GN48=\"\", LOOKUP(2, 1/(GN$17:GN47<>\"\"), GN$17:GN47), GN48))","v":0},null,null,null,null,170,"",null,null,{"$f":"IF(GW49=\"\", 0, GW49 - IF(GW48=\"\", LOOKUP(2, 1/(GW$17:GW47<>\"\"), GW$17:GW47), GW48))","v":0},null,null,null,null,170,"",null,null,{"$f":"IF(HF49=\"\", 0, HF49 - IF(HF48=\"\", LOOKUP(2, 1/(HF$17:HF47<>\"\"), HF$17:HF47), HF48))","v":0},null,null,null,null,170,"",null,null,{"$f":"IF(HO49=\"\", 0, HO49 - IF(HO48=\"\", LOOKUP(2, 1/(HO$17:HO47<>\"\"), HO$17:HO47), HO48))","v":0},null,null,null,null,170,"",null,null,{"$f":"IF(HX49=\"\", 0, HX49 - IF(HX48=\"\", LOOKUP(2, 1/(HX$17:HX47<>\"\"), HX$17:HX47), HX48))","v":0},null,null,null,null,170,"",null,null,{"$f":"IF(IG49=\"\", 0, IG49 - IF(IG48=\"\", LOOKUP(2, 1/(IG$17:IG47<>\"\"), IG$17:IG47), IG48))","v":0},null,null,null,null,170,"",null,null,{"$f":"IF(IP49=\"\", 0, IP49 - IF(IP48=\"\", LOOKUP(2, 1/(IP$17:IP47<>\"\"), IP$17:IP47), IP48))","v":0},null,null,null,null,170,"",null,null,{"$f":"IF(IY49=\"\", 0, IY49 - IF(IY48=\"\", LOOKUP(2, 1/(IY$17:IY47<>\"\"), IY$17:IY47), IY48))","v":0},null,null,null,null,170,"",null,null,{"$f":"IF(JH49=\"\", 0, JH49 - IF(JH48=\"\", LOOKUP(2, 1/(JH$17:JH47<>\"\"), JH$17:JH47), JH48))","v":0},null,null,null,null,170,"",null,null,{"$f":"IF(JQ49=\"\", 0, JQ49 - IF(JQ48=\"\", LOOKUP(2, 1/(JQ$17:JQ47<>\"\"), JQ$17:JQ47), JQ48))","v":0},null,null,null,null,170,"",null,null,{"$f":"IF(JZ49=\"\", 0, JZ49 - IF(JZ48=\"\", LOOKUP(2, 1/(JZ$17:JZ47<>\"\"), JZ$17:JZ47), JZ48))","v":0},null,null,null,null,170,"",null,null,{"$f":"IF(KI49=\"\", 0, KI49 - IF(KI48=\"\", LOOKUP(2, 1/(KI$17:KI47<>\"\"), KI$17:KI47), KI48))","v":0},null,null,null,null,170,"",null,null,{"$f":"IF(KR49=\"\", 0, KR49 - IF(KR48=\"\", LOOKUP(2, 1/(KR$17:KR47<>\"\"), KR$17:KR47), KR48))","v":0},null,null,null,null,170,"",null,null,{"$f":"IF(LA49=\"\", 0, LA49 - IF(LA48=\"\", LOOKUP(2, 1/(LA$17:LA47<>\"\"), LA$17:LA47), LA48))","v":0},null,null,null,null,170,"",null,null,{"$f":"IF(LJ49=\"\", 0, LJ49 - IF(LJ48=\"\", LOOKUP(2, 1/(LJ$17:LJ47<>\"\"), LJ$17:LJ47), LJ48))","v":0},null,null,null,null,170,"",null,null,{"$f":"IF(LS49=\"\", 0, LS49 - IF(LS48=\"\", LOOKUP(2, 1/(LS$17:LS47<>\"\"), LS$17:LS47), LS48))","v":0},null,null,null,null,170,"",null,null,{"$f":"IF(MB49=\"\", 0, MB49 - IF(MB48=\"\", LOOKUP(2, 1/(MB$17:MB47<>\"\"), MB$17:MB47), MB48))","v":0},null,null,null,null,170,"",null,null,{"$f":"IF(MK49=\"\", 0, MK49 - IF(MK48=\"\", LOOKUP(2, 1/(MK$17:MK47<>\"\"), MK$17:MK47), MK48))","v":0},null,null,null,null,170,"",null,null,{"$f":"IF(MT49=\"\", 0, MT49 - IF(MT48=\"\", LOOKUP(2, 1/(MT$17:MT47<>\"\"), MT$17:MT47), MT48))","v":0},null,null,170,"",null,null,{"$f":"IF(NA49=\"\", 0, NA49 - IF(NA48=\"\", LOOKUP(2, 1/(NA$17:NA47<>\"\"), NA$17:NA47), NA48))","v":0},null,null,null,null,170,"",null,null,{"$f":"IF(NJ49=\"\", 0, NJ49 - IF(NJ48=\"\", LOOKUP(2, 1/(NJ$17:NJ47<>\"\"), NJ$17:NJ47), NJ48))","v":0},null,null,null,null,170,"",null,null,{"$f":"IF(NS49=\"\", 0, NS49 - IF(NS48=\"\", LOOKUP(2, 1/(NS$17:NS47<>\"\"), NS$17:NS47), NS48))","v":0},null,null,null,null,170,"",null,null,{"$f":"IF(OB49=\"\", 0, OB49 - IF(OB48=\"\", LOOKUP(2, 1/(OB$17:OB47<>\"\"), OB$17:OB47), OB48))","v":0},null,null,null,null,170,"",null,null,{"$f":"IF(OK49=\"\", 0, OK49 - IF(OK48=\"\", LOOKUP(2, 1/(OK$17:OK47<>\"\"), OK$17:OK47), OK48))","v":0},null,null,null,null,170,"",null,null,{"$f":"IF(OT49=\"\", 0, OT49 - IF(OT48=\"\", LOOKUP(2, 1/(OT$17:OT47<>\"\"), OT$17:OT47), OT48))","v":0},null,null,null,null,170,"",null,null,{"$f":"IF(PC49=\"\", 0, PC49 - IF(PC48=\"\", LOOKUP(2, 1/(PC$17:PC47<>\"\"), PC$17:PC47), PC48))","v":0},null,null,null,null,170,"",null,null,{"$f":"IF(PL49=\"\", 0, PL49 - IF(PL48=\"\", LOOKUP(2, 1/(PL$17:PL47<>\"\"), PL$17:PL47), PL48))","v":0},null,null,null,null,170,"",null,null,{"$f":"IF(PU49=\"\", 0, PU49 - IF(PU48=\"\", LOOKUP(2, 1/(PU$17:PU47<>\"\"), PU$17:PU47), PU48))","v":0},null,null,null,null,170,"",null,null,{"$f":"IF(QD49=\"\", 0, QD49 - IF(QD48=\"\", LOOKUP(2, 1/(QD$17:QD47<>\"\"), QD$17:QD47), QD48))","v":0}]
[null,null,null,169,"",null,null,{"$f":"IF(G50=\"\", 0, G50 - IF(G49=\"\", LOOKUP(2, 1/(G$17:G48<>\"\"), G$17:G48), G49))","v":0},null,null,null,null,169,"",null,null,{"$f":"IF(P50=\"\", 0, P50 - IF(P49=\"\", LOOKUP(2, 1/(P$17:P48<>\"\"), P$17:P48), P49))","v":0},null,null,null,null,169,"",null,null,{"$f":"IF(Y50=\"\", 0, Y50 - IF(Y49=\"\", LOOKUP(2, 1/(Y$17:Y48<>\"\"), Y$17:Y48), Y49))","v":0},null,null,null,null,169,"",null,null,{"$f":"IF(AH50=\"\", 0, AH50 - IF(AH49=\"\", LOOKUP(2, 1/(AH$17:AH48<>\"\"), AH$17:AH48), AH49))","v":0},null,null,null,null,169,"",null,null,{"$f":"IF(AQ50=\"\", 0, AQ50 - IF(AQ49=\"\", LOOKUP(2, 1/(AQ$17:AQ48<>\"\"), AQ$17:AQ48), AQ49))","v":0},null,null,null,null,169,"",null,null,{"$f":"IF(AZ50=\"\", 0, AZ50 - IF(AZ49=\"\", LOOKUP(2, 1/(AZ$17:AZ48<>\"\"), AZ$17:AZ48), AZ49))","v":0},null,null,null,null,169,"",null,null,{"$f":"IF(BI50=\"\", 0, BI50 - IF(BI49=\"\", LOOKUP(2, 1/(BI$17:BI48<>\"\"), BI$17:BI48), BI49))","v":0},null,null,null,null,169,"",null,null,{"$f":"IF(BR50=\"\", 0, BR50 - IF(BR49=\"\", LOOKUP(2, 1/(BR$17:BR48<>\"\"), BR$17:BR48), BR49))","v":0},null,null,null,null,169,"",null,null,{"$f":"IF(CA50=\"\", 0, CA50 - IF(CA49=\"\", LOOKUP(2, 1/(CA$17:CA48<>\"\"), CA$17:CA48), CA49))","v":0},null,null,null,null,169,"",null,null,{"$f":"IF(CJ50=\"\", 0, CJ50 - IF(CJ49=\"\", LOOKUP(2, 1/(CJ$17:CJ48<>\"\"), CJ$17:CJ48), CJ49))","v":0},null,null,null,null,169,"",null,null,{"$f":"IF(CS50=\"\", 0, CS50 - IF(CS49=\"\", LOOKUP(2, 1/(CS$17:CS48<>\"\"), CS$17:CS48), CS49))","v":0},null,null,null,null,169,"",null,null,{"$f":"IF(DB50=\"\", 0, DB50 - IF(DB49=\"\", LOOKUP(2, 1/(DB$17:DB48<>\"\"), DB$17:DB48), DB49))","v":0},null,null,null,null,169,"",null,null,{"$f":"IF(DK50=\"\", 0, DK50 - IF(DK49=\"\", LOOKUP(2, 1/(DK$17:DK48<>\"\"), DK$17:DK48), DK49))","v":0},null,null,null,null,169,"",null,null,{"$f":"IF(DT50=\"\", 0, DT50 - IF(DT49=\"\", LOOKUP(2, 1/(DT$17:DT48<>\"\"), DT$17:DT48), DT49))","v":0},null,null,null,null,169,"",null,null,{"$f":"IF(EC50=\"\", 0, EC50 - IF(EC49=\"\", LOOKUP(2, 1/(EC$17:EC48<>\"\"), EC$17:EC48), EC49))","v":0},null,null,null,null,169,"",null,null,{"$f":"IF(EL50=\"\", 0, EL50 - IF(EL49=\"\", LOOKUP(2, 1/(EL$17:EL48<>\"\"), EL$17:EL48), EL49))","v":0},null,null,null,null,169,"",null,null,{"$f":"IF(EU50=\"\", 0, EU50 - IF(EU49=\"\", LOOKUP(2, 1/(EU$17:EU48<>\"\"), EU$17:EU48), EU49))","v":0},null,null,null,null,169,"",null,null,{"$f":"IF(FD50=\"\", 0, FD50 - IF(FD49=\"\", LOOKUP(2, 1/(FD$17:FD48<>\"\"), FD$17:FD48), FD49))","v":0},null,null,null,null,169,"",null,null,{"$f":"IF(FM50=\"\", 0, FM50 - IF(FM49=\"\", LOOKUP(2, 1/(FM$17:FM48<>\"\"), FM$17:FM48), FM49))","v":0},null,null,null,null,169,"",null,null,{"$f":"IF(FV50=\"\", 0, FV50 - IF(FV49=\"\", LOOKUP(2, 1/(FV$17:FV48<>\"\"), FV$17:FV48), FV49))","v":0},null,null,null,null,169,"",null,null,{"$f":"IF(GE50=\"\", 0, GE50 - IF(GE49=\"\", LOOKUP(2, 1/(GE$17:GE48<>\"\"), GE$17:GE48), GE49))","v":0},null,null,null,null,169,"",null,null,{"$f":"IF(GN50=\"\", 0, GN50 - IF(GN49=\"\", LOOKUP(2, 1/(GN$17:GN48<>\"\"), GN$17:GN48), GN49))","v":0},null,null,null,null,169,"",null,null,{"$f":"IF(GW50=\"\", 0, GW50 - IF(GW49=\"\", LOOKUP(2, 1/(GW$17:GW48<>\"\"), GW$17:GW48), GW49))","v":0},null,null,null,null,169,"",null,null,{"$f":"IF(HF50=\"\", 0, HF50 - IF(HF49=\"\", LOOKUP(2, 1/(HF$17:HF48<>\"\"), HF$17:HF48), HF49))","v":0},null,null,null,null,169,"",null,null,{"$f":"IF(HO50=\"\", 0, HO50 - IF(HO49=\"\", LOOKUP(2, 1/(HO$17:HO48<>\"\"), HO$17:HO48), HO49))","v":0},null,null,null,null,169,"",null,null,{"$f":"IF(HX50=\"\", 0, HX50 - IF(HX49=\"\", LOOKUP(2, 1/(HX$17:HX48<>\"\"), HX$17:HX48), HX49))","v":0},null,null,null,null,169,"",null,null,{"$f":"IF(IG50=\"\", 0, IG50 - IF(IG49=\"\", LOOKUP(2, 1/(IG$17:IG48<>\"\"), IG$17:IG48), IG49))","v":0},null,null,null,null,169,"",null,null,{"$f":"IF(IP50=\"\", 0, IP50 - IF(IP49=\"\", LOOKUP(2, 1/(IP$17:IP48<>\"\"), IP$17:IP48), IP49))","v":0},null,null,null,null,169,"",null,null,{"$f":"IF(IY50=\"\", 0, IY50 - IF(IY49=\"\", LOOKUP(2, 1/(IY$17:IY48<>\"\"), IY$17:IY48), IY49))","v":0},null,null,null,null,169,"",null,null,{"$f":"IF(JH50=\"\", 0, JH50 - IF(JH49=\"\", LOOKUP(2, 1/(JH$17:JH48<>\"\"), JH$17:JH48), JH49))","v":0},null,null,null,null,169,"",null,null,{"$f":"IF(JQ50=\"\", 0, JQ50 - IF(JQ49=\"\", LOOKUP(2, 1/(JQ$17:JQ48<>\"\"), JQ$17:JQ48), JQ49))","v":0},null,null,null,null,169,"",null,null,{"$f":"IF(JZ50=\"\", 0, JZ50 - IF(JZ49=\"\", LOOKUP(2, 1/(JZ$17:JZ48<>\"\"), JZ$17:JZ48), JZ49))","v":0},null,null,null,null,169,"",null,null,{"$f":"IF(KI50=\"\", 0, KI50 - IF(KI49=\"\", LOOKUP(2, 1/(KI$17:KI48<>\"\"), KI$17:KI48), KI49))","v":0},null,null,null,null,169,"",null,null,{"$f":"IF(KR50=\"\", 0, KR50 - IF(KR49=\"\", LOOKUP(2, 1/(KR$17:KR48<>\"\"), KR$17:KR48), KR49))","v":0},null,null,null,null,169,"",null,null,{"$f":"IF(LA50=\"\", 0, LA50 - IF(LA49=\"\", LOOKUP(2, 1/(LA$17:LA48<>\"\"), LA$17:LA48), LA49))","v":0},null,null,null,null,169,"",null,null,{"$f":"IF(LJ50=\"\", 0, LJ50 - IF(LJ49=\"\", LOOKUP(2, 1/(LJ$17:LJ48<>\"\"), LJ$17:LJ48), LJ49))","v":0},null,null,null,null,169,"",null,null,{"$f":"IF(LS50=\"\", 0, LS50 - IF(LS49=\"\", LOOKUP(2, 1/(LS$17:LS48<>\"\"), LS$17:LS48), LS49))","v":0},null,null,null,null,169,"",null,null,{"$f":"IF(MB50=\"\", 0, MB50 - IF(MB49=\"\", LOOKUP(2, 1/(MB$17:MB48<>\"\"), MB$17:MB48), MB49))","v":0},null,null,null,null,169,"",null,null,{"$f":"IF(MK50=\"\", 0, MK50 - IF(MK49=\"\", LOOKUP(2, 1/(MK$17:MK48<>\"\"), MK$17:MK48), MK49))","v":0},null,null,null,null,169,"",null,null,{"$f":"IF(MT50=\"\", 0, MT50 - IF(MT49=\"\", LOOKUP(2, 1/(MT$17:MT48<>\"\"), MT$17:MT48), MT49))","v":0},null,null,169,"",null,null,{"$f":"IF(NA50=\"\", 0, NA50 - IF(NA49=\"\", LOOKUP(2, 1/(NA$17:NA48<>\"\"), NA$17:NA48), NA49))","v":0},null,null,null,null,169,"",null,null,{"$f":"IF(NJ50=\"\", 0, NJ50 - IF(NJ49=\"\", LOOKUP(2, 1/(NJ$17:NJ48<>\"\"), NJ$17:NJ48), NJ49))","v":0},null,null,null,null,169,"",null,null,{"$f":"IF(NS50=\"\", 0, NS50 - IF(NS49=\"\", LOOKUP(2, 1/(NS$17:NS48<>\"\"), NS$17:NS48), NS49))","v":0},null,null,null,null,169,"",null,null,{"$f":"IF(OB50=\"\", 0, OB50 - IF(OB49=\"\", LOOKUP(2, 1/(OB$17:OB48<>\"\"), OB$17:OB48), OB49))","v":0},null,null,null,null,169,"",null,null,{"$f":"IF(OK50=\"\", 0, OK50 - IF(OK49=\"\", LOOKUP(2, 1/(OK$17:OK48<>\"\"), OK$17:OK48), OK49))","v":0},null,null,null,null,169,"",null,null,{"$f":"IF(OT50=\"\", 0, OT50 - IF(OT49=\"\", LOOKUP(2, 1/(OT$17:OT48<>\"\"), OT$17:OT48), OT49))","v":0},null,null,null,null,169,"",null,null,{"$f":"IF(PC50=\"\", 0, PC50 - IF(PC49=\"\", LOOKUP(2, 1/(PC$17:PC48<>\"\"), PC$17:PC48), PC49))","v":0},null,null,null,null,169,"",null,null,{"$f":"IF(PL50=\"\", 0, PL50 - IF(PL49=\"\", LOOKUP(2, 1/(PL$17:PL48<>\"\"), PL$17:PL48), PL49))","v":0},null,null,null,null,169,"",null,null,{"$f":"IF(PU50=\"\", 0, PU50 - IF(PU49=\"\", LOOKUP(2, 1/(PU$17:PU48<>\"\"), PU$17:PU48), PU49))","v":0},null,null,null,null,169,"",null,null,{"$f":"IF(QD50=\"\", 0, QD50 - IF(QD49=\"\", LOOKUP(2, 1/(QD$17:QD48<>\"\"), QD$17:QD48), QD49))","v":0}]
[null,null,null,168,"",null,null,{"$f":"IF(G51=\"\", 0, G51 - IF(G50=\"\", LOOKUP(2, 1/(G$17:G49<>\"\"), G$17:G49), G50))","v":0},null,null,null,null,168,"",null,null,{"$f":"IF(P51=\"\", 0, P51 - IF(P50=\"\", LOOKUP(2, 1/(P$17:P49<>\"\"), P$17:P49), P50))","v":0},null,null,null,null,168,"",null,null,{"$f":"IF(Y51=\"\", 0, Y51 - IF(Y50=\"\", LOOKUP(2, 1/(Y$17:Y49<>\"\"), Y$17:Y49), Y50))","v":0},null,null,null,null,168,"",null,null,{"$f":"IF(AH51=\"\", 0, AH51 - IF(AH50=\"\", LOOKUP(2, 1/(AH$17:AH49<>\"\"), AH$17:AH49), AH50))","v":0},null,null,null,null,168,"",null,null,{"$f":"IF(AQ51=\"\", 0, AQ51 - IF(AQ50=\"\", LOOKUP(2, 1/(AQ$17:AQ49<>\"\"), AQ$17:AQ49), AQ50))","v":0},null,null,null,null,168,"",null,null,{"$f":"IF(AZ51=\"\", 0, AZ51 - IF(AZ50=\"\", LOOKUP(2, 1/(AZ$17:AZ49<>\"\"), AZ$17:AZ49), AZ50))","v":0},null,null,null,null,168,"",null,null,{"$f":"IF(BI51=\"\", 0, BI51 - IF(BI50=\"\", LOOKUP(2, 1/(BI$17:BI49<>\"\"), BI$17:BI49), BI50))","v":0},null,null,null,null,168,"",null,null,{"$f":"IF(BR51=\"\", 0, BR51 - IF(BR50=\"\", LOOKUP(2, 1/(BR$17:BR49<>\"\"), BR$17:BR49), BR50))","v":0},null,null,null,null,168,"",null,null,{"$f":"IF(CA51=\"\", 0, CA51 - IF(CA50=\"\", LOOKUP(2, 1/(CA$17:CA49<>\"\"), CA$17:CA49), CA50))","v":0},null,null,null,null,168,"",null,null,{"$f":"IF(CJ51=\"\", 0, CJ51 - IF(CJ50=\"\", LOOKUP(2, 1/(CJ$17:CJ49<>\"\"), CJ$17:CJ49), CJ50))","v":0},null,null,null,null,168,"",null,null,{"$f":"IF(CS51=\"\", 0, CS51 - IF(CS50=\"\", LOOKUP(2, 1/(CS$17:CS49<>\"\"), CS$17:CS49), CS50))","v":0},null,null,null,null,168,"",null,null,{"$f":"IF(DB51=\"\", 0, DB51 - IF(DB50=\"\", LOOKUP(2, 1/(DB$17:DB49<>\"\"), DB$17:DB49), DB50))","v":0},null,null,null,null,168,"",null,null,{"$f":"IF(DK51=\"\", 0, DK51 - IF(DK50=\"\", LOOKUP(2, 1/(DK$17:DK49<>\"\"), DK$17:DK49), DK50))","v":0},null,null,null,null,168,"",null,null,{"$f":"IF(DT51=\"\", 0, DT51 - IF(DT50=\"\", LOOKUP(2, 1/(DT$17:DT49<>\"\"), DT$17:DT49), DT50))","v":0},null,null,null,null,168,"",null,null,{"$f":"IF(EC51=\"\", 0, EC51 - IF(EC50=\"\", LOOKUP(2, 1/(EC$17:EC49<>\"\"), EC$17:EC49), EC50))","v":0},null,null,null,null,168,"",null,null,{"$f":"IF(EL51=\"\", 0, EL51 - IF(EL50=\"\", LOOKUP(2, 1/(EL$17:EL49<>\"\"), EL$17:EL49), EL50))","v":0},null,null,null,null,168,"",null,null,{"$f":"IF(EU51=\"\", 0, EU51 - IF(EU50=\"\", LOOKUP(2, 1/(EU$17:EU49<>\"\"), EU$17:EU49), EU50))","v":0},null,null,null,null,168,"",null,null,{"$f":"IF(FD51=\"\", 0, FD51 - IF(FD50=\"\", LOOKUP(2, 1/(FD$17:FD49<>\"\"), FD$17:FD49), FD50))","v":0},null,null,null,null,168,"",null,null,{"$f":"IF(FM51=\"\", 0, FM51 - IF(FM50=\"\", LOOKUP(2, 1/(FM$17:FM49<>\"\"), FM$17:FM49), FM50))","v":0},null,null,null,null,168,"",null,null,{"$f":"IF(FV51=\"\", 0, FV51 - IF(FV50=\"\", LOOKUP(2, 1/(FV$17:FV49<>\"\"), FV$17:FV49), FV50))","v":0},null,null,null,null,168,"",null,null,{"$f":"IF(GE51=\"\", 0, GE51 - IF(GE50=\"\", LOOKUP(2, 1/(GE$17:GE49<>\"\"), GE$17:GE49), GE50))","v":0},null,null,null,null,168,"",null,null,{"$f":"IF(GN51=\"\", 0, GN51 - IF(GN50=\"\", LOOKUP(2, 1/(GN$17:GN49<>\"\"), GN$17:GN49), GN50))","v":0},null,null,null,null,168,"",null,null,{"$f":"IF(GW51=\"\", 0, GW51 - IF(GW50=\"\", LOOKUP(2, 1/(GW$17:GW49<>\"\"), GW$17:GW49), GW50))","v":0},null,null,null,null,168,"",null,null,{"$f":"IF(HF51=\"\", 0, HF51 - IF(HF50=\"\", LOOKUP(2, 1/(HF$17:HF49<>\"\"), HF$17:HF49), HF50))","v":0},null,null,null,null,168,"",null,null,{"$f":"IF(HO51=\"\", 0, HO51 - IF(HO50=\"\", LOOKUP(2, 1/(HO$17:HO49<>\"\"), HO$17:HO49), HO50))","v":0},null,null,null,null,168,"",null,null,{"$f":"IF(HX51=\"\", 0, HX51 - IF(HX50=\"\", LOOKUP(2, 1/(HX$17:HX49<>\"\"), HX$17:HX49), HX50))","v":0},null,null,null,null,168,"",null,null,{"$f":"IF(IG51=\"\", 0, IG51 - IF(IG50=\"\", LOOKUP(2, 1/(IG$17:IG49<>\"\"), IG$17:IG49), IG50))","v":0},null,null,null,null,168,"",null,null,{"$f":"IF(IP51=\"\", 0, IP51 - IF(IP50=\"\", LOOKUP(2, 1/(IP$17:IP49<>\"\"), IP$17:IP49), IP50))","v":0},null,null,null,null,168,"",null,null,{"$f":"IF(IY51=\"\", 0, IY51 - IF(IY50=\"\", LOOKUP(2, 1/(IY$17:IY49<>\"\"), IY$17:IY49), IY50))","v":0},null,null,null,null,168,"",null,null,{"$f":"IF(JH51=\"\", 0, JH51 - IF(JH50=\"\", LOOKUP(2, 1/(JH$17:JH49<>\"\"), JH$17:JH49), JH50))","v":0},null,null,null,null,168,"",null,null,{"$f":"IF(JQ51=\"\", 0, JQ51 - IF(JQ50=\"\", LOOKUP(2, 1/(JQ$17:JQ49<>\"\"), JQ$17:JQ49), JQ50))","v":0},null,null,null,null,168,"",null,null,{"$f":"IF(JZ51=\"\", 0, JZ51 - IF(JZ50=\"\", LOOKUP(2, 1/(JZ$17:JZ49<>\"\"), JZ$17:JZ49), JZ50))","v":0},null,null,null,null,168,"",null,null,{"$f":"IF(KI51=\"\", 0, KI51 - IF(KI50=\"\", LOOKUP(2, 1/(KI$17:KI49<>\"\"), KI$17:KI49), KI50))","v":0},null,null,null,null,168,"",null,null,{"$f":"IF(KR51=\"\", 0, KR51 - IF(KR50=\"\", LOOKUP(2, 1/(KR$17:KR49<>\"\"), KR$17:KR49), KR50))","v":0},null,null,null,null,168,"",null,null,{"$f":"IF(LA51=\"\", 0, LA51 - IF(LA50=\"\", LOOKUP(2, 1/(LA$17:LA49<>\"\"), LA$17:LA49), LA50))","v":0},null,null,null,null,168,"",null,null,{"$f":"IF(LJ51=\"\", 0, LJ51 - IF(LJ50=\"\", LOOKUP(2, 1/(LJ$17:LJ49<>\"\"), LJ$17:LJ49), LJ50))","v":0},null,null,null,null,168,"",null,null,{"$f":"IF(LS51=\"\", 0, LS51 - IF(LS50=\"\", LOOKUP(2, 1/(LS$17:LS49<>\"\"), LS$17:LS49), LS50))","v":0},null,null,null,null,168,"",null,null,{"$f":"IF(MB51=\"\", 0, MB51 - IF(MB50=\"\", LOOKUP(2, 1/(MB$17:MB49<>\"\"), MB$17:MB49), MB50))","v":0},null,null,null,null,168,"",null,null,{"$f":"IF(MK51=\"\", 0, MK51 - IF(MK50=\"\", LOOKUP(2, 1/(MK$17:MK49<>\"\"), MK$17:MK49), MK50))","v":0},null,null,null,null,168,"",null,null,{"$f":"IF(MT51=\"\", 0, MT51 - IF(MT50=\"\", LOOKUP(2, 1/(MT$17:MT49<>\"\"), MT$17:MT49), MT50))","v":0},null,null,168,"",null,null,{"$f":"IF(NA51=\"\", 0, NA51 - IF(NA50=\"\", LOOKUP(2, 1/(NA$17:NA49<>\"\"), NA$17:NA49), NA50))","v":0},null,null,null,null,168,"",null,null,{"$f":"IF(NJ51=\"\", 0, NJ51 - IF(NJ50=\"\", LOOKUP(2, 1/(NJ$17:NJ49<>\"\"), NJ$17:NJ49), NJ50))","v":0},null,null,null,null,168,"",null,null,{"$f":"IF(NS51=\"\", 0, NS51 - IF(NS50=\"\", LOOKUP(2, 1/(NS$17:NS49<>\"\"), NS$17:NS49), NS50))","v":0},null,null,null,null,168,"",null,null,{"$f":"IF(OB51=\"\", 0, OB51 - IF(OB50=\"\", LOOKUP(2, 1/(OB$17:OB49<>\"\"), OB$17:OB49), OB50))","v":0},null,null,null,null,168,"",null,null,{"$f":"IF(OK51=\"\", 0, OK51 - IF(OK50=\"\", LOOKUP(2, 1/(OK$17:OK49<>\"\"), OK$17:OK49), OK50))","v":0},null,null,null,null,168,"",null,null,{"$f":"IF(OT51=\"\", 0, OT51 - IF(OT50=\"\", LOOKUP(2, 1/(OT$17:OT49<>\"\"), OT$17:OT49), OT50))","v":0},null,null,null,null,168,"",null,null,{"$f":"IF(PC51=\"\", 0, PC51 - IF(PC50=\"\", LOOKUP(2, 1/(PC$17:PC49<>\"\"), PC$17:PC49), PC50))","v":0},null,null,null,null,168,"",null,null,{"$f":"IF(PL51=\"\", 0, PL51 - IF(PL50=\"\", LOOKUP(2, 1/(PL$17:PL49<>\"\"), PL$17:PL49), PL50))","v":0},null,null,null,null,168,"",null,null,{"$f":"IF(PU51=\"\", 0, PU51 - IF(PU50=\"\", LOOKUP(2, 1/(PU$17:PU49<>\"\"), PU$17:PU49), PU50))","v":0},null,null,null,null,168,"",null,null,{"$f":"IF(QD51=\"\", 0, QD51 - IF(QD50=\"\", LOOKUP(2, 1/(QD$17:QD49<>\"\"), QD$17:QD49), QD50))","v":0}]
[null,null,null,167,"",null,null,{"$f":"IF(G52=\"\", 0, G52 - IF(G51=\"\", LOOKUP(2, 1/(G$17:G50<>\"\"), G$17:G50), G51))","v":0},null,null,null,null,167,"",null,null,{"$f":"IF(P52=\"\", 0, P52 - IF(P51=\"\", LOOKUP(2, 1/(P$17:P50<>\"\"), P$17:P50), P51))","v":0},null,null,null,null,167,"",null,null,{"$f":"IF(Y52=\"\", 0, Y52 - IF(Y51=\"\", LOOKUP(2, 1/(Y$17:Y50<>\"\"), Y$17:Y50), Y51))","v":0},null,null,null,null,167,"",null,null,{"$f":"IF(AH52=\"\", 0, AH52 - IF(AH51=\"\", LOOKUP(2, 1/(AH$17:AH50<>\"\"), AH$17:AH50), AH51))","v":0},null,null,null,null,167,"",null,null,{"$f":"IF(AQ52=\"\", 0, AQ52 - IF(AQ51=\"\", LOOKUP(2, 1/(AQ$17:AQ50<>\"\"), AQ$17:AQ50), AQ51))","v":0},null,null,null,null,167,"",null,null,{"$f":"IF(AZ52=\"\", 0, AZ52 - IF(AZ51=\"\", LOOKUP(2, 1/(AZ$17:AZ50<>\"\"), AZ$17:AZ50), AZ51))","v":0},null,null,null,null,167,"",null,null,{"$f":"IF(BI52=\"\", 0, BI52 - IF(BI51=\"\", LOOKUP(2, 1/(BI$17:BI50<>\"\"), BI$17:BI50), BI51))","v":0},null,null,null,null,167,"",null,null,{"$f":"IF(BR52=\"\", 0, BR52 - IF(BR51=\"\", LOOKUP(2, 1/(BR$17:BR50<>\"\"), BR$17:BR50), BR51))","v":0},null,null,null,null,167,"",null,null,{"$f":"IF(CA52=\"\", 0, CA52 - IF(CA51=\"\", LOOKUP(2, 1/(CA$17:CA50<>\"\"), CA$17:CA50), CA51))","v":0},null,null,null,null,167,"",null,null,{"$f":"IF(CJ52=\"\", 0, CJ52 - IF(CJ51=\"\", LOOKUP(2, 1/(CJ$17:CJ50<>\"\"), CJ$17:CJ50), CJ51))","v":0},null,null,null,null,167,"",null,null,{"$f":"IF(CS52=\"\", 0, CS52 - IF(CS51=\"\", LOOKUP(2, 1/(CS$17:CS50<>\"\"), CS$17:CS50), CS51))","v":0},null,null,null,null,167,"",null,null,{"$f":"IF(DB52=\"\", 0, DB52 - IF(DB51=\"\", LOOKUP(2, 1/(DB$17:DB50<>\"\"), DB$17:DB50), DB51))","v":0},null,null,null,null,167,"",null,null,{"$f":"IF(DK52=\"\", 0, DK52 - IF(DK51=\"\", LOOKUP(2, 1/(DK$17:DK50<>\"\"), DK$17:DK50), DK51))","v":0},null,null,null,null,167,"",null,null,{"$f":"IF(DT52=\"\", 0, DT52 - IF(DT51=\"\", LOOKUP(2, 1/(DT$17:DT50<>\"\"), DT$17:DT50), DT51))","v":0},null,null,null,null,167,"",null,null,{"$f":"IF(EC52=\"\", 0, EC52 - IF(EC51=\"\", LOOKUP(2, 1/(EC$17:EC50<>\"\"), EC$17:EC50), EC51))","v":0},null,null,null,null,167,"",null,null,{"$f":"IF(EL52=\"\", 0, EL52 - IF(EL51=\"\", LOOKUP(2, 1/(EL$17:EL50<>\"\"), EL$17:EL50), EL51))","v":0},null,null,null,null,167,"",null,null,{"$f":"IF(EU52=\"\", 0, EU52 - IF(EU51=\"\", LOOKUP(2, 1/(EU$17:EU50<>\"\"), EU$17:EU50), EU51))","v":0},null,null,null,null,167,"",null,null,{"$f":"IF(FD52=\"\", 0, FD52 - IF(FD51=\"\", LOOKUP(2, 1/(FD$17:FD50<>\"\"), FD$17:FD50), FD51))","v":0},null,null,null,null,167,"",null,null,{"$f":"IF(FM52=\"\", 0, FM52 - IF(FM51=\"\", LOOKUP(2, 1/(FM$17:FM50<>\"\"), FM$17:FM50), FM51))","v":0},null,null,null,null,167,"",null,null,{"$f":"IF(FV52=\"\", 0, FV52 - IF(FV51=\"\", LOOKUP(2, 1/(FV$17:FV50<>\"\"), FV$17:FV50), FV51))","v":0},null,null,null,null,167,"",null,null,{"$f":"IF(GE52=\"\", 0, GE52 - IF(GE51=\"\", LOOKUP(2, 1/(GE$17:GE50<>\"\"), GE$17:GE50), GE51))","v":0},null,null,null,null,167,"",null,null,{"$f":"IF(GN52=\"\", 0, GN52 - IF(GN51=\"\", LOOKUP(2, 1/(GN$17:GN50<>\"\"), GN$17:GN50), GN51))","v":0},null,null,null,null,167,"",null,null,{"$f":"IF(GW52=\"\", 0, GW52 - IF(GW51=\"\", LOOKUP(2, 1/(GW$17:GW50<>\"\"), GW$17:GW50), GW51))","v":0},null,null,null,null,167,"",null,null,{"$f":"IF(HF52=\"\", 0, HF52 - IF(HF51=\"\", LOOKUP(2, 1/(HF$17:HF50<>\"\"), HF$17:HF50), HF51))","v":0},null,null,null,null,167,"",null,null,{"$f":"IF(HO52=\"\", 0, HO52 - IF(HO51=\"\", LOOKUP(2, 1/(HO$17:HO50<>\"\"), HO$17:HO50), HO51))","v":0},null,null,null,null,167,"",null,null,{"$f":"IF(HX52=\"\", 0, HX52 - IF(HX51=\"\", LOOKUP(2, 1/(HX$17:HX50<>\"\"), HX$17:HX50), HX51))","v":0},null,null,null,null,167,"",null,null,{"$f":"IF(IG52=\"\", 0, IG52 - IF(IG51=\"\", LOOKUP(2, 1/(IG$17:IG50<>\"\"), IG$17:IG50), IG51))","v":0},null,null,null,null,167,"",null,null,{"$f":"IF(IP52=\"\", 0, IP52 - IF(IP51=\"\", LOOKUP(2, 1/(IP$17:IP50<>\"\"), IP$17:IP50), IP51))","v":0},null,null,null,null,167,"",null,null,{"$f":"IF(IY52=\"\", 0, IY52 - IF(IY51=\"\", LOOKUP(2, 1/(IY$17:IY50<>\"\"), IY$17:IY50), IY51))","v":0},null,null,null,null,167,"",null,null,{"$f":"IF(JH52=\"\", 0, JH52 - IF(JH51=\"\", LOOKUP(2, 1/(JH$17:JH50<>\"\"), JH$17:JH50), JH51))","v":0},null,null,null,null,167,"",null,null,{"$f":"IF(JQ52=\"\", 0, JQ52 - IF(JQ51=\"\", LOOKUP(2, 1/(JQ$17:JQ50<>\"\"), JQ$17:JQ50), JQ51))","v":0},null,null,null,null,167,"",null,null,{"$f":"IF(JZ52=\"\", 0, JZ52 - IF(JZ51=\"\", LOOKUP(2, 1/(JZ$17:JZ50<>\"\"), JZ$17:JZ50), JZ51))","v":0},null,null,null,null,167,"",null,null,{"$f":"IF(KI52=\"\", 0, KI52 - IF(KI51=\"\", LOOKUP(2, 1/(KI$17:KI50<>\"\"), KI$17:KI50), KI51))","v":0},null,null,null,null,167,"",null,null,{"$f":"IF(KR52=\"\", 0, KR52 - IF(KR51=\"\", LOOKUP(2, 1/(KR$17:KR50<>\"\"), KR$17:KR50), KR51))","v":0},null,null,null,null,167,"",null,null,{"$f":"IF(LA52=\"\", 0, LA52 - IF(LA51=\"\", LOOKUP(2, 1/(LA$17:LA50<>\"\"), LA$17:LA50), LA51))","v":0},null,null,null,null,167,"",null,null,{"$f":"IF(LJ52=\"\", 0, LJ52 - IF(LJ51=\"\", LOOKUP(2, 1/(LJ$17:LJ50<>\"\"), LJ$17:LJ50), LJ51))","v":0},null,null,null,null,167,"",null,null,{"$f":"IF(LS52=\"\", 0, LS52 - IF(LS51=\"\", LOOKUP(2, 1/(LS$17:LS50<>\"\"), LS$17:LS50), LS51))","v":0},null,null,null,null,167,"",null,null,{"$f":"IF(MB52=\"\", 0, MB52 - IF(MB51=\"\", LOOKUP(2, 1/(MB$17:MB50<>\"\"), MB$17:MB50), MB51))","v":0},null,null,null,null,167,"",null,null,{"$f":"IF(MK52=\"\", 0, MK52 - IF(MK51=\"\", LOOKUP(2, 1/(MK$17:MK50<>\"\"), MK$17:MK50), MK51))","v":0},null,null,null,null,167,"",null,null,{"$f":"IF(MT52=\"\", 0, MT52 - IF(MT51=\"\", LOOKUP(2, 1/(MT$17:MT50<>\"\"), MT$17:MT50), MT51))","v":0},null,null,167,"",null,null,{"$f":"IF(NA52=\"\", 0, NA52 - IF(NA51=\"\", LOOKUP(2, 1/(NA$17:NA50<>\"\"), NA$17:NA50), NA51))","v":0},null,null,null,null,167,"",null,null,{"$f":"IF(NJ52=\"\", 0, NJ52 - IF(NJ51=\"\", LOOKUP(2, 1/(NJ$17:NJ50<>\"\"), NJ$17:NJ50), NJ51))","v":0},null,null,null,null,167,"",null,null,{"$f":"IF(NS52=\"\", 0, NS52 - IF(NS51=\"\", LOOKUP(2, 1/(NS$17:NS50<>\"\"), NS$17:NS50), NS51))","v":0},null,null,null,null,167,"",null,null,{"$f":"IF(OB52=\"\", 0, OB52 - IF(OB51=\"\", LOOKUP(2, 1/(OB$17:OB50<>\"\"), OB$17:OB50), OB51))","v":0},null,null,null,null,167,"",null,null,{"$f":"IF(OK52=\"\", 0, OK52 - IF(OK51=\"\", LOOKUP(2, 1/(OK$17:OK50<>\"\"), OK$17:OK50), OK51))","v":0},null,null,null,null,167,"",null,null,{"$f":"IF(OT52=\"\", 0, OT52 - IF(OT51=\"\", LOOKUP(2, 1/(OT$17:OT50<>\"\"), OT$17:OT50), OT51))","v":0},null,null,null,null,167,"",null,null,{"$f":"IF(PC52=\"\", 0, PC52 - IF(PC51=\"\", LOOKUP(2, 1/(PC$17:PC50<>\"\"), PC$17:PC50), PC51))","v":0},null,null,null,null,167,"",null,null,{"$f":"IF(PL52=\"\", 0, PL52 - IF(PL51=\"\", LOOKUP(2, 1/(PL$17:PL50<>\"\"), PL$17:PL50), PL51))","v":0},null,null,null,null,167,"",null,null,{"$f":"IF(PU52=\"\", 0, PU52 - IF(PU51=\"\", LOOKUP(2, 1/(PU$17:PU50<>\"\"), PU$17:PU50), PU51))","v":0},null,null,null,null,167,"",null,null,{"$f":"IF(QD52=\"\", 0, QD52 - IF(QD51=\"\", LOOKUP(2, 1/(QD$17:QD50<>\"\"), QD$17:QD50), QD51))","v":0}]
[null,null,null,166,"",null,null,{"$f":"IF(G53=\"\", 0, G53 - IF(G52=\"\", LOOKUP(2, 1/(G$17:G51<>\"\"), G$17:G51), G52))","v":0},null,null,null,null,166,"",null,null,{"$f":"IF(P53=\"\", 0, P53 - IF(P52=\"\", LOOKUP(2, 1/(P$17:P51<>\"\"), P$17:P51), P52))","v":0},null,null,null,null,166,"",null,null,{"$f":"IF(Y53=\"\", 0, Y53 - IF(Y52=\"\", LOOKUP(2, 1/(Y$17:Y51<>\"\"), Y$17:Y51), Y52))","v":0},null,null,null,null,166,"",null,null,{"$f":"IF(AH53=\"\", 0, AH53 - IF(AH52=\"\", LOOKUP(2, 1/(AH$17:AH51<>\"\"), AH$17:AH51), AH52))","v":0},null,null,null,null,166,"",null,null,{"$f":"IF(AQ53=\"\", 0, AQ53 - IF(AQ52=\"\", LOOKUP(2, 1/(AQ$17:AQ51<>\"\"), AQ$17:AQ51), AQ52))","v":0},null,null,null,null,166,"",null,null,{"$f":"IF(AZ53=\"\", 0, AZ53 - IF(AZ52=\"\", LOOKUP(2, 1/(AZ$17:AZ51<>\"\"), AZ$17:AZ51), AZ52))","v":0},null,null,null,null,166,"",null,null,{"$f":"IF(BI53=\"\", 0, BI53 - IF(BI52=\"\", LOOKUP(2, 1/(BI$17:BI51<>\"\"), BI$17:BI51), BI52))","v":0},null,null,null,null,166,"",null,null,{"$f":"IF(BR53=\"\", 0, BR53 - IF(BR52=\"\", LOOKUP(2, 1/(BR$17:BR51<>\"\"), BR$17:BR51), BR52))","v":0},null,null,null,null,166,"",null,null,{"$f":"IF(CA53=\"\", 0, CA53 - IF(CA52=\"\", LOOKUP(2, 1/(CA$17:CA51<>\"\"), CA$17:CA51), CA52))","v":0},null,null,null,null,166,"",null,null,{"$f":"IF(CJ53=\"\", 0, CJ53 - IF(CJ52=\"\", LOOKUP(2, 1/(CJ$17:CJ51<>\"\"), CJ$17:CJ51), CJ52))","v":0},null,null,null,null,166,"",null,null,{"$f":"IF(CS53=\"\", 0, CS53 - IF(CS52=\"\", LOOKUP(2, 1/(CS$17:CS51<>\"\"), CS$17:CS51), CS52))","v":0},null,null,null,null,166,"",null,null,{"$f":"IF(DB53=\"\", 0, DB53 - IF(DB52=\"\", LOOKUP(2, 1/(DB$17:DB51<>\"\"), DB$17:DB51), DB52))","v":0},null,null,null,null,166,"",null,null,{"$f":"IF(DK53=\"\", 0, DK53 - IF(DK52=\"\", LOOKUP(2, 1/(DK$17:DK51<>\"\"), DK$17:DK51), DK52))","v":0},null,null,null,null,166,"",null,null,{"$f":"IF(DT53=\"\", 0, DT53 - IF(DT52=\"\", LOOKUP(2, 1/(DT$17:DT51<>\"\"), DT$17:DT51), DT52))","v":0},null,null,null,null,166,"",null,null,{"$f":"IF(EC53=\"\", 0, EC53 - IF(EC52=\"\", LOOKUP(2, 1/(EC$17:EC51<>\"\"), EC$17:EC51), EC52))","v":0},null,null,null,null,166,"",null,null,{"$f":"IF(EL53=\"\", 0, EL53 - IF(EL52=\"\", LOOKUP(2, 1/(EL$17:EL51<>\"\"), EL$17:EL51), EL52))","v":0},null,null,null,null,166,"",null,null,{"$f":"IF(EU53=\"\", 0, EU53 - IF(EU52=\"\", LOOKUP(2, 1/(EU$17:EU51<>\"\"), EU$17:EU51), EU52))","v":0},null,null,null,null,166,"",null,null,{"$f":"IF(FD53=\"\", 0, FD53 - IF(FD52=\"\", LOOKUP(2, 1/(FD$17:FD51<>\"\"), FD$17:FD51), FD52))","v":0},null,null,null,null,166,"",null,null,{"$f":"IF(FM53=\"\", 0, FM53 - IF(FM52=\"\", LOOKUP(2, 1/(FM$17:FM51<>\"\"), FM$17:FM51), FM52))","v":0},null,null,null,null,166,"",null,null,{"$f":"IF(FV53=\"\", 0, FV53 - IF(FV52=\"\", LOOKUP(2, 1/(FV$17:FV51<>\"\"), FV$17:FV51), FV52))","v":0},null,null,null,null,166,"",null,null,{"$f":"IF(GE53=\"\", 0, GE53 - IF(GE52=\"\", LOOKUP(2, 1/(GE$17:GE51<>\"\"), GE$17:GE51), GE52))","v":0},null,null,null,null,166,"",null,null,{"$f":"IF(GN53=\"\", 0, GN53 - IF(GN52=\"\", LOOKUP(2, 1/(GN$17:GN51<>\"\"), GN$17:GN51), GN52))","v":0},null,null,null,null,166,"",null,null,{"$f":"IF(GW53=\"\", 0, GW53 - IF(GW52=\"\", LOOKUP(2, 1/(GW$17:GW51<>\"\"), GW$17:GW51), GW52))","v":0},null,null,null,null,166,"",null,null,{"$f":"IF(HF53=\"\", 0, HF53 - IF(HF52=\"\", LOOKUP(2, 1/(HF$17:HF51<>\"\"), HF$17:HF51), HF52))","v":0},null,null,null,null,166,"",null,null,{"$f":"IF(HO53=\"\", 0, HO53 - IF(HO52=\"\", LOOKUP(2, 1/(HO$17:HO51<>\"\"), HO$17:HO51), HO52))","v":0},null,null,null,null,166,"",null,null,{"$f":"IF(HX53=\"\", 0, HX53 - IF(HX52=\"\", LOOKUP(2, 1/(HX$17:HX51<>\"\"), HX$17:HX51), HX52))","v":0},null,null,null,null,166,"",null,null,{"$f":"IF(IG53=\"\", 0, IG53 - IF(IG52=\"\", LOOKUP(2, 1/(IG$17:IG51<>\"\"), IG$17:IG51), IG52))","v":0},null,null,null,null,166,"",null,null,{"$f":"IF(IP53=\"\", 0, IP53 - IF(IP52=\"\", LOOKUP(2, 1/(IP$17:IP51<>\"\"), IP$17:IP51), IP52))","v":0},null,null,null,null,166,"",null,null,{"$f":"IF(IY53=\"\", 0, IY53 - IF(IY52=\"\", LOOKUP(2, 1/(IY$17:IY51<>\"\"), IY$17:IY51), IY52))","v":0},null,null,null,null,166,"",null,null,{"$f":"IF(JH53=\"\", 0, JH53 - IF(JH52=\"\", LOOKUP(2, 1/(JH$17:JH51<>\"\"), JH$17:JH51), JH52))","v":0},null,null,null,null,166,"",null,null,{"$f":"IF(JQ53=\"\", 0, JQ53 - IF(JQ52=\"\", LOOKUP(2, 1/(JQ$17:JQ51<>\"\"), JQ$17:JQ51), JQ52))","v":0},null,null,null,null,166,"",null,null,{"$f":"IF(JZ53=\"\", 0, JZ53 - IF(JZ52=\"\", LOOKUP(2, 1/(JZ$17:JZ51<>\"\"), JZ$17:JZ51), JZ52))","v":0},null,null,null,null,166,"",null,null,{"$f":"IF(KI53=\"\", 0, KI53 - IF(KI52=\"\", LOOKUP(2, 1/(KI$17:KI51<>\"\"), KI$17:KI51), KI52))","v":0},null,null,null,null,166,"",null,null,{"$f":"IF(KR53=\"\", 0, KR53 - IF(KR52=\"\", LOOKUP(2, 1/(KR$17:KR51<>\"\"), KR$17:KR51), KR52))","v":0},null,null,null,null,166,"",null,null,{"$f":"IF(LA53=\"\", 0, LA53 - IF(LA52=\"\", LOOKUP(2, 1/(LA$17:LA51<>\"\"), LA$17:LA51), LA52))","v":0},null,null,null,null,166,"",null,null,{"$f":"IF(LJ53=\"\", 0, LJ53 - IF(LJ52=\"\", LOOKUP(2, 1/(LJ$17:LJ51<>\"\"), LJ$17:LJ51), LJ52))","v":0},null,null,null,null,166,"",null,null,{"$f":"IF(LS53=\"\", 0, LS53 - IF(LS52=\"\", LOOKUP(2, 1/(LS$17:LS51<>\"\"), LS$17:LS51), LS52))","v":0},null,null,null,null,166,"",null,null,{"$f":"IF(MB53=\"\", 0, MB53 - IF(MB52=\"\", LOOKUP(2, 1/(MB$17:MB51<>\"\"), MB$17:MB51), MB52))","v":0},null,null,null,null,166,"",null,null,{"$f":"IF(MK53=\"\", 0, MK53 - IF(MK52=\"\", LOOKUP(2, 1/(MK$17:MK51<>\"\"), MK$17:MK51), MK52))","v":0},null,null,null,null,166,"",null,null,{"$f":"IF(MT53=\"\", 0, MT53 - IF(MT52=\"\", LOOKUP(2, 1/(MT$17:MT51<>\"\"), MT$17:MT51), MT52))","v":0},null,null,166,"",null,null,{"$f":"IF(NA53=\"\", 0, NA53 - IF(NA52=\"\", LOOKUP(2, 1/(NA$17:NA51<>\"\"), NA$17:NA51), NA52))","v":0},null,null,null,null,166,"",null,null,{"$f":"IF(NJ53=\"\", 0, NJ53 - IF(NJ52=\"\", LOOKUP(2, 1/(NJ$17:NJ51<>\"\"), NJ$17:NJ51), NJ52))","v":0},null,null,null,null,166,"",null,null,{"$f":"IF(NS53=\"\", 0, NS53 - IF(NS52=\"\", LOOKUP(2, 1/(NS$17:NS51<>\"\"), NS$17:NS51), NS52))","v":0},null,null,null,null,166,"",null,null,{"$f":"IF(OB53=\"\", 0, OB53 - IF(OB52=\"\", LOOKUP(2, 1/(OB$17:OB51<>\"\"), OB$17:OB51), OB52))","v":0},null,null,null,null,166,"",null,null,{"$f":"IF(OK53=\"\", 0, OK53 - IF(OK52=\"\", LOOKUP(2, 1/(OK$17:OK51<>\"\"), OK$17:OK51), OK52))","v":0},null,null,null,null,166,"",null,null,{"$f":"IF(OT53=\"\", 0, OT53 - IF(OT52=\"\", LOOKUP(2, 1/(OT$17:OT51<>\"\"), OT$17:OT51), OT52))","v":0},null,null,null,null,166,"",null,null,{"$f":"IF(PC53=\"\", 0, PC53 - IF(PC52=\"\", LOOKUP(2, 1/(PC$17:PC51<>\"\"), PC$17:PC51), PC52))","v":0},null,null,null,null,166,"",null,null,{"$f":"IF(PL53=\"\", 0, PL53 - IF(PL52=\"\", LOOKUP(2, 1/(PL$17:PL51<>\"\"), PL$17:PL51), PL52))","v":0},null,null,null,null,166,"",null,null,{"$f":"IF(PU53=\"\", 0, PU53 - IF(PU52=\"\", LOOKUP(2, 1/(PU$17:PU51<>\"\"), PU$17:PU51), PU52))","v":0},null,null,null,null,166,"",null,null,{"$f":"IF(QD53=\"\", 0, QD53 - IF(QD52=\"\", LOOKUP(2, 1/(QD$17:QD51<>\"\"), QD$17:QD51), QD52))","v":0}]
[null,null,null,165,"",null,null,{"$f":"IF(G54=\"\", 0, G54 - IF(G53=\"\", LOOKUP(2, 1/(G$17:G52<>\"\"), G$17:G52), G53))","v":0},null,null,null,null,165,"",null,null,{"$f":"IF(P54=\"\", 0, P54 - IF(P53=\"\", LOOKUP(2, 1/(P$17:P52<>\"\"), P$17:P52), P53))","v":0},null,null,null,null,165,"",null,null,{"$f":"IF(Y54=\"\", 0, Y54 - IF(Y53=\"\", LOOKUP(2, 1/(Y$17:Y52<>\"\"), Y$17:Y52), Y53))","v":0},null,null,null,null,165,"",null,null,{"$f":"IF(AH54=\"\", 0, AH54 - IF(AH53=\"\", LOOKUP(2, 1/(AH$17:AH52<>\"\"), AH$17:AH52), AH53))","v":0},null,null,null,null,165,"",null,null,{"$f":"IF(AQ54=\"\", 0, AQ54 - IF(AQ53=\"\", LOOKUP(2, 1/(AQ$17:AQ52<>\"\"), AQ$17:AQ52), AQ53))","v":0},null,null,null,null,165,"",null,null,{"$f":"IF(AZ54=\"\", 0, AZ54 - IF(AZ53=\"\", LOOKUP(2, 1/(AZ$17:AZ52<>\"\"), AZ$17:AZ52), AZ53))","v":0},null,null,null,null,165,"",null,null,{"$f":"IF(BI54=\"\", 0, BI54 - IF(BI53=\"\", LOOKUP(2, 1/(BI$17:BI52<>\"\"), BI$17:BI52), BI53))","v":0},null,null,null,null,165,"",null,null,{"$f":"IF(BR54=\"\", 0, BR54 - IF(BR53=\"\", LOOKUP(2, 1/(BR$17:BR52<>\"\"), BR$17:BR52), BR53))","v":0},null,null,null,null,165,"",null,null,{"$f":"IF(CA54=\"\", 0, CA54 - IF(CA53=\"\", LOOKUP(2, 1/(CA$17:CA52<>\"\"), CA$17:CA52), CA53))","v":0},null,null,null,null,165,"",null,null,{"$f":"IF(CJ54=\"\", 0, CJ54 - IF(CJ53=\"\", LOOKUP(2, 1/(CJ$17:CJ52<>\"\"), CJ$17:CJ52), CJ53))","v":0},null,null,null,null,165,"",null,null,{"$f":"IF(CS54=\"\", 0, CS54 - IF(CS53=\"\", LOOKUP(2, 1/(CS$17:CS52<>\"\"), CS$17:CS52), CS53))","v":0},null,null,null,null,165,"",null,null,{"$f":"IF(DB54=\"\", 0, DB54 - IF(DB53=\"\", LOOKUP(2, 1/(DB$17:DB52<>\"\"), DB$17:DB52), DB53))","v":0},null,null,null,null,165,"",null,null,{"$f":"IF(DK54=\"\", 0, DK54 - IF(DK53=\"\", LOOKUP(2, 1/(DK$17:DK52<>\"\"), DK$17:DK52), DK53))","v":0},null,null,null,null,165,"",null,null,{"$f":"IF(DT54=\"\", 0, DT54 - IF(DT53=\"\", LOOKUP(2, 1/(DT$17:DT52<>\"\"), DT$17:DT52), DT53))","v":0},null,null,null,null,165,"",null,null,{"$f":"IF(EC54=\"\", 0, EC54 - IF(EC53=\"\", LOOKUP(2, 1/(EC$17:EC52<>\"\"), EC$17:EC52), EC53))","v":0},null,null,null,null,165,"",null,null,{"$f":"IF(EL54=\"\", 0, EL54 - IF(EL53=\"\", LOOKUP(2, 1/(EL$17:EL52<>\"\"), EL$17:EL52), EL53))","v":0},null,null,null,null,165,"",null,null,{"$f":"IF(EU54=\"\", 0, EU54 - IF(EU53=\"\", LOOKUP(2, 1/(EU$17:EU52<>\"\"), EU$17:EU52), EU53))","v":0},null,null,null,null,165,"",null,null,{"$f":"IF(FD54=\"\", 0, FD54 - IF(FD53=\"\", LOOKUP(2, 1/(FD$17:FD52<>\"\"), FD$17:FD52), FD53))","v":0},null,null,null,null,165,"",null,null,{"$f":"IF(FM54=\"\", 0, FM54 - IF(FM53=\"\", LOOKUP(2, 1/(FM$17:FM52<>\"\"), FM$17:FM52), FM53))","v":0},null,null,null,null,165,"",null,null,{"$f":"IF(FV54=\"\", 0, FV54 - IF(FV53=\"\", LOOKUP(2, 1/(FV$17:FV52<>\"\"), FV$17:FV52), FV53))","v":0},null,null,null,null,165,"",null,null,{"$f":"IF(GE54=\"\", 0, GE54 - IF(GE53=\"\", LOOKUP(2, 1/(GE$17:GE52<>\"\"), GE$17:GE52), GE53))","v":0},null,null,null,null,165,"",null,null,{"$f":"IF(GN54=\"\", 0, GN54 - IF(GN53=\"\", LOOKUP(2, 1/(GN$17:GN52<>\"\"), GN$17:GN52), GN53))","v":0},null,null,null,null,165,"",null,null,{"$f":"IF(GW54=\"\", 0, GW54 - IF(GW53=\"\", LOOKUP(2, 1/(GW$17:GW52<>\"\"), GW$17:GW52), GW53))","v":0},null,null,null,null,165,"",null,null,{"$f":"IF(HF54=\"\", 0, HF54 - IF(HF53=\"\", LOOKUP(2, 1/(HF$17:HF52<>\"\"), HF$17:HF52), HF53))","v":0},null,null,null,null,165,"",null,null,{"$f":"IF(HO54=\"\", 0, HO54 - IF(HO53=\"\", LOOKUP(2, 1/(HO$17:HO52<>\"\"), HO$17:HO52), HO53))","v":0},null,null,null,null,165,"",null,null,{"$f":"IF(HX54=\"\", 0, HX54 - IF(HX53=\"\", LOOKUP(2, 1/(HX$17:HX52<>\"\"), HX$17:HX52), HX53))","v":0},null,null,null,null,165,"",null,null,{"$f":"IF(IG54=\"\", 0, IG54 - IF(IG53=\"\", LOOKUP(2, 1/(IG$17:IG52<>\"\"), IG$17:IG52), IG53))","v":0},null,null,null,null,165,"",null,null,{"$f":"IF(IP54=\"\", 0, IP54 - IF(IP53=\"\", LOOKUP(2, 1/(IP$17:IP52<>\"\"), IP$17:IP52), IP53))","v":0},null,null,null,null,165,"",null,null,{"$f":"IF(IY54=\"\", 0, IY54 - IF(IY53=\"\", LOOKUP(2, 1/(IY$17:IY52<>\"\"), IY$17:IY52), IY53))","v":0},null,null,null,null,165,"",null,null,{"$f":"IF(JH54=\"\", 0, JH54 - IF(JH53=\"\", LOOKUP(2, 1/(JH$17:JH52<>\"\"), JH$17:JH52), JH53))","v":0},null,null,null,null,165,"",null,null,{"$f":"IF(JQ54=\"\", 0, JQ54 - IF(JQ53=\"\", LOOKUP(2, 1/(JQ$17:JQ52<>\"\"), JQ$17:JQ52), JQ53))","v":0},null,null,null,null,165,"",null,null,{"$f":"IF(JZ54=\"\", 0, JZ54 - IF(JZ53=\"\", LOOKUP(2, 1/(JZ$17:JZ52<>\"\"), JZ$17:JZ52), JZ53))","v":0},null,null,null,null,165,"",null,null,{"$f":"IF(KI54=\"\", 0, KI54 - IF(KI53=\"\", LOOKUP(2, 1/(KI$17:KI52<>\"\"), KI$17:KI52), KI53))","v":0},null,null,null,null,165,"",null,null,{"$f":"IF(KR54=\"\", 0, KR54 - IF(KR53=\"\", LOOKUP(2, 1/(KR$17:KR52<>\"\"), KR$17:KR52), KR53))","v":0},null,null,null,null,165,"",null,null,{"$f":"IF(LA54=\"\", 0, LA54 - IF(LA53=\"\", LOOKUP(2, 1/(LA$17:LA52<>\"\"), LA$17:LA52), LA53))","v":0},null,null,null,null,165,"",null,null,{"$f":"IF(LJ54=\"\", 0, LJ54 - IF(LJ53=\"\", LOOKUP(2, 1/(LJ$17:LJ52<>\"\"), LJ$17:LJ52), LJ53))","v":0},null,null,null,null,165,"",null,null,{"$f":"IF(LS54=\"\", 0, LS54 - IF(LS53=\"\", LOOKUP(2, 1/(LS$17:LS52<>\"\"), LS$17:LS52), LS53))","v":0},null,null,null,null,165,"",null,null,{"$f":"IF(MB54=\"\", 0, MB54 - IF(MB53=\"\", LOOKUP(2, 1/(MB$17:MB52<>\"\"), MB$17:MB52), MB53))","v":0},null,null,null,null,165,"",null,null,{"$f":"IF(MK54=\"\", 0, MK54 - IF(MK53=\"\", LOOKUP(2, 1/(MK$17:MK52<>\"\"), MK$17:MK52), MK53))","v":0},null,null,null,null,165,"",null,null,{"$f":"IF(MT54=\"\", 0, MT54 - IF(MT53=\"\", LOOKUP(2, 1/(MT$17:MT52<>\"\"), MT$17:MT52), MT53))","v":0},null,null,165,"",null,null,{"$f":"IF(NA54=\"\", 0, NA54 - IF(NA53=\"\", LOOKUP(2, 1/(NA$17:NA52<>\"\"), NA$17:NA52), NA53))","v":0},null,null,null,null,165,"",null,null,{"$f":"IF(NJ54=\"\", 0, NJ54 - IF(NJ53=\"\", LOOKUP(2, 1/(NJ$17:NJ52<>\"\"), NJ$17:NJ52), NJ53))","v":0},null,null,null,null,165,"",null,null,{"$f":"IF(NS54=\"\", 0, NS54 - IF(NS53=\"\", LOOKUP(2, 1/(NS$17:NS52<>\"\"), NS$17:NS52), NS53))","v":0},null,null,null,null,165,"",null,null,{"$f":"IF(OB54=\"\", 0, OB54 - IF(OB53=\"\", LOOKUP(2, 1/(OB$17:OB52<>\"\"), OB$17:OB52), OB53))","v":0},null,null,null,null,165,"",null,null,{"$f":"IF(OK54=\"\", 0, OK54 - IF(OK53=\"\", LOOKUP(2, 1/(OK$17:OK52<>\"\"), OK$17:OK52), OK53))","v":0},null,null,null,null,165,"",null,null,{"$f":"IF(OT54=\"\", 0, OT54 - IF(OT53=\"\", LOOKUP(2, 1/(OT$17:OT52<>\"\"), OT$17:OT52), OT53))","v":0},null,null,null,null,165,"",null,null,{"$f":"IF(PC54=\"\", 0, PC54 - IF(PC53=\"\", LOOKUP(2, 1/(PC$17:PC52<>\"\"), PC$17:PC52), PC53))","v":0},null,null,null,null,165,"",null,null,{"$f":"IF(PL54=\"\", 0, PL54 - IF(PL53=\"\", LOOKUP(2, 1/(PL$17:PL52<>\"\"), PL$17:PL52), PL53))","v":0},null,null,null,null,165,"",null,null,{"$f":"IF(PU54=\"\", 0, PU54 - IF(PU53=\"\", LOOKUP(2, 1/(PU$17:PU52<>\"\"), PU$17:PU52), PU53))","v":0},null,null,null,null,165,"",null,null,{"$f":"IF(QD54=\"\", 0, QD54 - IF(QD53=\"\", LOOKUP(2, 1/(QD$17:QD52<>\"\"), QD$17:QD52), QD53))","v":0}]
[null,null,null,164,"",null,null,{"$f":"IF(G55=\"\", 0, G55 - IF(G54=\"\", LOOKUP(2, 1/(G$17:G53<>\"\"), G$17:G53), G54))","v":0},null,null,null,null,164,"",null,null,{"$f":"IF(P55=\"\", 0, P55 - IF(P54=\"\", LOOKUP(2, 1/(P$17:P53<>\"\"), P$17:P53), P54))","v":0},null,null,null,null,164,"",null,null,{"$f":"IF(Y55=\"\", 0, Y55 - IF(Y54=\"\", LOOKUP(2, 1/(Y$17:Y53<>\"\"), Y$17:Y53), Y54))","v":0},null,null,null,null,164,"",null,null,{"$f":"IF(AH55=\"\", 0, AH55 - IF(AH54=\"\", LOOKUP(2, 1/(AH$17:AH53<>\"\"), AH$17:AH53), AH54))","v":0},null,null,null,null,164,"",null,null,{"$f":"IF(AQ55=\"\", 0, AQ55 - IF(AQ54=\"\", LOOKUP(2, 1/(AQ$17:AQ53<>\"\"), AQ$17:AQ53), AQ54))","v":0},null,null,null,null,164,"",null,null,{"$f":"IF(AZ55=\"\", 0, AZ55 - IF(AZ54=\"\", LOOKUP(2, 1/(AZ$17:AZ53<>\"\"), AZ$17:AZ53), AZ54))","v":0},null,null,null,null,164,"",null,null,{"$f":"IF(BI55=\"\", 0, BI55 - IF(BI54=\"\", LOOKUP(2, 1/(BI$17:BI53<>\"\"), BI$17:BI53), BI54))","v":0},null,null,null,null,164,"",null,null,{"$f":"IF(BR55=\"\", 0, BR55 - IF(BR54=\"\", LOOKUP(2, 1/(BR$17:BR53<>\"\"), BR$17:BR53), BR54))","v":0},null,null,null,null,164,"",null,null,{"$f":"IF(CA55=\"\", 0, CA55 - IF(CA54=\"\", LOOKUP(2, 1/(CA$17:CA53<>\"\"), CA$17:CA53), CA54))","v":0},null,null,null,null,164,"",null,null,{"$f":"IF(CJ55=\"\", 0, CJ55 - IF(CJ54=\"\", LOOKUP(2, 1/(CJ$17:CJ53<>\"\"), CJ$17:CJ53), CJ54))","v":0},null,null,null,null,164,"",null,null,{"$f":"IF(CS55=\"\", 0, CS55 - IF(CS54=\"\", LOOKUP(2, 1/(CS$17:CS53<>\"\"), CS$17:CS53), CS54))","v":0},null,null,null,null,164,"",null,null,{"$f":"IF(DB55=\"\", 0, DB55 - IF(DB54=\"\", LOOKUP(2, 1/(DB$17:DB53<>\"\"), DB$17:DB53), DB54))","v":0},null,null,null,null,164,"",null,null,{"$f":"IF(DK55=\"\", 0, DK55 - IF(DK54=\"\", LOOKUP(2, 1/(DK$17:DK53<>\"\"), DK$17:DK53), DK54))","v":0},null,null,null,null,164,"",null,null,{"$f":"IF(DT55=\"\", 0, DT55 - IF(DT54=\"\", LOOKUP(2, 1/(DT$17:DT53<>\"\"), DT$17:DT53), DT54))","v":0},null,null,null,null,164,"",null,null,{"$f":"IF(EC55=\"\", 0, EC55 - IF(EC54=\"\", LOOKUP(2, 1/(EC$17:EC53<>\"\"), EC$17:EC53), EC54))","v":0},null,null,null,null,164,"",null,null,{"$f":"IF(EL55=\"\", 0, EL55 - IF(EL54=\"\", LOOKUP(2, 1/(EL$17:EL53<>\"\"), EL$17:EL53), EL54))","v":0},null,null,null,null,164,"",null,null,{"$f":"IF(EU55=\"\", 0, EU55 - IF(EU54=\"\", LOOKUP(2, 1/(EU$17:EU53<>\"\"), EU$17:EU53), EU54))","v":0},null,null,null,null,164,"",null,null,{"$f":"IF(FD55=\"\", 0, FD55 - IF(FD54=\"\", LOOKUP(2, 1/(FD$17:FD53<>\"\"), FD$17:FD53), FD54))","v":0},null,null,null,null,164,"",null,null,{"$f":"IF(FM55=\"\", 0, FM55 - IF(FM54=\"\", LOOKUP(2, 1/(FM$17:FM53<>\"\"), FM$17:FM53), FM54))","v":0},null,null,null,null,164,"",null,null,{"$f":"IF(FV55=\"\", 0, FV55 - IF(FV54=\"\", LOOKUP(2, 1/(FV$17:FV53<>\"\"), FV$17:FV53), FV54))","v":0},null,null,null,null,164,"",null,null,{"$f":"IF(GE55=\"\", 0, GE55 - IF(GE54=\"\", LOOKUP(2, 1/(GE$17:GE53<>\"\"), GE$17:GE53), GE54))","v":0},null,null,null,null,164,"",null,null,{"$f":"IF(GN55=\"\", 0, GN55 - IF(GN54=\"\", LOOKUP(2, 1/(GN$17:GN53<>\"\"), GN$17:GN53), GN54))","v":0},null,null,null,null,164,"",null,null,{"$f":"IF(GW55=\"\", 0, GW55 - IF(GW54=\"\", LOOKUP(2, 1/(GW$17:GW53<>\"\"), GW$17:GW53), GW54))","v":0},null,null,null,null,164,"",null,null,{"$f":"IF(HF55=\"\", 0, HF55 - IF(HF54=\"\", LOOKUP(2, 1/(HF$17:HF53<>\"\"), HF$17:HF53), HF54))","v":0},null,null,null,null,164,"",null,null,{"$f":"IF(HO55=\"\", 0, HO55 - IF(HO54=\"\", LOOKUP(2, 1/(HO$17:HO53<>\"\"), HO$17:HO53), HO54))","v":0},null,null,null,null,164,"",null,null,{"$f":"IF(HX55=\"\", 0, HX55 - IF(HX54=\"\", LOOKUP(2, 1/(HX$17:HX53<>\"\"), HX$17:HX53), HX54))","v":0},null,null,null,null,164,"",null,null,{"$f":"IF(IG55=\"\", 0, IG55 - IF(IG54=\"\", LOOKUP(2, 1/(IG$17:IG53<>\"\"), IG$17:IG53), IG54))","v":0},null,null,null,null,164,"",null,null,{"$f":"IF(IP55=\"\", 0, IP55 - IF(IP54=\"\", LOOKUP(2, 1/(IP$17:IP53<>\"\"), IP$17:IP53), IP54))","v":0},null,null,null,null,164,"",null,null,{"$f":"IF(IY55=\"\", 0, IY55 - IF(IY54=\"\", LOOKUP(2, 1/(IY$17:IY53<>\"\"), IY$17:IY53), IY54))","v":0},null,null,null,null,164,"",null,null,{"$f":"IF(JH55=\"\", 0, JH55 - IF(JH54=\"\", LOOKUP(2, 1/(JH$17:JH53<>\"\"), JH$17:JH53), JH54))","v":0},null,null,null,null,164,"",null,null,{"$f":"IF(JQ55=\"\", 0, JQ55 - IF(JQ54=\"\", LOOKUP(2, 1/(JQ$17:JQ53<>\"\"), JQ$17:JQ53), JQ54))","v":0},null,null,null,null,164,"",null,null,{"$f":"IF(JZ55=\"\", 0, JZ55 - IF(JZ54=\"\", LOOKUP(2, 1/(JZ$17:JZ53<>\"\"), JZ$17:JZ53), JZ54))","v":0},null,null,null,null,164,"",null,null,{"$f":"IF(KI55=\"\", 0, KI55 - IF(KI54=\"\", LOOKUP(2, 1/(KI$17:KI53<>\"\"), KI$17:KI53), KI54))","v":0},null,null,null,null,164,"",null,null,{"$f":"IF(KR55=\"\", 0, KR55 - IF(KR54=\"\", LOOKUP(2, 1/(KR$17:KR53<>\"\"), KR$17:KR53), KR54))","v":0},null,null,null,null,164,"",null,null,{"$f":"IF(LA55=\"\", 0, LA55 - IF(LA54=\"\", LOOKUP(2, 1/(LA$17:LA53<>\"\"), LA$17:LA53), LA54))","v":0},null,null,null,null,164,"",null,null,{"$f":"IF(LJ55=\"\", 0, LJ55 - IF(LJ54=\"\", LOOKUP(2, 1/(LJ$17:LJ53<>\"\"), LJ$17:LJ53), LJ54))","v":0},null,null,null,null,164,"",null,null,{"$f":"IF(LS55=\"\", 0, LS55 - IF(LS54=\"\", LOOKUP(2, 1/(LS$17:LS53<>\"\"), LS$17:LS53), LS54))","v":0},null,null,null,null,164,"",null,null,{"$f":"IF(MB55=\"\", 0, MB55 - IF(MB54=\"\", LOOKUP(2, 1/(MB$17:MB53<>\"\"), MB$17:MB53), MB54))","v":0},null,null,null,null,164,"",null,null,{"$f":"IF(MK55=\"\", 0, MK55 - IF(MK54=\"\", LOOKUP(2, 1/(MK$17:MK53<>\"\"), MK$17:MK53), MK54))","v":0},null,null,null,null,164,"",null,null,{"$f":"IF(MT55=\"\", 0, MT55 - IF(MT54=\"\", LOOKUP(2, 1/(MT$17:MT53<>\"\"), MT$17:MT53), MT54))","v":0},null,null,164,"",null,null,{"$f":"IF(NA55=\"\", 0, NA55 - IF(NA54=\"\", LOOKUP(2, 1/(NA$17:NA53<>\"\"), NA$17:NA53), NA54))","v":0},null,null,null,null,164,"",null,null,{"$f":"IF(NJ55=\"\", 0, NJ55 - IF(NJ54=\"\", LOOKUP(2, 1/(NJ$17:NJ53<>\"\"), NJ$17:NJ53), NJ54))","v":0},null,null,null,null,164,"",null,null,{"$f":"IF(NS55=\"\", 0, NS55 - IF(NS54=\"\", LOOKUP(2, 1/(NS$17:NS53<>\"\"), NS$17:NS53), NS54))","v":0},null,null,null,null,164,"",null,null,{"$f":"IF(OB55=\"\", 0, OB55 - IF(OB54=\"\", LOOKUP(2, 1/(OB$17:OB53<>\"\"), OB$17:OB53), OB54))","v":0},null,null,null,null,164,"",null,null,{"$f":"IF(OK55=\"\", 0, OK55 - IF(OK54=\"\", LOOKUP(2, 1/(OK$17:OK53<>\"\"), OK$17:OK53), OK54))","v":0},null,null,null,null,164,"",null,null,{"$f":"IF(OT55=\"\", 0, OT55 - IF(OT54=\"\", LOOKUP(2, 1/(OT$17:OT53<>\"\"), OT$17:OT53), OT54))","v":0},null,null,null,null,164,"",null,null,{"$f":"IF(PC55=\"\", 0, PC55 - IF(PC54=\"\", LOOKUP(2, 1/(PC$17:PC53<>\"\"), PC$17:PC53), PC54))","v":0},null,null,null,null,164,"",null,null,{"$f":"IF(PL55=\"\", 0, PL55 - IF(PL54=\"\", LOOKUP(2, 1/(PL$17:PL53<>\"\"), PL$17:PL53), PL54))","v":0},null,null,null,null,164,"",null,null,{"$f":"IF(PU55=\"\", 0, PU55 - IF(PU54=\"\", LOOKUP(2, 1/(PU$17:PU53<>\"\"), PU$17:PU53), PU54))","v":0},null,null,null,null,164,"",null,null,{"$f":"IF(QD55=\"\", 0, QD55 - IF(QD54=\"\", LOOKUP(2, 1/(QD$17:QD53<>\"\"), QD$17:QD53), QD54))","v":0}]
[null,null,null,163,"",null,null,{"$f":"IF(G56=\"\", 0, G56 - IF(G55=\"\", LOOKUP(2, 1/(G$17:G54<>\"\"), G$17:G54), G55))","v":0},null,null,null,null,163,"",null,null,{"$f":"IF(P56=\"\", 0, P56 - IF(P55=\"\", LOOKUP(2, 1/(P$17:P54<>\"\"), P$17:P54), P55))","v":0},null,null,null,null,163,"",null,null,{"$f":"IF(Y56=\"\", 0, Y56 - IF(Y55=\"\", LOOKUP(2, 1/(Y$17:Y54<>\"\"), Y$17:Y54), Y55))","v":0},null,null,null,null,163,"",null,null,{"$f":"IF(AH56=\"\", 0, AH56 - IF(AH55=\"\", LOOKUP(2, 1/(AH$17:AH54<>\"\"), AH$17:AH54), AH55))","v":0},null,null,null,null,163,"",null,null,{"$f":"IF(AQ56=\"\", 0, AQ56 - IF(AQ55=\"\", LOOKUP(2, 1/(AQ$17:AQ54<>\"\"), AQ$17:AQ54), AQ55))","v":0},null,null,null,null,163,"",null,null,{"$f":"IF(AZ56=\"\", 0, AZ56 - IF(AZ55=\"\", LOOKUP(2, 1/(AZ$17:AZ54<>\"\"), AZ$17:AZ54), AZ55))","v":0},null,null,null,null,163,"",null,null,{"$f":"IF(BI56=\"\", 0, BI56 - IF(BI55=\"\", LOOKUP(2, 1/(BI$17:BI54<>\"\"), BI$17:BI54), BI55))","v":0},null,null,null,null,163,"",null,null,{"$f":"IF(BR56=\"\", 0, BR56 - IF(BR55=\"\", LOOKUP(2, 1/(BR$17:BR54<>\"\"), BR$17:BR54), BR55))","v":0},null,null,null,null,163,"",null,null,{"$f":"IF(CA56=\"\", 0, CA56 - IF(CA55=\"\", LOOKUP(2, 1/(CA$17:CA54<>\"\"), CA$17:CA54), CA55))","v":0},null,null,null,null,163,"",null,null,{"$f":"IF(CJ56=\"\", 0, CJ56 - IF(CJ55=\"\", LOOKUP(2, 1/(CJ$17:CJ54<>\"\"), CJ$17:CJ54), CJ55))","v":0},null,null,null,null,163,"",null,null,{"$f":"IF(CS56=\"\", 0, CS56 - IF(CS55=\"\", LOOKUP(2, 1/(CS$17:CS54<>\"\"), CS$17:CS54), CS55))","v":0},null,null,null,null,163,"",null,null,{"$f":"IF(DB56=\"\", 0, DB56 - IF(DB55=\"\", LOOKUP(2, 1/(DB$17:DB54<>\"\"), DB$17:DB54), DB55))","v":0},null,null,null,null,163,"",null,null,{"$f":"IF(DK56=\"\", 0, DK56 - IF(DK55=\"\", LOOKUP(2, 1/(DK$17:DK54<>\"\"), DK$17:DK54), DK55))","v":0},null,null,null,null,163,"",null,null,{"$f":"IF(DT56=\"\", 0, DT56 - IF(DT55=\"\", LOOKUP(2, 1/(DT$17:DT54<>\"\"), DT$17:DT54), DT55))","v":0},null,null,null,null,163,"",null,null,{"$f":"IF(EC56=\"\", 0, EC56 - IF(EC55=\"\", LOOKUP(2, 1/(EC$17:EC54<>\"\"), EC$17:EC54), EC55))","v":0},null,null,null,null,163,"",null,null,{"$f":"IF(EL56=\"\", 0, EL56 - IF(EL55=\"\", LOOKUP(2, 1/(EL$17:EL54<>\"\"), EL$17:EL54), EL55))","v":0},null,null,null,null,163,"",null,null,{"$f":"IF(EU56=\"\", 0, EU56 - IF(EU55=\"\", LOOKUP(2, 1/(EU$17:EU54<>\"\"), EU$17:EU54), EU55))","v":0},null,null,null,null,163,"",null,null,{"$f":"IF(FD56=\"\", 0, FD56 - IF(FD55=\"\", LOOKUP(2, 1/(FD$17:FD54<>\"\"), FD$17:FD54), FD55))","v":0},null,null,null,null,163,"",null,null,{"$f":"IF(FM56=\"\", 0, FM56 - IF(FM55=\"\", LOOKUP(2, 1/(FM$17:FM54<>\"\"), FM$17:FM54), FM55))","v":0},null,null,null,null,163,"",null,null,{"$f":"IF(FV56=\"\", 0, FV56 - IF(FV55=\"\", LOOKUP(2, 1/(FV$17:FV54<>\"\"), FV$17:FV54), FV55))","v":0},null,null,null,null,163,"",null,null,{"$f":"IF(GE56=\"\", 0, GE56 - IF(GE55=\"\", LOOKUP(2, 1/(GE$17:GE54<>\"\"), GE$17:GE54), GE55))","v":0},null,null,null,null,163,"",null,null,{"$f":"IF(GN56=\"\", 0, GN56 - IF(GN55=\"\", LOOKUP(2, 1/(GN$17:GN54<>\"\"), GN$17:GN54), GN55))","v":0},null,null,null,null,163,"",null,null,{"$f":"IF(GW56=\"\", 0, GW56 - IF(GW55=\"\", LOOKUP(2, 1/(GW$17:GW54<>\"\"), GW$17:GW54), GW55))","v":0},null,null,null,null,163,"",null,null,{"$f":"IF(HF56=\"\", 0, HF56 - IF(HF55=\"\", LOOKUP(2, 1/(HF$17:HF54<>\"\"), HF$17:HF54), HF55))","v":0},null,null,null,null,163,"",null,null,{"$f":"IF(HO56=\"\", 0, HO56 - IF(HO55=\"\", LOOKUP(2, 1/(HO$17:HO54<>\"\"), HO$17:HO54), HO55))","v":0},null,null,null,null,163,"",null,null,{"$f":"IF(HX56=\"\", 0, HX56 - IF(HX55=\"\", LOOKUP(2, 1/(HX$17:HX54<>\"\"), HX$17:HX54), HX55))","v":0},null,null,null,null,163,"",null,null,{"$f":"IF(IG56=\"\", 0, IG56 - IF(IG55=\"\", LOOKUP(2, 1/(IG$17:IG54<>\"\"), IG$17:IG54), IG55))","v":0},null,null,null,null,163,"",null,null,{"$f":"IF(IP56=\"\", 0, IP56 - IF(IP55=\"\", LOOKUP(2, 1/(IP$17:IP54<>\"\"), IP$17:IP54), IP55))","v":0},null,null,null,null,163,"",null,null,{"$f":"IF(IY56=\"\", 0, IY56 - IF(IY55=\"\", LOOKUP(2, 1/(IY$17:IY54<>\"\"), IY$17:IY54), IY55))","v":0},null,null,null,null,163,"",null,null,{"$f":"IF(JH56=\"\", 0, JH56 - IF(JH55=\"\", LOOKUP(2, 1/(JH$17:JH54<>\"\"), JH$17:JH54), JH55))","v":0},null,null,null,null,163,"",null,null,{"$f":"IF(JQ56=\"\", 0, JQ56 - IF(JQ55=\"\", LOOKUP(2, 1/(JQ$17:JQ54<>\"\"), JQ$17:JQ54), JQ55))","v":0},null,null,null,null,163,"",null,null,{"$f":"IF(JZ56=\"\", 0, JZ56 - IF(JZ55=\"\", LOOKUP(2, 1/(JZ$17:JZ54<>\"\"), JZ$17:JZ54), JZ55))","v":0},null,null,null,null,163,"",null,null,{"$f":"IF(KI56=\"\", 0, KI56 - IF(KI55=\"\", LOOKUP(2, 1/(KI$17:KI54<>\"\"), KI$17:KI54), KI55))","v":0},null,null,null,null,163,"",null,null,{"$f":"IF(KR56=\"\", 0, KR56 - IF(KR55=\"\", LOOKUP(2, 1/(KR$17:KR54<>\"\"), KR$17:KR54), KR55))","v":0},null,null,null,null,163,"",null,null,{"$f":"IF(LA56=\"\", 0, LA56 - IF(LA55=\"\", LOOKUP(2, 1/(LA$17:LA54<>\"\"), LA$17:LA54), LA55))","v":0},null,null,null,null,163,"",null,null,{"$f":"IF(LJ56=\"\", 0, LJ56 - IF(LJ55=\"\", LOOKUP(2, 1/(LJ$17:LJ54<>\"\"), LJ$17:LJ54), LJ55))","v":0},null,null,null,null,163,"",null,null,{"$f":"IF(LS56=\"\", 0, LS56 - IF(LS55=\"\", LOOKUP(2, 1/(LS$17:LS54<>\"\"), LS$17:LS54), LS55))","v":0},null,null,null,null,163,"",null,null,{"$f":"IF(MB56=\"\", 0, MB56 - IF(MB55=\"\", LOOKUP(2, 1/(MB$17:MB54<>\"\"), MB$17:MB54), MB55))","v":0},null,null,null,null,163,"",null,null,{"$f":"IF(MK56=\"\", 0, MK56 - IF(MK55=\"\", LOOKUP(2, 1/(MK$17:MK54<>\"\"), MK$17:MK54), MK55))","v":0},null,null,null,null,163,"",null,null,{"$f":"IF(MT56=\"\", 0, MT56 - IF(MT55=\"\", LOOKUP(2, 1/(MT$17:MT54<>\"\"), MT$17:MT54), MT55))","v":0},null,null,163,"",null,null,{"$f":"IF(NA56=\"\", 0, NA56 - IF(NA55=\"\", LOOKUP(2, 1/(NA$17:NA54<>\"\"), NA$17:NA54), NA55))","v":0},null,null,null,null,163,"",null,null,{"$f":"IF(NJ56=\"\", 0, NJ56 - IF(NJ55=\"\", LOOKUP(2, 1/(NJ$17:NJ54<>\"\"), NJ$17:NJ54), NJ55))","v":0},null,null,null,null,163,"",null,null,{"$f":"IF(NS56=\"\", 0, NS56 - IF(NS55=\"\", LOOKUP(2, 1/(NS$17:NS54<>\"\"), NS$17:NS54), NS55))","v":0},null,null,null,null,163,"",null,null,{"$f":"IF(OB56=\"\", 0, OB56 - IF(OB55=\"\", LOOKUP(2, 1/(OB$17:OB54<>\"\"), OB$17:OB54), OB55))","v":0},null,null,null,null,163,"",null,null,{"$f":"IF(OK56=\"\", 0, OK56 - IF(OK55=\"\", LOOKUP(2, 1/(OK$17:OK54<>\"\"), OK$17:OK54), OK55))","v":0},null,null,null,null,163,"",null,null,{"$f":"IF(OT56=\"\", 0, OT56 - IF(OT55=\"\", LOOKUP(2, 1/(OT$17:OT54<>\"\"), OT$17:OT54), OT55))","v":0},null,null,null,null,163,"",null,null,{"$f":"IF(PC56=\"\", 0, PC56 - IF(PC55=\"\", LOOKUP(2, 1/(PC$17:PC54<>\"\"), PC$17:PC54), PC55))","v":0},null,null,null,null,163,"",null,null,{"$f":"IF(PL56=\"\", 0, PL56 - IF(PL55=\"\", LOOKUP(2, 1/(PL$17:PL54<>\"\"), PL$17:PL54), PL55))","v":0},null,null,null,null,163,"",null,null,{"$f":"IF(PU56=\"\", 0, PU56 - IF(PU55=\"\", LOOKUP(2, 1/(PU$17:PU54<>\"\"), PU$17:PU54), PU55))","v":0},null,null,null,null,163,"",null,null,{"$f":"IF(QD56=\"\", 0, QD56 - IF(QD55=\"\", LOOKUP(2, 1/(QD$17:QD54<>\"\"), QD$17:QD54), QD55))","v":0}]
[null,null,null,162,"",null,null,{"$f":"IF(G57=\"\", 0, G57 - IF(G56=\"\", LOOKUP(2, 1/(G$17:G55<>\"\"), G$17:G55), G56))","v":0},null,null,null,null,162,"",null,null,{"$f":"IF(P57=\"\", 0, P57 - IF(P56=\"\", LOOKUP(2, 1/(P$17:P55<>\"\"), P$17:P55), P56))","v":0},null,null,null,null,162,"",null,null,{"$f":"IF(Y57=\"\", 0, Y57 - IF(Y56=\"\", LOOKUP(2, 1/(Y$17:Y55<>\"\"), Y$17:Y55), Y56))","v":0},null,null,null,null,162,"",null,null,{"$f":"IF(AH57=\"\", 0, AH57 - IF(AH56=\"\", LOOKUP(2, 1/(AH$17:AH55<>\"\"), AH$17:AH55), AH56))","v":0},null,null,null,null,162,"",null,null,{"$f":"IF(AQ57=\"\", 0, AQ57 - IF(AQ56=\"\", LOOKUP(2, 1/(AQ$17:AQ55<>\"\"), AQ$17:AQ55), AQ56))","v":0},null,null,null,null,162,"",null,null,{"$f":"IF(AZ57=\"\", 0, AZ57 - IF(AZ56=\"\", LOOKUP(2, 1/(AZ$17:AZ55<>\"\"), AZ$17:AZ55), AZ56))","v":0},null,null,null,null,162,"",null,null,{"$f":"IF(BI57=\"\", 0, BI57 - IF(BI56=\"\", LOOKUP(2, 1/(BI$17:BI55<>\"\"), BI$17:BI55), BI56))","v":0},null,null,null,null,162,"",null,null,{"$f":"IF(BR57=\"\", 0, BR57 - IF(BR56=\"\", LOOKUP(2, 1/(BR$17:BR55<>\"\"), BR$17:BR55), BR56))","v":0},null,null,null,null,162,"",null,null,{"$f":"IF(CA57=\"\", 0, CA57 - IF(CA56=\"\", LOOKUP(2, 1/(CA$17:CA55<>\"\"), CA$17:CA55), CA56))","v":0},null,null,null,null,162,"",null,null,{"$f":"IF(CJ57=\"\", 0, CJ57 - IF(CJ56=\"\", LOOKUP(2, 1/(CJ$17:CJ55<>\"\"), CJ$17:CJ55), CJ56))","v":0},null,null,null,null,162,"",null,null,{"$f":"IF(CS57=\"\", 0, CS57 - IF(CS56=\"\", LOOKUP(2, 1/(CS$17:CS55<>\"\"), CS$17:CS55), CS56))","v":0},null,null,null,null,162,"",null,null,{"$f":"IF(DB57=\"\", 0, DB57 - IF(DB56=\"\", LOOKUP(2, 1/(DB$17:DB55<>\"\"), DB$17:DB55), DB56))","v":0},null,null,null,null,162,"",null,null,{"$f":"IF(DK57=\"\", 0, DK57 - IF(DK56=\"\", LOOKUP(2, 1/(DK$17:DK55<>\"\"), DK$17:DK55), DK56))","v":0},null,null,null,null,162,"",null,null,{"$f":"IF(DT57=\"\", 0, DT57 - IF(DT56=\"\", LOOKUP(2, 1/(DT$17:DT55<>\"\"), DT$17:DT55), DT56))","v":0},null,null,null,null,162,"",null,null,{"$f":"IF(EC57=\"\", 0, EC57 - IF(EC56=\"\", LOOKUP(2, 1/(EC$17:EC55<>\"\"), EC$17:EC55), EC56))","v":0},null,null,null,null,162,"",null,null,{"$f":"IF(EL57=\"\", 0, EL57 - IF(EL56=\"\", LOOKUP(2, 1/(EL$17:EL55<>\"\"), EL$17:EL55), EL56))","v":0},null,null,null,null,162,"",null,null,{"$f":"IF(EU57=\"\", 0, EU57 - IF(EU56=\"\", LOOKUP(2, 1/(EU$17:EU55<>\"\"), EU$17:EU55), EU56))","v":0},null,null,null,null,162,"",null,null,{"$f":"IF(FD57=\"\", 0, FD57 - IF(FD56=\"\", LOOKUP(2, 1/(FD$17:FD55<>\"\"), FD$17:FD55), FD56))","v":0},null,null,null,null,162,"",null,null,{"$f":"IF(FM57=\"\", 0, FM57 - IF(FM56=\"\", LOOKUP(2, 1/(FM$17:FM55<>\"\"), FM$17:FM55), FM56))","v":0},null,null,null,null,162,"",null,null,{"$f":"IF(FV57=\"\", 0, FV57 - IF(FV56=\"\", LOOKUP(2, 1/(FV$17:FV55<>\"\"), FV$17:FV55), FV56))","v":0},null,null,null,null,162,"",null,null,{"$f":"IF(GE57=\"\", 0, GE57 - IF(GE56=\"\", LOOKUP(2, 1/(GE$17:GE55<>\"\"), GE$17:GE55), GE56))","v":0},null,null,null,null,162,"",null,null,{"$f":"IF(GN57=\"\", 0, GN57 - IF(GN56=\"\", LOOKUP(2, 1/(GN$17:GN55<>\"\"), GN$17:GN55), GN56))","v":0},null,null,null,null,162,"",null,null,{"$f":"IF(GW57=\"\", 0, GW57 - IF(GW56=\"\", LOOKUP(2, 1/(GW$17:GW55<>\"\"), GW$17:GW55), GW56))","v":0},null,null,null,null,162,"",null,null,{"$f":"IF(HF57=\"\", 0, HF57 - IF(HF56=\"\", LOOKUP(2, 1/(HF$17:HF55<>\"\"), HF$17:HF55), HF56))","v":0},null,null,null,null,162,"",null,null,{"$f":"IF(HO57=\"\", 0, HO57 - IF(HO56=\"\", LOOKUP(2, 1/(HO$17:HO55<>\"\"), HO$17:HO55), HO56))","v":0},null,null,null,null,162,"",null,null,{"$f":"IF(HX57=\"\", 0, HX57 - IF(HX56=\"\", LOOKUP(2, 1/(HX$17:HX55<>\"\"), HX$17:HX55), HX56))","v":0},null,null,null,null,162,"",null,null,{"$f":"IF(IG57=\"\", 0, IG57 - IF(IG56=\"\", LOOKUP(2, 1/(IG$17:IG55<>\"\"), IG$17:IG55), IG56))","v":0},null,null,null,null,162,"",null,null,{"$f":"IF(IP57=\"\", 0, IP57 - IF(IP56=\"\", LOOKUP(2, 1/(IP$17:IP55<>\"\"), IP$17:IP55), IP56))","v":0},null,null,null,null,162,"",null,null,{"$f":"IF(IY57=\"\", 0, IY57 - IF(IY56=\"\", LOOKUP(2, 1/(IY$17:IY55<>\"\"), IY$17:IY55), IY56))","v":0},null,null,null,null,162,"",null,null,{"$f":"IF(JH57=\"\", 0, JH57 - IF(JH56=\"\", LOOKUP(2, 1/(JH$17:JH55<>\"\"), JH$17:JH55), JH56))","v":0},null,null,null,null,162,"",null,null,{"$f":"IF(JQ57=\"\", 0, JQ57 - IF(JQ56=\"\", LOOKUP(2, 1/(JQ$17:JQ55<>\"\"), JQ$17:JQ55), JQ56))","v":0},null,null,null,null,162,"",null,null,{"$f":"IF(JZ57=\"\", 0, JZ57 - IF(JZ56=\"\", LOOKUP(2, 1/(JZ$17:JZ55<>\"\"), JZ$17:JZ55), JZ56))","v":0},null,null,null,null,162,"",null,null,{"$f":"IF(KI57=\"\", 0, KI57 - IF(KI56=\"\", LOOKUP(2, 1/(KI$17:KI55<>\"\"), KI$17:KI55), KI56))","v":0},null,null,null,null,162,"",null,null,{"$f":"IF(KR57=\"\", 0, KR57 - IF(KR56=\"\", LOOKUP(2, 1/(KR$17:KR55<>\"\"), KR$17:KR55), KR56))","v":0},null,null,null,null,162,"",null,null,{"$f":"IF(LA57=\"\", 0, LA57 - IF(LA56=\"\", LOOKUP(2, 1/(LA$17:LA55<>\"\"), LA$17:LA55), LA56))","v":0},null,null,null,null,162,"",null,null,{"$f":"IF(LJ57=\"\", 0, LJ57 - IF(LJ56=\"\", LOOKUP(2, 1/(LJ$17:LJ55<>\"\"), LJ$17:LJ55), LJ56))","v":0},null,null,null,null,162,"",null,null,{"$f":"IF(LS57=\"\", 0, LS57 - IF(LS56=\"\", LOOKUP(2, 1/(LS$17:LS55<>\"\"), LS$17:LS55), LS56))","v":0},null,null,null,null,162,"",null,null,{"$f":"IF(MB57=\"\", 0, MB57 - IF(MB56=\"\", LOOKUP(2, 1/(MB$17:MB55<>\"\"), MB$17:MB55), MB56))","v":0},null,null,null,null,162,"",null,null,{"$f":"IF(MK57=\"\", 0, MK57 - IF(MK56=\"\", LOOKUP(2, 1/(MK$17:MK55<>\"\"), MK$17:MK55), MK56))","v":0},null,null,null,null,162,"",null,null,{"$f":"IF(MT57=\"\", 0, MT57 - IF(MT56=\"\", LOOKUP(2, 1/(MT$17:MT55<>\"\"), MT$17:MT55), MT56))","v":0},null,null,162,"",null,null,{"$f":"IF(NA57=\"\", 0, NA57 - IF(NA56=\"\", LOOKUP(2, 1/(NA$17:NA55<>\"\"), NA$17:NA55), NA56))","v":0},null,null,null,null,162,"",null,null,{"$f":"IF(NJ57=\"\", 0, NJ57 - IF(NJ56=\"\", LOOKUP(2, 1/(NJ$17:NJ55<>\"\"), NJ$17:NJ55), NJ56))","v":0},null,null,null,null,162,"",null,null,{"$f":"IF(NS57=\"\", 0, NS57 - IF(NS56=\"\", LOOKUP(2, 1/(NS$17:NS55<>\"\"), NS$17:NS55), NS56))","v":0},null,null,null,null,162,"",null,null,{"$f":"IF(OB57=\"\", 0, OB57 - IF(OB56=\"\", LOOKUP(2, 1/(OB$17:OB55<>\"\"), OB$17:OB55), OB56))","v":0},null,null,null,null,162,"",null,null,{"$f":"IF(OK57=\"\", 0, OK57 - IF(OK56=\"\", LOOKUP(2, 1/(OK$17:OK55<>\"\"), OK$17:OK55), OK56))","v":0},null,null,null,null,162,"",null,null,{"$f":"IF(OT57=\"\", 0, OT57 - IF(OT56=\"\", LOOKUP(2, 1/(OT$17:OT55<>\"\"), OT$17:OT55), OT56))","v":0},null,null,null,null,162,"",null,null,{"$f":"IF(PC57=\"\", 0, PC57 - IF(PC56=\"\", LOOKUP(2, 1/(PC$17:PC55<>\"\"), PC$17:PC55), PC56))","v":0},null,null,null,null,162,"",null,null,{"$f":"IF(PL57=\"\", 0, PL57 - IF(PL56=\"\", LOOKUP(2, 1/(PL$17:PL55<>\"\"), PL$17:PL55), PL56))","v":0},null,null,null,null,162,"",null,null,{"$f":"IF(PU57=\"\", 0, PU57 - IF(PU56=\"\", LOOKUP(2, 1/(PU$17:PU55<>\"\"), PU$17:PU55), PU56))","v":0},null,null,null,null,162,"",null,null,{"$f":"IF(QD57=\"\", 0, QD57 - IF(QD56=\"\", LOOKUP(2, 1/(QD$17:QD55<>\"\"), QD$17:QD55), QD56))","v":0}]
[null,null,null,161,"",null,null,{"$f":"IF(G58=\"\", 0, G58 - IF(G57=\"\", LOOKUP(2, 1/(G$17:G56<>\"\"), G$17:G56), G57))","v":0},null,null,null,null,161,"",null,null,{"$f":"IF(P58=\"\", 0, P58 - IF(P57=\"\", LOOKUP(2, 1/(P$17:P56<>\"\"), P$17:P56), P57))","v":0},null,null,null,null,161,"",null,null,{"$f":"IF(Y58=\"\", 0, Y58 - IF(Y57=\"\", LOOKUP(2, 1/(Y$17:Y56<>\"\"), Y$17:Y56), Y57))","v":0},null,null,null,null,161,"",null,null,{"$f":"IF(AH58=\"\", 0, AH58 - IF(AH57=\"\", LOOKUP(2, 1/(AH$17:AH56<>\"\"), AH$17:AH56), AH57))","v":0},null,null,null,null,161,"",null,null,{"$f":"IF(AQ58=\"\", 0, AQ58 - IF(AQ57=\"\", LOOKUP(2, 1/(AQ$17:AQ56<>\"\"), AQ$17:AQ56), AQ57))","v":0},null,null,null,null,161,"",null,null,{"$f":"IF(AZ58=\"\", 0, AZ58 - IF(AZ57=\"\", LOOKUP(2, 1/(AZ$17:AZ56<>\"\"), AZ$17:AZ56), AZ57))","v":0},null,null,null,null,161,"",null,null,{"$f":"IF(BI58=\"\", 0, BI58 - IF(BI57=\"\", LOOKUP(2, 1/(BI$17:BI56<>\"\"), BI$17:BI56), BI57))","v":0},null,null,null,null,161,"",null,null,{"$f":"IF(BR58=\"\", 0, BR58 - IF(BR57=\"\", LOOKUP(2, 1/(BR$17:BR56<>\"\"), BR$17:BR56), BR57))","v":0},null,null,null,null,161,"",null,null,{"$f":"IF(CA58=\"\", 0, CA58 - IF(CA57=\"\", LOOKUP(2, 1/(CA$17:CA56<>\"\"), CA$17:CA56), CA57))","v":0},null,null,null,null,161,"",null,null,{"$f":"IF(CJ58=\"\", 0, CJ58 - IF(CJ57=\"\", LOOKUP(2, 1/(CJ$17:CJ56<>\"\"), CJ$17:CJ56), CJ57))","v":0},null,null,null,null,161,"",null,null,{"$f":"IF(CS58=\"\", 0, CS58 - IF(CS57=\"\", LOOKUP(2, 1/(CS$17:CS56<>\"\"), CS$17:CS56), CS57))","v":0},null,null,null,null,161,"",null,null,{"$f":"IF(DB58=\"\", 0, DB58 - IF(DB57=\"\", LOOKUP(2, 1/(DB$17:DB56<>\"\"), DB$17:DB56), DB57))","v":0},null,null,null,null,161,"",null,null,{"$f":"IF(DK58=\"\", 0, DK58 - IF(DK57=\"\", LOOKUP(2, 1/(DK$17:DK56<>\"\"), DK$17:DK56), DK57))","v":0},null,null,null,null,161,"",null,null,{"$f":"IF(DT58=\"\", 0, DT58 - IF(DT57=\"\", LOOKUP(2, 1/(DT$17:DT56<>\"\"), DT$17:DT56), DT57))","v":0},null,null,null,null,161,"",null,null,{"$f":"IF(EC58=\"\", 0, EC58 - IF(EC57=\"\", LOOKUP(2, 1/(EC$17:EC56<>\"\"), EC$17:EC56), EC57))","v":0},null,null,null,null,161,"",null,null,{"$f":"IF(EL58=\"\", 0, EL58 - IF(EL57=\"\", LOOKUP(2, 1/(EL$17:EL56<>\"\"), EL$17:EL56), EL57))","v":0},null,null,null,null,161,"",null,null,{"$f":"IF(EU58=\"\", 0, EU58 - IF(EU57=\"\", LOOKUP(2, 1/(EU$17:EU56<>\"\"), EU$17:EU56), EU57))","v":0},null,null,null,null,161,"",null,null,{"$f":"IF(FD58=\"\", 0, FD58 - IF(FD57=\"\", LOOKUP(2, 1/(FD$17:FD56<>\"\"), FD$17:FD56), FD57))","v":0},null,null,null,null,161,"",null,null,{"$f":"IF(FM58=\"\", 0, FM58 - IF(FM57=\"\", LOOKUP(2, 1/(FM$17:FM56<>\"\"), FM$17:FM56), FM57))","v":0},null,null,null,null,161,"",null,null,{"$f":"IF(FV58=\"\", 0, FV58 - IF(FV57=\"\", LOOKUP(2, 1/(FV$17:FV56<>\"\"), FV$17:FV56), FV57))","v":0},null,null,null,null,161,"",null,null,{"$f":"IF(GE58=\"\", 0, GE58 - IF(GE57=\"\", LOOKUP(2, 1/(GE$17:GE56<>\"\"), GE$17:GE56), GE57))","v":0},null,null,null,null,161,"",null,null,{"$f":"IF(GN58=\"\", 0, GN58 - IF(GN57=\"\", LOOKUP(2, 1/(GN$17:GN56<>\"\"), GN$17:GN56), GN57))","v":0},null,null,null,null,161,"",null,null,{"$f":"IF(GW58=\"\", 0, GW58 - IF(GW57=\"\", LOOKUP(2, 1/(GW$17:GW56<>\"\"), GW$17:GW56), GW57))","v":0},null,null,null,null,161,"",null,null,{"$f":"IF(HF58=\"\", 0, HF58 - IF(HF57=\"\", LOOKUP(2, 1/(HF$17:HF56<>\"\"), HF$17:HF56), HF57))","v":0},null,null,null,null,161,"",null,null,{"$f":"IF(HO58=\"\", 0, HO58 - IF(HO57=\"\", LOOKUP(2, 1/(HO$17:HO56<>\"\"), HO$17:HO56), HO57))","v":0},null,null,null,null,161,"",null,null,{"$f":"IF(HX58=\"\", 0, HX58 - IF(HX57=\"\", LOOKUP(2, 1/(HX$17:HX56<>\"\"), HX$17:HX56), HX57))","v":0},null,null,null,null,161,"",null,null,{"$f":"IF(IG58=\"\", 0, IG58 - IF(IG57=\"\", LOOKUP(2, 1/(IG$17:IG56<>\"\"), IG$17:IG56), IG57))","v":0},null,null,null,null,161,"",null,null,{"$f":"IF(IP58=\"\", 0, IP58 - IF(IP57=\"\", LOOKUP(2, 1/(IP$17:IP56<>\"\"), IP$17:IP56), IP57))","v":0},null,null,null,null,161,"",null,null,{"$f":"IF(IY58=\"\", 0, IY58 - IF(IY57=\"\", LOOKUP(2, 1/(IY$17:IY56<>\"\"), IY$17:IY56), IY57))","v":0},null,null,null,null,161,"",null,null,{"$f":"IF(JH58=\"\", 0, JH58 - IF(JH57=\"\", LOOKUP(2, 1/(JH$17:JH56<>\"\"), JH$17:JH56), JH57))","v":0},null,null,null,null,161,"",null,null,{"$f":"IF(JQ58=\"\", 0, JQ58 - IF(JQ57=\"\", LOOKUP(2, 1/(JQ$17:JQ56<>\"\"), JQ$17:JQ56), JQ57))","v":0},null,null,null,null,161,"",null,null,{"$f":"IF(JZ58=\"\", 0, JZ58 - IF(JZ57=\"\", LOOKUP(2, 1/(JZ$17:JZ56<>\"\"), JZ$17:JZ56), JZ57))","v":0},null,null,null,null,161,"",null,null,{"$f":"IF(KI58=\"\", 0, KI58 - IF(KI57=\"\", LOOKUP(2, 1/(KI$17:KI56<>\"\"), KI$17:KI56), KI57))","v":0},null,null,null,null,161,"",null,null,{"$f":"IF(KR58=\"\", 0, KR58 - IF(KR57=\"\", LOOKUP(2, 1/(KR$17:KR56<>\"\"), KR$17:KR56), KR57))","v":0},null,null,null,null,161,"",null,null,{"$f":"IF(LA58=\"\", 0, LA58 - IF(LA57=\"\", LOOKUP(2, 1/(LA$17:LA56<>\"\"), LA$17:LA56), LA57))","v":0},null,null,null,null,161,"",null,null,{"$f":"IF(LJ58=\"\", 0, LJ58 - IF(LJ57=\"\", LOOKUP(2, 1/(LJ$17:LJ56<>\"\"), LJ$17:LJ56), LJ57))","v":0},null,null,null,null,161,"",null,null,{"$f":"IF(LS58=\"\", 0, LS58 - IF(LS57=\"\", LOOKUP(2, 1/(LS$17:LS56<>\"\"), LS$17:LS56), LS57))","v":0},null,null,null,null,161,"",null,null,{"$f":"IF(MB58=\"\", 0, MB58 - IF(MB57=\"\", LOOKUP(2, 1/(MB$17:MB56<>\"\"), MB$17:MB56), MB57))","v":0},null,null,null,null,161,"",null,null,{"$f":"IF(MK58=\"\", 0, MK58 - IF(MK57=\"\", LOOKUP(2, 1/(MK$17:MK56<>\"\"), MK$17:MK56), MK57))","v":0},null,null,null,null,161,"",null,null,{"$f":"IF(MT58=\"\", 0, MT58 - IF(MT57=\"\", LOOKUP(2, 1/(MT$17:MT56<>\"\"), MT$17:MT56), MT57))","v":0},null,null,161,"",null,null,{"$f":"IF(NA58=\"\", 0, NA58 - IF(NA57=\"\", LOOKUP(2, 1/(NA$17:NA56<>\"\"), NA$17:NA56), NA57))","v":0},null,null,null,null,161,"",null,null,{"$f":"IF(NJ58=\"\", 0, NJ58 - IF(NJ57=\"\", LOOKUP(2, 1/(NJ$17:NJ56<>\"\"), NJ$17:NJ56), NJ57))","v":0},null,null,null,null,161,"",null,null,{"$f":"IF(NS58=\"\", 0, NS58 - IF(NS57=\"\", LOOKUP(2, 1/(NS$17:NS56<>\"\"), NS$17:NS56), NS57))","v":0},null,null,null,null,161,"",null,null,{"$f":"IF(OB58=\"\", 0, OB58 - IF(OB57=\"\", LOOKUP(2, 1/(OB$17:OB56<>\"\"), OB$17:OB56), OB57))","v":0},null,null,null,null,161,"",null,null,{"$f":"IF(OK58=\"\", 0, OK58 - IF(OK57=\"\", LOOKUP(2, 1/(OK$17:OK56<>\"\"), OK$17:OK56), OK57))","v":0},null,null,null,null,161,"",null,null,{"$f":"IF(OT58=\"\", 0, OT58 - IF(OT57=\"\", LOOKUP(2, 1/(OT$17:OT56<>\"\"), OT$17:OT56), OT57))","v":0},null,null,null,null,161,"",null,null,{"$f":"IF(PC58=\"\", 0, PC58 - IF(PC57=\"\", LOOKUP(2, 1/(PC$17:PC56<>\"\"), PC$17:PC56), PC57))","v":0},null,null,null,null,161,"",null,null,{"$f":"IF(PL58=\"\", 0, PL58 - IF(PL57=\"\", LOOKUP(2, 1/(PL$17:PL56<>\"\"), PL$17:PL56), PL57))","v":0},null,null,null,null,161,"",null,null,{"$f":"IF(PU58=\"\", 0, PU58 - IF(PU57=\"\", LOOKUP(2, 1/(PU$17:PU56<>\"\"), PU$17:PU56), PU57))","v":0},null,null,null,null,161,"",null,null,{"$f":"IF(QD58=\"\", 0, QD58 - IF(QD57=\"\", LOOKUP(2, 1/(QD$17:QD56<>\"\"), QD$17:QD56), QD57))","v":0}]
[null,null,null,160,"",null,null,{"$f":"IF(G59=\"\", 0, G59 - IF(G58=\"\", LOOKUP(2, 1/(G$17:G57<>\"\"), G$17:G57), G58))","v":0},null,null,null,null,160,"",null,null,{"$f":"IF(P59=\"\", 0, P59 - IF(P58=\"\", LOOKUP(2, 1/(P$17:P57<>\"\"), P$17:P57), P58))","v":0},null,null,null,null,160,"",null,null,{"$f":"IF(Y59=\"\", 0, Y59 - IF(Y58=\"\", LOOKUP(2, 1/(Y$17:Y57<>\"\"), Y$17:Y57), Y58))","v":0},null,null,null,null,160,"",null,null,{"$f":"IF(AH59=\"\", 0, AH59 - IF(AH58=\"\", LOOKUP(2, 1/(AH$17:AH57<>\"\"), AH$17:AH57), AH58))","v":0},null,null,null,null,160,"",null,null,{"$f":"IF(AQ59=\"\", 0, AQ59 - IF(AQ58=\"\", LOOKUP(2, 1/(AQ$17:AQ57<>\"\"), AQ$17:AQ57), AQ58))","v":0},null,null,null,null,160,"",null,null,{"$f":"IF(AZ59=\"\", 0, AZ59 - IF(AZ58=\"\", LOOKUP(2, 1/(AZ$17:AZ57<>\"\"), AZ$17:AZ57), AZ58))","v":0},null,null,null,null,160,"",null,null,{"$f":"IF(BI59=\"\", 0, BI59 - IF(BI58=\"\", LOOKUP(2, 1/(BI$17:BI57<>\"\"), BI$17:BI57), BI58))","v":0},null,null,null,null,160,"",null,null,{"$f":"IF(BR59=\"\", 0, BR59 - IF(BR58=\"\", LOOKUP(2, 1/(BR$17:BR57<>\"\"), BR$17:BR57), BR58))","v":0},null,null,null,null,160,"",null,null,{"$f":"IF(CA59=\"\", 0, CA59 - IF(CA58=\"\", LOOKUP(2, 1/(CA$17:CA57<>\"\"), CA$17:CA57), CA58))","v":0},null,null,null,null,160,"",null,null,{"$f":"IF(CJ59=\"\", 0, CJ59 - IF(CJ58=\"\", LOOKUP(2, 1/(CJ$17:CJ57<>\"\"), CJ$17:CJ57), CJ58))","v":0},null,null,null,null,160,"",null,null,{"$f":"IF(CS59=\"\", 0, CS59 - IF(CS58=\"\", LOOKUP(2, 1/(CS$17:CS57<>\"\"), CS$17:CS57), CS58))","v":0},null,null,null,null,160,"",null,null,{"$f":"IF(DB59=\"\", 0, DB59 - IF(DB58=\"\", LOOKUP(2, 1/(DB$17:DB57<>\"\"), DB$17:DB57), DB58))","v":0},null,null,null,null,160,"",null,null,{"$f":"IF(DK59=\"\", 0, DK59 - IF(DK58=\"\", LOOKUP(2, 1/(DK$17:DK57<>\"\"), DK$17:DK57), DK58))","v":0},null,null,null,null,160,"",null,null,{"$f":"IF(DT59=\"\", 0, DT59 - IF(DT58=\"\", LOOKUP(2, 1/(DT$17:DT57<>\"\"), DT$17:DT57), DT58))","v":0},null,null,null,null,160,"",null,null,{"$f":"IF(EC59=\"\", 0, EC59 - IF(EC58=\"\", LOOKUP(2, 1/(EC$17:EC57<>\"\"), EC$17:EC57), EC58))","v":0},null,null,null,null,160,"",null,null,{"$f":"IF(EL59=\"\", 0, EL59 - IF(EL58=\"\", LOOKUP(2, 1/(EL$17:EL57<>\"\"), EL$17:EL57), EL58))","v":0},null,null,null,null,160,"",null,null,{"$f":"IF(EU59=\"\", 0, EU59 - IF(EU58=\"\", LOOKUP(2, 1/(EU$17:EU57<>\"\"), EU$17:EU57), EU58))","v":0},null,null,null,null,160,"",null,null,{"$f":"IF(FD59=\"\", 0, FD59 - IF(FD58=\"\", LOOKUP(2, 1/(FD$17:FD57<>\"\"), FD$17:FD57), FD58))","v":0},null,null,null,null,160,"",null,null,{"$f":"IF(FM59=\"\", 0, FM59 - IF(FM58=\"\", LOOKUP(2, 1/(FM$17:FM57<>\"\"), FM$17:FM57), FM58))","v":0},null,null,null,null,160,"",null,null,{"$f":"IF(FV59=\"\", 0, FV59 - IF(FV58=\"\", LOOKUP(2, 1/(FV$17:FV57<>\"\"), FV$17:FV57), FV58))","v":0},null,null,null,null,160,"",null,null,{"$f":"IF(GE59=\"\", 0, GE59 - IF(GE58=\"\", LOOKUP(2, 1/(GE$17:GE57<>\"\"), GE$17:GE57), GE58))","v":0},null,null,null,null,160,"",null,null,{"$f":"IF(GN59=\"\", 0, GN59 - IF(GN58=\"\", LOOKUP(2, 1/(GN$17:GN57<>\"\"), GN$17:GN57), GN58))","v":0},null,null,null,null,160,"",null,null,{"$f":"IF(GW59=\"\", 0, GW59 - IF(GW58=\"\", LOOKUP(2, 1/(GW$17:GW57<>\"\"), GW$17:GW57), GW58))","v":0},null,null,null,null,160,"",null,null,{"$f":"IF(HF59=\"\", 0, HF59 - IF(HF58=\"\", LOOKUP(2, 1/(HF$17:HF57<>\"\"), HF$17:HF57), HF58))","v":0},null,null,null,null,160,"",null,null,{"$f":"IF(HO59=\"\", 0, HO59 - IF(HO58=\"\", LOOKUP(2, 1/(HO$17:HO57<>\"\"), HO$17:HO57), HO58))","v":0},null,null,null,null,160,"",null,null,{"$f":"IF(HX59=\"\", 0, HX59 - IF(HX58=\"\", LOOKUP(2, 1/(HX$17:HX57<>\"\"), HX$17:HX57), HX58))","v":0},null,null,null,null,160,"",null,null,{"$f":"IF(IG59=\"\", 0, IG59 - IF(IG58=\"\", LOOKUP(2, 1/(IG$17:IG57<>\"\"), IG$17:IG57), IG58))","v":0},null,null,null,null,160,"",null,null,{"$f":"IF(IP59=\"\", 0, IP59 - IF(IP58=\"\", LOOKUP(2, 1/(IP$17:IP57<>\"\"), IP$17:IP57), IP58))","v":0},null,null,null,null,160,"",null,null,{"$f":"IF(IY59=\"\", 0, IY59 - IF(IY58=\"\", LOOKUP(2, 1/(IY$17:IY57<>\"\"), IY$17:IY57), IY58))","v":0},null,null,null,null,160,"",null,null,{"$f":"IF(JH59=\"\", 0, JH59 - IF(JH58=\"\", LOOKUP(2, 1/(JH$17:JH57<>\"\"), JH$17:JH57), JH58))","v":0},null,null,null,null,160,"",null,null,{"$f":"IF(JQ59=\"\", 0, JQ59 - IF(JQ58=\"\", LOOKUP(2, 1/(JQ$17:JQ57<>\"\"), JQ$17:JQ57), JQ58))","v":0},null,null,null,null,160,"",null,null,{"$f":"IF(JZ59=\"\", 0, JZ59 - IF(JZ58=\"\", LOOKUP(2, 1/(JZ$17:JZ57<>\"\"), JZ$17:JZ57), JZ58))","v":0},null,null,null,null,160,"",null,null,{"$f":"IF(KI59=\"\", 0, KI59 - IF(KI58=\"\", LOOKUP(2, 1/(KI$17:KI57<>\"\"), KI$17:KI57), KI58))","v":0},null,null,null,null,160,"",null,null,{"$f":"IF(KR59=\"\", 0, KR59 - IF(KR58=\"\", LOOKUP(2, 1/(KR$17:KR57<>\"\"), KR$17:KR57), KR58))","v":0},null,null,null,null,160,"",null,null,{"$f":"IF(LA59=\"\", 0, LA59 - IF(LA58=\"\", LOOKUP(2, 1/(LA$17:LA57<>\"\"), LA$17:LA57), LA58))","v":0},null,null,null,null,160,"",null,null,{"$f":"IF(LJ59=\"\", 0, LJ59 - IF(LJ58=\"\", LOOKUP(2, 1/(LJ$17:LJ57<>\"\"), LJ$17:LJ57), LJ58))","v":0},null,null,null,null,160,"",null,null,{"$f":"IF(LS59=\"\", 0, LS59 - IF(LS58=\"\", LOOKUP(2, 1/(LS$17:LS57<>\"\"), LS$17:LS57), LS58))","v":0},null,null,null,null,160,"",null,null,{"$f":"IF(MB59=\"\", 0, MB59 - IF(MB58=\"\", LOOKUP(2, 1/(MB$17:MB57<>\"\"), MB$17:MB57), MB58))","v":0},null,null,null,null,160,"",null,null,{"$f":"IF(MK59=\"\", 0, MK59 - IF(MK58=\"\", LOOKUP(2, 1/(MK$17:MK57<>\"\"), MK$17:MK57), MK58))","v":0},null,null,null,null,160,"",null,null,{"$f":"IF(MT59=\"\", 0, MT59 - IF(MT58=\"\", LOOKUP(2, 1/(MT$17:MT57<>\"\"), MT$17:MT57), MT58))","v":0},null,null,160,"",null,null,{"$f":"IF(NA59=\"\", 0, NA59 - IF(NA58=\"\", LOOKUP(2, 1/(NA$17:NA57<>\"\"), NA$17:NA57), NA58))","v":0},null,null,null,null,160,"",null,null,{"$f":"IF(NJ59=\"\", 0, NJ59 - IF(NJ58=\"\", LOOKUP(2, 1/(NJ$17:NJ57<>\"\"), NJ$17:NJ57), NJ58))","v":0},null,null,null,null,160,"",null,null,{"$f":"IF(NS59=\"\", 0, NS59 - IF(NS58=\"\", LOOKUP(2, 1/(NS$17:NS57<>\"\"), NS$17:NS57), NS58))","v":0},null,null,null,null,160,"",null,null,{"$f":"IF(OB59=\"\", 0, OB59 - IF(OB58=\"\", LOOKUP(2, 1/(OB$17:OB57<>\"\"), OB$17:OB57), OB58))","v":0},null,null,null,null,160,"",null,null,{"$f":"IF(OK59=\"\", 0, OK59 - IF(OK58=\"\", LOOKUP(2, 1/(OK$17:OK57<>\"\"), OK$17:OK57), OK58))","v":0},null,null,null,null,160,"",null,null,{"$f":"IF(OT59=\"\", 0, OT59 - IF(OT58=\"\", LOOKUP(2, 1/(OT$17:OT57<>\"\"), OT$17:OT57), OT58))","v":0},null,null,null,null,160,"",null,null,{"$f":"IF(PC59=\"\", 0, PC59 - IF(PC58=\"\", LOOKUP(2, 1/(PC$17:PC57<>\"\"), PC$17:PC57), PC58))","v":0},null,null,null,null,160,"",null,null,{"$f":"IF(PL59=\"\", 0, PL59 - IF(PL58=\"\", LOOKUP(2, 1/(PL$17:PL57<>\"\"), PL$17:PL57), PL58))","v":0},null,null,null,null,160,"",null,null,{"$f":"IF(PU59=\"\", 0, PU59 - IF(PU58=\"\", LOOKUP(2, 1/(PU$17:PU57<>\"\"), PU$17:PU57), PU58))","v":0},null,null,null,null,160,"",null,null,{"$f":"IF(QD59=\"\", 0, QD59 - IF(QD58=\"\", LOOKUP(2, 1/(QD$17:QD57<>\"\"), QD$17:QD57), QD58))","v":0}]
[null,null,null,159,"",null,null,{"$f":"IF(G60=\"\", 0, G60 - IF(G59=\"\", LOOKUP(2, 1/(G$17:G58<>\"\"), G$17:G58), G59))","v":0},null,null,null,null,159,"",null,null,{"$f":"IF(P60=\"\", 0, P60 - IF(P59=\"\", LOOKUP(2, 1/(P$17:P58<>\"\"), P$17:P58), P59))","v":0},null,null,null,null,159,"",null,null,{"$f":"IF(Y60=\"\", 0, Y60 - IF(Y59=\"\", LOOKUP(2, 1/(Y$17:Y58<>\"\"), Y$17:Y58), Y59))","v":0},null,null,null,null,159,"",null,null,{"$f":"IF(AH60=\"\", 0, AH60 - IF(AH59=\"\", LOOKUP(2, 1/(AH$17:AH58<>\"\"), AH$17:AH58), AH59))","v":0},null,null,null,null,159,"",null,null,{"$f":"IF(AQ60=\"\", 0, AQ60 - IF(AQ59=\"\", LOOKUP(2, 1/(AQ$17:AQ58<>\"\"), AQ$17:AQ58), AQ59))","v":0},null,null,null,null,159,"",null,null,{"$f":"IF(AZ60=\"\", 0, AZ60 - IF(AZ59=\"\", LOOKUP(2, 1/(AZ$17:AZ58<>\"\"), AZ$17:AZ58), AZ59))","v":0},null,null,null,null,159,"",null,null,{"$f":"IF(BI60=\"\", 0, BI60 - IF(BI59=\"\", LOOKUP(2, 1/(BI$17:BI58<>\"\"), BI$17:BI58), BI59))","v":0},null,null,null,null,159,"",null,null,{"$f":"IF(BR60=\"\", 0, BR60 - IF(BR59=\"\", LOOKUP(2, 1/(BR$17:BR58<>\"\"), BR$17:BR58), BR59))","v":0},null,null,null,null,159,"",null,null,{"$f":"IF(CA60=\"\", 0, CA60 - IF(CA59=\"\", LOOKUP(2, 1/(CA$17:CA58<>\"\"), CA$17:CA58), CA59))","v":0},null,null,null,null,159,"",null,null,{"$f":"IF(CJ60=\"\", 0, CJ60 - IF(CJ59=\"\", LOOKUP(2, 1/(CJ$17:CJ58<>\"\"), CJ$17:CJ58), CJ59))","v":0},null,null,null,null,159,"",null,null,{"$f":"IF(CS60=\"\", 0, CS60 - IF(CS59=\"\", LOOKUP(2, 1/(CS$17:CS58<>\"\"), CS$17:CS58), CS59))","v":0},null,null,null,null,159,"",null,null,{"$f":"IF(DB60=\"\", 0, DB60 - IF(DB59=\"\", LOOKUP(2, 1/(DB$17:DB58<>\"\"), DB$17:DB58), DB59))","v":0},null,null,null,null,159,"",null,null,{"$f":"IF(DK60=\"\", 0, DK60 - IF(DK59=\"\", LOOKUP(2, 1/(DK$17:DK58<>\"\"), DK$17:DK58), DK59))","v":0},null,null,null,null,159,"",null,null,{"$f":"IF(DT60=\"\", 0, DT60 - IF(DT59=\"\", LOOKUP(2, 1/(DT$17:DT58<>\"\"), DT$17:DT58), DT59))","v":0},null,null,null,null,159,"",null,null,{"$f":"IF(EC60=\"\", 0, EC60 - IF(EC59=\"\", LOOKUP(2, 1/(EC$17:EC58<>\"\"), EC$17:EC58), EC59))","v":0},null,null,null,null,159,"",null,null,{"$f":"IF(EL60=\"\", 0, EL60 - IF(EL59=\"\", LOOKUP(2, 1/(EL$17:EL58<>\"\"), EL$17:EL58), EL59))","v":0},null,null,null,null,159,"",null,null,{"$f":"IF(EU60=\"\", 0, EU60 - IF(EU59=\"\", LOOKUP(2, 1/(EU$17:EU58<>\"\"), EU$17:EU58), EU59))","v":0},null,null,null,null,159,"",null,null,{"$f":"IF(FD60=\"\", 0, FD60 - IF(FD59=\"\", LOOKUP(2, 1/(FD$17:FD58<>\"\"), FD$17:FD58), FD59))","v":0},null,null,null,null,159,"",null,null,{"$f":"IF(FM60=\"\", 0, FM60 - IF(FM59=\"\", LOOKUP(2, 1/(FM$17:FM58<>\"\"), FM$17:FM58), FM59))","v":0},null,null,null,null,159,"",null,null,{"$f":"IF(FV60=\"\", 0, FV60 - IF(FV59=\"\", LOOKUP(2, 1/(FV$17:FV58<>\"\"), FV$17:FV58), FV59))","v":0},null,null,null,null,159,"",null,null,{"$f":"IF(GE60=\"\", 0, GE60 - IF(GE59=\"\", LOOKUP(2, 1/(GE$17:GE58<>\"\"), GE$17:GE58), GE59))","v":0},null,null,null,null,159,"",null,null,{"$f":"IF(GN60=\"\", 0, GN60 - IF(GN59=\"\", LOOKUP(2, 1/(GN$17:GN58<>\"\"), GN$17:GN58), GN59))","v":0},null,null,null,null,159,"",null,null,{"$f":"IF(GW60=\"\", 0, GW60 - IF(GW59=\"\", LOOKUP(2, 1/(GW$17:GW58<>\"\"), GW$17:GW58), GW59))","v":0},null,null,null,null,159,"",null,null,{"$f":"IF(HF60=\"\", 0, HF60 - IF(HF59=\"\", LOOKUP(2, 1/(HF$17:HF58<>\"\"), HF$17:HF58), HF59))","v":0},null,null,null,null,159,"",null,null,{"$f":"IF(HO60=\"\", 0, HO60 - IF(HO59=\"\", LOOKUP(2, 1/(HO$17:HO58<>\"\"), HO$17:HO58), HO59))","v":0},null,null,null,null,159,"",null,null,{"$f":"IF(HX60=\"\", 0, HX60 - IF(HX59=\"\", LOOKUP(2, 1/(HX$17:HX58<>\"\"), HX$17:HX58), HX59))","v":0},null,null,null,null,159,"",null,null,{"$f":"IF(IG60=\"\", 0, IG60 - IF(IG59=\"\", LOOKUP(2, 1/(IG$17:IG58<>\"\"), IG$17:IG58), IG59))","v":0},null,null,null,null,159,"",null,null,{"$f":"IF(IP60=\"\", 0, IP60 - IF(IP59=\"\", LOOKUP(2, 1/(IP$17:IP58<>\"\"), IP$17:IP58), IP59))","v":0},null,null,null,null,159,"",null,null,{"$f":"IF(IY60=\"\", 0, IY60 - IF(IY59=\"\", LOOKUP(2, 1/(IY$17:IY58<>\"\"), IY$17:IY58), IY59))","v":0},null,null,null,null,159,"",null,null,{"$f":"IF(JH60=\"\", 0, JH60 - IF(JH59=\"\", LOOKUP(2, 1/(JH$17:JH58<>\"\"), JH$17:JH58), JH59))","v":0},null,null,null,null,159,"",null,null,{"$f":"IF(JQ60=\"\", 0, JQ60 - IF(JQ59=\"\", LOOKUP(2, 1/(JQ$17:JQ58<>\"\"), JQ$17:JQ58), JQ59))","v":0},null,null,null,null,159,"",null,null,{"$f":"IF(JZ60=\"\", 0, JZ60 - IF(JZ59=\"\", LOOKUP(2, 1/(JZ$17:JZ58<>\"\"), JZ$17:JZ58), JZ59))","v":0},null,null,null,null,159,"",null,null,{"$f":"IF(KI60=\"\", 0, KI60 - IF(KI59=\"\", LOOKUP(2, 1/(KI$17:KI58<>\"\"), KI$17:KI58), KI59))","v":0},null,null,null,null,159,"",null,null,{"$f":"IF(KR60=\"\", 0, KR60 - IF(KR59=\"\", LOOKUP(2, 1/(KR$17:KR58<>\"\"), KR$17:KR58), KR59))","v":0},null,null,null,null,159,"",null,null,{"$f":"IF(LA60=\"\", 0, LA60 - IF(LA59=\"\", LOOKUP(2, 1/(LA$17:LA58<>\"\"), LA$17:LA58), LA59))","v":0},null,null,null,null,159,"",null,null,{"$f":"IF(LJ60=\"\", 0, LJ60 - IF(LJ59=\"\", LOOKUP(2, 1/(LJ$17:LJ58<>\"\"), LJ$17:LJ58), LJ59))","v":0},null,null,null,null,159,"",null,null,{"$f":"IF(LS60=\"\", 0, LS60 - IF(LS59=\"\", LOOKUP(2, 1/(LS$17:LS58<>\"\"), LS$17:LS58), LS59))","v":0},null,null,null,null,159,"",null,null,{"$f":"IF(MB60=\"\", 0, MB60 - IF(MB59=\"\", LOOKUP(2, 1/(MB$17:MB58<>\"\"), MB$17:MB58), MB59))","v":0},null,null,null,null,159,"",null,null,{"$f":"IF(MK60=\"\", 0, MK60 - IF(MK59=\"\", LOOKUP(2, 1/(MK$17:MK58<>\"\"), MK$17:MK58), MK59))","v":0},null,null,null,null,159,"",null,null,{"$f":"IF(MT60=\"\", 0, MT60 - IF(MT59=\"\", LOOKUP(2, 1/(MT$17:MT58<>\"\"), MT$17:MT58), MT59))","v":0},null,null,159,"",null,null,{"$f":"IF(NA60=\"\", 0, NA60 - IF(NA59=\"\", LOOKUP(2, 1/(NA$17:NA58<>\"\"), NA$17:NA58), NA59))","v":0},null,null,null,null,159,"",null,null,{"$f":"IF(NJ60=\"\", 0, NJ60 - IF(NJ59=\"\", LOOKUP(2, 1/(NJ$17:NJ58<>\"\"), NJ$17:NJ58), NJ59))","v":0},null,null,null,null,159,"",null,null,{"$f":"IF(NS60=\"\", 0, NS60 - IF(NS59=\"\", LOOKUP(2, 1/(NS$17:NS58<>\"\"), NS$17:NS58), NS59))","v":0},null,null,null,null,159,"",null,null,{"$f":"IF(OB60=\"\", 0, OB60 - IF(OB59=\"\", LOOKUP(2, 1/(OB$17:OB58<>\"\"), OB$17:OB58), OB59))","v":0},null,null,null,null,159,"",null,null,{"$f":"IF(OK60=\"\", 0, OK60 - IF(OK59=\"\", LOOKUP(2, 1/(OK$17:OK58<>\"\"), OK$17:OK58), OK59))","v":0},null,null,null,null,159,"",null,null,{"$f":"IF(OT60=\"\", 0, OT60 - IF(OT59=\"\", LOOKUP(2, 1/(OT$17:OT58<>\"\"), OT$17:OT58), OT59))","v":0},null,null,null,null,159,"",null,null,{"$f":"IF(PC60=\"\", 0, PC60 - IF(PC59=\"\", LOOKUP(2, 1/(PC$17:PC58<>\"\"), PC$17:PC58), PC59))","v":0},null,null,null,null,159,"",null,null,{"$f":"IF(PL60=\"\", 0, PL60 - IF(PL59=\"\", LOOKUP(2, 1/(PL$17:PL58<>\"\"), PL$17:PL58), PL59))","v":0},null,null,null,null,159,"",null,null,{"$f":"IF(PU60=\"\", 0, PU60 - IF(PU59=\"\", LOOKUP(2, 1/(PU$17:PU58<>\"\"), PU$17:PU58), PU59))","v":0},null,null,null,null,159,"",null,null,{"$f":"IF(QD60=\"\", 0, QD60 - IF(QD59=\"\", LOOKUP(2, 1/(QD$17:QD58<>\"\"), QD$17:QD58), QD59))","v":0}]
[null,null,null,158,"",null,null,{"$f":"IF(G61=\"\", 0, G61 - IF(G60=\"\", LOOKUP(2, 1/(G$17:G59<>\"\"), G$17:G59), G60))","v":0},null,null,null,null,158,"",null,null,{"$f":"IF(P61=\"\", 0, P61 - IF(P60=\"\", LOOKUP(2, 1/(P$17:P59<>\"\"), P$17:P59), P60))","v":0},null,null,null,null,158,"",null,null,{"$f":"IF(Y61=\"\", 0, Y61 - IF(Y60=\"\", LOOKUP(2, 1/(Y$17:Y59<>\"\"), Y$17:Y59), Y60))","v":0},null,null,null,null,158,"",null,null,{"$f":"IF(AH61=\"\", 0, AH61 - IF(AH60=\"\", LOOKUP(2, 1/(AH$17:AH59<>\"\"), AH$17:AH59), AH60))","v":0},null,null,null,null,158,"",null,null,{"$f":"IF(AQ61=\"\", 0, AQ61 - IF(AQ60=\"\", LOOKUP(2, 1/(AQ$17:AQ59<>\"\"), AQ$17:AQ59), AQ60))","v":0},null,null,null,null,158,"",null,null,{"$f":"IF(AZ61=\"\", 0, AZ61 - IF(AZ60=\"\", LOOKUP(2, 1/(AZ$17:AZ59<>\"\"), AZ$17:AZ59), AZ60))","v":0},null,null,null,null,158,"",null,null,{"$f":"IF(BI61=\"\", 0, BI61 - IF(BI60=\"\", LOOKUP(2, 1/(BI$17:BI59<>\"\"), BI$17:BI59), BI60))","v":0},null,null,null,null,158,"",null,null,{"$f":"IF(BR61=\"\", 0, BR61 - IF(BR60=\"\", LOOKUP(2, 1/(BR$17:BR59<>\"\"), BR$17:BR59), BR60))","v":0},null,null,null,null,158,"",null,null,{"$f":"IF(CA61=\"\", 0, CA61 - IF(CA60=\"\", LOOKUP(2, 1/(CA$17:CA59<>\"\"), CA$17:CA59), CA60))","v":0},null,null,null,null,158,"",null,null,{"$f":"IF(CJ61=\"\", 0, CJ61 - IF(CJ60=\"\", LOOKUP(2, 1/(CJ$17:CJ59<>\"\"), CJ$17:CJ59), CJ60))","v":0},null,null,null,null,158,"",null,null,{"$f":"IF(CS61=\"\", 0, CS61 - IF(CS60=\"\", LOOKUP(2, 1/(CS$17:CS59<>\"\"), CS$17:CS59), CS60))","v":0},null,null,null,null,158,"",null,null,{"$f":"IF(DB61=\"\", 0, DB61 - IF(DB60=\"\", LOOKUP(2, 1/(DB$17:DB59<>\"\"), DB$17:DB59), DB60))","v":0},null,null,null,null,158,"",null,null,{"$f":"IF(DK61=\"\", 0, DK61 - IF(DK60=\"\", LOOKUP(2, 1/(DK$17:DK59<>\"\"), DK$17:DK59), DK60))","v":0},null,null,null,null,158,"",null,null,{"$f":"IF(DT61=\"\", 0, DT61 - IF(DT60=\"\", LOOKUP(2, 1/(DT$17:DT59<>\"\"), DT$17:DT59), DT60))","v":0},null,null,null,null,158,"",null,null,{"$f":"IF(EC61=\"\", 0, EC61 - IF(EC60=\"\", LOOKUP(2, 1/(EC$17:EC59<>\"\"), EC$17:EC59), EC60))","v":0},null,null,null,null,158,"",null,null,{"$f":"IF(EL61=\"\", 0, EL61 - IF(EL60=\"\", LOOKUP(2, 1/(EL$17:EL59<>\"\"), EL$17:EL59), EL60))","v":0},null,null,null,null,158,"",null,null,{"$f":"IF(EU61=\"\", 0, EU61 - IF(EU60=\"\", LOOKUP(2, 1/(EU$17:EU59<>\"\"), EU$17:EU59), EU60))","v":0},null,null,null,null,158,"",null,null,{"$f":"IF(FD61=\"\", 0, FD61 - IF(FD60=\"\", LOOKUP(2, 1/(FD$17:FD59<>\"\"), FD$17:FD59), FD60))","v":0},null,null,null,null,158,"",null,null,{"$f":"IF(FM61=\"\", 0, FM61 - IF(FM60=\"\", LOOKUP(2, 1/(FM$17:FM59<>\"\"), FM$17:FM59), FM60))","v":0},null,null,null,null,158,"",null,null,{"$f":"IF(FV61=\"\", 0, FV61 - IF(FV60=\"\", LOOKUP(2, 1/(FV$17:FV59<>\"\"), FV$17:FV59), FV60))","v":0},null,null,null,null,158,"",null,null,{"$f":"IF(GE61=\"\", 0, GE61 - IF(GE60=\"\", LOOKUP(2, 1/(GE$17:GE59<>\"\"), GE$17:GE59), GE60))","v":0},null,null,null,null,158,"",null,null,{"$f":"IF(GN61=\"\", 0, GN61 - IF(GN60=\"\", LOOKUP(2, 1/(GN$17:GN59<>\"\"), GN$17:GN59), GN60))","v":0},null,null,null,null,158,"",null,null,{"$f":"IF(GW61=\"\", 0, GW61 - IF(GW60=\"\", LOOKUP(2, 1/(GW$17:GW59<>\"\"), GW$17:GW59), GW60))","v":0},null,null,null,null,158,"",null,null,{"$f":"IF(HF61=\"\", 0, HF61 - IF(HF60=\"\", LOOKUP(2, 1/(HF$17:HF59<>\"\"), HF$17:HF59), HF60))","v":0},null,null,null,null,158,"",null,null,{"$f":"IF(HO61=\"\", 0, HO61 - IF(HO60=\"\", LOOKUP(2, 1/(HO$17:HO59<>\"\"), HO$17:HO59), HO60))","v":0},null,null,null,null,158,"",null,null,{"$f":"IF(HX61=\"\", 0, HX61 - IF(HX60=\"\", LOOKUP(2, 1/(HX$17:HX59<>\"\"), HX$17:HX59), HX60))","v":0},null,null,null,null,158,"",null,null,{"$f":"IF(IG61=\"\", 0, IG61 - IF(IG60=\"\", LOOKUP(2, 1/(IG$17:IG59<>\"\"), IG$17:IG59), IG60))","v":0},null,null,null,null,158,"",null,null,{"$f":"IF(IP61=\"\", 0, IP61 - IF(IP60=\"\", LOOKUP(2, 1/(IP$17:IP59<>\"\"), IP$17:IP59), IP60))","v":0},null,null,null,null,158,"",null,null,{"$f":"IF(IY61=\"\", 0, IY61 - IF(IY60=\"\", LOOKUP(2, 1/(IY$17:IY59<>\"\"), IY$17:IY59), IY60))","v":0},null,null,null,null,158,"",null,null,{"$f":"IF(JH61=\"\", 0, JH61 - IF(JH60=\"\", LOOKUP(2, 1/(JH$17:JH59<>\"\"), JH$17:JH59), JH60))","v":0},null,null,null,null,158,"",null,null,{"$f":"IF(JQ61=\"\", 0, JQ61 - IF(JQ60=\"\", LOOKUP(2, 1/(JQ$17:JQ59<>\"\"), JQ$17:JQ59), JQ60))","v":0},null,null,null,null,158,"",null,null,{"$f":"IF(JZ61=\"\", 0, JZ61 - IF(JZ60=\"\", LOOKUP(2, 1/(JZ$17:JZ59<>\"\"), JZ$17:JZ59), JZ60))","v":0},null,null,null,null,158,"",null,null,{"$f":"IF(KI61=\"\", 0, KI61 - IF(KI60=\"\", LOOKUP(2, 1/(KI$17:KI59<>\"\"), KI$17:KI59), KI60))","v":0},null,null,null,null,158,"",null,null,{"$f":"IF(KR61=\"\", 0, KR61 - IF(KR60=\"\", LOOKUP(2, 1/(KR$17:KR59<>\"\"), KR$17:KR59), KR60))","v":0},null,null,null,null,158,"",null,null,{"$f":"IF(LA61=\"\", 0, LA61 - IF(LA60=\"\", LOOKUP(2, 1/(LA$17:LA59<>\"\"), LA$17:LA59), LA60))","v":0},null,null,null,null,158,"",null,null,{"$f":"IF(LJ61=\"\", 0, LJ61 - IF(LJ60=\"\", LOOKUP(2, 1/(LJ$17:LJ59<>\"\"), LJ$17:LJ59), LJ60))","v":0},null,null,null,null,158,"",null,null,{"$f":"IF(LS61=\"\", 0, LS61 - IF(LS60=\"\", LOOKUP(2, 1/(LS$17:LS59<>\"\"), LS$17:LS59), LS60))","v":0},null,null,null,null,158,"",null,null,{"$f":"IF(MB61=\"\", 0, MB61 - IF(MB60=\"\", LOOKUP(2, 1/(MB$17:MB59<>\"\"), MB$17:MB59), MB60))","v":0},null,null,null,null,158,"",null,null,{"$f":"IF(MK61=\"\", 0, MK61 - IF(MK60=\"\", LOOKUP(2, 1/(MK$17:MK59<>\"\"), MK$17:MK59), MK60))","v":0},null,null,null,null,158,"",null,null,{"$f":"IF(MT61=\"\", 0, MT61 - IF(MT60=\"\", LOOKUP(2, 1/(MT$17:MT59<>\"\"), MT$17:MT59), MT60))","v":0},null,null,158,"",null,null,{"$f":"IF(NA61=\"\", 0, NA61 - IF(NA60=\"\", LOOKUP(2, 1/(NA$17:NA59<>\"\"), NA$17:NA59), NA60))","v":0},null,null,null,null,158,"",null,null,{"$f":"IF(NJ61=\"\", 0, NJ61 - IF(NJ60=\"\", LOOKUP(2, 1/(NJ$17:NJ59<>\"\"), NJ$17:NJ59), NJ60))","v":0},null,null,null,null,158,"",null,null,{"$f":"IF(NS61=\"\", 0, NS61 - IF(NS60=\"\", LOOKUP(2, 1/(NS$17:NS59<>\"\"), NS$17:NS59), NS60))","v":0},null,null,null,null,158,"",null,null,{"$f":"IF(OB61=\"\", 0, OB61 - IF(OB60=\"\", LOOKUP(2, 1/(OB$17:OB59<>\"\"), OB$17:OB59), OB60))","v":0},null,null,null,null,158,"",null,null,{"$f":"IF(OK61=\"\", 0, OK61 - IF(OK60=\"\", LOOKUP(2, 1/(OK$17:OK59<>\"\"), OK$17:OK59), OK60))","v":0},null,null,null,null,158,"",null,null,{"$f":"IF(OT61=\"\", 0, OT61 - IF(OT60=\"\", LOOKUP(2, 1/(OT$17:OT59<>\"\"), OT$17:OT59), OT60))","v":0},null,null,null,null,158,"",null,null,{"$f":"IF(PC61=\"\", 0, PC61 - IF(PC60=\"\", LOOKUP(2, 1/(PC$17:PC59<>\"\"), PC$17:PC59), PC60))","v":0},null,null,null,null,158,"",null,null,{"$f":"IF(PL61=\"\", 0, PL61 - IF(PL60=\"\", LOOKUP(2, 1/(PL$17:PL59<>\"\"), PL$17:PL59), PL60))","v":0},null,null,null,null,158,"",null,null,{"$f":"IF(PU61=\"\", 0, PU61 - IF(PU60=\"\", LOOKUP(2, 1/(PU$17:PU59<>\"\"), PU$17:PU59), PU60))","v":0},null,null,null,null,158,"",null,null,{"$f":"IF(QD61=\"\", 0, QD61 - IF(QD60=\"\", LOOKUP(2, 1/(QD$17:QD59<>\"\"), QD$17:QD59), QD60))","v":0}]
[null,null,null,157,"",null,null,{"$f":"IF(G62=\"\", 0, G62 - IF(G61=\"\", LOOKUP(2, 1/(G$17:G60<>\"\"), G$17:G60), G61))","v":0},null,null,null,null,157,"",null,null,{"$f":"IF(P62=\"\", 0, P62 - IF(P61=\"\", LOOKUP(2, 1/(P$17:P60<>\"\"), P$17:P60), P61))","v":0},null,null,null,null,157,"",null,null,{"$f":"IF(Y62=\"\", 0, Y62 - IF(Y61=\"\", LOOKUP(2, 1/(Y$17:Y60<>\"\"), Y$17:Y60), Y61))","v":0},null,null,null,null,157,"",null,null,{"$f":"IF(AH62=\"\", 0, AH62 - IF(AH61=\"\", LOOKUP(2, 1/(AH$17:AH60<>\"\"), AH$17:AH60), AH61))","v":0},null,null,null,null,157,"",null,null,{"$f":"IF(AQ62=\"\", 0, AQ62 - IF(AQ61=\"\", LOOKUP(2, 1/(AQ$17:AQ60<>\"\"), AQ$17:AQ60), AQ61))","v":0},null,null,null,null,157,"",null,null,{"$f":"IF(AZ62=\"\", 0, AZ62 - IF(AZ61=\"\", LOOKUP(2, 1/(AZ$17:AZ60<>\"\"), AZ$17:AZ60), AZ61))","v":0},null,null,null,null,157,"",null,null,{"$f":"IF(BI62=\"\", 0, BI62 - IF(BI61=\"\", LOOKUP(2, 1/(BI$17:BI60<>\"\"), BI$17:BI60), BI61))","v":0},null,null,null,null,157,"",null,null,{"$f":"IF(BR62=\"\", 0, BR62 - IF(BR61=\"\", LOOKUP(2, 1/(BR$17:BR60<>\"\"), BR$17:BR60), BR61))","v":0},null,null,null,null,157,"",null,null,{"$f":"IF(CA62=\"\", 0, CA62 - IF(CA61=\"\", LOOKUP(2, 1/(CA$17:CA60<>\"\"), CA$17:CA60), CA61))","v":0},null,null,null,null,157,"",null,null,{"$f":"IF(CJ62=\"\", 0, CJ62 - IF(CJ61=\"\", LOOKUP(2, 1/(CJ$17:CJ60<>\"\"), CJ$17:CJ60), CJ61))","v":0},null,null,null,null,157,"",null,null,{"$f":"IF(CS62=\"\", 0, CS62 - IF(CS61=\"\", LOOKUP(2, 1/(CS$17:CS60<>\"\"), CS$17:CS60), CS61))","v":0},null,null,null,null,157,"",null,null,{"$f":"IF(DB62=\"\", 0, DB62 - IF(DB61=\"\", LOOKUP(2, 1/(DB$17:DB60<>\"\"), DB$17:DB60), DB61))","v":0},null,null,null,null,157,"",null,null,{"$f":"IF(DK62=\"\", 0, DK62 - IF(DK61=\"\", LOOKUP(2, 1/(DK$17:DK60<>\"\"), DK$17:DK60), DK61))","v":0},null,null,null,null,157,"",null,null,{"$f":"IF(DT62=\"\", 0, DT62 - IF(DT61=\"\", LOOKUP(2, 1/(DT$17:DT60<>\"\"), DT$17:DT60), DT61))","v":0},null,null,null,null,157,"",null,null,{"$f":"IF(EC62=\"\", 0, EC62 - IF(EC61=\"\", LOOKUP(2, 1/(EC$17:EC60<>\"\"), EC$17:EC60), EC61))","v":0},null,null,null,null,157,"",null,null,{"$f":"IF(EL62=\"\", 0, EL62 - IF(EL61=\"\", LOOKUP(2, 1/(EL$17:EL60<>\"\"), EL$17:EL60), EL61))","v":0},null,null,null,null,157,"",null,null,{"$f":"IF(EU62=\"\", 0, EU62 - IF(EU61=\"\", LOOKUP(2, 1/(EU$17:EU60<>\"\"), EU$17:EU60), EU61))","v":0},null,null,null,null,157,"",null,null,{"$f":"IF(FD62=\"\", 0, FD62 - IF(FD61=\"\", LOOKUP(2, 1/(FD$17:FD60<>\"\"), FD$17:FD60), FD61))","v":0},null,null,null,null,157,"",null,null,{"$f":"IF(FM62=\"\", 0, FM62 - IF(FM61=\"\", LOOKUP(2, 1/(FM$17:FM60<>\"\"), FM$17:FM60), FM61))","v":0},null,null,null,null,157,"",null,null,{"$f":"IF(FV62=\"\", 0, FV62 - IF(FV61=\"\", LOOKUP(2, 1/(FV$17:FV60<>\"\"), FV$17:FV60), FV61))","v":0},null,null,null,null,157,"",null,null,{"$f":"IF(GE62=\"\", 0, GE62 - IF(GE61=\"\", LOOKUP(2, 1/(GE$17:GE60<>\"\"), GE$17:GE60), GE61))","v":0},null,null,null,null,157,"",null,null,{"$f":"IF(GN62=\"\", 0, GN62 - IF(GN61=\"\", LOOKUP(2, 1/(GN$17:GN60<>\"\"), GN$17:GN60), GN61))","v":0},null,null,null,null,157,"",null,null,{"$f":"IF(GW62=\"\", 0, GW62 - IF(GW61=\"\", LOOKUP(2, 1/(GW$17:GW60<>\"\"), GW$17:GW60), GW61))","v":0},null,null,null,null,157,"",null,null,{"$f":"IF(HF62=\"\", 0, HF62 - IF(HF61=\"\", LOOKUP(2, 1/(HF$17:HF60<>\"\"), HF$17:HF60), HF61))","v":0},null,null,null,null,157,"",null,null,{"$f":"IF(HO62=\"\", 0, HO62 - IF(HO61=\"\", LOOKUP(2, 1/(HO$17:HO60<>\"\"), HO$17:HO60), HO61))","v":0},null,null,null,null,157,"",null,null,{"$f":"IF(HX62=\"\", 0, HX62 - IF(HX61=\"\", LOOKUP(2, 1/(HX$17:HX60<>\"\"), HX$17:HX60), HX61))","v":0},null,null,null,null,157,"",null,null,{"$f":"IF(IG62=\"\", 0, IG62 - IF(IG61=\"\", LOOKUP(2, 1/(IG$17:IG60<>\"\"), IG$17:IG60), IG61))","v":0},null,null,null,null,157,"",null,null,{"$f":"IF(IP62=\"\", 0, IP62 - IF(IP61=\"\", LOOKUP(2, 1/(IP$17:IP60<>\"\"), IP$17:IP60), IP61))","v":0},null,null,null,null,157,"",null,null,{"$f":"IF(IY62=\"\", 0, IY62 - IF(IY61=\"\", LOOKUP(2, 1/(IY$17:IY60<>\"\"), IY$17:IY60), IY61))","v":0},null,null,null,null,157,"",null,null,{"$f":"IF(JH62=\"\", 0, JH62 - IF(JH61=\"\", LOOKUP(2, 1/(JH$17:JH60<>\"\"), JH$17:JH60), JH61))","v":0},null,null,null,null,157,"",null,null,{"$f":"IF(JQ62=\"\", 0, JQ62 - IF(JQ61=\"\", LOOKUP(2, 1/(JQ$17:JQ60<>\"\"), JQ$17:JQ60), JQ61))","v":0},null,null,null,null,157,"",null,null,{"$f":"IF(JZ62=\"\", 0, JZ62 - IF(JZ61=\"\", LOOKUP(2, 1/(JZ$17:JZ60<>\"\"), JZ$17:JZ60), JZ61))","v":0},null,null,null,null,157,"",null,null,{"$f":"IF(KI62=\"\", 0, KI62 - IF(KI61=\"\", LOOKUP(2, 1/(KI$17:KI60<>\"\"), KI$17:KI60), KI61))","v":0},null,null,null,null,157,"",null,null,{"$f":"IF(KR62=\"\", 0, KR62 - IF(KR61=\"\", LOOKUP(2, 1/(KR$17:KR60<>\"\"), KR$17:KR60), KR61))","v":0},null,null,null,null,157,"",null,null,{"$f":"IF(LA62=\"\", 0, LA62 - IF(LA61=\"\", LOOKUP(2, 1/(LA$17:LA60<>\"\"), LA$17:LA60), LA61))","v":0},null,null,null,null,157,"",null,null,{"$f":"IF(LJ62=\"\", 0, LJ62 - IF(LJ61=\"\", LOOKUP(2, 1/(LJ$17:LJ60<>\"\"), LJ$17:LJ60), LJ61))","v":0},null,null,null,null,157,"",null,null,{"$f":"IF(LS62=\"\", 0, LS62 - IF(LS61=\"\", LOOKUP(2, 1/(LS$17:LS60<>\"\"), LS$17:LS60), LS61))","v":0},null,null,null,null,157,"",null,null,{"$f":"IF(MB62=\"\", 0, MB62 - IF(MB61=\"\", LOOKUP(2, 1/(MB$17:MB60<>\"\"), MB$17:MB60), MB61))","v":0},null,null,null,null,157,"",null,null,{"$f":"IF(MK62=\"\", 0, MK62 - IF(MK61=\"\", LOOKUP(2, 1/(MK$17:MK60<>\"\"), MK$17:MK60), MK61))","v":0},null,null,null,null,157,"",null,null,{"$f":"IF(MT62=\"\", 0, MT62 - IF(MT61=\"\", LOOKUP(2, 1/(MT$17:MT60<>\"\"), MT$17:MT60), MT61))","v":0},null,null,157,"",null,null,{"$f":"IF(NA62=\"\", 0, NA62 - IF(NA61=\"\", LOOKUP(2, 1/(NA$17:NA60<>\"\"), NA$17:NA60), NA61))","v":0},null,null,null,null,157,"",null,null,{"$f":"IF(NJ62=\"\", 0, NJ62 - IF(NJ61=\"\", LOOKUP(2, 1/(NJ$17:NJ60<>\"\"), NJ$17:NJ60), NJ61))","v":0},null,null,null,null,157,"",null,null,{"$f":"IF(NS62=\"\", 0, NS62 - IF(NS61=\"\", LOOKUP(2, 1/(NS$17:NS60<>\"\"), NS$17:NS60), NS61))","v":0},null,null,null,null,157,"",null,null,{"$f":"IF(OB62=\"\", 0, OB62 - IF(OB61=\"\", LOOKUP(2, 1/(OB$17:OB60<>\"\"), OB$17:OB60), OB61))","v":0},null,null,null,null,157,"",null,null,{"$f":"IF(OK62=\"\", 0, OK62 - IF(OK61=\"\", LOOKUP(2, 1/(OK$17:OK60<>\"\"), OK$17:OK60), OK61))","v":0},null,null,null,null,157,"",null,null,{"$f":"IF(OT62=\"\", 0, OT62 - IF(OT61=\"\", LOOKUP(2, 1/(OT$17:OT60<>\"\"), OT$17:OT60), OT61))","v":0},null,null,null,null,157,"",null,null,{"$f":"IF(PC62=\"\", 0, PC62 - IF(PC61=\"\", LOOKUP(2, 1/(PC$17:PC60<>\"\"), PC$17:PC60), PC61))","v":0},null,null,null,null,157,"",null,null,{"$f":"IF(PL62=\"\", 0, PL62 - IF(PL61=\"\", LOOKUP(2, 1/(PL$17:PL60<>\"\"), PL$17:PL60), PL61))","v":0},null,null,null,null,157,"",null,null,{"$f":"IF(PU62=\"\", 0, PU62 - IF(PU61=\"\", LOOKUP(2, 1/(PU$17:PU60<>\"\"), PU$17:PU60), PU61))","v":0},null,null,null,null,157,"",null,null,{"$f":"IF(QD62=\"\", 0, QD62 - IF(QD61=\"\", LOOKUP(2, 1/(QD$17:QD60<>\"\"), QD$17:QD60), QD61))","v":0}]
[null,null,null,156,"",null,null,{"$f":"IF(G63=\"\", 0, G63 - IF(G62=\"\", LOOKUP(2, 1/(G$17:G61<>\"\"), G$17:G61), G62))","v":0},null,null,null,null,156,"",null,null,{"$f":"IF(P63=\"\", 0, P63 - IF(P62=\"\", LOOKUP(2, 1/(P$17:P61<>\"\"), P$17:P61), P62))","v":0},null,null,null,null,156,"",null,null,{"$f":"IF(Y63=\"\", 0, Y63 - IF(Y62=\"\", LOOKUP(2, 1/(Y$17:Y61<>\"\"), Y$17:Y61), Y62))","v":0},null,null,null,null,156,"",null,null,{"$f":"IF(AH63=\"\", 0, AH63 - IF(AH62=\"\", LOOKUP(2, 1/(AH$17:AH61<>\"\"), AH$17:AH61), AH62))","v":0},null,null,null,null,156,"",null,null,{"$f":"IF(AQ63=\"\", 0, AQ63 - IF(AQ62=\"\", LOOKUP(2, 1/(AQ$17:AQ61<>\"\"), AQ$17:AQ61), AQ62))","v":0},null,null,null,null,156,"",null,null,{"$f":"IF(AZ63=\"\", 0, AZ63 - IF(AZ62=\"\", LOOKUP(2, 1/(AZ$17:AZ61<>\"\"), AZ$17:AZ61), AZ62))","v":0},null,null,null,null,156,"",null,null,{"$f":"IF(BI63=\"\", 0, BI63 - IF(BI62=\"\", LOOKUP(2, 1/(BI$17:BI61<>\"\"), BI$17:BI61), BI62))","v":0},null,null,null,null,156,"",null,null,{"$f":"IF(BR63=\"\", 0, BR63 - IF(BR62=\"\", LOOKUP(2, 1/(BR$17:BR61<>\"\"), BR$17:BR61), BR62))","v":0},null,null,null,null,156,"",null,null,{"$f":"IF(CA63=\"\", 0, CA63 - IF(CA62=\"\", LOOKUP(2, 1/(CA$17:CA61<>\"\"), CA$17:CA61), CA62))","v":0},null,null,null,null,156,"",null,null,{"$f":"IF(CJ63=\"\", 0, CJ63 - IF(CJ62=\"\", LOOKUP(2, 1/(CJ$17:CJ61<>\"\"), CJ$17:CJ61), CJ62))","v":0},null,null,null,null,156,"",null,null,{"$f":"IF(CS63=\"\", 0, CS63 - IF(CS62=\"\", LOOKUP(2, 1/(CS$17:CS61<>\"\"), CS$17:CS61), CS62))","v":0},null,null,null,null,156,"",null,null,{"$f":"IF(DB63=\"\", 0, DB63 - IF(DB62=\"\", LOOKUP(2, 1/(DB$17:DB61<>\"\"), DB$17:DB61), DB62))","v":0},null,null,null,null,156,"",null,null,{"$f":"IF(DK63=\"\", 0, DK63 - IF(DK62=\"\", LOOKUP(2, 1/(DK$17:DK61<>\"\"), DK$17:DK61), DK62))","v":0},null,null,null,null,156,"",null,null,{"$f":"IF(DT63=\"\", 0, DT63 - IF(DT62=\"\", LOOKUP(2, 1/(DT$17:DT61<>\"\"), DT$17:DT61), DT62))","v":0},null,null,null,null,156,"",null,null,{"$f":"IF(EC63=\"\", 0, EC63 - IF(EC62=\"\", LOOKUP(2, 1/(EC$17:EC61<>\"\"), EC$17:EC61), EC62))","v":0},null,null,null,null,156,"",null,null,{"$f":"IF(EL63=\"\", 0, EL63 - IF(EL62=\"\", LOOKUP(2, 1/(EL$17:EL61<>\"\"), EL$17:EL61), EL62))","v":0},null,null,null,null,156,"",null,null,{"$f":"IF(EU63=\"\", 0, EU63 - IF(EU62=\"\", LOOKUP(2, 1/(EU$17:EU61<>\"\"), EU$17:EU61), EU62))","v":0},null,null,null,null,156,"",null,null,{"$f":"IF(FD63=\"\", 0, FD63 - IF(FD62=\"\", LOOKUP(2, 1/(FD$17:FD61<>\"\"), FD$17:FD61), FD62))","v":0},null,null,null,null,156,"",null,null,{"$f":"IF(FM63=\"\", 0, FM63 - IF(FM62=\"\", LOOKUP(2, 1/(FM$17:FM61<>\"\"), FM$17:FM61), FM62))","v":0},null,null,null,null,156,"",null,null,{"$f":"IF(FV63=\"\", 0, FV63 - IF(FV62=\"\", LOOKUP(2, 1/(FV$17:FV61<>\"\"), FV$17:FV61), FV62))","v":0},null,null,null,null,156,"",null,null,{"$f":"IF(GE63=\"\", 0, GE63 - IF(GE62=\"\", LOOKUP(2, 1/(GE$17:GE61<>\"\"), GE$17:GE61), GE62))","v":0},null,null,null,null,156,"",null,null,{"$f":"IF(GN63=\"\", 0, GN63 - IF(GN62=\"\", LOOKUP(2, 1/(GN$17:GN61<>\"\"), GN$17:GN61), GN62))","v":0},null,null,null,null,156,"",null,null,{"$f":"IF(GW63=\"\", 0, GW63 - IF(GW62=\"\", LOOKUP(2, 1/(GW$17:GW61<>\"\"), GW$17:GW61), GW62))","v":0},null,null,null,null,156,"",null,null,{"$f":"IF(HF63=\"\", 0, HF63 - IF(HF62=\"\", LOOKUP(2, 1/(HF$17:HF61<>\"\"), HF$17:HF61), HF62))","v":0},null,null,null,null,156,"",null,null,{"$f":"IF(HO63=\"\", 0, HO63 - IF(HO62=\"\", LOOKUP(2, 1/(HO$17:HO61<>\"\"), HO$17:HO61), HO62))","v":0},null,null,null,null,156,"",null,null,{"$f":"IF(HX63=\"\", 0, HX63 - IF(HX62=\"\", LOOKUP(2, 1/(HX$17:HX61<>\"\"), HX$17:HX61), HX62))","v":0},null,null,null,null,156,"",null,null,{"$f":"IF(IG63=\"\", 0, IG63 - IF(IG62=\"\", LOOKUP(2, 1/(IG$17:IG61<>\"\"), IG$17:IG61), IG62))","v":0},null,null,null,null,156,"",null,null,{"$f":"IF(IP63=\"\", 0, IP63 - IF(IP62=\"\", LOOKUP(2, 1/(IP$17:IP61<>\"\"), IP$17:IP61), IP62))","v":0},null,null,null,null,156,"",null,null,{"$f":"IF(IY63=\"\", 0, IY63 - IF(IY62=\"\", LOOKUP(2, 1/(IY$17:IY61<>\"\"), IY$17:IY61), IY62))","v":0},null,null,null,null,156,"",null,null,{"$f":"IF(JH63=\"\", 0, JH63 - IF(JH62=\"\", LOOKUP(2, 1/(JH$17:JH61<>\"\"), JH$17:JH61), JH62))","v":0},null,null,null,null,156,"",null,null,{"$f":"IF(JQ63=\"\", 0, JQ63 - IF(JQ62=\"\", LOOKUP(2, 1/(JQ$17:JQ61<>\"\"), JQ$17:JQ61), JQ62))","v":0},null,null,null,null,156,"",null,null,{"$f":"IF(JZ63=\"\", 0, JZ63 - IF(JZ62=\"\", LOOKUP(2, 1/(JZ$17:JZ61<>\"\"), JZ$17:JZ61), JZ62))","v":0},null,null,null,null,156,"",null,null,{"$f":"IF(KI63=\"\", 0, KI63 - IF(KI62=\"\", LOOKUP(2, 1/(KI$17:KI61<>\"\"), KI$17:KI61), KI62))","v":0},null,null,null,null,156,"",null,null,{"$f":"IF(KR63=\"\", 0, KR63 - IF(KR62=\"\", LOOKUP(2, 1/(KR$17:KR61<>\"\"), KR$17:KR61), KR62))","v":0},null,null,null,null,156,"",null,null,{"$f":"IF(LA63=\"\", 0, LA63 - IF(LA62=\"\", LOOKUP(2, 1/(LA$17:LA61<>\"\"), LA$17:LA61), LA62))","v":0},null,null,null,null,156,"",null,null,{"$f":"IF(LJ63=\"\", 0, LJ63 - IF(LJ62=\"\", LOOKUP(2, 1/(LJ$17:LJ61<>\"\"), LJ$17:LJ61), LJ62))","v":0},null,null,null,null,156,"",null,null,{"$f":"IF(LS63=\"\", 0, LS63 - IF(LS62=\"\", LOOKUP(2, 1/(LS$17:LS61<>\"\"), LS$17:LS61), LS62))","v":0},null,null,null,null,156,"",null,null,{"$f":"IF(MB63=\"\", 0, MB63 - IF(MB62=\"\", LOOKUP(2, 1/(MB$17:MB61<>\"\"), MB$17:MB61), MB62))","v":0},null,null,null,null,156,"",null,null,{"$f":"IF(MK63=\"\", 0, MK63 - IF(MK62=\"\", LOOKUP(2, 1/(MK$17:MK61<>\"\"), MK$17:MK61), MK62))","v":0},null,null,null,null,156,"",null,null,{"$f":"IF(MT63=\"\", 0, MT63 - IF(MT62=\"\", LOOKUP(2, 1/(MT$17:MT61<>\"\"), MT$17:MT61), MT62))","v":0},null,null,156,"",null,null,{"$f":"IF(NA63=\"\", 0, NA63 - IF(NA62=\"\", LOOKUP(2, 1/(NA$17:NA61<>\"\"), NA$17:NA61), NA62))","v":0},null,null,null,null,156,"",null,null,{"$f":"IF(NJ63=\"\", 0, NJ63 - IF(NJ62=\"\", LOOKUP(2, 1/(NJ$17:NJ61<>\"\"), NJ$17:NJ61), NJ62))","v":0},null,null,null,null,156,"",null,null,{"$f":"IF(NS63=\"\", 0, NS63 - IF(NS62=\"\", LOOKUP(2, 1/(NS$17:NS61<>\"\"), NS$17:NS61), NS62))","v":0},null,null,null,null,156,"",null,null,{"$f":"IF(OB63=\"\", 0, OB63 - IF(OB62=\"\", LOOKUP(2, 1/(OB$17:OB61<>\"\"), OB$17:OB61), OB62))","v":0},null,null,null,null,156,"",null,null,{"$f":"IF(OK63=\"\", 0, OK63 - IF(OK62=\"\", LOOKUP(2, 1/(OK$17:OK61<>\"\"), OK$17:OK61), OK62))","v":0},null,null,null,null,156,"",null,null,{"$f":"IF(OT63=\"\", 0, OT63 - IF(OT62=\"\", LOOKUP(2, 1/(OT$17:OT61<>\"\"), OT$17:OT61), OT62))","v":0},null,null,null,null,156,"",null,null,{"$f":"IF(PC63=\"\", 0, PC63 - IF(PC62=\"\", LOOKUP(2, 1/(PC$17:PC61<>\"\"), PC$17:PC61), PC62))","v":0},null,null,null,null,156,"",null,null,{"$f":"IF(PL63=\"\", 0, PL63 - IF(PL62=\"\", LOOKUP(2, 1/(PL$17:PL61<>\"\"), PL$17:PL61), PL62))","v":0},null,null,null,null,156,"",null,null,{"$f":"IF(PU63=\"\", 0, PU63 - IF(PU62=\"\", LOOKUP(2, 1/(PU$17:PU61<>\"\"), PU$17:PU61), PU62))","v":0},null,null,null,null,156,"",null,null,{"$f":"IF(QD63=\"\", 0, QD63 - IF(QD62=\"\", LOOKUP(2, 1/(QD$17:QD61<>\"\"), QD$17:QD61), QD62))","v":0}]
[null,null,null,155,"",null,null,{"$f":"IF(G64=\"\", 0, G64 - IF(G63=\"\", LOOKUP(2, 1/(G$17:G62<>\"\"), G$17:G62), G63))","v":0},null,null,null,null,155,"",null,null,{"$f":"IF(P64=\"\", 0, P64 - IF(P63=\"\", LOOKUP(2, 1/(P$17:P62<>\"\"), P$17:P62), P63))","v":0},null,null,null,null,155,"",null,null,{"$f":"IF(Y64=\"\", 0, Y64 - IF(Y63=\"\", LOOKUP(2, 1/(Y$17:Y62<>\"\"), Y$17:Y62), Y63))","v":0},null,null,null,null,155,"",null,null,{"$f":"IF(AH64=\"\", 0, AH64 - IF(AH63=\"\", LOOKUP(2, 1/(AH$17:AH62<>\"\"), AH$17:AH62), AH63))","v":0},null,null,null,null,155,"",null,null,{"$f":"IF(AQ64=\"\", 0, AQ64 - IF(AQ63=\"\", LOOKUP(2, 1/(AQ$17:AQ62<>\"\"), AQ$17:AQ62), AQ63))","v":0},null,null,null,null,155,"",null,null,{"$f":"IF(AZ64=\"\", 0, AZ64 - IF(AZ63=\"\", LOOKUP(2, 1/(AZ$17:AZ62<>\"\"), AZ$17:AZ62), AZ63))","v":0},null,null,null,null,155,"",null,null,{"$f":"IF(BI64=\"\", 0, BI64 - IF(BI63=\"\", LOOKUP(2, 1/(BI$17:BI62<>\"\"), BI$17:BI62), BI63))","v":0},null,null,null,null,155,"",null,null,{"$f":"IF(BR64=\"\", 0, BR64 - IF(BR63=\"\", LOOKUP(2, 1/(BR$17:BR62<>\"\"), BR$17:BR62), BR63))","v":0},null,null,null,null,155,"",null,null,{"$f":"IF(CA64=\"\", 0, CA64 - IF(CA63=\"\", LOOKUP(2, 1/(CA$17:CA62<>\"\"), CA$17:CA62), CA63))","v":0},null,null,null,null,155,"",null,null,{"$f":"IF(CJ64=\"\", 0, CJ64 - IF(CJ63=\"\", LOOKUP(2, 1/(CJ$17:CJ62<>\"\"), CJ$17:CJ62), CJ63))","v":0},null,null,null,null,155,"",null,null,{"$f":"IF(CS64=\"\", 0, CS64 - IF(CS63=\"\", LOOKUP(2, 1/(CS$17:CS62<>\"\"), CS$17:CS62), CS63))","v":0},null,null,null,null,155,"",null,null,{"$f":"IF(DB64=\"\", 0, DB64 - IF(DB63=\"\", LOOKUP(2, 1/(DB$17:DB62<>\"\"), DB$17:DB62), DB63))","v":0},null,null,null,null,155,"",null,null,{"$f":"IF(DK64=\"\", 0, DK64 - IF(DK63=\"\", LOOKUP(2, 1/(DK$17:DK62<>\"\"), DK$17:DK62), DK63))","v":0},null,null,null,null,155,"",null,null,{"$f":"IF(DT64=\"\", 0, DT64 - IF(DT63=\"\", LOOKUP(2, 1/(DT$17:DT62<>\"\"), DT$17:DT62), DT63))","v":0},null,null,null,null,155,"",null,null,{"$f":"IF(EC64=\"\", 0, EC64 - IF(EC63=\"\", LOOKUP(2, 1/(EC$17:EC62<>\"\"), EC$17:EC62), EC63))","v":0},null,null,null,null,155,"",null,null,{"$f":"IF(EL64=\"\", 0, EL64 - IF(EL63=\"\", LOOKUP(2, 1/(EL$17:EL62<>\"\"), EL$17:EL62), EL63))","v":0},null,null,null,null,155,"",null,null,{"$f":"IF(EU64=\"\", 0, EU64 - IF(EU63=\"\", LOOKUP(2, 1/(EU$17:EU62<>\"\"), EU$17:EU62), EU63))","v":0},null,null,null,null,155,"",null,null,{"$f":"IF(FD64=\"\", 0, FD64 - IF(FD63=\"\", LOOKUP(2, 1/(FD$17:FD62<>\"\"), FD$17:FD62), FD63))","v":0},null,null,null,null,155,"",null,null,{"$f":"IF(FM64=\"\", 0, FM64 - IF(FM63=\"\", LOOKUP(2, 1/(FM$17:FM62<>\"\"), FM$17:FM62), FM63))","v":0},null,null,null,null,155,"",null,null,{"$f":"IF(FV64=\"\", 0, FV64 - IF(FV63=\"\", LOOKUP(2, 1/(FV$17:FV62<>\"\"), FV$17:FV62), FV63))","v":0},null,null,null,null,155,"",null,null,{"$f":"IF(GE64=\"\", 0, GE64 - IF(GE63=\"\", LOOKUP(2, 1/(GE$17:GE62<>\"\"), GE$17:GE62), GE63))","v":0},null,null,null,null,155,"",null,null,{"$f":"IF(GN64=\"\", 0, GN64 - IF(GN63=\"\", LOOKUP(2, 1/(GN$17:GN62<>\"\"), GN$17:GN62), GN63))","v":0},null,null,null,null,155,"",null,null,{"$f":"IF(GW64=\"\", 0, GW64 - IF(GW63=\"\", LOOKUP(2, 1/(GW$17:GW62<>\"\"), GW$17:GW62), GW63))","v":0},null,null,null,null,155,"",null,null,{"$f":"IF(HF64=\"\", 0, HF64 - IF(HF63=\"\", LOOKUP(2, 1/(HF$17:HF62<>\"\"), HF$17:HF62), HF63))","v":0},null,null,null,null,155,"",null,null,{"$f":"IF(HO64=\"\", 0, HO64 - IF(HO63=\"\", LOOKUP(2, 1/(HO$17:HO62<>\"\"), HO$17:HO62), HO63))","v":0},null,null,null,null,155,"",null,null,{"$f":"IF(HX64=\"\", 0, HX64 - IF(HX63=\"\", LOOKUP(2, 1/(HX$17:HX62<>\"\"), HX$17:HX62), HX63))","v":0},null,null,null,null,155,"",null,null,{"$f":"IF(IG64=\"\", 0, IG64 - IF(IG63=\"\", LOOKUP(2, 1/(IG$17:IG62<>\"\"), IG$17:IG62), IG63))","v":0},null,null,null,null,155,"",null,null,{"$f":"IF(IP64=\"\", 0, IP64 - IF(IP63=\"\", LOOKUP(2, 1/(IP$17:IP62<>\"\"), IP$17:IP62), IP63))","v":0},null,null,null,null,155,"",null,null,{"$f":"IF(IY64=\"\", 0, IY64 - IF(IY63=\"\", LOOKUP(2, 1/(IY$17:IY62<>\"\"), IY$17:IY62), IY63))","v":0},null,null,null,null,155,"",null,null,{"$f":"IF(JH64=\"\", 0, JH64 - IF(JH63=\"\", LOOKUP(2, 1/(JH$17:JH62<>\"\"), JH$17:JH62), JH63))","v":0},null,null,null,null,155,"",null,null,{"$f":"IF(JQ64=\"\", 0, JQ64 - IF(JQ63=\"\", LOOKUP(2, 1/(JQ$17:JQ62<>\"\"), JQ$17:JQ62), JQ63))","v":0},null,null,null,null,155,"",null,null,{"$f":"IF(JZ64=\"\", 0, JZ64 - IF(JZ63=\"\", LOOKUP(2, 1/(JZ$17:JZ62<>\"\"), JZ$17:JZ62), JZ63))","v":0},null,null,null,null,155,"",null,null,{"$f":"IF(KI64=\"\", 0, KI64 - IF(KI63=\"\", LOOKUP(2, 1/(KI$17:KI62<>\"\"), KI$17:KI62), KI63))","v":0},null,null,null,null,155,"",null,null,{"$f":"IF(KR64=\"\", 0, KR64 - IF(KR63=\"\", LOOKUP(2, 1/(KR$17:KR62<>\"\"), KR$17:KR62), KR63))","v":0},null,null,null,null,155,"",null,null,{"$f":"IF(LA64=\"\", 0, LA64 - IF(LA63=\"\", LOOKUP(2, 1/(LA$17:LA62<>\"\"), LA$17:LA62), LA63))","v":0},null,null,null,null,155,"",null,null,{"$f":"IF(LJ64=\"\", 0, LJ64 - IF(LJ63=\"\", LOOKUP(2, 1/(LJ$17:LJ62<>\"\"), LJ$17:LJ62), LJ63))","v":0},null,null,null,null,155,"",null,null,{"$f":"IF(LS64=\"\", 0, LS64 - IF(LS63=\"\", LOOKUP(2, 1/(LS$17:LS62<>\"\"), LS$17:LS62), LS63))","v":0},null,null,null,null,155,"",null,null,{"$f":"IF(MB64=\"\", 0, MB64 - IF(MB63=\"\", LOOKUP(2, 1/(MB$17:MB62<>\"\"), MB$17:MB62), MB63))","v":0},null,null,null,null,155,"",null,null,{"$f":"IF(MK64=\"\", 0, MK64 - IF(MK63=\"\", LOOKUP(2, 1/(MK$17:MK62<>\"\"), MK$17:MK62), MK63))","v":0},null,null,null,null,155,"",null,null,{"$f":"IF(MT64=\"\", 0, MT64 - IF(MT63=\"\", LOOKUP(2, 1/(MT$17:MT62<>\"\"), MT$17:MT62), MT63))","v":0},null,null,155,"",null,null,{"$f":"IF(NA64=\"\", 0, NA64 - IF(NA63=\"\", LOOKUP(2, 1/(NA$17:NA62<>\"\"), NA$17:NA62), NA63))","v":0},null,null,null,null,155,"",null,null,{"$f":"IF(NJ64=\"\", 0, NJ64 - IF(NJ63=\"\", LOOKUP(2, 1/(NJ$17:NJ62<>\"\"), NJ$17:NJ62), NJ63))","v":0},null,null,null,null,155,"",null,null,{"$f":"IF(NS64=\"\", 0, NS64 - IF(NS63=\"\", LOOKUP(2, 1/(NS$17:NS62<>\"\"), NS$17:NS62), NS63))","v":0},null,null,null,null,155,"",null,null,{"$f":"IF(OB64=\"\", 0, OB64 - IF(OB63=\"\", LOOKUP(2, 1/(OB$17:OB62<>\"\"), OB$17:OB62), OB63))","v":0},null,null,null,null,155,"",null,null,{"$f":"IF(OK64=\"\", 0, OK64 - IF(OK63=\"\", LOOKUP(2, 1/(OK$17:OK62<>\"\"), OK$17:OK62), OK63))","v":0},null,null,null,null,155,"",null,null,{"$f":"IF(OT64=\"\", 0, OT64 - IF(OT63=\"\", LOOKUP(2, 1/(OT$17:OT62<>\"\"), OT$17:OT62), OT63))","v":0},null,null,null,null,155,"",null,null,{"$f":"IF(PC64=\"\", 0, PC64 - IF(PC63=\"\", LOOKUP(2, 1/(PC$17:PC62<>\"\"), PC$17:PC62), PC63))","v":0},null,null,null,null,155,"",null,null,{"$f":"IF(PL64=\"\", 0, PL64 - IF(PL63=\"\", LOOKUP(2, 1/(PL$17:PL62<>\"\"), PL$17:PL62), PL63))","v":0},null,null,null,null,155,"",null,null,{"$f":"IF(PU64=\"\", 0, PU64 - IF(PU63=\"\", LOOKUP(2, 1/(PU$17:PU62<>\"\"), PU$17:PU62), PU63))","v":0},null,null,null,null,155,"",null,null,{"$f":"IF(QD64=\"\", 0, QD64 - IF(QD63=\"\", LOOKUP(2, 1/(QD$17:QD62<>\"\"), QD$17:QD62), QD63))","v":0}]
[null,null,null,154,"",null,null,{"$f":"IF(G65=\"\", 0, G65 - IF(G64=\"\", LOOKUP(2, 1/(G$17:G63<>\"\"), G$17:G63), G64))","v":0},null,null,null,null,154,"",null,null,{"$f":"IF(P65=\"\", 0, P65 - IF(P64=\"\", LOOKUP(2, 1/(P$17:P63<>\"\"), P$17:P63), P64))","v":0},null,null,null,null,154,"",null,null,{"$f":"IF(Y65=\"\", 0, Y65 - IF(Y64=\"\", LOOKUP(2, 1/(Y$17:Y63<>\"\"), Y$17:Y63), Y64))","v":0},null,null,null,null,154,"",null,null,{"$f":"IF(AH65=\"\", 0, AH65 - IF(AH64=\"\", LOOKUP(2, 1/(AH$17:AH63<>\"\"), AH$17:AH63), AH64))","v":0},null,null,null,null,154,"",null,null,{"$f":"IF(AQ65=\"\", 0, AQ65 - IF(AQ64=\"\", LOOKUP(2, 1/(AQ$17:AQ63<>\"\"), AQ$17:AQ63), AQ64))","v":0},null,null,null,null,154,"",null,null,{"$f":"IF(AZ65=\"\", 0, AZ65 - IF(AZ64=\"\", LOOKUP(2, 1/(AZ$17:AZ63<>\"\"), AZ$17:AZ63), AZ64))","v":0},null,null,null,null,154,"",null,null,{"$f":"IF(BI65=\"\", 0, BI65 - IF(BI64=\"\", LOOKUP(2, 1/(BI$17:BI63<>\"\"), BI$17:BI63), BI64))","v":0},null,null,null,null,154,"",null,null,{"$f":"IF(BR65=\"\", 0, BR65 - IF(BR64=\"\", LOOKUP(2, 1/(BR$17:BR63<>\"\"), BR$17:BR63), BR64))","v":0},null,null,null,null,154,"",null,null,{"$f":"IF(CA65=\"\", 0, CA65 - IF(CA64=\"\", LOOKUP(2, 1/(CA$17:CA63<>\"\"), CA$17:CA63), CA64))","v":0},null,null,null,null,154,"",null,null,{"$f":"IF(CJ65=\"\", 0, CJ65 - IF(CJ64=\"\", LOOKUP(2, 1/(CJ$17:CJ63<>\"\"), CJ$17:CJ63), CJ64))","v":0},null,null,null,null,154,"",null,null,{"$f":"IF(CS65=\"\", 0, CS65 - IF(CS64=\"\", LOOKUP(2, 1/(CS$17:CS63<>\"\"), CS$17:CS63), CS64))","v":0},null,null,null,null,154,"",null,null,{"$f":"IF(DB65=\"\", 0, DB65 - IF(DB64=\"\", LOOKUP(2, 1/(DB$17:DB63<>\"\"), DB$17:DB63), DB64))","v":0},null,null,null,null,154,"",null,null,{"$f":"IF(DK65=\"\", 0, DK65 - IF(DK64=\"\", LOOKUP(2, 1/(DK$17:DK63<>\"\"), DK$17:DK63), DK64))","v":0},null,null,null,null,154,"",null,null,{"$f":"IF(DT65=\"\", 0, DT65 - IF(DT64=\"\", LOOKUP(2, 1/(DT$17:DT63<>\"\"), DT$17:DT63), DT64))","v":0},null,null,null,null,154,"",null,null,{"$f":"IF(EC65=\"\", 0, EC65 - IF(EC64=\"\", LOOKUP(2, 1/(EC$17:EC63<>\"\"), EC$17:EC63), EC64))","v":0},null,null,null,null,154,"",null,null,{"$f":"IF(EL65=\"\", 0, EL65 - IF(EL64=\"\", LOOKUP(2, 1/(EL$17:EL63<>\"\"), EL$17:EL63), EL64))","v":0},null,null,null,null,154,"",null,null,{"$f":"IF(EU65=\"\", 0, EU65 - IF(EU64=\"\", LOOKUP(2, 1/(EU$17:EU63<>\"\"), EU$17:EU63), EU64))","v":0},null,null,null,null,154,"",null,null,{"$f":"IF(FD65=\"\", 0, FD65 - IF(FD64=\"\", LOOKUP(2, 1/(FD$17:FD63<>\"\"), FD$17:FD63), FD64))","v":0},null,null,null,null,154,"",null,null,{"$f":"IF(FM65=\"\", 0, FM65 - IF(FM64=\"\", LOOKUP(2, 1/(FM$17:FM63<>\"\"), FM$17:FM63), FM64))","v":0},null,null,null,null,154,"",null,null,{"$f":"IF(FV65=\"\", 0, FV65 - IF(FV64=\"\", LOOKUP(2, 1/(FV$17:FV63<>\"\"), FV$17:FV63), FV64))","v":0},null,null,null,null,154,"",null,null,{"$f":"IF(GE65=\"\", 0, GE65 - IF(GE64=\"\", LOOKUP(2, 1/(GE$17:GE63<>\"\"), GE$17:GE63), GE64))","v":0},null,null,null,null,154,"",null,null,{"$f":"IF(GN65=\"\", 0, GN65 - IF(GN64=\"\", LOOKUP(2, 1/(GN$17:GN63<>\"\"), GN$17:GN63), GN64))","v":0},null,null,null,null,154,"",null,null,{"$f":"IF(GW65=\"\", 0, GW65 - IF(GW64=\"\", LOOKUP(2, 1/(GW$17:GW63<>\"\"), GW$17:GW63), GW64))","v":0},null,null,null,null,154,"",null,null,{"$f":"IF(HF65=\"\", 0, HF65 - IF(HF64=\"\", LOOKUP(2, 1/(HF$17:HF63<>\"\"), HF$17:HF63), HF64))","v":0},null,null,null,null,154,"",null,null,{"$f":"IF(HO65=\"\", 0, HO65 - IF(HO64=\"\", LOOKUP(2, 1/(HO$17:HO63<>\"\"), HO$17:HO63), HO64))","v":0},null,null,null,null,154,"",null,null,{"$f":"IF(HX65=\"\", 0, HX65 - IF(HX64=\"\", LOOKUP(2, 1/(HX$17:HX63<>\"\"), HX$17:HX63), HX64))","v":0},null,null,null,null,154,"",null,null,{"$f":"IF(IG65=\"\", 0, IG65 - IF(IG64=\"\", LOOKUP(2, 1/(IG$17:IG63<>\"\"), IG$17:IG63), IG64))","v":0},null,null,null,null,154,"",null,null,{"$f":"IF(IP65=\"\", 0, IP65 - IF(IP64=\"\", LOOKUP(2, 1/(IP$17:IP63<>\"\"), IP$17:IP63), IP64))","v":0},null,null,null,null,154,"",null,null,{"$f":"IF(IY65=\"\", 0, IY65 - IF(IY64=\"\", LOOKUP(2, 1/(IY$17:IY63<>\"\"), IY$17:IY63), IY64))","v":0},null,null,null,null,154,"",null,null,{"$f":"IF(JH65=\"\", 0, JH65 - IF(JH64=\"\", LOOKUP(2, 1/(JH$17:JH63<>\"\"), JH$17:JH63), JH64))","v":0},null,null,null,null,154,"",null,null,{"$f":"IF(JQ65=\"\", 0, JQ65 - IF(JQ64=\"\", LOOKUP(2, 1/(JQ$17:JQ63<>\"\"), JQ$17:JQ63), JQ64))","v":0},null,null,null,null,154,"",null,null,{"$f":"IF(JZ65=\"\", 0, JZ65 - IF(JZ64=\"\", LOOKUP(2, 1/(JZ$17:JZ63<>\"\"), JZ$17:JZ63), JZ64))","v":0},null,null,null,null,154,"",null,null,{"$f":"IF(KI65=\"\", 0, KI65 - IF(KI64=\"\", LOOKUP(2, 1/(KI$17:KI63<>\"\"), KI$17:KI63), KI64))","v":0},null,null,null,null,154,"",null,null,{"$f":"IF(KR65=\"\", 0, KR65 - IF(KR64=\"\", LOOKUP(2, 1/(KR$17:KR63<>\"\"), KR$17:KR63), KR64))","v":0},null,null,null,null,154,"",null,null,{"$f":"IF(LA65=\"\", 0, LA65 - IF(LA64=\"\", LOOKUP(2, 1/(LA$17:LA63<>\"\"), LA$17:LA63), LA64))","v":0},null,null,null,null,154,"",null,null,{"$f":"IF(LJ65=\"\", 0, LJ65 - IF(LJ64=\"\", LOOKUP(2, 1/(LJ$17:LJ63<>\"\"), LJ$17:LJ63), LJ64))","v":0},null,null,null,null,154,"",null,null,{"$f":"IF(LS65=\"\", 0, LS65 - IF(LS64=\"\", LOOKUP(2, 1/(LS$17:LS63<>\"\"), LS$17:LS63), LS64))","v":0},null,null,null,null,154,"",null,null,{"$f":"IF(MB65=\"\", 0, MB65 - IF(MB64=\"\", LOOKUP(2, 1/(MB$17:MB63<>\"\"), MB$17:MB63), MB64))","v":0},null,null,null,null,154,"",null,null,{"$f":"IF(MK65=\"\", 0, MK65 - IF(MK64=\"\", LOOKUP(2, 1/(MK$17:MK63<>\"\"), MK$17:MK63), MK64))","v":0},null,null,null,null,154,"",null,null,{"$f":"IF(MT65=\"\", 0, MT65 - IF(MT64=\"\", LOOKUP(2, 1/(MT$17:MT63<>\"\"), MT$17:MT63), MT64))","v":0},null,null,154,"",null,null,{"$f":"IF(NA65=\"\", 0, NA65 - IF(NA64=\"\", LOOKUP(2, 1/(NA$17:NA63<>\"\"), NA$17:NA63), NA64))","v":0},null,null,null,null,154,"",null,null,{"$f":"IF(NJ65=\"\", 0, NJ65 - IF(NJ64=\"\", LOOKUP(2, 1/(NJ$17:NJ63<>\"\"), NJ$17:NJ63), NJ64))","v":0},null,null,null,null,154,"",null,null,{"$f":"IF(NS65=\"\", 0, NS65 - IF(NS64=\"\", LOOKUP(2, 1/(NS$17:NS63<>\"\"), NS$17:NS63), NS64))","v":0},null,null,null,null,154,"",null,null,{"$f":"IF(OB65=\"\", 0, OB65 - IF(OB64=\"\", LOOKUP(2, 1/(OB$17:OB63<>\"\"), OB$17:OB63), OB64))","v":0},null,null,null,null,154,"",null,null,{"$f":"IF(OK65=\"\", 0, OK65 - IF(OK64=\"\", LOOKUP(2, 1/(OK$17:OK63<>\"\"), OK$17:OK63), OK64))","v":0},null,null,null,null,154,"",null,null,{"$f":"IF(OT65=\"\", 0, OT65 - IF(OT64=\"\", LOOKUP(2, 1/(OT$17:OT63<>\"\"), OT$17:OT63), OT64))","v":0},null,null,null,null,154,"",null,null,{"$f":"IF(PC65=\"\", 0, PC65 - IF(PC64=\"\", LOOKUP(2, 1/(PC$17:PC63<>\"\"), PC$17:PC63), PC64))","v":0},null,null,null,null,154,"",null,null,{"$f":"IF(PL65=\"\", 0, PL65 - IF(PL64=\"\", LOOKUP(2, 1/(PL$17:PL63<>\"\"), PL$17:PL63), PL64))","v":0},null,null,null,null,154,"",null,null,{"$f":"IF(PU65=\"\", 0, PU65 - IF(PU64=\"\", LOOKUP(2, 1/(PU$17:PU63<>\"\"), PU$17:PU63), PU64))","v":0},null,null,null,null,154,"",null,null,{"$f":"IF(QD65=\"\", 0, QD65 - IF(QD64=\"\", LOOKUP(2, 1/(QD$17:QD63<>\"\"), QD$17:QD63), QD64))","v":0}]
[null,null,null,153,"",null,null,{"$f":"IF(G66=\"\", 0, G66 - IF(G65=\"\", LOOKUP(2, 1/(G$17:G64<>\"\"), G$17:G64), G65))","v":0},null,null,null,null,153,"",null,null,{"$f":"IF(P66=\"\", 0, P66 - IF(P65=\"\", LOOKUP(2, 1/(P$17:P64<>\"\"), P$17:P64), P65))","v":0},null,null,null,null,153,"",null,null,{"$f":"IF(Y66=\"\", 0, Y66 - IF(Y65=\"\", LOOKUP(2, 1/(Y$17:Y64<>\"\"), Y$17:Y64), Y65))","v":0},null,null,null,null,153,"",null,null,{"$f":"IF(AH66=\"\", 0, AH66 - IF(AH65=\"\", LOOKUP(2, 1/(AH$17:AH64<>\"\"), AH$17:AH64), AH65))","v":0},null,null,null,null,153,"",null,null,{"$f":"IF(AQ66=\"\", 0, AQ66 - IF(AQ65=\"\", LOOKUP(2, 1/(AQ$17:AQ64<>\"\"), AQ$17:AQ64), AQ65))","v":0},null,null,null,null,153,"",null,null,{"$f":"IF(AZ66=\"\", 0, AZ66 - IF(AZ65=\"\", LOOKUP(2, 1/(AZ$17:AZ64<>\"\"), AZ$17:AZ64), AZ65))","v":0},null,null,null,null,153,"",null,null,{"$f":"IF(BI66=\"\", 0, BI66 - IF(BI65=\"\", LOOKUP(2, 1/(BI$17:BI64<>\"\"), BI$17:BI64), BI65))","v":0},null,null,null,null,153,"",null,null,{"$f":"IF(BR66=\"\", 0, BR66 - IF(BR65=\"\", LOOKUP(2, 1/(BR$17:BR64<>\"\"), BR$17:BR64), BR65))","v":0},null,null,null,null,153,"",null,null,{"$f":"IF(CA66=\"\", 0, CA66 - IF(CA65=\"\", LOOKUP(2, 1/(CA$17:CA64<>\"\"), CA$17:CA64), CA65))","v":0},null,null,null,null,153,"",null,null,{"$f":"IF(CJ66=\"\", 0, CJ66 - IF(CJ65=\"\", LOOKUP(2, 1/(CJ$17:CJ64<>\"\"), CJ$17:CJ64), CJ65))","v":0},null,null,null,null,153,"",null,null,{"$f":"IF(CS66=\"\", 0, CS66 - IF(CS65=\"\", LOOKUP(2, 1/(CS$17:CS64<>\"\"), CS$17:CS64), CS65))","v":0},null,null,null,null,153,"",null,null,{"$f":"IF(DB66=\"\", 0, DB66 - IF(DB65=\"\", LOOKUP(2, 1/(DB$17:DB64<>\"\"), DB$17:DB64), DB65))","v":0},null,null,null,null,153,"",null,null,{"$f":"IF(DK66=\"\", 0, DK66 - IF(DK65=\"\", LOOKUP(2, 1/(DK$17:DK64<>\"\"), DK$17:DK64), DK65))","v":0},null,null,null,null,153,"",null,null,{"$f":"IF(DT66=\"\", 0, DT66 - IF(DT65=\"\", LOOKUP(2, 1/(DT$17:DT64<>\"\"), DT$17:DT64), DT65))","v":0},null,null,null,null,153,"",null,null,{"$f":"IF(EC66=\"\", 0, EC66 - IF(EC65=\"\", LOOKUP(2, 1/(EC$17:EC64<>\"\"), EC$17:EC64), EC65))","v":0},null,null,null,null,153,"",null,null,{"$f":"IF(EL66=\"\", 0, EL66 - IF(EL65=\"\", LOOKUP(2, 1/(EL$17:EL64<>\"\"), EL$17:EL64), EL65))","v":0},null,null,null,null,153,"",null,null,{"$f":"IF(EU66=\"\", 0, EU66 - IF(EU65=\"\", LOOKUP(2, 1/(EU$17:EU64<>\"\"), EU$17:EU64), EU65))","v":0},null,null,null,null,153,"",null,null,{"$f":"IF(FD66=\"\", 0, FD66 - IF(FD65=\"\", LOOKUP(2, 1/(FD$17:FD64<>\"\"), FD$17:FD64), FD65))","v":0},null,null,null,null,153,"",null,null,{"$f":"IF(FM66=\"\", 0, FM66 - IF(FM65=\"\", LOOKUP(2, 1/(FM$17:FM64<>\"\"), FM$17:FM64), FM65))","v":0},null,null,null,null,153,"",null,null,{"$f":"IF(FV66=\"\", 0, FV66 - IF(FV65=\"\", LOOKUP(2, 1/(FV$17:FV64<>\"\"), FV$17:FV64), FV65))","v":0},null,null,null,null,153,"",null,null,{"$f":"IF(GE66=\"\", 0, GE66 - IF(GE65=\"\", LOOKUP(2, 1/(GE$17:GE64<>\"\"), GE$17:GE64), GE65))","v":0},null,null,null,null,153,"",null,null,{"$f":"IF(GN66=\"\", 0, GN66 - IF(GN65=\"\", LOOKUP(2, 1/(GN$17:GN64<>\"\"), GN$17:GN64), GN65))","v":0},null,null,null,null,153,"",null,null,{"$f":"IF(GW66=\"\", 0, GW66 - IF(GW65=\"\", LOOKUP(2, 1/(GW$17:GW64<>\"\"), GW$17:GW64), GW65))","v":0},null,null,null,null,153,"",null,null,{"$f":"IF(HF66=\"\", 0, HF66 - IF(HF65=\"\", LOOKUP(2, 1/(HF$17:HF64<>\"\"), HF$17:HF64), HF65))","v":0},null,null,null,null,153,"",null,null,{"$f":"IF(HO66=\"\", 0, HO66 - IF(HO65=\"\", LOOKUP(2, 1/(HO$17:HO64<>\"\"), HO$17:HO64), HO65))","v":0},null,null,null,null,153,"",null,null,{"$f":"IF(HX66=\"\", 0, HX66 - IF(HX65=\"\", LOOKUP(2, 1/(HX$17:HX64<>\"\"), HX$17:HX64), HX65))","v":0},null,null,null,null,153,"",null,null,{"$f":"IF(IG66=\"\", 0, IG66 - IF(IG65=\"\", LOOKUP(2, 1/(IG$17:IG64<>\"\"), IG$17:IG64), IG65))","v":0},null,null,null,null,153,"",null,null,{"$f":"IF(IP66=\"\", 0, IP66 - IF(IP65=\"\", LOOKUP(2, 1/(IP$17:IP64<>\"\"), IP$17:IP64), IP65))","v":0},null,null,null,null,153,"",null,null,{"$f":"IF(IY66=\"\", 0, IY66 - IF(IY65=\"\", LOOKUP(2, 1/(IY$17:IY64<>\"\"), IY$17:IY64), IY65))","v":0},null,null,null,null,153,"",null,null,{"$f":"IF(JH66=\"\", 0, JH66 - IF(JH65=\"\", LOOKUP(2, 1/(JH$17:JH64<>\"\"), JH$17:JH64), JH65))","v":0},null,null,null,null,153,"",null,null,{"$f":"IF(JQ66=\"\", 0, JQ66 - IF(JQ65=\"\", LOOKUP(2, 1/(JQ$17:JQ64<>\"\"), JQ$17:JQ64), JQ65))","v":0},null,null,null,null,153,"",null,null,{"$f":"IF(JZ66=\"\", 0, JZ66 - IF(JZ65=\"\", LOOKUP(2, 1/(JZ$17:JZ64<>\"\"), JZ$17:JZ64), JZ65))","v":0},null,null,null,null,153,"",null,null,{"$f":"IF(KI66=\"\", 0, KI66 - IF(KI65=\"\", LOOKUP(2, 1/(KI$17:KI64<>\"\"), KI$17:KI64), KI65))","v":0},null,null,null,null,153,"",null,null,{"$f":"IF(KR66=\"\", 0, KR66 - IF(KR65=\"\", LOOKUP(2, 1/(KR$17:KR64<>\"\"), KR$17:KR64), KR65))","v":0},null,null,null,null,153,"",null,null,{"$f":"IF(LA66=\"\", 0, LA66 - IF(LA65=\"\", LOOKUP(2, 1/(LA$17:LA64<>\"\"), LA$17:LA64), LA65))","v":0},null,null,null,null,153,"",null,null,{"$f":"IF(LJ66=\"\", 0, LJ66 - IF(LJ65=\"\", LOOKUP(2, 1/(LJ$17:LJ64<>\"\"), LJ$17:LJ64), LJ65))","v":0},null,null,null,null,153,"",null,null,{"$f":"IF(LS66=\"\", 0, LS66 - IF(LS65=\"\", LOOKUP(2, 1/(LS$17:LS64<>\"\"), LS$17:LS64), LS65))","v":0},null,null,null,null,153,"",null,null,{"$f":"IF(MB66=\"\", 0, MB66 - IF(MB65=\"\", LOOKUP(2, 1/(MB$17:MB64<>\"\"), MB$17:MB64), MB65))","v":0},null,null,null,null,153,"",null,null,{"$f":"IF(MK66=\"\", 0, MK66 - IF(MK65=\"\", LOOKUP(2, 1/(MK$17:MK64<>\"\"), MK$17:MK64), MK65))","v":0},null,null,null,null,153,"",null,null,{"$f":"IF(MT66=\"\", 0, MT66 - IF(MT65=\"\", LOOKUP(2, 1/(MT$17:MT64<>\"\"), MT$17:MT64), MT65))","v":0},null,null,153,"",null,null,{"$f":"IF(NA66=\"\", 0, NA66 - IF(NA65=\"\", LOOKUP(2, 1/(NA$17:NA64<>\"\"), NA$17:NA64), NA65))","v":0},null,null,null,null,153,"",null,null,{"$f":"IF(NJ66=\"\", 0, NJ66 - IF(NJ65=\"\", LOOKUP(2, 1/(NJ$17:NJ64<>\"\"), NJ$17:NJ64), NJ65))","v":0},null,null,null,null,153,"",null,null,{"$f":"IF(NS66=\"\", 0, NS66 - IF(NS65=\"\", LOOKUP(2, 1/(NS$17:NS64<>\"\"), NS$17:NS64), NS65))","v":0},null,null,null,null,153,"",null,null,{"$f":"IF(OB66=\"\", 0, OB66 - IF(OB65=\"\", LOOKUP(2, 1/(OB$17:OB64<>\"\"), OB$17:OB64), OB65))","v":0},null,null,null,null,153,"",null,null,{"$f":"IF(OK66=\"\", 0, OK66 - IF(OK65=\"\", LOOKUP(2, 1/(OK$17:OK64<>\"\"), OK$17:OK64), OK65))","v":0},null,null,null,null,153,"",null,null,{"$f":"IF(OT66=\"\", 0, OT66 - IF(OT65=\"\", LOOKUP(2, 1/(OT$17:OT64<>\"\"), OT$17:OT64), OT65))","v":0},null,null,null,null,153,"",null,null,{"$f":"IF(PC66=\"\", 0, PC66 - IF(PC65=\"\", LOOKUP(2, 1/(PC$17:PC64<>\"\"), PC$17:PC64), PC65))","v":0},null,null,null,null,153,"",null,null,{"$f":"IF(PL66=\"\", 0, PL66 - IF(PL65=\"\", LOOKUP(2, 1/(PL$17:PL64<>\"\"), PL$17:PL64), PL65))","v":0},null,null,null,null,153,"",null,null,{"$f":"IF(PU66=\"\", 0, PU66 - IF(PU65=\"\", LOOKUP(2, 1/(PU$17:PU64<>\"\"), PU$17:PU64), PU65))","v":0},null,null,null,null,153,"",null,null,{"$f":"IF(QD66=\"\", 0, QD66 - IF(QD65=\"\", LOOKUP(2, 1/(QD$17:QD64<>\"\"), QD$17:QD64), QD65))","v":0}]
[null,null,null,152,"",null,null,{"$f":"IF(G67=\"\", 0, G67 - IF(G66=\"\", LOOKUP(2, 1/(G$17:G65<>\"\"), G$17:G65), G66))","v":0},null,null,null,null,152,"",null,null,{"$f":"IF(P67=\"\", 0, P67 - IF(P66=\"\", LOOKUP(2, 1/(P$17:P65<>\"\"), P$17:P65), P66))","v":0},null,null,null,null,152,"",null,null,{"$f":"IF(Y67=\"\", 0, Y67 - IF(Y66=\"\", LOOKUP(2, 1/(Y$17:Y65<>\"\"), Y$17:Y65), Y66))","v":0},null,null,null,null,152,"",null,null,{"$f":"IF(AH67=\"\", 0, AH67 - IF(AH66=\"\", LOOKUP(2, 1/(AH$17:AH65<>\"\"), AH$17:AH65), AH66))","v":0},null,null,null,null,152,"",null,null,{"$f":"IF(AQ67=\"\", 0, AQ67 - IF(AQ66=\"\", LOOKUP(2, 1/(AQ$17:AQ65<>\"\"), AQ$17:AQ65), AQ66))","v":0},null,null,null,null,152,"",null,null,{"$f":"IF(AZ67=\"\", 0, AZ67 - IF(AZ66=\"\", LOOKUP(2, 1/(AZ$17:AZ65<>\"\"), AZ$17:AZ65), AZ66))","v":0},null,null,null,null,152,"",null,null,{"$f":"IF(BI67=\"\", 0, BI67 - IF(BI66=\"\", LOOKUP(2, 1/(BI$17:BI65<>\"\"), BI$17:BI65), BI66))","v":0},null,null,null,null,152,"",null,null,{"$f":"IF(BR67=\"\", 0, BR67 - IF(BR66=\"\", LOOKUP(2, 1/(BR$17:BR65<>\"\"), BR$17:BR65), BR66))","v":0},null,null,null,null,152,"",null,null,{"$f":"IF(CA67=\"\", 0, CA67 - IF(CA66=\"\", LOOKUP(2, 1/(CA$17:CA65<>\"\"), CA$17:CA65), CA66))","v":0},null,null,null,null,152,"",null,null,{"$f":"IF(CJ67=\"\", 0, CJ67 - IF(CJ66=\"\", LOOKUP(2, 1/(CJ$17:CJ65<>\"\"), CJ$17:CJ65), CJ66))","v":0},null,null,null,null,152,"",null,null,{"$f":"IF(CS67=\"\", 0, CS67 - IF(CS66=\"\", LOOKUP(2, 1/(CS$17:CS65<>\"\"), CS$17:CS65), CS66))","v":0},null,null,null,null,152,"",null,null,{"$f":"IF(DB67=\"\", 0, DB67 - IF(DB66=\"\", LOOKUP(2, 1/(DB$17:DB65<>\"\"), DB$17:DB65), DB66))","v":0},null,null,null,null,152,"",null,null,{"$f":"IF(DK67=\"\", 0, DK67 - IF(DK66=\"\", LOOKUP(2, 1/(DK$17:DK65<>\"\"), DK$17:DK65), DK66))","v":0},null,null,null,null,152,"",null,null,{"$f":"IF(DT67=\"\", 0, DT67 - IF(DT66=\"\", LOOKUP(2, 1/(DT$17:DT65<>\"\"), DT$17:DT65), DT66))","v":0},null,null,null,null,152,"",null,null,{"$f":"IF(EC67=\"\", 0, EC67 - IF(EC66=\"\", LOOKUP(2, 1/(EC$17:EC65<>\"\"), EC$17:EC65), EC66))","v":0},null,null,null,null,152,"",null,null,{"$f":"IF(EL67=\"\", 0, EL67 - IF(EL66=\"\", LOOKUP(2, 1/(EL$17:EL65<>\"\"), EL$17:EL65), EL66))","v":0},null,null,null,null,152,"",null,null,{"$f":"IF(EU67=\"\", 0, EU67 - IF(EU66=\"\", LOOKUP(2, 1/(EU$17:EU65<>\"\"), EU$17:EU65), EU66))","v":0},null,null,null,null,152,"",null,null,{"$f":"IF(FD67=\"\", 0, FD67 - IF(FD66=\"\", LOOKUP(2, 1/(FD$17:FD65<>\"\"), FD$17:FD65), FD66))","v":0},null,null,null,null,152,"",null,null,{"$f":"IF(FM67=\"\", 0, FM67 - IF(FM66=\"\", LOOKUP(2, 1/(FM$17:FM65<>\"\"), FM$17:FM65), FM66))","v":0},null,null,null,null,152,"",null,null,{"$f":"IF(FV67=\"\", 0, FV67 - IF(FV66=\"\", LOOKUP(2, 1/(FV$17:FV65<>\"\"), FV$17:FV65), FV66))","v":0},null,null,null,null,152,"",null,null,{"$f":"IF(GE67=\"\", 0, GE67 - IF(GE66=\"\", LOOKUP(2, 1/(GE$17:GE65<>\"\"), GE$17:GE65), GE66))","v":0},null,null,null,null,152,"",null,null,{"$f":"IF(GN67=\"\", 0, GN67 - IF(GN66=\"\", LOOKUP(2, 1/(GN$17:GN65<>\"\"), GN$17:GN65), GN66))","v":0},null,null,null,null,152,"",null,null,{"$f":"IF(GW67=\"\", 0, GW67 - IF(GW66=\"\", LOOKUP(2, 1/(GW$17:GW65<>\"\"), GW$17:GW65), GW66))","v":0},null,null,null,null,152,"",null,null,{"$f":"IF(HF67=\"\", 0, HF67 - IF(HF66=\"\", LOOKUP(2, 1/(HF$17:HF65<>\"\"), HF$17:HF65), HF66))","v":0},null,null,null,null,152,"",null,null,{"$f":"IF(HO67=\"\", 0, HO67 - IF(HO66=\"\", LOOKUP(2, 1/(HO$17:HO65<>\"\"), HO$17:HO65), HO66))","v":0},null,null,null,null,152,"",null,null,{"$f":"IF(HX67=\"\", 0, HX67 - IF(HX66=\"\", LOOKUP(2, 1/(HX$17:HX65<>\"\"), HX$17:HX65), HX66))","v":0},null,null,null,null,152,"",null,null,{"$f":"IF(IG67=\"\", 0, IG67 - IF(IG66=\"\", LOOKUP(2, 1/(IG$17:IG65<>\"\"), IG$17:IG65), IG66))","v":0},null,null,null,null,152,"",null,null,{"$f":"IF(IP67=\"\", 0, IP67 - IF(IP66=\"\", LOOKUP(2, 1/(IP$17:IP65<>\"\"), IP$17:IP65), IP66))","v":0},null,null,null,null,152,"",null,null,{"$f":"IF(IY67=\"\", 0, IY67 - IF(IY66=\"\", LOOKUP(2, 1/(IY$17:IY65<>\"\"), IY$17:IY65), IY66))","v":0},null,null,null,null,152,"",null,null,{"$f":"IF(JH67=\"\", 0, JH67 - IF(JH66=\"\", LOOKUP(2, 1/(JH$17:JH65<>\"\"), JH$17:JH65), JH66))","v":0},null,null,null,null,152,"",null,null,{"$f":"IF(JQ67=\"\", 0, JQ67 - IF(JQ66=\"\", LOOKUP(2, 1/(JQ$17:JQ65<>\"\"), JQ$17:JQ65), JQ66))","v":0},null,null,null,null,152,"",null,null,{"$f":"IF(JZ67=\"\", 0, JZ67 - IF(JZ66=\"\", LOOKUP(2, 1/(JZ$17:JZ65<>\"\"), JZ$17:JZ65), JZ66))","v":0},null,null,null,null,152,"",null,null,{"$f":"IF(KI67=\"\", 0, KI67 - IF(KI66=\"\", LOOKUP(2, 1/(KI$17:KI65<>\"\"), KI$17:KI65), KI66))","v":0},null,null,null,null,152,"",null,null,{"$f":"IF(KR67=\"\", 0, KR67 - IF(KR66=\"\", LOOKUP(2, 1/(KR$17:KR65<>\"\"), KR$17:KR65), KR66))","v":0},null,null,null,null,152,"",null,null,{"$f":"IF(LA67=\"\", 0, LA67 - IF(LA66=\"\", LOOKUP(2, 1/(LA$17:LA65<>\"\"), LA$17:LA65), LA66))","v":0},null,null,null,null,152,"",null,null,{"$f":"IF(LJ67=\"\", 0, LJ67 - IF(LJ66=\"\", LOOKUP(2, 1/(LJ$17:LJ65<>\"\"), LJ$17:LJ65), LJ66))","v":0},null,null,null,null,152,"",null,null,{"$f":"IF(LS67=\"\", 0, LS67 - IF(LS66=\"\", LOOKUP(2, 1/(LS$17:LS65<>\"\"), LS$17:LS65), LS66))","v":0},null,null,null,null,152,"",null,null,{"$f":"IF(MB67=\"\", 0, MB67 - IF(MB66=\"\", LOOKUP(2, 1/(MB$17:MB65<>\"\"), MB$17:MB65), MB66))","v":0},null,null,null,null,152,"",null,null,{"$f":"IF(MK67=\"\", 0, MK67 - IF(MK66=\"\", LOOKUP(2, 1/(MK$17:MK65<>\"\"), MK$17:MK65), MK66))","v":0},null,null,null,null,152,"",null,null,{"$f":"IF(MT67=\"\", 0, MT67 - IF(MT66=\"\", LOOKUP(2, 1/(MT$17:MT65<>\"\"), MT$17:MT65), MT66))","v":0},null,null,152,"",null,null,{"$f":"IF(NA67=\"\", 0, NA67 - IF(NA66=\"\", LOOKUP(2, 1/(NA$17:NA65<>\"\"), NA$17:NA65), NA66))","v":0},null,null,null,null,152,"",null,null,{"$f":"IF(NJ67=\"\", 0, NJ67 - IF(NJ66=\"\", LOOKUP(2, 1/(NJ$17:NJ65<>\"\"), NJ$17:NJ65), NJ66))","v":0},null,null,null,null,152,"",null,null,{"$f":"IF(NS67=\"\", 0, NS67 - IF(NS66=\"\", LOOKUP(2, 1/(NS$17:NS65<>\"\"), NS$17:NS65), NS66))","v":0},null,null,null,null,152,"",null,null,{"$f":"IF(OB67=\"\", 0, OB67 - IF(OB66=\"\", LOOKUP(2, 1/(OB$17:OB65<>\"\"), OB$17:OB65), OB66))","v":0},null,null,null,null,152,"",null,null,{"$f":"IF(OK67=\"\", 0, OK67 - IF(OK66=\"\", LOOKUP(2, 1/(OK$17:OK65<>\"\"), OK$17:OK65), OK66))","v":0},null,null,null,null,152,"",null,null,{"$f":"IF(OT67=\"\", 0, OT67 - IF(OT66=\"\", LOOKUP(2, 1/(OT$17:OT65<>\"\"), OT$17:OT65), OT66))","v":0},null,null,null,null,152,"",null,null,{"$f":"IF(PC67=\"\", 0, PC67 - IF(PC66=\"\", LOOKUP(2, 1/(PC$17:PC65<>\"\"), PC$17:PC65), PC66))","v":0},null,null,null,null,152,"",null,null,{"$f":"IF(PL67=\"\", 0, PL67 - IF(PL66=\"\", LOOKUP(2, 1/(PL$17:PL65<>\"\"), PL$17:PL65), PL66))","v":0},null,null,null,null,152,"",null,null,{"$f":"IF(PU67=\"\", 0, PU67 - IF(PU66=\"\", LOOKUP(2, 1/(PU$17:PU65<>\"\"), PU$17:PU65), PU66))","v":0},null,null,null,null,152,"",null,null,{"$f":"IF(QD67=\"\", 0, QD67 - IF(QD66=\"\", LOOKUP(2, 1/(QD$17:QD65<>\"\"), QD$17:QD65), QD66))","v":0}]
[null,null,null,151,"",null,null,{"$f":"IF(G68=\"\", 0, G68 - IF(G67=\"\", LOOKUP(2, 1/(G$17:G66<>\"\"), G$17:G66), G67))","v":0},null,null,null,null,151,"",null,null,{"$f":"IF(P68=\"\", 0, P68 - IF(P67=\"\", LOOKUP(2, 1/(P$17:P66<>\"\"), P$17:P66), P67))","v":0},null,null,null,null,151,"",null,null,{"$f":"IF(Y68=\"\", 0, Y68 - IF(Y67=\"\", LOOKUP(2, 1/(Y$17:Y66<>\"\"), Y$17:Y66), Y67))","v":0},null,null,null,null,151,"",null,null,{"$f":"IF(AH68=\"\", 0, AH68 - IF(AH67=\"\", LOOKUP(2, 1/(AH$17:AH66<>\"\"), AH$17:AH66), AH67))","v":0},null,null,null,null,151,"",null,null,{"$f":"IF(AQ68=\"\", 0, AQ68 - IF(AQ67=\"\", LOOKUP(2, 1/(AQ$17:AQ66<>\"\"), AQ$17:AQ66), AQ67))","v":0},null,null,null,null,151,"",null,null,{"$f":"IF(AZ68=\"\", 0, AZ68 - IF(AZ67=\"\", LOOKUP(2, 1/(AZ$17:AZ66<>\"\"), AZ$17:AZ66), AZ67))","v":0},null,null,null,null,151,"",null,null,{"$f":"IF(BI68=\"\", 0, BI68 - IF(BI67=\"\", LOOKUP(2, 1/(BI$17:BI66<>\"\"), BI$17:BI66), BI67))","v":0},null,null,null,null,151,"",null,null,{"$f":"IF(BR68=\"\", 0, BR68 - IF(BR67=\"\", LOOKUP(2, 1/(BR$17:BR66<>\"\"), BR$17:BR66), BR67))","v":0},null,null,null,null,151,"",null,null,{"$f":"IF(CA68=\"\", 0, CA68 - IF(CA67=\"\", LOOKUP(2, 1/(CA$17:CA66<>\"\"), CA$17:CA66), CA67))","v":0},null,null,null,null,151,"",null,null,{"$f":"IF(CJ68=\"\", 0, CJ68 - IF(CJ67=\"\", LOOKUP(2, 1/(CJ$17:CJ66<>\"\"), CJ$17:CJ66), CJ67))","v":0},null,null,null,null,151,"",null,null,{"$f":"IF(CS68=\"\", 0, CS68 - IF(CS67=\"\", LOOKUP(2, 1/(CS$17:CS66<>\"\"), CS$17:CS66), CS67))","v":0},null,null,null,null,151,"",null,null,{"$f":"IF(DB68=\"\", 0, DB68 - IF(DB67=\"\", LOOKUP(2, 1/(DB$17:DB66<>\"\"), DB$17:DB66), DB67))","v":0},null,null,null,null,151,"",null,null,{"$f":"IF(DK68=\"\", 0, DK68 - IF(DK67=\"\", LOOKUP(2, 1/(DK$17:DK66<>\"\"), DK$17:DK66), DK67))","v":0},null,null,null,null,151,"",null,null,{"$f":"IF(DT68=\"\", 0, DT68 - IF(DT67=\"\", LOOKUP(2, 1/(DT$17:DT66<>\"\"), DT$17:DT66), DT67))","v":0},null,null,null,null,151,"",null,null,{"$f":"IF(EC68=\"\", 0, EC68 - IF(EC67=\"\", LOOKUP(2, 1/(EC$17:EC66<>\"\"), EC$17:EC66), EC67))","v":0},null,null,null,null,151,"",null,null,{"$f":"IF(EL68=\"\", 0, EL68 - IF(EL67=\"\", LOOKUP(2, 1/(EL$17:EL66<>\"\"), EL$17:EL66), EL67))","v":0},null,null,null,null,151,"",null,null,{"$f":"IF(EU68=\"\", 0, EU68 - IF(EU67=\"\", LOOKUP(2, 1/(EU$17:EU66<>\"\"), EU$17:EU66), EU67))","v":0},null,null,null,null,151,"",null,null,{"$f":"IF(FD68=\"\", 0, FD68 - IF(FD67=\"\", LOOKUP(2, 1/(FD$17:FD66<>\"\"), FD$17:FD66), FD67))","v":0},null,null,null,null,151,"",null,null,{"$f":"IF(FM68=\"\", 0, FM68 - IF(FM67=\"\", LOOKUP(2, 1/(FM$17:FM66<>\"\"), FM$17:FM66), FM67))","v":0},null,null,null,null,151,"",null,null,{"$f":"IF(FV68=\"\", 0, FV68 - IF(FV67=\"\", LOOKUP(2, 1/(FV$17:FV66<>\"\"), FV$17:FV66), FV67))","v":0},null,null,null,null,151,"",null,null,{"$f":"IF(GE68=\"\", 0, GE68 - IF(GE67=\"\", LOOKUP(2, 1/(GE$17:GE66<>\"\"), GE$17:GE66), GE67))","v":0},null,null,null,null,151,"",null,null,{"$f":"IF(GN68=\"\", 0, GN68 - IF(GN67=\"\", LOOKUP(2, 1/(GN$17:GN66<>\"\"), GN$17:GN66), GN67))","v":0},null,null,null,null,151,"",null,null,{"$f":"IF(GW68=\"\", 0, GW68 - IF(GW67=\"\", LOOKUP(2, 1/(GW$17:GW66<>\"\"), GW$17:GW66), GW67))","v":0},null,null,null,null,151,"",null,null,{"$f":"IF(HF68=\"\", 0, HF68 - IF(HF67=\"\", LOOKUP(2, 1/(HF$17:HF66<>\"\"), HF$17:HF66), HF67))","v":0},null,null,null,null,151,"",null,null,{"$f":"IF(HO68=\"\", 0, HO68 - IF(HO67=\"\", LOOKUP(2, 1/(HO$17:HO66<>\"\"), HO$17:HO66), HO67))","v":0},null,null,null,null,151,"",null,null,{"$f":"IF(HX68=\"\", 0, HX68 - IF(HX67=\"\", LOOKUP(2, 1/(HX$17:HX66<>\"\"), HX$17:HX66), HX67))","v":0},null,null,null,null,151,"",null,null,{"$f":"IF(IG68=\"\", 0, IG68 - IF(IG67=\"\", LOOKUP(2, 1/(IG$17:IG66<>\"\"), IG$17:IG66), IG67))","v":0},null,null,null,null,151,"",null,null,{"$f":"IF(IP68=\"\", 0, IP68 - IF(IP67=\"\", LOOKUP(2, 1/(IP$17:IP66<>\"\"), IP$17:IP66), IP67))","v":0},null,null,null,null,151,"",null,null,{"$f":"IF(IY68=\"\", 0, IY68 - IF(IY67=\"\", LOOKUP(2, 1/(IY$17:IY66<>\"\"), IY$17:IY66), IY67))","v":0},null,null,null,null,151,"",null,null,{"$f":"IF(JH68=\"\", 0, JH68 - IF(JH67=\"\", LOOKUP(2, 1/(JH$17:JH66<>\"\"), JH$17:JH66), JH67))","v":0},null,null,null,null,151,"",null,null,{"$f":"IF(JQ68=\"\", 0, JQ68 - IF(JQ67=\"\", LOOKUP(2, 1/(JQ$17:JQ66<>\"\"), JQ$17:JQ66), JQ67))","v":0},null,null,null,null,151,"",null,null,{"$f":"IF(JZ68=\"\", 0, JZ68 - IF(JZ67=\"\", LOOKUP(2, 1/(JZ$17:JZ66<>\"\"), JZ$17:JZ66), JZ67))","v":0},null,null,null,null,151,"",null,null,{"$f":"IF(KI68=\"\", 0, KI68 - IF(KI67=\"\", LOOKUP(2, 1/(KI$17:KI66<>\"\"), KI$17:KI66), KI67))","v":0},null,null,null,null,151,"",null,null,{"$f":"IF(KR68=\"\", 0, KR68 - IF(KR67=\"\", LOOKUP(2, 1/(KR$17:KR66<>\"\"), KR$17:KR66), KR67))","v":0},null,null,null,null,151,"",null,null,{"$f":"IF(LA68=\"\", 0, LA68 - IF(LA67=\"\", LOOKUP(2, 1/(LA$17:LA66<>\"\"), LA$17:LA66), LA67))","v":0},null,null,null,null,151,"",null,null,{"$f":"IF(LJ68=\"\", 0, LJ68 - IF(LJ67=\"\", LOOKUP(2, 1/(LJ$17:LJ66<>\"\"), LJ$17:LJ66), LJ67))","v":0},null,null,null,null,151,"",null,null,{"$f":"IF(LS68=\"\", 0, LS68 - IF(LS67=\"\", LOOKUP(2, 1/(LS$17:LS66<>\"\"), LS$17:LS66), LS67))","v":0},null,null,null,null,151,"",null,null,{"$f":"IF(MB68=\"\", 0, MB68 - IF(MB67=\"\", LOOKUP(2, 1/(MB$17:MB66<>\"\"), MB$17:MB66), MB67))","v":0},null,null,null,null,151,"",null,null,{"$f":"IF(MK68=\"\", 0, MK68 - IF(MK67=\"\", LOOKUP(2, 1/(MK$17:MK66<>\"\"), MK$17:MK66), MK67))","v":0},null,null,null,null,151,"",null,null,{"$f":"IF(MT68=\"\", 0, MT68 - IF(MT67=\"\", LOOKUP(2, 1/(MT$17:MT66<>\"\"), MT$17:MT66), MT67))","v":0},null,null,151,"",null,null,{"$f":"IF(NA68=\"\", 0, NA68 - IF(NA67=\"\", LOOKUP(2, 1/(NA$17:NA66<>\"\"), NA$17:NA66), NA67))","v":0},null,null,null,null,151,"",null,null,{"$f":"IF(NJ68=\"\", 0, NJ68 - IF(NJ67=\"\", LOOKUP(2, 1/(NJ$17:NJ66<>\"\"), NJ$17:NJ66), NJ67))","v":0},null,null,null,null,151,"",null,null,{"$f":"IF(NS68=\"\", 0, NS68 - IF(NS67=\"\", LOOKUP(2, 1/(NS$17:NS66<>\"\"), NS$17:NS66), NS67))","v":0},null,null,null,null,151,"",null,null,{"$f":"IF(OB68=\"\", 0, OB68 - IF(OB67=\"\", LOOKUP(2, 1/(OB$17:OB66<>\"\"), OB$17:OB66), OB67))","v":0},null,null,null,null,151,"",null,null,{"$f":"IF(OK68=\"\", 0, OK68 - IF(OK67=\"\", LOOKUP(2, 1/(OK$17:OK66<>\"\"), OK$17:OK66), OK67))","v":0},null,null,null,null,151,"",null,null,{"$f":"IF(OT68=\"\", 0, OT68 - IF(OT67=\"\", LOOKUP(2, 1/(OT$17:OT66<>\"\"), OT$17:OT66), OT67))","v":0},null,null,null,null,151,"",null,null,{"$f":"IF(PC68=\"\", 0, PC68 - IF(PC67=\"\", LOOKUP(2, 1/(PC$17:PC66<>\"\"), PC$17:PC66), PC67))","v":0},null,null,null,null,151,"",null,null,{"$f":"IF(PL68=\"\", 0, PL68 - IF(PL67=\"\", LOOKUP(2, 1/(PL$17:PL66<>\"\"), PL$17:PL66), PL67))","v":0},null,null,null,null,151,"",null,null,{"$f":"IF(PU68=\"\", 0, PU68 - IF(PU67=\"\", LOOKUP(2, 1/(PU$17:PU66<>\"\"), PU$17:PU66), PU67))","v":0},null,null,null,null,151,"",null,null,{"$f":"IF(QD68=\"\", 0, QD68 - IF(QD67=\"\", LOOKUP(2, 1/(QD$17:QD66<>\"\"), QD$17:QD66), QD67))","v":0}]
[null,null,null,150,"",null,null,{"$f":"IF(G69=\"\", 0, G69 - IF(G68=\"\", LOOKUP(2, 1/(G$17:G67<>\"\"), G$17:G67), G68))","v":0},null,null,null,null,150,"",null,null,{"$f":"IF(P69=\"\", 0, P69 - IF(P68=\"\", LOOKUP(2, 1/(P$17:P67<>\"\"), P$17:P67), P68))","v":0},null,null,null,null,150,"",null,null,{"$f":"IF(Y69=\"\", 0, Y69 - IF(Y68=\"\", LOOKUP(2, 1/(Y$17:Y67<>\"\"), Y$17:Y67), Y68))","v":0},null,null,null,null,150,"",null,null,{"$f":"IF(AH69=\"\", 0, AH69 - IF(AH68=\"\", LOOKUP(2, 1/(AH$17:AH67<>\"\"), AH$17:AH67), AH68))","v":0},null,null,null,null,150,"",null,null,{"$f":"IF(AQ69=\"\", 0, AQ69 - IF(AQ68=\"\", LOOKUP(2, 1/(AQ$17:AQ67<>\"\"), AQ$17:AQ67), AQ68))","v":0},null,null,null,null,150,"",null,null,{"$f":"IF(AZ69=\"\", 0, AZ69 - IF(AZ68=\"\", LOOKUP(2, 1/(AZ$17:AZ67<>\"\"), AZ$17:AZ67), AZ68))","v":0},null,null,null,null,150,"",null,null,{"$f":"IF(BI69=\"\", 0, BI69 - IF(BI68=\"\", LOOKUP(2, 1/(BI$17:BI67<>\"\"), BI$17:BI67), BI68))","v":0},null,null,null,null,150,"",null,null,{"$f":"IF(BR69=\"\", 0, BR69 - IF(BR68=\"\", LOOKUP(2, 1/(BR$17:BR67<>\"\"), BR$17:BR67), BR68))","v":0},null,null,null,null,150,"",null,null,{"$f":"IF(CA69=\"\", 0, CA69 - IF(CA68=\"\", LOOKUP(2, 1/(CA$17:CA67<>\"\"), CA$17:CA67), CA68))","v":0},null,null,null,null,150,"",null,null,{"$f":"IF(CJ69=\"\", 0, CJ69 - IF(CJ68=\"\", LOOKUP(2, 1/(CJ$17:CJ67<>\"\"), CJ$17:CJ67), CJ68))","v":0},null,null,null,null,150,"",null,null,{"$f":"IF(CS69=\"\", 0, CS69 - IF(CS68=\"\", LOOKUP(2, 1/(CS$17:CS67<>\"\"), CS$17:CS67), CS68))","v":0},null,null,null,null,150,"",null,null,{"$f":"IF(DB69=\"\", 0, DB69 - IF(DB68=\"\", LOOKUP(2, 1/(DB$17:DB67<>\"\"), DB$17:DB67), DB68))","v":0},null,null,null,null,150,"",null,null,{"$f":"IF(DK69=\"\", 0, DK69 - IF(DK68=\"\", LOOKUP(2, 1/(DK$17:DK67<>\"\"), DK$17:DK67), DK68))","v":0},null,null,null,null,150,"",null,null,{"$f":"IF(DT69=\"\", 0, DT69 - IF(DT68=\"\", LOOKUP(2, 1/(DT$17:DT67<>\"\"), DT$17:DT67), DT68))","v":0},null,null,null,null,150,"",null,null,{"$f":"IF(EC69=\"\", 0, EC69 - IF(EC68=\"\", LOOKUP(2, 1/(EC$17:EC67<>\"\"), EC$17:EC67), EC68))","v":0},null,null,null,null,150,"",null,null,{"$f":"IF(EL69=\"\", 0, EL69 - IF(EL68=\"\", LOOKUP(2, 1/(EL$17:EL67<>\"\"), EL$17:EL67), EL68))","v":0},null,null,null,null,150,"",null,null,{"$f":"IF(EU69=\"\", 0, EU69 - IF(EU68=\"\", LOOKUP(2, 1/(EU$17:EU67<>\"\"), EU$17:EU67), EU68))","v":0},null,null,null,null,150,"",null,null,{"$f":"IF(FD69=\"\", 0, FD69 - IF(FD68=\"\", LOOKUP(2, 1/(FD$17:FD67<>\"\"), FD$17:FD67), FD68))","v":0},null,null,null,null,150,"",null,null,{"$f":"IF(FM69=\"\", 0, FM69 - IF(FM68=\"\", LOOKUP(2, 1/(FM$17:FM67<>\"\"), FM$17:FM67), FM68))","v":0},null,null,null,null,150,"",null,null,{"$f":"IF(FV69=\"\", 0, FV69 - IF(FV68=\"\", LOOKUP(2, 1/(FV$17:FV67<>\"\"), FV$17:FV67), FV68))","v":0},null,null,null,null,150,"",null,null,{"$f":"IF(GE69=\"\", 0, GE69 - IF(GE68=\"\", LOOKUP(2, 1/(GE$17:GE67<>\"\"), GE$17:GE67), GE68))","v":0},null,null,null,null,150,"",null,null,{"$f":"IF(GN69=\"\", 0, GN69 - IF(GN68=\"\", LOOKUP(2, 1/(GN$17:GN67<>\"\"), GN$17:GN67), GN68))","v":0},null,null,null,null,150,"",null,null,{"$f":"IF(GW69=\"\", 0, GW69 - IF(GW68=\"\", LOOKUP(2, 1/(GW$17:GW67<>\"\"), GW$17:GW67), GW68))","v":0},null,null,null,null,150,"",null,null,{"$f":"IF(HF69=\"\", 0, HF69 - IF(HF68=\"\", LOOKUP(2, 1/(HF$17:HF67<>\"\"), HF$17:HF67), HF68))","v":0},null,null,null,null,150,"",null,null,{"$f":"IF(HO69=\"\", 0, HO69 - IF(HO68=\"\", LOOKUP(2, 1/(HO$17:HO67<>\"\"), HO$17:HO67), HO68))","v":0},null,null,null,null,150,"",null,null,{"$f":"IF(HX69=\"\", 0, HX69 - IF(HX68=\"\", LOOKUP(2, 1/(HX$17:HX67<>\"\"), HX$17:HX67), HX68))","v":0},null,null,null,null,150,"",null,null,{"$f":"IF(IG69=\"\", 0, IG69 - IF(IG68=\"\", LOOKUP(2, 1/(IG$17:IG67<>\"\"), IG$17:IG67), IG68))","v":0},null,null,null,null,150,"",null,null,{"$f":"IF(IP69=\"\", 0, IP69 - IF(IP68=\"\", LOOKUP(2, 1/(IP$17:IP67<>\"\"), IP$17:IP67), IP68))","v":0},null,null,null,null,150,"",null,null,{"$f":"IF(IY69=\"\", 0, IY69 - IF(IY68=\"\", LOOKUP(2, 1/(IY$17:IY67<>\"\"), IY$17:IY67), IY68))","v":0},null,null,null,null,150,"",null,null,{"$f":"IF(JH69=\"\", 0, JH69 - IF(JH68=\"\", LOOKUP(2, 1/(JH$17:JH67<>\"\"), JH$17:JH67), JH68))","v":0},null,null,null,null,150,"",null,null,{"$f":"IF(JQ69=\"\", 0, JQ69 - IF(JQ68=\"\", LOOKUP(2, 1/(JQ$17:JQ67<>\"\"), JQ$17:JQ67), JQ68))","v":0},null,null,null,null,150,"",null,null,{"$f":"IF(JZ69=\"\", 0, JZ69 - IF(JZ68=\"\", LOOKUP(2, 1/(JZ$17:JZ67<>\"\"), JZ$17:JZ67), JZ68))","v":0},null,null,null,null,150,"",null,null,{"$f":"IF(KI69=\"\", 0, KI69 - IF(KI68=\"\", LOOKUP(2, 1/(KI$17:KI67<>\"\"), KI$17:KI67), KI68))","v":0},null,null,null,null,150,"",null,null,{"$f":"IF(KR69=\"\", 0, KR69 - IF(KR68=\"\", LOOKUP(2, 1/(KR$17:KR67<>\"\"), KR$17:KR67), KR68))","v":0},null,null,null,null,150,"",null,null,{"$f":"IF(LA69=\"\", 0, LA69 - IF(LA68=\"\", LOOKUP(2, 1/(LA$17:LA67<>\"\"), LA$17:LA67), LA68))","v":0},null,null,null,null,150,"",null,null,{"$f":"IF(LJ69=\"\", 0, LJ69 - IF(LJ68=\"\", LOOKUP(2, 1/(LJ$17:LJ67<>\"\"), LJ$17:LJ67), LJ68))","v":0},null,null,null,null,150,"",null,null,{"$f":"IF(LS69=\"\", 0, LS69 - IF(LS68=\"\", LOOKUP(2, 1/(LS$17:LS67<>\"\"), LS$17:LS67), LS68))","v":0},null,null,null,null,150,"",null,null,{"$f":"IF(MB69=\"\", 0, MB69 - IF(MB68=\"\", LOOKUP(2, 1/(MB$17:MB67<>\"\"), MB$17:MB67), MB68))","v":0},null,null,null,null,150,"",null,null,{"$f":"IF(MK69=\"\", 0, MK69 - IF(MK68=\"\", LOOKUP(2, 1/(MK$17:MK67<>\"\"), MK$17:MK67), MK68))","v":0},null,null,null,null,150,"",null,null,{"$f":"IF(MT69=\"\", 0, MT69 - IF(MT68=\"\", LOOKUP(2, 1/(MT$17:MT67<>\"\"), MT$17:MT67), MT68))","v":0},null,null,150,"",null,null,{"$f":"IF(NA69=\"\", 0, NA69 - IF(NA68=\"\", LOOKUP(2, 1/(NA$17:NA67<>\"\"), NA$17:NA67), NA68))","v":0},null,null,null,null,150,"",null,null,{"$f":"IF(NJ69=\"\", 0, NJ69 - IF(NJ68=\"\", LOOKUP(2, 1/(NJ$17:NJ67<>\"\"), NJ$17:NJ67), NJ68))","v":0},null,null,null,null,150,"",null,null,{"$f":"IF(NS69=\"\", 0, NS69 - IF(NS68=\"\", LOOKUP(2, 1/(NS$17:NS67<>\"\"), NS$17:NS67), NS68))","v":0},null,null,null,null,150,"",null,null,{"$f":"IF(OB69=\"\", 0, OB69 - IF(OB68=\"\", LOOKUP(2, 1/(OB$17:OB67<>\"\"), OB$17:OB67), OB68))","v":0},null,null,null,null,150,"",null,null,{"$f":"IF(OK69=\"\", 0, OK69 - IF(OK68=\"\", LOOKUP(2, 1/(OK$17:OK67<>\"\"), OK$17:OK67), OK68))","v":0},null,null,null,null,150,"",null,null,{"$f":"IF(OT69=\"\", 0, OT69 - IF(OT68=\"\", LOOKUP(2, 1/(OT$17:OT67<>\"\"), OT$17:OT67), OT68))","v":0},null,null,null,null,150,"",null,null,{"$f":"IF(PC69=\"\", 0, PC69 - IF(PC68=\"\", LOOKUP(2, 1/(PC$17:PC67<>\"\"), PC$17:PC67), PC68))","v":0},null,null,null,null,150,"",null,null,{"$f":"IF(PL69=\"\", 0, PL69 - IF(PL68=\"\", LOOKUP(2, 1/(PL$17:PL67<>\"\"), PL$17:PL67), PL68))","v":0},null,null,null,null,150,"",null,null,{"$f":"IF(PU69=\"\", 0, PU69 - IF(PU68=\"\", LOOKUP(2, 1/(PU$17:PU67<>\"\"), PU$17:PU67), PU68))","v":0},null,null,null,null,150,"",null,null,{"$f":"IF(QD69=\"\", 0, QD69 - IF(QD68=\"\", LOOKUP(2, 1/(QD$17:QD67<>\"\"), QD$17:QD67), QD68))","v":0}]
[null,null,null,149,"",null,null,{"$f":"IF(G70=\"\", 0, G70 - IF(G69=\"\", LOOKUP(2, 1/(G$17:G68<>\"\"), G$17:G68), G69))","v":0},null,null,null,null,149,"",null,null,{"$f":"IF(P70=\"\", 0, P70 - IF(P69=\"\", LOOKUP(2, 1/(P$17:P68<>\"\"), P$17:P68), P69))","v":0},null,null,null,null,149,"",null,null,{"$f":"IF(Y70=\"\", 0, Y70 - IF(Y69=\"\", LOOKUP(2, 1/(Y$17:Y68<>\"\"), Y$17:Y68), Y69))","v":0},null,null,null,null,149,"",null,null,{"$f":"IF(AH70=\"\", 0, AH70 - IF(AH69=\"\", LOOKUP(2, 1/(AH$17:AH68<>\"\"), AH$17:AH68), AH69))","v":0},null,null,null,null,149,"",null,null,{"$f":"IF(AQ70=\"\", 0, AQ70 - IF(AQ69=\"\", LOOKUP(2, 1/(AQ$17:AQ68<>\"\"), AQ$17:AQ68), AQ69))","v":0},null,null,null,null,149,"",null,null,{"$f":"IF(AZ70=\"\", 0, AZ70 - IF(AZ69=\"\", LOOKUP(2, 1/(AZ$17:AZ68<>\"\"), AZ$17:AZ68), AZ69))","v":0},null,null,null,null,149,"",null,null,{"$f":"IF(BI70=\"\", 0, BI70 - IF(BI69=\"\", LOOKUP(2, 1/(BI$17:BI68<>\"\"), BI$17:BI68), BI69))","v":0},null,null,null,null,149,"",null,null,{"$f":"IF(BR70=\"\", 0, BR70 - IF(BR69=\"\", LOOKUP(2, 1/(BR$17:BR68<>\"\"), BR$17:BR68), BR69))","v":0},null,null,null,null,149,"",null,null,{"$f":"IF(CA70=\"\", 0, CA70 - IF(CA69=\"\", LOOKUP(2, 1/(CA$17:CA68<>\"\"), CA$17:CA68), CA69))","v":0},null,null,null,null,149,"",null,null,{"$f":"IF(CJ70=\"\", 0, CJ70 - IF(CJ69=\"\", LOOKUP(2, 1/(CJ$17:CJ68<>\"\"), CJ$17:CJ68), CJ69))","v":0},null,null,null,null,149,"",null,null,{"$f":"IF(CS70=\"\", 0, CS70 - IF(CS69=\"\", LOOKUP(2, 1/(CS$17:CS68<>\"\"), CS$17:CS68), CS69))","v":0},null,null,null,null,149,"",null,null,{"$f":"IF(DB70=\"\", 0, DB70 - IF(DB69=\"\", LOOKUP(2, 1/(DB$17:DB68<>\"\"), DB$17:DB68), DB69))","v":0},null,null,null,null,149,"",null,null,{"$f":"IF(DK70=\"\", 0, DK70 - IF(DK69=\"\", LOOKUP(2, 1/(DK$17:DK68<>\"\"), DK$17:DK68), DK69))","v":0},null,null,null,null,149,"",null,null,{"$f":"IF(DT70=\"\", 0, DT70 - IF(DT69=\"\", LOOKUP(2, 1/(DT$17:DT68<>\"\"), DT$17:DT68), DT69))","v":0},null,null,null,null,149,"",null,null,{"$f":"IF(EC70=\"\", 0, EC70 - IF(EC69=\"\", LOOKUP(2, 1/(EC$17:EC68<>\"\"), EC$17:EC68), EC69))","v":0},null,null,null,null,149,"",null,null,{"$f":"IF(EL70=\"\", 0, EL70 - IF(EL69=\"\", LOOKUP(2, 1/(EL$17:EL68<>\"\"), EL$17:EL68), EL69))","v":0},null,null,null,null,149,"",null,null,{"$f":"IF(EU70=\"\", 0, EU70 - IF(EU69=\"\", LOOKUP(2, 1/(EU$17:EU68<>\"\"), EU$17:EU68), EU69))","v":0},null,null,null,null,149,"",null,null,{"$f":"IF(FD70=\"\", 0, FD70 - IF(FD69=\"\", LOOKUP(2, 1/(FD$17:FD68<>\"\"), FD$17:FD68), FD69))","v":0},null,null,null,null,149,"",null,null,{"$f":"IF(FM70=\"\", 0, FM70 - IF(FM69=\"\", LOOKUP(2, 1/(FM$17:FM68<>\"\"), FM$17:FM68), FM69))","v":0},null,null,null,null,149,"",null,null,{"$f":"IF(FV70=\"\", 0, FV70 - IF(FV69=\"\", LOOKUP(2, 1/(FV$17:FV68<>\"\"), FV$17:FV68), FV69))","v":0},null,null,null,null,149,"",null,null,{"$f":"IF(GE70=\"\", 0, GE70 - IF(GE69=\"\", LOOKUP(2, 1/(GE$17:GE68<>\"\"), GE$17:GE68), GE69))","v":0},null,null,null,null,149,"",null,null,{"$f":"IF(GN70=\"\", 0, GN70 - IF(GN69=\"\", LOOKUP(2, 1/(GN$17:GN68<>\"\"), GN$17:GN68), GN69))","v":0},null,null,null,null,149,"",null,null,{"$f":"IF(GW70=\"\", 0, GW70 - IF(GW69=\"\", LOOKUP(2, 1/(GW$17:GW68<>\"\"), GW$17:GW68), GW69))","v":0},null,null,null,null,149,"",null,null,{"$f":"IF(HF70=\"\", 0, HF70 - IF(HF69=\"\", LOOKUP(2, 1/(HF$17:HF68<>\"\"), HF$17:HF68), HF69))","v":0},null,null,null,null,149,"",null,null,{"$f":"IF(HO70=\"\", 0, HO70 - IF(HO69=\"\", LOOKUP(2, 1/(HO$17:HO68<>\"\"), HO$17:HO68), HO69))","v":0},null,null,null,null,149,"",null,null,{"$f":"IF(HX70=\"\", 0, HX70 - IF(HX69=\"\", LOOKUP(2, 1/(HX$17:HX68<>\"\"), HX$17:HX68), HX69))","v":0},null,null,null,null,149,"",null,null,{"$f":"IF(IG70=\"\", 0, IG70 - IF(IG69=\"\", LOOKUP(2, 1/(IG$17:IG68<>\"\"), IG$17:IG68), IG69))","v":0},null,null,null,null,149,"",null,null,{"$f":"IF(IP70=\"\", 0, IP70 - IF(IP69=\"\", LOOKUP(2, 1/(IP$17:IP68<>\"\"), IP$17:IP68), IP69))","v":0},null,null,null,null,149,"",null,null,{"$f":"IF(IY70=\"\", 0, IY70 - IF(IY69=\"\", LOOKUP(2, 1/(IY$17:IY68<>\"\"), IY$17:IY68), IY69))","v":0},null,null,null,null,149,"",null,null,{"$f":"IF(JH70=\"\", 0, JH70 - IF(JH69=\"\", LOOKUP(2, 1/(JH$17:JH68<>\"\"), JH$17:JH68), JH69))","v":0},null,null,null,null,149,"",null,null,{"$f":"IF(JQ70=\"\", 0, JQ70 - IF(JQ69=\"\", LOOKUP(2, 1/(JQ$17:JQ68<>\"\"), JQ$17:JQ68), JQ69))","v":0},null,null,null,null,149,"",null,null,{"$f":"IF(JZ70=\"\", 0, JZ70 - IF(JZ69=\"\", LOOKUP(2, 1/(JZ$17:JZ68<>\"\"), JZ$17:JZ68), JZ69))","v":0},null,null,null,null,149,"",null,null,{"$f":"IF(KI70=\"\", 0, KI70 - IF(KI69=\"\", LOOKUP(2, 1/(KI$17:KI68<>\"\"), KI$17:KI68), KI69))","v":0},null,null,null,null,149,"",null,null,{"$f":"IF(KR70=\"\", 0, KR70 - IF(KR69=\"\", LOOKUP(2, 1/(KR$17:KR68<>\"\"), KR$17:KR68), KR69))","v":0},null,null,null,null,149,"",null,null,{"$f":"IF(LA70=\"\", 0, LA70 - IF(LA69=\"\", LOOKUP(2, 1/(LA$17:LA68<>\"\"), LA$17:LA68), LA69))","v":0},null,null,null,null,149,"",null,null,{"$f":"IF(LJ70=\"\", 0, LJ70 - IF(LJ69=\"\", LOOKUP(2, 1/(LJ$17:LJ68<>\"\"), LJ$17:LJ68), LJ69))","v":0},null,null,null,null,149,"",null,null,{"$f":"IF(LS70=\"\", 0, LS70 - IF(LS69=\"\", LOOKUP(2, 1/(LS$17:LS68<>\"\"), LS$17:LS68), LS69))","v":0},null,null,null,null,149,"",null,null,{"$f":"IF(MB70=\"\", 0, MB70 - IF(MB69=\"\", LOOKUP(2, 1/(MB$17:MB68<>\"\"), MB$17:MB68), MB69))","v":0},null,null,null,null,149,"",null,null,{"$f":"IF(MK70=\"\", 0, MK70 - IF(MK69=\"\", LOOKUP(2, 1/(MK$17:MK68<>\"\"), MK$17:MK68), MK69))","v":0},null,null,null,null,149,"",null,null,{"$f":"IF(MT70=\"\", 0, MT70 - IF(MT69=\"\", LOOKUP(2, 1/(MT$17:MT68<>\"\"), MT$17:MT68), MT69))","v":0},null,null,149,"",null,null,{"$f":"IF(NA70=\"\", 0, NA70 - IF(NA69=\"\", LOOKUP(2, 1/(NA$17:NA68<>\"\"), NA$17:NA68), NA69))","v":0},null,null,null,null,149,"",null,null,{"$f":"IF(NJ70=\"\", 0, NJ70 - IF(NJ69=\"\", LOOKUP(2, 1/(NJ$17:NJ68<>\"\"), NJ$17:NJ68), NJ69))","v":0},null,null,null,null,149,"",null,null,{"$f":"IF(NS70=\"\", 0, NS70 - IF(NS69=\"\", LOOKUP(2, 1/(NS$17:NS68<>\"\"), NS$17:NS68), NS69))","v":0},null,null,null,null,149,"",null,null,{"$f":"IF(OB70=\"\", 0, OB70 - IF(OB69=\"\", LOOKUP(2, 1/(OB$17:OB68<>\"\"), OB$17:OB68), OB69))","v":0},null,null,null,null,149,"",null,null,{"$f":"IF(OK70=\"\", 0, OK70 - IF(OK69=\"\", LOOKUP(2, 1/(OK$17:OK68<>\"\"), OK$17:OK68), OK69))","v":0},null,null,null,null,149,"",null,null,{"$f":"IF(OT70=\"\", 0, OT70 - IF(OT69=\"\", LOOKUP(2, 1/(OT$17:OT68<>\"\"), OT$17:OT68), OT69))","v":0},null,null,null,null,149,"",null,null,{"$f":"IF(PC70=\"\", 0, PC70 - IF(PC69=\"\", LOOKUP(2, 1/(PC$17:PC68<>\"\"), PC$17:PC68), PC69))","v":0},null,null,null,null,149,"",null,null,{"$f":"IF(PL70=\"\", 0, PL70 - IF(PL69=\"\", LOOKUP(2, 1/(PL$17:PL68<>\"\"), PL$17:PL68), PL69))","v":0},null,null,null,null,149,"",null,null,{"$f":"IF(PU70=\"\", 0, PU70 - IF(PU69=\"\", LOOKUP(2, 1/(PU$17:PU68<>\"\"), PU$17:PU68), PU69))","v":0},null,null,null,null,149,"",null,null,{"$f":"IF(QD70=\"\", 0, QD70 - IF(QD69=\"\", LOOKUP(2, 1/(QD$17:QD68<>\"\"), QD$17:QD68), QD69))","v":0}]
[null,null,null,148,"",null,null,{"$f":"IF(G71=\"\", 0, G71 - IF(G70=\"\", LOOKUP(2, 1/(G$17:G69<>\"\"), G$17:G69), G70))","v":0},null,null,null,null,148,"",null,null,{"$f":"IF(P71=\"\", 0, P71 - IF(P70=\"\", LOOKUP(2, 1/(P$17:P69<>\"\"), P$17:P69), P70))","v":0},null,null,null,null,148,"",null,null,{"$f":"IF(Y71=\"\", 0, Y71 - IF(Y70=\"\", LOOKUP(2, 1/(Y$17:Y69<>\"\"), Y$17:Y69), Y70))","v":0},null,null,null,null,148,"",null,null,{"$f":"IF(AH71=\"\", 0, AH71 - IF(AH70=\"\", LOOKUP(2, 1/(AH$17:AH69<>\"\"), AH$17:AH69), AH70))","v":0},null,null,null,null,148,"",null,null,{"$f":"IF(AQ71=\"\", 0, AQ71 - IF(AQ70=\"\", LOOKUP(2, 1/(AQ$17:AQ69<>\"\"), AQ$17:AQ69), AQ70))","v":0},null,null,null,null,148,"",null,null,{"$f":"IF(AZ71=\"\", 0, AZ71 - IF(AZ70=\"\", LOOKUP(2, 1/(AZ$17:AZ69<>\"\"), AZ$17:AZ69), AZ70))","v":0},null,null,null,null,148,"",null,null,{"$f":"IF(BI71=\"\", 0, BI71 - IF(BI70=\"\", LOOKUP(2, 1/(BI$17:BI69<>\"\"), BI$17:BI69), BI70))","v":0},null,null,null,null,148,"",null,null,{"$f":"IF(BR71=\"\", 0, BR71 - IF(BR70=\"\", LOOKUP(2, 1/(BR$17:BR69<>\"\"), BR$17:BR69), BR70))","v":0},null,null,null,null,148,"",null,null,{"$f":"IF(CA71=\"\", 0, CA71 - IF(CA70=\"\", LOOKUP(2, 1/(CA$17:CA69<>\"\"), CA$17:CA69), CA70))","v":0},null,null,null,null,148,"",null,null,{"$f":"IF(CJ71=\"\", 0, CJ71 - IF(CJ70=\"\", LOOKUP(2, 1/(CJ$17:CJ69<>\"\"), CJ$17:CJ69), CJ70))","v":0},null,null,null,null,148,"",null,null,{"$f":"IF(CS71=\"\", 0, CS71 - IF(CS70=\"\", LOOKUP(2, 1/(CS$17:CS69<>\"\"), CS$17:CS69), CS70))","v":0},null,null,null,null,148,"",null,null,{"$f":"IF(DB71=\"\", 0, DB71 - IF(DB70=\"\", LOOKUP(2, 1/(DB$17:DB69<>\"\"), DB$17:DB69), DB70))","v":0},null,null,null,null,148,"",null,null,{"$f":"IF(DK71=\"\", 0, DK71 - IF(DK70=\"\", LOOKUP(2, 1/(DK$17:DK69<>\"\"), DK$17:DK69), DK70))","v":0},null,null,null,null,148,"",null,null,{"$f":"IF(DT71=\"\", 0, DT71 - IF(DT70=\"\", LOOKUP(2, 1/(DT$17:DT69<>\"\"), DT$17:DT69), DT70))","v":0},null,null,null,null,148,"",null,null,{"$f":"IF(EC71=\"\", 0, EC71 - IF(EC70=\"\", LOOKUP(2, 1/(EC$17:EC69<>\"\"), EC$17:EC69), EC70))","v":0},null,null,null,null,148,"",null,null,{"$f":"IF(EL71=\"\", 0, EL71 - IF(EL70=\"\", LOOKUP(2, 1/(EL$17:EL69<>\"\"), EL$17:EL69), EL70))","v":0},null,null,null,null,148,"",null,null,{"$f":"IF(EU71=\"\", 0, EU71 - IF(EU70=\"\", LOOKUP(2, 1/(EU$17:EU69<>\"\"), EU$17:EU69), EU70))","v":0},null,null,null,null,148,"",null,null,{"$f":"IF(FD71=\"\", 0, FD71 - IF(FD70=\"\", LOOKUP(2, 1/(FD$17:FD69<>\"\"), FD$17:FD69), FD70))","v":0},null,null,null,null,148,"",null,null,{"$f":"IF(FM71=\"\", 0, FM71 - IF(FM70=\"\", LOOKUP(2, 1/(FM$17:FM69<>\"\"), FM$17:FM69), FM70))","v":0},null,null,null,null,148,"",null,null,{"$f":"IF(FV71=\"\", 0, FV71 - IF(FV70=\"\", LOOKUP(2, 1/(FV$17:FV69<>\"\"), FV$17:FV69), FV70))","v":0},null,null,null,null,148,"",null,null,{"$f":"IF(GE71=\"\", 0, GE71 - IF(GE70=\"\", LOOKUP(2, 1/(GE$17:GE69<>\"\"), GE$17:GE69), GE70))","v":0},null,null,null,null,148,"",null,null,{"$f":"IF(GN71=\"\", 0, GN71 - IF(GN70=\"\", LOOKUP(2, 1/(GN$17:GN69<>\"\"), GN$17:GN69), GN70))","v":0},null,null,null,null,148,"",null,null,{"$f":"IF(GW71=\"\", 0, GW71 - IF(GW70=\"\", LOOKUP(2, 1/(GW$17:GW69<>\"\"), GW$17:GW69), GW70))","v":0},null,null,null,null,148,"",null,null,{"$f":"IF(HF71=\"\", 0, HF71 - IF(HF70=\"\", LOOKUP(2, 1/(HF$17:HF69<>\"\"), HF$17:HF69), HF70))","v":0},null,null,null,null,148,"",null,null,{"$f":"IF(HO71=\"\", 0, HO71 - IF(HO70=\"\", LOOKUP(2, 1/(HO$17:HO69<>\"\"), HO$17:HO69), HO70))","v":0},null,null,null,null,148,"",null,null,{"$f":"IF(HX71=\"\", 0, HX71 - IF(HX70=\"\", LOOKUP(2, 1/(HX$17:HX69<>\"\"), HX$17:HX69), HX70))","v":0},null,null,null,null,148,"",null,null,{"$f":"IF(IG71=\"\", 0, IG71 - IF(IG70=\"\", LOOKUP(2, 1/(IG$17:IG69<>\"\"), IG$17:IG69), IG70))","v":0},null,null,null,null,148,"",null,null,{"$f":"IF(IP71=\"\", 0, IP71 - IF(IP70=\"\", LOOKUP(2, 1/(IP$17:IP69<>\"\"), IP$17:IP69), IP70))","v":0},null,null,null,null,148,"",null,null,{"$f":"IF(IY71=\"\", 0, IY71 - IF(IY70=\"\", LOOKUP(2, 1/(IY$17:IY69<>\"\"), IY$17:IY69), IY70))","v":0},null,null,null,null,148,"",null,null,{"$f":"IF(JH71=\"\", 0, JH71 - IF(JH70=\"\", LOOKUP(2, 1/(JH$17:JH69<>\"\"), JH$17:JH69), JH70))","v":0},null,null,null,null,148,"",null,null,{"$f":"IF(JQ71=\"\", 0, JQ71 - IF(JQ70=\"\", LOOKUP(2, 1/(JQ$17:JQ69<>\"\"), JQ$17:JQ69), JQ70))","v":0},null,null,null,null,148,"",null,null,{"$f":"IF(JZ71=\"\", 0, JZ71 - IF(JZ70=\"\", LOOKUP(2, 1/(JZ$17:JZ69<>\"\"), JZ$17:JZ69), JZ70))","v":0},null,null,null,null,148,"",null,null,{"$f":"IF(KI71=\"\", 0, KI71 - IF(KI70=\"\", LOOKUP(2, 1/(KI$17:KI69<>\"\"), KI$17:KI69), KI70))","v":0},null,null,null,null,148,"",null,null,{"$f":"IF(KR71=\"\", 0, KR71 - IF(KR70=\"\", LOOKUP(2, 1/(KR$17:KR69<>\"\"), KR$17:KR69), KR70))","v":0},null,null,null,null,148,"",null,null,{"$f":"IF(LA71=\"\", 0, LA71 - IF(LA70=\"\", LOOKUP(2, 1/(LA$17:LA69<>\"\"), LA$17:LA69), LA70))","v":0},null,null,null,null,148,"",null,null,{"$f":"IF(LJ71=\"\", 0, LJ71 - IF(LJ70=\"\", LOOKUP(2, 1/(LJ$17:LJ69<>\"\"), LJ$17:LJ69), LJ70))","v":0},null,null,null,null,148,"",null,null,{"$f":"IF(LS71=\"\", 0, LS71 - IF(LS70=\"\", LOOKUP(2, 1/(LS$17:LS69<>\"\"), LS$17:LS69), LS70))","v":0},null,null,null,null,148,"",null,null,{"$f":"IF(MB71=\"\", 0, MB71 - IF(MB70=\"\", LOOKUP(2, 1/(MB$17:MB69<>\"\"), MB$17:MB69), MB70))","v":0},null,null,null,null,148,"",null,null,{"$f":"IF(MK71=\"\", 0, MK71 - IF(MK70=\"\", LOOKUP(2, 1/(MK$17:MK69<>\"\"), MK$17:MK69), MK70))","v":0},null,null,null,null,148,"",null,null,{"$f":"IF(MT71=\"\", 0, MT71 - IF(MT70=\"\", LOOKUP(2, 1/(MT$17:MT69<>\"\"), MT$17:MT69), MT70))","v":0},null,null,148,"",null,null,{"$f":"IF(NA71=\"\", 0, NA71 - IF(NA70=\"\", LOOKUP(2, 1/(NA$17:NA69<>\"\"), NA$17:NA69), NA70))","v":0},null,null,null,null,148,"",null,null,{"$f":"IF(NJ71=\"\", 0, NJ71 - IF(NJ70=\"\", LOOKUP(2, 1/(NJ$17:NJ69<>\"\"), NJ$17:NJ69), NJ70))","v":0},null,null,null,null,148,"",null,null,{"$f":"IF(NS71=\"\", 0, NS71 - IF(NS70=\"\", LOOKUP(2, 1/(NS$17:NS69<>\"\"), NS$17:NS69), NS70))","v":0},null,null,null,null,148,"",null,null,{"$f":"IF(OB71=\"\", 0, OB71 - IF(OB70=\"\", LOOKUP(2, 1/(OB$17:OB69<>\"\"), OB$17:OB69), OB70))","v":0},null,null,null,null,148,"",null,null,{"$f":"IF(OK71=\"\", 0, OK71 - IF(OK70=\"\", LOOKUP(2, 1/(OK$17:OK69<>\"\"), OK$17:OK69), OK70))","v":0},null,null,null,null,148,"",null,null,{"$f":"IF(OT71=\"\", 0, OT71 - IF(OT70=\"\", LOOKUP(2, 1/(OT$17:OT69<>\"\"), OT$17:OT69), OT70))","v":0},null,null,null,null,148,"",null,null,{"$f":"IF(PC71=\"\", 0, PC71 - IF(PC70=\"\", LOOKUP(2, 1/(PC$17:PC69<>\"\"), PC$17:PC69), PC70))","v":0},null,null,null,null,148,"",null,null,{"$f":"IF(PL71=\"\", 0, PL71 - IF(PL70=\"\", LOOKUP(2, 1/(PL$17:PL69<>\"\"), PL$17:PL69), PL70))","v":0},null,null,null,null,148,"",null,null,{"$f":"IF(PU71=\"\", 0, PU71 - IF(PU70=\"\", LOOKUP(2, 1/(PU$17:PU69<>\"\"), PU$17:PU69), PU70))","v":0},null,null,null,null,148,"",null,null,{"$f":"IF(QD71=\"\", 0, QD71 - IF(QD70=\"\", LOOKUP(2, 1/(QD$17:QD69<>\"\"), QD$17:QD69), QD70))","v":0}]
[null,null,null,147,"",null,null,{"$f":"IF(G72=\"\", 0, G72 - IF(G71=\"\", LOOKUP(2, 1/(G$17:G70<>\"\"), G$17:G70), G71))","v":0},null,null,null,null,147,"",null,null,{"$f":"IF(P72=\"\", 0, P72 - IF(P71=\"\", LOOKUP(2, 1/(P$17:P70<>\"\"), P$17:P70), P71))","v":0},null,null,null,null,147,"",null,null,{"$f":"IF(Y72=\"\", 0, Y72 - IF(Y71=\"\", LOOKUP(2, 1/(Y$17:Y70<>\"\"), Y$17:Y70), Y71))","v":0},null,null,null,null,147,"",null,null,{"$f":"IF(AH72=\"\", 0, AH72 - IF(AH71=\"\", LOOKUP(2, 1/(AH$17:AH70<>\"\"), AH$17:AH70), AH71))","v":0},null,null,null,null,147,"",null,null,{"$f":"IF(AQ72=\"\", 0, AQ72 - IF(AQ71=\"\", LOOKUP(2, 1/(AQ$17:AQ70<>\"\"), AQ$17:AQ70), AQ71))","v":0},null,null,null,null,147,"",null,null,{"$f":"IF(AZ72=\"\", 0, AZ72 - IF(AZ71=\"\", LOOKUP(2, 1/(AZ$17:AZ70<>\"\"), AZ$17:AZ70), AZ71))","v":0},null,null,null,null,147,"",null,null,{"$f":"IF(BI72=\"\", 0, BI72 - IF(BI71=\"\", LOOKUP(2, 1/(BI$17:BI70<>\"\"), BI$17:BI70), BI71))","v":0},null,null,null,null,147,"",null,null,{"$f":"IF(BR72=\"\", 0, BR72 - IF(BR71=\"\", LOOKUP(2, 1/(BR$17:BR70<>\"\"), BR$17:BR70), BR71))","v":0},null,null,null,null,147,"",null,null,{"$f":"IF(CA72=\"\", 0, CA72 - IF(CA71=\"\", LOOKUP(2, 1/(CA$17:CA70<>\"\"), CA$17:CA70), CA71))","v":0},null,null,null,null,147,"",null,null,{"$f":"IF(CJ72=\"\", 0, CJ72 - IF(CJ71=\"\", LOOKUP(2, 1/(CJ$17:CJ70<>\"\"), CJ$17:CJ70), CJ71))","v":0},null,null,null,null,147,"",null,null,{"$f":"IF(CS72=\"\", 0, CS72 - IF(CS71=\"\", LOOKUP(2, 1/(CS$17:CS70<>\"\"), CS$17:CS70), CS71))","v":0},null,null,null,null,147,"",null,null,{"$f":"IF(DB72=\"\", 0, DB72 - IF(DB71=\"\", LOOKUP(2, 1/(DB$17:DB70<>\"\"), DB$17:DB70), DB71))","v":0},null,null,null,null,147,"",null,null,{"$f":"IF(DK72=\"\", 0, DK72 - IF(DK71=\"\", LOOKUP(2, 1/(DK$17:DK70<>\"\"), DK$17:DK70), DK71))","v":0},null,null,null,null,147,"",null,null,{"$f":"IF(DT72=\"\", 0, DT72 - IF(DT71=\"\", LOOKUP(2, 1/(DT$17:DT70<>\"\"), DT$17:DT70), DT71))","v":0},null,null,null,null,147,"",null,null,{"$f":"IF(EC72=\"\", 0, EC72 - IF(EC71=\"\", LOOKUP(2, 1/(EC$17:EC70<>\"\"), EC$17:EC70), EC71))","v":0},null,null,null,null,147,"",null,null,{"$f":"IF(EL72=\"\", 0, EL72 - IF(EL71=\"\", LOOKUP(2, 1/(EL$17:EL70<>\"\"), EL$17:EL70), EL71))","v":0},null,null,null,null,147,"",null,null,{"$f":"IF(EU72=\"\", 0, EU72 - IF(EU71=\"\", LOOKUP(2, 1/(EU$17:EU70<>\"\"), EU$17:EU70), EU71))","v":0},null,null,null,null,147,"",null,null,{"$f":"IF(FD72=\"\", 0, FD72 - IF(FD71=\"\", LOOKUP(2, 1/(FD$17:FD70<>\"\"), FD$17:FD70), FD71))","v":0},null,null,null,null,147,"",null,null,{"$f":"IF(FM72=\"\", 0, FM72 - IF(FM71=\"\", LOOKUP(2, 1/(FM$17:FM70<>\"\"), FM$17:FM70), FM71))","v":0},null,null,null,null,147,"",null,null,{"$f":"IF(FV72=\"\", 0, FV72 - IF(FV71=\"\", LOOKUP(2, 1/(FV$17:FV70<>\"\"), FV$17:FV70), FV71))","v":0},null,null,null,null,147,"",null,null,{"$f":"IF(GE72=\"\", 0, GE72 - IF(GE71=\"\", LOOKUP(2, 1/(GE$17:GE70<>\"\"), GE$17:GE70), GE71))","v":0},null,null,null,null,147,"",null,null,{"$f":"IF(GN72=\"\", 0, GN72 - IF(GN71=\"\", LOOKUP(2, 1/(GN$17:GN70<>\"\"), GN$17:GN70), GN71))","v":0},null,null,null,null,147,"",null,null,{"$f":"IF(GW72=\"\", 0, GW72 - IF(GW71=\"\", LOOKUP(2, 1/(GW$17:GW70<>\"\"), GW$17:GW70), GW71))","v":0},null,null,null,null,147,"",null,null,{"$f":"IF(HF72=\"\", 0, HF72 - IF(HF71=\"\", LOOKUP(2, 1/(HF$17:HF70<>\"\"), HF$17:HF70), HF71))","v":0},null,null,null,null,147,"",null,null,{"$f":"IF(HO72=\"\", 0, HO72 - IF(HO71=\"\", LOOKUP(2, 1/(HO$17:HO70<>\"\"), HO$17:HO70), HO71))","v":0},null,null,null,null,147,"",null,null,{"$f":"IF(HX72=\"\", 0, HX72 - IF(HX71=\"\", LOOKUP(2, 1/(HX$17:HX70<>\"\"), HX$17:HX70), HX71))","v":0},null,null,null,null,147,"",null,null,{"$f":"IF(IG72=\"\", 0, IG72 - IF(IG71=\"\", LOOKUP(2, 1/(IG$17:IG70<>\"\"), IG$17:IG70), IG71))","v":0},null,null,null,null,147,"",null,null,{"$f":"IF(IP72=\"\", 0, IP72 - IF(IP71=\"\", LOOKUP(2, 1/(IP$17:IP70<>\"\"), IP$17:IP70), IP71))","v":0},null,null,null,null,147,"",null,null,{"$f":"IF(IY72=\"\", 0, IY72 - IF(IY71=\"\", LOOKUP(2, 1/(IY$17:IY70<>\"\"), IY$17:IY70), IY71))","v":0},null,null,null,null,147,"",null,null,{"$f":"IF(JH72=\"\", 0, JH72 - IF(JH71=\"\", LOOKUP(2, 1/(JH$17:JH70<>\"\"), JH$17:JH70), JH71))","v":0},null,null,null,null,147,"",null,null,{"$f":"IF(JQ72=\"\", 0, JQ72 - IF(JQ71=\"\", LOOKUP(2, 1/(JQ$17:JQ70<>\"\"), JQ$17:JQ70), JQ71))","v":0},null,null,null,null,147,"",null,null,{"$f":"IF(JZ72=\"\", 0, JZ72 - IF(JZ71=\"\", LOOKUP(2, 1/(JZ$17:JZ70<>\"\"), JZ$17:JZ70), JZ71))","v":0},null,null,null,null,147,"",null,null,{"$f":"IF(KI72=\"\", 0, KI72 - IF(KI71=\"\", LOOKUP(2, 1/(KI$17:KI70<>\"\"), KI$17:KI70), KI71))","v":0},null,null,null,null,147,"",null,null,{"$f":"IF(KR72=\"\", 0, KR72 - IF(KR71=\"\", LOOKUP(2, 1/(KR$17:KR70<>\"\"), KR$17:KR70), KR71))","v":0},null,null,null,null,147,"",null,null,{"$f":"IF(LA72=\"\", 0, LA72 - IF(LA71=\"\", LOOKUP(2, 1/(LA$17:LA70<>\"\"), LA$17:LA70), LA71))","v":0},null,null,null,null,147,"",null,null,{"$f":"IF(LJ72=\"\", 0, LJ72 - IF(LJ71=\"\", LOOKUP(2, 1/(LJ$17:LJ70<>\"\"), LJ$17:LJ70), LJ71))","v":0},null,null,null,null,147,"",null,null,{"$f":"IF(LS72=\"\", 0, LS72 - IF(LS71=\"\", LOOKUP(2, 1/(LS$17:LS70<>\"\"), LS$17:LS70), LS71))","v":0},null,null,null,null,147,"",null,null,{"$f":"IF(MB72=\"\", 0, MB72 - IF(MB71=\"\", LOOKUP(2, 1/(MB$17:MB70<>\"\"), MB$17:MB70), MB71))","v":0},null,null,null,null,147,"",null,null,{"$f":"IF(MK72=\"\", 0, MK72 - IF(MK71=\"\", LOOKUP(2, 1/(MK$17:MK70<>\"\"), MK$17:MK70), MK71))","v":0},null,null,null,null,147,"",null,null,{"$f":"IF(MT72=\"\", 0, MT72 - IF(MT71=\"\", LOOKUP(2, 1/(MT$17:MT70<>\"\"), MT$17:MT70), MT71))","v":0},null,null,147,"",null,null,{"$f":"IF(NA72=\"\", 0, NA72 - IF(NA71=\"\", LOOKUP(2, 1/(NA$17:NA70<>\"\"), NA$17:NA70), NA71))","v":0},null,null,null,null,147,"",null,null,{"$f":"IF(NJ72=\"\", 0, NJ72 - IF(NJ71=\"\", LOOKUP(2, 1/(NJ$17:NJ70<>\"\"), NJ$17:NJ70), NJ71))","v":0},null,null,null,null,147,"",null,null,{"$f":"IF(NS72=\"\", 0, NS72 - IF(NS71=\"\", LOOKUP(2, 1/(NS$17:NS70<>\"\"), NS$17:NS70), NS71))","v":0},null,null,null,null,147,"",null,null,{"$f":"IF(OB72=\"\", 0, OB72 - IF(OB71=\"\", LOOKUP(2, 1/(OB$17:OB70<>\"\"), OB$17:OB70), OB71))","v":0},null,null,null,null,147,"",null,null,{"$f":"IF(OK72=\"\", 0, OK72 - IF(OK71=\"\", LOOKUP(2, 1/(OK$17:OK70<>\"\"), OK$17:OK70), OK71))","v":0},null,null,null,null,147,"",null,null,{"$f":"IF(OT72=\"\", 0, OT72 - IF(OT71=\"\", LOOKUP(2, 1/(OT$17:OT70<>\"\"), OT$17:OT70), OT71))","v":0},null,null,null,null,147,"",null,null,{"$f":"IF(PC72=\"\", 0, PC72 - IF(PC71=\"\", LOOKUP(2, 1/(PC$17:PC70<>\"\"), PC$17:PC70), PC71))","v":0},null,null,null,null,147,"",null,null,{"$f":"IF(PL72=\"\", 0, PL72 - IF(PL71=\"\", LOOKUP(2, 1/(PL$17:PL70<>\"\"), PL$17:PL70), PL71))","v":0},null,null,null,null,147,"",null,null,{"$f":"IF(PU72=\"\", 0, PU72 - IF(PU71=\"\", LOOKUP(2, 1/(PU$17:PU70<>\"\"), PU$17:PU70), PU71))","v":0},null,null,null,null,147,"",null,null,{"$f":"IF(QD72=\"\", 0, QD72 - IF(QD71=\"\", LOOKUP(2, 1/(QD$17:QD70<>\"\"), QD$17:QD70), QD71))","v":0}]
[null,null,null,146,"",null,null,{"$f":"IF(G73=\"\", 0, G73 - IF(G72=\"\", LOOKUP(2, 1/(G$17:G71<>\"\"), G$17:G71), G72))","v":0},null,null,null,null,146,"",null,null,{"$f":"IF(P73=\"\", 0, P73 - IF(P72=\"\", LOOKUP(2, 1/(P$17:P71<>\"\"), P$17:P71), P72))","v":0},null,null,null,null,146,"",null,null,{"$f":"IF(Y73=\"\", 0, Y73 - IF(Y72=\"\", LOOKUP(2, 1/(Y$17:Y71<>\"\"), Y$17:Y71), Y72))","v":0},null,null,null,null,146,"",null,null,{"$f":"IF(AH73=\"\", 0, AH73 - IF(AH72=\"\", LOOKUP(2, 1/(AH$17:AH71<>\"\"), AH$17:AH71), AH72))","v":0},null,null,null,null,146,"",null,null,{"$f":"IF(AQ73=\"\", 0, AQ73 - IF(AQ72=\"\", LOOKUP(2, 1/(AQ$17:AQ71<>\"\"), AQ$17:AQ71), AQ72))","v":0},null,null,null,null,146,"",null,null,{"$f":"IF(AZ73=\"\", 0, AZ73 - IF(AZ72=\"\", LOOKUP(2, 1/(AZ$17:AZ71<>\"\"), AZ$17:AZ71), AZ72))","v":0},null,null,null,null,146,"",null,null,{"$f":"IF(BI73=\"\", 0, BI73 - IF(BI72=\"\", LOOKUP(2, 1/(BI$17:BI71<>\"\"), BI$17:BI71), BI72))","v":0},null,null,null,null,146,"",null,null,{"$f":"IF(BR73=\"\", 0, BR73 - IF(BR72=\"\", LOOKUP(2, 1/(BR$17:BR71<>\"\"), BR$17:BR71), BR72))","v":0},null,null,null,null,146,"",null,null,{"$f":"IF(CA73=\"\", 0, CA73 - IF(CA72=\"\", LOOKUP(2, 1/(CA$17:CA71<>\"\"), CA$17:CA71), CA72))","v":0},null,null,null,null,146,"",null,null,{"$f":"IF(CJ73=\"\", 0, CJ73 - IF(CJ72=\"\", LOOKUP(2, 1/(CJ$17:CJ71<>\"\"), CJ$17:CJ71), CJ72))","v":0},null,null,null,null,146,"",null,null,{"$f":"IF(CS73=\"\", 0, CS73 - IF(CS72=\"\", LOOKUP(2, 1/(CS$17:CS71<>\"\"), CS$17:CS71), CS72))","v":0},null,null,null,null,146,"",null,null,{"$f":"IF(DB73=\"\", 0, DB73 - IF(DB72=\"\", LOOKUP(2, 1/(DB$17:DB71<>\"\"), DB$17:DB71), DB72))","v":0},null,null,null,null,146,"",null,null,{"$f":"IF(DK73=\"\", 0, DK73 - IF(DK72=\"\", LOOKUP(2, 1/(DK$17:DK71<>\"\"), DK$17:DK71), DK72))","v":0},null,null,null,null,146,"",null,null,{"$f":"IF(DT73=\"\", 0, DT73 - IF(DT72=\"\", LOOKUP(2, 1/(DT$17:DT71<>\"\"), DT$17:DT71), DT72))","v":0},null,null,null,null,146,"",null,null,{"$f":"IF(EC73=\"\", 0, EC73 - IF(EC72=\"\", LOOKUP(2, 1/(EC$17:EC71<>\"\"), EC$17:EC71), EC72))","v":0},null,null,null,null,146,"",null,null,{"$f":"IF(EL73=\"\", 0, EL73 - IF(EL72=\"\", LOOKUP(2, 1/(EL$17:EL71<>\"\"), EL$17:EL71), EL72))","v":0},null,null,null,null,146,"",null,null,{"$f":"IF(EU73=\"\", 0, EU73 - IF(EU72=\"\", LOOKUP(2, 1/(EU$17:EU71<>\"\"), EU$17:EU71), EU72))","v":0},null,null,null,null,146,"",null,null,{"$f":"IF(FD73=\"\", 0, FD73 - IF(FD72=\"\", LOOKUP(2, 1/(FD$17:FD71<>\"\"), FD$17:FD71), FD72))","v":0},null,null,null,null,146,"",null,null,{"$f":"IF(FM73=\"\", 0, FM73 - IF(FM72=\"\", LOOKUP(2, 1/(FM$17:FM71<>\"\"), FM$17:FM71), FM72))","v":0},null,null,null,null,146,"",null,null,{"$f":"IF(FV73=\"\", 0, FV73 - IF(FV72=\"\", LOOKUP(2, 1/(FV$17:FV71<>\"\"), FV$17:FV71), FV72))","v":0},null,null,null,null,146,"",null,null,{"$f":"IF(GE73=\"\", 0, GE73 - IF(GE72=\"\", LOOKUP(2, 1/(GE$17:GE71<>\"\"), GE$17:GE71), GE72))","v":0},null,null,null,null,146,"",null,null,{"$f":"IF(GN73=\"\", 0, GN73 - IF(GN72=\"\", LOOKUP(2, 1/(GN$17:GN71<>\"\"), GN$17:GN71), GN72))","v":0},null,null,null,null,146,"",null,null,{"$f":"IF(GW73=\"\", 0, GW73 - IF(GW72=\"\", LOOKUP(2, 1/(GW$17:GW71<>\"\"), GW$17:GW71), GW72))","v":0},null,null,null,null,146,"",null,null,{"$f":"IF(HF73=\"\", 0, HF73 - IF(HF72=\"\", LOOKUP(2, 1/(HF$17:HF71<>\"\"), HF$17:HF71), HF72))","v":0},null,null,null,null,146,"",null,null,{"$f":"IF(HO73=\"\", 0, HO73 - IF(HO72=\"\", LOOKUP(2, 1/(HO$17:HO71<>\"\"), HO$17:HO71), HO72))","v":0},null,null,null,null,146,"",null,null,{"$f":"IF(HX73=\"\", 0, HX73 - IF(HX72=\"\", LOOKUP(2, 1/(HX$17:HX71<>\"\"), HX$17:HX71), HX72))","v":0},null,null,null,null,146,"",null,null,{"$f":"IF(IG73=\"\", 0, IG73 - IF(IG72=\"\", LOOKUP(2, 1/(IG$17:IG71<>\"\"), IG$17:IG71), IG72))","v":0},null,null,null,null,146,"",null,null,{"$f":"IF(IP73=\"\", 0, IP73 - IF(IP72=\"\", LOOKUP(2, 1/(IP$17:IP71<>\"\"), IP$17:IP71), IP72))","v":0},null,null,null,null,146,"",null,null,{"$f":"IF(IY73=\"\", 0, IY73 - IF(IY72=\"\", LOOKUP(2, 1/(IY$17:IY71<>\"\"), IY$17:IY71), IY72))","v":0},null,null,null,null,146,"",null,null,{"$f":"IF(JH73=\"\", 0, JH73 - IF(JH72=\"\", LOOKUP(2, 1/(JH$17:JH71<>\"\"), JH$17:JH71), JH72))","v":0},null,null,null,null,146,"",null,null,{"$f":"IF(JQ73=\"\", 0, JQ73 - IF(JQ72=\"\", LOOKUP(2, 1/(JQ$17:JQ71<>\"\"), JQ$17:JQ71), JQ72))","v":0},null,null,null,null,146,"",null,null,{"$f":"IF(JZ73=\"\", 0, JZ73 - IF(JZ72=\"\", LOOKUP(2, 1/(JZ$17:JZ71<>\"\"), JZ$17:JZ71), JZ72))","v":0},null,null,null,null,146,"",null,null,{"$f":"IF(KI73=\"\", 0, KI73 - IF(KI72=\"\", LOOKUP(2, 1/(KI$17:KI71<>\"\"), KI$17:KI71), KI72))","v":0},null,null,null,null,146,"",null,null,{"$f":"IF(KR73=\"\", 0, KR73 - IF(KR72=\"\", LOOKUP(2, 1/(KR$17:KR71<>\"\"), KR$17:KR71), KR72))","v":0},null,null,null,null,146,"",null,null,{"$f":"IF(LA73=\"\", 0, LA73 - IF(LA72=\"\", LOOKUP(2, 1/(LA$17:LA71<>\"\"), LA$17:LA71), LA72))","v":0},null,null,null,null,146,"",null,null,{"$f":"IF(LJ73=\"\", 0, LJ73 - IF(LJ72=\"\", LOOKUP(2, 1/(LJ$17:LJ71<>\"\"), LJ$17:LJ71), LJ72))","v":0},null,null,null,null,146,"",null,null,{"$f":"IF(LS73=\"\", 0, LS73 - IF(LS72=\"\", LOOKUP(2, 1/(LS$17:LS71<>\"\"), LS$17:LS71), LS72))","v":0},null,null,null,null,146,"",null,null,{"$f":"IF(MB73=\"\", 0, MB73 - IF(MB72=\"\", LOOKUP(2, 1/(MB$17:MB71<>\"\"), MB$17:MB71), MB72))","v":0},null,null,null,null,146,"",null,null,{"$f":"IF(MK73=\"\", 0, MK73 - IF(MK72=\"\", LOOKUP(2, 1/(MK$17:MK71<>\"\"), MK$17:MK71), MK72))","v":0},null,null,null,null,146,"",null,null,{"$f":"IF(MT73=\"\", 0, MT73 - IF(MT72=\"\", LOOKUP(2, 1/(MT$17:MT71<>\"\"), MT$17:MT71), MT72))","v":0},null,null,146,"",null,null,{"$f":"IF(NA73=\"\", 0, NA73 - IF(NA72=\"\", LOOKUP(2, 1/(NA$17:NA71<>\"\"), NA$17:NA71), NA72))","v":0},null,null,null,null,146,"",null,null,{"$f":"IF(NJ73=\"\", 0, NJ73 - IF(NJ72=\"\", LOOKUP(2, 1/(NJ$17:NJ71<>\"\"), NJ$17:NJ71), NJ72))","v":0},null,null,null,null,146,"",null,null,{"$f":"IF(NS73=\"\", 0, NS73 - IF(NS72=\"\", LOOKUP(2, 1/(NS$17:NS71<>\"\"), NS$17:NS71), NS72))","v":0},null,null,null,null,146,"",null,null,{"$f":"IF(OB73=\"\", 0, OB73 - IF(OB72=\"\", LOOKUP(2, 1/(OB$17:OB71<>\"\"), OB$17:OB71), OB72))","v":0},null,null,null,null,146,"",null,null,{"$f":"IF(OK73=\"\", 0, OK73 - IF(OK72=\"\", LOOKUP(2, 1/(OK$17:OK71<>\"\"), OK$17:OK71), OK72))","v":0},null,null,null,null,146,"",null,null,{"$f":"IF(OT73=\"\", 0, OT73 - IF(OT72=\"\", LOOKUP(2, 1/(OT$17:OT71<>\"\"), OT$17:OT71), OT72))","v":0},null,null,null,null,146,"",null,null,{"$f":"IF(PC73=\"\", 0, PC73 - IF(PC72=\"\", LOOKUP(2, 1/(PC$17:PC71<>\"\"), PC$17:PC71), PC72))","v":0},null,null,null,null,146,"",null,null,{"$f":"IF(PL73=\"\", 0, PL73 - IF(PL72=\"\", LOOKUP(2, 1/(PL$17:PL71<>\"\"), PL$17:PL71), PL72))","v":0},null,null,null,null,146,"",null,null,{"$f":"IF(PU73=\"\", 0, PU73 - IF(PU72=\"\", LOOKUP(2, 1/(PU$17:PU71<>\"\"), PU$17:PU71), PU72))","v":0},null,null,null,null,146,"",null,null,{"$f":"IF(QD73=\"\", 0, QD73 - IF(QD72=\"\", LOOKUP(2, 1/(QD$17:QD71<>\"\"), QD$17:QD71), QD72))","v":0}]
[null,null,null,145,"",null,null,{"$f":"IF(G74=\"\", 0, G74 - IF(G73=\"\", LOOKUP(2, 1/(G$17:G72<>\"\"), G$17:G72), G73))","v":0},null,null,null,null,145,"",null,null,{"$f":"IF(P74=\"\", 0, P74 - IF(P73=\"\", LOOKUP(2, 1/(P$17:P72<>\"\"), P$17:P72), P73))","v":0},null,null,null,null,145,"",null,null,{"$f":"IF(Y74=\"\", 0, Y74 - IF(Y73=\"\", LOOKUP(2, 1/(Y$17:Y72<>\"\"), Y$17:Y72), Y73))","v":0},null,null,null,null,145,"",null,null,{"$f":"IF(AH74=\"\", 0, AH74 - IF(AH73=\"\", LOOKUP(2, 1/(AH$17:AH72<>\"\"), AH$17:AH72), AH73))","v":0},null,null,null,null,145,"",null,null,{"$f":"IF(AQ74=\"\", 0, AQ74 - IF(AQ73=\"\", LOOKUP(2, 1/(AQ$17:AQ72<>\"\"), AQ$17:AQ72), AQ73))","v":0},null,null,null,null,145,"",null,null,{"$f":"IF(AZ74=\"\", 0, AZ74 - IF(AZ73=\"\", LOOKUP(2, 1/(AZ$17:AZ72<>\"\"), AZ$17:AZ72), AZ73))","v":0},null,null,null,null,145,"",null,null,{"$f":"IF(BI74=\"\", 0, BI74 - IF(BI73=\"\", LOOKUP(2, 1/(BI$17:BI72<>\"\"), BI$17:BI72), BI73))","v":0},null,null,null,null,145,"",null,null,{"$f":"IF(BR74=\"\", 0, BR74 - IF(BR73=\"\", LOOKUP(2, 1/(BR$17:BR72<>\"\"), BR$17:BR72), BR73))","v":0},null,null,null,null,145,"",null,null,{"$f":"IF(CA74=\"\", 0, CA74 - IF(CA73=\"\", LOOKUP(2, 1/(CA$17:CA72<>\"\"), CA$17:CA72), CA73))","v":0},null,null,null,null,145,"",null,null,{"$f":"IF(CJ74=\"\", 0, CJ74 - IF(CJ73=\"\", LOOKUP(2, 1/(CJ$17:CJ72<>\"\"), CJ$17:CJ72), CJ73))","v":0},null,null,null,null,145,"",null,null,{"$f":"IF(CS74=\"\", 0, CS74 - IF(CS73=\"\", LOOKUP(2, 1/(CS$17:CS72<>\"\"), CS$17:CS72), CS73))","v":0},null,null,null,null,145,"",null,null,{"$f":"IF(DB74=\"\", 0, DB74 - IF(DB73=\"\", LOOKUP(2, 1/(DB$17:DB72<>\"\"), DB$17:DB72), DB73))","v":0},null,null,null,null,145,"",null,null,{"$f":"IF(DK74=\"\", 0, DK74 - IF(DK73=\"\", LOOKUP(2, 1/(DK$17:DK72<>\"\"), DK$17:DK72), DK73))","v":0},null,null,null,null,145,"",null,null,{"$f":"IF(DT74=\"\", 0, DT74 - IF(DT73=\"\", LOOKUP(2, 1/(DT$17:DT72<>\"\"), DT$17:DT72), DT73))","v":0},null,null,null,null,145,"",null,null,{"$f":"IF(EC74=\"\", 0, EC74 - IF(EC73=\"\", LOOKUP(2, 1/(EC$17:EC72<>\"\"), EC$17:EC72), EC73))","v":0},null,null,null,null,145,"",null,null,{"$f":"IF(EL74=\"\", 0, EL74 - IF(EL73=\"\", LOOKUP(2, 1/(EL$17:EL72<>\"\"), EL$17:EL72), EL73))","v":0},null,null,null,null,145,"",null,null,{"$f":"IF(EU74=\"\", 0, EU74 - IF(EU73=\"\", LOOKUP(2, 1/(EU$17:EU72<>\"\"), EU$17:EU72), EU73))","v":0},null,null,null,null,145,"",null,null,{"$f":"IF(FD74=\"\", 0, FD74 - IF(FD73=\"\", LOOKUP(2, 1/(FD$17:FD72<>\"\"), FD$17:FD72), FD73))","v":0},null,null,null,null,145,"",null,null,{"$f":"IF(FM74=\"\", 0, FM74 - IF(FM73=\"\", LOOKUP(2, 1/(FM$17:FM72<>\"\"), FM$17:FM72), FM73))","v":0},null,null,null,null,145,"",null,null,{"$f":"IF(FV74=\"\", 0, FV74 - IF(FV73=\"\", LOOKUP(2, 1/(FV$17:FV72<>\"\"), FV$17:FV72), FV73))","v":0},null,null,null,null,145,"",null,null,{"$f":"IF(GE74=\"\", 0, GE74 - IF(GE73=\"\", LOOKUP(2, 1/(GE$17:GE72<>\"\"), GE$17:GE72), GE73))","v":0},null,null,null,null,145,"",null,null,{"$f":"IF(GN74=\"\", 0, GN74 - IF(GN73=\"\", LOOKUP(2, 1/(GN$17:GN72<>\"\"), GN$17:GN72), GN73))","v":0},null,null,null,null,145,"",null,null,{"$f":"IF(GW74=\"\", 0, GW74 - IF(GW73=\"\", LOOKUP(2, 1/(GW$17:GW72<>\"\"), GW$17:GW72), GW73))","v":0},null,null,null,null,145,"",null,null,{"$f":"IF(HF74=\"\", 0, HF74 - IF(HF73=\"\", LOOKUP(2, 1/(HF$17:HF72<>\"\"), HF$17:HF72), HF73))","v":0},null,null,null,null,145,"",null,null,{"$f":"IF(HO74=\"\", 0, HO74 - IF(HO73=\"\", LOOKUP(2, 1/(HO$17:HO72<>\"\"), HO$17:HO72), HO73))","v":0},null,null,null,null,145,"",null,null,{"$f":"IF(HX74=\"\", 0, HX74 - IF(HX73=\"\", LOOKUP(2, 1/(HX$17:HX72<>\"\"), HX$17:HX72), HX73))","v":0},null,null,null,null,145,"",null,null,{"$f":"IF(IG74=\"\", 0, IG74 - IF(IG73=\"\", LOOKUP(2, 1/(IG$17:IG72<>\"\"), IG$17:IG72), IG73))","v":0},null,null,null,null,145,"",null,null,{"$f":"IF(IP74=\"\", 0, IP74 - IF(IP73=\"\", LOOKUP(2, 1/(IP$17:IP72<>\"\"), IP$17:IP72), IP73))","v":0},null,null,null,null,145,"",null,null,{"$f":"IF(IY74=\"\", 0, IY74 - IF(IY73=\"\", LOOKUP(2, 1/(IY$17:IY72<>\"\"), IY$17:IY72), IY73))","v":0},null,null,null,null,145,"",null,null,{"$f":"IF(JH74=\"\", 0, JH74 - IF(JH73=\"\", LOOKUP(2, 1/(JH$17:JH72<>\"\"), JH$17:JH72), JH73))","v":0},null,null,null,null,145,"",null,null,{"$f":"IF(JQ74=\"\", 0, JQ74 - IF(JQ73=\"\", LOOKUP(2, 1/(JQ$17:JQ72<>\"\"), JQ$17:JQ72), JQ73))","v":0},null,null,null,null,145,"",null,null,{"$f":"IF(JZ74=\"\", 0, JZ74 - IF(JZ73=\"\", LOOKUP(2, 1/(JZ$17:JZ72<>\"\"), JZ$17:JZ72), JZ73))","v":0},null,null,null,null,145,"",null,null,{"$f":"IF(KI74=\"\", 0, KI74 - IF(KI73=\"\", LOOKUP(2, 1/(KI$17:KI72<>\"\"), KI$17:KI72), KI73))","v":0},null,null,null,null,145,"",null,null,{"$f":"IF(KR74=\"\", 0, KR74 - IF(KR73=\"\", LOOKUP(2, 1/(KR$17:KR72<>\"\"), KR$17:KR72), KR73))","v":0},null,null,null,null,145,"",null,null,{"$f":"IF(LA74=\"\", 0, LA74 - IF(LA73=\"\", LOOKUP(2, 1/(LA$17:LA72<>\"\"), LA$17:LA72), LA73))","v":0},null,null,null,null,145,"",null,null,{"$f":"IF(LJ74=\"\", 0, LJ74 - IF(LJ73=\"\", LOOKUP(2, 1/(LJ$17:LJ72<>\"\"), LJ$17:LJ72), LJ73))","v":0},null,null,null,null,145,"",null,null,{"$f":"IF(LS74=\"\", 0, LS74 - IF(LS73=\"\", LOOKUP(2, 1/(LS$17:LS72<>\"\"), LS$17:LS72), LS73))","v":0},null,null,null,null,145,"",null,null,{"$f":"IF(MB74=\"\", 0, MB74 - IF(MB73=\"\", LOOKUP(2, 1/(MB$17:MB72<>\"\"), MB$17:MB72), MB73))","v":0},null,null,null,null,145,"",null,null,{"$f":"IF(MK74=\"\", 0, MK74 - IF(MK73=\"\", LOOKUP(2, 1/(MK$17:MK72<>\"\"), MK$17:MK72), MK73))","v":0},null,null,null,null,145,"",null,null,{"$f":"IF(MT74=\"\", 0, MT74 - IF(MT73=\"\", LOOKUP(2, 1/(MT$17:MT72<>\"\"), MT$17:MT72), MT73))","v":0},null,null,145,"",null,null,{"$f":"IF(NA74=\"\", 0, NA74 - IF(NA73=\"\", LOOKUP(2, 1/(NA$17:NA72<>\"\"), NA$17:NA72), NA73))","v":0},null,null,null,null,145,"",null,null,{"$f":"IF(NJ74=\"\", 0, NJ74 - IF(NJ73=\"\", LOOKUP(2, 1/(NJ$17:NJ72<>\"\"), NJ$17:NJ72), NJ73))","v":0},null,null,null,null,145,"",null,null,{"$f":"IF(NS74=\"\", 0, NS74 - IF(NS73=\"\", LOOKUP(2, 1/(NS$17:NS72<>\"\"), NS$17:NS72), NS73))","v":0},null,null,null,null,145,"",null,null,{"$f":"IF(OB74=\"\", 0, OB74 - IF(OB73=\"\", LOOKUP(2, 1/(OB$17:OB72<>\"\"), OB$17:OB72), OB73))","v":0},null,null,null,null,145,"",null,null,{"$f":"IF(OK74=\"\", 0, OK74 - IF(OK73=\"\", LOOKUP(2, 1/(OK$17:OK72<>\"\"), OK$17:OK72), OK73))","v":0},null,null,null,null,145,"",null,null,{"$f":"IF(OT74=\"\", 0, OT74 - IF(OT73=\"\", LOOKUP(2, 1/(OT$17:OT72<>\"\"), OT$17:OT72), OT73))","v":0},null,null,null,null,145,"",null,null,{"$f":"IF(PC74=\"\", 0, PC74 - IF(PC73=\"\", LOOKUP(2, 1/(PC$17:PC72<>\"\"), PC$17:PC72), PC73))","v":0},null,null,null,null,145,"",null,null,{"$f":"IF(PL74=\"\", 0, PL74 - IF(PL73=\"\", LOOKUP(2, 1/(PL$17:PL72<>\"\"), PL$17:PL72), PL73))","v":0},null,null,null,null,145,"",null,null,{"$f":"IF(PU74=\"\", 0, PU74 - IF(PU73=\"\", LOOKUP(2, 1/(PU$17:PU72<>\"\"), PU$17:PU72), PU73))","v":0},null,null,null,null,145,"",null,null,{"$f":"IF(QD74=\"\", 0, QD74 - IF(QD73=\"\", LOOKUP(2, 1/(QD$17:QD72<>\"\"), QD$17:QD72), QD73))","v":0}]
[null,null,null,144,"",null,null,{"$f":"IF(G75=\"\", 0, G75 - IF(G74=\"\", LOOKUP(2, 1/(G$17:G73<>\"\"), G$17:G73), G74))","v":0},null,null,null,null,144,"",null,null,{"$f":"IF(P75=\"\", 0, P75 - IF(P74=\"\", LOOKUP(2, 1/(P$17:P73<>\"\"), P$17:P73), P74))","v":0},null,null,null,null,144,"",null,null,{"$f":"IF(Y75=\"\", 0, Y75 - IF(Y74=\"\", LOOKUP(2, 1/(Y$17:Y73<>\"\"), Y$17:Y73), Y74))","v":0},null,null,null,null,144,"",null,null,{"$f":"IF(AH75=\"\", 0, AH75 - IF(AH74=\"\", LOOKUP(2, 1/(AH$17:AH73<>\"\"), AH$17:AH73), AH74))","v":0},null,null,null,null,144,"",null,null,{"$f":"IF(AQ75=\"\", 0, AQ75 - IF(AQ74=\"\", LOOKUP(2, 1/(AQ$17:AQ73<>\"\"), AQ$17:AQ73), AQ74))","v":0},null,null,null,null,144,"",null,null,{"$f":"IF(AZ75=\"\", 0, AZ75 - IF(AZ74=\"\", LOOKUP(2, 1/(AZ$17:AZ73<>\"\"), AZ$17:AZ73), AZ74))","v":0},null,null,null,null,144,"",null,null,{"$f":"IF(BI75=\"\", 0, BI75 - IF(BI74=\"\", LOOKUP(2, 1/(BI$17:BI73<>\"\"), BI$17:BI73), BI74))","v":0},null,null,null,null,144,"",null,null,{"$f":"IF(BR75=\"\", 0, BR75 - IF(BR74=\"\", LOOKUP(2, 1/(BR$17:BR73<>\"\"), BR$17:BR73), BR74))","v":0},null,null,null,null,144,"",null,null,{"$f":"IF(CA75=\"\", 0, CA75 - IF(CA74=\"\", LOOKUP(2, 1/(CA$17:CA73<>\"\"), CA$17:CA73), CA74))","v":0},null,null,null,null,144,"",null,null,{"$f":"IF(CJ75=\"\", 0, CJ75 - IF(CJ74=\"\", LOOKUP(2, 1/(CJ$17:CJ73<>\"\"), CJ$17:CJ73), CJ74))","v":0},null,null,null,null,144,"",null,null,{"$f":"IF(CS75=\"\", 0, CS75 - IF(CS74=\"\", LOOKUP(2, 1/(CS$17:CS73<>\"\"), CS$17:CS73), CS74))","v":0},null,null,null,null,144,"",null,null,{"$f":"IF(DB75=\"\", 0, DB75 - IF(DB74=\"\", LOOKUP(2, 1/(DB$17:DB73<>\"\"), DB$17:DB73), DB74))","v":0},null,null,null,null,144,"",null,null,{"$f":"IF(DK75=\"\", 0, DK75 - IF(DK74=\"\", LOOKUP(2, 1/(DK$17:DK73<>\"\"), DK$17:DK73), DK74))","v":0},null,null,null,null,144,"",null,null,{"$f":"IF(DT75=\"\", 0, DT75 - IF(DT74=\"\", LOOKUP(2, 1/(DT$17:DT73<>\"\"), DT$17:DT73), DT74))","v":0},null,null,null,null,144,"",null,null,{"$f":"IF(EC75=\"\", 0, EC75 - IF(EC74=\"\", LOOKUP(2, 1/(EC$17:EC73<>\"\"), EC$17:EC73), EC74))","v":0},null,null,null,null,144,"",null,null,{"$f":"IF(EL75=\"\", 0, EL75 - IF(EL74=\"\", LOOKUP(2, 1/(EL$17:EL73<>\"\"), EL$17:EL73), EL74))","v":0},null,null,null,null,144,"",null,null,{"$f":"IF(EU75=\"\", 0, EU75 - IF(EU74=\"\", LOOKUP(2, 1/(EU$17:EU73<>\"\"), EU$17:EU73), EU74))","v":0},null,null,null,null,144,"",null,null,{"$f":"IF(FD75=\"\", 0, FD75 - IF(FD74=\"\", LOOKUP(2, 1/(FD$17:FD73<>\"\"), FD$17:FD73), FD74))","v":0},null,null,null,null,144,"",null,null,{"$f":"IF(FM75=\"\", 0, FM75 - IF(FM74=\"\", LOOKUP(2, 1/(FM$17:FM73<>\"\"), FM$17:FM73), FM74))","v":0},null,null,null,null,144,"",null,null,{"$f":"IF(FV75=\"\", 0, FV75 - IF(FV74=\"\", LOOKUP(2, 1/(FV$17:FV73<>\"\"), FV$17:FV73), FV74))","v":0},null,null,null,null,144,"",null,null,{"$f":"IF(GE75=\"\", 0, GE75 - IF(GE74=\"\", LOOKUP(2, 1/(GE$17:GE73<>\"\"), GE$17:GE73), GE74))","v":0},null,null,null,null,144,"",null,null,{"$f":"IF(GN75=\"\", 0, GN75 - IF(GN74=\"\", LOOKUP(2, 1/(GN$17:GN73<>\"\"), GN$17:GN73), GN74))","v":0},null,null,null,null,144,"",null,null,{"$f":"IF(GW75=\"\", 0, GW75 - IF(GW74=\"\", LOOKUP(2, 1/(GW$17:GW73<>\"\"), GW$17:GW73), GW74))","v":0},null,null,null,null,144,"",null,null,{"$f":"IF(HF75=\"\", 0, HF75 - IF(HF74=\"\", LOOKUP(2, 1/(HF$17:HF73<>\"\"), HF$17:HF73), HF74))","v":0},null,null,null,null,144,"",null,null,{"$f":"IF(HO75=\"\", 0, HO75 - IF(HO74=\"\", LOOKUP(2, 1/(HO$17:HO73<>\"\"), HO$17:HO73), HO74))","v":0},null,null,null,null,144,"",null,null,{"$f":"IF(HX75=\"\", 0, HX75 - IF(HX74=\"\", LOOKUP(2, 1/(HX$17:HX73<>\"\"), HX$17:HX73), HX74))","v":0},null,null,null,null,144,"",null,null,{"$f":"IF(IG75=\"\", 0, IG75 - IF(IG74=\"\", LOOKUP(2, 1/(IG$17:IG73<>\"\"), IG$17:IG73), IG74))","v":0},null,null,null,null,144,"",null,null,{"$f":"IF(IP75=\"\", 0, IP75 - IF(IP74=\"\", LOOKUP(2, 1/(IP$17:IP73<>\"\"), IP$17:IP73), IP74))","v":0},null,null,null,null,144,"",null,null,{"$f":"IF(IY75=\"\", 0, IY75 - IF(IY74=\"\", LOOKUP(2, 1/(IY$17:IY73<>\"\"), IY$17:IY73), IY74))","v":0},null,null,null,null,144,"",null,null,{"$f":"IF(JH75=\"\", 0, JH75 - IF(JH74=\"\", LOOKUP(2, 1/(JH$17:JH73<>\"\"), JH$17:JH73), JH74))","v":0},null,null,null,null,144,"",null,null,{"$f":"IF(JQ75=\"\", 0, JQ75 - IF(JQ74=\"\", LOOKUP(2, 1/(JQ$17:JQ73<>\"\"), JQ$17:JQ73), JQ74))","v":0},null,null,null,null,144,"",null,null,{"$f":"IF(JZ75=\"\", 0, JZ75 - IF(JZ74=\"\", LOOKUP(2, 1/(JZ$17:JZ73<>\"\"), JZ$17:JZ73), JZ74))","v":0},null,null,null,null,144,"",null,null,{"$f":"IF(KI75=\"\", 0, KI75 - IF(KI74=\"\", LOOKUP(2, 1/(KI$17:KI73<>\"\"), KI$17:KI73), KI74))","v":0},null,null,null,null,144,"",null,null,{"$f":"IF(KR75=\"\", 0, KR75 - IF(KR74=\"\", LOOKUP(2, 1/(KR$17:KR73<>\"\"), KR$17:KR73), KR74))","v":0},null,null,null,null,144,"",null,null,{"$f":"IF(LA75=\"\", 0, LA75 - IF(LA74=\"\", LOOKUP(2, 1/(LA$17:LA73<>\"\"), LA$17:LA73), LA74))","v":0},null,null,null,null,144,"",null,null,{"$f":"IF(LJ75=\"\", 0, LJ75 - IF(LJ74=\"\", LOOKUP(2, 1/(LJ$17:LJ73<>\"\"), LJ$17:LJ73), LJ74))","v":0},null,null,null,null,144,"",null,null,{"$f":"IF(LS75=\"\", 0, LS75 - IF(LS74=\"\", LOOKUP(2, 1/(LS$17:LS73<>\"\"), LS$17:LS73), LS74))","v":0},null,null,null,null,144,"",null,null,{"$f":"IF(MB75=\"\", 0, MB75 - IF(MB74=\"\", LOOKUP(2, 1/(MB$17:MB73<>\"\"), MB$17:MB73), MB74))","v":0},null,null,null,null,144,"",null,null,{"$f":"IF(MK75=\"\", 0, MK75 - IF(MK74=\"\", LOOKUP(2, 1/(MK$17:MK73<>\"\"), MK$17:MK73), MK74))","v":0},null,null,null,null,144,"",null,null,{"$f":"IF(MT75=\"\", 0, MT75 - IF(MT74=\"\", LOOKUP(2, 1/(MT$17:MT73<>\"\"), MT$17:MT73), MT74))","v":0},null,null,144,"",null,null,{"$f":"IF(NA75=\"\", 0, NA75 - IF(NA74=\"\", LOOKUP(2, 1/(NA$17:NA73<>\"\"), NA$17:NA73), NA74))","v":0},null,null,null,null,144,"",null,null,{"$f":"IF(NJ75=\"\", 0, NJ75 - IF(NJ74=\"\", LOOKUP(2, 1/(NJ$17:NJ73<>\"\"), NJ$17:NJ73), NJ74))","v":0},null,null,null,null,144,"",null,null,{"$f":"IF(NS75=\"\", 0, NS75 - IF(NS74=\"\", LOOKUP(2, 1/(NS$17:NS73<>\"\"), NS$17:NS73), NS74))","v":0},null,null,null,null,144,"",null,null,{"$f":"IF(OB75=\"\", 0, OB75 - IF(OB74=\"\", LOOKUP(2, 1/(OB$17:OB73<>\"\"), OB$17:OB73), OB74))","v":0},null,null,null,null,144,"",null,null,{"$f":"IF(OK75=\"\", 0, OK75 - IF(OK74=\"\", LOOKUP(2, 1/(OK$17:OK73<>\"\"), OK$17:OK73), OK74))","v":0},null,null,null,null,144,"",null,null,{"$f":"IF(OT75=\"\", 0, OT75 - IF(OT74=\"\", LOOKUP(2, 1/(OT$17:OT73<>\"\"), OT$17:OT73), OT74))","v":0},null,null,null,null,144,"",null,null,{"$f":"IF(PC75=\"\", 0, PC75 - IF(PC74=\"\", LOOKUP(2, 1/(PC$17:PC73<>\"\"), PC$17:PC73), PC74))","v":0},null,null,null,null,144,"",null,null,{"$f":"IF(PL75=\"\", 0, PL75 - IF(PL74=\"\", LOOKUP(2, 1/(PL$17:PL73<>\"\"), PL$17:PL73), PL74))","v":0},null,null,null,null,144,"",null,null,{"$f":"IF(PU75=\"\", 0, PU75 - IF(PU74=\"\", LOOKUP(2, 1/(PU$17:PU73<>\"\"), PU$17:PU73), PU74))","v":0},null,null,null,null,144,"",null,null,{"$f":"IF(QD75=\"\", 0, QD75 - IF(QD74=\"\", LOOKUP(2, 1/(QD$17:QD73<>\"\"), QD$17:QD73), QD74))","v":0}]
[null,null,null,143,"",null,null,{"$f":"IF(G76=\"\", 0, G76 - IF(G75=\"\", LOOKUP(2, 1/(G$17:G74<>\"\"), G$17:G74), G75))","v":0},null,null,null,null,143,"",null,null,{"$f":"IF(P76=\"\", 0, P76 - IF(P75=\"\", LOOKUP(2, 1/(P$17:P74<>\"\"), P$17:P74), P75))","v":0},null,null,null,null,143,"",null,null,{"$f":"IF(Y76=\"\", 0, Y76 - IF(Y75=\"\", LOOKUP(2, 1/(Y$17:Y74<>\"\"), Y$17:Y74), Y75))","v":0},null,null,null,null,143,"",null,null,{"$f":"IF(AH76=\"\", 0, AH76 - IF(AH75=\"\", LOOKUP(2, 1/(AH$17:AH74<>\"\"), AH$17:AH74), AH75))","v":0},null,null,null,null,143,"",null,null,{"$f":"IF(AQ76=\"\", 0, AQ76 - IF(AQ75=\"\", LOOKUP(2, 1/(AQ$17:AQ74<>\"\"), AQ$17:AQ74), AQ75))","v":0},null,null,null,null,143,"",null,null,{"$f":"IF(AZ76=\"\", 0, AZ76 - IF(AZ75=\"\", LOOKUP(2, 1/(AZ$17:AZ74<>\"\"), AZ$17:AZ74), AZ75))","v":0},null,null,null,null,143,"",null,null,{"$f":"IF(BI76=\"\", 0, BI76 - IF(BI75=\"\", LOOKUP(2, 1/(BI$17:BI74<>\"\"), BI$17:BI74), BI75))","v":0},null,null,null,null,143,"",null,null,{"$f":"IF(BR76=\"\", 0, BR76 - IF(BR75=\"\", LOOKUP(2, 1/(BR$17:BR74<>\"\"), BR$17:BR74), BR75))","v":0},null,null,null,null,143,"",null,null,{"$f":"IF(CA76=\"\", 0, CA76 - IF(CA75=\"\", LOOKUP(2, 1/(CA$17:CA74<>\"\"), CA$17:CA74), CA75))","v":0},null,null,null,null,143,"",null,null,{"$f":"IF(CJ76=\"\", 0, CJ76 - IF(CJ75=\"\", LOOKUP(2, 1/(CJ$17:CJ74<>\"\"), CJ$17:CJ74), CJ75))","v":0},null,null,null,null,143,"",null,null,{"$f":"IF(CS76=\"\", 0, CS76 - IF(CS75=\"\", LOOKUP(2, 1/(CS$17:CS74<>\"\"), CS$17:CS74), CS75))","v":0},null,null,null,null,143,"",null,null,{"$f":"IF(DB76=\"\", 0, DB76 - IF(DB75=\"\", LOOKUP(2, 1/(DB$17:DB74<>\"\"), DB$17:DB74), DB75))","v":0},null,null,null,null,143,"",null,null,{"$f":"IF(DK76=\"\", 0, DK76 - IF(DK75=\"\", LOOKUP(2, 1/(DK$17:DK74<>\"\"), DK$17:DK74), DK75))","v":0},null,null,null,null,143,"",null,null,{"$f":"IF(DT76=\"\", 0, DT76 - IF(DT75=\"\", LOOKUP(2, 1/(DT$17:DT74<>\"\"), DT$17:DT74), DT75))","v":0},null,null,null,null,143,"",null,null,{"$f":"IF(EC76=\"\", 0, EC76 - IF(EC75=\"\", LOOKUP(2, 1/(EC$17:EC74<>\"\"), EC$17:EC74), EC75))","v":0},null,null,null,null,143,"",null,null,{"$f":"IF(EL76=\"\", 0, EL76 - IF(EL75=\"\", LOOKUP(2, 1/(EL$17:EL74<>\"\"), EL$17:EL74), EL75))","v":0},null,null,null,null,143,"",null,null,{"$f":"IF(EU76=\"\", 0, EU76 - IF(EU75=\"\", LOOKUP(2, 1/(EU$17:EU74<>\"\"), EU$17:EU74), EU75))","v":0},null,null,null,null,143,"",null,null,{"$f":"IF(FD76=\"\", 0, FD76 - IF(FD75=\"\", LOOKUP(2, 1/(FD$17:FD74<>\"\"), FD$17:FD74), FD75))","v":0},null,null,null,null,143,"",null,null,{"$f":"IF(FM76=\"\", 0, FM76 - IF(FM75=\"\", LOOKUP(2, 1/(FM$17:FM74<>\"\"), FM$17:FM74), FM75))","v":0},null,null,null,null,143,"",null,null,{"$f":"IF(FV76=\"\", 0, FV76 - IF(FV75=\"\", LOOKUP(2, 1/(FV$17:FV74<>\"\"), FV$17:FV74), FV75))","v":0},null,null,null,null,143,"",null,null,{"$f":"IF(GE76=\"\", 0, GE76 - IF(GE75=\"\", LOOKUP(2, 1/(GE$17:GE74<>\"\"), GE$17:GE74), GE75))","v":0},null,null,null,null,143,"",null,null,{"$f":"IF(GN76=\"\", 0, GN76 - IF(GN75=\"\", LOOKUP(2, 1/(GN$17:GN74<>\"\"), GN$17:GN74), GN75))","v":0},null,null,null,null,143,"",null,null,{"$f":"IF(GW76=\"\", 0, GW76 - IF(GW75=\"\", LOOKUP(2, 1/(GW$17:GW74<>\"\"), GW$17:GW74), GW75))","v":0},null,null,null,null,143,"",null,null,{"$f":"IF(HF76=\"\", 0, HF76 - IF(HF75=\"\", LOOKUP(2, 1/(HF$17:HF74<>\"\"), HF$17:HF74), HF75))","v":0},null,null,null,null,143,"",null,null,{"$f":"IF(HO76=\"\", 0, HO76 - IF(HO75=\"\", LOOKUP(2, 1/(HO$17:HO74<>\"\"), HO$17:HO74), HO75))","v":0},null,null,null,null,143,"",null,null,{"$f":"IF(HX76=\"\", 0, HX76 - IF(HX75=\"\", LOOKUP(2, 1/(HX$17:HX74<>\"\"), HX$17:HX74), HX75))","v":0},null,null,null,null,143,"",null,null,{"$f":"IF(IG76=\"\", 0, IG76 - IF(IG75=\"\", LOOKUP(2, 1/(IG$17:IG74<>\"\"), IG$17:IG74), IG75))","v":0},null,null,null,null,143,"",null,null,{"$f":"IF(IP76=\"\", 0, IP76 - IF(IP75=\"\", LOOKUP(2, 1/(IP$17:IP74<>\"\"), IP$17:IP74), IP75))","v":0},null,null,null,null,143,"",null,null,{"$f":"IF(IY76=\"\", 0, IY76 - IF(IY75=\"\", LOOKUP(2, 1/(IY$17:IY74<>\"\"), IY$17:IY74), IY75))","v":0},null,null,null,null,143,"",null,null,{"$f":"IF(JH76=\"\", 0, JH76 - IF(JH75=\"\", LOOKUP(2, 1/(JH$17:JH74<>\"\"), JH$17:JH74), JH75))","v":0},null,null,null,null,143,"",null,null,{"$f":"IF(JQ76=\"\", 0, JQ76 - IF(JQ75=\"\", LOOKUP(2, 1/(JQ$17:JQ74<>\"\"), JQ$17:JQ74), JQ75))","v":0},null,null,null,null,143,"",null,null,{"$f":"IF(JZ76=\"\", 0, JZ76 - IF(JZ75=\"\", LOOKUP(2, 1/(JZ$17:JZ74<>\"\"), JZ$17:JZ74), JZ75))","v":0},null,null,null,null,143,"",null,null,{"$f":"IF(KI76=\"\", 0, KI76 - IF(KI75=\"\", LOOKUP(2, 1/(KI$17:KI74<>\"\"), KI$17:KI74), KI75))","v":0},null,null,null,null,143,"",null,null,{"$f":"IF(KR76=\"\", 0, KR76 - IF(KR75=\"\", LOOKUP(2, 1/(KR$17:KR74<>\"\"), KR$17:KR74), KR75))","v":0},null,null,null,null,143,"",null,null,{"$f":"IF(LA76=\"\", 0, LA76 - IF(LA75=\"\", LOOKUP(2, 1/(LA$17:LA74<>\"\"), LA$17:LA74), LA75))","v":0},null,null,null,null,143,"",null,null,{"$f":"IF(LJ76=\"\", 0, LJ76 - IF(LJ75=\"\", LOOKUP(2, 1/(LJ$17:LJ74<>\"\"), LJ$17:LJ74), LJ75))","v":0},null,null,null,null,143,"",null,null,{"$f":"IF(LS76=\"\", 0, LS76 - IF(LS75=\"\", LOOKUP(2, 1/(LS$17:LS74<>\"\"), LS$17:LS74), LS75))","v":0},null,null,null,null,143,"",null,null,{"$f":"IF(MB76=\"\", 0, MB76 - IF(MB75=\"\", LOOKUP(2, 1/(MB$17:MB74<>\"\"), MB$17:MB74), MB75))","v":0},null,null,null,null,143,"",null,null,{"$f":"IF(MK76=\"\", 0, MK76 - IF(MK75=\"\", LOOKUP(2, 1/(MK$17:MK74<>\"\"), MK$17:MK74), MK75))","v":0},null,null,null,null,143,"",null,null,{"$f":"IF(MT76=\"\", 0, MT76 - IF(MT75=\"\", LOOKUP(2, 1/(MT$17:MT74<>\"\"), MT$17:MT74), MT75))","v":0},null,null,143,"",null,null,{"$f":"IF(NA76=\"\", 0, NA76 - IF(NA75=\"\", LOOKUP(2, 1/(NA$17:NA74<>\"\"), NA$17:NA74), NA75))","v":0},null,null,null,null,143,"",null,null,{"$f":"IF(NJ76=\"\", 0, NJ76 - IF(NJ75=\"\", LOOKUP(2, 1/(NJ$17:NJ74<>\"\"), NJ$17:NJ74), NJ75))","v":0},null,null,null,null,143,"",null,null,{"$f":"IF(NS76=\"\", 0, NS76 - IF(NS75=\"\", LOOKUP(2, 1/(NS$17:NS74<>\"\"), NS$17:NS74), NS75))","v":0},null,null,null,null,143,"",null,null,{"$f":"IF(OB76=\"\", 0, OB76 - IF(OB75=\"\", LOOKUP(2, 1/(OB$17:OB74<>\"\"), OB$17:OB74), OB75))","v":0},null,null,null,null,143,"",null,null,{"$f":"IF(OK76=\"\", 0, OK76 - IF(OK75=\"\", LOOKUP(2, 1/(OK$17:OK74<>\"\"), OK$17:OK74), OK75))","v":0},null,null,null,null,143,"",null,null,{"$f":"IF(OT76=\"\", 0, OT76 - IF(OT75=\"\", LOOKUP(2, 1/(OT$17:OT74<>\"\"), OT$17:OT74), OT75))","v":0},null,null,null,null,143,"",null,null,{"$f":"IF(PC76=\"\", 0, PC76 - IF(PC75=\"\", LOOKUP(2, 1/(PC$17:PC74<>\"\"), PC$17:PC74), PC75))","v":0},null,null,null,null,143,"",null,null,{"$f":"IF(PL76=\"\", 0, PL76 - IF(PL75=\"\", LOOKUP(2, 1/(PL$17:PL74<>\"\"), PL$17:PL74), PL75))","v":0},null,null,null,null,143,"",null,null,{"$f":"IF(PU76=\"\", 0, PU76 - IF(PU75=\"\", LOOKUP(2, 1/(PU$17:PU74<>\"\"), PU$17:PU74), PU75))","v":0},null,null,null,null,143,"",null,null,{"$f":"IF(QD76=\"\", 0, QD76 - IF(QD75=\"\", LOOKUP(2, 1/(QD$17:QD74<>\"\"), QD$17:QD74), QD75))","v":0}]
[null,null,null,142,"",null,null,{"$f":"IF(G77=\"\", 0, G77 - IF(G76=\"\", LOOKUP(2, 1/(G$17:G75<>\"\"), G$17:G75), G76))","v":0},null,null,null,null,142,"",null,null,{"$f":"IF(P77=\"\", 0, P77 - IF(P76=\"\", LOOKUP(2, 1/(P$17:P75<>\"\"), P$17:P75), P76))","v":0},null,null,null,null,142,"",null,null,{"$f":"IF(Y77=\"\", 0, Y77 - IF(Y76=\"\", LOOKUP(2, 1/(Y$17:Y75<>\"\"), Y$17:Y75), Y76))","v":0},null,null,null,null,142,"",null,null,{"$f":"IF(AH77=\"\", 0, AH77 - IF(AH76=\"\", LOOKUP(2, 1/(AH$17:AH75<>\"\"), AH$17:AH75), AH76))","v":0},null,null,null,null,142,"",null,null,{"$f":"IF(AQ77=\"\", 0, AQ77 - IF(AQ76=\"\", LOOKUP(2, 1/(AQ$17:AQ75<>\"\"), AQ$17:AQ75), AQ76))","v":0},null,null,null,null,142,"",null,null,{"$f":"IF(AZ77=\"\", 0, AZ77 - IF(AZ76=\"\", LOOKUP(2, 1/(AZ$17:AZ75<>\"\"), AZ$17:AZ75), AZ76))","v":0},null,null,null,null,142,"",null,null,{"$f":"IF(BI77=\"\", 0, BI77 - IF(BI76=\"\", LOOKUP(2, 1/(BI$17:BI75<>\"\"), BI$17:BI75), BI76))","v":0},null,null,null,null,142,"",null,null,{"$f":"IF(BR77=\"\", 0, BR77 - IF(BR76=\"\", LOOKUP(2, 1/(BR$17:BR75<>\"\"), BR$17:BR75), BR76))","v":0},null,null,null,null,142,"",null,null,{"$f":"IF(CA77=\"\", 0, CA77 - IF(CA76=\"\", LOOKUP(2, 1/(CA$17:CA75<>\"\"), CA$17:CA75), CA76))","v":0},null,null,null,null,142,"",null,null,{"$f":"IF(CJ77=\"\", 0, CJ77 - IF(CJ76=\"\", LOOKUP(2, 1/(CJ$17:CJ75<>\"\"), CJ$17:CJ75), CJ76))","v":0},null,null,null,null,142,"",null,null,{"$f":"IF(CS77=\"\", 0, CS77 - IF(CS76=\"\", LOOKUP(2, 1/(CS$17:CS75<>\"\"), CS$17:CS75), CS76))","v":0},null,null,null,null,142,"",null,null,{"$f":"IF(DB77=\"\", 0, DB77 - IF(DB76=\"\", LOOKUP(2, 1/(DB$17:DB75<>\"\"), DB$17:DB75), DB76))","v":0},null,null,null,null,142,"",null,null,{"$f":"IF(DK77=\"\", 0, DK77 - IF(DK76=\"\", LOOKUP(2, 1/(DK$17:DK75<>\"\"), DK$17:DK75), DK76))","v":0},null,null,null,null,142,"",null,null,{"$f":"IF(DT77=\"\", 0, DT77 - IF(DT76=\"\", LOOKUP(2, 1/(DT$17:DT75<>\"\"), DT$17:DT75), DT76))","v":0},null,null,null,null,142,"",null,null,{"$f":"IF(EC77=\"\", 0, EC77 - IF(EC76=\"\", LOOKUP(2, 1/(EC$17:EC75<>\"\"), EC$17:EC75), EC76))","v":0},null,null,null,null,142,"",null,null,{"$f":"IF(EL77=\"\", 0, EL77 - IF(EL76=\"\", LOOKUP(2, 1/(EL$17:EL75<>\"\"), EL$17:EL75), EL76))","v":0},null,null,null,null,142,"",null,null,{"$f":"IF(EU77=\"\", 0, EU77 - IF(EU76=\"\", LOOKUP(2, 1/(EU$17:EU75<>\"\"), EU$17:EU75), EU76))","v":0},null,null,null,null,142,"",null,null,{"$f":"IF(FD77=\"\", 0, FD77 - IF(FD76=\"\", LOOKUP(2, 1/(FD$17:FD75<>\"\"), FD$17:FD75), FD76))","v":0},null,null,null,null,142,"",null,null,{"$f":"IF(FM77=\"\", 0, FM77 - IF(FM76=\"\", LOOKUP(2, 1/(FM$17:FM75<>\"\"), FM$17:FM75), FM76))","v":0},null,null,null,null,142,"",null,null,{"$f":"IF(FV77=\"\", 0, FV77 - IF(FV76=\"\", LOOKUP(2, 1/(FV$17:FV75<>\"\"), FV$17:FV75), FV76))","v":0},null,null,null,null,142,"",null,null,{"$f":"IF(GE77=\"\", 0, GE77 - IF(GE76=\"\", LOOKUP(2, 1/(GE$17:GE75<>\"\"), GE$17:GE75), GE76))","v":0},null,null,null,null,142,"",null,null,{"$f":"IF(GN77=\"\", 0, GN77 - IF(GN76=\"\", LOOKUP(2, 1/(GN$17:GN75<>\"\"), GN$17:GN75), GN76))","v":0},null,null,null,null,142,"",null,null,{"$f":"IF(GW77=\"\", 0, GW77 - IF(GW76=\"\", LOOKUP(2, 1/(GW$17:GW75<>\"\"), GW$17:GW75), GW76))","v":0},null,null,null,null,142,"",null,null,{"$f":"IF(HF77=\"\", 0, HF77 - IF(HF76=\"\", LOOKUP(2, 1/(HF$17:HF75<>\"\"), HF$17:HF75), HF76))","v":0},null,null,null,null,142,"",null,null,{"$f":"IF(HO77=\"\", 0, HO77 - IF(HO76=\"\", LOOKUP(2, 1/(HO$17:HO75<>\"\"), HO$17:HO75), HO76))","v":0},null,null,null,null,142,"",null,null,{"$f":"IF(HX77=\"\", 0, HX77 - IF(HX76=\"\", LOOKUP(2, 1/(HX$17:HX75<>\"\"), HX$17:HX75), HX76))","v":0},null,null,null,null,142,"",null,null,{"$f":"IF(IG77=\"\", 0, IG77 - IF(IG76=\"\", LOOKUP(2, 1/(IG$17:IG75<>\"\"), IG$17:IG75), IG76))","v":0},null,null,null,null,142,"",null,null,{"$f":"IF(IP77=\"\", 0, IP77 - IF(IP76=\"\", LOOKUP(2, 1/(IP$17:IP75<>\"\"), IP$17:IP75), IP76))","v":0},null,null,null,null,142,"",null,null,{"$f":"IF(IY77=\"\", 0, IY77 - IF(IY76=\"\", LOOKUP(2, 1/(IY$17:IY75<>\"\"), IY$17:IY75), IY76))","v":0},null,null,null,null,142,"",null,null,{"$f":"IF(JH77=\"\", 0, JH77 - IF(JH76=\"\", LOOKUP(2, 1/(JH$17:JH75<>\"\"), JH$17:JH75), JH76))","v":0},null,null,null,null,142,"",null,null,{"$f":"IF(JQ77=\"\", 0, JQ77 - IF(JQ76=\"\", LOOKUP(2, 1/(JQ$17:JQ75<>\"\"), JQ$17:JQ75), JQ76))","v":0},null,null,null,null,142,"",null,null,{"$f":"IF(JZ77=\"\", 0, JZ77 - IF(JZ76=\"\", LOOKUP(2, 1/(JZ$17:JZ75<>\"\"), JZ$17:JZ75), JZ76))","v":0},null,null,null,null,142,"",null,null,{"$f":"IF(KI77=\"\", 0, KI77 - IF(KI76=\"\", LOOKUP(2, 1/(KI$17:KI75<>\"\"), KI$17:KI75), KI76))","v":0},null,null,null,null,142,"",null,null,{"$f":"IF(KR77=\"\", 0, KR77 - IF(KR76=\"\", LOOKUP(2, 1/(KR$17:KR75<>\"\"), KR$17:KR75), KR76))","v":0},null,null,null,null,142,"",null,null,{"$f":"IF(LA77=\"\", 0, LA77 - IF(LA76=\"\", LOOKUP(2, 1/(LA$17:LA75<>\"\"), LA$17:LA75), LA76))","v":0},null,null,null,null,142,"",null,null,{"$f":"IF(LJ77=\"\", 0, LJ77 - IF(LJ76=\"\", LOOKUP(2, 1/(LJ$17:LJ75<>\"\"), LJ$17:LJ75), LJ76))","v":0},null,null,null,null,142,"",null,null,{"$f":"IF(LS77=\"\", 0, LS77 - IF(LS76=\"\", LOOKUP(2, 1/(LS$17:LS75<>\"\"), LS$17:LS75), LS76))","v":0},null,null,null,null,142,"",null,null,{"$f":"IF(MB77=\"\", 0, MB77 - IF(MB76=\"\", LOOKUP(2, 1/(MB$17:MB75<>\"\"), MB$17:MB75), MB76))","v":0},null,null,null,null,142,"",null,null,{"$f":"IF(MK77=\"\", 0, MK77 - IF(MK76=\"\", LOOKUP(2, 1/(MK$17:MK75<>\"\"), MK$17:MK75), MK76))","v":0},null,null,null,null,142,"",null,null,{"$f":"IF(MT77=\"\", 0, MT77 - IF(MT76=\"\", LOOKUP(2, 1/(MT$17:MT75<>\"\"), MT$17:MT75), MT76))","v":0},null,null,142,"",null,null,{"$f":"IF(NA77=\"\", 0, NA77 - IF(NA76=\"\", LOOKUP(2, 1/(NA$17:NA75<>\"\"), NA$17:NA75), NA76))","v":0},null,null,null,null,142,"",null,null,{"$f":"IF(NJ77=\"\", 0, NJ77 - IF(NJ76=\"\", LOOKUP(2, 1/(NJ$17:NJ75<>\"\"), NJ$17:NJ75), NJ76))","v":0},null,null,null,null,142,"",null,null,{"$f":"IF(NS77=\"\", 0, NS77 - IF(NS76=\"\", LOOKUP(2, 1/(NS$17:NS75<>\"\"), NS$17:NS75), NS76))","v":0},null,null,null,null,142,"",null,null,{"$f":"IF(OB77=\"\", 0, OB77 - IF(OB76=\"\", LOOKUP(2, 1/(OB$17:OB75<>\"\"), OB$17:OB75), OB76))","v":0},null,null,null,null,142,"",null,null,{"$f":"IF(OK77=\"\", 0, OK77 - IF(OK76=\"\", LOOKUP(2, 1/(OK$17:OK75<>\"\"), OK$17:OK75), OK76))","v":0},null,null,null,null,142,"",null,null,{"$f":"IF(OT77=\"\", 0, OT77 - IF(OT76=\"\", LOOKUP(2, 1/(OT$17:OT75<>\"\"), OT$17:OT75), OT76))","v":0},null,null,null,null,142,"",null,null,{"$f":"IF(PC77=\"\", 0, PC77 - IF(PC76=\"\", LOOKUP(2, 1/(PC$17:PC75<>\"\"), PC$17:PC75), PC76))","v":0},null,null,null,null,142,"",null,null,{"$f":"IF(PL77=\"\", 0, PL77 - IF(PL76=\"\", LOOKUP(2, 1/(PL$17:PL75<>\"\"), PL$17:PL75), PL76))","v":0},null,null,null,null,142,"",null,null,{"$f":"IF(PU77=\"\", 0, PU77 - IF(PU76=\"\", LOOKUP(2, 1/(PU$17:PU75<>\"\"), PU$17:PU75), PU76))","v":0},null,null,null,null,142,"",null,null,{"$f":"IF(QD77=\"\", 0, QD77 - IF(QD76=\"\", LOOKUP(2, 1/(QD$17:QD75<>\"\"), QD$17:QD75), QD76))","v":0}]
[null,null,null,141,"",null,null,{"$f":"IF(G78=\"\", 0, G78 - IF(G77=\"\", LOOKUP(2, 1/(G$17:G76<>\"\"), G$17:G76), G77))","v":0},null,null,null,null,141,"",null,null,{"$f":"IF(P78=\"\", 0, P78 - IF(P77=\"\", LOOKUP(2, 1/(P$17:P76<>\"\"), P$17:P76), P77))","v":0},null,null,null,null,141,"",null,null,{"$f":"IF(Y78=\"\", 0, Y78 - IF(Y77=\"\", LOOKUP(2, 1/(Y$17:Y76<>\"\"), Y$17:Y76), Y77))","v":0},null,null,null,null,141,"",null,null,{"$f":"IF(AH78=\"\", 0, AH78 - IF(AH77=\"\", LOOKUP(2, 1/(AH$17:AH76<>\"\"), AH$17:AH76), AH77))","v":0},null,null,null,null,141,"",null,null,{"$f":"IF(AQ78=\"\", 0, AQ78 - IF(AQ77=\"\", LOOKUP(2, 1/(AQ$17:AQ76<>\"\"), AQ$17:AQ76), AQ77))","v":0},null,null,null,null,141,"",null,null,{"$f":"IF(AZ78=\"\", 0, AZ78 - IF(AZ77=\"\", LOOKUP(2, 1/(AZ$17:AZ76<>\"\"), AZ$17:AZ76), AZ77))","v":0},null,null,null,null,141,"",null,null,{"$f":"IF(BI78=\"\", 0, BI78 - IF(BI77=\"\", LOOKUP(2, 1/(BI$17:BI76<>\"\"), BI$17:BI76), BI77))","v":0},null,null,null,null,141,"",null,null,{"$f":"IF(BR78=\"\", 0, BR78 - IF(BR77=\"\", LOOKUP(2, 1/(BR$17:BR76<>\"\"), BR$17:BR76), BR77))","v":0},null,null,null,null,141,"",null,null,{"$f":"IF(CA78=\"\", 0, CA78 - IF(CA77=\"\", LOOKUP(2, 1/(CA$17:CA76<>\"\"), CA$17:CA76), CA77))","v":0},null,null,null,null,141,"",null,null,{"$f":"IF(CJ78=\"\", 0, CJ78 - IF(CJ77=\"\", LOOKUP(2, 1/(CJ$17:CJ76<>\"\"), CJ$17:CJ76), CJ77))","v":0},null,null,null,null,141,"",null,null,{"$f":"IF(CS78=\"\", 0, CS78 - IF(CS77=\"\", LOOKUP(2, 1/(CS$17:CS76<>\"\"), CS$17:CS76), CS77))","v":0},null,null,null,null,141,"",null,null,{"$f":"IF(DB78=\"\", 0, DB78 - IF(DB77=\"\", LOOKUP(2, 1/(DB$17:DB76<>\"\"), DB$17:DB76), DB77))","v":0},null,null,null,null,141,"",null,null,{"$f":"IF(DK78=\"\", 0, DK78 - IF(DK77=\"\", LOOKUP(2, 1/(DK$17:DK76<>\"\"), DK$17:DK76), DK77))","v":0},null,null,null,null,141,"",null,null,{"$f":"IF(DT78=\"\", 0, DT78 - IF(DT77=\"\", LOOKUP(2, 1/(DT$17:DT76<>\"\"), DT$17:DT76), DT77))","v":0},null,null,null,null,141,"",null,null,{"$f":"IF(EC78=\"\", 0, EC78 - IF(EC77=\"\", LOOKUP(2, 1/(EC$17:EC76<>\"\"), EC$17:EC76), EC77))","v":0},null,null,null,null,141,"",null,null,{"$f":"IF(EL78=\"\", 0, EL78 - IF(EL77=\"\", LOOKUP(2, 1/(EL$17:EL76<>\"\"), EL$17:EL76), EL77))","v":0},null,null,null,null,141,"",null,null,{"$f":"IF(EU78=\"\", 0, EU78 - IF(EU77=\"\", LOOKUP(2, 1/(EU$17:EU76<>\"\"), EU$17:EU76), EU77))","v":0},null,null,null,null,141,"",null,null,{"$f":"IF(FD78=\"\", 0, FD78 - IF(FD77=\"\", LOOKUP(2, 1/(FD$17:FD76<>\"\"), FD$17:FD76), FD77))","v":0},null,null,null,null,141,"",null,null,{"$f":"IF(FM78=\"\", 0, FM78 - IF(FM77=\"\", LOOKUP(2, 1/(FM$17:FM76<>\"\"), FM$17:FM76), FM77))","v":0},null,null,null,null,141,"",null,null,{"$f":"IF(FV78=\"\", 0, FV78 - IF(FV77=\"\", LOOKUP(2, 1/(FV$17:FV76<>\"\"), FV$17:FV76), FV77))","v":0},null,null,null,null,141,"",null,null,{"$f":"IF(GE78=\"\", 0, GE78 - IF(GE77=\"\", LOOKUP(2, 1/(GE$17:GE76<>\"\"), GE$17:GE76), GE77))","v":0},null,null,null,null,141,"",null,null,{"$f":"IF(GN78=\"\", 0, GN78 - IF(GN77=\"\", LOOKUP(2, 1/(GN$17:GN76<>\"\"), GN$17:GN76), GN77))","v":0},null,null,null,null,141,"",null,null,{"$f":"IF(GW78=\"\", 0, GW78 - IF(GW77=\"\", LOOKUP(2, 1/(GW$17:GW76<>\"\"), GW$17:GW76), GW77))","v":0},null,null,null,null,141,"",null,null,{"$f":"IF(HF78=\"\", 0, HF78 - IF(HF77=\"\", LOOKUP(2, 1/(HF$17:HF76<>\"\"), HF$17:HF76), HF77))","v":0},null,null,null,null,141,"",null,null,{"$f":"IF(HO78=\"\", 0, HO78 - IF(HO77=\"\", LOOKUP(2, 1/(HO$17:HO76<>\"\"), HO$17:HO76), HO77))","v":0},null,null,null,null,141,"",null,null,{"$f":"IF(HX78=\"\", 0, HX78 - IF(HX77=\"\", LOOKUP(2, 1/(HX$17:HX76<>\"\"), HX$17:HX76), HX77))","v":0},null,null,null,null,141,"",null,null,{"$f":"IF(IG78=\"\", 0, IG78 - IF(IG77=\"\", LOOKUP(2, 1/(IG$17:IG76<>\"\"), IG$17:IG76), IG77))","v":0},null,null,null,null,141,"",null,null,{"$f":"IF(IP78=\"\", 0, IP78 - IF(IP77=\"\", LOOKUP(2, 1/(IP$17:IP76<>\"\"), IP$17:IP76), IP77))","v":0},null,null,null,null,141,"",null,null,{"$f":"IF(IY78=\"\", 0, IY78 - IF(IY77=\"\", LOOKUP(2, 1/(IY$17:IY76<>\"\"), IY$17:IY76), IY77))","v":0},null,null,null,null,141,"",null,null,{"$f":"IF(JH78=\"\", 0, JH78 - IF(JH77=\"\", LOOKUP(2, 1/(JH$17:JH76<>\"\"), JH$17:JH76), JH77))","v":0},null,null,null,null,141,"",null,null,{"$f":"IF(JQ78=\"\", 0, JQ78 - IF(JQ77=\"\", LOOKUP(2, 1/(JQ$17:JQ76<>\"\"), JQ$17:JQ76), JQ77))","v":0},null,null,null,null,141,"",null,null,{"$f":"IF(JZ78=\"\", 0, JZ78 - IF(JZ77=\"\", LOOKUP(2, 1/(JZ$17:JZ76<>\"\"), JZ$17:JZ76), JZ77))","v":0},null,null,null,null,141,"",null,null,{"$f":"IF(KI78=\"\", 0, KI78 - IF(KI77=\"\", LOOKUP(2, 1/(KI$17:KI76<>\"\"), KI$17:KI76), KI77))","v":0},null,null,null,null,141,"",null,null,{"$f":"IF(KR78=\"\", 0, KR78 - IF(KR77=\"\", LOOKUP(2, 1/(KR$17:KR76<>\"\"), KR$17:KR76), KR77))","v":0},null,null,null,null,141,"",null,null,{"$f":"IF(LA78=\"\", 0, LA78 - IF(LA77=\"\", LOOKUP(2, 1/(LA$17:LA76<>\"\"), LA$17:LA76), LA77))","v":0},null,null,null,null,141,"",null,null,{"$f":"IF(LJ78=\"\", 0, LJ78 - IF(LJ77=\"\", LOOKUP(2, 1/(LJ$17:LJ76<>\"\"), LJ$17:LJ76), LJ77))","v":0},null,null,null,null,141,"",null,null,{"$f":"IF(LS78=\"\", 0, LS78 - IF(LS77=\"\", LOOKUP(2, 1/(LS$17:LS76<>\"\"), LS$17:LS76), LS77))","v":0},null,null,null,null,141,"",null,null,{"$f":"IF(MB78=\"\", 0, MB78 - IF(MB77=\"\", LOOKUP(2, 1/(MB$17:MB76<>\"\"), MB$17:MB76), MB77))","v":0},null,null,null,null,141,"",null,null,{"$f":"IF(MK78=\"\", 0, MK78 - IF(MK77=\"\", LOOKUP(2, 1/(MK$17:MK76<>\"\"), MK$17:MK76), MK77))","v":0},null,null,null,null,141,"",null,null,{"$f":"IF(MT78=\"\", 0, MT78 - IF(MT77=\"\", LOOKUP(2, 1/(MT$17:MT76<>\"\"), MT$17:MT76), MT77))","v":0},null,null,141,"",null,null,{"$f":"IF(NA78=\"\", 0, NA78 - IF(NA77=\"\", LOOKUP(2, 1/(NA$17:NA76<>\"\"), NA$17:NA76), NA77))","v":0},null,null,null,null,141,"",null,null,{"$f":"IF(NJ78=\"\", 0, NJ78 - IF(NJ77=\"\", LOOKUP(2, 1/(NJ$17:NJ76<>\"\"), NJ$17:NJ76), NJ77))","v":0},null,null,null,null,141,"",null,null,{"$f":"IF(NS78=\"\", 0, NS78 - IF(NS77=\"\", LOOKUP(2, 1/(NS$17:NS76<>\"\"), NS$17:NS76), NS77))","v":0},null,null,null,null,141,"",null,null,{"$f":"IF(OB78=\"\", 0, OB78 - IF(OB77=\"\", LOOKUP(2, 1/(OB$17:OB76<>\"\"), OB$17:OB76), OB77))","v":0},null,null,null,null,141,"",null,null,{"$f":"IF(OK78=\"\", 0, OK78 - IF(OK77=\"\", LOOKUP(2, 1/(OK$17:OK76<>\"\"), OK$17:OK76), OK77))","v":0},null,null,null,null,141,"",null,null,{"$f":"IF(OT78=\"\", 0, OT78 - IF(OT77=\"\", LOOKUP(2, 1/(OT$17:OT76<>\"\"), OT$17:OT76), OT77))","v":0},null,null,null,null,141,"",null,null,{"$f":"IF(PC78=\"\", 0, PC78 - IF(PC77=\"\", LOOKUP(2, 1/(PC$17:PC76<>\"\"), PC$17:PC76), PC77))","v":0},null,null,null,null,141,"",null,null,{"$f":"IF(PL78=\"\", 0, PL78 - IF(PL77=\"\", LOOKUP(2, 1/(PL$17:PL76<>\"\"), PL$17:PL76), PL77))","v":0},null,null,null,null,141,"",null,null,{"$f":"IF(PU78=\"\", 0, PU78 - IF(PU77=\"\", LOOKUP(2, 1/(PU$17:PU76<>\"\"), PU$17:PU76), PU77))","v":0},null,null,null,null,141,"",null,null,{"$f":"IF(QD78=\"\", 0, QD78 - IF(QD77=\"\", LOOKUP(2, 1/(QD$17:QD76<>\"\"), QD$17:QD76), QD77))","v":0}]
[null,null,null,140,"",null,null,{"$f":"IF(G79=\"\", 0, G79 - IF(G78=\"\", LOOKUP(2, 1/(G$17:G77<>\"\"), G$17:G77), G78))","v":0},null,null,null,null,140,"",null,null,{"$f":"IF(P79=\"\", 0, P79 - IF(P78=\"\", LOOKUP(2, 1/(P$17:P77<>\"\"), P$17:P77), P78))","v":0},null,null,null,null,140,"",null,null,{"$f":"IF(Y79=\"\", 0, Y79 - IF(Y78=\"\", LOOKUP(2, 1/(Y$17:Y77<>\"\"), Y$17:Y77), Y78))","v":0},null,null,null,null,140,"",null,null,{"$f":"IF(AH79=\"\", 0, AH79 - IF(AH78=\"\", LOOKUP(2, 1/(AH$17:AH77<>\"\"), AH$17:AH77), AH78))","v":0},null,null,null,null,140,"",null,null,{"$f":"IF(AQ79=\"\", 0, AQ79 - IF(AQ78=\"\", LOOKUP(2, 1/(AQ$17:AQ77<>\"\"), AQ$17:AQ77), AQ78))","v":0},null,null,null,null,140,"",null,null,{"$f":"IF(AZ79=\"\", 0, AZ79 - IF(AZ78=\"\", LOOKUP(2, 1/(AZ$17:AZ77<>\"\"), AZ$17:AZ77), AZ78))","v":0},null,null,null,null,140,"",null,null,{"$f":"IF(BI79=\"\", 0, BI79 - IF(BI78=\"\", LOOKUP(2, 1/(BI$17:BI77<>\"\"), BI$17:BI77), BI78))","v":0},null,null,null,null,140,"",null,null,{"$f":"IF(BR79=\"\", 0, BR79 - IF(BR78=\"\", LOOKUP(2, 1/(BR$17:BR77<>\"\"), BR$17:BR77), BR78))","v":0},null,null,null,null,140,"",null,null,{"$f":"IF(CA79=\"\", 0, CA79 - IF(CA78=\"\", LOOKUP(2, 1/(CA$17:CA77<>\"\"), CA$17:CA77), CA78))","v":0},null,null,null,null,140,"",null,null,{"$f":"IF(CJ79=\"\", 0, CJ79 - IF(CJ78=\"\", LOOKUP(2, 1/(CJ$17:CJ77<>\"\"), CJ$17:CJ77), CJ78))","v":0},null,null,null,null,140,"",null,null,{"$f":"IF(CS79=\"\", 0, CS79 - IF(CS78=\"\", LOOKUP(2, 1/(CS$17:CS77<>\"\"), CS$17:CS77), CS78))","v":0},null,null,null,null,140,"",null,null,{"$f":"IF(DB79=\"\", 0, DB79 - IF(DB78=\"\", LOOKUP(2, 1/(DB$17:DB77<>\"\"), DB$17:DB77), DB78))","v":0},null,null,null,null,140,"",null,null,{"$f":"IF(DK79=\"\", 0, DK79 - IF(DK78=\"\", LOOKUP(2, 1/(DK$17:DK77<>\"\"), DK$17:DK77), DK78))","v":0},null,null,null,null,140,"",null,null,{"$f":"IF(DT79=\"\", 0, DT79 - IF(DT78=\"\", LOOKUP(2, 1/(DT$17:DT77<>\"\"), DT$17:DT77), DT78))","v":0},null,null,null,null,140,"",null,null,{"$f":"IF(EC79=\"\", 0, EC79 - IF(EC78=\"\", LOOKUP(2, 1/(EC$17:EC77<>\"\"), EC$17:EC77), EC78))","v":0},null,null,null,null,140,"",null,null,{"$f":"IF(EL79=\"\", 0, EL79 - IF(EL78=\"\", LOOKUP(2, 1/(EL$17:EL77<>\"\"), EL$17:EL77), EL78))","v":0},null,null,null,null,140,"",null,null,{"$f":"IF(EU79=\"\", 0, EU79 - IF(EU78=\"\", LOOKUP(2, 1/(EU$17:EU77<>\"\"), EU$17:EU77), EU78))","v":0},null,null,null,null,140,"",null,null,{"$f":"IF(FD79=\"\", 0, FD79 - IF(FD78=\"\", LOOKUP(2, 1/(FD$17:FD77<>\"\"), FD$17:FD77), FD78))","v":0},null,null,null,null,140,"",null,null,{"$f":"IF(FM79=\"\", 0, FM79 - IF(FM78=\"\", LOOKUP(2, 1/(FM$17:FM77<>\"\"), FM$17:FM77), FM78))","v":0},null,null,null,null,140,"",null,null,{"$f":"IF(FV79=\"\", 0, FV79 - IF(FV78=\"\", LOOKUP(2, 1/(FV$17:FV77<>\"\"), FV$17:FV77), FV78))","v":0},null,null,null,null,140,"",null,null,{"$f":"IF(GE79=\"\", 0, GE79 - IF(GE78=\"\", LOOKUP(2, 1/(GE$17:GE77<>\"\"), GE$17:GE77), GE78))","v":0},null,null,null,null,140,"",null,null,{"$f":"IF(GN79=\"\", 0, GN79 - IF(GN78=\"\", LOOKUP(2, 1/(GN$17:GN77<>\"\"), GN$17:GN77), GN78))","v":0},null,null,null,null,140,"",null,null,{"$f":"IF(GW79=\"\", 0, GW79 - IF(GW78=\"\", LOOKUP(2, 1/(GW$17:GW77<>\"\"), GW$17:GW77), GW78))","v":0},null,null,null,null,140,"",null,null,{"$f":"IF(HF79=\"\", 0, HF79 - IF(HF78=\"\", LOOKUP(2, 1/(HF$17:HF77<>\"\"), HF$17:HF77), HF78))","v":0},null,null,null,null,140,"",null,null,{"$f":"IF(HO79=\"\", 0, HO79 - IF(HO78=\"\", LOOKUP(2, 1/(HO$17:HO77<>\"\"), HO$17:HO77), HO78))","v":0},null,null,null,null,140,"",null,null,{"$f":"IF(HX79=\"\", 0, HX79 - IF(HX78=\"\", LOOKUP(2, 1/(HX$17:HX77<>\"\"), HX$17:HX77), HX78))","v":0},null,null,null,null,140,"",null,null,{"$f":"IF(IG79=\"\", 0, IG79 - IF(IG78=\"\", LOOKUP(2, 1/(IG$17:IG77<>\"\"), IG$17:IG77), IG78))","v":0},null,null,null,null,140,"",null,null,{"$f":"IF(IP79=\"\", 0, IP79 - IF(IP78=\"\", LOOKUP(2, 1/(IP$17:IP77<>\"\"), IP$17:IP77), IP78))","v":0},null,null,null,null,140,"",null,null,{"$f":"IF(IY79=\"\", 0, IY79 - IF(IY78=\"\", LOOKUP(2, 1/(IY$17:IY77<>\"\"), IY$17:IY77), IY78))","v":0},null,null,null,null,140,"",null,null,{"$f":"IF(JH79=\"\", 0, JH79 - IF(JH78=\"\", LOOKUP(2, 1/(JH$17:JH77<>\"\"), JH$17:JH77), JH78))","v":0},null,null,null,null,140,"",null,null,{"$f":"IF(JQ79=\"\", 0, JQ79 - IF(JQ78=\"\", LOOKUP(2, 1/(JQ$17:JQ77<>\"\"), JQ$17:JQ77), JQ78))","v":0},null,null,null,null,140,"",null,null,{"$f":"IF(JZ79=\"\", 0, JZ79 - IF(JZ78=\"\", LOOKUP(2, 1/(JZ$17:JZ77<>\"\"), JZ$17:JZ77), JZ78))","v":0},null,null,null,null,140,"",null,null,{"$f":"IF(KI79=\"\", 0, KI79 - IF(KI78=\"\", LOOKUP(2, 1/(KI$17:KI77<>\"\"), KI$17:KI77), KI78))","v":0},null,null,null,null,140,"",null,null,{"$f":"IF(KR79=\"\", 0, KR79 - IF(KR78=\"\", LOOKUP(2, 1/(KR$17:KR77<>\"\"), KR$17:KR77), KR78))","v":0},null,null,null,null,140,"",null,null,{"$f":"IF(LA79=\"\", 0, LA79 - IF(LA78=\"\", LOOKUP(2, 1/(LA$17:LA77<>\"\"), LA$17:LA77), LA78))","v":0},null,null,null,null,140,"",null,null,{"$f":"IF(LJ79=\"\", 0, LJ79 - IF(LJ78=\"\", LOOKUP(2, 1/(LJ$17:LJ77<>\"\"), LJ$17:LJ77), LJ78))","v":0},null,null,null,null,140,"",null,null,{"$f":"IF(LS79=\"\", 0, LS79 - IF(LS78=\"\", LOOKUP(2, 1/(LS$17:LS77<>\"\"), LS$17:LS77), LS78))","v":0},null,null,null,null,140,"",null,null,{"$f":"IF(MB79=\"\", 0, MB79 - IF(MB78=\"\", LOOKUP(2, 1/(MB$17:MB77<>\"\"), MB$17:MB77), MB78))","v":0},null,null,null,null,140,"",null,null,{"$f":"IF(MK79=\"\", 0, MK79 - IF(MK78=\"\", LOOKUP(2, 1/(MK$17:MK77<>\"\"), MK$17:MK77), MK78))","v":0},null,null,null,null,140,"",null,null,{"$f":"IF(MT79=\"\", 0, MT79 - IF(MT78=\"\", LOOKUP(2, 1/(MT$17:MT77<>\"\"), MT$17:MT77), MT78))","v":0},null,null,140,"",null,null,{"$f":"IF(NA79=\"\", 0, NA79 - IF(NA78=\"\", LOOKUP(2, 1/(NA$17:NA77<>\"\"), NA$17:NA77), NA78))","v":0},null,null,null,null,140,"",null,null,{"$f":"IF(NJ79=\"\", 0, NJ79 - IF(NJ78=\"\", LOOKUP(2, 1/(NJ$17:NJ77<>\"\"), NJ$17:NJ77), NJ78))","v":0},null,null,null,null,140,"",null,null,{"$f":"IF(NS79=\"\", 0, NS79 - IF(NS78=\"\", LOOKUP(2, 1/(NS$17:NS77<>\"\"), NS$17:NS77), NS78))","v":0},null,null,null,null,140,"",null,null,{"$f":"IF(OB79=\"\", 0, OB79 - IF(OB78=\"\", LOOKUP(2, 1/(OB$17:OB77<>\"\"), OB$17:OB77), OB78))","v":0},null,null,null,null,140,"",null,null,{"$f":"IF(OK79=\"\", 0, OK79 - IF(OK78=\"\", LOOKUP(2, 1/(OK$17:OK77<>\"\"), OK$17:OK77), OK78))","v":0},null,null,null,null,140,"",null,null,{"$f":"IF(OT79=\"\", 0, OT79 - IF(OT78=\"\", LOOKUP(2, 1/(OT$17:OT77<>\"\"), OT$17:OT77), OT78))","v":0},null,null,null,null,140,"",null,null,{"$f":"IF(PC79=\"\", 0, PC79 - IF(PC78=\"\", LOOKUP(2, 1/(PC$17:PC77<>\"\"), PC$17:PC77), PC78))","v":0},null,null,null,null,140,"",null,null,{"$f":"IF(PL79=\"\", 0, PL79 - IF(PL78=\"\", LOOKUP(2, 1/(PL$17:PL77<>\"\"), PL$17:PL77), PL78))","v":0},null,null,null,null,140,"",null,null,{"$f":"IF(PU79=\"\", 0, PU79 - IF(PU78=\"\", LOOKUP(2, 1/(PU$17:PU77<>\"\"), PU$17:PU77), PU78))","v":0},null,null,null,null,140,"",null,null,{"$f":"IF(QD79=\"\", 0, QD79 - IF(QD78=\"\", LOOKUP(2, 1/(QD$17:QD77<>\"\"), QD$17:QD77), QD78))","v":0}]
[null,null,null,139,"",null,null,{"$f":"IF(G80=\"\", 0, G80 - IF(G79=\"\", LOOKUP(2, 1/(G$17:G78<>\"\"), G$17:G78), G79))","v":0},null,null,null,null,139,"",null,null,{"$f":"IF(P80=\"\", 0, P80 - IF(P79=\"\", LOOKUP(2, 1/(P$17:P78<>\"\"), P$17:P78), P79))","v":0},null,null,null,null,139,"",null,null,{"$f":"IF(Y80=\"\", 0, Y80 - IF(Y79=\"\", LOOKUP(2, 1/(Y$17:Y78<>\"\"), Y$17:Y78), Y79))","v":0},null,null,null,null,139,"",null,null,{"$f":"IF(AH80=\"\", 0, AH80 - IF(AH79=\"\", LOOKUP(2, 1/(AH$17:AH78<>\"\"), AH$17:AH78), AH79))","v":0},null,null,null,null,139,"",null,null,{"$f":"IF(AQ80=\"\", 0, AQ80 - IF(AQ79=\"\", LOOKUP(2, 1/(AQ$17:AQ78<>\"\"), AQ$17:AQ78), AQ79))","v":0},null,null,null,null,139,"",null,null,{"$f":"IF(AZ80=\"\", 0, AZ80 - IF(AZ79=\"\", LOOKUP(2, 1/(AZ$17:AZ78<>\"\"), AZ$17:AZ78), AZ79))","v":0},null,null,null,null,139,"",null,null,{"$f":"IF(BI80=\"\", 0, BI80 - IF(BI79=\"\", LOOKUP(2, 1/(BI$17:BI78<>\"\"), BI$17:BI78), BI79))","v":0},null,null,null,null,139,"",null,null,{"$f":"IF(BR80=\"\", 0, BR80 - IF(BR79=\"\", LOOKUP(2, 1/(BR$17:BR78<>\"\"), BR$17:BR78), BR79))","v":0},null,null,null,null,139,"",null,null,{"$f":"IF(CA80=\"\", 0, CA80 - IF(CA79=\"\", LOOKUP(2, 1/(CA$17:CA78<>\"\"), CA$17:CA78), CA79))","v":0},null,null,null,null,139,"",null,null,{"$f":"IF(CJ80=\"\", 0, CJ80 - IF(CJ79=\"\", LOOKUP(2, 1/(CJ$17:CJ78<>\"\"), CJ$17:CJ78), CJ79))","v":0},null,null,null,null,139,"",null,null,{"$f":"IF(CS80=\"\", 0, CS80 - IF(CS79=\"\", LOOKUP(2, 1/(CS$17:CS78<>\"\"), CS$17:CS78), CS79))","v":0},null,null,null,null,139,"",null,null,{"$f":"IF(DB80=\"\", 0, DB80 - IF(DB79=\"\", LOOKUP(2, 1/(DB$17:DB78<>\"\"), DB$17:DB78), DB79))","v":0},null,null,null,null,139,"",null,null,{"$f":"IF(DK80=\"\", 0, DK80 - IF(DK79=\"\", LOOKUP(2, 1/(DK$17:DK78<>\"\"), DK$17:DK78), DK79))","v":0},null,null,null,null,139,"",null,null,{"$f":"IF(DT80=\"\", 0, DT80 - IF(DT79=\"\", LOOKUP(2, 1/(DT$17:DT78<>\"\"), DT$17:DT78), DT79))","v":0},null,null,null,null,139,"",null,null,{"$f":"IF(EC80=\"\", 0, EC80 - IF(EC79=\"\", LOOKUP(2, 1/(EC$17:EC78<>\"\"), EC$17:EC78), EC79))","v":0},null,null,null,null,139,"",null,null,{"$f":"IF(EL80=\"\", 0, EL80 - IF(EL79=\"\", LOOKUP(2, 1/(EL$17:EL78<>\"\"), EL$17:EL78), EL79))","v":0},null,null,null,null,139,"",null,null,{"$f":"IF(EU80=\"\", 0, EU80 - IF(EU79=\"\", LOOKUP(2, 1/(EU$17:EU78<>\"\"), EU$17:EU78), EU79))","v":0},null,null,null,null,139,"",null,null,{"$f":"IF(FD80=\"\", 0, FD80 - IF(FD79=\"\", LOOKUP(2, 1/(FD$17:FD78<>\"\"), FD$17:FD78), FD79))","v":0},null,null,null,null,139,"",null,null,{"$f":"IF(FM80=\"\", 0, FM80 - IF(FM79=\"\", LOOKUP(2, 1/(FM$17:FM78<>\"\"), FM$17:FM78), FM79))","v":0},null,null,null,null,139,"",null,null,{"$f":"IF(FV80=\"\", 0, FV80 - IF(FV79=\"\", LOOKUP(2, 1/(FV$17:FV78<>\"\"), FV$17:FV78), FV79))","v":0},null,null,null,null,139,"",null,null,{"$f":"IF(GE80=\"\", 0, GE80 - IF(GE79=\"\", LOOKUP(2, 1/(GE$17:GE78<>\"\"), GE$17:GE78), GE79))","v":0},null,null,null,null,139,"",null,null,{"$f":"IF(GN80=\"\", 0, GN80 - IF(GN79=\"\", LOOKUP(2, 1/(GN$17:GN78<>\"\"), GN$17:GN78), GN79))","v":0},null,null,null,null,139,"",null,null,{"$f":"IF(GW80=\"\", 0, GW80 - IF(GW79=\"\", LOOKUP(2, 1/(GW$17:GW78<>\"\"), GW$17:GW78), GW79))","v":0},null,null,null,null,139,"",null,null,{"$f":"IF(HF80=\"\", 0, HF80 - IF(HF79=\"\", LOOKUP(2, 1/(HF$17:HF78<>\"\"), HF$17:HF78), HF79))","v":0},null,null,null,null,139,"",null,null,{"$f":"IF(HO80=\"\", 0, HO80 - IF(HO79=\"\", LOOKUP(2, 1/(HO$17:HO78<>\"\"), HO$17:HO78), HO79))","v":0},null,null,null,null,139,"",null,null,{"$f":"IF(HX80=\"\", 0, HX80 - IF(HX79=\"\", LOOKUP(2, 1/(HX$17:HX78<>\"\"), HX$17:HX78), HX79))","v":0},null,null,null,null,139,"",null,null,{"$f":"IF(IG80=\"\", 0, IG80 - IF(IG79=\"\", LOOKUP(2, 1/(IG$17:IG78<>\"\"), IG$17:IG78), IG79))","v":0},null,null,null,null,139,"",null,null,{"$f":"IF(IP80=\"\", 0, IP80 - IF(IP79=\"\", LOOKUP(2, 1/(IP$17:IP78<>\"\"), IP$17:IP78), IP79))","v":0},null,null,null,null,139,"",null,null,{"$f":"IF(IY80=\"\", 0, IY80 - IF(IY79=\"\", LOOKUP(2, 1/(IY$17:IY78<>\"\"), IY$17:IY78), IY79))","v":0},null,null,null,null,139,"",null,null,{"$f":"IF(JH80=\"\", 0, JH80 - IF(JH79=\"\", LOOKUP(2, 1/(JH$17:JH78<>\"\"), JH$17:JH78), JH79))","v":0},null,null,null,null,139,"",null,null,{"$f":"IF(JQ80=\"\", 0, JQ80 - IF(JQ79=\"\", LOOKUP(2, 1/(JQ$17:JQ78<>\"\"), JQ$17:JQ78), JQ79))","v":0},null,null,null,null,139,"",null,null,{"$f":"IF(JZ80=\"\", 0, JZ80 - IF(JZ79=\"\", LOOKUP(2, 1/(JZ$17:JZ78<>\"\"), JZ$17:JZ78), JZ79))","v":0},null,null,null,null,139,"",null,null,{"$f":"IF(KI80=\"\", 0, KI80 - IF(KI79=\"\", LOOKUP(2, 1/(KI$17:KI78<>\"\"), KI$17:KI78), KI79))","v":0},null,null,null,null,139,"",null,null,{"$f":"IF(KR80=\"\", 0, KR80 - IF(KR79=\"\", LOOKUP(2, 1/(KR$17:KR78<>\"\"), KR$17:KR78), KR79))","v":0},null,null,null,null,139,"",null,null,{"$f":"IF(LA80=\"\", 0, LA80 - IF(LA79=\"\", LOOKUP(2, 1/(LA$17:LA78<>\"\"), LA$17:LA78), LA79))","v":0},null,null,null,null,139,"",null,null,{"$f":"IF(LJ80=\"\", 0, LJ80 - IF(LJ79=\"\", LOOKUP(2, 1/(LJ$17:LJ78<>\"\"), LJ$17:LJ78), LJ79))","v":0},null,null,null,null,139,"",null,null,{"$f":"IF(LS80=\"\", 0, LS80 - IF(LS79=\"\", LOOKUP(2, 1/(LS$17:LS78<>\"\"), LS$17:LS78), LS79))","v":0},null,null,null,null,139,"",null,null,{"$f":"IF(MB80=\"\", 0, MB80 - IF(MB79=\"\", LOOKUP(2, 1/(MB$17:MB78<>\"\"), MB$17:MB78), MB79))","v":0},null,null,null,null,139,"",null,null,{"$f":"IF(MK80=\"\", 0, MK80 - IF(MK79=\"\", LOOKUP(2, 1/(MK$17:MK78<>\"\"), MK$17:MK78), MK79))","v":0},null,null,null,null,139,"",null,null,{"$f":"IF(MT80=\"\", 0, MT80 - IF(MT79=\"\", LOOKUP(2, 1/(MT$17:MT78<>\"\"), MT$17:MT78), MT79))","v":0},null,null,139,"",null,null,{"$f":"IF(NA80=\"\", 0, NA80 - IF(NA79=\"\", LOOKUP(2, 1/(NA$17:NA78<>\"\"), NA$17:NA78), NA79))","v":0},null,null,null,null,139,"",null,null,{"$f":"IF(NJ80=\"\", 0, NJ80 - IF(NJ79=\"\", LOOKUP(2, 1/(NJ$17:NJ78<>\"\"), NJ$17:NJ78), NJ79))","v":0},null,null,null,null,139,"",null,null,{"$f":"IF(NS80=\"\", 0, NS80 - IF(NS79=\"\", LOOKUP(2, 1/(NS$17:NS78<>\"\"), NS$17:NS78), NS79))","v":0},null,null,null,null,139,"",null,null,{"$f":"IF(OB80=\"\", 0, OB80 - IF(OB79=\"\", LOOKUP(2, 1/(OB$17:OB78<>\"\"), OB$17:OB78), OB79))","v":0},null,null,null,null,139,"",null,null,{"$f":"IF(OK80=\"\", 0, OK80 - IF(OK79=\"\", LOOKUP(2, 1/(OK$17:OK78<>\"\"), OK$17:OK78), OK79))","v":0},null,null,null,null,139,"",null,null,{"$f":"IF(OT80=\"\", 0, OT80 - IF(OT79=\"\", LOOKUP(2, 1/(OT$17:OT78<>\"\"), OT$17:OT78), OT79))","v":0},null,null,null,null,139,"",null,null,{"$f":"IF(PC80=\"\", 0, PC80 - IF(PC79=\"\", LOOKUP(2, 1/(PC$17:PC78<>\"\"), PC$17:PC78), PC79))","v":0},null,null,null,null,139,"",null,null,{"$f":"IF(PL80=\"\", 0, PL80 - IF(PL79=\"\", LOOKUP(2, 1/(PL$17:PL78<>\"\"), PL$17:PL78), PL79))","v":0},null,null,null,null,139,"",null,null,{"$f":"IF(PU80=\"\", 0, PU80 - IF(PU79=\"\", LOOKUP(2, 1/(PU$17:PU78<>\"\"), PU$17:PU78), PU79))","v":0},null,null,null,null,139,"",null,null,{"$f":"IF(QD80=\"\", 0, QD80 - IF(QD79=\"\", LOOKUP(2, 1/(QD$17:QD78<>\"\"), QD$17:QD78), QD79))","v":0}]
[null,null,null,138,"",null,null,{"$f":"IF(G81=\"\", 0, G81 - IF(G80=\"\", LOOKUP(2, 1/(G$17:G79<>\"\"), G$17:G79), G80))","v":0},null,null,null,null,138,"",null,null,{"$f":"IF(P81=\"\", 0, P81 - IF(P80=\"\", LOOKUP(2, 1/(P$17:P79<>\"\"), P$17:P79), P80))","v":0},null,null,null,null,138,"",null,null,{"$f":"IF(Y81=\"\", 0, Y81 - IF(Y80=\"\", LOOKUP(2, 1/(Y$17:Y79<>\"\"), Y$17:Y79), Y80))","v":0},null,null,null,null,138,"",null,null,{"$f":"IF(AH81=\"\", 0, AH81 - IF(AH80=\"\", LOOKUP(2, 1/(AH$17:AH79<>\"\"), AH$17:AH79), AH80))","v":0},null,null,null,null,138,"",null,null,{"$f":"IF(AQ81=\"\", 0, AQ81 - IF(AQ80=\"\", LOOKUP(2, 1/(AQ$17:AQ79<>\"\"), AQ$17:AQ79), AQ80))","v":0},null,null,null,null,138,"",null,null,{"$f":"IF(AZ81=\"\", 0, AZ81 - IF(AZ80=\"\", LOOKUP(2, 1/(AZ$17:AZ79<>\"\"), AZ$17:AZ79), AZ80))","v":0},null,null,null,null,138,"",null,null,{"$f":"IF(BI81=\"\", 0, BI81 - IF(BI80=\"\", LOOKUP(2, 1/(BI$17:BI79<>\"\"), BI$17:BI79), BI80))","v":0},null,null,null,null,138,"",null,null,{"$f":"IF(BR81=\"\", 0, BR81 - IF(BR80=\"\", LOOKUP(2, 1/(BR$17:BR79<>\"\"), BR$17:BR79), BR80))","v":0},null,null,null,null,138,"",null,null,{"$f":"IF(CA81=\"\", 0, CA81 - IF(CA80=\"\", LOOKUP(2, 1/(CA$17:CA79<>\"\"), CA$17:CA79), CA80))","v":0},null,null,null,null,138,"",null,null,{"$f":"IF(CJ81=\"\", 0, CJ81 - IF(CJ80=\"\", LOOKUP(2, 1/(CJ$17:CJ79<>\"\"), CJ$17:CJ79), CJ80))","v":0},null,null,null,null,138,"",null,null,{"$f":"IF(CS81=\"\", 0, CS81 - IF(CS80=\"\", LOOKUP(2, 1/(CS$17:CS79<>\"\"), CS$17:CS79), CS80))","v":0},null,null,null,null,138,"",null,null,{"$f":"IF(DB81=\"\", 0, DB81 - IF(DB80=\"\", LOOKUP(2, 1/(DB$17:DB79<>\"\"), DB$17:DB79), DB80))","v":0},null,null,null,null,138,"",null,null,{"$f":"IF(DK81=\"\", 0, DK81 - IF(DK80=\"\", LOOKUP(2, 1/(DK$17:DK79<>\"\"), DK$17:DK79), DK80))","v":0},null,null,null,null,138,"",null,null,{"$f":"IF(DT81=\"\", 0, DT81 - IF(DT80=\"\", LOOKUP(2, 1/(DT$17:DT79<>\"\"), DT$17:DT79), DT80))","v":0},null,null,null,null,138,"",null,null,{"$f":"IF(EC81=\"\", 0, EC81 - IF(EC80=\"\", LOOKUP(2, 1/(EC$17:EC79<>\"\"), EC$17:EC79), EC80))","v":0},null,null,null,null,138,"",null,null,{"$f":"IF(EL81=\"\", 0, EL81 - IF(EL80=\"\", LOOKUP(2, 1/(EL$17:EL79<>\"\"), EL$17:EL79), EL80))","v":0},null,null,null,null,138,"",null,null,{"$f":"IF(EU81=\"\", 0, EU81 - IF(EU80=\"\", LOOKUP(2, 1/(EU$17:EU79<>\"\"), EU$17:EU79), EU80))","v":0},null,null,null,null,138,"",null,null,{"$f":"IF(FD81=\"\", 0, FD81 - IF(FD80=\"\", LOOKUP(2, 1/(FD$17:FD79<>\"\"), FD$17:FD79), FD80))","v":0},null,null,null,null,138,"",null,null,{"$f":"IF(FM81=\"\", 0, FM81 - IF(FM80=\"\", LOOKUP(2, 1/(FM$17:FM79<>\"\"), FM$17:FM79), FM80))","v":0},null,null,null,null,138,"",null,null,{"$f":"IF(FV81=\"\", 0, FV81 - IF(FV80=\"\", LOOKUP(2, 1/(FV$17:FV79<>\"\"), FV$17:FV79), FV80))","v":0},null,null,null,null,138,"",null,null,{"$f":"IF(GE81=\"\", 0, GE81 - IF(GE80=\"\", LOOKUP(2, 1/(GE$17:GE79<>\"\"), GE$17:GE79), GE80))","v":0},null,null,null,null,138,"",null,null,{"$f":"IF(GN81=\"\", 0, GN81 - IF(GN80=\"\", LOOKUP(2, 1/(GN$17:GN79<>\"\"), GN$17:GN79), GN80))","v":0},null,null,null,null,138,"",null,null,{"$f":"IF(GW81=\"\", 0, GW81 - IF(GW80=\"\", LOOKUP(2, 1/(GW$17:GW79<>\"\"), GW$17:GW79), GW80))","v":0},null,null,null,null,138,"",null,null,{"$f":"IF(HF81=\"\", 0, HF81 - IF(HF80=\"\", LOOKUP(2, 1/(HF$17:HF79<>\"\"), HF$17:HF79), HF80))","v":0},null,null,null,null,138,"",null,null,{"$f":"IF(HO81=\"\", 0, HO81 - IF(HO80=\"\", LOOKUP(2, 1/(HO$17:HO79<>\"\"), HO$17:HO79), HO80))","v":0},null,null,null,null,138,"",null,null,{"$f":"IF(HX81=\"\", 0, HX81 - IF(HX80=\"\", LOOKUP(2, 1/(HX$17:HX79<>\"\"), HX$17:HX79), HX80))","v":0},null,null,null,null,138,"",null,null,{"$f":"IF(IG81=\"\", 0, IG81 - IF(IG80=\"\", LOOKUP(2, 1/(IG$17:IG79<>\"\"), IG$17:IG79), IG80))","v":0},null,null,null,null,138,"",null,null,{"$f":"IF(IP81=\"\", 0, IP81 - IF(IP80=\"\", LOOKUP(2, 1/(IP$17:IP79<>\"\"), IP$17:IP79), IP80))","v":0},null,null,null,null,138,"",null,null,{"$f":"IF(IY81=\"\", 0, IY81 - IF(IY80=\"\", LOOKUP(2, 1/(IY$17:IY79<>\"\"), IY$17:IY79), IY80))","v":0},null,null,null,null,138,"",null,null,{"$f":"IF(JH81=\"\", 0, JH81 - IF(JH80=\"\", LOOKUP(2, 1/(JH$17:JH79<>\"\"), JH$17:JH79), JH80))","v":0},null,null,null,null,138,"",null,null,{"$f":"IF(JQ81=\"\", 0, JQ81 - IF(JQ80=\"\", LOOKUP(2, 1/(JQ$17:JQ79<>\"\"), JQ$17:JQ79), JQ80))","v":0},null,null,null,null,138,"",null,null,{"$f":"IF(JZ81=\"\", 0, JZ81 - IF(JZ80=\"\", LOOKUP(2, 1/(JZ$17:JZ79<>\"\"), JZ$17:JZ79), JZ80))","v":0},null,null,null,null,138,"",null,null,{"$f":"IF(KI81=\"\", 0, KI81 - IF(KI80=\"\", LOOKUP(2, 1/(KI$17:KI79<>\"\"), KI$17:KI79), KI80))","v":0},null,null,null,null,138,"",null,null,{"$f":"IF(KR81=\"\", 0, KR81 - IF(KR80=\"\", LOOKUP(2, 1/(KR$17:KR79<>\"\"), KR$17:KR79), KR80))","v":0},null,null,null,null,138,"",null,null,{"$f":"IF(LA81=\"\", 0, LA81 - IF(LA80=\"\", LOOKUP(2, 1/(LA$17:LA79<>\"\"), LA$17:LA79), LA80))","v":0},null,null,null,null,138,"",null,null,{"$f":"IF(LJ81=\"\", 0, LJ81 - IF(LJ80=\"\", LOOKUP(2, 1/(LJ$17:LJ79<>\"\"), LJ$17:LJ79), LJ80))","v":0},null,null,null,null,138,"",null,null,{"$f":"IF(LS81=\"\", 0, LS81 - IF(LS80=\"\", LOOKUP(2, 1/(LS$17:LS79<>\"\"), LS$17:LS79), LS80))","v":0},null,null,null,null,138,"",null,null,{"$f":"IF(MB81=\"\", 0, MB81 - IF(MB80=\"\", LOOKUP(2, 1/(MB$17:MB79<>\"\"), MB$17:MB79), MB80))","v":0},null,null,null,null,138,"",null,null,{"$f":"IF(MK81=\"\", 0, MK81 - IF(MK80=\"\", LOOKUP(2, 1/(MK$17:MK79<>\"\"), MK$17:MK79), MK80))","v":0},null,null,null,null,138,"",null,null,{"$f":"IF(MT81=\"\", 0, MT81 - IF(MT80=\"\", LOOKUP(2, 1/(MT$17:MT79<>\"\"), MT$17:MT79), MT80))","v":0},null,null,138,"",null,null,{"$f":"IF(NA81=\"\", 0, NA81 - IF(NA80=\"\", LOOKUP(2, 1/(NA$17:NA79<>\"\"), NA$17:NA79), NA80))","v":0},null,null,null,null,138,"",null,null,{"$f":"IF(NJ81=\"\", 0, NJ81 - IF(NJ80=\"\", LOOKUP(2, 1/(NJ$17:NJ79<>\"\"), NJ$17:NJ79), NJ80))","v":0},null,null,null,null,138,"",null,null,{"$f":"IF(NS81=\"\", 0, NS81 - IF(NS80=\"\", LOOKUP(2, 1/(NS$17:NS79<>\"\"), NS$17:NS79), NS80))","v":0},null,null,null,null,138,"",null,null,{"$f":"IF(OB81=\"\", 0, OB81 - IF(OB80=\"\", LOOKUP(2, 1/(OB$17:OB79<>\"\"), OB$17:OB79), OB80))","v":0},null,null,null,null,138,"",null,null,{"$f":"IF(OK81=\"\", 0, OK81 - IF(OK80=\"\", LOOKUP(2, 1/(OK$17:OK79<>\"\"), OK$17:OK79), OK80))","v":0},null,null,null,null,138,"",null,null,{"$f":"IF(OT81=\"\", 0, OT81 - IF(OT80=\"\", LOOKUP(2, 1/(OT$17:OT79<>\"\"), OT$17:OT79), OT80))","v":0},null,null,null,null,138,"",null,null,{"$f":"IF(PC81=\"\", 0, PC81 - IF(PC80=\"\", LOOKUP(2, 1/(PC$17:PC79<>\"\"), PC$17:PC79), PC80))","v":0},null,null,null,null,138,"",null,null,{"$f":"IF(PL81=\"\", 0, PL81 - IF(PL80=\"\", LOOKUP(2, 1/(PL$17:PL79<>\"\"), PL$17:PL79), PL80))","v":0},null,null,null,null,138,"",null,null,{"$f":"IF(PU81=\"\", 0, PU81 - IF(PU80=\"\", LOOKUP(2, 1/(PU$17:PU79<>\"\"), PU$17:PU79), PU80))","v":0},null,null,null,null,138,"",null,null,{"$f":"IF(QD81=\"\", 0, QD81 - IF(QD80=\"\", LOOKUP(2, 1/(QD$17:QD79<>\"\"), QD$17:QD79), QD80))","v":0}]
[null,null,null,137,{"$f":"MID(F82,6,5)","v":""},null,null,{"$f":"IF(G82=\"\", 0, G82 - IF(G81=\"\", LOOKUP(2, 1/(G$17:G80<>\"\"), G$17:G80), G81))","v":0},null,null,null,null,137,{"$f":"MID(O82,6,5)","v":""},null,null,{"$f":"IF(P82=\"\", 0, P82 - IF(P81=\"\", LOOKUP(2, 1/(P$17:P80<>\"\"), P$17:P80), P81))","v":0},null,null,null,null,137,{"$f":"MID(X82,6,5)","v":""},null,null,{"$f":"IF(Y82=\"\", 0, Y82 - IF(Y81=\"\", LOOKUP(2, 1/(Y$17:Y80<>\"\"), Y$17:Y80), Y81))","v":0},null,null,null,null,137,{"$f":"MID(AG82,6,5)","v":""},null,null,{"$f":"IF(AH82=\"\", 0, AH82 - IF(AH81=\"\", LOOKUP(2, 1/(AH$17:AH80<>\"\"), AH$17:AH80), AH81))","v":0},null,null,null,null,137,{"$f":"MID(AP82,6,5)","v":""},null,null,{"$f":"IF(AQ82=\"\", 0, AQ82 - IF(AQ81=\"\", LOOKUP(2, 1/(AQ$17:AQ80<>\"\"), AQ$17:AQ80), AQ81))","v":0},null,null,null,null,137,{"$f":"MID(AY82,6,5)","v":""},null,null,{"$f":"IF(AZ82=\"\", 0, AZ82 - IF(AZ81=\"\", LOOKUP(2, 1/(AZ$17:AZ80<>\"\"), AZ$17:AZ80), AZ81))","v":0},null,null,null,null,137,{"$f":"MID(BH82,6,5)","v":""},null,null,{"$f":"IF(BI82=\"\", 0, BI82 - IF(BI81=\"\", LOOKUP(2, 1/(BI$17:BI80<>\"\"), BI$17:BI80), BI81))","v":0},null,null,null,null,137,{"$f":"MID(BQ82,6,5)","v":""},null,null,{"$f":"IF(BR82=\"\", 0, BR82 - IF(BR81=\"\", LOOKUP(2, 1/(BR$17:BR80<>\"\"), BR$17:BR80), BR81))","v":0},null,null,null,null,137,{"$f":"MID(BZ82,6,5)","v":""},null,null,{"$f":"IF(CA82=\"\", 0, CA82 - IF(CA81=\"\", LOOKUP(2, 1/(CA$17:CA80<>\"\"), CA$17:CA80), CA81))","v":0},null,null,null,null,137,{"$f":"MID(CI82,6,5)","v":""},null,null,{"$f":"IF(CJ82=\"\", 0, CJ82 - IF(CJ81=\"\", LOOKUP(2, 1/(CJ$17:CJ80<>\"\"), CJ$17:CJ80), CJ81))","v":0},null,null,null,null,137,{"$f":"MID(CR82,6,5)","v":""},null,null,{"$f":"IF(CS82=\"\", 0, CS82 - IF(CS81=\"\", LOOKUP(2, 1/(CS$17:CS80<>\"\"), CS$17:CS80), CS81))","v":0},null,null,null,null,137,{"$f":"MID(DA82,6,5)","v":""},null,null,{"$f":"IF(DB82=\"\", 0, DB82 - IF(DB81=\"\", LOOKUP(2, 1/(DB$17:DB80<>\"\"), DB$17:DB80), DB81))","v":0},null,null,null,null,137,{"$f":"MID(DJ82,6,5)","v":""},null,null,{"$f":"IF(DK82=\"\", 0, DK82 - IF(DK81=\"\", LOOKUP(2, 1/(DK$17:DK80<>\"\"), DK$17:DK80), DK81))","v":0},null,null,null,null,137,{"$f":"MID(DS82,6,5)","v":""},null,null,{"$f":"IF(DT82=\"\", 0, DT82 - IF(DT81=\"\", LOOKUP(2, 1/(DT$17:DT80<>\"\"), DT$17:DT80), DT81))","v":0},null,null,null,null,137,{"$f":"MID(EB82,6,5)","v":""},null,null,{"$f":"IF(EC82=\"\", 0, EC82 - IF(EC81=\"\", LOOKUP(2, 1/(EC$17:EC80<>\"\"), EC$17:EC80), EC81))","v":0},null,null,null,null,137,{"$f":"MID(EK82,6,5)","v":""},null,null,{"$f":"IF(EL82=\"\", 0, EL82 - IF(EL81=\"\", LOOKUP(2, 1/(EL$17:EL80<>\"\"), EL$17:EL80), EL81))","v":0},null,null,null,null,137,{"$f":"MID(ET82,6,5)","v":""},null,null,{"$f":"IF(EU82=\"\", 0, EU82 - IF(EU81=\"\", LOOKUP(2, 1/(EU$17:EU80<>\"\"), EU$17:EU80), EU81))","v":0},null,null,null,null,137,{"$f":"MID(FC82,6,5)","v":""},null,null,{"$f":"IF(FD82=\"\", 0, FD82 - IF(FD81=\"\", LOOKUP(2, 1/(FD$17:FD80<>\"\"), FD$17:FD80), FD81))","v":0},null,null,null,null,137,{"$f":"MID(FL82,6,5)","v":""},null,null,{"$f":"IF(FM82=\"\", 0, FM82 - IF(FM81=\"\", LOOKUP(2, 1/(FM$17:FM80<>\"\"), FM$17:FM80), FM81))","v":0},null,null,null,null,137,{"$f":"MID(FU82,6,5)","v":""},null,null,{"$f":"IF(FV82=\"\", 0, FV82 - IF(FV81=\"\", LOOKUP(2, 1/(FV$17:FV80<>\"\"), FV$17:FV80), FV81))","v":0},null,null,null,null,137,{"$f":"MID(GD82,6,5)","v":""},null,null,{"$f":"IF(GE82=\"\", 0, GE82 - IF(GE81=\"\", LOOKUP(2, 1/(GE$17:GE80<>\"\"), GE$17:GE80), GE81))","v":0},null,null,null,null,137,{"$f":"MID(GM82,6,5)","v":""},null,null,{"$f":"IF(GN82=\"\", 0, GN82 - IF(GN81=\"\", LOOKUP(2, 1/(GN$17:GN80<>\"\"), GN$17:GN80), GN81))","v":0},null,null,null,null,137,{"$f":"MID(GV82,6,5)","v":""},null,null,{"$f":"IF(GW82=\"\", 0, GW82 - IF(GW81=\"\", LOOKUP(2, 1/(GW$17:GW80<>\"\"), GW$17:GW80), GW81))","v":0},null,null,null,null,137,{"$f":"MID(HE82,6,5)","v":""},null,null,{"$f":"IF(HF82=\"\", 0, HF82 - IF(HF81=\"\", LOOKUP(2, 1/(HF$17:HF80<>\"\"), HF$17:HF80), HF81))","v":0},null,null,null,null,137,{"$f":"MID(HN82,6,5)","v":""},null,null,{"$f":"IF(HO82=\"\", 0, HO82 - IF(HO81=\"\", LOOKUP(2, 1/(HO$17:HO80<>\"\"), HO$17:HO80), HO81))","v":0},null,null,null,null,137,{"$f":"MID(HW82,6,5)","v":""},null,null,{"$f":"IF(HX82=\"\", 0, HX82 - IF(HX81=\"\", LOOKUP(2, 1/(HX$17:HX80<>\"\"), HX$17:HX80), HX81))","v":0},null,null,null,null,137,{"$f":"MID(IF82,6,5)","v":""},null,null,{"$f":"IF(IG82=\"\", 0, IG82 - IF(IG81=\"\", LOOKUP(2, 1/(IG$17:IG80<>\"\"), IG$17:IG80), IG81))","v":0},null,null,null,null,137,{"$f":"MID(IO82,6,5)","v":""},null,null,{"$f":"IF(IP82=\"\", 0, IP82 - IF(IP81=\"\", LOOKUP(2, 1/(IP$17:IP80<>\"\"), IP$17:IP80), IP81))","v":0},null,null,null,null,137,{"$f":"MID(IX82,6,5)","v":""},null,null,{"$f":"IF(IY82=\"\", 0, IY82 - IF(IY81=\"\", LOOKUP(2, 1/(IY$17:IY80<>\"\"), IY$17:IY80), IY81))","v":0},null,null,null,null,137,{"$f":"MID(JG82,6,5)","v":""},null,null,{"$f":"IF(JH82=\"\", 0, JH82 - IF(JH81=\"\", LOOKUP(2, 1/(JH$17:JH80<>\"\"), JH$17:JH80), JH81))","v":0},null,null,null,null,137,{"$f":"MID(JP82,6,5)","v":""},null,null,{"$f":"IF(JQ82=\"\", 0, JQ82 - IF(JQ81=\"\", LOOKUP(2, 1/(JQ$17:JQ80<>\"\"), JQ$17:JQ80), JQ81))","v":0},null,null,null,null,137,{"$f":"MID(JY82,6,5)","v":""},null,null,{"$f":"IF(JZ82=\"\", 0, JZ82 - IF(JZ81=\"\", LOOKUP(2, 1/(JZ$17:JZ80<>\"\"), JZ$17:JZ80), JZ81))","v":0},null,null,null,null,137,{"$f":"MID(KH82,6,5)","v":""},null,null,{"$f":"IF(KI82=\"\", 0, KI82 - IF(KI81=\"\", LOOKUP(2, 1/(KI$17:KI80<>\"\"), KI$17:KI80), KI81))","v":0},null,null,null,null,137,{"$f":"MID(KQ82,6,5)","v":""},null,null,{"$f":"IF(KR82=\"\", 0, KR82 - IF(KR81=\"\", LOOKUP(2, 1/(KR$17:KR80<>\"\"), KR$17:KR80), KR81))","v":0},null,null,null,null,137,{"$f":"MID(KZ82,6,5)","v":""},null,null,{"$f":"IF(LA82=\"\", 0, LA82 - IF(LA81=\"\", LOOKUP(2, 1/(LA$17:LA80<>\"\"), LA$17:LA80), LA81))","v":0},null,null,null,null,137,{"$f":"MID(LI82,6,5)","v":""},null,null,{"$f":"IF(LJ82=\"\", 0, LJ82 - IF(LJ81=\"\", LOOKUP(2, 1/(LJ$17:LJ80<>\"\"), LJ$17:LJ80), LJ81))","v":0},null,null,null,null,137,{"$f":"MID(LR82,6,5)","v":""},null,null,{"$f":"IF(LS82=\"\", 0, LS82 - IF(LS81=\"\", LOOKUP(2, 1/(LS$17:LS80<>\"\"), LS$17:LS80), LS81))","v":0},null,null,null,null,137,{"$f":"MID(MA82,6,5)","v":""},null,null,{"$f":"IF(MB82=\"\", 0, MB82 - IF(MB81=\"\", LOOKUP(2, 1/(MB$17:MB80<>\"\"), MB$17:MB80), MB81))","v":0},null,null,null,null,137,{"$f":"MID(MJ82,6,5)","v":""},null,null,{"$f":"IF(MK82=\"\", 0, MK82 - IF(MK81=\"\", LOOKUP(2, 1/(MK$17:MK80<>\"\"), MK$17:MK80), MK81))","v":0},null,null,null,null,137,{"$f":"MID(MS82,6,5)","v":""},null,null,{"$f":"IF(MT82=\"\", 0, MT82 - IF(MT81=\"\", LOOKUP(2, 1/(MT$17:MT80<>\"\"), MT$17:MT80), MT81))","v":0},null,null,137,{"$f":"MID(MZ82,6,5)","v":""},null,null,{"$f":"IF(NA82=\"\", 0, NA82 - IF(NA81=\"\", LOOKUP(2, 1/(NA$17:NA80<>\"\"), NA$17:NA80), NA81))","v":0},null,null,null,null,137,{"$f":"MID(NI82,6,5)","v":""},null,null,{"$f":"IF(NJ82=\"\", 0, NJ82 - IF(NJ81=\"\", LOOKUP(2, 1/(NJ$17:NJ80<>\"\"), NJ$17:NJ80), NJ81))","v":0},null,null,null,null,137,{"$f":"MID(NR82,6,5)","v":""},null,null,{"$f":"IF(NS82=\"\", 0, NS82 - IF(NS81=\"\", LOOKUP(2, 1/(NS$17:NS80<>\"\"), NS$17:NS80), NS81))","v":0},null,null,null,null,137,{"$f":"MID(OA82,6,5)","v":""},null,null,{"$f":"IF(OB82=\"\", 0, OB82 - IF(OB81=\"\", LOOKUP(2, 1/(OB$17:OB80<>\"\"), OB$17:OB80), OB81))","v":0},null,null,null,null,137,{"$f":"MID(OJ82,6,5)","v":""},null,null,{"$f":"IF(OK82=\"\", 0, OK82 - IF(OK81=\"\", LOOKUP(2, 1/(OK$17:OK80<>\"\"), OK$17:OK80), OK81))","v":0},null,null,null,null,137,{"$f":"MID(OS82,6,5)","v":""},null,null,{"$f":"IF(OT82=\"\", 0, OT82 - IF(OT81=\"\", LOOKUP(2, 1/(OT$17:OT80<>\"\"), OT$17:OT80), OT81))","v":0},null,null,null,null,137,{"$f":"MID(PB82,6,5)","v":""},null,null,{"$f":"IF(PC82=\"\", 0, PC82 - IF(PC81=\"\", LOOKUP(2, 1/(PC$17:PC80<>\"\"), PC$17:PC80), PC81))","v":0},null,null,null,null,137,{"$f":"MID(PK82,6,5)","v":""},null,null,{"$f":"IF(PL82=\"\", 0, PL82 - IF(PL81=\"\", LOOKUP(2, 1/(PL$17:PL80<>\"\"), PL$17:PL80), PL81))","v":0},null,null,null,null,137,{"$f":"MID(PT82,6,5)","v":""},null,null,{"$f":"IF(PU82=\"\", 0, PU82 - IF(PU81=\"\", LOOKUP(2, 1/(PU$17:PU80<>\"\"), PU$17:PU80), PU81))","v":0},null,null,null,null,137,{"$f":"MID(QC82,6,5)","v":""},null,null,{"$f":"IF(QD82=\"\", 0, QD82 - IF(QD81=\"\", LOOKUP(2, 1/(QD$17:QD80<>\"\"), QD$17:QD80), QD81))","v":0}]
[null,null,null,136,"",null,null,{"$f":"IF(G83=\"\", 0, G83 - IF(G82=\"\", LOOKUP(2, 1/(G$17:G81<>\"\"), G$17:G81), G82))","v":0},null,null,null,null,136,"",null,null,{"$f":"IF(P83=\"\", 0, P83 - IF(P82=\"\", LOOKUP(2, 1/(P$17:P81<>\"\"), P$17:P81), P82))","v":0},null,null,null,null,136,"",null,null,{"$f":"IF(Y83=\"\", 0, Y83 - IF(Y82=\"\", LOOKUP(2, 1/(Y$17:Y81<>\"\"), Y$17:Y81), Y82))","v":0},null,null,null,null,136,"",null,null,{"$f":"IF(AH83=\"\", 0, AH83 - IF(AH82=\"\", LOOKUP(2, 1/(AH$17:AH81<>\"\"), AH$17:AH81), AH82))","v":0},null,null,null,null,136,"",null,null,{"$f":"IF(AQ83=\"\", 0, AQ83 - IF(AQ82=\"\", LOOKUP(2, 1/(AQ$17:AQ81<>\"\"), AQ$17:AQ81), AQ82))","v":0},null,null,null,null,136,"",null,null,{"$f":"IF(AZ83=\"\", 0, AZ83 - IF(AZ82=\"\", LOOKUP(2, 1/(AZ$17:AZ81<>\"\"), AZ$17:AZ81), AZ82))","v":0},null,null,null,null,136,"",null,null,{"$f":"IF(BI83=\"\", 0, BI83 - IF(BI82=\"\", LOOKUP(2, 1/(BI$17:BI81<>\"\"), BI$17:BI81), BI82))","v":0},null,null,null,null,136,"",null,null,{"$f":"IF(BR83=\"\", 0, BR83 - IF(BR82=\"\", LOOKUP(2, 1/(BR$17:BR81<>\"\"), BR$17:BR81), BR82))","v":0},null,null,null,null,136,"",null,null,{"$f":"IF(CA83=\"\", 0, CA83 - IF(CA82=\"\", LOOKUP(2, 1/(CA$17:CA81<>\"\"), CA$17:CA81), CA82))","v":0},null,null,null,null,136,"",null,null,{"$f":"IF(CJ83=\"\", 0, CJ83 - IF(CJ82=\"\", LOOKUP(2, 1/(CJ$17:CJ81<>\"\"), CJ$17:CJ81), CJ82))","v":0},null,null,null,null,136,"",null,null,{"$f":"IF(CS83=\"\", 0, CS83 - IF(CS82=\"\", LOOKUP(2, 1/(CS$17:CS81<>\"\"), CS$17:CS81), CS82))","v":0},null,null,null,null,136,"",null,null,{"$f":"IF(DB83=\"\", 0, DB83 - IF(DB82=\"\", LOOKUP(2, 1/(DB$17:DB81<>\"\"), DB$17:DB81), DB82))","v":0},null,null,null,null,136,"",null,null,{"$f":"IF(DK83=\"\", 0, DK83 - IF(DK82=\"\", LOOKUP(2, 1/(DK$17:DK81<>\"\"), DK$17:DK81), DK82))","v":0},null,null,null,null,136,"",null,null,{"$f":"IF(DT83=\"\", 0, DT83 - IF(DT82=\"\", LOOKUP(2, 1/(DT$17:DT81<>\"\"), DT$17:DT81), DT82))","v":0},null,null,null,null,136,"",null,null,{"$f":"IF(EC83=\"\", 0, EC83 - IF(EC82=\"\", LOOKUP(2, 1/(EC$17:EC81<>\"\"), EC$17:EC81), EC82))","v":0},null,null,null,null,136,"",null,null,{"$f":"IF(EL83=\"\", 0, EL83 - IF(EL82=\"\", LOOKUP(2, 1/(EL$17:EL81<>\"\"), EL$17:EL81), EL82))","v":0},null,null,null,null,136,"",null,null,{"$f":"IF(EU83=\"\", 0, EU83 - IF(EU82=\"\", LOOKUP(2, 1/(EU$17:EU81<>\"\"), EU$17:EU81), EU82))","v":0},null,null,null,null,136,"",null,null,{"$f":"IF(FD83=\"\", 0, FD83 - IF(FD82=\"\", LOOKUP(2, 1/(FD$17:FD81<>\"\"), FD$17:FD81), FD82))","v":0},null,null,null,null,136,"",null,null,{"$f":"IF(FM83=\"\", 0, FM83 - IF(FM82=\"\", LOOKUP(2, 1/(FM$17:FM81<>\"\"), FM$17:FM81), FM82))","v":0},null,null,null,null,136,"",null,null,{"$f":"IF(FV83=\"\", 0, FV83 - IF(FV82=\"\", LOOKUP(2, 1/(FV$17:FV81<>\"\"), FV$17:FV81), FV82))","v":0},null,null,null,null,136,"",null,null,{"$f":"IF(GE83=\"\", 0, GE83 - IF(GE82=\"\", LOOKUP(2, 1/(GE$17:GE81<>\"\"), GE$17:GE81), GE82))","v":0},null,null,null,null,136,"",null,null,{"$f":"IF(GN83=\"\", 0, GN83 - IF(GN82=\"\", LOOKUP(2, 1/(GN$17:GN81<>\"\"), GN$17:GN81), GN82))","v":0},null,null,null,null,136,"",null,null,{"$f":"IF(GW83=\"\", 0, GW83 - IF(GW82=\"\", LOOKUP(2, 1/(GW$17:GW81<>\"\"), GW$17:GW81), GW82))","v":0},null,null,null,null,136,"",null,null,{"$f":"IF(HF83=\"\", 0, HF83 - IF(HF82=\"\", LOOKUP(2, 1/(HF$17:HF81<>\"\"), HF$17:HF81), HF82))","v":0},null,null,null,null,136,"",null,null,{"$f":"IF(HO83=\"\", 0, HO83 - IF(HO82=\"\", LOOKUP(2, 1/(HO$17:HO81<>\"\"), HO$17:HO81), HO82))","v":0},null,null,null,null,136,"",null,null,{"$f":"IF(HX83=\"\", 0, HX83 - IF(HX82=\"\", LOOKUP(2, 1/(HX$17:HX81<>\"\"), HX$17:HX81), HX82))","v":0},null,null,null,null,136,"",null,null,{"$f":"IF(IG83=\"\", 0, IG83 - IF(IG82=\"\", LOOKUP(2, 1/(IG$17:IG81<>\"\"), IG$17:IG81), IG82))","v":0},null,null,null,null,136,"",null,null,{"$f":"IF(IP83=\"\", 0, IP83 - IF(IP82=\"\", LOOKUP(2, 1/(IP$17:IP81<>\"\"), IP$17:IP81), IP82))","v":0},null,null,null,null,136,"",null,null,{"$f":"IF(IY83=\"\", 0, IY83 - IF(IY82=\"\", LOOKUP(2, 1/(IY$17:IY81<>\"\"), IY$17:IY81), IY82))","v":0},null,null,null,null,136,"",null,null,{"$f":"IF(JH83=\"\", 0, JH83 - IF(JH82=\"\", LOOKUP(2, 1/(JH$17:JH81<>\"\"), JH$17:JH81), JH82))","v":0},null,null,null,null,136,"",null,null,{"$f":"IF(JQ83=\"\", 0, JQ83 - IF(JQ82=\"\", LOOKUP(2, 1/(JQ$17:JQ81<>\"\"), JQ$17:JQ81), JQ82))","v":0},null,null,null,null,136,"",null,null,{"$f":"IF(JZ83=\"\", 0, JZ83 - IF(JZ82=\"\", LOOKUP(2, 1/(JZ$17:JZ81<>\"\"), JZ$17:JZ81), JZ82))","v":0},null,null,null,null,136,"",null,null,{"$f":"IF(KI83=\"\", 0, KI83 - IF(KI82=\"\", LOOKUP(2, 1/(KI$17:KI81<>\"\"), KI$17:KI81), KI82))","v":0},null,null,null,null,136,"",null,null,{"$f":"IF(KR83=\"\", 0, KR83 - IF(KR82=\"\", LOOKUP(2, 1/(KR$17:KR81<>\"\"), KR$17:KR81), KR82))","v":0},null,null,null,null,136,"",null,null,{"$f":"IF(LA83=\"\", 0, LA83 - IF(LA82=\"\", LOOKUP(2, 1/(LA$17:LA81<>\"\"), LA$17:LA81), LA82))","v":0},null,null,null,null,136,"",null,null,{"$f":"IF(LJ83=\"\", 0, LJ83 - IF(LJ82=\"\", LOOKUP(2, 1/(LJ$17:LJ81<>\"\"), LJ$17:LJ81), LJ82))","v":0},null,null,null,null,136,"",null,null,{"$f":"IF(LS83=\"\", 0, LS83 - IF(LS82=\"\", LOOKUP(2, 1/(LS$17:LS81<>\"\"), LS$17:LS81), LS82))","v":0},null,null,null,null,136,"",null,null,{"$f":"IF(MB83=\"\", 0, MB83 - IF(MB82=\"\", LOOKUP(2, 1/(MB$17:MB81<>\"\"), MB$17:MB81), MB82))","v":0},null,null,null,null,136,"",null,null,{"$f":"IF(MK83=\"\", 0, MK83 - IF(MK82=\"\", LOOKUP(2, 1/(MK$17:MK81<>\"\"), MK$17:MK81), MK82))","v":0},null,null,null,null,136,"",null,null,{"$f":"IF(MT83=\"\", 0, MT83 - IF(MT82=\"\", LOOKUP(2, 1/(MT$17:MT81<>\"\"), MT$17:MT81), MT82))","v":0},null,null,136,"",null,null,{"$f":"IF(NA83=\"\", 0, NA83 - IF(NA82=\"\", LOOKUP(2, 1/(NA$17:NA81<>\"\"), NA$17:NA81), NA82))","v":0},null,null,null,null,136,"",null,null,{"$f":"IF(NJ83=\"\", 0, NJ83 - IF(NJ82=\"\", LOOKUP(2, 1/(NJ$17:NJ81<>\"\"), NJ$17:NJ81), NJ82))","v":0},null,null,null,null,136,"",null,null,{"$f":"IF(NS83=\"\", 0, NS83 - IF(NS82=\"\", LOOKUP(2, 1/(NS$17:NS81<>\"\"), NS$17:NS81), NS82))","v":0},null,null,null,null,136,"",null,null,{"$f":"IF(OB83=\"\", 0, OB83 - IF(OB82=\"\", LOOKUP(2, 1/(OB$17:OB81<>\"\"), OB$17:OB81), OB82))","v":0},null,null,null,null,136,"",null,null,{"$f":"IF(OK83=\"\", 0, OK83 - IF(OK82=\"\", LOOKUP(2, 1/(OK$17:OK81<>\"\"), OK$17:OK81), OK82))","v":0},null,null,null,null,136,"",null,null,{"$f":"IF(OT83=\"\", 0, OT83 - IF(OT82=\"\", LOOKUP(2, 1/(OT$17:OT81<>\"\"), OT$17:OT81), OT82))","v":0},null,null,null,null,136,"",null,null,{"$f":"IF(PC83=\"\", 0, PC83 - IF(PC82=\"\", LOOKUP(2, 1/(PC$17:PC81<>\"\"), PC$17:PC81), PC82))","v":0},null,null,null,null,136,"",null,null,{"$f":"IF(PL83=\"\", 0, PL83 - IF(PL82=\"\", LOOKUP(2, 1/(PL$17:PL81<>\"\"), PL$17:PL81), PL82))","v":0},null,null,null,null,136,"",null,null,{"$f":"IF(PU83=\"\", 0, PU83 - IF(PU82=\"\", LOOKUP(2, 1/(PU$17:PU81<>\"\"), PU$17:PU81), PU82))","v":0},null,null,null,null,136,"",null,null,{"$f":"IF(QD83=\"\", 0, QD83 - IF(QD82=\"\", LOOKUP(2, 1/(QD$17:QD81<>\"\"), QD$17:QD81), QD82))","v":0}]
[null,null,null,135,"",null,null,{"$f":"IF(G84=\"\", 0, G84 - IF(G83=\"\", LOOKUP(2, 1/(G$17:G82<>\"\"), G$17:G82), G83))","v":0},null,null,null,null,135,"",null,null,{"$f":"IF(P84=\"\", 0, P84 - IF(P83=\"\", LOOKUP(2, 1/(P$17:P82<>\"\"), P$17:P82), P83))","v":0},null,null,null,null,135,"",null,null,{"$f":"IF(Y84=\"\", 0, Y84 - IF(Y83=\"\", LOOKUP(2, 1/(Y$17:Y82<>\"\"), Y$17:Y82), Y83))","v":0},null,null,null,null,135,"",null,null,{"$f":"IF(AH84=\"\", 0, AH84 - IF(AH83=\"\", LOOKUP(2, 1/(AH$17:AH82<>\"\"), AH$17:AH82), AH83))","v":0},null,null,null,null,135,"",null,null,{"$f":"IF(AQ84=\"\", 0, AQ84 - IF(AQ83=\"\", LOOKUP(2, 1/(AQ$17:AQ82<>\"\"), AQ$17:AQ82), AQ83))","v":0},null,null,null,null,135,"",null,null,{"$f":"IF(AZ84=\"\", 0, AZ84 - IF(AZ83=\"\", LOOKUP(2, 1/(AZ$17:AZ82<>\"\"), AZ$17:AZ82), AZ83))","v":0},null,null,null,null,135,"",null,null,{"$f":"IF(BI84=\"\", 0, BI84 - IF(BI83=\"\", LOOKUP(2, 1/(BI$17:BI82<>\"\"), BI$17:BI82), BI83))","v":0},null,null,null,null,135,"",null,null,{"$f":"IF(BR84=\"\", 0, BR84 - IF(BR83=\"\", LOOKUP(2, 1/(BR$17:BR82<>\"\"), BR$17:BR82), BR83))","v":0},null,null,null,null,135,"",null,null,{"$f":"IF(CA84=\"\", 0, CA84 - IF(CA83=\"\", LOOKUP(2, 1/(CA$17:CA82<>\"\"), CA$17:CA82), CA83))","v":0},null,null,null,null,135,"",null,null,{"$f":"IF(CJ84=\"\", 0, CJ84 - IF(CJ83=\"\", LOOKUP(2, 1/(CJ$17:CJ82<>\"\"), CJ$17:CJ82), CJ83))","v":0},null,null,null,null,135,"",null,null,{"$f":"IF(CS84=\"\", 0, CS84 - IF(CS83=\"\", LOOKUP(2, 1/(CS$17:CS82<>\"\"), CS$17:CS82), CS83))","v":0},null,null,null,null,135,"",null,null,{"$f":"IF(DB84=\"\", 0, DB84 - IF(DB83=\"\", LOOKUP(2, 1/(DB$17:DB82<>\"\"), DB$17:DB82), DB83))","v":0},null,null,null,null,135,"",null,null,{"$f":"IF(DK84=\"\", 0, DK84 - IF(DK83=\"\", LOOKUP(2, 1/(DK$17:DK82<>\"\"), DK$17:DK82), DK83))","v":0},null,null,null,null,135,"",null,null,{"$f":"IF(DT84=\"\", 0, DT84 - IF(DT83=\"\", LOOKUP(2, 1/(DT$17:DT82<>\"\"), DT$17:DT82), DT83))","v":0},null,null,null,null,135,"",null,null,{"$f":"IF(EC84=\"\", 0, EC84 - IF(EC83=\"\", LOOKUP(2, 1/(EC$17:EC82<>\"\"), EC$17:EC82), EC83))","v":0},null,null,null,null,135,"",null,null,{"$f":"IF(EL84=\"\", 0, EL84 - IF(EL83=\"\", LOOKUP(2, 1/(EL$17:EL82<>\"\"), EL$17:EL82), EL83))","v":0},null,null,null,null,135,"",null,null,{"$f":"IF(EU84=\"\", 0, EU84 - IF(EU83=\"\", LOOKUP(2, 1/(EU$17:EU82<>\"\"), EU$17:EU82), EU83))","v":0},null,null,null,null,135,"",null,null,{"$f":"IF(FD84=\"\", 0, FD84 - IF(FD83=\"\", LOOKUP(2, 1/(FD$17:FD82<>\"\"), FD$17:FD82), FD83))","v":0},null,null,null,null,135,"",null,null,{"$f":"IF(FM84=\"\", 0, FM84 - IF(FM83=\"\", LOOKUP(2, 1/(FM$17:FM82<>\"\"), FM$17:FM82), FM83))","v":0},null,null,null,null,135,"",null,null,{"$f":"IF(FV84=\"\", 0, FV84 - IF(FV83=\"\", LOOKUP(2, 1/(FV$17:FV82<>\"\"), FV$17:FV82), FV83))","v":0},null,null,null,null,135,"",null,null,{"$f":"IF(GE84=\"\", 0, GE84 - IF(GE83=\"\", LOOKUP(2, 1/(GE$17:GE82<>\"\"), GE$17:GE82), GE83))","v":0},null,null,null,null,135,"",null,null,{"$f":"IF(GN84=\"\", 0, GN84 - IF(GN83=\"\", LOOKUP(2, 1/(GN$17:GN82<>\"\"), GN$17:GN82), GN83))","v":0},null,null,null,null,135,"",null,null,{"$f":"IF(GW84=\"\", 0, GW84 - IF(GW83=\"\", LOOKUP(2, 1/(GW$17:GW82<>\"\"), GW$17:GW82), GW83))","v":0},null,null,null,null,135,"",null,null,{"$f":"IF(HF84=\"\", 0, HF84 - IF(HF83=\"\", LOOKUP(2, 1/(HF$17:HF82<>\"\"), HF$17:HF82), HF83))","v":0},null,null,null,null,135,"",null,null,{"$f":"IF(HO84=\"\", 0, HO84 - IF(HO83=\"\", LOOKUP(2, 1/(HO$17:HO82<>\"\"), HO$17:HO82), HO83))","v":0},null,null,null,null,135,"",null,null,{"$f":"IF(HX84=\"\", 0, HX84 - IF(HX83=\"\", LOOKUP(2, 1/(HX$17:HX82<>\"\"), HX$17:HX82), HX83))","v":0},null,null,null,null,135,"",null,null,{"$f":"IF(IG84=\"\", 0, IG84 - IF(IG83=\"\", LOOKUP(2, 1/(IG$17:IG82<>\"\"), IG$17:IG82), IG83))","v":0},null,null,null,null,135,"",null,null,{"$f":"IF(IP84=\"\", 0, IP84 - IF(IP83=\"\", LOOKUP(2, 1/(IP$17:IP82<>\"\"), IP$17:IP82), IP83))","v":0},null,null,null,null,135,"",null,null,{"$f":"IF(IY84=\"\", 0, IY84 - IF(IY83=\"\", LOOKUP(2, 1/(IY$17:IY82<>\"\"), IY$17:IY82), IY83))","v":0},null,null,null,null,135,"",null,null,{"$f":"IF(JH84=\"\", 0, JH84 - IF(JH83=\"\", LOOKUP(2, 1/(JH$17:JH82<>\"\"), JH$17:JH82), JH83))","v":0},null,null,null,null,135,"",null,null,{"$f":"IF(JQ84=\"\", 0, JQ84 - IF(JQ83=\"\", LOOKUP(2, 1/(JQ$17:JQ82<>\"\"), JQ$17:JQ82), JQ83))","v":0},null,null,null,null,135,"",null,null,{"$f":"IF(JZ84=\"\", 0, JZ84 - IF(JZ83=\"\", LOOKUP(2, 1/(JZ$17:JZ82<>\"\"), JZ$17:JZ82), JZ83))","v":0},null,null,null,null,135,"",null,null,{"$f":"IF(KI84=\"\", 0, KI84 - IF(KI83=\"\", LOOKUP(2, 1/(KI$17:KI82<>\"\"), KI$17:KI82), KI83))","v":0},null,null,null,null,135,"",null,null,{"$f":"IF(KR84=\"\", 0, KR84 - IF(KR83=\"\", LOOKUP(2, 1/(KR$17:KR82<>\"\"), KR$17:KR82), KR83))","v":0},null,null,null,null,135,"",null,null,{"$f":"IF(LA84=\"\", 0, LA84 - IF(LA83=\"\", LOOKUP(2, 1/(LA$17:LA82<>\"\"), LA$17:LA82), LA83))","v":0},null,null,null,null,135,"",null,null,{"$f":"IF(LJ84=\"\", 0, LJ84 - IF(LJ83=\"\", LOOKUP(2, 1/(LJ$17:LJ82<>\"\"), LJ$17:LJ82), LJ83))","v":0},null,null,null,null,135,"",null,null,{"$f":"IF(LS84=\"\", 0, LS84 - IF(LS83=\"\", LOOKUP(2, 1/(LS$17:LS82<>\"\"), LS$17:LS82), LS83))","v":0},null,null,null,null,135,"",null,null,{"$f":"IF(MB84=\"\", 0, MB84 - IF(MB83=\"\", LOOKUP(2, 1/(MB$17:MB82<>\"\"), MB$17:MB82), MB83))","v":0},null,null,null,null,135,"",null,null,{"$f":"IF(MK84=\"\", 0, MK84 - IF(MK83=\"\", LOOKUP(2, 1/(MK$17:MK82<>\"\"), MK$17:MK82), MK83))","v":0},null,null,null,null,135,"",null,null,{"$f":"IF(MT84=\"\", 0, MT84 - IF(MT83=\"\", LOOKUP(2, 1/(MT$17:MT82<>\"\"), MT$17:MT82), MT83))","v":0},null,null,135,"",null,null,{"$f":"IF(NA84=\"\", 0, NA84 - IF(NA83=\"\", LOOKUP(2, 1/(NA$17:NA82<>\"\"), NA$17:NA82), NA83))","v":0},null,null,null,null,135,"",null,null,{"$f":"IF(NJ84=\"\", 0, NJ84 - IF(NJ83=\"\", LOOKUP(2, 1/(NJ$17:NJ82<>\"\"), NJ$17:NJ82), NJ83))","v":0},null,null,null,null,135,"",null,null,{"$f":"IF(NS84=\"\", 0, NS84 - IF(NS83=\"\", LOOKUP(2, 1/(NS$17:NS82<>\"\"), NS$17:NS82), NS83))","v":0},null,null,null,null,135,"",null,null,{"$f":"IF(OB84=\"\", 0, OB84 - IF(OB83=\"\", LOOKUP(2, 1/(OB$17:OB82<>\"\"), OB$17:OB82), OB83))","v":0},null,null,null,null,135,"",null,null,{"$f":"IF(OK84=\"\", 0, OK84 - IF(OK83=\"\", LOOKUP(2, 1/(OK$17:OK82<>\"\"), OK$17:OK82), OK83))","v":0},null,null,null,null,135,"",null,null,{"$f":"IF(OT84=\"\", 0, OT84 - IF(OT83=\"\", LOOKUP(2, 1/(OT$17:OT82<>\"\"), OT$17:OT82), OT83))","v":0},null,null,null,null,135,"",null,null,{"$f":"IF(PC84=\"\", 0, PC84 - IF(PC83=\"\", LOOKUP(2, 1/(PC$17:PC82<>\"\"), PC$17:PC82), PC83))","v":0},null,null,null,null,135,"",null,null,{"$f":"IF(PL84=\"\", 0, PL84 - IF(PL83=\"\", LOOKUP(2, 1/(PL$17:PL82<>\"\"), PL$17:PL82), PL83))","v":0},null,null,null,null,135,"",null,null,{"$f":"IF(PU84=\"\", 0, PU84 - IF(PU83=\"\", LOOKUP(2, 1/(PU$17:PU82<>\"\"), PU$17:PU82), PU83))","v":0},null,null,null,null,135,"",null,null,{"$f":"IF(QD84=\"\", 0, QD84 - IF(QD83=\"\", LOOKUP(2, 1/(QD$17:QD82<>\"\"), QD$17:QD82), QD83))","v":0}]
[null,null,null,134,"",null,null,{"$f":"IF(G85=\"\", 0, G85 - IF(G84=\"\", LOOKUP(2, 1/(G$17:G83<>\"\"), G$17:G83), G84))","v":0},null,null,null,null,134,"",null,null,{"$f":"IF(P85=\"\", 0, P85 - IF(P84=\"\", LOOKUP(2, 1/(P$17:P83<>\"\"), P$17:P83), P84))","v":0},null,null,null,null,134,"",null,null,{"$f":"IF(Y85=\"\", 0, Y85 - IF(Y84=\"\", LOOKUP(2, 1/(Y$17:Y83<>\"\"), Y$17:Y83), Y84))","v":0},null,null,null,null,134,"",null,null,{"$f":"IF(AH85=\"\", 0, AH85 - IF(AH84=\"\", LOOKUP(2, 1/(AH$17:AH83<>\"\"), AH$17:AH83), AH84))","v":0},null,null,null,null,134,"",null,null,{"$f":"IF(AQ85=\"\", 0, AQ85 - IF(AQ84=\"\", LOOKUP(2, 1/(AQ$17:AQ83<>\"\"), AQ$17:AQ83), AQ84))","v":0},null,null,null,null,134,"",null,null,{"$f":"IF(AZ85=\"\", 0, AZ85 - IF(AZ84=\"\", LOOKUP(2, 1/(AZ$17:AZ83<>\"\"), AZ$17:AZ83), AZ84))","v":0},null,null,null,null,134,"",null,null,{"$f":"IF(BI85=\"\", 0, BI85 - IF(BI84=\"\", LOOKUP(2, 1/(BI$17:BI83<>\"\"), BI$17:BI83), BI84))","v":0},null,null,null,null,134,"",null,null,{"$f":"IF(BR85=\"\", 0, BR85 - IF(BR84=\"\", LOOKUP(2, 1/(BR$17:BR83<>\"\"), BR$17:BR83), BR84))","v":0},null,null,null,null,134,"",null,null,{"$f":"IF(CA85=\"\", 0, CA85 - IF(CA84=\"\", LOOKUP(2, 1/(CA$17:CA83<>\"\"), CA$17:CA83), CA84))","v":0},null,null,null,null,134,"",null,null,{"$f":"IF(CJ85=\"\", 0, CJ85 - IF(CJ84=\"\", LOOKUP(2, 1/(CJ$17:CJ83<>\"\"), CJ$17:CJ83), CJ84))","v":0},null,null,null,null,134,"",null,null,{"$f":"IF(CS85=\"\", 0, CS85 - IF(CS84=\"\", LOOKUP(2, 1/(CS$17:CS83<>\"\"), CS$17:CS83), CS84))","v":0},null,null,null,null,134,"",null,null,{"$f":"IF(DB85=\"\", 0, DB85 - IF(DB84=\"\", LOOKUP(2, 1/(DB$17:DB83<>\"\"), DB$17:DB83), DB84))","v":0},null,null,null,null,134,"",null,null,{"$f":"IF(DK85=\"\", 0, DK85 - IF(DK84=\"\", LOOKUP(2, 1/(DK$17:DK83<>\"\"), DK$17:DK83), DK84))","v":0},null,null,null,null,134,"",null,null,{"$f":"IF(DT85=\"\", 0, DT85 - IF(DT84=\"\", LOOKUP(2, 1/(DT$17:DT83<>\"\"), DT$17:DT83), DT84))","v":0},null,null,null,null,134,"",null,null,{"$f":"IF(EC85=\"\", 0, EC85 - IF(EC84=\"\", LOOKUP(2, 1/(EC$17:EC83<>\"\"), EC$17:EC83), EC84))","v":0},null,null,null,null,134,"",null,null,{"$f":"IF(EL85=\"\", 0, EL85 - IF(EL84=\"\", LOOKUP(2, 1/(EL$17:EL83<>\"\"), EL$17:EL83), EL84))","v":0},null,null,null,null,134,"",null,null,{"$f":"IF(EU85=\"\", 0, EU85 - IF(EU84=\"\", LOOKUP(2, 1/(EU$17:EU83<>\"\"), EU$17:EU83), EU84))","v":0},null,null,null,null,134,"",null,null,{"$f":"IF(FD85=\"\", 0, FD85 - IF(FD84=\"\", LOOKUP(2, 1/(FD$17:FD83<>\"\"), FD$17:FD83), FD84))","v":0},null,null,null,null,134,"",null,null,{"$f":"IF(FM85=\"\", 0, FM85 - IF(FM84=\"\", LOOKUP(2, 1/(FM$17:FM83<>\"\"), FM$17:FM83), FM84))","v":0},null,null,null,null,134,"",null,null,{"$f":"IF(FV85=\"\", 0, FV85 - IF(FV84=\"\", LOOKUP(2, 1/(FV$17:FV83<>\"\"), FV$17:FV83), FV84))","v":0},null,null,null,null,134,"",null,null,{"$f":"IF(GE85=\"\", 0, GE85 - IF(GE84=\"\", LOOKUP(2, 1/(GE$17:GE83<>\"\"), GE$17:GE83), GE84))","v":0},null,null,null,null,134,"",null,null,{"$f":"IF(GN85=\"\", 0, GN85 - IF(GN84=\"\", LOOKUP(2, 1/(GN$17:GN83<>\"\"), GN$17:GN83), GN84))","v":0},null,null,null,null,134,"",null,null,{"$f":"IF(GW85=\"\", 0, GW85 - IF(GW84=\"\", LOOKUP(2, 1/(GW$17:GW83<>\"\"), GW$17:GW83), GW84))","v":0},null,null,null,null,134,"",null,null,{"$f":"IF(HF85=\"\", 0, HF85 - IF(HF84=\"\", LOOKUP(2, 1/(HF$17:HF83<>\"\"), HF$17:HF83), HF84))","v":0},null,null,null,null,134,"",null,null,{"$f":"IF(HO85=\"\", 0, HO85 - IF(HO84=\"\", LOOKUP(2, 1/(HO$17:HO83<>\"\"), HO$17:HO83), HO84))","v":0},null,null,null,null,134,"",null,null,{"$f":"IF(HX85=\"\", 0, HX85 - IF(HX84=\"\", LOOKUP(2, 1/(HX$17:HX83<>\"\"), HX$17:HX83), HX84))","v":0},null,null,null,null,134,"",null,null,{"$f":"IF(IG85=\"\", 0, IG85 - IF(IG84=\"\", LOOKUP(2, 1/(IG$17:IG83<>\"\"), IG$17:IG83), IG84))","v":0},null,null,null,null,134,"",null,null,{"$f":"IF(IP85=\"\", 0, IP85 - IF(IP84=\"\", LOOKUP(2, 1/(IP$17:IP83<>\"\"), IP$17:IP83), IP84))","v":0},null,null,null,null,134,"",null,null,{"$f":"IF(IY85=\"\", 0, IY85 - IF(IY84=\"\", LOOKUP(2, 1/(IY$17:IY83<>\"\"), IY$17:IY83), IY84))","v":0},null,null,null,null,134,"",null,null,{"$f":"IF(JH85=\"\", 0, JH85 - IF(JH84=\"\", LOOKUP(2, 1/(JH$17:JH83<>\"\"), JH$17:JH83), JH84))","v":0},null,null,null,null,134,"",null,null,{"$f":"IF(JQ85=\"\", 0, JQ85 - IF(JQ84=\"\", LOOKUP(2, 1/(JQ$17:JQ83<>\"\"), JQ$17:JQ83), JQ84))","v":0},null,null,null,null,134,"",null,null,{"$f":"IF(JZ85=\"\", 0, JZ85 - IF(JZ84=\"\", LOOKUP(2, 1/(JZ$17:JZ83<>\"\"), JZ$17:JZ83), JZ84))","v":0},null,null,null,null,134,"",null,null,{"$f":"IF(KI85=\"\", 0, KI85 - IF(KI84=\"\", LOOKUP(2, 1/(KI$17:KI83<>\"\"), KI$17:KI83), KI84))","v":0},null,null,null,null,134,"",null,null,{"$f":"IF(KR85=\"\", 0, KR85 - IF(KR84=\"\", LOOKUP(2, 1/(KR$17:KR83<>\"\"), KR$17:KR83), KR84))","v":0},null,null,null,null,134,"",null,null,{"$f":"IF(LA85=\"\", 0, LA85 - IF(LA84=\"\", LOOKUP(2, 1/(LA$17:LA83<>\"\"), LA$17:LA83), LA84))","v":0},null,null,null,null,134,"",null,null,{"$f":"IF(LJ85=\"\", 0, LJ85 - IF(LJ84=\"\", LOOKUP(2, 1/(LJ$17:LJ83<>\"\"), LJ$17:LJ83), LJ84))","v":0},null,null,null,null,134,"",null,null,{"$f":"IF(LS85=\"\", 0, LS85 - IF(LS84=\"\", LOOKUP(2, 1/(LS$17:LS83<>\"\"), LS$17:LS83), LS84))","v":0},null,null,null,null,134,"",null,null,{"$f":"IF(MB85=\"\", 0, MB85 - IF(MB84=\"\", LOOKUP(2, 1/(MB$17:MB83<>\"\"), MB$17:MB83), MB84))","v":0},null,null,null,null,134,"",null,null,{"$f":"IF(MK85=\"\", 0, MK85 - IF(MK84=\"\", LOOKUP(2, 1/(MK$17:MK83<>\"\"), MK$17:MK83), MK84))","v":0},null,null,null,null,134,"",null,null,{"$f":"IF(MT85=\"\", 0, MT85 - IF(MT84=\"\", LOOKUP(2, 1/(MT$17:MT83<>\"\"), MT$17:MT83), MT84))","v":0},null,null,134,"",null,null,{"$f":"IF(NA85=\"\", 0, NA85 - IF(NA84=\"\", LOOKUP(2, 1/(NA$17:NA83<>\"\"), NA$17:NA83), NA84))","v":0},null,null,null,null,134,"",null,null,{"$f":"IF(NJ85=\"\", 0, NJ85 - IF(NJ84=\"\", LOOKUP(2, 1/(NJ$17:NJ83<>\"\"), NJ$17:NJ83), NJ84))","v":0},null,null,null,null,134,"",null,null,{"$f":"IF(NS85=\"\", 0, NS85 - IF(NS84=\"\", LOOKUP(2, 1/(NS$17:NS83<>\"\"), NS$17:NS83), NS84))","v":0},null,null,null,null,134,"",null,null,{"$f":"IF(OB85=\"\", 0, OB85 - IF(OB84=\"\", LOOKUP(2, 1/(OB$17:OB83<>\"\"), OB$17:OB83), OB84))","v":0},null,null,null,null,134,"",null,null,{"$f":"IF(OK85=\"\", 0, OK85 - IF(OK84=\"\", LOOKUP(2, 1/(OK$17:OK83<>\"\"), OK$17:OK83), OK84))","v":0},null,null,null,null,134,"",null,null,{"$f":"IF(OT85=\"\", 0, OT85 - IF(OT84=\"\", LOOKUP(2, 1/(OT$17:OT83<>\"\"), OT$17:OT83), OT84))","v":0},null,null,null,null,134,"",null,null,{"$f":"IF(PC85=\"\", 0, PC85 - IF(PC84=\"\", LOOKUP(2, 1/(PC$17:PC83<>\"\"), PC$17:PC83), PC84))","v":0},null,null,null,null,134,"",null,null,{"$f":"IF(PL85=\"\", 0, PL85 - IF(PL84=\"\", LOOKUP(2, 1/(PL$17:PL83<>\"\"), PL$17:PL83), PL84))","v":0},null,null,null,null,134,"",null,null,{"$f":"IF(PU85=\"\", 0, PU85 - IF(PU84=\"\", LOOKUP(2, 1/(PU$17:PU83<>\"\"), PU$17:PU83), PU84))","v":0},null,null,null,null,134,"",null,null,{"$f":"IF(QD85=\"\", 0, QD85 - IF(QD84=\"\", LOOKUP(2, 1/(QD$17:QD83<>\"\"), QD$17:QD83), QD84))","v":0}]
[null,null,null,133,"",null,null,{"$f":"IF(G86=\"\", 0, G86 - IF(G85=\"\", LOOKUP(2, 1/(G$17:G84<>\"\"), G$17:G84), G85))","v":0},null,null,null,null,133,"",null,null,{"$f":"IF(P86=\"\", 0, P86 - IF(P85=\"\", LOOKUP(2, 1/(P$17:P84<>\"\"), P$17:P84), P85))","v":0},null,null,null,null,133,"",null,null,{"$f":"IF(Y86=\"\", 0, Y86 - IF(Y85=\"\", LOOKUP(2, 1/(Y$17:Y84<>\"\"), Y$17:Y84), Y85))","v":0},null,null,null,null,133,"",null,null,{"$f":"IF(AH86=\"\", 0, AH86 - IF(AH85=\"\", LOOKUP(2, 1/(AH$17:AH84<>\"\"), AH$17:AH84), AH85))","v":0},null,null,null,null,133,"",null,null,{"$f":"IF(AQ86=\"\", 0, AQ86 - IF(AQ85=\"\", LOOKUP(2, 1/(AQ$17:AQ84<>\"\"), AQ$17:AQ84), AQ85))","v":0},null,null,null,null,133,"",null,null,{"$f":"IF(AZ86=\"\", 0, AZ86 - IF(AZ85=\"\", LOOKUP(2, 1/(AZ$17:AZ84<>\"\"), AZ$17:AZ84), AZ85))","v":0},null,null,null,null,133,"",null,null,{"$f":"IF(BI86=\"\", 0, BI86 - IF(BI85=\"\", LOOKUP(2, 1/(BI$17:BI84<>\"\"), BI$17:BI84), BI85))","v":0},null,null,null,null,133,"",null,null,{"$f":"IF(BR86=\"\", 0, BR86 - IF(BR85=\"\", LOOKUP(2, 1/(BR$17:BR84<>\"\"), BR$17:BR84), BR85))","v":0},null,null,null,null,133,"",null,null,{"$f":"IF(CA86=\"\", 0, CA86 - IF(CA85=\"\", LOOKUP(2, 1/(CA$17:CA84<>\"\"), CA$17:CA84), CA85))","v":0},null,null,null,null,133,"",null,null,{"$f":"IF(CJ86=\"\", 0, CJ86 - IF(CJ85=\"\", LOOKUP(2, 1/(CJ$17:CJ84<>\"\"), CJ$17:CJ84), CJ85))","v":0},null,null,null,null,133,"",null,null,{"$f":"IF(CS86=\"\", 0, CS86 - IF(CS85=\"\", LOOKUP(2, 1/(CS$17:CS84<>\"\"), CS$17:CS84), CS85))","v":0},null,null,null,null,133,"",null,null,{"$f":"IF(DB86=\"\", 0, DB86 - IF(DB85=\"\", LOOKUP(2, 1/(DB$17:DB84<>\"\"), DB$17:DB84), DB85))","v":0},null,null,null,null,133,"",null,null,{"$f":"IF(DK86=\"\", 0, DK86 - IF(DK85=\"\", LOOKUP(2, 1/(DK$17:DK84<>\"\"), DK$17:DK84), DK85))","v":0},null,null,null,null,133,"",null,null,{"$f":"IF(DT86=\"\", 0, DT86 - IF(DT85=\"\", LOOKUP(2, 1/(DT$17:DT84<>\"\"), DT$17:DT84), DT85))","v":0},null,null,null,null,133,"",null,null,{"$f":"IF(EC86=\"\", 0, EC86 - IF(EC85=\"\", LOOKUP(2, 1/(EC$17:EC84<>\"\"), EC$17:EC84), EC85))","v":0},null,null,null,null,133,"",null,null,{"$f":"IF(EL86=\"\", 0, EL86 - IF(EL85=\"\", LOOKUP(2, 1/(EL$17:EL84<>\"\"), EL$17:EL84), EL85))","v":0},null,null,null,null,133,"",null,null,{"$f":"IF(EU86=\"\", 0, EU86 - IF(EU85=\"\", LOOKUP(2, 1/(EU$17:EU84<>\"\"), EU$17:EU84), EU85))","v":0},null,null,null,null,133,"",null,null,{"$f":"IF(FD86=\"\", 0, FD86 - IF(FD85=\"\", LOOKUP(2, 1/(FD$17:FD84<>\"\"), FD$17:FD84), FD85))","v":0},null,null,null,null,133,"",null,null,{"$f":"IF(FM86=\"\", 0, FM86 - IF(FM85=\"\", LOOKUP(2, 1/(FM$17:FM84<>\"\"), FM$17:FM84), FM85))","v":0},null,null,null,null,133,"",null,null,{"$f":"IF(FV86=\"\", 0, FV86 - IF(FV85=\"\", LOOKUP(2, 1/(FV$17:FV84<>\"\"), FV$17:FV84), FV85))","v":0},null,null,null,null,133,"",null,null,{"$f":"IF(GE86=\"\", 0, GE86 - IF(GE85=\"\", LOOKUP(2, 1/(GE$17:GE84<>\"\"), GE$17:GE84), GE85))","v":0},null,null,null,null,133,"",null,null,{"$f":"IF(GN86=\"\", 0, GN86 - IF(GN85=\"\", LOOKUP(2, 1/(GN$17:GN84<>\"\"), GN$17:GN84), GN85))","v":0},null,null,null,null,133,"",null,null,{"$f":"IF(GW86=\"\", 0, GW86 - IF(GW85=\"\", LOOKUP(2, 1/(GW$17:GW84<>\"\"), GW$17:GW84), GW85))","v":0},null,null,null,null,133,"",null,null,{"$f":"IF(HF86=\"\", 0, HF86 - IF(HF85=\"\", LOOKUP(2, 1/(HF$17:HF84<>\"\"), HF$17:HF84), HF85))","v":0},null,null,null,null,133,"",null,null,{"$f":"IF(HO86=\"\", 0, HO86 - IF(HO85=\"\", LOOKUP(2, 1/(HO$17:HO84<>\"\"), HO$17:HO84), HO85))","v":0},null,null,null,null,133,"",null,null,{"$f":"IF(HX86=\"\", 0, HX86 - IF(HX85=\"\", LOOKUP(2, 1/(HX$17:HX84<>\"\"), HX$17:HX84), HX85))","v":0},null,null,null,null,133,"",null,null,{"$f":"IF(IG86=\"\", 0, IG86 - IF(IG85=\"\", LOOKUP(2, 1/(IG$17:IG84<>\"\"), IG$17:IG84), IG85))","v":0},null,null,null,null,133,"",null,null,{"$f":"IF(IP86=\"\", 0, IP86 - IF(IP85=\"\", LOOKUP(2, 1/(IP$17:IP84<>\"\"), IP$17:IP84), IP85))","v":0},null,null,null,null,133,"",null,null,{"$f":"IF(IY86=\"\", 0, IY86 - IF(IY85=\"\", LOOKUP(2, 1/(IY$17:IY84<>\"\"), IY$17:IY84), IY85))","v":0},null,null,null,null,133,"",null,null,{"$f":"IF(JH86=\"\", 0, JH86 - IF(JH85=\"\", LOOKUP(2, 1/(JH$17:JH84<>\"\"), JH$17:JH84), JH85))","v":0},null,null,null,null,133,"",null,null,{"$f":"IF(JQ86=\"\", 0, JQ86 - IF(JQ85=\"\", LOOKUP(2, 1/(JQ$17:JQ84<>\"\"), JQ$17:JQ84), JQ85))","v":0},null,null,null,null,133,"",null,null,{"$f":"IF(JZ86=\"\", 0, JZ86 - IF(JZ85=\"\", LOOKUP(2, 1/(JZ$17:JZ84<>\"\"), JZ$17:JZ84), JZ85))","v":0},null,null,null,null,133,"",null,null,{"$f":"IF(KI86=\"\", 0, KI86 - IF(KI85=\"\", LOOKUP(2, 1/(KI$17:KI84<>\"\"), KI$17:KI84), KI85))","v":0},null,null,null,null,133,"",null,null,{"$f":"IF(KR86=\"\", 0, KR86 - IF(KR85=\"\", LOOKUP(2, 1/(KR$17:KR84<>\"\"), KR$17:KR84), KR85))","v":0},null,null,null,null,133,"",null,null,{"$f":"IF(LA86=\"\", 0, LA86 - IF(LA85=\"\", LOOKUP(2, 1/(LA$17:LA84<>\"\"), LA$17:LA84), LA85))","v":0},null,null,null,null,133,"",null,null,{"$f":"IF(LJ86=\"\", 0, LJ86 - IF(LJ85=\"\", LOOKUP(2, 1/(LJ$17:LJ84<>\"\"), LJ$17:LJ84), LJ85))","v":0},null,null,null,null,133,"",null,null,{"$f":"IF(LS86=\"\", 0, LS86 - IF(LS85=\"\", LOOKUP(2, 1/(LS$17:LS84<>\"\"), LS$17:LS84), LS85))","v":0},null,null,null,null,133,"",null,null,{"$f":"IF(MB86=\"\", 0, MB86 - IF(MB85=\"\", LOOKUP(2, 1/(MB$17:MB84<>\"\"), MB$17:MB84), MB85))","v":0},null,null,null,null,133,"",null,null,{"$f":"IF(MK86=\"\", 0, MK86 - IF(MK85=\"\", LOOKUP(2, 1/(MK$17:MK84<>\"\"), MK$17:MK84), MK85))","v":0},null,null,null,null,133,"",null,null,{"$f":"IF(MT86=\"\", 0, MT86 - IF(MT85=\"\", LOOKUP(2, 1/(MT$17:MT84<>\"\"), MT$17:MT84), MT85))","v":0},null,null,133,"",null,null,{"$f":"IF(NA86=\"\", 0, NA86 - IF(NA85=\"\", LOOKUP(2, 1/(NA$17:NA84<>\"\"), NA$17:NA84), NA85))","v":0},null,null,null,null,133,"",null,null,{"$f":"IF(NJ86=\"\", 0, NJ86 - IF(NJ85=\"\", LOOKUP(2, 1/(NJ$17:NJ84<>\"\"), NJ$17:NJ84), NJ85))","v":0},null,null,null,null,133,"",null,null,{"$f":"IF(NS86=\"\", 0, NS86 - IF(NS85=\"\", LOOKUP(2, 1/(NS$17:NS84<>\"\"), NS$17:NS84), NS85))","v":0},null,null,null,null,133,"",null,null,{"$f":"IF(OB86=\"\", 0, OB86 - IF(OB85=\"\", LOOKUP(2, 1/(OB$17:OB84<>\"\"), OB$17:OB84), OB85))","v":0},null,null,null,null,133,"",null,null,{"$f":"IF(OK86=\"\", 0, OK86 - IF(OK85=\"\", LOOKUP(2, 1/(OK$17:OK84<>\"\"), OK$17:OK84), OK85))","v":0},null,null,null,null,133,"",null,null,{"$f":"IF(OT86=\"\", 0, OT86 - IF(OT85=\"\", LOOKUP(2, 1/(OT$17:OT84<>\"\"), OT$17:OT84), OT85))","v":0},null,null,null,null,133,"",null,null,{"$f":"IF(PC86=\"\", 0, PC86 - IF(PC85=\"\", LOOKUP(2, 1/(PC$17:PC84<>\"\"), PC$17:PC84), PC85))","v":0},null,null,null,null,133,"",null,null,{"$f":"IF(PL86=\"\", 0, PL86 - IF(PL85=\"\", LOOKUP(2, 1/(PL$17:PL84<>\"\"), PL$17:PL84), PL85))","v":0},null,null,null,null,133,"",null,null,{"$f":"IF(PU86=\"\", 0, PU86 - IF(PU85=\"\", LOOKUP(2, 1/(PU$17:PU84<>\"\"), PU$17:PU84), PU85))","v":0},null,null,null,null,133,"",null,null,{"$f":"IF(QD86=\"\", 0, QD86 - IF(QD85=\"\", LOOKUP(2, 1/(QD$17:QD84<>\"\"), QD$17:QD84), QD85))","v":0}]
[null,null,null,132,"",null,null,{"$f":"IF(G87=\"\", 0, G87 - IF(G86=\"\", LOOKUP(2, 1/(G$17:G85<>\"\"), G$17:G85), G86))","v":0},null,null,null,null,132,"",null,null,{"$f":"IF(P87=\"\", 0, P87 - IF(P86=\"\", LOOKUP(2, 1/(P$17:P85<>\"\"), P$17:P85), P86))","v":0},null,null,null,null,132,"",null,null,{"$f":"IF(Y87=\"\", 0, Y87 - IF(Y86=\"\", LOOKUP(2, 1/(Y$17:Y85<>\"\"), Y$17:Y85), Y86))","v":0},null,null,null,null,132,"",null,null,{"$f":"IF(AH87=\"\", 0, AH87 - IF(AH86=\"\", LOOKUP(2, 1/(AH$17:AH85<>\"\"), AH$17:AH85), AH86))","v":0},null,null,null,null,132,"",null,null,{"$f":"IF(AQ87=\"\", 0, AQ87 - IF(AQ86=\"\", LOOKUP(2, 1/(AQ$17:AQ85<>\"\"), AQ$17:AQ85), AQ86))","v":0},null,null,null,null,132,"",null,null,{"$f":"IF(AZ87=\"\", 0, AZ87 - IF(AZ86=\"\", LOOKUP(2, 1/(AZ$17:AZ85<>\"\"), AZ$17:AZ85), AZ86))","v":0},null,null,null,null,132,"",null,null,{"$f":"IF(BI87=\"\", 0, BI87 - IF(BI86=\"\", LOOKUP(2, 1/(BI$17:BI85<>\"\"), BI$17:BI85), BI86))","v":0},null,null,null,null,132,"",null,null,{"$f":"IF(BR87=\"\", 0, BR87 - IF(BR86=\"\", LOOKUP(2, 1/(BR$17:BR85<>\"\"), BR$17:BR85), BR86))","v":0},null,null,null,null,132,"",null,null,{"$f":"IF(CA87=\"\", 0, CA87 - IF(CA86=\"\", LOOKUP(2, 1/(CA$17:CA85<>\"\"), CA$17:CA85), CA86))","v":0},null,null,null,null,132,"",null,null,{"$f":"IF(CJ87=\"\", 0, CJ87 - IF(CJ86=\"\", LOOKUP(2, 1/(CJ$17:CJ85<>\"\"), CJ$17:CJ85), CJ86))","v":0},null,null,null,null,132,"",null,null,{"$f":"IF(CS87=\"\", 0, CS87 - IF(CS86=\"\", LOOKUP(2, 1/(CS$17:CS85<>\"\"), CS$17:CS85), CS86))","v":0},null,null,null,null,132,"",null,null,{"$f":"IF(DB87=\"\", 0, DB87 - IF(DB86=\"\", LOOKUP(2, 1/(DB$17:DB85<>\"\"), DB$17:DB85), DB86))","v":0},null,null,null,null,132,"",null,null,{"$f":"IF(DK87=\"\", 0, DK87 - IF(DK86=\"\", LOOKUP(2, 1/(DK$17:DK85<>\"\"), DK$17:DK85), DK86))","v":0},null,null,null,null,132,"",null,null,{"$f":"IF(DT87=\"\", 0, DT87 - IF(DT86=\"\", LOOKUP(2, 1/(DT$17:DT85<>\"\"), DT$17:DT85), DT86))","v":0},null,null,null,null,132,"",null,null,{"$f":"IF(EC87=\"\", 0, EC87 - IF(EC86=\"\", LOOKUP(2, 1/(EC$17:EC85<>\"\"), EC$17:EC85), EC86))","v":0},null,null,null,null,132,"",null,null,{"$f":"IF(EL87=\"\", 0, EL87 - IF(EL86=\"\", LOOKUP(2, 1/(EL$17:EL85<>\"\"), EL$17:EL85), EL86))","v":0},null,null,null,null,132,"",null,null,{"$f":"IF(EU87=\"\", 0, EU87 - IF(EU86=\"\", LOOKUP(2, 1/(EU$17:EU85<>\"\"), EU$17:EU85), EU86))","v":0},null,null,null,null,132,"",null,null,{"$f":"IF(FD87=\"\", 0, FD87 - IF(FD86=\"\", LOOKUP(2, 1/(FD$17:FD85<>\"\"), FD$17:FD85), FD86))","v":0},null,null,null,null,132,"",null,null,{"$f":"IF(FM87=\"\", 0, FM87 - IF(FM86=\"\", LOOKUP(2, 1/(FM$17:FM85<>\"\"), FM$17:FM85), FM86))","v":0},null,null,null,null,132,"",null,null,{"$f":"IF(FV87=\"\", 0, FV87 - IF(FV86=\"\", LOOKUP(2, 1/(FV$17:FV85<>\"\"), FV$17:FV85), FV86))","v":0},null,null,null,null,132,"",null,null,{"$f":"IF(GE87=\"\", 0, GE87 - IF(GE86=\"\", LOOKUP(2, 1/(GE$17:GE85<>\"\"), GE$17:GE85), GE86))","v":0},null,null,null,null,132,"",null,null,{"$f":"IF(GN87=\"\", 0, GN87 - IF(GN86=\"\", LOOKUP(2, 1/(GN$17:GN85<>\"\"), GN$17:GN85), GN86))","v":0},null,null,null,null,132,"",null,null,{"$f":"IF(GW87=\"\", 0, GW87 - IF(GW86=\"\", LOOKUP(2, 1/(GW$17:GW85<>\"\"), GW$17:GW85), GW86))","v":0},null,null,null,null,132,"",null,null,{"$f":"IF(HF87=\"\", 0, HF87 - IF(HF86=\"\", LOOKUP(2, 1/(HF$17:HF85<>\"\"), HF$17:HF85), HF86))","v":0},null,null,null,null,132,"",null,null,{"$f":"IF(HO87=\"\", 0, HO87 - IF(HO86=\"\", LOOKUP(2, 1/(HO$17:HO85<>\"\"), HO$17:HO85), HO86))","v":0},null,null,null,null,132,"",null,null,{"$f":"IF(HX87=\"\", 0, HX87 - IF(HX86=\"\", LOOKUP(2, 1/(HX$17:HX85<>\"\"), HX$17:HX85), HX86))","v":0},null,null,null,null,132,"",null,null,{"$f":"IF(IG87=\"\", 0, IG87 - IF(IG86=\"\", LOOKUP(2, 1/(IG$17:IG85<>\"\"), IG$17:IG85), IG86))","v":0},null,null,null,null,132,"",null,null,{"$f":"IF(IP87=\"\", 0, IP87 - IF(IP86=\"\", LOOKUP(2, 1/(IP$17:IP85<>\"\"), IP$17:IP85), IP86))","v":0},null,null,null,null,132,"",null,null,{"$f":"IF(IY87=\"\", 0, IY87 - IF(IY86=\"\", LOOKUP(2, 1/(IY$17:IY85<>\"\"), IY$17:IY85), IY86))","v":0},null,null,null,null,132,"",null,null,{"$f":"IF(JH87=\"\", 0, JH87 - IF(JH86=\"\", LOOKUP(2, 1/(JH$17:JH85<>\"\"), JH$17:JH85), JH86))","v":0},null,null,null,null,132,"",null,null,{"$f":"IF(JQ87=\"\", 0, JQ87 - IF(JQ86=\"\", LOOKUP(2, 1/(JQ$17:JQ85<>\"\"), JQ$17:JQ85), JQ86))","v":0},null,null,null,null,132,"",null,null,{"$f":"IF(JZ87=\"\", 0, JZ87 - IF(JZ86=\"\", LOOKUP(2, 1/(JZ$17:JZ85<>\"\"), JZ$17:JZ85), JZ86))","v":0},null,null,null,null,132,"",null,null,{"$f":"IF(KI87=\"\", 0, KI87 - IF(KI86=\"\", LOOKUP(2, 1/(KI$17:KI85<>\"\"), KI$17:KI85), KI86))","v":0},null,null,null,null,132,"",null,null,{"$f":"IF(KR87=\"\", 0, KR87 - IF(KR86=\"\", LOOKUP(2, 1/(KR$17:KR85<>\"\"), KR$17:KR85), KR86))","v":0},null,null,null,null,132,"",null,null,{"$f":"IF(LA87=\"\", 0, LA87 - IF(LA86=\"\", LOOKUP(2, 1/(LA$17:LA85<>\"\"), LA$17:LA85), LA86))","v":0},null,null,null,null,132,"",null,null,{"$f":"IF(LJ87=\"\", 0, LJ87 - IF(LJ86=\"\", LOOKUP(2, 1/(LJ$17:LJ85<>\"\"), LJ$17:LJ85), LJ86))","v":0},null,null,null,null,132,"",null,null,{"$f":"IF(LS87=\"\", 0, LS87 - IF(LS86=\"\", LOOKUP(2, 1/(LS$17:LS85<>\"\"), LS$17:LS85), LS86))","v":0},null,null,null,null,132,"",null,null,{"$f":"IF(MB87=\"\", 0, MB87 - IF(MB86=\"\", LOOKUP(2, 1/(MB$17:MB85<>\"\"), MB$17:MB85), MB86))","v":0},null,null,null,null,132,"",null,null,{"$f":"IF(MK87=\"\", 0, MK87 - IF(MK86=\"\", LOOKUP(2, 1/(MK$17:MK85<>\"\"), MK$17:MK85), MK86))","v":0},null,null,null,null,132,"",null,null,{"$f":"IF(MT87=\"\", 0, MT87 - IF(MT86=\"\", LOOKUP(2, 1/(MT$17:MT85<>\"\"), MT$17:MT85), MT86))","v":0},null,null,132,"",null,null,{"$f":"IF(NA87=\"\", 0, NA87 - IF(NA86=\"\", LOOKUP(2, 1/(NA$17:NA85<>\"\"), NA$17:NA85), NA86))","v":0},null,null,null,null,132,"",null,null,{"$f":"IF(NJ87=\"\", 0, NJ87 - IF(NJ86=\"\", LOOKUP(2, 1/(NJ$17:NJ85<>\"\"), NJ$17:NJ85), NJ86))","v":0},null,null,null,null,132,"",null,null,{"$f":"IF(NS87=\"\", 0, NS87 - IF(NS86=\"\", LOOKUP(2, 1/(NS$17:NS85<>\"\"), NS$17:NS85), NS86))","v":0},null,null,null,null,132,"",null,null,{"$f":"IF(OB87=\"\", 0, OB87 - IF(OB86=\"\", LOOKUP(2, 1/(OB$17:OB85<>\"\"), OB$17:OB85), OB86))","v":0},null,null,null,null,132,"",null,null,{"$f":"IF(OK87=\"\", 0, OK87 - IF(OK86=\"\", LOOKUP(2, 1/(OK$17:OK85<>\"\"), OK$17:OK85), OK86))","v":0},null,null,null,null,132,"",null,null,{"$f":"IF(OT87=\"\", 0, OT87 - IF(OT86=\"\", LOOKUP(2, 1/(OT$17:OT85<>\"\"), OT$17:OT85), OT86))","v":0},null,null,null,null,132,"",null,null,{"$f":"IF(PC87=\"\", 0, PC87 - IF(PC86=\"\", LOOKUP(2, 1/(PC$17:PC85<>\"\"), PC$17:PC85), PC86))","v":0},null,null,null,null,132,"",null,null,{"$f":"IF(PL87=\"\", 0, PL87 - IF(PL86=\"\", LOOKUP(2, 1/(PL$17:PL85<>\"\"), PL$17:PL85), PL86))","v":0},null,null,null,null,132,"",null,null,{"$f":"IF(PU87=\"\", 0, PU87 - IF(PU86=\"\", LOOKUP(2, 1/(PU$17:PU85<>\"\"), PU$17:PU85), PU86))","v":0},null,null,null,null,132,"",null,null,{"$f":"IF(QD87=\"\", 0, QD87 - IF(QD86=\"\", LOOKUP(2, 1/(QD$17:QD85<>\"\"), QD$17:QD85), QD86))","v":0}]
[null,null,null,131,"",null,null,{"$f":"IF(G88=\"\", 0, G88 - IF(G87=\"\", LOOKUP(2, 1/(G$17:G86<>\"\"), G$17:G86), G87))","v":0},null,null,null,null,131,"",null,null,{"$f":"IF(P88=\"\", 0, P88 - IF(P87=\"\", LOOKUP(2, 1/(P$17:P86<>\"\"), P$17:P86), P87))","v":0},null,null,null,null,131,"",null,null,{"$f":"IF(Y88=\"\", 0, Y88 - IF(Y87=\"\", LOOKUP(2, 1/(Y$17:Y86<>\"\"), Y$17:Y86), Y87))","v":0},null,null,null,null,131,"",null,null,{"$f":"IF(AH88=\"\", 0, AH88 - IF(AH87=\"\", LOOKUP(2, 1/(AH$17:AH86<>\"\"), AH$17:AH86), AH87))","v":0},null,null,null,null,131,"",null,null,{"$f":"IF(AQ88=\"\", 0, AQ88 - IF(AQ87=\"\", LOOKUP(2, 1/(AQ$17:AQ86<>\"\"), AQ$17:AQ86), AQ87))","v":0},null,null,null,null,131,"",null,null,{"$f":"IF(AZ88=\"\", 0, AZ88 - IF(AZ87=\"\", LOOKUP(2, 1/(AZ$17:AZ86<>\"\"), AZ$17:AZ86), AZ87))","v":0},null,null,null,null,131,"",null,null,{"$f":"IF(BI88=\"\", 0, BI88 - IF(BI87=\"\", LOOKUP(2, 1/(BI$17:BI86<>\"\"), BI$17:BI86), BI87))","v":0},null,null,null,null,131,"",null,null,{"$f":"IF(BR88=\"\", 0, BR88 - IF(BR87=\"\", LOOKUP(2, 1/(BR$17:BR86<>\"\"), BR$17:BR86), BR87))","v":0},null,null,null,null,131,"",null,null,{"$f":"IF(CA88=\"\", 0, CA88 - IF(CA87=\"\", LOOKUP(2, 1/(CA$17:CA86<>\"\"), CA$17:CA86), CA87))","v":0},null,null,null,null,131,"",null,null,{"$f":"IF(CJ88=\"\", 0, CJ88 - IF(CJ87=\"\", LOOKUP(2, 1/(CJ$17:CJ86<>\"\"), CJ$17:CJ86), CJ87))","v":0},null,null,null,null,131,"",null,null,{"$f":"IF(CS88=\"\", 0, CS88 - IF(CS87=\"\", LOOKUP(2, 1/(CS$17:CS86<>\"\"), CS$17:CS86), CS87))","v":0},null,null,null,null,131,"",null,null,{"$f":"IF(DB88=\"\", 0, DB88 - IF(DB87=\"\", LOOKUP(2, 1/(DB$17:DB86<>\"\"), DB$17:DB86), DB87))","v":0},null,null,null,null,131,"",null,null,{"$f":"IF(DK88=\"\", 0, DK88 - IF(DK87=\"\", LOOKUP(2, 1/(DK$17:DK86<>\"\"), DK$17:DK86), DK87))","v":0},null,null,null,null,131,"",null,null,{"$f":"IF(DT88=\"\", 0, DT88 - IF(DT87=\"\", LOOKUP(2, 1/(DT$17:DT86<>\"\"), DT$17:DT86), DT87))","v":0},null,null,null,null,131,"",null,null,{"$f":"IF(EC88=\"\", 0, EC88 - IF(EC87=\"\", LOOKUP(2, 1/(EC$17:EC86<>\"\"), EC$17:EC86), EC87))","v":0},null,null,null,null,131,"",null,null,{"$f":"IF(EL88=\"\", 0, EL88 - IF(EL87=\"\", LOOKUP(2, 1/(EL$17:EL86<>\"\"), EL$17:EL86), EL87))","v":0},null,null,null,null,131,"",null,null,{"$f":"IF(EU88=\"\", 0, EU88 - IF(EU87=\"\", LOOKUP(2, 1/(EU$17:EU86<>\"\"), EU$17:EU86), EU87))","v":0},null,null,null,null,131,"",null,null,{"$f":"IF(FD88=\"\", 0, FD88 - IF(FD87=\"\", LOOKUP(2, 1/(FD$17:FD86<>\"\"), FD$17:FD86), FD87))","v":0},null,null,null,null,131,"",null,null,{"$f":"IF(FM88=\"\", 0, FM88 - IF(FM87=\"\", LOOKUP(2, 1/(FM$17:FM86<>\"\"), FM$17:FM86), FM87))","v":0},null,null,null,null,131,"",null,null,{"$f":"IF(FV88=\"\", 0, FV88 - IF(FV87=\"\", LOOKUP(2, 1/(FV$17:FV86<>\"\"), FV$17:FV86), FV87))","v":0},null,null,null,null,131,"",null,null,{"$f":"IF(GE88=\"\", 0, GE88 - IF(GE87=\"\", LOOKUP(2, 1/(GE$17:GE86<>\"\"), GE$17:GE86), GE87))","v":0},null,null,null,null,131,"",null,null,{"$f":"IF(GN88=\"\", 0, GN88 - IF(GN87=\"\", LOOKUP(2, 1/(GN$17:GN86<>\"\"), GN$17:GN86), GN87))","v":0},null,null,null,null,131,"",null,null,{"$f":"IF(GW88=\"\", 0, GW88 - IF(GW87=\"\", LOOKUP(2, 1/(GW$17:GW86<>\"\"), GW$17:GW86), GW87))","v":0},null,null,null,null,131,"",null,null,{"$f":"IF(HF88=\"\", 0, HF88 - IF(HF87=\"\", LOOKUP(2, 1/(HF$17:HF86<>\"\"), HF$17:HF86), HF87))","v":0},null,null,null,null,131,"",null,null,{"$f":"IF(HO88=\"\", 0, HO88 - IF(HO87=\"\", LOOKUP(2, 1/(HO$17:HO86<>\"\"), HO$17:HO86), HO87))","v":0},null,null,null,null,131,"",null,null,{"$f":"IF(HX88=\"\", 0, HX88 - IF(HX87=\"\", LOOKUP(2, 1/(HX$17:HX86<>\"\"), HX$17:HX86), HX87))","v":0},null,null,null,null,131,"",null,null,{"$f":"IF(IG88=\"\", 0, IG88 - IF(IG87=\"\", LOOKUP(2, 1/(IG$17:IG86<>\"\"), IG$17:IG86), IG87))","v":0},null,null,null,null,131,"",null,null,{"$f":"IF(IP88=\"\", 0, IP88 - IF(IP87=\"\", LOOKUP(2, 1/(IP$17:IP86<>\"\"), IP$17:IP86), IP87))","v":0},null,null,null,null,131,"",null,null,{"$f":"IF(IY88=\"\", 0, IY88 - IF(IY87=\"\", LOOKUP(2, 1/(IY$17:IY86<>\"\"), IY$17:IY86), IY87))","v":0},null,null,null,null,131,"",null,null,{"$f":"IF(JH88=\"\", 0, JH88 - IF(JH87=\"\", LOOKUP(2, 1/(JH$17:JH86<>\"\"), JH$17:JH86), JH87))","v":0},null,null,null,null,131,"",null,null,{"$f":"IF(JQ88=\"\", 0, JQ88 - IF(JQ87=\"\", LOOKUP(2, 1/(JQ$17:JQ86<>\"\"), JQ$17:JQ86), JQ87))","v":0},null,null,null,null,131,"",null,null,{"$f":"IF(JZ88=\"\", 0, JZ88 - IF(JZ87=\"\", LOOKUP(2, 1/(JZ$17:JZ86<>\"\"), JZ$17:JZ86), JZ87))","v":0},null,null,null,null,131,"",null,null,{"$f":"IF(KI88=\"\", 0, KI88 - IF(KI87=\"\", LOOKUP(2, 1/(KI$17:KI86<>\"\"), KI$17:KI86), KI87))","v":0},null,null,null,null,131,"",null,null,{"$f":"IF(KR88=\"\", 0, KR88 - IF(KR87=\"\", LOOKUP(2, 1/(KR$17:KR86<>\"\"), KR$17:KR86), KR87))","v":0},null,null,null,null,131,"",null,null,{"$f":"IF(LA88=\"\", 0, LA88 - IF(LA87=\"\", LOOKUP(2, 1/(LA$17:LA86<>\"\"), LA$17:LA86), LA87))","v":0},null,null,null,null,131,"",null,null,{"$f":"IF(LJ88=\"\", 0, LJ88 - IF(LJ87=\"\", LOOKUP(2, 1/(LJ$17:LJ86<>\"\"), LJ$17:LJ86), LJ87))","v":0},null,null,null,null,131,"",null,null,{"$f":"IF(LS88=\"\", 0, LS88 - IF(LS87=\"\", LOOKUP(2, 1/(LS$17:LS86<>\"\"), LS$17:LS86), LS87))","v":0},null,null,null,null,131,"",null,null,{"$f":"IF(MB88=\"\", 0, MB88 - IF(MB87=\"\", LOOKUP(2, 1/(MB$17:MB86<>\"\"), MB$17:MB86), MB87))","v":0},null,null,null,null,131,"",null,null,{"$f":"IF(MK88=\"\", 0, MK88 - IF(MK87=\"\", LOOKUP(2, 1/(MK$17:MK86<>\"\"), MK$17:MK86), MK87))","v":0},null,null,null,null,131,"",null,null,{"$f":"IF(MT88=\"\", 0, MT88 - IF(MT87=\"\", LOOKUP(2, 1/(MT$17:MT86<>\"\"), MT$17:MT86), MT87))","v":0},null,null,131,"",null,null,{"$f":"IF(NA88=\"\", 0, NA88 - IF(NA87=\"\", LOOKUP(2, 1/(NA$17:NA86<>\"\"), NA$17:NA86), NA87))","v":0},null,null,null,null,131,"",null,null,{"$f":"IF(NJ88=\"\", 0, NJ88 - IF(NJ87=\"\", LOOKUP(2, 1/(NJ$17:NJ86<>\"\"), NJ$17:NJ86), NJ87))","v":0},null,null,null,null,131,"",null,null,{"$f":"IF(NS88=\"\", 0, NS88 - IF(NS87=\"\", LOOKUP(2, 1/(NS$17:NS86<>\"\"), NS$17:NS86), NS87))","v":0},null,null,null,null,131,"",null,null,{"$f":"IF(OB88=\"\", 0, OB88 - IF(OB87=\"\", LOOKUP(2, 1/(OB$17:OB86<>\"\"), OB$17:OB86), OB87))","v":0},null,null,null,null,131,"",null,null,{"$f":"IF(OK88=\"\", 0, OK88 - IF(OK87=\"\", LOOKUP(2, 1/(OK$17:OK86<>\"\"), OK$17:OK86), OK87))","v":0},null,null,null,null,131,"",null,null,{"$f":"IF(OT88=\"\", 0, OT88 - IF(OT87=\"\", LOOKUP(2, 1/(OT$17:OT86<>\"\"), OT$17:OT86), OT87))","v":0},null,null,null,null,131,"",null,null,{"$f":"IF(PC88=\"\", 0, PC88 - IF(PC87=\"\", LOOKUP(2, 1/(PC$17:PC86<>\"\"), PC$17:PC86), PC87))","v":0},null,null,null,null,131,"",null,null,{"$f":"IF(PL88=\"\", 0, PL88 - IF(PL87=\"\", LOOKUP(2, 1/(PL$17:PL86<>\"\"), PL$17:PL86), PL87))","v":0},null,null,null,null,131,"",null,null,{"$f":"IF(PU88=\"\", 0, PU88 - IF(PU87=\"\", LOOKUP(2, 1/(PU$17:PU86<>\"\"), PU$17:PU86), PU87))","v":0},null,null,null,null,131,"",null,null,{"$f":"IF(QD88=\"\", 0, QD88 - IF(QD87=\"\", LOOKUP(2, 1/(QD$17:QD86<>\"\"), QD$17:QD86), QD87))","v":0}]
[null,null,null,130,"",null,null,{"$f":"IF(G89=\"\", 0, G89 - IF(G88=\"\", LOOKUP(2, 1/(G$17:G87<>\"\"), G$17:G87), G88))","v":0},null,null,null,null,130,"",null,null,{"$f":"IF(P89=\"\", 0, P89 - IF(P88=\"\", LOOKUP(2, 1/(P$17:P87<>\"\"), P$17:P87), P88))","v":0},null,null,null,null,130,"",null,null,{"$f":"IF(Y89=\"\", 0, Y89 - IF(Y88=\"\", LOOKUP(2, 1/(Y$17:Y87<>\"\"), Y$17:Y87), Y88))","v":0},null,null,null,null,130,"",null,null,{"$f":"IF(AH89=\"\", 0, AH89 - IF(AH88=\"\", LOOKUP(2, 1/(AH$17:AH87<>\"\"), AH$17:AH87), AH88))","v":0},null,null,null,null,130,"",null,null,{"$f":"IF(AQ89=\"\", 0, AQ89 - IF(AQ88=\"\", LOOKUP(2, 1/(AQ$17:AQ87<>\"\"), AQ$17:AQ87), AQ88))","v":0},null,null,null,null,130,"",null,null,{"$f":"IF(AZ89=\"\", 0, AZ89 - IF(AZ88=\"\", LOOKUP(2, 1/(AZ$17:AZ87<>\"\"), AZ$17:AZ87), AZ88))","v":0},null,null,null,null,130,"",null,null,{"$f":"IF(BI89=\"\", 0, BI89 - IF(BI88=\"\", LOOKUP(2, 1/(BI$17:BI87<>\"\"), BI$17:BI87), BI88))","v":0},null,null,null,null,130,"",null,null,{"$f":"IF(BR89=\"\", 0, BR89 - IF(BR88=\"\", LOOKUP(2, 1/(BR$17:BR87<>\"\"), BR$17:BR87), BR88))","v":0},null,null,null,null,130,"",null,null,{"$f":"IF(CA89=\"\", 0, CA89 - IF(CA88=\"\", LOOKUP(2, 1/(CA$17:CA87<>\"\"), CA$17:CA87), CA88))","v":0},null,null,null,null,130,"",null,null,{"$f":"IF(CJ89=\"\", 0, CJ89 - IF(CJ88=\"\", LOOKUP(2, 1/(CJ$17:CJ87<>\"\"), CJ$17:CJ87), CJ88))","v":0},null,null,null,null,130,"",null,null,{"$f":"IF(CS89=\"\", 0, CS89 - IF(CS88=\"\", LOOKUP(2, 1/(CS$17:CS87<>\"\"), CS$17:CS87), CS88))","v":0},null,null,null,null,130,"",null,null,{"$f":"IF(DB89=\"\", 0, DB89 - IF(DB88=\"\", LOOKUP(2, 1/(DB$17:DB87<>\"\"), DB$17:DB87), DB88))","v":0},null,null,null,null,130,"",null,null,{"$f":"IF(DK89=\"\", 0, DK89 - IF(DK88=\"\", LOOKUP(2, 1/(DK$17:DK87<>\"\"), DK$17:DK87), DK88))","v":0},null,null,null,null,130,"",null,null,{"$f":"IF(DT89=\"\", 0, DT89 - IF(DT88=\"\", LOOKUP(2, 1/(DT$17:DT87<>\"\"), DT$17:DT87), DT88))","v":0},null,null,null,null,130,"",null,null,{"$f":"IF(EC89=\"\", 0, EC89 - IF(EC88=\"\", LOOKUP(2, 1/(EC$17:EC87<>\"\"), EC$17:EC87), EC88))","v":0},null,null,null,null,130,"",null,null,{"$f":"IF(EL89=\"\", 0, EL89 - IF(EL88=\"\", LOOKUP(2, 1/(EL$17:EL87<>\"\"), EL$17:EL87), EL88))","v":0},null,null,null,null,130,"",null,null,{"$f":"IF(EU89=\"\", 0, EU89 - IF(EU88=\"\", LOOKUP(2, 1/(EU$17:EU87<>\"\"), EU$17:EU87), EU88))","v":0},null,null,null,null,130,"",null,null,{"$f":"IF(FD89=\"\", 0, FD89 - IF(FD88=\"\", LOOKUP(2, 1/(FD$17:FD87<>\"\"), FD$17:FD87), FD88))","v":0},null,null,null,null,130,"",null,null,{"$f":"IF(FM89=\"\", 0, FM89 - IF(FM88=\"\", LOOKUP(2, 1/(FM$17:FM87<>\"\"), FM$17:FM87), FM88))","v":0},null,null,null,null,130,"",null,null,{"$f":"IF(FV89=\"\", 0, FV89 - IF(FV88=\"\", LOOKUP(2, 1/(FV$17:FV87<>\"\"), FV$17:FV87), FV88))","v":0},null,null,null,null,130,"",null,null,{"$f":"IF(GE89=\"\", 0, GE89 - IF(GE88=\"\", LOOKUP(2, 1/(GE$17:GE87<>\"\"), GE$17:GE87), GE88))","v":0},null,null,null,null,130,"",null,null,{"$f":"IF(GN89=\"\", 0, GN89 - IF(GN88=\"\", LOOKUP(2, 1/(GN$17:GN87<>\"\"), GN$17:GN87), GN88))","v":0},null,null,null,null,130,"",null,null,{"$f":"IF(GW89=\"\", 0, GW89 - IF(GW88=\"\", LOOKUP(2, 1/(GW$17:GW87<>\"\"), GW$17:GW87), GW88))","v":0},null,null,null,null,130,"",null,null,{"$f":"IF(HF89=\"\", 0, HF89 - IF(HF88=\"\", LOOKUP(2, 1/(HF$17:HF87<>\"\"), HF$17:HF87), HF88))","v":0},null,null,null,null,130,"",null,null,{"$f":"IF(HO89=\"\", 0, HO89 - IF(HO88=\"\", LOOKUP(2, 1/(HO$17:HO87<>\"\"), HO$17:HO87), HO88))","v":0},null,null,null,null,130,"",null,null,{"$f":"IF(HX89=\"\", 0, HX89 - IF(HX88=\"\", LOOKUP(2, 1/(HX$17:HX87<>\"\"), HX$17:HX87), HX88))","v":0},null,null,null,null,130,"",null,null,{"$f":"IF(IG89=\"\", 0, IG89 - IF(IG88=\"\", LOOKUP(2, 1/(IG$17:IG87<>\"\"), IG$17:IG87), IG88))","v":0},null,null,null,null,130,"",null,null,{"$f":"IF(IP89=\"\", 0, IP89 - IF(IP88=\"\", LOOKUP(2, 1/(IP$17:IP87<>\"\"), IP$17:IP87), IP88))","v":0},null,null,null,null,130,"",null,null,{"$f":"IF(IY89=\"\", 0, IY89 - IF(IY88=\"\", LOOKUP(2, 1/(IY$17:IY87<>\"\"), IY$17:IY87), IY88))","v":0},null,null,null,null,130,"",null,null,{"$f":"IF(JH89=\"\", 0, JH89 - IF(JH88=\"\", LOOKUP(2, 1/(JH$17:JH87<>\"\"), JH$17:JH87), JH88))","v":0},null,null,null,null,130,"",null,null,{"$f":"IF(JQ89=\"\", 0, JQ89 - IF(JQ88=\"\", LOOKUP(2, 1/(JQ$17:JQ87<>\"\"), JQ$17:JQ87), JQ88))","v":0},null,null,null,null,130,"",null,null,{"$f":"IF(JZ89=\"\", 0, JZ89 - IF(JZ88=\"\", LOOKUP(2, 1/(JZ$17:JZ87<>\"\"), JZ$17:JZ87), JZ88))","v":0},null,null,null,null,130,"",null,null,{"$f":"IF(KI89=\"\", 0, KI89 - IF(KI88=\"\", LOOKUP(2, 1/(KI$17:KI87<>\"\"), KI$17:KI87), KI88))","v":0},null,null,null,null,130,"",null,null,{"$f":"IF(KR89=\"\", 0, KR89 - IF(KR88=\"\", LOOKUP(2, 1/(KR$17:KR87<>\"\"), KR$17:KR87), KR88))","v":0},null,null,null,null,130,"",null,null,{"$f":"IF(LA89=\"\", 0, LA89 - IF(LA88=\"\", LOOKUP(2, 1/(LA$17:LA87<>\"\"), LA$17:LA87), LA88))","v":0},null,null,null,null,130,"",null,null,{"$f":"IF(LJ89=\"\", 0, LJ89 - IF(LJ88=\"\", LOOKUP(2, 1/(LJ$17:LJ87<>\"\"), LJ$17:LJ87), LJ88))","v":0},null,null,null,null,130,"",null,null,{"$f":"IF(LS89=\"\", 0, LS89 - IF(LS88=\"\", LOOKUP(2, 1/(LS$17:LS87<>\"\"), LS$17:LS87), LS88))","v":0},null,null,null,null,130,"",null,null,{"$f":"IF(MB89=\"\", 0, MB89 - IF(MB88=\"\", LOOKUP(2, 1/(MB$17:MB87<>\"\"), MB$17:MB87), MB88))","v":0},null,null,null,null,130,"",null,null,{"$f":"IF(MK89=\"\", 0, MK89 - IF(MK88=\"\", LOOKUP(2, 1/(MK$17:MK87<>\"\"), MK$17:MK87), MK88))","v":0},null,null,null,null,130,"",null,null,{"$f":"IF(MT89=\"\", 0, MT89 - IF(MT88=\"\", LOOKUP(2, 1/(MT$17:MT87<>\"\"), MT$17:MT87), MT88))","v":0},null,null,130,"",null,null,{"$f":"IF(NA89=\"\", 0, NA89 - IF(NA88=\"\", LOOKUP(2, 1/(NA$17:NA87<>\"\"), NA$17:NA87), NA88))","v":0},null,null,null,null,130,"",null,null,{"$f":"IF(NJ89=\"\", 0, NJ89 - IF(NJ88=\"\", LOOKUP(2, 1/(NJ$17:NJ87<>\"\"), NJ$17:NJ87), NJ88))","v":0},null,null,null,null,130,"",null,null,{"$f":"IF(NS89=\"\", 0, NS89 - IF(NS88=\"\", LOOKUP(2, 1/(NS$17:NS87<>\"\"), NS$17:NS87), NS88))","v":0},null,null,null,null,130,"",null,null,{"$f":"IF(OB89=\"\", 0, OB89 - IF(OB88=\"\", LOOKUP(2, 1/(OB$17:OB87<>\"\"), OB$17:OB87), OB88))","v":0},null,null,null,null,130,"",null,null,{"$f":"IF(OK89=\"\", 0, OK89 - IF(OK88=\"\", LOOKUP(2, 1/(OK$17:OK87<>\"\"), OK$17:OK87), OK88))","v":0},null,null,null,null,130,"",null,null,{"$f":"IF(OT89=\"\", 0, OT89 - IF(OT88=\"\", LOOKUP(2, 1/(OT$17:OT87<>\"\"), OT$17:OT87), OT88))","v":0},null,null,null,null,130,"",null,null,{"$f":"IF(PC89=\"\", 0, PC89 - IF(PC88=\"\", LOOKUP(2, 1/(PC$17:PC87<>\"\"), PC$17:PC87), PC88))","v":0},null,null,null,null,130,"",null,null,{"$f":"IF(PL89=\"\", 0, PL89 - IF(PL88=\"\", LOOKUP(2, 1/(PL$17:PL87<>\"\"), PL$17:PL87), PL88))","v":0},null,null,null,null,130,"",null,null,{"$f":"IF(PU89=\"\", 0, PU89 - IF(PU88=\"\", LOOKUP(2, 1/(PU$17:PU87<>\"\"), PU$17:PU87), PU88))","v":0},null,null,null,null,130,"",null,null,{"$f":"IF(QD89=\"\", 0, QD89 - IF(QD88=\"\", LOOKUP(2, 1/(QD$17:QD87<>\"\"), QD$17:QD87), QD88))","v":0}]
[null,null,null,129,"",null,null,{"$f":"IF(G90=\"\", 0, G90 - IF(G89=\"\", LOOKUP(2, 1/(G$17:G88<>\"\"), G$17:G88), G89))","v":0},null,null,null,null,129,"",null,null,{"$f":"IF(P90=\"\", 0, P90 - IF(P89=\"\", LOOKUP(2, 1/(P$17:P88<>\"\"), P$17:P88), P89))","v":0},null,null,null,null,129,"",null,null,{"$f":"IF(Y90=\"\", 0, Y90 - IF(Y89=\"\", LOOKUP(2, 1/(Y$17:Y88<>\"\"), Y$17:Y88), Y89))","v":0},null,null,null,null,129,"",null,null,{"$f":"IF(AH90=\"\", 0, AH90 - IF(AH89=\"\", LOOKUP(2, 1/(AH$17:AH88<>\"\"), AH$17:AH88), AH89))","v":0},null,null,null,null,129,"",null,null,{"$f":"IF(AQ90=\"\", 0, AQ90 - IF(AQ89=\"\", LOOKUP(2, 1/(AQ$17:AQ88<>\"\"), AQ$17:AQ88), AQ89))","v":0},null,null,null,null,129,"",null,null,{"$f":"IF(AZ90=\"\", 0, AZ90 - IF(AZ89=\"\", LOOKUP(2, 1/(AZ$17:AZ88<>\"\"), AZ$17:AZ88), AZ89))","v":0},null,null,null,null,129,"",null,null,{"$f":"IF(BI90=\"\", 0, BI90 - IF(BI89=\"\", LOOKUP(2, 1/(BI$17:BI88<>\"\"), BI$17:BI88), BI89))","v":0},null,null,null,null,129,"",null,null,{"$f":"IF(BR90=\"\", 0, BR90 - IF(BR89=\"\", LOOKUP(2, 1/(BR$17:BR88<>\"\"), BR$17:BR88), BR89))","v":0},null,null,null,null,129,"",null,null,{"$f":"IF(CA90=\"\", 0, CA90 - IF(CA89=\"\", LOOKUP(2, 1/(CA$17:CA88<>\"\"), CA$17:CA88), CA89))","v":0},null,null,null,null,129,"",null,null,{"$f":"IF(CJ90=\"\", 0, CJ90 - IF(CJ89=\"\", LOOKUP(2, 1/(CJ$17:CJ88<>\"\"), CJ$17:CJ88), CJ89))","v":0},null,null,null,null,129,"",null,null,{"$f":"IF(CS90=\"\", 0, CS90 - IF(CS89=\"\", LOOKUP(2, 1/(CS$17:CS88<>\"\"), CS$17:CS88), CS89))","v":0},null,null,null,null,129,"",null,null,{"$f":"IF(DB90=\"\", 0, DB90 - IF(DB89=\"\", LOOKUP(2, 1/(DB$17:DB88<>\"\"), DB$17:DB88), DB89))","v":0},null,null,null,null,129,"",null,null,{"$f":"IF(DK90=\"\", 0, DK90 - IF(DK89=\"\", LOOKUP(2, 1/(DK$17:DK88<>\"\"), DK$17:DK88), DK89))","v":0},null,null,null,null,129,"",null,null,{"$f":"IF(DT90=\"\", 0, DT90 - IF(DT89=\"\", LOOKUP(2, 1/(DT$17:DT88<>\"\"), DT$17:DT88), DT89))","v":0},null,null,null,null,129,"",null,null,{"$f":"IF(EC90=\"\", 0, EC90 - IF(EC89=\"\", LOOKUP(2, 1/(EC$17:EC88<>\"\"), EC$17:EC88), EC89))","v":0},null,null,null,null,129,"",null,null,{"$f":"IF(EL90=\"\", 0, EL90 - IF(EL89=\"\", LOOKUP(2, 1/(EL$17:EL88<>\"\"), EL$17:EL88), EL89))","v":0},null,null,null,null,129,"",null,null,{"$f":"IF(EU90=\"\", 0, EU90 - IF(EU89=\"\", LOOKUP(2, 1/(EU$17:EU88<>\"\"), EU$17:EU88), EU89))","v":0},null,null,null,null,129,"",null,null,{"$f":"IF(FD90=\"\", 0, FD90 - IF(FD89=\"\", LOOKUP(2, 1/(FD$17:FD88<>\"\"), FD$17:FD88), FD89))","v":0},null,null,null,null,129,"",null,null,{"$f":"IF(FM90=\"\", 0, FM90 - IF(FM89=\"\", LOOKUP(2, 1/(FM$17:FM88<>\"\"), FM$17:FM88), FM89))","v":0},null,null,null,null,129,"",null,null,{"$f":"IF(FV90=\"\", 0, FV90 - IF(FV89=\"\", LOOKUP(2, 1/(FV$17:FV88<>\"\"), FV$17:FV88), FV89))","v":0},null,null,null,null,129,"",null,null,{"$f":"IF(GE90=\"\", 0, GE90 - IF(GE89=\"\", LOOKUP(2, 1/(GE$17:GE88<>\"\"), GE$17:GE88), GE89))","v":0},null,null,null,null,129,"",null,null,{"$f":"IF(GN90=\"\", 0, GN90 - IF(GN89=\"\", LOOKUP(2, 1/(GN$17:GN88<>\"\"), GN$17:GN88), GN89))","v":0},null,null,null,null,129,"",null,null,{"$f":"IF(GW90=\"\", 0, GW90 - IF(GW89=\"\", LOOKUP(2, 1/(GW$17:GW88<>\"\"), GW$17:GW88), GW89))","v":0},null,null,null,null,129,"",null,null,{"$f":"IF(HF90=\"\", 0, HF90 - IF(HF89=\"\", LOOKUP(2, 1/(HF$17:HF88<>\"\"), HF$17:HF88), HF89))","v":0},null,null,null,null,129,"",null,null,{"$f":"IF(HO90=\"\", 0, HO90 - IF(HO89=\"\", LOOKUP(2, 1/(HO$17:HO88<>\"\"), HO$17:HO88), HO89))","v":0},null,null,null,null,129,"",null,null,{"$f":"IF(HX90=\"\", 0, HX90 - IF(HX89=\"\", LOOKUP(2, 1/(HX$17:HX88<>\"\"), HX$17:HX88), HX89))","v":0},null,null,null,null,129,"",null,null,{"$f":"IF(IG90=\"\", 0, IG90 - IF(IG89=\"\", LOOKUP(2, 1/(IG$17:IG88<>\"\"), IG$17:IG88), IG89))","v":0},null,null,null,null,129,"",null,null,{"$f":"IF(IP90=\"\", 0, IP90 - IF(IP89=\"\", LOOKUP(2, 1/(IP$17:IP88<>\"\"), IP$17:IP88), IP89))","v":0},null,null,null,null,129,"",null,null,{"$f":"IF(IY90=\"\", 0, IY90 - IF(IY89=\"\", LOOKUP(2, 1/(IY$17:IY88<>\"\"), IY$17:IY88), IY89))","v":0},null,null,null,null,129,"",null,null,{"$f":"IF(JH90=\"\", 0, JH90 - IF(JH89=\"\", LOOKUP(2, 1/(JH$17:JH88<>\"\"), JH$17:JH88), JH89))","v":0},null,null,null,null,129,"",null,null,{"$f":"IF(JQ90=\"\", 0, JQ90 - IF(JQ89=\"\", LOOKUP(2, 1/(JQ$17:JQ88<>\"\"), JQ$17:JQ88), JQ89))","v":0},null,null,null,null,129,"",null,null,{"$f":"IF(JZ90=\"\", 0, JZ90 - IF(JZ89=\"\", LOOKUP(2, 1/(JZ$17:JZ88<>\"\"), JZ$17:JZ88), JZ89))","v":0},null,null,null,null,129,"",null,null,{"$f":"IF(KI90=\"\", 0, KI90 - IF(KI89=\"\", LOOKUP(2, 1/(KI$17:KI88<>\"\"), KI$17:KI88), KI89))","v":0},null,null,null,null,129,"",null,null,{"$f":"IF(KR90=\"\", 0, KR90 - IF(KR89=\"\", LOOKUP(2, 1/(KR$17:KR88<>\"\"), KR$17:KR88), KR89))","v":0},null,null,null,null,129,"",null,null,{"$f":"IF(LA90=\"\", 0, LA90 - IF(LA89=\"\", LOOKUP(2, 1/(LA$17:LA88<>\"\"), LA$17:LA88), LA89))","v":0},null,null,null,null,129,"",null,null,{"$f":"IF(LJ90=\"\", 0, LJ90 - IF(LJ89=\"\", LOOKUP(2, 1/(LJ$17:LJ88<>\"\"), LJ$17:LJ88), LJ89))","v":0},null,null,null,null,129,"",null,null,{"$f":"IF(LS90=\"\", 0, LS90 - IF(LS89=\"\", LOOKUP(2, 1/(LS$17:LS88<>\"\"), LS$17:LS88), LS89))","v":0},null,null,null,null,129,"",null,null,{"$f":"IF(MB90=\"\", 0, MB90 - IF(MB89=\"\", LOOKUP(2, 1/(MB$17:MB88<>\"\"), MB$17:MB88), MB89))","v":0},null,null,null,null,129,"",null,null,{"$f":"IF(MK90=\"\", 0, MK90 - IF(MK89=\"\", LOOKUP(2, 1/(MK$17:MK88<>\"\"), MK$17:MK88), MK89))","v":0},null,null,null,null,129,"",null,null,{"$f":"IF(MT90=\"\", 0, MT90 - IF(MT89=\"\", LOOKUP(2, 1/(MT$17:MT88<>\"\"), MT$17:MT88), MT89))","v":0},null,null,129,"",null,null,{"$f":"IF(NA90=\"\", 0, NA90 - IF(NA89=\"\", LOOKUP(2, 1/(NA$17:NA88<>\"\"), NA$17:NA88), NA89))","v":0},null,null,null,null,129,"",null,null,{"$f":"IF(NJ90=\"\", 0, NJ90 - IF(NJ89=\"\", LOOKUP(2, 1/(NJ$17:NJ88<>\"\"), NJ$17:NJ88), NJ89))","v":0},null,null,null,null,129,"",null,null,{"$f":"IF(NS90=\"\", 0, NS90 - IF(NS89=\"\", LOOKUP(2, 1/(NS$17:NS88<>\"\"), NS$17:NS88), NS89))","v":0},null,null,null,null,129,"",null,null,{"$f":"IF(OB90=\"\", 0, OB90 - IF(OB89=\"\", LOOKUP(2, 1/(OB$17:OB88<>\"\"), OB$17:OB88), OB89))","v":0},null,null,null,null,129,"",null,null,{"$f":"IF(OK90=\"\", 0, OK90 - IF(OK89=\"\", LOOKUP(2, 1/(OK$17:OK88<>\"\"), OK$17:OK88), OK89))","v":0},null,null,null,null,129,"",null,null,{"$f":"IF(OT90=\"\", 0, OT90 - IF(OT89=\"\", LOOKUP(2, 1/(OT$17:OT88<>\"\"), OT$17:OT88), OT89))","v":0},null,null,null,null,129,"",null,null,{"$f":"IF(PC90=\"\", 0, PC90 - IF(PC89=\"\", LOOKUP(2, 1/(PC$17:PC88<>\"\"), PC$17:PC88), PC89))","v":0},null,null,null,null,129,"",null,null,{"$f":"IF(PL90=\"\", 0, PL90 - IF(PL89=\"\", LOOKUP(2, 1/(PL$17:PL88<>\"\"), PL$17:PL88), PL89))","v":0},null,null,null,null,129,"",null,null,{"$f":"IF(PU90=\"\", 0, PU90 - IF(PU89=\"\", LOOKUP(2, 1/(PU$17:PU88<>\"\"), PU$17:PU88), PU89))","v":0},null,null,null,null,129,"",null,null,{"$f":"IF(QD90=\"\", 0, QD90 - IF(QD89=\"\", LOOKUP(2, 1/(QD$17:QD88<>\"\"), QD$17:QD88), QD89))","v":0}]
[null,null,null,128,"",null,null,{"$f":"IF(G91=\"\", 0, G91 - IF(G90=\"\", LOOKUP(2, 1/(G$17:G89<>\"\"), G$17:G89), G90))","v":0},null,null,null,null,128,"",null,null,{"$f":"IF(P91=\"\", 0, P91 - IF(P90=\"\", LOOKUP(2, 1/(P$17:P89<>\"\"), P$17:P89), P90))","v":0},null,null,null,null,128,"",null,null,{"$f":"IF(Y91=\"\", 0, Y91 - IF(Y90=\"\", LOOKUP(2, 1/(Y$17:Y89<>\"\"), Y$17:Y89), Y90))","v":0},null,null,null,null,128,"",null,null,{"$f":"IF(AH91=\"\", 0, AH91 - IF(AH90=\"\", LOOKUP(2, 1/(AH$17:AH89<>\"\"), AH$17:AH89), AH90))","v":0},null,null,null,null,128,"",null,null,{"$f":"IF(AQ91=\"\", 0, AQ91 - IF(AQ90=\"\", LOOKUP(2, 1/(AQ$17:AQ89<>\"\"), AQ$17:AQ89), AQ90))","v":0},null,null,null,null,128,"",null,null,{"$f":"IF(AZ91=\"\", 0, AZ91 - IF(AZ90=\"\", LOOKUP(2, 1/(AZ$17:AZ89<>\"\"), AZ$17:AZ89), AZ90))","v":0},null,null,null,null,128,"",null,null,{"$f":"IF(BI91=\"\", 0, BI91 - IF(BI90=\"\", LOOKUP(2, 1/(BI$17:BI89<>\"\"), BI$17:BI89), BI90))","v":0},null,null,null,null,128,"",null,null,{"$f":"IF(BR91=\"\", 0, BR91 - IF(BR90=\"\", LOOKUP(2, 1/(BR$17:BR89<>\"\"), BR$17:BR89), BR90))","v":0},null,null,null,null,128,"",null,null,{"$f":"IF(CA91=\"\", 0, CA91 - IF(CA90=\"\", LOOKUP(2, 1/(CA$17:CA89<>\"\"), CA$17:CA89), CA90))","v":0},null,null,null,null,128,"",null,null,{"$f":"IF(CJ91=\"\", 0, CJ91 - IF(CJ90=\"\", LOOKUP(2, 1/(CJ$17:CJ89<>\"\"), CJ$17:CJ89), CJ90))","v":0},null,null,null,null,128,"",null,null,{"$f":"IF(CS91=\"\", 0, CS91 - IF(CS90=\"\", LOOKUP(2, 1/(CS$17:CS89<>\"\"), CS$17:CS89), CS90))","v":0},null,null,null,null,128,"",null,null,{"$f":"IF(DB91=\"\", 0, DB91 - IF(DB90=\"\", LOOKUP(2, 1/(DB$17:DB89<>\"\"), DB$17:DB89), DB90))","v":0},null,null,null,null,128,"",null,null,{"$f":"IF(DK91=\"\", 0, DK91 - IF(DK90=\"\", LOOKUP(2, 1/(DK$17:DK89<>\"\"), DK$17:DK89), DK90))","v":0},null,null,null,null,128,"",null,null,{"$f":"IF(DT91=\"\", 0, DT91 - IF(DT90=\"\", LOOKUP(2, 1/(DT$17:DT89<>\"\"), DT$17:DT89), DT90))","v":0},null,null,null,null,128,"",null,null,{"$f":"IF(EC91=\"\", 0, EC91 - IF(EC90=\"\", LOOKUP(2, 1/(EC$17:EC89<>\"\"), EC$17:EC89), EC90))","v":0},null,null,null,null,128,"",null,null,{"$f":"IF(EL91=\"\", 0, EL91 - IF(EL90=\"\", LOOKUP(2, 1/(EL$17:EL89<>\"\"), EL$17:EL89), EL90))","v":0},null,null,null,null,128,"",null,null,{"$f":"IF(EU91=\"\", 0, EU91 - IF(EU90=\"\", LOOKUP(2, 1/(EU$17:EU89<>\"\"), EU$17:EU89), EU90))","v":0},null,null,null,null,128,"",null,null,{"$f":"IF(FD91=\"\", 0, FD91 - IF(FD90=\"\", LOOKUP(2, 1/(FD$17:FD89<>\"\"), FD$17:FD89), FD90))","v":0},null,null,null,null,128,"",null,null,{"$f":"IF(FM91=\"\", 0, FM91 - IF(FM90=\"\", LOOKUP(2, 1/(FM$17:FM89<>\"\"), FM$17:FM89), FM90))","v":0},null,null,null,null,128,"",null,null,{"$f":"IF(FV91=\"\", 0, FV91 - IF(FV90=\"\", LOOKUP(2, 1/(FV$17:FV89<>\"\"), FV$17:FV89), FV90))","v":0},null,null,null,null,128,"",null,null,{"$f":"IF(GE91=\"\", 0, GE91 - IF(GE90=\"\", LOOKUP(2, 1/(GE$17:GE89<>\"\"), GE$17:GE89), GE90))","v":0},null,null,null,null,128,"",null,null,{"$f":"IF(GN91=\"\", 0, GN91 - IF(GN90=\"\", LOOKUP(2, 1/(GN$17:GN89<>\"\"), GN$17:GN89), GN90))","v":0},null,null,null,null,128,"",null,null,{"$f":"IF(GW91=\"\", 0, GW91 - IF(GW90=\"\", LOOKUP(2, 1/(GW$17:GW89<>\"\"), GW$17:GW89), GW90))","v":0},null,null,null,null,128,"",null,null,{"$f":"IF(HF91=\"\", 0, HF91 - IF(HF90=\"\", LOOKUP(2, 1/(HF$17:HF89<>\"\"), HF$17:HF89), HF90))","v":0},null,null,null,null,128,"",null,null,{"$f":"IF(HO91=\"\", 0, HO91 - IF(HO90=\"\", LOOKUP(2, 1/(HO$17:HO89<>\"\"), HO$17:HO89), HO90))","v":0},null,null,null,null,128,"",null,null,{"$f":"IF(HX91=\"\", 0, HX91 - IF(HX90=\"\", LOOKUP(2, 1/(HX$17:HX89<>\"\"), HX$17:HX89), HX90))","v":0},null,null,null,null,128,"",null,null,{"$f":"IF(IG91=\"\", 0, IG91 - IF(IG90=\"\", LOOKUP(2, 1/(IG$17:IG89<>\"\"), IG$17:IG89), IG90))","v":0},null,null,null,null,128,"",null,null,{"$f":"IF(IP91=\"\", 0, IP91 - IF(IP90=\"\", LOOKUP(2, 1/(IP$17:IP89<>\"\"), IP$17:IP89), IP90))","v":0},null,null,null,null,128,"",null,null,{"$f":"IF(IY91=\"\", 0, IY91 - IF(IY90=\"\", LOOKUP(2, 1/(IY$17:IY89<>\"\"), IY$17:IY89), IY90))","v":0},null,null,null,null,128,"",null,null,{"$f":"IF(JH91=\"\", 0, JH91 - IF(JH90=\"\", LOOKUP(2, 1/(JH$17:JH89<>\"\"), JH$17:JH89), JH90))","v":0},null,null,null,null,128,"",null,null,{"$f":"IF(JQ91=\"\", 0, JQ91 - IF(JQ90=\"\", LOOKUP(2, 1/(JQ$17:JQ89<>\"\"), JQ$17:JQ89), JQ90))","v":0},null,null,null,null,128,"",null,null,{"$f":"IF(JZ91=\"\", 0, JZ91 - IF(JZ90=\"\", LOOKUP(2, 1/(JZ$17:JZ89<>\"\"), JZ$17:JZ89), JZ90))","v":0},null,null,null,null,128,"",null,null,{"$f":"IF(KI91=\"\", 0, KI91 - IF(KI90=\"\", LOOKUP(2, 1/(KI$17:KI89<>\"\"), KI$17:KI89), KI90))","v":0},null,null,null,null,128,"",null,null,{"$f":"IF(KR91=\"\", 0, KR91 - IF(KR90=\"\", LOOKUP(2, 1/(KR$17:KR89<>\"\"), KR$17:KR89), KR90))","v":0},null,null,null,null,128,"",null,null,{"$f":"IF(LA91=\"\", 0, LA91 - IF(LA90=\"\", LOOKUP(2, 1/(LA$17:LA89<>\"\"), LA$17:LA89), LA90))","v":0},null,null,null,null,128,"",null,null,{"$f":"IF(LJ91=\"\", 0, LJ91 - IF(LJ90=\"\", LOOKUP(2, 1/(LJ$17:LJ89<>\"\"), LJ$17:LJ89), LJ90))","v":0},null,null,null,null,128,"",null,null,{"$f":"IF(LS91=\"\", 0, LS91 - IF(LS90=\"\", LOOKUP(2, 1/(LS$17:LS89<>\"\"), LS$17:LS89), LS90))","v":0},null,null,null,null,128,"",null,null,{"$f":"IF(MB91=\"\", 0, MB91 - IF(MB90=\"\", LOOKUP(2, 1/(MB$17:MB89<>\"\"), MB$17:MB89), MB90))","v":0},null,null,null,null,128,"",null,null,{"$f":"IF(MK91=\"\", 0, MK91 - IF(MK90=\"\", LOOKUP(2, 1/(MK$17:MK89<>\"\"), MK$17:MK89), MK90))","v":0},null,null,null,null,128,"",null,null,{"$f":"IF(MT91=\"\", 0, MT91 - IF(MT90=\"\", LOOKUP(2, 1/(MT$17:MT89<>\"\"), MT$17:MT89), MT90))","v":0},null,null,128,"",null,null,{"$f":"IF(NA91=\"\", 0, NA91 - IF(NA90=\"\", LOOKUP(2, 1/(NA$17:NA89<>\"\"), NA$17:NA89), NA90))","v":0},null,null,null,null,128,"",null,null,{"$f":"IF(NJ91=\"\", 0, NJ91 - IF(NJ90=\"\", LOOKUP(2, 1/(NJ$17:NJ89<>\"\"), NJ$17:NJ89), NJ90))","v":0},null,null,null,null,128,"",null,null,{"$f":"IF(NS91=\"\", 0, NS91 - IF(NS90=\"\", LOOKUP(2, 1/(NS$17:NS89<>\"\"), NS$17:NS89), NS90))","v":0},null,null,null,null,128,"",null,null,{"$f":"IF(OB91=\"\", 0, OB91 - IF(OB90=\"\", LOOKUP(2, 1/(OB$17:OB89<>\"\"), OB$17:OB89), OB90))","v":0},null,null,null,null,128,"",null,null,{"$f":"IF(OK91=\"\", 0, OK91 - IF(OK90=\"\", LOOKUP(2, 1/(OK$17:OK89<>\"\"), OK$17:OK89), OK90))","v":0},null,null,null,null,128,"",null,null,{"$f":"IF(OT91=\"\", 0, OT91 - IF(OT90=\"\", LOOKUP(2, 1/(OT$17:OT89<>\"\"), OT$17:OT89), OT90))","v":0},null,null,null,null,128,"",null,null,{"$f":"IF(PC91=\"\", 0, PC91 - IF(PC90=\"\", LOOKUP(2, 1/(PC$17:PC89<>\"\"), PC$17:PC89), PC90))","v":0},null,null,null,null,128,"",null,null,{"$f":"IF(PL91=\"\", 0, PL91 - IF(PL90=\"\", LOOKUP(2, 1/(PL$17:PL89<>\"\"), PL$17:PL89), PL90))","v":0},null,null,null,null,128,"",null,null,{"$f":"IF(PU91=\"\", 0, PU91 - IF(PU90=\"\", LOOKUP(2, 1/(PU$17:PU89<>\"\"), PU$17:PU89), PU90))","v":0},null,null,null,null,128,"",null,null,{"$f":"IF(QD91=\"\", 0, QD91 - IF(QD90=\"\", LOOKUP(2, 1/(QD$17:QD89<>\"\"), QD$17:QD89), QD90))","v":0}]
[null,null,null,127,"",null,null,{"$f":"IF(G92=\"\", 0, G92 - IF(G91=\"\", LOOKUP(2, 1/(G$17:G90<>\"\"), G$17:G90), G91))","v":0},null,null,null,null,127,"",null,null,{"$f":"IF(P92=\"\", 0, P92 - IF(P91=\"\", LOOKUP(2, 1/(P$17:P90<>\"\"), P$17:P90), P91))","v":0},null,null,null,null,127,"",null,null,{"$f":"IF(Y92=\"\", 0, Y92 - IF(Y91=\"\", LOOKUP(2, 1/(Y$17:Y90<>\"\"), Y$17:Y90), Y91))","v":0},null,null,null,null,127,"",null,null,{"$f":"IF(AH92=\"\", 0, AH92 - IF(AH91=\"\", LOOKUP(2, 1/(AH$17:AH90<>\"\"), AH$17:AH90), AH91))","v":0},null,null,null,null,127,"",null,null,{"$f":"IF(AQ92=\"\", 0, AQ92 - IF(AQ91=\"\", LOOKUP(2, 1/(AQ$17:AQ90<>\"\"), AQ$17:AQ90), AQ91))","v":0},null,null,null,null,127,"",null,null,{"$f":"IF(AZ92=\"\", 0, AZ92 - IF(AZ91=\"\", LOOKUP(2, 1/(AZ$17:AZ90<>\"\"), AZ$17:AZ90), AZ91))","v":0},null,null,null,null,127,"",null,null,{"$f":"IF(BI92=\"\", 0, BI92 - IF(BI91=\"\", LOOKUP(2, 1/(BI$17:BI90<>\"\"), BI$17:BI90), BI91))","v":0},null,null,null,null,127,"",null,null,{"$f":"IF(BR92=\"\", 0, BR92 - IF(BR91=\"\", LOOKUP(2, 1/(BR$17:BR90<>\"\"), BR$17:BR90), BR91))","v":0},null,null,null,null,127,"",null,null,{"$f":"IF(CA92=\"\", 0, CA92 - IF(CA91=\"\", LOOKUP(2, 1/(CA$17:CA90<>\"\"), CA$17:CA90), CA91))","v":0},null,null,null,null,127,"",null,null,{"$f":"IF(CJ92=\"\", 0, CJ92 - IF(CJ91=\"\", LOOKUP(2, 1/(CJ$17:CJ90<>\"\"), CJ$17:CJ90), CJ91))","v":0},null,null,null,null,127,"",null,null,{"$f":"IF(CS92=\"\", 0, CS92 - IF(CS91=\"\", LOOKUP(2, 1/(CS$17:CS90<>\"\"), CS$17:CS90), CS91))","v":0},null,null,null,null,127,"",null,null,{"$f":"IF(DB92=\"\", 0, DB92 - IF(DB91=\"\", LOOKUP(2, 1/(DB$17:DB90<>\"\"), DB$17:DB90), DB91))","v":0},null,null,null,null,127,"",null,null,{"$f":"IF(DK92=\"\", 0, DK92 - IF(DK91=\"\", LOOKUP(2, 1/(DK$17:DK90<>\"\"), DK$17:DK90), DK91))","v":0},null,null,null,null,127,"",null,null,{"$f":"IF(DT92=\"\", 0, DT92 - IF(DT91=\"\", LOOKUP(2, 1/(DT$17:DT90<>\"\"), DT$17:DT90), DT91))","v":0},null,null,null,null,127,"",null,null,{"$f":"IF(EC92=\"\", 0, EC92 - IF(EC91=\"\", LOOKUP(2, 1/(EC$17:EC90<>\"\"), EC$17:EC90), EC91))","v":0},null,null,null,null,127,"",null,null,{"$f":"IF(EL92=\"\", 0, EL92 - IF(EL91=\"\", LOOKUP(2, 1/(EL$17:EL90<>\"\"), EL$17:EL90), EL91))","v":0},null,null,null,null,127,"",null,null,{"$f":"IF(EU92=\"\", 0, EU92 - IF(EU91=\"\", LOOKUP(2, 1/(EU$17:EU90<>\"\"), EU$17:EU90), EU91))","v":0},null,null,null,null,127,"",null,null,{"$f":"IF(FD92=\"\", 0, FD92 - IF(FD91=\"\", LOOKUP(2, 1/(FD$17:FD90<>\"\"), FD$17:FD90), FD91))","v":0},null,null,null,null,127,"",null,null,{"$f":"IF(FM92=\"\", 0, FM92 - IF(FM91=\"\", LOOKUP(2, 1/(FM$17:FM90<>\"\"), FM$17:FM90), FM91))","v":0},null,null,null,null,127,"",null,null,{"$f":"IF(FV92=\"\", 0, FV92 - IF(FV91=\"\", LOOKUP(2, 1/(FV$17:FV90<>\"\"), FV$17:FV90), FV91))","v":0},null,null,null,null,127,"",null,null,{"$f":"IF(GE92=\"\", 0, GE92 - IF(GE91=\"\", LOOKUP(2, 1/(GE$17:GE90<>\"\"), GE$17:GE90), GE91))","v":0},null,null,null,null,127,"",null,null,{"$f":"IF(GN92=\"\", 0, GN92 - IF(GN91=\"\", LOOKUP(2, 1/(GN$17:GN90<>\"\"), GN$17:GN90), GN91))","v":0},null,null,null,null,127,"",null,null,{"$f":"IF(GW92=\"\", 0, GW92 - IF(GW91=\"\", LOOKUP(2, 1/(GW$17:GW90<>\"\"), GW$17:GW90), GW91))","v":0},null,null,null,null,127,"",null,null,{"$f":"IF(HF92=\"\", 0, HF92 - IF(HF91=\"\", LOOKUP(2, 1/(HF$17:HF90<>\"\"), HF$17:HF90), HF91))","v":0},null,null,null,null,127,"",null,null,{"$f":"IF(HO92=\"\", 0, HO92 - IF(HO91=\"\", LOOKUP(2, 1/(HO$17:HO90<>\"\"), HO$17:HO90), HO91))","v":0},null,null,null,null,127,"",null,null,{"$f":"IF(HX92=\"\", 0, HX92 - IF(HX91=\"\", LOOKUP(2, 1/(HX$17:HX90<>\"\"), HX$17:HX90), HX91))","v":0},null,null,null,null,127,"",null,null,{"$f":"IF(IG92=\"\", 0, IG92 - IF(IG91=\"\", LOOKUP(2, 1/(IG$17:IG90<>\"\"), IG$17:IG90), IG91))","v":0},null,null,null,null,127,"",null,null,{"$f":"IF(IP92=\"\", 0, IP92 - IF(IP91=\"\", LOOKUP(2, 1/(IP$17:IP90<>\"\"), IP$17:IP90), IP91))","v":0},null,null,null,null,127,"",null,null,{"$f":"IF(IY92=\"\", 0, IY92 - IF(IY91=\"\", LOOKUP(2, 1/(IY$17:IY90<>\"\"), IY$17:IY90), IY91))","v":0},null,null,null,null,127,"",null,null,{"$f":"IF(JH92=\"\", 0, JH92 - IF(JH91=\"\", LOOKUP(2, 1/(JH$17:JH90<>\"\"), JH$17:JH90), JH91))","v":0},null,null,null,null,127,"",null,null,{"$f":"IF(JQ92=\"\", 0, JQ92 - IF(JQ91=\"\", LOOKUP(2, 1/(JQ$17:JQ90<>\"\"), JQ$17:JQ90), JQ91))","v":0},null,null,null,null,127,"",null,null,{"$f":"IF(JZ92=\"\", 0, JZ92 - IF(JZ91=\"\", LOOKUP(2, 1/(JZ$17:JZ90<>\"\"), JZ$17:JZ90), JZ91))","v":0},null,null,null,null,127,"",null,null,{"$f":"IF(KI92=\"\", 0, KI92 - IF(KI91=\"\", LOOKUP(2, 1/(KI$17:KI90<>\"\"), KI$17:KI90), KI91))","v":0},null,null,null,null,127,"",null,null,{"$f":"IF(KR92=\"\", 0, KR92 - IF(KR91=\"\", LOOKUP(2, 1/(KR$17:KR90<>\"\"), KR$17:KR90), KR91))","v":0},null,null,null,null,127,"",null,null,{"$f":"IF(LA92=\"\", 0, LA92 - IF(LA91=\"\", LOOKUP(2, 1/(LA$17:LA90<>\"\"), LA$17:LA90), LA91))","v":0},null,null,null,null,127,"",null,null,{"$f":"IF(LJ92=\"\", 0, LJ92 - IF(LJ91=\"\", LOOKUP(2, 1/(LJ$17:LJ90<>\"\"), LJ$17:LJ90), LJ91))","v":0},null,null,null,null,127,"",null,null,{"$f":"IF(LS92=\"\", 0, LS92 - IF(LS91=\"\", LOOKUP(2, 1/(LS$17:LS90<>\"\"), LS$17:LS90), LS91))","v":0},null,null,null,null,127,"",null,null,{"$f":"IF(MB92=\"\", 0, MB92 - IF(MB91=\"\", LOOKUP(2, 1/(MB$17:MB90<>\"\"), MB$17:MB90), MB91))","v":0},null,null,null,null,127,"",null,null,{"$f":"IF(MK92=\"\", 0, MK92 - IF(MK91=\"\", LOOKUP(2, 1/(MK$17:MK90<>\"\"), MK$17:MK90), MK91))","v":0},null,null,null,null,127,"",null,null,{"$f":"IF(MT92=\"\", 0, MT92 - IF(MT91=\"\", LOOKUP(2, 1/(MT$17:MT90<>\"\"), MT$17:MT90), MT91))","v":0},null,null,127,"",null,null,{"$f":"IF(NA92=\"\", 0, NA92 - IF(NA91=\"\", LOOKUP(2, 1/(NA$17:NA90<>\"\"), NA$17:NA90), NA91))","v":0},null,null,null,null,127,"",null,null,{"$f":"IF(NJ92=\"\", 0, NJ92 - IF(NJ91=\"\", LOOKUP(2, 1/(NJ$17:NJ90<>\"\"), NJ$17:NJ90), NJ91))","v":0},null,null,null,null,127,"",null,null,{"$f":"IF(NS92=\"\", 0, NS92 - IF(NS91=\"\", LOOKUP(2, 1/(NS$17:NS90<>\"\"), NS$17:NS90), NS91))","v":0},null,null,null,null,127,"",null,null,{"$f":"IF(OB92=\"\", 0, OB92 - IF(OB91=\"\", LOOKUP(2, 1/(OB$17:OB90<>\"\"), OB$17:OB90), OB91))","v":0},null,null,null,null,127,"",null,null,{"$f":"IF(OK92=\"\", 0, OK92 - IF(OK91=\"\", LOOKUP(2, 1/(OK$17:OK90<>\"\"), OK$17:OK90), OK91))","v":0},null,null,null,null,127,"",null,null,{"$f":"IF(OT92=\"\", 0, OT92 - IF(OT91=\"\", LOOKUP(2, 1/(OT$17:OT90<>\"\"), OT$17:OT90), OT91))","v":0},null,null,null,null,127,"",null,null,{"$f":"IF(PC92=\"\", 0, PC92 - IF(PC91=\"\", LOOKUP(2, 1/(PC$17:PC90<>\"\"), PC$17:PC90), PC91))","v":0},null,null,null,null,127,"",null,null,{"$f":"IF(PL92=\"\", 0, PL92 - IF(PL91=\"\", LOOKUP(2, 1/(PL$17:PL90<>\"\"), PL$17:PL90), PL91))","v":0},null,null,null,null,127,"",null,null,{"$f":"IF(PU92=\"\", 0, PU92 - IF(PU91=\"\", LOOKUP(2, 1/(PU$17:PU90<>\"\"), PU$17:PU90), PU91))","v":0},null,null,null,null,127,"",null,null,{"$f":"IF(QD92=\"\", 0, QD92 - IF(QD91=\"\", LOOKUP(2, 1/(QD$17:QD90<>\"\"), QD$17:QD90), QD91))","v":0}]
[null,null,null,126,"",null,null,{"$f":"IF(G93=\"\", 0, G93 - IF(G92=\"\", LOOKUP(2, 1/(G$17:G91<>\"\"), G$17:G91), G92))","v":0},null,null,null,null,126,"",null,null,{"$f":"IF(P93=\"\", 0, P93 - IF(P92=\"\", LOOKUP(2, 1/(P$17:P91<>\"\"), P$17:P91), P92))","v":0},null,null,null,null,126,"",null,null,{"$f":"IF(Y93=\"\", 0, Y93 - IF(Y92=\"\", LOOKUP(2, 1/(Y$17:Y91<>\"\"), Y$17:Y91), Y92))","v":0},null,null,null,null,126,"",null,null,{"$f":"IF(AH93=\"\", 0, AH93 - IF(AH92=\"\", LOOKUP(2, 1/(AH$17:AH91<>\"\"), AH$17:AH91), AH92))","v":0},null,null,null,null,126,"",null,null,{"$f":"IF(AQ93=\"\", 0, AQ93 - IF(AQ92=\"\", LOOKUP(2, 1/(AQ$17:AQ91<>\"\"), AQ$17:AQ91), AQ92))","v":0},null,null,null,null,126,"",null,null,{"$f":"IF(AZ93=\"\", 0, AZ93 - IF(AZ92=\"\", LOOKUP(2, 1/(AZ$17:AZ91<>\"\"), AZ$17:AZ91), AZ92))","v":0},null,null,null,null,126,"",null,null,{"$f":"IF(BI93=\"\", 0, BI93 - IF(BI92=\"\", LOOKUP(2, 1/(BI$17:BI91<>\"\"), BI$17:BI91), BI92))","v":0},null,null,null,null,126,"",null,null,{"$f":"IF(BR93=\"\", 0, BR93 - IF(BR92=\"\", LOOKUP(2, 1/(BR$17:BR91<>\"\"), BR$17:BR91), BR92))","v":0},null,null,null,null,126,"",null,null,{"$f":"IF(CA93=\"\", 0, CA93 - IF(CA92=\"\", LOOKUP(2, 1/(CA$17:CA91<>\"\"), CA$17:CA91), CA92))","v":0},null,null,null,null,126,"",null,null,{"$f":"IF(CJ93=\"\", 0, CJ93 - IF(CJ92=\"\", LOOKUP(2, 1/(CJ$17:CJ91<>\"\"), CJ$17:CJ91), CJ92))","v":0},null,null,null,null,126,"",null,null,{"$f":"IF(CS93=\"\", 0, CS93 - IF(CS92=\"\", LOOKUP(2, 1/(CS$17:CS91<>\"\"), CS$17:CS91), CS92))","v":0},null,null,null,null,126,"",null,null,{"$f":"IF(DB93=\"\", 0, DB93 - IF(DB92=\"\", LOOKUP(2, 1/(DB$17:DB91<>\"\"), DB$17:DB91), DB92))","v":0},null,null,null,null,126,"",null,null,{"$f":"IF(DK93=\"\", 0, DK93 - IF(DK92=\"\", LOOKUP(2, 1/(DK$17:DK91<>\"\"), DK$17:DK91), DK92))","v":0},null,null,null,null,126,"",null,null,{"$f":"IF(DT93=\"\", 0, DT93 - IF(DT92=\"\", LOOKUP(2, 1/(DT$17:DT91<>\"\"), DT$17:DT91), DT92))","v":0},null,null,null,null,126,"",null,null,{"$f":"IF(EC93=\"\", 0, EC93 - IF(EC92=\"\", LOOKUP(2, 1/(EC$17:EC91<>\"\"), EC$17:EC91), EC92))","v":0},null,null,null,null,126,"",null,null,{"$f":"IF(EL93=\"\", 0, EL93 - IF(EL92=\"\", LOOKUP(2, 1/(EL$17:EL91<>\"\"), EL$17:EL91), EL92))","v":0},null,null,null,null,126,"",null,null,{"$f":"IF(EU93=\"\", 0, EU93 - IF(EU92=\"\", LOOKUP(2, 1/(EU$17:EU91<>\"\"), EU$17:EU91), EU92))","v":0},null,null,null,null,126,"",null,null,{"$f":"IF(FD93=\"\", 0, FD93 - IF(FD92=\"\", LOOKUP(2, 1/(FD$17:FD91<>\"\"), FD$17:FD91), FD92))","v":0},null,null,null,null,126,"",null,null,{"$f":"IF(FM93=\"\", 0, FM93 - IF(FM92=\"\", LOOKUP(2, 1/(FM$17:FM91<>\"\"), FM$17:FM91), FM92))","v":0},null,null,null,null,126,"",null,null,{"$f":"IF(FV93=\"\", 0, FV93 - IF(FV92=\"\", LOOKUP(2, 1/(FV$17:FV91<>\"\"), FV$17:FV91), FV92))","v":0},null,null,null,null,126,"",null,null,{"$f":"IF(GE93=\"\", 0, GE93 - IF(GE92=\"\", LOOKUP(2, 1/(GE$17:GE91<>\"\"), GE$17:GE91), GE92))","v":0},null,null,null,null,126,"",null,null,{"$f":"IF(GN93=\"\", 0, GN93 - IF(GN92=\"\", LOOKUP(2, 1/(GN$17:GN91<>\"\"), GN$17:GN91), GN92))","v":0},null,null,null,null,126,"",null,null,{"$f":"IF(GW93=\"\", 0, GW93 - IF(GW92=\"\", LOOKUP(2, 1/(GW$17:GW91<>\"\"), GW$17:GW91), GW92))","v":0},null,null,null,null,126,"",null,null,{"$f":"IF(HF93=\"\", 0, HF93 - IF(HF92=\"\", LOOKUP(2, 1/(HF$17:HF91<>\"\"), HF$17:HF91), HF92))","v":0},null,null,null,null,126,"",null,null,{"$f":"IF(HO93=\"\", 0, HO93 - IF(HO92=\"\", LOOKUP(2, 1/(HO$17:HO91<>\"\"), HO$17:HO91), HO92))","v":0},null,null,null,null,126,"",null,null,{"$f":"IF(HX93=\"\", 0, HX93 - IF(HX92=\"\", LOOKUP(2, 1/(HX$17:HX91<>\"\"), HX$17:HX91), HX92))","v":0},null,null,null,null,126,"",null,null,{"$f":"IF(IG93=\"\", 0, IG93 - IF(IG92=\"\", LOOKUP(2, 1/(IG$17:IG91<>\"\"), IG$17:IG91), IG92))","v":0},null,null,null,null,126,"",null,null,{"$f":"IF(IP93=\"\", 0, IP93 - IF(IP92=\"\", LOOKUP(2, 1/(IP$17:IP91<>\"\"), IP$17:IP91), IP92))","v":0},null,null,null,null,126,"",null,null,{"$f":"IF(IY93=\"\", 0, IY93 - IF(IY92=\"\", LOOKUP(2, 1/(IY$17:IY91<>\"\"), IY$17:IY91), IY92))","v":0},null,null,null,null,126,"",null,null,{"$f":"IF(JH93=\"\", 0, JH93 - IF(JH92=\"\", LOOKUP(2, 1/(JH$17:JH91<>\"\"), JH$17:JH91), JH92))","v":0},null,null,null,null,126,"",null,null,{"$f":"IF(JQ93=\"\", 0, JQ93 - IF(JQ92=\"\", LOOKUP(2, 1/(JQ$17:JQ91<>\"\"), JQ$17:JQ91), JQ92))","v":0},null,null,null,null,126,"",null,null,{"$f":"IF(JZ93=\"\", 0, JZ93 - IF(JZ92=\"\", LOOKUP(2, 1/(JZ$17:JZ91<>\"\"), JZ$17:JZ91), JZ92))","v":0},null,null,null,null,126,"",null,null,{"$f":"IF(KI93=\"\", 0, KI93 - IF(KI92=\"\", LOOKUP(2, 1/(KI$17:KI91<>\"\"), KI$17:KI91), KI92))","v":0},null,null,null,null,126,"",null,null,{"$f":"IF(KR93=\"\", 0, KR93 - IF(KR92=\"\", LOOKUP(2, 1/(KR$17:KR91<>\"\"), KR$17:KR91), KR92))","v":0},null,null,null,null,126,"",null,null,{"$f":"IF(LA93=\"\", 0, LA93 - IF(LA92=\"\", LOOKUP(2, 1/(LA$17:LA91<>\"\"), LA$17:LA91), LA92))","v":0},null,null,null,null,126,"",null,null,{"$f":"IF(LJ93=\"\", 0, LJ93 - IF(LJ92=\"\", LOOKUP(2, 1/(LJ$17:LJ91<>\"\"), LJ$17:LJ91), LJ92))","v":0},null,null,null,null,126,"",null,null,{"$f":"IF(LS93=\"\", 0, LS93 - IF(LS92=\"\", LOOKUP(2, 1/(LS$17:LS91<>\"\"), LS$17:LS91), LS92))","v":0},null,null,null,null,126,"",null,null,{"$f":"IF(MB93=\"\", 0, MB93 - IF(MB92=\"\", LOOKUP(2, 1/(MB$17:MB91<>\"\"), MB$17:MB91), MB92))","v":0},null,null,null,null,126,"",null,null,{"$f":"IF(MK93=\"\", 0, MK93 - IF(MK92=\"\", LOOKUP(2, 1/(MK$17:MK91<>\"\"), MK$17:MK91), MK92))","v":0},null,null,null,null,126,"",null,null,{"$f":"IF(MT93=\"\", 0, MT93 - IF(MT92=\"\", LOOKUP(2, 1/(MT$17:MT91<>\"\"), MT$17:MT91), MT92))","v":0},null,null,126,"",null,null,{"$f":"IF(NA93=\"\", 0, NA93 - IF(NA92=\"\", LOOKUP(2, 1/(NA$17:NA91<>\"\"), NA$17:NA91), NA92))","v":0},null,null,null,null,126,"",null,null,{"$f":"IF(NJ93=\"\", 0, NJ93 - IF(NJ92=\"\", LOOKUP(2, 1/(NJ$17:NJ91<>\"\"), NJ$17:NJ91), NJ92))","v":0},null,null,null,null,126,"",null,null,{"$f":"IF(NS93=\"\", 0, NS93 - IF(NS92=\"\", LOOKUP(2, 1/(NS$17:NS91<>\"\"), NS$17:NS91), NS92))","v":0},null,null,null,null,126,"",null,null,{"$f":"IF(OB93=\"\", 0, OB93 - IF(OB92=\"\", LOOKUP(2, 1/(OB$17:OB91<>\"\"), OB$17:OB91), OB92))","v":0},null,null,null,null,126,"",null,null,{"$f":"IF(OK93=\"\", 0, OK93 - IF(OK92=\"\", LOOKUP(2, 1/(OK$17:OK91<>\"\"), OK$17:OK91), OK92))","v":0},null,null,null,null,126,"",null,null,{"$f":"IF(OT93=\"\", 0, OT93 - IF(OT92=\"\", LOOKUP(2, 1/(OT$17:OT91<>\"\"), OT$17:OT91), OT92))","v":0},null,null,null,null,126,"",null,null,{"$f":"IF(PC93=\"\", 0, PC93 - IF(PC92=\"\", LOOKUP(2, 1/(PC$17:PC91<>\"\"), PC$17:PC91), PC92))","v":0},null,null,null,null,126,"",null,null,{"$f":"IF(PL93=\"\", 0, PL93 - IF(PL92=\"\", LOOKUP(2, 1/(PL$17:PL91<>\"\"), PL$17:PL91), PL92))","v":0},null,null,null,null,126,"",null,null,{"$f":"IF(PU93=\"\", 0, PU93 - IF(PU92=\"\", LOOKUP(2, 1/(PU$17:PU91<>\"\"), PU$17:PU91), PU92))","v":0},null,null,null,null,126,"",null,null,{"$f":"IF(QD93=\"\", 0, QD93 - IF(QD92=\"\", LOOKUP(2, 1/(QD$17:QD91<>\"\"), QD$17:QD91), QD92))","v":0}]
[null,null,null,125,"",null,null,{"$f":"IF(G94=\"\", 0, G94 - IF(G93=\"\", LOOKUP(2, 1/(G$17:G92<>\"\"), G$17:G92), G93))","v":0},null,null,null,null,125,"",null,null,{"$f":"IF(P94=\"\", 0, P94 - IF(P93=\"\", LOOKUP(2, 1/(P$17:P92<>\"\"), P$17:P92), P93))","v":0},null,null,null,null,125,"",null,null,{"$f":"IF(Y94=\"\", 0, Y94 - IF(Y93=\"\", LOOKUP(2, 1/(Y$17:Y92<>\"\"), Y$17:Y92), Y93))","v":0},null,null,null,null,125,"",null,null,{"$f":"IF(AH94=\"\", 0, AH94 - IF(AH93=\"\", LOOKUP(2, 1/(AH$17:AH92<>\"\"), AH$17:AH92), AH93))","v":0},null,null,null,null,125,"",null,null,{"$f":"IF(AQ94=\"\", 0, AQ94 - IF(AQ93=\"\", LOOKUP(2, 1/(AQ$17:AQ92<>\"\"), AQ$17:AQ92), AQ93))","v":0},null,null,null,null,125,"",null,null,{"$f":"IF(AZ94=\"\", 0, AZ94 - IF(AZ93=\"\", LOOKUP(2, 1/(AZ$17:AZ92<>\"\"), AZ$17:AZ92), AZ93))","v":0},null,null,null,null,125,"",null,null,{"$f":"IF(BI94=\"\", 0, BI94 - IF(BI93=\"\", LOOKUP(2, 1/(BI$17:BI92<>\"\"), BI$17:BI92), BI93))","v":0},null,null,null,null,125,"",null,null,{"$f":"IF(BR94=\"\", 0, BR94 - IF(BR93=\"\", LOOKUP(2, 1/(BR$17:BR92<>\"\"), BR$17:BR92), BR93))","v":0},null,null,null,null,125,"",null,null,{"$f":"IF(CA94=\"\", 0, CA94 - IF(CA93=\"\", LOOKUP(2, 1/(CA$17:CA92<>\"\"), CA$17:CA92), CA93))","v":0},null,null,null,null,125,"",null,null,{"$f":"IF(CJ94=\"\", 0, CJ94 - IF(CJ93=\"\", LOOKUP(2, 1/(CJ$17:CJ92<>\"\"), CJ$17:CJ92), CJ93))","v":0},null,null,null,null,125,"",null,null,{"$f":"IF(CS94=\"\", 0, CS94 - IF(CS93=\"\", LOOKUP(2, 1/(CS$17:CS92<>\"\"), CS$17:CS92), CS93))","v":0},null,null,null,null,125,"",null,null,{"$f":"IF(DB94=\"\", 0, DB94 - IF(DB93=\"\", LOOKUP(2, 1/(DB$17:DB92<>\"\"), DB$17:DB92), DB93))","v":0},null,null,null,null,125,"",null,null,{"$f":"IF(DK94=\"\", 0, DK94 - IF(DK93=\"\", LOOKUP(2, 1/(DK$17:DK92<>\"\"), DK$17:DK92), DK93))","v":0},null,null,null,null,125,"",null,null,{"$f":"IF(DT94=\"\", 0, DT94 - IF(DT93=\"\", LOOKUP(2, 1/(DT$17:DT92<>\"\"), DT$17:DT92), DT93))","v":0},null,null,null,null,125,"",null,null,{"$f":"IF(EC94=\"\", 0, EC94 - IF(EC93=\"\", LOOKUP(2, 1/(EC$17:EC92<>\"\"), EC$17:EC92), EC93))","v":0},null,null,null,null,125,"",null,null,{"$f":"IF(EL94=\"\", 0, EL94 - IF(EL93=\"\", LOOKUP(2, 1/(EL$17:EL92<>\"\"), EL$17:EL92), EL93))","v":0},null,null,null,null,125,"",null,null,{"$f":"IF(EU94=\"\", 0, EU94 - IF(EU93=\"\", LOOKUP(2, 1/(EU$17:EU92<>\"\"), EU$17:EU92), EU93))","v":0},null,null,null,null,125,"",null,null,{"$f":"IF(FD94=\"\", 0, FD94 - IF(FD93=\"\", LOOKUP(2, 1/(FD$17:FD92<>\"\"), FD$17:FD92), FD93))","v":0},null,null,null,null,125,"",null,null,{"$f":"IF(FM94=\"\", 0, FM94 - IF(FM93=\"\", LOOKUP(2, 1/(FM$17:FM92<>\"\"), FM$17:FM92), FM93))","v":0},null,null,null,null,125,"",null,null,{"$f":"IF(FV94=\"\", 0, FV94 - IF(FV93=\"\", LOOKUP(2, 1/(FV$17:FV92<>\"\"), FV$17:FV92), FV93))","v":0},null,null,null,null,125,"",null,null,{"$f":"IF(GE94=\"\", 0, GE94 - IF(GE93=\"\", LOOKUP(2, 1/(GE$17:GE92<>\"\"), GE$17:GE92), GE93))","v":0},null,null,null,null,125,"",null,null,{"$f":"IF(GN94=\"\", 0, GN94 - IF(GN93=\"\", LOOKUP(2, 1/(GN$17:GN92<>\"\"), GN$17:GN92), GN93))","v":0},null,null,null,null,125,"",null,null,{"$f":"IF(GW94=\"\", 0, GW94 - IF(GW93=\"\", LOOKUP(2, 1/(GW$17:GW92<>\"\"), GW$17:GW92), GW93))","v":0},null,null,null,null,125,"",null,null,{"$f":"IF(HF94=\"\", 0, HF94 - IF(HF93=\"\", LOOKUP(2, 1/(HF$17:HF92<>\"\"), HF$17:HF92), HF93))","v":0},null,null,null,null,125,"",null,null,{"$f":"IF(HO94=\"\", 0, HO94 - IF(HO93=\"\", LOOKUP(2, 1/(HO$17:HO92<>\"\"), HO$17:HO92), HO93))","v":0},null,null,null,null,125,"",null,null,{"$f":"IF(HX94=\"\", 0, HX94 - IF(HX93=\"\", LOOKUP(2, 1/(HX$17:HX92<>\"\"), HX$17:HX92), HX93))","v":0},null,null,null,null,125,"",null,null,{"$f":"IF(IG94=\"\", 0, IG94 - IF(IG93=\"\", LOOKUP(2, 1/(IG$17:IG92<>\"\"), IG$17:IG92), IG93))","v":0},null,null,null,null,125,"",null,null,{"$f":"IF(IP94=\"\", 0, IP94 - IF(IP93=\"\", LOOKUP(2, 1/(IP$17:IP92<>\"\"), IP$17:IP92), IP93))","v":0},null,null,null,null,125,"",null,null,{"$f":"IF(IY94=\"\", 0, IY94 - IF(IY93=\"\", LOOKUP(2, 1/(IY$17:IY92<>\"\"), IY$17:IY92), IY93))","v":0},null,null,null,null,125,"",null,null,{"$f":"IF(JH94=\"\", 0, JH94 - IF(JH93=\"\", LOOKUP(2, 1/(JH$17:JH92<>\"\"), JH$17:JH92), JH93))","v":0},null,null,null,null,125,"",null,null,{"$f":"IF(JQ94=\"\", 0, JQ94 - IF(JQ93=\"\", LOOKUP(2, 1/(JQ$17:JQ92<>\"\"), JQ$17:JQ92), JQ93))","v":0},null,null,null,null,125,"",null,null,{"$f":"IF(JZ94=\"\", 0, JZ94 - IF(JZ93=\"\", LOOKUP(2, 1/(JZ$17:JZ92<>\"\"), JZ$17:JZ92), JZ93))","v":0},null,null,null,null,125,"",null,null,{"$f":"IF(KI94=\"\", 0, KI94 - IF(KI93=\"\", LOOKUP(2, 1/(KI$17:KI92<>\"\"), KI$17:KI92), KI93))","v":0},null,null,null,null,125,"",null,null,{"$f":"IF(KR94=\"\", 0, KR94 - IF(KR93=\"\", LOOKUP(2, 1/(KR$17:KR92<>\"\"), KR$17:KR92), KR93))","v":0},null,null,null,null,125,"",null,null,{"$f":"IF(LA94=\"\", 0, LA94 - IF(LA93=\"\", LOOKUP(2, 1/(LA$17:LA92<>\"\"), LA$17:LA92), LA93))","v":0},null,null,null,null,125,"",null,null,{"$f":"IF(LJ94=\"\", 0, LJ94 - IF(LJ93=\"\", LOOKUP(2, 1/(LJ$17:LJ92<>\"\"), LJ$17:LJ92), LJ93))","v":0},null,null,null,null,125,"",null,null,{"$f":"IF(LS94=\"\", 0, LS94 - IF(LS93=\"\", LOOKUP(2, 1/(LS$17:LS92<>\"\"), LS$17:LS92), LS93))","v":0},null,null,null,null,125,"",null,null,{"$f":"IF(MB94=\"\", 0, MB94 - IF(MB93=\"\", LOOKUP(2, 1/(MB$17:MB92<>\"\"), MB$17:MB92), MB93))","v":0},null,null,null,null,125,"",null,null,{"$f":"IF(MK94=\"\", 0, MK94 - IF(MK93=\"\", LOOKUP(2, 1/(MK$17:MK92<>\"\"), MK$17:MK92), MK93))","v":0},null,null,null,null,125,"",null,null,{"$f":"IF(MT94=\"\", 0, MT94 - IF(MT93=\"\", LOOKUP(2, 1/(MT$17:MT92<>\"\"), MT$17:MT92), MT93))","v":0},null,null,125,"",null,null,{"$f":"IF(NA94=\"\", 0, NA94 - IF(NA93=\"\", LOOKUP(2, 1/(NA$17:NA92<>\"\"), NA$17:NA92), NA93))","v":0},null,null,null,null,125,"",null,null,{"$f":"IF(NJ94=\"\", 0, NJ94 - IF(NJ93=\"\", LOOKUP(2, 1/(NJ$17:NJ92<>\"\"), NJ$17:NJ92), NJ93))","v":0},null,null,null,null,125,"",null,null,{"$f":"IF(NS94=\"\", 0, NS94 - IF(NS93=\"\", LOOKUP(2, 1/(NS$17:NS92<>\"\"), NS$17:NS92), NS93))","v":0},null,null,null,null,125,"",null,null,{"$f":"IF(OB94=\"\", 0, OB94 - IF(OB93=\"\", LOOKUP(2, 1/(OB$17:OB92<>\"\"), OB$17:OB92), OB93))","v":0},null,null,null,null,125,"",null,null,{"$f":"IF(OK94=\"\", 0, OK94 - IF(OK93=\"\", LOOKUP(2, 1/(OK$17:OK92<>\"\"), OK$17:OK92), OK93))","v":0},null,null,null,null,125,"",null,null,{"$f":"IF(OT94=\"\", 0, OT94 - IF(OT93=\"\", LOOKUP(2, 1/(OT$17:OT92<>\"\"), OT$17:OT92), OT93))","v":0},null,null,null,null,125,"",null,null,{"$f":"IF(PC94=\"\", 0, PC94 - IF(PC93=\"\", LOOKUP(2, 1/(PC$17:PC92<>\"\"), PC$17:PC92), PC93))","v":0},null,null,null,null,125,"",null,null,{"$f":"IF(PL94=\"\", 0, PL94 - IF(PL93=\"\", LOOKUP(2, 1/(PL$17:PL92<>\"\"), PL$17:PL92), PL93))","v":0},null,null,null,null,125,"",null,null,{"$f":"IF(PU94=\"\", 0, PU94 - IF(PU93=\"\", LOOKUP(2, 1/(PU$17:PU92<>\"\"), PU$17:PU92), PU93))","v":0},null,null,null,null,125,"",null,null,{"$f":"IF(QD94=\"\", 0, QD94 - IF(QD93=\"\", LOOKUP(2, 1/(QD$17:QD92<>\"\"), QD$17:QD92), QD93))","v":0}]
[null,null,null,124,"",null,null,{"$f":"IF(G95=\"\", 0, G95 - IF(G94=\"\", LOOKUP(2, 1/(G$17:G93<>\"\"), G$17:G93), G94))","v":0},null,null,null,null,124,"",null,null,{"$f":"IF(P95=\"\", 0, P95 - IF(P94=\"\", LOOKUP(2, 1/(P$17:P93<>\"\"), P$17:P93), P94))","v":0},null,null,null,null,124,"",null,null,{"$f":"IF(Y95=\"\", 0, Y95 - IF(Y94=\"\", LOOKUP(2, 1/(Y$17:Y93<>\"\"), Y$17:Y93), Y94))","v":0},null,null,null,null,124,"",null,null,{"$f":"IF(AH95=\"\", 0, AH95 - IF(AH94=\"\", LOOKUP(2, 1/(AH$17:AH93<>\"\"), AH$17:AH93), AH94))","v":0},null,null,null,null,124,"",null,null,{"$f":"IF(AQ95=\"\", 0, AQ95 - IF(AQ94=\"\", LOOKUP(2, 1/(AQ$17:AQ93<>\"\"), AQ$17:AQ93), AQ94))","v":0},null,null,null,null,124,"",null,null,{"$f":"IF(AZ95=\"\", 0, AZ95 - IF(AZ94=\"\", LOOKUP(2, 1/(AZ$17:AZ93<>\"\"), AZ$17:AZ93), AZ94))","v":0},null,null,null,null,124,"",null,null,{"$f":"IF(BI95=\"\", 0, BI95 - IF(BI94=\"\", LOOKUP(2, 1/(BI$17:BI93<>\"\"), BI$17:BI93), BI94))","v":0},null,null,null,null,124,"",null,null,{"$f":"IF(BR95=\"\", 0, BR95 - IF(BR94=\"\", LOOKUP(2, 1/(BR$17:BR93<>\"\"), BR$17:BR93), BR94))","v":0},null,null,null,null,124,"",null,null,{"$f":"IF(CA95=\"\", 0, CA95 - IF(CA94=\"\", LOOKUP(2, 1/(CA$17:CA93<>\"\"), CA$17:CA93), CA94))","v":0},null,null,null,null,124,"",null,null,{"$f":"IF(CJ95=\"\", 0, CJ95 - IF(CJ94=\"\", LOOKUP(2, 1/(CJ$17:CJ93<>\"\"), CJ$17:CJ93), CJ94))","v":0},null,null,null,null,124,"",null,null,{"$f":"IF(CS95=\"\", 0, CS95 - IF(CS94=\"\", LOOKUP(2, 1/(CS$17:CS93<>\"\"), CS$17:CS93), CS94))","v":0},null,null,null,null,124,"",null,null,{"$f":"IF(DB95=\"\", 0, DB95 - IF(DB94=\"\", LOOKUP(2, 1/(DB$17:DB93<>\"\"), DB$17:DB93), DB94))","v":0},null,null,null,null,124,"",null,null,{"$f":"IF(DK95=\"\", 0, DK95 - IF(DK94=\"\", LOOKUP(2, 1/(DK$17:DK93<>\"\"), DK$17:DK93), DK94))","v":0},null,null,null,null,124,"",null,null,{"$f":"IF(DT95=\"\", 0, DT95 - IF(DT94=\"\", LOOKUP(2, 1/(DT$17:DT93<>\"\"), DT$17:DT93), DT94))","v":0},null,null,null,null,124,"",null,null,{"$f":"IF(EC95=\"\", 0, EC95 - IF(EC94=\"\", LOOKUP(2, 1/(EC$17:EC93<>\"\"), EC$17:EC93), EC94))","v":0},null,null,null,null,124,"",null,null,{"$f":"IF(EL95=\"\", 0, EL95 - IF(EL94=\"\", LOOKUP(2, 1/(EL$17:EL93<>\"\"), EL$17:EL93), EL94))","v":0},null,null,null,null,124,"",null,null,{"$f":"IF(EU95=\"\", 0, EU95 - IF(EU94=\"\", LOOKUP(2, 1/(EU$17:EU93<>\"\"), EU$17:EU93), EU94))","v":0},null,null,null,null,124,"",null,null,{"$f":"IF(FD95=\"\", 0, FD95 - IF(FD94=\"\", LOOKUP(2, 1/(FD$17:FD93<>\"\"), FD$17:FD93), FD94))","v":0},null,null,null,null,124,"",null,null,{"$f":"IF(FM95=\"\", 0, FM95 - IF(FM94=\"\", LOOKUP(2, 1/(FM$17:FM93<>\"\"), FM$17:FM93), FM94))","v":0},null,null,null,null,124,"",null,null,{"$f":"IF(FV95=\"\", 0, FV95 - IF(FV94=\"\", LOOKUP(2, 1/(FV$17:FV93<>\"\"), FV$17:FV93), FV94))","v":0},null,null,null,null,124,"",null,null,{"$f":"IF(GE95=\"\", 0, GE95 - IF(GE94=\"\", LOOKUP(2, 1/(GE$17:GE93<>\"\"), GE$17:GE93), GE94))","v":0},null,null,null,null,124,"",null,null,{"$f":"IF(GN95=\"\", 0, GN95 - IF(GN94=\"\", LOOKUP(2, 1/(GN$17:GN93<>\"\"), GN$17:GN93), GN94))","v":0},null,null,null,null,124,"",null,null,{"$f":"IF(GW95=\"\", 0, GW95 - IF(GW94=\"\", LOOKUP(2, 1/(GW$17:GW93<>\"\"), GW$17:GW93), GW94))","v":0},null,null,null,null,124,"",null,null,{"$f":"IF(HF95=\"\", 0, HF95 - IF(HF94=\"\", LOOKUP(2, 1/(HF$17:HF93<>\"\"), HF$17:HF93), HF94))","v":0},null,null,null,null,124,"",null,null,{"$f":"IF(HO95=\"\", 0, HO95 - IF(HO94=\"\", LOOKUP(2, 1/(HO$17:HO93<>\"\"), HO$17:HO93), HO94))","v":0},null,null,null,null,124,"",null,null,{"$f":"IF(HX95=\"\", 0, HX95 - IF(HX94=\"\", LOOKUP(2, 1/(HX$17:HX93<>\"\"), HX$17:HX93), HX94))","v":0},null,null,null,null,124,"",null,null,{"$f":"IF(IG95=\"\", 0, IG95 - IF(IG94=\"\", LOOKUP(2, 1/(IG$17:IG93<>\"\"), IG$17:IG93), IG94))","v":0},null,null,null,null,124,"",null,null,{"$f":"IF(IP95=\"\", 0, IP95 - IF(IP94=\"\", LOOKUP(2, 1/(IP$17:IP93<>\"\"), IP$17:IP93), IP94))","v":0},null,null,null,null,124,"",null,null,{"$f":"IF(IY95=\"\", 0, IY95 - IF(IY94=\"\", LOOKUP(2, 1/(IY$17:IY93<>\"\"), IY$17:IY93), IY94))","v":0},null,null,null,null,124,"",null,null,{"$f":"IF(JH95=\"\", 0, JH95 - IF(JH94=\"\", LOOKUP(2, 1/(JH$17:JH93<>\"\"), JH$17:JH93), JH94))","v":0},null,null,null,null,124,"",null,null,{"$f":"IF(JQ95=\"\", 0, JQ95 - IF(JQ94=\"\", LOOKUP(2, 1/(JQ$17:JQ93<>\"\"), JQ$17:JQ93), JQ94))","v":0},null,null,null,null,124,"",null,null,{"$f":"IF(JZ95=\"\", 0, JZ95 - IF(JZ94=\"\", LOOKUP(2, 1/(JZ$17:JZ93<>\"\"), JZ$17:JZ93), JZ94))","v":0},null,null,null,null,124,"",null,null,{"$f":"IF(KI95=\"\", 0, KI95 - IF(KI94=\"\", LOOKUP(2, 1/(KI$17:KI93<>\"\"), KI$17:KI93), KI94))","v":0},null,null,null,null,124,"",null,null,{"$f":"IF(KR95=\"\", 0, KR95 - IF(KR94=\"\", LOOKUP(2, 1/(KR$17:KR93<>\"\"), KR$17:KR93), KR94))","v":0},null,null,null,null,124,"",null,null,{"$f":"IF(LA95=\"\", 0, LA95 - IF(LA94=\"\", LOOKUP(2, 1/(LA$17:LA93<>\"\"), LA$17:LA93), LA94))","v":0},null,null,null,null,124,"",null,null,{"$f":"IF(LJ95=\"\", 0, LJ95 - IF(LJ94=\"\", LOOKUP(2, 1/(LJ$17:LJ93<>\"\"), LJ$17:LJ93), LJ94))","v":0},null,null,null,null,124,"",null,null,{"$f":"IF(LS95=\"\", 0, LS95 - IF(LS94=\"\", LOOKUP(2, 1/(LS$17:LS93<>\"\"), LS$17:LS93), LS94))","v":0},null,null,null,null,124,"",null,null,{"$f":"IF(MB95=\"\", 0, MB95 - IF(MB94=\"\", LOOKUP(2, 1/(MB$17:MB93<>\"\"), MB$17:MB93), MB94))","v":0},null,null,null,null,124,"",null,null,{"$f":"IF(MK95=\"\", 0, MK95 - IF(MK94=\"\", LOOKUP(2, 1/(MK$17:MK93<>\"\"), MK$17:MK93), MK94))","v":0},null,null,null,null,124,"",null,null,{"$f":"IF(MT95=\"\", 0, MT95 - IF(MT94=\"\", LOOKUP(2, 1/(MT$17:MT93<>\"\"), MT$17:MT93), MT94))","v":0},null,null,124,"",null,null,{"$f":"IF(NA95=\"\", 0, NA95 - IF(NA94=\"\", LOOKUP(2, 1/(NA$17:NA93<>\"\"), NA$17:NA93), NA94))","v":0},null,null,null,null,124,"",null,null,{"$f":"IF(NJ95=\"\", 0, NJ95 - IF(NJ94=\"\", LOOKUP(2, 1/(NJ$17:NJ93<>\"\"), NJ$17:NJ93), NJ94))","v":0},null,null,null,null,124,"",null,null,{"$f":"IF(NS95=\"\", 0, NS95 - IF(NS94=\"\", LOOKUP(2, 1/(NS$17:NS93<>\"\"), NS$17:NS93), NS94))","v":0},null,null,null,null,124,"",null,null,{"$f":"IF(OB95=\"\", 0, OB95 - IF(OB94=\"\", LOOKUP(2, 1/(OB$17:OB93<>\"\"), OB$17:OB93), OB94))","v":0},null,null,null,null,124,"",null,null,{"$f":"IF(OK95=\"\", 0, OK95 - IF(OK94=\"\", LOOKUP(2, 1/(OK$17:OK93<>\"\"), OK$17:OK93), OK94))","v":0},null,null,null,null,124,"",null,null,{"$f":"IF(OT95=\"\", 0, OT95 - IF(OT94=\"\", LOOKUP(2, 1/(OT$17:OT93<>\"\"), OT$17:OT93), OT94))","v":0},null,null,null,null,124,"",null,null,{"$f":"IF(PC95=\"\", 0, PC95 - IF(PC94=\"\", LOOKUP(2, 1/(PC$17:PC93<>\"\"), PC$17:PC93), PC94))","v":0},null,null,null,null,124,"",null,null,{"$f":"IF(PL95=\"\", 0, PL95 - IF(PL94=\"\", LOOKUP(2, 1/(PL$17:PL93<>\"\"), PL$17:PL93), PL94))","v":0},null,null,null,null,124,"",null,null,{"$f":"IF(PU95=\"\", 0, PU95 - IF(PU94=\"\", LOOKUP(2, 1/(PU$17:PU93<>\"\"), PU$17:PU93), PU94))","v":0},null,null,null,null,124,"",null,null,{"$f":"IF(QD95=\"\", 0, QD95 - IF(QD94=\"\", LOOKUP(2, 1/(QD$17:QD93<>\"\"), QD$17:QD93), QD94))","v":0}]
[null,null,null,123,"",null,null,{"$f":"IF(G96=\"\", 0, G96 - IF(G95=\"\", LOOKUP(2, 1/(G$17:G94<>\"\"), G$17:G94), G95))","v":0},null,null,null,null,123,"",null,null,{"$f":"IF(P96=\"\", 0, P96 - IF(P95=\"\", LOOKUP(2, 1/(P$17:P94<>\"\"), P$17:P94), P95))","v":0},null,null,null,null,123,"",null,null,{"$f":"IF(Y96=\"\", 0, Y96 - IF(Y95=\"\", LOOKUP(2, 1/(Y$17:Y94<>\"\"), Y$17:Y94), Y95))","v":0},null,null,null,null,123,"",null,null,{"$f":"IF(AH96=\"\", 0, AH96 - IF(AH95=\"\", LOOKUP(2, 1/(AH$17:AH94<>\"\"), AH$17:AH94), AH95))","v":0},null,null,null,null,123,"",null,null,{"$f":"IF(AQ96=\"\", 0, AQ96 - IF(AQ95=\"\", LOOKUP(2, 1/(AQ$17:AQ94<>\"\"), AQ$17:AQ94), AQ95))","v":0},null,null,null,null,123,"",null,null,{"$f":"IF(AZ96=\"\", 0, AZ96 - IF(AZ95=\"\", LOOKUP(2, 1/(AZ$17:AZ94<>\"\"), AZ$17:AZ94), AZ95))","v":0},null,null,null,null,123,"",null,null,{"$f":"IF(BI96=\"\", 0, BI96 - IF(BI95=\"\", LOOKUP(2, 1/(BI$17:BI94<>\"\"), BI$17:BI94), BI95))","v":0},null,null,null,null,123,"",null,null,{"$f":"IF(BR96=\"\", 0, BR96 - IF(BR95=\"\", LOOKUP(2, 1/(BR$17:BR94<>\"\"), BR$17:BR94), BR95))","v":0},null,null,null,null,123,"",null,null,{"$f":"IF(CA96=\"\", 0, CA96 - IF(CA95=\"\", LOOKUP(2, 1/(CA$17:CA94<>\"\"), CA$17:CA94), CA95))","v":0},null,null,null,null,123,"",null,null,{"$f":"IF(CJ96=\"\", 0, CJ96 - IF(CJ95=\"\", LOOKUP(2, 1/(CJ$17:CJ94<>\"\"), CJ$17:CJ94), CJ95))","v":0},null,null,null,null,123,"",null,null,{"$f":"IF(CS96=\"\", 0, CS96 - IF(CS95=\"\", LOOKUP(2, 1/(CS$17:CS94<>\"\"), CS$17:CS94), CS95))","v":0},null,null,null,null,123,"",null,null,{"$f":"IF(DB96=\"\", 0, DB96 - IF(DB95=\"\", LOOKUP(2, 1/(DB$17:DB94<>\"\"), DB$17:DB94), DB95))","v":0},null,null,null,null,123,"",null,null,{"$f":"IF(DK96=\"\", 0, DK96 - IF(DK95=\"\", LOOKUP(2, 1/(DK$17:DK94<>\"\"), DK$17:DK94), DK95))","v":0},null,null,null,null,123,"",null,null,{"$f":"IF(DT96=\"\", 0, DT96 - IF(DT95=\"\", LOOKUP(2, 1/(DT$17:DT94<>\"\"), DT$17:DT94), DT95))","v":0},null,null,null,null,123,"",null,null,{"$f":"IF(EC96=\"\", 0, EC96 - IF(EC95=\"\", LOOKUP(2, 1/(EC$17:EC94<>\"\"), EC$17:EC94), EC95))","v":0},null,null,null,null,123,"",null,null,{"$f":"IF(EL96=\"\", 0, EL96 - IF(EL95=\"\", LOOKUP(2, 1/(EL$17:EL94<>\"\"), EL$17:EL94), EL95))","v":0},null,null,null,null,123,"",null,null,{"$f":"IF(EU96=\"\", 0, EU96 - IF(EU95=\"\", LOOKUP(2, 1/(EU$17:EU94<>\"\"), EU$17:EU94), EU95))","v":0},null,null,null,null,123,"",null,null,{"$f":"IF(FD96=\"\", 0, FD96 - IF(FD95=\"\", LOOKUP(2, 1/(FD$17:FD94<>\"\"), FD$17:FD94), FD95))","v":0},null,null,null,null,123,"",null,null,{"$f":"IF(FM96=\"\", 0, FM96 - IF(FM95=\"\", LOOKUP(2, 1/(FM$17:FM94<>\"\"), FM$17:FM94), FM95))","v":0},null,null,null,null,123,"",null,null,{"$f":"IF(FV96=\"\", 0, FV96 - IF(FV95=\"\", LOOKUP(2, 1/(FV$17:FV94<>\"\"), FV$17:FV94), FV95))","v":0},null,null,null,null,123,"",null,null,{"$f":"IF(GE96=\"\", 0, GE96 - IF(GE95=\"\", LOOKUP(2, 1/(GE$17:GE94<>\"\"), GE$17:GE94), GE95))","v":0},null,null,null,null,123,"",null,null,{"$f":"IF(GN96=\"\", 0, GN96 - IF(GN95=\"\", LOOKUP(2, 1/(GN$17:GN94<>\"\"), GN$17:GN94), GN95))","v":0},null,null,null,null,123,"",null,null,{"$f":"IF(GW96=\"\", 0, GW96 - IF(GW95=\"\", LOOKUP(2, 1/(GW$17:GW94<>\"\"), GW$17:GW94), GW95))","v":0},null,null,null,null,123,"",null,null,{"$f":"IF(HF96=\"\", 0, HF96 - IF(HF95=\"\", LOOKUP(2, 1/(HF$17:HF94<>\"\"), HF$17:HF94), HF95))","v":0},null,null,null,null,123,"",null,null,{"$f":"IF(HO96=\"\", 0, HO96 - IF(HO95=\"\", LOOKUP(2, 1/(HO$17:HO94<>\"\"), HO$17:HO94), HO95))","v":0},null,null,null,null,123,"",null,null,{"$f":"IF(HX96=\"\", 0, HX96 - IF(HX95=\"\", LOOKUP(2, 1/(HX$17:HX94<>\"\"), HX$17:HX94), HX95))","v":0},null,null,null,null,123,"",null,null,{"$f":"IF(IG96=\"\", 0, IG96 - IF(IG95=\"\", LOOKUP(2, 1/(IG$17:IG94<>\"\"), IG$17:IG94), IG95))","v":0},null,null,null,null,123,"",null,null,{"$f":"IF(IP96=\"\", 0, IP96 - IF(IP95=\"\", LOOKUP(2, 1/(IP$17:IP94<>\"\"), IP$17:IP94), IP95))","v":0},null,null,null,null,123,"",null,null,{"$f":"IF(IY96=\"\", 0, IY96 - IF(IY95=\"\", LOOKUP(2, 1/(IY$17:IY94<>\"\"), IY$17:IY94), IY95))","v":0},null,null,null,null,123,"",null,null,{"$f":"IF(JH96=\"\", 0, JH96 - IF(JH95=\"\", LOOKUP(2, 1/(JH$17:JH94<>\"\"), JH$17:JH94), JH95))","v":0},null,null,null,null,123,"",null,null,{"$f":"IF(JQ96=\"\", 0, JQ96 - IF(JQ95=\"\", LOOKUP(2, 1/(JQ$17:JQ94<>\"\"), JQ$17:JQ94), JQ95))","v":0},null,null,null,null,123,"",null,null,{"$f":"IF(JZ96=\"\", 0, JZ96 - IF(JZ95=\"\", LOOKUP(2, 1/(JZ$17:JZ94<>\"\"), JZ$17:JZ94), JZ95))","v":0},null,null,null,null,123,"",null,null,{"$f":"IF(KI96=\"\", 0, KI96 - IF(KI95=\"\", LOOKUP(2, 1/(KI$17:KI94<>\"\"), KI$17:KI94), KI95))","v":0},null,null,null,null,123,"",null,null,{"$f":"IF(KR96=\"\", 0, KR96 - IF(KR95=\"\", LOOKUP(2, 1/(KR$17:KR94<>\"\"), KR$17:KR94), KR95))","v":0},null,null,null,null,123,"",null,null,{"$f":"IF(LA96=\"\", 0, LA96 - IF(LA95=\"\", LOOKUP(2, 1/(LA$17:LA94<>\"\"), LA$17:LA94), LA95))","v":0},null,null,null,null,123,"",null,null,{"$f":"IF(LJ96=\"\", 0, LJ96 - IF(LJ95=\"\", LOOKUP(2, 1/(LJ$17:LJ94<>\"\"), LJ$17:LJ94), LJ95))","v":0},null,null,null,null,123,"",null,null,{"$f":"IF(LS96=\"\", 0, LS96 - IF(LS95=\"\", LOOKUP(2, 1/(LS$17:LS94<>\"\"), LS$17:LS94), LS95))","v":0},null,null,null,null,123,"",null,null,{"$f":"IF(MB96=\"\", 0, MB96 - IF(MB95=\"\", LOOKUP(2, 1/(MB$17:MB94<>\"\"), MB$17:MB94), MB95))","v":0},null,null,null,null,123,"",null,null,{"$f":"IF(MK96=\"\", 0, MK96 - IF(MK95=\"\", LOOKUP(2, 1/(MK$17:MK94<>\"\"), MK$17:MK94), MK95))","v":0},null,null,null,null,123,"",null,null,{"$f":"IF(MT96=\"\", 0, MT96 - IF(MT95=\"\", LOOKUP(2, 1/(MT$17:MT94<>\"\"), MT$17:MT94), MT95))","v":0},null,null,123,"",null,null,{"$f":"IF(NA96=\"\", 0, NA96 - IF(NA95=\"\", LOOKUP(2, 1/(NA$17:NA94<>\"\"), NA$17:NA94), NA95))","v":0},null,null,null,null,123,"",null,null,{"$f":"IF(NJ96=\"\", 0, NJ96 - IF(NJ95=\"\", LOOKUP(2, 1/(NJ$17:NJ94<>\"\"), NJ$17:NJ94), NJ95))","v":0},null,null,null,null,123,"",null,null,{"$f":"IF(NS96=\"\", 0, NS96 - IF(NS95=\"\", LOOKUP(2, 1/(NS$17:NS94<>\"\"), NS$17:NS94), NS95))","v":0},null,null,null,null,123,"",null,null,{"$f":"IF(OB96=\"\", 0, OB96 - IF(OB95=\"\", LOOKUP(2, 1/(OB$17:OB94<>\"\"), OB$17:OB94), OB95))","v":0},null,null,null,null,123,"",null,null,{"$f":"IF(OK96=\"\", 0, OK96 - IF(OK95=\"\", LOOKUP(2, 1/(OK$17:OK94<>\"\"), OK$17:OK94), OK95))","v":0},null,null,null,null,123,"",null,null,{"$f":"IF(OT96=\"\", 0, OT96 - IF(OT95=\"\", LOOKUP(2, 1/(OT$17:OT94<>\"\"), OT$17:OT94), OT95))","v":0},null,null,null,null,123,"",null,null,{"$f":"IF(PC96=\"\", 0, PC96 - IF(PC95=\"\", LOOKUP(2, 1/(PC$17:PC94<>\"\"), PC$17:PC94), PC95))","v":0},null,null,null,null,123,"",null,null,{"$f":"IF(PL96=\"\", 0, PL96 - IF(PL95=\"\", LOOKUP(2, 1/(PL$17:PL94<>\"\"), PL$17:PL94), PL95))","v":0},null,null,null,null,123,"",null,null,{"$f":"IF(PU96=\"\", 0, PU96 - IF(PU95=\"\", LOOKUP(2, 1/(PU$17:PU94<>\"\"), PU$17:PU94), PU95))","v":0},null,null,null,null,123,"",null,null,{"$f":"IF(QD96=\"\", 0, QD96 - IF(QD95=\"\", LOOKUP(2, 1/(QD$17:QD94<>\"\"), QD$17:QD94), QD95))","v":0}]
[null,null,null,122,"",null,null,{"$f":"IF(G97=\"\", 0, G97 - IF(G96=\"\", LOOKUP(2, 1/(G$17:G95<>\"\"), G$17:G95), G96))","v":0},null,null,null,null,122,"",null,null,{"$f":"IF(P97=\"\", 0, P97 - IF(P96=\"\", LOOKUP(2, 1/(P$17:P95<>\"\"), P$17:P95), P96))","v":0},null,null,null,null,122,"",null,null,{"$f":"IF(Y97=\"\", 0, Y97 - IF(Y96=\"\", LOOKUP(2, 1/(Y$17:Y95<>\"\"), Y$17:Y95), Y96))","v":0},null,null,null,null,122,"",null,null,{"$f":"IF(AH97=\"\", 0, AH97 - IF(AH96=\"\", LOOKUP(2, 1/(AH$17:AH95<>\"\"), AH$17:AH95), AH96))","v":0},null,null,null,null,122,"",null,null,{"$f":"IF(AQ97=\"\", 0, AQ97 - IF(AQ96=\"\", LOOKUP(2, 1/(AQ$17:AQ95<>\"\"), AQ$17:AQ95), AQ96))","v":0},null,null,null,null,122,"",null,null,{"$f":"IF(AZ97=\"\", 0, AZ97 - IF(AZ96=\"\", LOOKUP(2, 1/(AZ$17:AZ95<>\"\"), AZ$17:AZ95), AZ96))","v":0},null,null,null,null,122,"",null,null,{"$f":"IF(BI97=\"\", 0, BI97 - IF(BI96=\"\", LOOKUP(2, 1/(BI$17:BI95<>\"\"), BI$17:BI95), BI96))","v":0},null,null,null,null,122,"",null,null,{"$f":"IF(BR97=\"\", 0, BR97 - IF(BR96=\"\", LOOKUP(2, 1/(BR$17:BR95<>\"\"), BR$17:BR95), BR96))","v":0},null,null,null,null,122,"",null,null,{"$f":"IF(CA97=\"\", 0, CA97 - IF(CA96=\"\", LOOKUP(2, 1/(CA$17:CA95<>\"\"), CA$17:CA95), CA96))","v":0},null,null,null,null,122,"",null,null,{"$f":"IF(CJ97=\"\", 0, CJ97 - IF(CJ96=\"\", LOOKUP(2, 1/(CJ$17:CJ95<>\"\"), CJ$17:CJ95), CJ96))","v":0},null,null,null,null,122,"",null,null,{"$f":"IF(CS97=\"\", 0, CS97 - IF(CS96=\"\", LOOKUP(2, 1/(CS$17:CS95<>\"\"), CS$17:CS95), CS96))","v":0},null,null,null,null,122,"",null,null,{"$f":"IF(DB97=\"\", 0, DB97 - IF(DB96=\"\", LOOKUP(2, 1/(DB$17:DB95<>\"\"), DB$17:DB95), DB96))","v":0},null,null,null,null,122,"",null,null,{"$f":"IF(DK97=\"\", 0, DK97 - IF(DK96=\"\", LOOKUP(2, 1/(DK$17:DK95<>\"\"), DK$17:DK95), DK96))","v":0},null,null,null,null,122,"",null,null,{"$f":"IF(DT97=\"\", 0, DT97 - IF(DT96=\"\", LOOKUP(2, 1/(DT$17:DT95<>\"\"), DT$17:DT95), DT96))","v":0},null,null,null,null,122,"",null,null,{"$f":"IF(EC97=\"\", 0, EC97 - IF(EC96=\"\", LOOKUP(2, 1/(EC$17:EC95<>\"\"), EC$17:EC95), EC96))","v":0},null,null,null,null,122,"",null,null,{"$f":"IF(EL97=\"\", 0, EL97 - IF(EL96=\"\", LOOKUP(2, 1/(EL$17:EL95<>\"\"), EL$17:EL95), EL96))","v":0},null,null,null,null,122,"",null,null,{"$f":"IF(EU97=\"\", 0, EU97 - IF(EU96=\"\", LOOKUP(2, 1/(EU$17:EU95<>\"\"), EU$17:EU95), EU96))","v":0},null,null,null,null,122,"",null,null,{"$f":"IF(FD97=\"\", 0, FD97 - IF(FD96=\"\", LOOKUP(2, 1/(FD$17:FD95<>\"\"), FD$17:FD95), FD96))","v":0},null,null,null,null,122,"",null,null,{"$f":"IF(FM97=\"\", 0, FM97 - IF(FM96=\"\", LOOKUP(2, 1/(FM$17:FM95<>\"\"), FM$17:FM95), FM96))","v":0},null,null,null,null,122,"",null,null,{"$f":"IF(FV97=\"\", 0, FV97 - IF(FV96=\"\", LOOKUP(2, 1/(FV$17:FV95<>\"\"), FV$17:FV95), FV96))","v":0},null,null,null,null,122,"",null,null,{"$f":"IF(GE97=\"\", 0, GE97 - IF(GE96=\"\", LOOKUP(2, 1/(GE$17:GE95<>\"\"), GE$17:GE95), GE96))","v":0},null,null,null,null,122,"",null,null,{"$f":"IF(GN97=\"\", 0, GN97 - IF(GN96=\"\", LOOKUP(2, 1/(GN$17:GN95<>\"\"), GN$17:GN95), GN96))","v":0},null,null,null,null,122,"",null,null,{"$f":"IF(GW97=\"\", 0, GW97 - IF(GW96=\"\", LOOKUP(2, 1/(GW$17:GW95<>\"\"), GW$17:GW95), GW96))","v":0},null,null,null,null,122,"",null,null,{"$f":"IF(HF97=\"\", 0, HF97 - IF(HF96=\"\", LOOKUP(2, 1/(HF$17:HF95<>\"\"), HF$17:HF95), HF96))","v":0},null,null,null,null,122,"",null,null,{"$f":"IF(HO97=\"\", 0, HO97 - IF(HO96=\"\", LOOKUP(2, 1/(HO$17:HO95<>\"\"), HO$17:HO95), HO96))","v":0},null,null,null,null,122,"",null,null,{"$f":"IF(HX97=\"\", 0, HX97 - IF(HX96=\"\", LOOKUP(2, 1/(HX$17:HX95<>\"\"), HX$17:HX95), HX96))","v":0},null,null,null,null,122,"",null,null,{"$f":"IF(IG97=\"\", 0, IG97 - IF(IG96=\"\", LOOKUP(2, 1/(IG$17:IG95<>\"\"), IG$17:IG95), IG96))","v":0},null,null,null,null,122,"",null,null,{"$f":"IF(IP97=\"\", 0, IP97 - IF(IP96=\"\", LOOKUP(2, 1/(IP$17:IP95<>\"\"), IP$17:IP95), IP96))","v":0},null,null,null,null,122,"",null,null,{"$f":"IF(IY97=\"\", 0, IY97 - IF(IY96=\"\", LOOKUP(2, 1/(IY$17:IY95<>\"\"), IY$17:IY95), IY96))","v":0},null,null,null,null,122,"",null,null,{"$f":"IF(JH97=\"\", 0, JH97 - IF(JH96=\"\", LOOKUP(2, 1/(JH$17:JH95<>\"\"), JH$17:JH95), JH96))","v":0},null,null,null,null,122,"",null,null,{"$f":"IF(JQ97=\"\", 0, JQ97 - IF(JQ96=\"\", LOOKUP(2, 1/(JQ$17:JQ95<>\"\"), JQ$17:JQ95), JQ96))","v":0},null,null,null,null,122,"",null,null,{"$f":"IF(JZ97=\"\", 0, JZ97 - IF(JZ96=\"\", LOOKUP(2, 1/(JZ$17:JZ95<>\"\"), JZ$17:JZ95), JZ96))","v":0},null,null,null,null,122,"",null,null,{"$f":"IF(KI97=\"\", 0, KI97 - IF(KI96=\"\", LOOKUP(2, 1/(KI$17:KI95<>\"\"), KI$17:KI95), KI96))","v":0},null,null,null,null,122,"",null,null,{"$f":"IF(KR97=\"\", 0, KR97 - IF(KR96=\"\", LOOKUP(2, 1/(KR$17:KR95<>\"\"), KR$17:KR95), KR96))","v":0},null,null,null,null,122,"",null,null,{"$f":"IF(LA97=\"\", 0, LA97 - IF(LA96=\"\", LOOKUP(2, 1/(LA$17:LA95<>\"\"), LA$17:LA95), LA96))","v":0},null,null,null,null,122,"",null,null,{"$f":"IF(LJ97=\"\", 0, LJ97 - IF(LJ96=\"\", LOOKUP(2, 1/(LJ$17:LJ95<>\"\"), LJ$17:LJ95), LJ96))","v":0},null,null,null,null,122,"",null,null,{"$f":"IF(LS97=\"\", 0, LS97 - IF(LS96=\"\", LOOKUP(2, 1/(LS$17:LS95<>\"\"), LS$17:LS95), LS96))","v":0},null,null,null,null,122,"",null,null,{"$f":"IF(MB97=\"\", 0, MB97 - IF(MB96=\"\", LOOKUP(2, 1/(MB$17:MB95<>\"\"), MB$17:MB95), MB96))","v":0},null,null,null,null,122,"",null,null,{"$f":"IF(MK97=\"\", 0, MK97 - IF(MK96=\"\", LOOKUP(2, 1/(MK$17:MK95<>\"\"), MK$17:MK95), MK96))","v":0},null,null,null,null,122,"",null,null,{"$f":"IF(MT97=\"\", 0, MT97 - IF(MT96=\"\", LOOKUP(2, 1/(MT$17:MT95<>\"\"), MT$17:MT95), MT96))","v":0},null,null,122,"",null,null,{"$f":"IF(NA97=\"\", 0, NA97 - IF(NA96=\"\", LOOKUP(2, 1/(NA$17:NA95<>\"\"), NA$17:NA95), NA96))","v":0},null,null,null,null,122,"",null,null,{"$f":"IF(NJ97=\"\", 0, NJ97 - IF(NJ96=\"\", LOOKUP(2, 1/(NJ$17:NJ95<>\"\"), NJ$17:NJ95), NJ96))","v":0},null,null,null,null,122,"",null,null,{"$f":"IF(NS97=\"\", 0, NS97 - IF(NS96=\"\", LOOKUP(2, 1/(NS$17:NS95<>\"\"), NS$17:NS95), NS96))","v":0},null,null,null,null,122,"",null,null,{"$f":"IF(OB97=\"\", 0, OB97 - IF(OB96=\"\", LOOKUP(2, 1/(OB$17:OB95<>\"\"), OB$17:OB95), OB96))","v":0},null,null,null,null,122,"",null,null,{"$f":"IF(OK97=\"\", 0, OK97 - IF(OK96=\"\", LOOKUP(2, 1/(OK$17:OK95<>\"\"), OK$17:OK95), OK96))","v":0},null,null,null,null,122,"",null,null,{"$f":"IF(OT97=\"\", 0, OT97 - IF(OT96=\"\", LOOKUP(2, 1/(OT$17:OT95<>\"\"), OT$17:OT95), OT96))","v":0},null,null,null,null,122,"",null,null,{"$f":"IF(PC97=\"\", 0, PC97 - IF(PC96=\"\", LOOKUP(2, 1/(PC$17:PC95<>\"\"), PC$17:PC95), PC96))","v":0},null,null,null,null,122,"",null,null,{"$f":"IF(PL97=\"\", 0, PL97 - IF(PL96=\"\", LOOKUP(2, 1/(PL$17:PL95<>\"\"), PL$17:PL95), PL96))","v":0},null,null,null,null,122,"",null,null,{"$f":"IF(PU97=\"\", 0, PU97 - IF(PU96=\"\", LOOKUP(2, 1/(PU$17:PU95<>\"\"), PU$17:PU95), PU96))","v":0},null,null,null,null,122,"",null,null,{"$f":"IF(QD97=\"\", 0, QD97 - IF(QD96=\"\", LOOKUP(2, 1/(QD$17:QD95<>\"\"), QD$17:QD95), QD96))","v":0}]
[null,null,null,121,"",null,null,{"$f":"IF(G98=\"\", 0, G98 - IF(G97=\"\", LOOKUP(2, 1/(G$17:G96<>\"\"), G$17:G96), G97))","v":0},null,null,null,null,121,"",null,null,{"$f":"IF(P98=\"\", 0, P98 - IF(P97=\"\", LOOKUP(2, 1/(P$17:P96<>\"\"), P$17:P96), P97))","v":0},null,null,null,null,121,"",null,null,{"$f":"IF(Y98=\"\", 0, Y98 - IF(Y97=\"\", LOOKUP(2, 1/(Y$17:Y96<>\"\"), Y$17:Y96), Y97))","v":0},null,null,null,null,121,"",null,null,{"$f":"IF(AH98=\"\", 0, AH98 - IF(AH97=\"\", LOOKUP(2, 1/(AH$17:AH96<>\"\"), AH$17:AH96), AH97))","v":0},null,null,null,null,121,"",null,null,{"$f":"IF(AQ98=\"\", 0, AQ98 - IF(AQ97=\"\", LOOKUP(2, 1/(AQ$17:AQ96<>\"\"), AQ$17:AQ96), AQ97))","v":0},null,null,null,null,121,"",null,null,{"$f":"IF(AZ98=\"\", 0, AZ98 - IF(AZ97=\"\", LOOKUP(2, 1/(AZ$17:AZ96<>\"\"), AZ$17:AZ96), AZ97))","v":0},null,null,null,null,121,"",null,null,{"$f":"IF(BI98=\"\", 0, BI98 - IF(BI97=\"\", LOOKUP(2, 1/(BI$17:BI96<>\"\"), BI$17:BI96), BI97))","v":0},null,null,null,null,121,"",null,null,{"$f":"IF(BR98=\"\", 0, BR98 - IF(BR97=\"\", LOOKUP(2, 1/(BR$17:BR96<>\"\"), BR$17:BR96), BR97))","v":0},null,null,null,null,121,"",null,null,{"$f":"IF(CA98=\"\", 0, CA98 - IF(CA97=\"\", LOOKUP(2, 1/(CA$17:CA96<>\"\"), CA$17:CA96), CA97))","v":0},null,null,null,null,121,"",null,null,{"$f":"IF(CJ98=\"\", 0, CJ98 - IF(CJ97=\"\", LOOKUP(2, 1/(CJ$17:CJ96<>\"\"), CJ$17:CJ96), CJ97))","v":0},null,null,null,null,121,"",null,null,{"$f":"IF(CS98=\"\", 0, CS98 - IF(CS97=\"\", LOOKUP(2, 1/(CS$17:CS96<>\"\"), CS$17:CS96), CS97))","v":0},null,null,null,null,121,"",null,null,{"$f":"IF(DB98=\"\", 0, DB98 - IF(DB97=\"\", LOOKUP(2, 1/(DB$17:DB96<>\"\"), DB$17:DB96), DB97))","v":0},null,null,null,null,121,"",null,null,{"$f":"IF(DK98=\"\", 0, DK98 - IF(DK97=\"\", LOOKUP(2, 1/(DK$17:DK96<>\"\"), DK$17:DK96), DK97))","v":0},null,null,null,null,121,"",null,null,{"$f":"IF(DT98=\"\", 0, DT98 - IF(DT97=\"\", LOOKUP(2, 1/(DT$17:DT96<>\"\"), DT$17:DT96), DT97))","v":0},null,null,null,null,121,"",null,null,{"$f":"IF(EC98=\"\", 0, EC98 - IF(EC97=\"\", LOOKUP(2, 1/(EC$17:EC96<>\"\"), EC$17:EC96), EC97))","v":0},null,null,null,null,121,"",null,null,{"$f":"IF(EL98=\"\", 0, EL98 - IF(EL97=\"\", LOOKUP(2, 1/(EL$17:EL96<>\"\"), EL$17:EL96), EL97))","v":0},null,null,null,null,121,"",null,null,{"$f":"IF(EU98=\"\", 0, EU98 - IF(EU97=\"\", LOOKUP(2, 1/(EU$17:EU96<>\"\"), EU$17:EU96), EU97))","v":0},null,null,null,null,121,"",null,null,{"$f":"IF(FD98=\"\", 0, FD98 - IF(FD97=\"\", LOOKUP(2, 1/(FD$17:FD96<>\"\"), FD$17:FD96), FD97))","v":0},null,null,null,null,121,"",null,null,{"$f":"IF(FM98=\"\", 0, FM98 - IF(FM97=\"\", LOOKUP(2, 1/(FM$17:FM96<>\"\"), FM$17:FM96), FM97))","v":0},null,null,null,null,121,"",null,null,{"$f":"IF(FV98=\"\", 0, FV98 - IF(FV97=\"\", LOOKUP(2, 1/(FV$17:FV96<>\"\"), FV$17:FV96), FV97))","v":0},null,null,null,null,121,"",null,null,{"$f":"IF(GE98=\"\", 0, GE98 - IF(GE97=\"\", LOOKUP(2, 1/(GE$17:GE96<>\"\"), GE$17:GE96), GE97))","v":0},null,null,null,null,121,"",null,null,{"$f":"IF(GN98=\"\", 0, GN98 - IF(GN97=\"\", LOOKUP(2, 1/(GN$17:GN96<>\"\"), GN$17:GN96), GN97))","v":0},null,null,null,null,121,"",null,null,{"$f":"IF(GW98=\"\", 0, GW98 - IF(GW97=\"\", LOOKUP(2, 1/(GW$17:GW96<>\"\"), GW$17:GW96), GW97))","v":0},null,null,null,null,121,"",null,null,{"$f":"IF(HF98=\"\", 0, HF98 - IF(HF97=\"\", LOOKUP(2, 1/(HF$17:HF96<>\"\"), HF$17:HF96), HF97))","v":0},null,null,null,null,121,"",null,null,{"$f":"IF(HO98=\"\", 0, HO98 - IF(HO97=\"\", LOOKUP(2, 1/(HO$17:HO96<>\"\"), HO$17:HO96), HO97))","v":0},null,null,null,null,121,"",null,null,{"$f":"IF(HX98=\"\", 0, HX98 - IF(HX97=\"\", LOOKUP(2, 1/(HX$17:HX96<>\"\"), HX$17:HX96), HX97))","v":0},null,null,null,null,121,"",null,null,{"$f":"IF(IG98=\"\", 0, IG98 - IF(IG97=\"\", LOOKUP(2, 1/(IG$17:IG96<>\"\"), IG$17:IG96), IG97))","v":0},null,null,null,null,121,"",null,null,{"$f":"IF(IP98=\"\", 0, IP98 - IF(IP97=\"\", LOOKUP(2, 1/(IP$17:IP96<>\"\"), IP$17:IP96), IP97))","v":0},null,null,null,null,121,"",null,null,{"$f":"IF(IY98=\"\", 0, IY98 - IF(IY97=\"\", LOOKUP(2, 1/(IY$17:IY96<>\"\"), IY$17:IY96), IY97))","v":0},null,null,null,null,121,"",null,null,{"$f":"IF(JH98=\"\", 0, JH98 - IF(JH97=\"\", LOOKUP(2, 1/(JH$17:JH96<>\"\"), JH$17:JH96), JH97))","v":0},null,null,null,null,121,"",null,null,{"$f":"IF(JQ98=\"\", 0, JQ98 - IF(JQ97=\"\", LOOKUP(2, 1/(JQ$17:JQ96<>\"\"), JQ$17:JQ96), JQ97))","v":0},null,null,null,null,121,"",null,null,{"$f":"IF(JZ98=\"\", 0, JZ98 - IF(JZ97=\"\", LOOKUP(2, 1/(JZ$17:JZ96<>\"\"), JZ$17:JZ96), JZ97))","v":0},null,null,null,null,121,"",null,null,{"$f":"IF(KI98=\"\", 0, KI98 - IF(KI97=\"\", LOOKUP(2, 1/(KI$17:KI96<>\"\"), KI$17:KI96), KI97))","v":0},null,null,null,null,121,"",null,null,{"$f":"IF(KR98=\"\", 0, KR98 - IF(KR97=\"\", LOOKUP(2, 1/(KR$17:KR96<>\"\"), KR$17:KR96), KR97))","v":0},null,null,null,null,121,"",null,null,{"$f":"IF(LA98=\"\", 0, LA98 - IF(LA97=\"\", LOOKUP(2, 1/(LA$17:LA96<>\"\"), LA$17:LA96), LA97))","v":0},null,null,null,null,121,"",null,null,{"$f":"IF(LJ98=\"\", 0, LJ98 - IF(LJ97=\"\", LOOKUP(2, 1/(LJ$17:LJ96<>\"\"), LJ$17:LJ96), LJ97))","v":0},null,null,null,null,121,"",null,null,{"$f":"IF(LS98=\"\", 0, LS98 - IF(LS97=\"\", LOOKUP(2, 1/(LS$17:LS96<>\"\"), LS$17:LS96), LS97))","v":0},null,null,null,null,121,"",null,null,{"$f":"IF(MB98=\"\", 0, MB98 - IF(MB97=\"\", LOOKUP(2, 1/(MB$17:MB96<>\"\"), MB$17:MB96), MB97))","v":0},null,null,null,null,121,"",null,null,{"$f":"IF(MK98=\"\", 0, MK98 - IF(MK97=\"\", LOOKUP(2, 1/(MK$17:MK96<>\"\"), MK$17:MK96), MK97))","v":0},null,null,null,null,121,"",null,null,{"$f":"IF(MT98=\"\", 0, MT98 - IF(MT97=\"\", LOOKUP(2, 1/(MT$17:MT96<>\"\"), MT$17:MT96), MT97))","v":0},null,null,121,"",null,null,{"$f":"IF(NA98=\"\", 0, NA98 - IF(NA97=\"\", LOOKUP(2, 1/(NA$17:NA96<>\"\"), NA$17:NA96), NA97))","v":0},null,null,null,null,121,"",null,null,{"$f":"IF(NJ98=\"\", 0, NJ98 - IF(NJ97=\"\", LOOKUP(2, 1/(NJ$17:NJ96<>\"\"), NJ$17:NJ96), NJ97))","v":0},null,null,null,null,121,"",null,null,{"$f":"IF(NS98=\"\", 0, NS98 - IF(NS97=\"\", LOOKUP(2, 1/(NS$17:NS96<>\"\"), NS$17:NS96), NS97))","v":0},null,null,null,null,121,"",null,null,{"$f":"IF(OB98=\"\", 0, OB98 - IF(OB97=\"\", LOOKUP(2, 1/(OB$17:OB96<>\"\"), OB$17:OB96), OB97))","v":0},null,null,null,null,121,"",null,null,{"$f":"IF(OK98=\"\", 0, OK98 - IF(OK97=\"\", LOOKUP(2, 1/(OK$17:OK96<>\"\"), OK$17:OK96), OK97))","v":0},null,null,null,null,121,"",null,null,{"$f":"IF(OT98=\"\", 0, OT98 - IF(OT97=\"\", LOOKUP(2, 1/(OT$17:OT96<>\"\"), OT$17:OT96), OT97))","v":0},null,null,null,null,121,"",null,null,{"$f":"IF(PC98=\"\", 0, PC98 - IF(PC97=\"\", LOOKUP(2, 1/(PC$17:PC96<>\"\"), PC$17:PC96), PC97))","v":0},null,null,null,null,121,"",null,null,{"$f":"IF(PL98=\"\", 0, PL98 - IF(PL97=\"\", LOOKUP(2, 1/(PL$17:PL96<>\"\"), PL$17:PL96), PL97))","v":0},null,null,null,null,121,"",null,null,{"$f":"IF(PU98=\"\", 0, PU98 - IF(PU97=\"\", LOOKUP(2, 1/(PU$17:PU96<>\"\"), PU$17:PU96), PU97))","v":0},null,null,null,null,121,"",null,null,{"$f":"IF(QD98=\"\", 0, QD98 - IF(QD97=\"\", LOOKUP(2, 1/(QD$17:QD96<>\"\"), QD$17:QD96), QD97))","v":0}]
[null,null,null,120,"",null,null,{"$f":"IF(G99=\"\", 0, G99 - IF(G98=\"\", LOOKUP(2, 1/(G$17:G97<>\"\"), G$17:G97), G98))","v":0},null,null,null,null,120,"",null,null,{"$f":"IF(P99=\"\", 0, P99 - IF(P98=\"\", LOOKUP(2, 1/(P$17:P97<>\"\"), P$17:P97), P98))","v":0},null,null,null,null,120,"",null,null,{"$f":"IF(Y99=\"\", 0, Y99 - IF(Y98=\"\", LOOKUP(2, 1/(Y$17:Y97<>\"\"), Y$17:Y97), Y98))","v":0},null,null,null,null,120,"",null,null,{"$f":"IF(AH99=\"\", 0, AH99 - IF(AH98=\"\", LOOKUP(2, 1/(AH$17:AH97<>\"\"), AH$17:AH97), AH98))","v":0},null,null,null,null,120,"",null,null,{"$f":"IF(AQ99=\"\", 0, AQ99 - IF(AQ98=\"\", LOOKUP(2, 1/(AQ$17:AQ97<>\"\"), AQ$17:AQ97), AQ98))","v":0},null,null,null,null,120,"",null,null,{"$f":"IF(AZ99=\"\", 0, AZ99 - IF(AZ98=\"\", LOOKUP(2, 1/(AZ$17:AZ97<>\"\"), AZ$17:AZ97), AZ98))","v":0},null,null,null,null,120,"",null,null,{"$f":"IF(BI99=\"\", 0, BI99 - IF(BI98=\"\", LOOKUP(2, 1/(BI$17:BI97<>\"\"), BI$17:BI97), BI98))","v":0},null,null,null,null,120,"",null,null,{"$f":"IF(BR99=\"\", 0, BR99 - IF(BR98=\"\", LOOKUP(2, 1/(BR$17:BR97<>\"\"), BR$17:BR97), BR98))","v":0},null,null,null,null,120,"",null,null,{"$f":"IF(CA99=\"\", 0, CA99 - IF(CA98=\"\", LOOKUP(2, 1/(CA$17:CA97<>\"\"), CA$17:CA97), CA98))","v":0},null,null,null,null,120,"",null,null,{"$f":"IF(CJ99=\"\", 0, CJ99 - IF(CJ98=\"\", LOOKUP(2, 1/(CJ$17:CJ97<>\"\"), CJ$17:CJ97), CJ98))","v":0},null,null,null,null,120,"",null,null,{"$f":"IF(CS99=\"\", 0, CS99 - IF(CS98=\"\", LOOKUP(2, 1/(CS$17:CS97<>\"\"), CS$17:CS97), CS98))","v":0},null,null,null,null,120,"",null,null,{"$f":"IF(DB99=\"\", 0, DB99 - IF(DB98=\"\", LOOKUP(2, 1/(DB$17:DB97<>\"\"), DB$17:DB97), DB98))","v":0},null,null,null,null,120,"",null,null,{"$f":"IF(DK99=\"\", 0, DK99 - IF(DK98=\"\", LOOKUP(2, 1/(DK$17:DK97<>\"\"), DK$17:DK97), DK98))","v":0},null,null,null,null,120,"",null,null,{"$f":"IF(DT99=\"\", 0, DT99 - IF(DT98=\"\", LOOKUP(2, 1/(DT$17:DT97<>\"\"), DT$17:DT97), DT98))","v":0},null,null,null,null,120,"",null,null,{"$f":"IF(EC99=\"\", 0, EC99 - IF(EC98=\"\", LOOKUP(2, 1/(EC$17:EC97<>\"\"), EC$17:EC97), EC98))","v":0},null,null,null,null,120,"",null,null,{"$f":"IF(EL99=\"\", 0, EL99 - IF(EL98=\"\", LOOKUP(2, 1/(EL$17:EL97<>\"\"), EL$17:EL97), EL98))","v":0},null,null,null,null,120,"",null,null,{"$f":"IF(EU99=\"\", 0, EU99 - IF(EU98=\"\", LOOKUP(2, 1/(EU$17:EU97<>\"\"), EU$17:EU97), EU98))","v":0},null,null,null,null,120,"",null,null,{"$f":"IF(FD99=\"\", 0, FD99 - IF(FD98=\"\", LOOKUP(2, 1/(FD$17:FD97<>\"\"), FD$17:FD97), FD98))","v":0},null,null,null,null,120,"",null,null,{"$f":"IF(FM99=\"\", 0, FM99 - IF(FM98=\"\", LOOKUP(2, 1/(FM$17:FM97<>\"\"), FM$17:FM97), FM98))","v":0},null,null,null,null,120,"",null,null,{"$f":"IF(FV99=\"\", 0, FV99 - IF(FV98=\"\", LOOKUP(2, 1/(FV$17:FV97<>\"\"), FV$17:FV97), FV98))","v":0},null,null,null,null,120,"",null,null,{"$f":"IF(GE99=\"\", 0, GE99 - IF(GE98=\"\", LOOKUP(2, 1/(GE$17:GE97<>\"\"), GE$17:GE97), GE98))","v":0},null,null,null,null,120,"",null,null,{"$f":"IF(GN99=\"\", 0, GN99 - IF(GN98=\"\", LOOKUP(2, 1/(GN$17:GN97<>\"\"), GN$17:GN97), GN98))","v":0},null,null,null,null,120,"",null,null,{"$f":"IF(GW99=\"\", 0, GW99 - IF(GW98=\"\", LOOKUP(2, 1/(GW$17:GW97<>\"\"), GW$17:GW97), GW98))","v":0},null,null,null,null,120,"",null,null,{"$f":"IF(HF99=\"\", 0, HF99 - IF(HF98=\"\", LOOKUP(2, 1/(HF$17:HF97<>\"\"), HF$17:HF97), HF98))","v":0},null,null,null,null,120,"",null,null,{"$f":"IF(HO99=\"\", 0, HO99 - IF(HO98=\"\", LOOKUP(2, 1/(HO$17:HO97<>\"\"), HO$17:HO97), HO98))","v":0},null,null,null,null,120,"",null,null,{"$f":"IF(HX99=\"\", 0, HX99 - IF(HX98=\"\", LOOKUP(2, 1/(HX$17:HX97<>\"\"), HX$17:HX97), HX98))","v":0},null,null,null,null,120,"",null,null,{"$f":"IF(IG99=\"\", 0, IG99 - IF(IG98=\"\", LOOKUP(2, 1/(IG$17:IG97<>\"\"), IG$17:IG97), IG98))","v":0},null,null,null,null,120,"",null,null,{"$f":"IF(IP99=\"\", 0, IP99 - IF(IP98=\"\", LOOKUP(2, 1/(IP$17:IP97<>\"\"), IP$17:IP97), IP98))","v":0},null,null,null,null,120,"",null,null,{"$f":"IF(IY99=\"\", 0, IY99 - IF(IY98=\"\", LOOKUP(2, 1/(IY$17:IY97<>\"\"), IY$17:IY97), IY98))","v":0},null,null,null,null,120,"",null,null,{"$f":"IF(JH99=\"\", 0, JH99 - IF(JH98=\"\", LOOKUP(2, 1/(JH$17:JH97<>\"\"), JH$17:JH97), JH98))","v":0},null,null,null,null,120,"",null,null,{"$f":"IF(JQ99=\"\", 0, JQ99 - IF(JQ98=\"\", LOOKUP(2, 1/(JQ$17:JQ97<>\"\"), JQ$17:JQ97), JQ98))","v":0},null,null,null,null,120,"",null,null,{"$f":"IF(JZ99=\"\", 0, JZ99 - IF(JZ98=\"\", LOOKUP(2, 1/(JZ$17:JZ97<>\"\"), JZ$17:JZ97), JZ98))","v":0},null,null,null,null,120,"",null,null,{"$f":"IF(KI99=\"\", 0, KI99 - IF(KI98=\"\", LOOKUP(2, 1/(KI$17:KI97<>\"\"), KI$17:KI97), KI98))","v":0},null,null,null,null,120,"",null,null,{"$f":"IF(KR99=\"\", 0, KR99 - IF(KR98=\"\", LOOKUP(2, 1/(KR$17:KR97<>\"\"), KR$17:KR97), KR98))","v":0},null,null,null,null,120,"",null,null,{"$f":"IF(LA99=\"\", 0, LA99 - IF(LA98=\"\", LOOKUP(2, 1/(LA$17:LA97<>\"\"), LA$17:LA97), LA98))","v":0},null,null,null,null,120,"",null,null,{"$f":"IF(LJ99=\"\", 0, LJ99 - IF(LJ98=\"\", LOOKUP(2, 1/(LJ$17:LJ97<>\"\"), LJ$17:LJ97), LJ98))","v":0},null,null,null,null,120,"",null,null,{"$f":"IF(LS99=\"\", 0, LS99 - IF(LS98=\"\", LOOKUP(2, 1/(LS$17:LS97<>\"\"), LS$17:LS97), LS98))","v":0},null,null,null,null,120,"",null,null,{"$f":"IF(MB99=\"\", 0, MB99 - IF(MB98=\"\", LOOKUP(2, 1/(MB$17:MB97<>\"\"), MB$17:MB97), MB98))","v":0},null,null,null,null,120,"",null,null,{"$f":"IF(MK99=\"\", 0, MK99 - IF(MK98=\"\", LOOKUP(2, 1/(MK$17:MK97<>\"\"), MK$17:MK97), MK98))","v":0},null,null,null,null,120,"",null,null,{"$f":"IF(MT99=\"\", 0, MT99 - IF(MT98=\"\", LOOKUP(2, 1/(MT$17:MT97<>\"\"), MT$17:MT97), MT98))","v":0},null,null,120,"",null,null,{"$f":"IF(NA99=\"\", 0, NA99 - IF(NA98=\"\", LOOKUP(2, 1/(NA$17:NA97<>\"\"), NA$17:NA97), NA98))","v":0},null,null,null,null,120,"",null,null,{"$f":"IF(NJ99=\"\", 0, NJ99 - IF(NJ98=\"\", LOOKUP(2, 1/(NJ$17:NJ97<>\"\"), NJ$17:NJ97), NJ98))","v":0},null,null,null,null,120,"",null,null,{"$f":"IF(NS99=\"\", 0, NS99 - IF(NS98=\"\", LOOKUP(2, 1/(NS$17:NS97<>\"\"), NS$17:NS97), NS98))","v":0},null,null,null,null,120,"",null,null,{"$f":"IF(OB99=\"\", 0, OB99 - IF(OB98=\"\", LOOKUP(2, 1/(OB$17:OB97<>\"\"), OB$17:OB97), OB98))","v":0},null,null,null,null,120,"",null,null,{"$f":"IF(OK99=\"\", 0, OK99 - IF(OK98=\"\", LOOKUP(2, 1/(OK$17:OK97<>\"\"), OK$17:OK97), OK98))","v":0},null,null,null,null,120,"",null,null,{"$f":"IF(OT99=\"\", 0, OT99 - IF(OT98=\"\", LOOKUP(2, 1/(OT$17:OT97<>\"\"), OT$17:OT97), OT98))","v":0},null,null,null,null,120,"",null,null,{"$f":"IF(PC99=\"\", 0, PC99 - IF(PC98=\"\", LOOKUP(2, 1/(PC$17:PC97<>\"\"), PC$17:PC97), PC98))","v":0},null,null,null,null,120,"",null,null,{"$f":"IF(PL99=\"\", 0, PL99 - IF(PL98=\"\", LOOKUP(2, 1/(PL$17:PL97<>\"\"), PL$17:PL97), PL98))","v":0},null,null,null,null,120,"",null,null,{"$f":"IF(PU99=\"\", 0, PU99 - IF(PU98=\"\", LOOKUP(2, 1/(PU$17:PU97<>\"\"), PU$17:PU97), PU98))","v":0},null,null,null,null,120,"",null,null,{"$f":"IF(QD99=\"\", 0, QD99 - IF(QD98=\"\", LOOKUP(2, 1/(QD$17:QD97<>\"\"), QD$17:QD97), QD98))","v":0}]
[null,null,null,119,"",null,null,{"$f":"IF(G100=\"\", 0, G100 - IF(G99=\"\", LOOKUP(2, 1/(G$17:G98<>\"\"), G$17:G98), G99))","v":0},null,null,null,null,119,"",null,null,{"$f":"IF(P100=\"\", 0, P100 - IF(P99=\"\", LOOKUP(2, 1/(P$17:P98<>\"\"), P$17:P98), P99))","v":0},null,null,null,null,119,"",null,null,{"$f":"IF(Y100=\"\", 0, Y100 - IF(Y99=\"\", LOOKUP(2, 1/(Y$17:Y98<>\"\"), Y$17:Y98), Y99))","v":0},null,null,null,null,119,"",null,null,{"$f":"IF(AH100=\"\", 0, AH100 - IF(AH99=\"\", LOOKUP(2, 1/(AH$17:AH98<>\"\"), AH$17:AH98), AH99))","v":0},null,null,null,null,119,"",null,null,{"$f":"IF(AQ100=\"\", 0, AQ100 - IF(AQ99=\"\", LOOKUP(2, 1/(AQ$17:AQ98<>\"\"), AQ$17:AQ98), AQ99))","v":0},null,null,null,null,119,"",null,null,{"$f":"IF(AZ100=\"\", 0, AZ100 - IF(AZ99=\"\", LOOKUP(2, 1/(AZ$17:AZ98<>\"\"), AZ$17:AZ98), AZ99))","v":0},null,null,null,null,119,"",null,null,{"$f":"IF(BI100=\"\", 0, BI100 - IF(BI99=\"\", LOOKUP(2, 1/(BI$17:BI98<>\"\"), BI$17:BI98), BI99))","v":0},null,null,null,null,119,"",null,null,{"$f":"IF(BR100=\"\", 0, BR100 - IF(BR99=\"\", LOOKUP(2, 1/(BR$17:BR98<>\"\"), BR$17:BR98), BR99))","v":0},null,null,null,null,119,"",null,null,{"$f":"IF(CA100=\"\", 0, CA100 - IF(CA99=\"\", LOOKUP(2, 1/(CA$17:CA98<>\"\"), CA$17:CA98), CA99))","v":0},null,null,null,null,119,"",null,null,{"$f":"IF(CJ100=\"\", 0, CJ100 - IF(CJ99=\"\", LOOKUP(2, 1/(CJ$17:CJ98<>\"\"), CJ$17:CJ98), CJ99))","v":0},null,null,null,null,119,"",null,null,{"$f":"IF(CS100=\"\", 0, CS100 - IF(CS99=\"\", LOOKUP(2, 1/(CS$17:CS98<>\"\"), CS$17:CS98), CS99))","v":0},null,null,null,null,119,"",null,null,{"$f":"IF(DB100=\"\", 0, DB100 - IF(DB99=\"\", LOOKUP(2, 1/(DB$17:DB98<>\"\"), DB$17:DB98), DB99))","v":0},null,null,null,null,119,"",null,null,{"$f":"IF(DK100=\"\", 0, DK100 - IF(DK99=\"\", LOOKUP(2, 1/(DK$17:DK98<>\"\"), DK$17:DK98), DK99))","v":0},null,null,null,null,119,"",null,null,{"$f":"IF(DT100=\"\", 0, DT100 - IF(DT99=\"\", LOOKUP(2, 1/(DT$17:DT98<>\"\"), DT$17:DT98), DT99))","v":0},null,null,null,null,119,"",null,null,{"$f":"IF(EC100=\"\", 0, EC100 - IF(EC99=\"\", LOOKUP(2, 1/(EC$17:EC98<>\"\"), EC$17:EC98), EC99))","v":0},null,null,null,null,119,"",null,null,{"$f":"IF(EL100=\"\", 0, EL100 - IF(EL99=\"\", LOOKUP(2, 1/(EL$17:EL98<>\"\"), EL$17:EL98), EL99))","v":0},null,null,null,null,119,"",null,null,{"$f":"IF(EU100=\"\", 0, EU100 - IF(EU99=\"\", LOOKUP(2, 1/(EU$17:EU98<>\"\"), EU$17:EU98), EU99))","v":0},null,null,null,null,119,"",null,null,{"$f":"IF(FD100=\"\", 0, FD100 - IF(FD99=\"\", LOOKUP(2, 1/(FD$17:FD98<>\"\"), FD$17:FD98), FD99))","v":0},null,null,null,null,119,"",null,null,{"$f":"IF(FM100=\"\", 0, FM100 - IF(FM99=\"\", LOOKUP(2, 1/(FM$17:FM98<>\"\"), FM$17:FM98), FM99))","v":0},null,null,null,null,119,"",null,null,{"$f":"IF(FV100=\"\", 0, FV100 - IF(FV99=\"\", LOOKUP(2, 1/(FV$17:FV98<>\"\"), FV$17:FV98), FV99))","v":0},null,null,null,null,119,"",null,null,{"$f":"IF(GE100=\"\", 0, GE100 - IF(GE99=\"\", LOOKUP(2, 1/(GE$17:GE98<>\"\"), GE$17:GE98), GE99))","v":0},null,null,null,null,119,"",null,null,{"$f":"IF(GN100=\"\", 0, GN100 - IF(GN99=\"\", LOOKUP(2, 1/(GN$17:GN98<>\"\"), GN$17:GN98), GN99))","v":0},null,null,null,null,119,"",null,null,{"$f":"IF(GW100=\"\", 0, GW100 - IF(GW99=\"\", LOOKUP(2, 1/(GW$17:GW98<>\"\"), GW$17:GW98), GW99))","v":0},null,null,null,null,119,"",null,null,{"$f":"IF(HF100=\"\", 0, HF100 - IF(HF99=\"\", LOOKUP(2, 1/(HF$17:HF98<>\"\"), HF$17:HF98), HF99))","v":0},null,null,null,null,119,"",null,null,{"$f":"IF(HO100=\"\", 0, HO100 - IF(HO99=\"\", LOOKUP(2, 1/(HO$17:HO98<>\"\"), HO$17:HO98), HO99))","v":0},null,null,null,null,119,"",null,null,{"$f":"IF(HX100=\"\", 0, HX100 - IF(HX99=\"\", LOOKUP(2, 1/(HX$17:HX98<>\"\"), HX$17:HX98), HX99))","v":0},null,null,null,null,119,"",null,null,{"$f":"IF(IG100=\"\", 0, IG100 - IF(IG99=\"\", LOOKUP(2, 1/(IG$17:IG98<>\"\"), IG$17:IG98), IG99))","v":0},null,null,null,null,119,"",null,null,{"$f":"IF(IP100=\"\", 0, IP100 - IF(IP99=\"\", LOOKUP(2, 1/(IP$17:IP98<>\"\"), IP$17:IP98), IP99))","v":0},null,null,null,null,119,"",null,null,{"$f":"IF(IY100=\"\", 0, IY100 - IF(IY99=\"\", LOOKUP(2, 1/(IY$17:IY98<>\"\"), IY$17:IY98), IY99))","v":0},null,null,null,null,119,"",null,null,{"$f":"IF(JH100=\"\", 0, JH100 - IF(JH99=\"\", LOOKUP(2, 1/(JH$17:JH98<>\"\"), JH$17:JH98), JH99))","v":0},null,null,null,null,119,"",null,null,{"$f":"IF(JQ100=\"\", 0, JQ100 - IF(JQ99=\"\", LOOKUP(2, 1/(JQ$17:JQ98<>\"\"), JQ$17:JQ98), JQ99))","v":0},null,null,null,null,119,"",null,null,{"$f":"IF(JZ100=\"\", 0, JZ100 - IF(JZ99=\"\", LOOKUP(2, 1/(JZ$17:JZ98<>\"\"), JZ$17:JZ98), JZ99))","v":0},null,null,null,null,119,"",null,null,{"$f":"IF(KI100=\"\", 0, KI100 - IF(KI99=\"\", LOOKUP(2, 1/(KI$17:KI98<>\"\"), KI$17:KI98), KI99))","v":0},null,null,null,null,119,"",null,null,{"$f":"IF(KR100=\"\", 0, KR100 - IF(KR99=\"\", LOOKUP(2, 1/(KR$17:KR98<>\"\"), KR$17:KR98), KR99))","v":0},null,null,null,null,119,"",null,null,{"$f":"IF(LA100=\"\", 0, LA100 - IF(LA99=\"\", LOOKUP(2, 1/(LA$17:LA98<>\"\"), LA$17:LA98), LA99))","v":0},null,null,null,null,119,"",null,null,{"$f":"IF(LJ100=\"\", 0, LJ100 - IF(LJ99=\"\", LOOKUP(2, 1/(LJ$17:LJ98<>\"\"), LJ$17:LJ98), LJ99))","v":0},null,null,null,null,119,"",null,null,{"$f":"IF(LS100=\"\", 0, LS100 - IF(LS99=\"\", LOOKUP(2, 1/(LS$17:LS98<>\"\"), LS$17:LS98), LS99))","v":0},null,null,null,null,119,"",null,null,{"$f":"IF(MB100=\"\", 0, MB100 - IF(MB99=\"\", LOOKUP(2, 1/(MB$17:MB98<>\"\"), MB$17:MB98), MB99))","v":0},null,null,null,null,119,"",null,null,{"$f":"IF(MK100=\"\", 0, MK100 - IF(MK99=\"\", LOOKUP(2, 1/(MK$17:MK98<>\"\"), MK$17:MK98), MK99))","v":0},null,null,null,null,119,"",null,null,{"$f":"IF(MT100=\"\", 0, MT100 - IF(MT99=\"\", LOOKUP(2, 1/(MT$17:MT98<>\"\"), MT$17:MT98), MT99))","v":0},null,null,119,"",null,null,{"$f":"IF(NA100=\"\", 0, NA100 - IF(NA99=\"\", LOOKUP(2, 1/(NA$17:NA98<>\"\"), NA$17:NA98), NA99))","v":0},null,null,null,null,119,"",null,null,{"$f":"IF(NJ100=\"\", 0, NJ100 - IF(NJ99=\"\", LOOKUP(2, 1/(NJ$17:NJ98<>\"\"), NJ$17:NJ98), NJ99))","v":0},null,null,null,null,119,"",null,null,{"$f":"IF(NS100=\"\", 0, NS100 - IF(NS99=\"\", LOOKUP(2, 1/(NS$17:NS98<>\"\"), NS$17:NS98), NS99))","v":0},null,null,null,null,119,"",null,null,{"$f":"IF(OB100=\"\", 0, OB100 - IF(OB99=\"\", LOOKUP(2, 1/(OB$17:OB98<>\"\"), OB$17:OB98), OB99))","v":0},null,null,null,null,119,"",null,null,{"$f":"IF(OK100=\"\", 0, OK100 - IF(OK99=\"\", LOOKUP(2, 1/(OK$17:OK98<>\"\"), OK$17:OK98), OK99))","v":0},null,null,null,null,119,"",null,null,{"$f":"IF(OT100=\"\", 0, OT100 - IF(OT99=\"\", LOOKUP(2, 1/(OT$17:OT98<>\"\"), OT$17:OT98), OT99))","v":0},null,null,null,null,119,"",null,null,{"$f":"IF(PC100=\"\", 0, PC100 - IF(PC99=\"\", LOOKUP(2, 1/(PC$17:PC98<>\"\"), PC$17:PC98), PC99))","v":0},null,null,null,null,119,"",null,null,{"$f":"IF(PL100=\"\", 0, PL100 - IF(PL99=\"\", LOOKUP(2, 1/(PL$17:PL98<>\"\"), PL$17:PL98), PL99))","v":0},null,null,null,null,119,"",null,null,{"$f":"IF(PU100=\"\", 0, PU100 - IF(PU99=\"\", LOOKUP(2, 1/(PU$17:PU98<>\"\"), PU$17:PU98), PU99))","v":0},null,null,null,null,119,"",null,null,{"$f":"IF(QD100=\"\", 0, QD100 - IF(QD99=\"\", LOOKUP(2, 1/(QD$17:QD98<>\"\"), QD$17:QD98), QD99))","v":0}]
[null,null,null,118,"",null,null,{"$f":"IF(G101=\"\", 0, G101 - IF(G100=\"\", LOOKUP(2, 1/(G$17:G99<>\"\"), G$17:G99), G100))","v":0},null,null,null,null,118,"",null,null,{"$f":"IF(P101=\"\", 0, P101 - IF(P100=\"\", LOOKUP(2, 1/(P$17:P99<>\"\"), P$17:P99), P100))","v":0},null,null,null,null,118,"",null,null,{"$f":"IF(Y101=\"\", 0, Y101 - IF(Y100=\"\", LOOKUP(2, 1/(Y$17:Y99<>\"\"), Y$17:Y99), Y100))","v":0},null,null,null,null,118,"",null,null,{"$f":"IF(AH101=\"\", 0, AH101 - IF(AH100=\"\", LOOKUP(2, 1/(AH$17:AH99<>\"\"), AH$17:AH99), AH100))","v":0},null,null,null,null,118,"",null,null,{"$f":"IF(AQ101=\"\", 0, AQ101 - IF(AQ100=\"\", LOOKUP(2, 1/(AQ$17:AQ99<>\"\"), AQ$17:AQ99), AQ100))","v":0},null,null,null,null,118,"",null,null,{"$f":"IF(AZ101=\"\", 0, AZ101 - IF(AZ100=\"\", LOOKUP(2, 1/(AZ$17:AZ99<>\"\"), AZ$17:AZ99), AZ100))","v":0},null,null,null,null,118,"",null,null,{"$f":"IF(BI101=\"\", 0, BI101 - IF(BI100=\"\", LOOKUP(2, 1/(BI$17:BI99<>\"\"), BI$17:BI99), BI100))","v":0},null,null,null,null,118,"",null,null,{"$f":"IF(BR101=\"\", 0, BR101 - IF(BR100=\"\", LOOKUP(2, 1/(BR$17:BR99<>\"\"), BR$17:BR99), BR100))","v":0},null,null,null,null,118,"",null,null,{"$f":"IF(CA101=\"\", 0, CA101 - IF(CA100=\"\", LOOKUP(2, 1/(CA$17:CA99<>\"\"), CA$17:CA99), CA100))","v":0},null,null,null,null,118,"",null,null,{"$f":"IF(CJ101=\"\", 0, CJ101 - IF(CJ100=\"\", LOOKUP(2, 1/(CJ$17:CJ99<>\"\"), CJ$17:CJ99), CJ100))","v":0},null,null,null,null,118,"",null,null,{"$f":"IF(CS101=\"\", 0, CS101 - IF(CS100=\"\", LOOKUP(2, 1/(CS$17:CS99<>\"\"), CS$17:CS99), CS100))","v":0},null,null,null,null,118,"",null,null,{"$f":"IF(DB101=\"\", 0, DB101 - IF(DB100=\"\", LOOKUP(2, 1/(DB$17:DB99<>\"\"), DB$17:DB99), DB100))","v":0},null,null,null,null,118,"",null,null,{"$f":"IF(DK101=\"\", 0, DK101 - IF(DK100=\"\", LOOKUP(2, 1/(DK$17:DK99<>\"\"), DK$17:DK99), DK100))","v":0},null,null,null,null,118,"",null,null,{"$f":"IF(DT101=\"\", 0, DT101 - IF(DT100=\"\", LOOKUP(2, 1/(DT$17:DT99<>\"\"), DT$17:DT99), DT100))","v":0},null,null,null,null,118,"",null,null,{"$f":"IF(EC101=\"\", 0, EC101 - IF(EC100=\"\", LOOKUP(2, 1/(EC$17:EC99<>\"\"), EC$17:EC99), EC100))","v":0},null,null,null,null,118,"",null,null,{"$f":"IF(EL101=\"\", 0, EL101 - IF(EL100=\"\", LOOKUP(2, 1/(EL$17:EL99<>\"\"), EL$17:EL99), EL100))","v":0},null,null,null,null,118,"",null,null,{"$f":"IF(EU101=\"\", 0, EU101 - IF(EU100=\"\", LOOKUP(2, 1/(EU$17:EU99<>\"\"), EU$17:EU99), EU100))","v":0},null,null,null,null,118,"",null,null,{"$f":"IF(FD101=\"\", 0, FD101 - IF(FD100=\"\", LOOKUP(2, 1/(FD$17:FD99<>\"\"), FD$17:FD99), FD100))","v":0},null,null,null,null,118,"",null,null,{"$f":"IF(FM101=\"\", 0, FM101 - IF(FM100=\"\", LOOKUP(2, 1/(FM$17:FM99<>\"\"), FM$17:FM99), FM100))","v":0},null,null,null,null,118,"",null,null,{"$f":"IF(FV101=\"\", 0, FV101 - IF(FV100=\"\", LOOKUP(2, 1/(FV$17:FV99<>\"\"), FV$17:FV99), FV100))","v":0},null,null,null,null,118,"",null,null,{"$f":"IF(GE101=\"\", 0, GE101 - IF(GE100=\"\", LOOKUP(2, 1/(GE$17:GE99<>\"\"), GE$17:GE99), GE100))","v":0},null,null,null,null,118,"",null,null,{"$f":"IF(GN101=\"\", 0, GN101 - IF(GN100=\"\", LOOKUP(2, 1/(GN$17:GN99<>\"\"), GN$17:GN99), GN100))","v":0},null,null,null,null,118,"",null,null,{"$f":"IF(GW101=\"\", 0, GW101 - IF(GW100=\"\", LOOKUP(2, 1/(GW$17:GW99<>\"\"), GW$17:GW99), GW100))","v":0},null,null,null,null,118,"",null,null,{"$f":"IF(HF101=\"\", 0, HF101 - IF(HF100=\"\", LOOKUP(2, 1/(HF$17:HF99<>\"\"), HF$17:HF99), HF100))","v":0},null,null,null,null,118,"",null,null,{"$f":"IF(HO101=\"\", 0, HO101 - IF(HO100=\"\", LOOKUP(2, 1/(HO$17:HO99<>\"\"), HO$17:HO99), HO100))","v":0},null,null,null,null,118,"",null,null,{"$f":"IF(HX101=\"\", 0, HX101 - IF(HX100=\"\", LOOKUP(2, 1/(HX$17:HX99<>\"\"), HX$17:HX99), HX100))","v":0},null,null,null,null,118,"",null,null,{"$f":"IF(IG101=\"\", 0, IG101 - IF(IG100=\"\", LOOKUP(2, 1/(IG$17:IG99<>\"\"), IG$17:IG99), IG100))","v":0},null,null,null,null,118,"",null,null,{"$f":"IF(IP101=\"\", 0, IP101 - IF(IP100=\"\", LOOKUP(2, 1/(IP$17:IP99<>\"\"), IP$17:IP99), IP100))","v":0},null,null,null,null,118,"",null,null,{"$f":"IF(IY101=\"\", 0, IY101 - IF(IY100=\"\", LOOKUP(2, 1/(IY$17:IY99<>\"\"), IY$17:IY99), IY100))","v":0},null,null,null,null,118,"",null,null,{"$f":"IF(JH101=\"\", 0, JH101 - IF(JH100=\"\", LOOKUP(2, 1/(JH$17:JH99<>\"\"), JH$17:JH99), JH100))","v":0},null,null,null,null,118,"",null,null,{"$f":"IF(JQ101=\"\", 0, JQ101 - IF(JQ100=\"\", LOOKUP(2, 1/(JQ$17:JQ99<>\"\"), JQ$17:JQ99), JQ100))","v":0},null,null,null,null,118,"",null,null,{"$f":"IF(JZ101=\"\", 0, JZ101 - IF(JZ100=\"\", LOOKUP(2, 1/(JZ$17:JZ99<>\"\"), JZ$17:JZ99), JZ100))","v":0},null,null,null,null,118,"",null,null,{"$f":"IF(KI101=\"\", 0, KI101 - IF(KI100=\"\", LOOKUP(2, 1/(KI$17:KI99<>\"\"), KI$17:KI99), KI100))","v":0},null,null,null,null,118,"",null,null,{"$f":"IF(KR101=\"\", 0, KR101 - IF(KR100=\"\", LOOKUP(2, 1/(KR$17:KR99<>\"\"), KR$17:KR99), KR100))","v":0},null,null,null,null,118,"",null,null,{"$f":"IF(LA101=\"\", 0, LA101 - IF(LA100=\"\", LOOKUP(2, 1/(LA$17:LA99<>\"\"), LA$17:LA99), LA100))","v":0},null,null,null,null,118,"",null,null,{"$f":"IF(LJ101=\"\", 0, LJ101 - IF(LJ100=\"\", LOOKUP(2, 1/(LJ$17:LJ99<>\"\"), LJ$17:LJ99), LJ100))","v":0},null,null,null,null,118,"",null,null,{"$f":"IF(LS101=\"\", 0, LS101 - IF(LS100=\"\", LOOKUP(2, 1/(LS$17:LS99<>\"\"), LS$17:LS99), LS100))","v":0},null,null,null,null,118,"",null,null,{"$f":"IF(MB101=\"\", 0, MB101 - IF(MB100=\"\", LOOKUP(2, 1/(MB$17:MB99<>\"\"), MB$17:MB99), MB100))","v":0},null,null,null,null,118,"",null,null,{"$f":"IF(MK101=\"\", 0, MK101 - IF(MK100=\"\", LOOKUP(2, 1/(MK$17:MK99<>\"\"), MK$17:MK99), MK100))","v":0},null,null,null,null,118,"",null,null,{"$f":"IF(MT101=\"\", 0, MT101 - IF(MT100=\"\", LOOKUP(2, 1/(MT$17:MT99<>\"\"), MT$17:MT99), MT100))","v":0},null,null,118,"",null,null,{"$f":"IF(NA101=\"\", 0, NA101 - IF(NA100=\"\", LOOKUP(2, 1/(NA$17:NA99<>\"\"), NA$17:NA99), NA100))","v":0},null,null,null,null,118,"",null,null,{"$f":"IF(NJ101=\"\", 0, NJ101 - IF(NJ100=\"\", LOOKUP(2, 1/(NJ$17:NJ99<>\"\"), NJ$17:NJ99), NJ100))","v":0},null,null,null,null,118,"",null,null,{"$f":"IF(NS101=\"\", 0, NS101 - IF(NS100=\"\", LOOKUP(2, 1/(NS$17:NS99<>\"\"), NS$17:NS99), NS100))","v":0},null,null,null,null,118,"",null,null,{"$f":"IF(OB101=\"\", 0, OB101 - IF(OB100=\"\", LOOKUP(2, 1/(OB$17:OB99<>\"\"), OB$17:OB99), OB100))","v":0},null,null,null,null,118,"",null,null,{"$f":"IF(OK101=\"\", 0, OK101 - IF(OK100=\"\", LOOKUP(2, 1/(OK$17:OK99<>\"\"), OK$17:OK99), OK100))","v":0},null,null,null,null,118,"",null,null,{"$f":"IF(OT101=\"\", 0, OT101 - IF(OT100=\"\", LOOKUP(2, 1/(OT$17:OT99<>\"\"), OT$17:OT99), OT100))","v":0},null,null,null,null,118,"",null,null,{"$f":"IF(PC101=\"\", 0, PC101 - IF(PC100=\"\", LOOKUP(2, 1/(PC$17:PC99<>\"\"), PC$17:PC99), PC100))","v":0},null,null,null,null,118,"",null,null,{"$f":"IF(PL101=\"\", 0, PL101 - IF(PL100=\"\", LOOKUP(2, 1/(PL$17:PL99<>\"\"), PL$17:PL99), PL100))","v":0},null,null,null,null,118,"",null,null,{"$f":"IF(PU101=\"\", 0, PU101 - IF(PU100=\"\", LOOKUP(2, 1/(PU$17:PU99<>\"\"), PU$17:PU99), PU100))","v":0},null,null,null,null,118,"",null,null,{"$f":"IF(QD101=\"\", 0, QD101 - IF(QD100=\"\", LOOKUP(2, 1/(QD$17:QD99<>\"\"), QD$17:QD99), QD100))","v":0}]
[null,null,null,117,"",null,null,{"$f":"IF(G102=\"\", 0, G102 - IF(G101=\"\", LOOKUP(2, 1/(G$17:G100<>\"\"), G$17:G100), G101))","v":0},null,null,null,null,117,"",null,null,{"$f":"IF(P102=\"\", 0, P102 - IF(P101=\"\", LOOKUP(2, 1/(P$17:P100<>\"\"), P$17:P100), P101))","v":0},null,null,null,null,117,"",null,null,{"$f":"IF(Y102=\"\", 0, Y102 - IF(Y101=\"\", LOOKUP(2, 1/(Y$17:Y100<>\"\"), Y$17:Y100), Y101))","v":0},null,null,null,null,117,"",null,null,{"$f":"IF(AH102=\"\", 0, AH102 - IF(AH101=\"\", LOOKUP(2, 1/(AH$17:AH100<>\"\"), AH$17:AH100), AH101))","v":0},null,null,null,null,117,"",null,null,{"$f":"IF(AQ102=\"\", 0, AQ102 - IF(AQ101=\"\", LOOKUP(2, 1/(AQ$17:AQ100<>\"\"), AQ$17:AQ100), AQ101))","v":0},null,null,null,null,117,"",null,null,{"$f":"IF(AZ102=\"\", 0, AZ102 - IF(AZ101=\"\", LOOKUP(2, 1/(AZ$17:AZ100<>\"\"), AZ$17:AZ100), AZ101))","v":0},null,null,null,null,117,"",null,null,{"$f":"IF(BI102=\"\", 0, BI102 - IF(BI101=\"\", LOOKUP(2, 1/(BI$17:BI100<>\"\"), BI$17:BI100), BI101))","v":0},null,null,null,null,117,"",null,null,{"$f":"IF(BR102=\"\", 0, BR102 - IF(BR101=\"\", LOOKUP(2, 1/(BR$17:BR100<>\"\"), BR$17:BR100), BR101))","v":0},null,null,null,null,117,"",null,null,{"$f":"IF(CA102=\"\", 0, CA102 - IF(CA101=\"\", LOOKUP(2, 1/(CA$17:CA100<>\"\"), CA$17:CA100), CA101))","v":0},null,null,null,null,117,"",null,null,{"$f":"IF(CJ102=\"\", 0, CJ102 - IF(CJ101=\"\", LOOKUP(2, 1/(CJ$17:CJ100<>\"\"), CJ$17:CJ100), CJ101))","v":0},null,null,null,null,117,"",null,null,{"$f":"IF(CS102=\"\", 0, CS102 - IF(CS101=\"\", LOOKUP(2, 1/(CS$17:CS100<>\"\"), CS$17:CS100), CS101))","v":0},null,null,null,null,117,"",null,null,{"$f":"IF(DB102=\"\", 0, DB102 - IF(DB101=\"\", LOOKUP(2, 1/(DB$17:DB100<>\"\"), DB$17:DB100), DB101))","v":0},null,null,null,null,117,"",null,null,{"$f":"IF(DK102=\"\", 0, DK102 - IF(DK101=\"\", LOOKUP(2, 1/(DK$17:DK100<>\"\"), DK$17:DK100), DK101))","v":0},null,null,null,null,117,"",null,null,{"$f":"IF(DT102=\"\", 0, DT102 - IF(DT101=\"\", LOOKUP(2, 1/(DT$17:DT100<>\"\"), DT$17:DT100), DT101))","v":0},null,null,null,null,117,"",null,null,{"$f":"IF(EC102=\"\", 0, EC102 - IF(EC101=\"\", LOOKUP(2, 1/(EC$17:EC100<>\"\"), EC$17:EC100), EC101))","v":0},null,null,null,null,117,"",null,null,{"$f":"IF(EL102=\"\", 0, EL102 - IF(EL101=\"\", LOOKUP(2, 1/(EL$17:EL100<>\"\"), EL$17:EL100), EL101))","v":0},null,null,null,null,117,"",null,null,{"$f":"IF(EU102=\"\", 0, EU102 - IF(EU101=\"\", LOOKUP(2, 1/(EU$17:EU100<>\"\"), EU$17:EU100), EU101))","v":0},null,null,null,null,117,"",null,null,{"$f":"IF(FD102=\"\", 0, FD102 - IF(FD101=\"\", LOOKUP(2, 1/(FD$17:FD100<>\"\"), FD$17:FD100), FD101))","v":0},null,null,null,null,117,"",null,null,{"$f":"IF(FM102=\"\", 0, FM102 - IF(FM101=\"\", LOOKUP(2, 1/(FM$17:FM100<>\"\"), FM$17:FM100), FM101))","v":0},null,null,null,null,117,"",null,null,{"$f":"IF(FV102=\"\", 0, FV102 - IF(FV101=\"\", LOOKUP(2, 1/(FV$17:FV100<>\"\"), FV$17:FV100), FV101))","v":0},null,null,null,null,117,"",null,null,{"$f":"IF(GE102=\"\", 0, GE102 - IF(GE101=\"\", LOOKUP(2, 1/(GE$17:GE100<>\"\"), GE$17:GE100), GE101))","v":0},null,null,null,null,117,"",null,null,{"$f":"IF(GN102=\"\", 0, GN102 - IF(GN101=\"\", LOOKUP(2, 1/(GN$17:GN100<>\"\"), GN$17:GN100), GN101))","v":0},null,null,null,null,117,"",null,null,{"$f":"IF(GW102=\"\", 0, GW102 - IF(GW101=\"\", LOOKUP(2, 1/(GW$17:GW100<>\"\"), GW$17:GW100), GW101))","v":0},null,null,null,null,117,"",null,null,{"$f":"IF(HF102=\"\", 0, HF102 - IF(HF101=\"\", LOOKUP(2, 1/(HF$17:HF100<>\"\"), HF$17:HF100), HF101))","v":0},null,null,null,null,117,"",null,null,{"$f":"IF(HO102=\"\", 0, HO102 - IF(HO101=\"\", LOOKUP(2, 1/(HO$17:HO100<>\"\"), HO$17:HO100), HO101))","v":0},null,null,null,null,117,"",null,null,{"$f":"IF(HX102=\"\", 0, HX102 - IF(HX101=\"\", LOOKUP(2, 1/(HX$17:HX100<>\"\"), HX$17:HX100), HX101))","v":0},null,null,null,null,117,"",null,null,{"$f":"IF(IG102=\"\", 0, IG102 - IF(IG101=\"\", LOOKUP(2, 1/(IG$17:IG100<>\"\"), IG$17:IG100), IG101))","v":0},null,null,null,null,117,"",null,null,{"$f":"IF(IP102=\"\", 0, IP102 - IF(IP101=\"\", LOOKUP(2, 1/(IP$17:IP100<>\"\"), IP$17:IP100), IP101))","v":0},null,null,null,null,117,"",null,null,{"$f":"IF(IY102=\"\", 0, IY102 - IF(IY101=\"\", LOOKUP(2, 1/(IY$17:IY100<>\"\"), IY$17:IY100), IY101))","v":0},null,null,null,null,117,"",null,null,{"$f":"IF(JH102=\"\", 0, JH102 - IF(JH101=\"\", LOOKUP(2, 1/(JH$17:JH100<>\"\"), JH$17:JH100), JH101))","v":0},null,null,null,null,117,"",null,null,{"$f":"IF(JQ102=\"\", 0, JQ102 - IF(JQ101=\"\", LOOKUP(2, 1/(JQ$17:JQ100<>\"\"), JQ$17:JQ100), JQ101))","v":0},null,null,null,null,117,"",null,null,{"$f":"IF(JZ102=\"\", 0, JZ102 - IF(JZ101=\"\", LOOKUP(2, 1/(JZ$17:JZ100<>\"\"), JZ$17:JZ100), JZ101))","v":0},null,null,null,null,117,"",null,null,{"$f":"IF(KI102=\"\", 0, KI102 - IF(KI101=\"\", LOOKUP(2, 1/(KI$17:KI100<>\"\"), KI$17:KI100), KI101))","v":0},null,null,null,null,117,"",null,null,{"$f":"IF(KR102=\"\", 0, KR102 - IF(KR101=\"\", LOOKUP(2, 1/(KR$17:KR100<>\"\"), KR$17:KR100), KR101))","v":0},null,null,null,null,117,"",null,null,{"$f":"IF(LA102=\"\", 0, LA102 - IF(LA101=\"\", LOOKUP(2, 1/(LA$17:LA100<>\"\"), LA$17:LA100), LA101))","v":0},null,null,null,null,117,"",null,null,{"$f":"IF(LJ102=\"\", 0, LJ102 - IF(LJ101=\"\", LOOKUP(2, 1/(LJ$17:LJ100<>\"\"), LJ$17:LJ100), LJ101))","v":0},null,null,null,null,117,"",null,null,{"$f":"IF(LS102=\"\", 0, LS102 - IF(LS101=\"\", LOOKUP(2, 1/(LS$17:LS100<>\"\"), LS$17:LS100), LS101))","v":0},null,null,null,null,117,"",null,null,{"$f":"IF(MB102=\"\", 0, MB102 - IF(MB101=\"\", LOOKUP(2, 1/(MB$17:MB100<>\"\"), MB$17:MB100), MB101))","v":0},null,null,null,null,117,"",null,null,{"$f":"IF(MK102=\"\", 0, MK102 - IF(MK101=\"\", LOOKUP(2, 1/(MK$17:MK100<>\"\"), MK$17:MK100), MK101))","v":0},null,null,null,null,117,"",null,null,{"$f":"IF(MT102=\"\", 0, MT102 - IF(MT101=\"\", LOOKUP(2, 1/(MT$17:MT100<>\"\"), MT$17:MT100), MT101))","v":0},null,null,117,"",null,null,{"$f":"IF(NA102=\"\", 0, NA102 - IF(NA101=\"\", LOOKUP(2, 1/(NA$17:NA100<>\"\"), NA$17:NA100), NA101))","v":0},null,null,null,null,117,"",null,null,{"$f":"IF(NJ102=\"\", 0, NJ102 - IF(NJ101=\"\", LOOKUP(2, 1/(NJ$17:NJ100<>\"\"), NJ$17:NJ100), NJ101))","v":0},null,null,null,null,117,"",null,null,{"$f":"IF(NS102=\"\", 0, NS102 - IF(NS101=\"\", LOOKUP(2, 1/(NS$17:NS100<>\"\"), NS$17:NS100), NS101))","v":0},null,null,null,null,117,"",null,null,{"$f":"IF(OB102=\"\", 0, OB102 - IF(OB101=\"\", LOOKUP(2, 1/(OB$17:OB100<>\"\"), OB$17:OB100), OB101))","v":0},null,null,null,null,117,"",null,null,{"$f":"IF(OK102=\"\", 0, OK102 - IF(OK101=\"\", LOOKUP(2, 1/(OK$17:OK100<>\"\"), OK$17:OK100), OK101))","v":0},null,null,null,null,117,"",null,null,{"$f":"IF(OT102=\"\", 0, OT102 - IF(OT101=\"\", LOOKUP(2, 1/(OT$17:OT100<>\"\"), OT$17:OT100), OT101))","v":0},null,null,null,null,117,"",null,null,{"$f":"IF(PC102=\"\", 0, PC102 - IF(PC101=\"\", LOOKUP(2, 1/(PC$17:PC100<>\"\"), PC$17:PC100), PC101))","v":0},null,null,null,null,117,"",null,null,{"$f":"IF(PL102=\"\", 0, PL102 - IF(PL101=\"\", LOOKUP(2, 1/(PL$17:PL100<>\"\"), PL$17:PL100), PL101))","v":0},null,null,null,null,117,"",null,null,{"$f":"IF(PU102=\"\", 0, PU102 - IF(PU101=\"\", LOOKUP(2, 1/(PU$17:PU100<>\"\"), PU$17:PU100), PU101))","v":0},null,null,null,null,117,"",null,null,{"$f":"IF(QD102=\"\", 0, QD102 - IF(QD101=\"\", LOOKUP(2, 1/(QD$17:QD100<>\"\"), QD$17:QD100), QD101))","v":0}]
[null,null,null,116,"",null,null,{"$f":"IF(G103=\"\", 0, G103 - IF(G102=\"\", LOOKUP(2, 1/(G$17:G101<>\"\"), G$17:G101), G102))","v":0},null,null,null,null,116,"",null,null,{"$f":"IF(P103=\"\", 0, P103 - IF(P102=\"\", LOOKUP(2, 1/(P$17:P101<>\"\"), P$17:P101), P102))","v":0},null,null,null,null,116,"",null,null,{"$f":"IF(Y103=\"\", 0, Y103 - IF(Y102=\"\", LOOKUP(2, 1/(Y$17:Y101<>\"\"), Y$17:Y101), Y102))","v":0},null,null,null,null,116,"",null,null,{"$f":"IF(AH103=\"\", 0, AH103 - IF(AH102=\"\", LOOKUP(2, 1/(AH$17:AH101<>\"\"), AH$17:AH101), AH102))","v":0},null,null,null,null,116,"",null,null,{"$f":"IF(AQ103=\"\", 0, AQ103 - IF(AQ102=\"\", LOOKUP(2, 1/(AQ$17:AQ101<>\"\"), AQ$17:AQ101), AQ102))","v":0},null,null,null,null,116,"",null,null,{"$f":"IF(AZ103=\"\", 0, AZ103 - IF(AZ102=\"\", LOOKUP(2, 1/(AZ$17:AZ101<>\"\"), AZ$17:AZ101), AZ102))","v":0},null,null,null,null,116,"",null,null,{"$f":"IF(BI103=\"\", 0, BI103 - IF(BI102=\"\", LOOKUP(2, 1/(BI$17:BI101<>\"\"), BI$17:BI101), BI102))","v":0},null,null,null,null,116,"",null,null,{"$f":"IF(BR103=\"\", 0, BR103 - IF(BR102=\"\", LOOKUP(2, 1/(BR$17:BR101<>\"\"), BR$17:BR101), BR102))","v":0},null,null,null,null,116,"",null,null,{"$f":"IF(CA103=\"\", 0, CA103 - IF(CA102=\"\", LOOKUP(2, 1/(CA$17:CA101<>\"\"), CA$17:CA101), CA102))","v":0},null,null,null,null,116,"",null,null,{"$f":"IF(CJ103=\"\", 0, CJ103 - IF(CJ102=\"\", LOOKUP(2, 1/(CJ$17:CJ101<>\"\"), CJ$17:CJ101), CJ102))","v":0},null,null,null,null,116,"",null,null,{"$f":"IF(CS103=\"\", 0, CS103 - IF(CS102=\"\", LOOKUP(2, 1/(CS$17:CS101<>\"\"), CS$17:CS101), CS102))","v":0},null,null,null,null,116,"",null,null,{"$f":"IF(DB103=\"\", 0, DB103 - IF(DB102=\"\", LOOKUP(2, 1/(DB$17:DB101<>\"\"), DB$17:DB101), DB102))","v":0},null,null,null,null,116,"",null,null,{"$f":"IF(DK103=\"\", 0, DK103 - IF(DK102=\"\", LOOKUP(2, 1/(DK$17:DK101<>\"\"), DK$17:DK101), DK102))","v":0},null,null,null,null,116,"",null,null,{"$f":"IF(DT103=\"\", 0, DT103 - IF(DT102=\"\", LOOKUP(2, 1/(DT$17:DT101<>\"\"), DT$17:DT101), DT102))","v":0},null,null,null,null,116,"",null,null,{"$f":"IF(EC103=\"\", 0, EC103 - IF(EC102=\"\", LOOKUP(2, 1/(EC$17:EC101<>\"\"), EC$17:EC101), EC102))","v":0},null,null,null,null,116,"",null,null,{"$f":"IF(EL103=\"\", 0, EL103 - IF(EL102=\"\", LOOKUP(2, 1/(EL$17:EL101<>\"\"), EL$17:EL101), EL102))","v":0},null,null,null,null,116,"",null,null,{"$f":"IF(EU103=\"\", 0, EU103 - IF(EU102=\"\", LOOKUP(2, 1/(EU$17:EU101<>\"\"), EU$17:EU101), EU102))","v":0},null,null,null,null,116,"",null,null,{"$f":"IF(FD103=\"\", 0, FD103 - IF(FD102=\"\", LOOKUP(2, 1/(FD$17:FD101<>\"\"), FD$17:FD101), FD102))","v":0},null,null,null,null,116,"",null,null,{"$f":"IF(FM103=\"\", 0, FM103 - IF(FM102=\"\", LOOKUP(2, 1/(FM$17:FM101<>\"\"), FM$17:FM101), FM102))","v":0},null,null,null,null,116,"",null,null,{"$f":"IF(FV103=\"\", 0, FV103 - IF(FV102=\"\", LOOKUP(2, 1/(FV$17:FV101<>\"\"), FV$17:FV101), FV102))","v":0},null,null,null,null,116,"",null,null,{"$f":"IF(GE103=\"\", 0, GE103 - IF(GE102=\"\", LOOKUP(2, 1/(GE$17:GE101<>\"\"), GE$17:GE101), GE102))","v":0},null,null,null,null,116,"",null,null,{"$f":"IF(GN103=\"\", 0, GN103 - IF(GN102=\"\", LOOKUP(2, 1/(GN$17:GN101<>\"\"), GN$17:GN101), GN102))","v":0},null,null,null,null,116,"",null,null,{"$f":"IF(GW103=\"\", 0, GW103 - IF(GW102=\"\", LOOKUP(2, 1/(GW$17:GW101<>\"\"), GW$17:GW101), GW102))","v":0},null,null,null,null,116,"",null,null,{"$f":"IF(HF103=\"\", 0, HF103 - IF(HF102=\"\", LOOKUP(2, 1/(HF$17:HF101<>\"\"), HF$17:HF101), HF102))","v":0},null,null,null,null,116,"",null,null,{"$f":"IF(HO103=\"\", 0, HO103 - IF(HO102=\"\", LOOKUP(2, 1/(HO$17:HO101<>\"\"), HO$17:HO101), HO102))","v":0},null,null,null,null,116,"",null,null,{"$f":"IF(HX103=\"\", 0, HX103 - IF(HX102=\"\", LOOKUP(2, 1/(HX$17:HX101<>\"\"), HX$17:HX101), HX102))","v":0},null,null,null,null,116,"",null,null,{"$f":"IF(IG103=\"\", 0, IG103 - IF(IG102=\"\", LOOKUP(2, 1/(IG$17:IG101<>\"\"), IG$17:IG101), IG102))","v":0},null,null,null,null,116,"",null,null,{"$f":"IF(IP103=\"\", 0, IP103 - IF(IP102=\"\", LOOKUP(2, 1/(IP$17:IP101<>\"\"), IP$17:IP101), IP102))","v":0},null,null,null,null,116,"",null,null,{"$f":"IF(IY103=\"\", 0, IY103 - IF(IY102=\"\", LOOKUP(2, 1/(IY$17:IY101<>\"\"), IY$17:IY101), IY102))","v":0},null,null,null,null,116,"",null,null,{"$f":"IF(JH103=\"\", 0, JH103 - IF(JH102=\"\", LOOKUP(2, 1/(JH$17:JH101<>\"\"), JH$17:JH101), JH102))","v":0},null,null,null,null,116,"",null,null,{"$f":"IF(JQ103=\"\", 0, JQ103 - IF(JQ102=\"\", LOOKUP(2, 1/(JQ$17:JQ101<>\"\"), JQ$17:JQ101), JQ102))","v":0},null,null,null,null,116,"",null,null,{"$f":"IF(JZ103=\"\", 0, JZ103 - IF(JZ102=\"\", LOOKUP(2, 1/(JZ$17:JZ101<>\"\"), JZ$17:JZ101), JZ102))","v":0},null,null,null,null,116,"",null,null,{"$f":"IF(KI103=\"\", 0, KI103 - IF(KI102=\"\", LOOKUP(2, 1/(KI$17:KI101<>\"\"), KI$17:KI101), KI102))","v":0},null,null,null,null,116,"",null,null,{"$f":"IF(KR103=\"\", 0, KR103 - IF(KR102=\"\", LOOKUP(2, 1/(KR$17:KR101<>\"\"), KR$17:KR101), KR102))","v":0},null,null,null,null,116,"",null,null,{"$f":"IF(LA103=\"\", 0, LA103 - IF(LA102=\"\", LOOKUP(2, 1/(LA$17:LA101<>\"\"), LA$17:LA101), LA102))","v":0},null,null,null,null,116,"",null,null,{"$f":"IF(LJ103=\"\", 0, LJ103 - IF(LJ102=\"\", LOOKUP(2, 1/(LJ$17:LJ101<>\"\"), LJ$17:LJ101), LJ102))","v":0},null,null,null,null,116,"",null,null,{"$f":"IF(LS103=\"\", 0, LS103 - IF(LS102=\"\", LOOKUP(2, 1/(LS$17:LS101<>\"\"), LS$17:LS101), LS102))","v":0},null,null,null,null,116,"",null,null,{"$f":"IF(MB103=\"\", 0, MB103 - IF(MB102=\"\", LOOKUP(2, 1/(MB$17:MB101<>\"\"), MB$17:MB101), MB102))","v":0},null,null,null,null,116,"",null,null,{"$f":"IF(MK103=\"\", 0, MK103 - IF(MK102=\"\", LOOKUP(2, 1/(MK$17:MK101<>\"\"), MK$17:MK101), MK102))","v":0},null,null,null,null,116,"",null,null,{"$f":"IF(MT103=\"\", 0, MT103 - IF(MT102=\"\", LOOKUP(2, 1/(MT$17:MT101<>\"\"), MT$17:MT101), MT102))","v":0},null,null,116,"",null,null,{"$f":"IF(NA103=\"\", 0, NA103 - IF(NA102=\"\", LOOKUP(2, 1/(NA$17:NA101<>\"\"), NA$17:NA101), NA102))","v":0},null,null,null,null,116,"",null,null,{"$f":"IF(NJ103=\"\", 0, NJ103 - IF(NJ102=\"\", LOOKUP(2, 1/(NJ$17:NJ101<>\"\"), NJ$17:NJ101), NJ102))","v":0},null,null,null,null,116,"",null,null,{"$f":"IF(NS103=\"\", 0, NS103 - IF(NS102=\"\", LOOKUP(2, 1/(NS$17:NS101<>\"\"), NS$17:NS101), NS102))","v":0},null,null,null,null,116,"",null,null,{"$f":"IF(OB103=\"\", 0, OB103 - IF(OB102=\"\", LOOKUP(2, 1/(OB$17:OB101<>\"\"), OB$17:OB101), OB102))","v":0},null,null,null,null,116,"",null,null,{"$f":"IF(OK103=\"\", 0, OK103 - IF(OK102=\"\", LOOKUP(2, 1/(OK$17:OK101<>\"\"), OK$17:OK101), OK102))","v":0},null,null,null,null,116,"",null,null,{"$f":"IF(OT103=\"\", 0, OT103 - IF(OT102=\"\", LOOKUP(2, 1/(OT$17:OT101<>\"\"), OT$17:OT101), OT102))","v":0},null,null,null,null,116,"",null,null,{"$f":"IF(PC103=\"\", 0, PC103 - IF(PC102=\"\", LOOKUP(2, 1/(PC$17:PC101<>\"\"), PC$17:PC101), PC102))","v":0},null,null,null,null,116,"",null,null,{"$f":"IF(PL103=\"\", 0, PL103 - IF(PL102=\"\", LOOKUP(2, 1/(PL$17:PL101<>\"\"), PL$17:PL101), PL102))","v":0},null,null,null,null,116,"",null,null,{"$f":"IF(PU103=\"\", 0, PU103 - IF(PU102=\"\", LOOKUP(2, 1/(PU$17:PU101<>\"\"), PU$17:PU101), PU102))","v":0},null,null,null,null,116,"",null,null,{"$f":"IF(QD103=\"\", 0, QD103 - IF(QD102=\"\", LOOKUP(2, 1/(QD$17:QD101<>\"\"), QD$17:QD101), QD102))","v":0}]
[null,null,null,115,"",null,null,{"$f":"IF(G104=\"\", 0, G104 - IF(G103=\"\", LOOKUP(2, 1/(G$17:G102<>\"\"), G$17:G102), G103))","v":0},null,null,null,null,115,"",null,null,{"$f":"IF(P104=\"\", 0, P104 - IF(P103=\"\", LOOKUP(2, 1/(P$17:P102<>\"\"), P$17:P102), P103))","v":0},null,null,null,null,115,"",null,null,{"$f":"IF(Y104=\"\", 0, Y104 - IF(Y103=\"\", LOOKUP(2, 1/(Y$17:Y102<>\"\"), Y$17:Y102), Y103))","v":0},null,null,null,null,115,"",null,null,{"$f":"IF(AH104=\"\", 0, AH104 - IF(AH103=\"\", LOOKUP(2, 1/(AH$17:AH102<>\"\"), AH$17:AH102), AH103))","v":0},null,null,null,null,115,"",null,null,{"$f":"IF(AQ104=\"\", 0, AQ104 - IF(AQ103=\"\", LOOKUP(2, 1/(AQ$17:AQ102<>\"\"), AQ$17:AQ102), AQ103))","v":0},null,null,null,null,115,"",null,null,{"$f":"IF(AZ104=\"\", 0, AZ104 - IF(AZ103=\"\", LOOKUP(2, 1/(AZ$17:AZ102<>\"\"), AZ$17:AZ102), AZ103))","v":0},null,null,null,null,115,"",null,null,{"$f":"IF(BI104=\"\", 0, BI104 - IF(BI103=\"\", LOOKUP(2, 1/(BI$17:BI102<>\"\"), BI$17:BI102), BI103))","v":0},null,null,null,null,115,"",null,null,{"$f":"IF(BR104=\"\", 0, BR104 - IF(BR103=\"\", LOOKUP(2, 1/(BR$17:BR102<>\"\"), BR$17:BR102), BR103))","v":0},null,null,null,null,115,"",null,null,{"$f":"IF(CA104=\"\", 0, CA104 - IF(CA103=\"\", LOOKUP(2, 1/(CA$17:CA102<>\"\"), CA$17:CA102), CA103))","v":0},null,null,null,null,115,"",null,null,{"$f":"IF(CJ104=\"\", 0, CJ104 - IF(CJ103=\"\", LOOKUP(2, 1/(CJ$17:CJ102<>\"\"), CJ$17:CJ102), CJ103))","v":0},null,null,null,null,115,"",null,null,{"$f":"IF(CS104=\"\", 0, CS104 - IF(CS103=\"\", LOOKUP(2, 1/(CS$17:CS102<>\"\"), CS$17:CS102), CS103))","v":0},null,null,null,null,115,"",null,null,{"$f":"IF(DB104=\"\", 0, DB104 - IF(DB103=\"\", LOOKUP(2, 1/(DB$17:DB102<>\"\"), DB$17:DB102), DB103))","v":0},null,null,null,null,115,"",null,null,{"$f":"IF(DK104=\"\", 0, DK104 - IF(DK103=\"\", LOOKUP(2, 1/(DK$17:DK102<>\"\"), DK$17:DK102), DK103))","v":0},null,null,null,null,115,"",null,null,{"$f":"IF(DT104=\"\", 0, DT104 - IF(DT103=\"\", LOOKUP(2, 1/(DT$17:DT102<>\"\"), DT$17:DT102), DT103))","v":0},null,null,null,null,115,"",null,null,{"$f":"IF(EC104=\"\", 0, EC104 - IF(EC103=\"\", LOOKUP(2, 1/(EC$17:EC102<>\"\"), EC$17:EC102), EC103))","v":0},null,null,null,null,115,"",null,null,{"$f":"IF(EL104=\"\", 0, EL104 - IF(EL103=\"\", LOOKUP(2, 1/(EL$17:EL102<>\"\"), EL$17:EL102), EL103))","v":0},null,null,null,null,115,"",null,null,{"$f":"IF(EU104=\"\", 0, EU104 - IF(EU103=\"\", LOOKUP(2, 1/(EU$17:EU102<>\"\"), EU$17:EU102), EU103))","v":0},null,null,null,null,115,"",null,null,{"$f":"IF(FD104=\"\", 0, FD104 - IF(FD103=\"\", LOOKUP(2, 1/(FD$17:FD102<>\"\"), FD$17:FD102), FD103))","v":0},null,null,null,null,115,"",null,null,{"$f":"IF(FM104=\"\", 0, FM104 - IF(FM103=\"\", LOOKUP(2, 1/(FM$17:FM102<>\"\"), FM$17:FM102), FM103))","v":0},null,null,null,null,115,"",null,null,{"$f":"IF(FV104=\"\", 0, FV104 - IF(FV103=\"\", LOOKUP(2, 1/(FV$17:FV102<>\"\"), FV$17:FV102), FV103))","v":0},null,null,null,null,115,"",null,null,{"$f":"IF(GE104=\"\", 0, GE104 - IF(GE103=\"\", LOOKUP(2, 1/(GE$17:GE102<>\"\"), GE$17:GE102), GE103))","v":0},null,null,null,null,115,"",null,null,{"$f":"IF(GN104=\"\", 0, GN104 - IF(GN103=\"\", LOOKUP(2, 1/(GN$17:GN102<>\"\"), GN$17:GN102), GN103))","v":0},null,null,null,null,115,"",null,null,{"$f":"IF(GW104=\"\", 0, GW104 - IF(GW103=\"\", LOOKUP(2, 1/(GW$17:GW102<>\"\"), GW$17:GW102), GW103))","v":0},null,null,null,null,115,"",null,null,{"$f":"IF(HF104=\"\", 0, HF104 - IF(HF103=\"\", LOOKUP(2, 1/(HF$17:HF102<>\"\"), HF$17:HF102), HF103))","v":0},null,null,null,null,115,"",null,null,{"$f":"IF(HO104=\"\", 0, HO104 - IF(HO103=\"\", LOOKUP(2, 1/(HO$17:HO102<>\"\"), HO$17:HO102), HO103))","v":0},null,null,null,null,115,"",null,null,{"$f":"IF(HX104=\"\", 0, HX104 - IF(HX103=\"\", LOOKUP(2, 1/(HX$17:HX102<>\"\"), HX$17:HX102), HX103))","v":0},null,null,null,null,115,"",null,null,{"$f":"IF(IG104=\"\", 0, IG104 - IF(IG103=\"\", LOOKUP(2, 1/(IG$17:IG102<>\"\"), IG$17:IG102), IG103))","v":0},null,null,null,null,115,"",null,null,{"$f":"IF(IP104=\"\", 0, IP104 - IF(IP103=\"\", LOOKUP(2, 1/(IP$17:IP102<>\"\"), IP$17:IP102), IP103))","v":0},null,null,null,null,115,"",null,null,{"$f":"IF(IY104=\"\", 0, IY104 - IF(IY103=\"\", LOOKUP(2, 1/(IY$17:IY102<>\"\"), IY$17:IY102), IY103))","v":0},null,null,null,null,115,"",null,null,{"$f":"IF(JH104=\"\", 0, JH104 - IF(JH103=\"\", LOOKUP(2, 1/(JH$17:JH102<>\"\"), JH$17:JH102), JH103))","v":0},null,null,null,null,115,"",null,null,{"$f":"IF(JQ104=\"\", 0, JQ104 - IF(JQ103=\"\", LOOKUP(2, 1/(JQ$17:JQ102<>\"\"), JQ$17:JQ102), JQ103))","v":0},null,null,null,null,115,"",null,null,{"$f":"IF(JZ104=\"\", 0, JZ104 - IF(JZ103=\"\", LOOKUP(2, 1/(JZ$17:JZ102<>\"\"), JZ$17:JZ102), JZ103))","v":0},null,null,null,null,115,"",null,null,{"$f":"IF(KI104=\"\", 0, KI104 - IF(KI103=\"\", LOOKUP(2, 1/(KI$17:KI102<>\"\"), KI$17:KI102), KI103))","v":0},null,null,null,null,115,"",null,null,{"$f":"IF(KR104=\"\", 0, KR104 - IF(KR103=\"\", LOOKUP(2, 1/(KR$17:KR102<>\"\"), KR$17:KR102), KR103))","v":0},null,null,null,null,115,"",null,null,{"$f":"IF(LA104=\"\", 0, LA104 - IF(LA103=\"\", LOOKUP(2, 1/(LA$17:LA102<>\"\"), LA$17:LA102), LA103))","v":0},null,null,null,null,115,"",null,null,{"$f":"IF(LJ104=\"\", 0, LJ104 - IF(LJ103=\"\", LOOKUP(2, 1/(LJ$17:LJ102<>\"\"), LJ$17:LJ102), LJ103))","v":0},null,null,null,null,115,"",null,null,{"$f":"IF(LS104=\"\", 0, LS104 - IF(LS103=\"\", LOOKUP(2, 1/(LS$17:LS102<>\"\"), LS$17:LS102), LS103))","v":0},null,null,null,null,115,"",null,null,{"$f":"IF(MB104=\"\", 0, MB104 - IF(MB103=\"\", LOOKUP(2, 1/(MB$17:MB102<>\"\"), MB$17:MB102), MB103))","v":0},null,null,null,null,115,"",null,null,{"$f":"IF(MK104=\"\", 0, MK104 - IF(MK103=\"\", LOOKUP(2, 1/(MK$17:MK102<>\"\"), MK$17:MK102), MK103))","v":0},null,null,null,null,115,"",null,null,{"$f":"IF(MT104=\"\", 0, MT104 - IF(MT103=\"\", LOOKUP(2, 1/(MT$17:MT102<>\"\"), MT$17:MT102), MT103))","v":0},null,null,115,"",null,null,{"$f":"IF(NA104=\"\", 0, NA104 - IF(NA103=\"\", LOOKUP(2, 1/(NA$17:NA102<>\"\"), NA$17:NA102), NA103))","v":0},null,null,null,null,115,"",null,null,{"$f":"IF(NJ104=\"\", 0, NJ104 - IF(NJ103=\"\", LOOKUP(2, 1/(NJ$17:NJ102<>\"\"), NJ$17:NJ102), NJ103))","v":0},null,null,null,null,115,"",null,null,{"$f":"IF(NS104=\"\", 0, NS104 - IF(NS103=\"\", LOOKUP(2, 1/(NS$17:NS102<>\"\"), NS$17:NS102), NS103))","v":0},null,null,null,null,115,"",null,null,{"$f":"IF(OB104=\"\", 0, OB104 - IF(OB103=\"\", LOOKUP(2, 1/(OB$17:OB102<>\"\"), OB$17:OB102), OB103))","v":0},null,null,null,null,115,"",null,null,{"$f":"IF(OK104=\"\", 0, OK104 - IF(OK103=\"\", LOOKUP(2, 1/(OK$17:OK102<>\"\"), OK$17:OK102), OK103))","v":0},null,null,null,null,115,"",null,null,{"$f":"IF(OT104=\"\", 0, OT104 - IF(OT103=\"\", LOOKUP(2, 1/(OT$17:OT102<>\"\"), OT$17:OT102), OT103))","v":0},null,null,null,null,115,"",null,null,{"$f":"IF(PC104=\"\", 0, PC104 - IF(PC103=\"\", LOOKUP(2, 1/(PC$17:PC102<>\"\"), PC$17:PC102), PC103))","v":0},null,null,null,null,115,"",null,null,{"$f":"IF(PL104=\"\", 0, PL104 - IF(PL103=\"\", LOOKUP(2, 1/(PL$17:PL102<>\"\"), PL$17:PL102), PL103))","v":0},null,null,null,null,115,"",null,null,{"$f":"IF(PU104=\"\", 0, PU104 - IF(PU103=\"\", LOOKUP(2, 1/(PU$17:PU102<>\"\"), PU$17:PU102), PU103))","v":0},null,null,null,null,115,"",null,null,{"$f":"IF(QD104=\"\", 0, QD104 - IF(QD103=\"\", LOOKUP(2, 1/(QD$17:QD102<>\"\"), QD$17:QD102), QD103))","v":0}]
[null,null,null,114,"",null,null,{"$f":"IF(G105=\"\", 0, G105 - IF(G104=\"\", LOOKUP(2, 1/(G$17:G103<>\"\"), G$17:G103), G104))","v":0},null,null,null,null,114,"",null,null,{"$f":"IF(P105=\"\", 0, P105 - IF(P104=\"\", LOOKUP(2, 1/(P$17:P103<>\"\"), P$17:P103), P104))","v":0},null,null,null,null,114,"",null,null,{"$f":"IF(Y105=\"\", 0, Y105 - IF(Y104=\"\", LOOKUP(2, 1/(Y$17:Y103<>\"\"), Y$17:Y103), Y104))","v":0},null,null,null,null,114,"",null,null,{"$f":"IF(AH105=\"\", 0, AH105 - IF(AH104=\"\", LOOKUP(2, 1/(AH$17:AH103<>\"\"), AH$17:AH103), AH104))","v":0},null,null,null,null,114,"",null,null,{"$f":"IF(AQ105=\"\", 0, AQ105 - IF(AQ104=\"\", LOOKUP(2, 1/(AQ$17:AQ103<>\"\"), AQ$17:AQ103), AQ104))","v":0},null,null,null,null,114,"",null,null,{"$f":"IF(AZ105=\"\", 0, AZ105 - IF(AZ104=\"\", LOOKUP(2, 1/(AZ$17:AZ103<>\"\"), AZ$17:AZ103), AZ104))","v":0},null,null,null,null,114,"",null,null,{"$f":"IF(BI105=\"\", 0, BI105 - IF(BI104=\"\", LOOKUP(2, 1/(BI$17:BI103<>\"\"), BI$17:BI103), BI104))","v":0},null,null,null,null,114,"",null,null,{"$f":"IF(BR105=\"\", 0, BR105 - IF(BR104=\"\", LOOKUP(2, 1/(BR$17:BR103<>\"\"), BR$17:BR103), BR104))","v":0},null,null,null,null,114,"",null,null,{"$f":"IF(CA105=\"\", 0, CA105 - IF(CA104=\"\", LOOKUP(2, 1/(CA$17:CA103<>\"\"), CA$17:CA103), CA104))","v":0},null,null,null,null,114,"",null,null,{"$f":"IF(CJ105=\"\", 0, CJ105 - IF(CJ104=\"\", LOOKUP(2, 1/(CJ$17:CJ103<>\"\"), CJ$17:CJ103), CJ104))","v":0},null,null,null,null,114,"",null,null,{"$f":"IF(CS105=\"\", 0, CS105 - IF(CS104=\"\", LOOKUP(2, 1/(CS$17:CS103<>\"\"), CS$17:CS103), CS104))","v":0},null,null,null,null,114,"",null,null,{"$f":"IF(DB105=\"\", 0, DB105 - IF(DB104=\"\", LOOKUP(2, 1/(DB$17:DB103<>\"\"), DB$17:DB103), DB104))","v":0},null,null,null,null,114,"",null,null,{"$f":"IF(DK105=\"\", 0, DK105 - IF(DK104=\"\", LOOKUP(2, 1/(DK$17:DK103<>\"\"), DK$17:DK103), DK104))","v":0},null,null,null,null,114,"",null,null,{"$f":"IF(DT105=\"\", 0, DT105 - IF(DT104=\"\", LOOKUP(2, 1/(DT$17:DT103<>\"\"), DT$17:DT103), DT104))","v":0},null,null,null,null,114,"",null,null,{"$f":"IF(EC105=\"\", 0, EC105 - IF(EC104=\"\", LOOKUP(2, 1/(EC$17:EC103<>\"\"), EC$17:EC103), EC104))","v":0},null,null,null,null,114,"",null,null,{"$f":"IF(EL105=\"\", 0, EL105 - IF(EL104=\"\", LOOKUP(2, 1/(EL$17:EL103<>\"\"), EL$17:EL103), EL104))","v":0},null,null,null,null,114,"",null,null,{"$f":"IF(EU105=\"\", 0, EU105 - IF(EU104=\"\", LOOKUP(2, 1/(EU$17:EU103<>\"\"), EU$17:EU103), EU104))","v":0},null,null,null,null,114,"",null,null,{"$f":"IF(FD105=\"\", 0, FD105 - IF(FD104=\"\", LOOKUP(2, 1/(FD$17:FD103<>\"\"), FD$17:FD103), FD104))","v":0},null,null,null,null,114,"",null,null,{"$f":"IF(FM105=\"\", 0, FM105 - IF(FM104=\"\", LOOKUP(2, 1/(FM$17:FM103<>\"\"), FM$17:FM103), FM104))","v":0},null,null,null,null,114,"",null,null,{"$f":"IF(FV105=\"\", 0, FV105 - IF(FV104=\"\", LOOKUP(2, 1/(FV$17:FV103<>\"\"), FV$17:FV103), FV104))","v":0},null,null,null,null,114,"",null,null,{"$f":"IF(GE105=\"\", 0, GE105 - IF(GE104=\"\", LOOKUP(2, 1/(GE$17:GE103<>\"\"), GE$17:GE103), GE104))","v":0},null,null,null,null,114,"",null,null,{"$f":"IF(GN105=\"\", 0, GN105 - IF(GN104=\"\", LOOKUP(2, 1/(GN$17:GN103<>\"\"), GN$17:GN103), GN104))","v":0},null,null,null,null,114,"",null,null,{"$f":"IF(GW105=\"\", 0, GW105 - IF(GW104=\"\", LOOKUP(2, 1/(GW$17:GW103<>\"\"), GW$17:GW103), GW104))","v":0},null,null,null,null,114,"",null,null,{"$f":"IF(HF105=\"\", 0, HF105 - IF(HF104=\"\", LOOKUP(2, 1/(HF$17:HF103<>\"\"), HF$17:HF103), HF104))","v":0},null,null,null,null,114,"",null,null,{"$f":"IF(HO105=\"\", 0, HO105 - IF(HO104=\"\", LOOKUP(2, 1/(HO$17:HO103<>\"\"), HO$17:HO103), HO104))","v":0},null,null,null,null,114,"",null,null,{"$f":"IF(HX105=\"\", 0, HX105 - IF(HX104=\"\", LOOKUP(2, 1/(HX$17:HX103<>\"\"), HX$17:HX103), HX104))","v":0},null,null,null,null,114,"",null,null,{"$f":"IF(IG105=\"\", 0, IG105 - IF(IG104=\"\", LOOKUP(2, 1/(IG$17:IG103<>\"\"), IG$17:IG103), IG104))","v":0},null,null,null,null,114,"",null,null,{"$f":"IF(IP105=\"\", 0, IP105 - IF(IP104=\"\", LOOKUP(2, 1/(IP$17:IP103<>\"\"), IP$17:IP103), IP104))","v":0},null,null,null,null,114,"",null,null,{"$f":"IF(IY105=\"\", 0, IY105 - IF(IY104=\"\", LOOKUP(2, 1/(IY$17:IY103<>\"\"), IY$17:IY103), IY104))","v":0},null,null,null,null,114,"",null,null,{"$f":"IF(JH105=\"\", 0, JH105 - IF(JH104=\"\", LOOKUP(2, 1/(JH$17:JH103<>\"\"), JH$17:JH103), JH104))","v":0},null,null,null,null,114,"",null,null,{"$f":"IF(JQ105=\"\", 0, JQ105 - IF(JQ104=\"\", LOOKUP(2, 1/(JQ$17:JQ103<>\"\"), JQ$17:JQ103), JQ104))","v":0},null,null,null,null,114,"",null,null,{"$f":"IF(JZ105=\"\", 0, JZ105 - IF(JZ104=\"\", LOOKUP(2, 1/(JZ$17:JZ103<>\"\"), JZ$17:JZ103), JZ104))","v":0},null,null,null,null,114,"",null,null,{"$f":"IF(KI105=\"\", 0, KI105 - IF(KI104=\"\", LOOKUP(2, 1/(KI$17:KI103<>\"\"), KI$17:KI103), KI104))","v":0},null,null,null,null,114,"",null,null,{"$f":"IF(KR105=\"\", 0, KR105 - IF(KR104=\"\", LOOKUP(2, 1/(KR$17:KR103<>\"\"), KR$17:KR103), KR104))","v":0},null,null,null,null,114,"",null,null,{"$f":"IF(LA105=\"\", 0, LA105 - IF(LA104=\"\", LOOKUP(2, 1/(LA$17:LA103<>\"\"), LA$17:LA103), LA104))","v":0},null,null,null,null,114,"",null,null,{"$f":"IF(LJ105=\"\", 0, LJ105 - IF(LJ104=\"\", LOOKUP(2, 1/(LJ$17:LJ103<>\"\"), LJ$17:LJ103), LJ104))","v":0},null,null,null,null,114,"",null,null,{"$f":"IF(LS105=\"\", 0, LS105 - IF(LS104=\"\", LOOKUP(2, 1/(LS$17:LS103<>\"\"), LS$17:LS103), LS104))","v":0},null,null,null,null,114,"",null,null,{"$f":"IF(MB105=\"\", 0, MB105 - IF(MB104=\"\", LOOKUP(2, 1/(MB$17:MB103<>\"\"), MB$17:MB103), MB104))","v":0},null,null,null,null,114,"",null,null,{"$f":"IF(MK105=\"\", 0, MK105 - IF(MK104=\"\", LOOKUP(2, 1/(MK$17:MK103<>\"\"), MK$17:MK103), MK104))","v":0},null,null,null,null,114,"",null,null,{"$f":"IF(MT105=\"\", 0, MT105 - IF(MT104=\"\", LOOKUP(2, 1/(MT$17:MT103<>\"\"), MT$17:MT103), MT104))","v":0},null,null,114,"",null,null,{"$f":"IF(NA105=\"\", 0, NA105 - IF(NA104=\"\", LOOKUP(2, 1/(NA$17:NA103<>\"\"), NA$17:NA103), NA104))","v":0},null,null,null,null,114,"",null,null,{"$f":"IF(NJ105=\"\", 0, NJ105 - IF(NJ104=\"\", LOOKUP(2, 1/(NJ$17:NJ103<>\"\"), NJ$17:NJ103), NJ104))","v":0},null,null,null,null,114,"",null,null,{"$f":"IF(NS105=\"\", 0, NS105 - IF(NS104=\"\", LOOKUP(2, 1/(NS$17:NS103<>\"\"), NS$17:NS103), NS104))","v":0},null,null,null,null,114,"",null,null,{"$f":"IF(OB105=\"\", 0, OB105 - IF(OB104=\"\", LOOKUP(2, 1/(OB$17:OB103<>\"\"), OB$17:OB103), OB104))","v":0},null,null,null,null,114,"",null,null,{"$f":"IF(OK105=\"\", 0, OK105 - IF(OK104=\"\", LOOKUP(2, 1/(OK$17:OK103<>\"\"), OK$17:OK103), OK104))","v":0},null,null,null,null,114,"",null,null,{"$f":"IF(OT105=\"\", 0, OT105 - IF(OT104=\"\", LOOKUP(2, 1/(OT$17:OT103<>\"\"), OT$17:OT103), OT104))","v":0},null,null,null,null,114,"",null,null,{"$f":"IF(PC105=\"\", 0, PC105 - IF(PC104=\"\", LOOKUP(2, 1/(PC$17:PC103<>\"\"), PC$17:PC103), PC104))","v":0},null,null,null,null,114,"",null,null,{"$f":"IF(PL105=\"\", 0, PL105 - IF(PL104=\"\", LOOKUP(2, 1/(PL$17:PL103<>\"\"), PL$17:PL103), PL104))","v":0},null,null,null,null,114,"",null,null,{"$f":"IF(PU105=\"\", 0, PU105 - IF(PU104=\"\", LOOKUP(2, 1/(PU$17:PU103<>\"\"), PU$17:PU103), PU104))","v":0},null,null,null,null,114,"",null,null,{"$f":"IF(QD105=\"\", 0, QD105 - IF(QD104=\"\", LOOKUP(2, 1/(QD$17:QD103<>\"\"), QD$17:QD103), QD104))","v":0}]
[null,null,null,113,"",null,null,{"$f":"IF(G106=\"\", 0, G106 - IF(G105=\"\", LOOKUP(2, 1/(G$17:G104<>\"\"), G$17:G104), G105))","v":0},null,null,null,null,113,"",null,null,{"$f":"IF(P106=\"\", 0, P106 - IF(P105=\"\", LOOKUP(2, 1/(P$17:P104<>\"\"), P$17:P104), P105))","v":0},null,null,null,null,113,"",null,null,{"$f":"IF(Y106=\"\", 0, Y106 - IF(Y105=\"\", LOOKUP(2, 1/(Y$17:Y104<>\"\"), Y$17:Y104), Y105))","v":0},null,null,null,null,113,"",null,null,{"$f":"IF(AH106=\"\", 0, AH106 - IF(AH105=\"\", LOOKUP(2, 1/(AH$17:AH104<>\"\"), AH$17:AH104), AH105))","v":0},null,null,null,null,113,"",null,null,{"$f":"IF(AQ106=\"\", 0, AQ106 - IF(AQ105=\"\", LOOKUP(2, 1/(AQ$17:AQ104<>\"\"), AQ$17:AQ104), AQ105))","v":0},null,null,null,null,113,"",null,null,{"$f":"IF(AZ106=\"\", 0, AZ106 - IF(AZ105=\"\", LOOKUP(2, 1/(AZ$17:AZ104<>\"\"), AZ$17:AZ104), AZ105))","v":0},null,null,null,null,113,"",null,null,{"$f":"IF(BI106=\"\", 0, BI106 - IF(BI105=\"\", LOOKUP(2, 1/(BI$17:BI104<>\"\"), BI$17:BI104), BI105))","v":0},null,null,null,null,113,"",null,null,{"$f":"IF(BR106=\"\", 0, BR106 - IF(BR105=\"\", LOOKUP(2, 1/(BR$17:BR104<>\"\"), BR$17:BR104), BR105))","v":0},null,null,null,null,113,"",null,null,{"$f":"IF(CA106=\"\", 0, CA106 - IF(CA105=\"\", LOOKUP(2, 1/(CA$17:CA104<>\"\"), CA$17:CA104), CA105))","v":0},null,null,null,null,113,"",null,null,{"$f":"IF(CJ106=\"\", 0, CJ106 - IF(CJ105=\"\", LOOKUP(2, 1/(CJ$17:CJ104<>\"\"), CJ$17:CJ104), CJ105))","v":0},null,null,null,null,113,"",null,null,{"$f":"IF(CS106=\"\", 0, CS106 - IF(CS105=\"\", LOOKUP(2, 1/(CS$17:CS104<>\"\"), CS$17:CS104), CS105))","v":0},null,null,null,null,113,"",null,null,{"$f":"IF(DB106=\"\", 0, DB106 - IF(DB105=\"\", LOOKUP(2, 1/(DB$17:DB104<>\"\"), DB$17:DB104), DB105))","v":0},null,null,null,null,113,"",null,null,{"$f":"IF(DK106=\"\", 0, DK106 - IF(DK105=\"\", LOOKUP(2, 1/(DK$17:DK104<>\"\"), DK$17:DK104), DK105))","v":0},null,null,null,null,113,"",null,null,{"$f":"IF(DT106=\"\", 0, DT106 - IF(DT105=\"\", LOOKUP(2, 1/(DT$17:DT104<>\"\"), DT$17:DT104), DT105))","v":0},null,null,null,null,113,"",null,null,{"$f":"IF(EC106=\"\", 0, EC106 - IF(EC105=\"\", LOOKUP(2, 1/(EC$17:EC104<>\"\"), EC$17:EC104), EC105))","v":0},null,null,null,null,113,"",null,null,{"$f":"IF(EL106=\"\", 0, EL106 - IF(EL105=\"\", LOOKUP(2, 1/(EL$17:EL104<>\"\"), EL$17:EL104), EL105))","v":0},null,null,null,null,113,"",null,null,{"$f":"IF(EU106=\"\", 0, EU106 - IF(EU105=\"\", LOOKUP(2, 1/(EU$17:EU104<>\"\"), EU$17:EU104), EU105))","v":0},null,null,null,null,113,"",null,null,{"$f":"IF(FD106=\"\", 0, FD106 - IF(FD105=\"\", LOOKUP(2, 1/(FD$17:FD104<>\"\"), FD$17:FD104), FD105))","v":0},null,null,null,null,113,"",null,null,{"$f":"IF(FM106=\"\", 0, FM106 - IF(FM105=\"\", LOOKUP(2, 1/(FM$17:FM104<>\"\"), FM$17:FM104), FM105))","v":0},null,null,null,null,113,"",null,null,{"$f":"IF(FV106=\"\", 0, FV106 - IF(FV105=\"\", LOOKUP(2, 1/(FV$17:FV104<>\"\"), FV$17:FV104), FV105))","v":0},null,null,null,null,113,"",null,null,{"$f":"IF(GE106=\"\", 0, GE106 - IF(GE105=\"\", LOOKUP(2, 1/(GE$17:GE104<>\"\"), GE$17:GE104), GE105))","v":0},null,null,null,null,113,"",null,null,{"$f":"IF(GN106=\"\", 0, GN106 - IF(GN105=\"\", LOOKUP(2, 1/(GN$17:GN104<>\"\"), GN$17:GN104), GN105))","v":0},null,null,null,null,113,"",null,null,{"$f":"IF(GW106=\"\", 0, GW106 - IF(GW105=\"\", LOOKUP(2, 1/(GW$17:GW104<>\"\"), GW$17:GW104), GW105))","v":0},null,null,null,null,113,"",null,null,{"$f":"IF(HF106=\"\", 0, HF106 - IF(HF105=\"\", LOOKUP(2, 1/(HF$17:HF104<>\"\"), HF$17:HF104), HF105))","v":0},null,null,null,null,113,"",null,null,{"$f":"IF(HO106=\"\", 0, HO106 - IF(HO105=\"\", LOOKUP(2, 1/(HO$17:HO104<>\"\"), HO$17:HO104), HO105))","v":0},null,null,null,null,113,"",null,null,{"$f":"IF(HX106=\"\", 0, HX106 - IF(HX105=\"\", LOOKUP(2, 1/(HX$17:HX104<>\"\"), HX$17:HX104), HX105))","v":0},null,null,null,null,113,"",null,null,{"$f":"IF(IG106=\"\", 0, IG106 - IF(IG105=\"\", LOOKUP(2, 1/(IG$17:IG104<>\"\"), IG$17:IG104), IG105))","v":0},null,null,null,null,113,"",null,null,{"$f":"IF(IP106=\"\", 0, IP106 - IF(IP105=\"\", LOOKUP(2, 1/(IP$17:IP104<>\"\"), IP$17:IP104), IP105))","v":0},null,null,null,null,113,"",null,null,{"$f":"IF(IY106=\"\", 0, IY106 - IF(IY105=\"\", LOOKUP(2, 1/(IY$17:IY104<>\"\"), IY$17:IY104), IY105))","v":0},null,null,null,null,113,"",null,null,{"$f":"IF(JH106=\"\", 0, JH106 - IF(JH105=\"\", LOOKUP(2, 1/(JH$17:JH104<>\"\"), JH$17:JH104), JH105))","v":0},null,null,null,null,113,"",null,null,{"$f":"IF(JQ106=\"\", 0, JQ106 - IF(JQ105=\"\", LOOKUP(2, 1/(JQ$17:JQ104<>\"\"), JQ$17:JQ104), JQ105))","v":0},null,null,null,null,113,"",null,null,{"$f":"IF(JZ106=\"\", 0, JZ106 - IF(JZ105=\"\", LOOKUP(2, 1/(JZ$17:JZ104<>\"\"), JZ$17:JZ104), JZ105))","v":0},null,null,null,null,113,"",null,null,{"$f":"IF(KI106=\"\", 0, KI106 - IF(KI105=\"\", LOOKUP(2, 1/(KI$17:KI104<>\"\"), KI$17:KI104), KI105))","v":0},null,null,null,null,113,"",null,null,{"$f":"IF(KR106=\"\", 0, KR106 - IF(KR105=\"\", LOOKUP(2, 1/(KR$17:KR104<>\"\"), KR$17:KR104), KR105))","v":0},null,null,null,null,113,"",null,null,{"$f":"IF(LA106=\"\", 0, LA106 - IF(LA105=\"\", LOOKUP(2, 1/(LA$17:LA104<>\"\"), LA$17:LA104), LA105))","v":0},null,null,null,null,113,"",null,null,{"$f":"IF(LJ106=\"\", 0, LJ106 - IF(LJ105=\"\", LOOKUP(2, 1/(LJ$17:LJ104<>\"\"), LJ$17:LJ104), LJ105))","v":0},null,null,null,null,113,"",null,null,{"$f":"IF(LS106=\"\", 0, LS106 - IF(LS105=\"\", LOOKUP(2, 1/(LS$17:LS104<>\"\"), LS$17:LS104), LS105))","v":0},null,null,null,null,113,"",null,null,{"$f":"IF(MB106=\"\", 0, MB106 - IF(MB105=\"\", LOOKUP(2, 1/(MB$17:MB104<>\"\"), MB$17:MB104), MB105))","v":0},null,null,null,null,113,"",null,null,{"$f":"IF(MK106=\"\", 0, MK106 - IF(MK105=\"\", LOOKUP(2, 1/(MK$17:MK104<>\"\"), MK$17:MK104), MK105))","v":0},null,null,null,null,113,"",null,null,{"$f":"IF(MT106=\"\", 0, MT106 - IF(MT105=\"\", LOOKUP(2, 1/(MT$17:MT104<>\"\"), MT$17:MT104), MT105))","v":0},null,null,113,"",null,null,{"$f":"IF(NA106=\"\", 0, NA106 - IF(NA105=\"\", LOOKUP(2, 1/(NA$17:NA104<>\"\"), NA$17:NA104), NA105))","v":0},null,null,null,null,113,"",null,null,{"$f":"IF(NJ106=\"\", 0, NJ106 - IF(NJ105=\"\", LOOKUP(2, 1/(NJ$17:NJ104<>\"\"), NJ$17:NJ104), NJ105))","v":0},null,null,null,null,113,"",null,null,{"$f":"IF(NS106=\"\", 0, NS106 - IF(NS105=\"\", LOOKUP(2, 1/(NS$17:NS104<>\"\"), NS$17:NS104), NS105))","v":0},null,null,null,null,113,"",null,null,{"$f":"IF(OB106=\"\", 0, OB106 - IF(OB105=\"\", LOOKUP(2, 1/(OB$17:OB104<>\"\"), OB$17:OB104), OB105))","v":0},null,null,null,null,113,"",null,null,{"$f":"IF(OK106=\"\", 0, OK106 - IF(OK105=\"\", LOOKUP(2, 1/(OK$17:OK104<>\"\"), OK$17:OK104), OK105))","v":0},null,null,null,null,113,"",null,null,{"$f":"IF(OT106=\"\", 0, OT106 - IF(OT105=\"\", LOOKUP(2, 1/(OT$17:OT104<>\"\"), OT$17:OT104), OT105))","v":0},null,null,null,null,113,"",null,null,{"$f":"IF(PC106=\"\", 0, PC106 - IF(PC105=\"\", LOOKUP(2, 1/(PC$17:PC104<>\"\"), PC$17:PC104), PC105))","v":0},null,null,null,null,113,"",null,null,{"$f":"IF(PL106=\"\", 0, PL106 - IF(PL105=\"\", LOOKUP(2, 1/(PL$17:PL104<>\"\"), PL$17:PL104), PL105))","v":0},null,null,null,null,113,"",null,null,{"$f":"IF(PU106=\"\", 0, PU106 - IF(PU105=\"\", LOOKUP(2, 1/(PU$17:PU104<>\"\"), PU$17:PU104), PU105))","v":0},null,null,null,null,113,"",null,null,{"$f":"IF(QD106=\"\", 0, QD106 - IF(QD105=\"\", LOOKUP(2, 1/(QD$17:QD104<>\"\"), QD$17:QD104), QD105))","v":0}]
[null,null,null,112,"",null,null,{"$f":"IF(G107=\"\", 0, G107 - IF(G106=\"\", LOOKUP(2, 1/(G$17:G105<>\"\"), G$17:G105), G106))","v":0},null,null,null,null,112,"",null,null,{"$f":"IF(P107=\"\", 0, P107 - IF(P106=\"\", LOOKUP(2, 1/(P$17:P105<>\"\"), P$17:P105), P106))","v":0},null,null,null,null,112,"",null,null,{"$f":"IF(Y107=\"\", 0, Y107 - IF(Y106=\"\", LOOKUP(2, 1/(Y$17:Y105<>\"\"), Y$17:Y105), Y106))","v":0},null,null,null,null,112,"",null,null,{"$f":"IF(AH107=\"\", 0, AH107 - IF(AH106=\"\", LOOKUP(2, 1/(AH$17:AH105<>\"\"), AH$17:AH105), AH106))","v":0},null,null,null,null,112,"",null,null,{"$f":"IF(AQ107=\"\", 0, AQ107 - IF(AQ106=\"\", LOOKUP(2, 1/(AQ$17:AQ105<>\"\"), AQ$17:AQ105), AQ106))","v":0},null,null,null,null,112,"",null,null,{"$f":"IF(AZ107=\"\", 0, AZ107 - IF(AZ106=\"\", LOOKUP(2, 1/(AZ$17:AZ105<>\"\"), AZ$17:AZ105), AZ106))","v":0},null,null,null,null,112,"",null,null,{"$f":"IF(BI107=\"\", 0, BI107 - IF(BI106=\"\", LOOKUP(2, 1/(BI$17:BI105<>\"\"), BI$17:BI105), BI106))","v":0},null,null,null,null,112,"",null,null,{"$f":"IF(BR107=\"\", 0, BR107 - IF(BR106=\"\", LOOKUP(2, 1/(BR$17:BR105<>\"\"), BR$17:BR105), BR106))","v":0},null,null,null,null,112,"",null,null,{"$f":"IF(CA107=\"\", 0, CA107 - IF(CA106=\"\", LOOKUP(2, 1/(CA$17:CA105<>\"\"), CA$17:CA105), CA106))","v":0},null,null,null,null,112,"",null,null,{"$f":"IF(CJ107=\"\", 0, CJ107 - IF(CJ106=\"\", LOOKUP(2, 1/(CJ$17:CJ105<>\"\"), CJ$17:CJ105), CJ106))","v":0},null,null,null,null,112,"",null,null,{"$f":"IF(CS107=\"\", 0, CS107 - IF(CS106=\"\", LOOKUP(2, 1/(CS$17:CS105<>\"\"), CS$17:CS105), CS106))","v":0},null,null,null,null,112,"",null,null,{"$f":"IF(DB107=\"\", 0, DB107 - IF(DB106=\"\", LOOKUP(2, 1/(DB$17:DB105<>\"\"), DB$17:DB105), DB106))","v":0},null,null,null,null,112,"",null,null,{"$f":"IF(DK107=\"\", 0, DK107 - IF(DK106=\"\", LOOKUP(2, 1/(DK$17:DK105<>\"\"), DK$17:DK105), DK106))","v":0},null,null,null,null,112,"",null,null,{"$f":"IF(DT107=\"\", 0, DT107 - IF(DT106=\"\", LOOKUP(2, 1/(DT$17:DT105<>\"\"), DT$17:DT105), DT106))","v":0},null,null,null,null,112,"",null,null,{"$f":"IF(EC107=\"\", 0, EC107 - IF(EC106=\"\", LOOKUP(2, 1/(EC$17:EC105<>\"\"), EC$17:EC105), EC106))","v":0},null,null,null,null,112,"",null,null,{"$f":"IF(EL107=\"\", 0, EL107 - IF(EL106=\"\", LOOKUP(2, 1/(EL$17:EL105<>\"\"), EL$17:EL105), EL106))","v":0},null,null,null,null,112,"",null,null,{"$f":"IF(EU107=\"\", 0, EU107 - IF(EU106=\"\", LOOKUP(2, 1/(EU$17:EU105<>\"\"), EU$17:EU105), EU106))","v":0},null,null,null,null,112,"",null,null,{"$f":"IF(FD107=\"\", 0, FD107 - IF(FD106=\"\", LOOKUP(2, 1/(FD$17:FD105<>\"\"), FD$17:FD105), FD106))","v":0},null,null,null,null,112,"",null,null,{"$f":"IF(FM107=\"\", 0, FM107 - IF(FM106=\"\", LOOKUP(2, 1/(FM$17:FM105<>\"\"), FM$17:FM105), FM106))","v":0},null,null,null,null,112,"",null,null,{"$f":"IF(FV107=\"\", 0, FV107 - IF(FV106=\"\", LOOKUP(2, 1/(FV$17:FV105<>\"\"), FV$17:FV105), FV106))","v":0},null,null,null,null,112,"",null,null,{"$f":"IF(GE107=\"\", 0, GE107 - IF(GE106=\"\", LOOKUP(2, 1/(GE$17:GE105<>\"\"), GE$17:GE105), GE106))","v":0},null,null,null,null,112,"",null,null,{"$f":"IF(GN107=\"\", 0, GN107 - IF(GN106=\"\", LOOKUP(2, 1/(GN$17:GN105<>\"\"), GN$17:GN105), GN106))","v":0},null,null,null,null,112,"",null,null,{"$f":"IF(GW107=\"\", 0, GW107 - IF(GW106=\"\", LOOKUP(2, 1/(GW$17:GW105<>\"\"), GW$17:GW105), GW106))","v":0},null,null,null,null,112,"",null,null,{"$f":"IF(HF107=\"\", 0, HF107 - IF(HF106=\"\", LOOKUP(2, 1/(HF$17:HF105<>\"\"), HF$17:HF105), HF106))","v":0},null,null,null,null,112,"",null,null,{"$f":"IF(HO107=\"\", 0, HO107 - IF(HO106=\"\", LOOKUP(2, 1/(HO$17:HO105<>\"\"), HO$17:HO105), HO106))","v":0},null,null,null,null,112,"",null,null,{"$f":"IF(HX107=\"\", 0, HX107 - IF(HX106=\"\", LOOKUP(2, 1/(HX$17:HX105<>\"\"), HX$17:HX105), HX106))","v":0},null,null,null,null,112,"",null,null,{"$f":"IF(IG107=\"\", 0, IG107 - IF(IG106=\"\", LOOKUP(2, 1/(IG$17:IG105<>\"\"), IG$17:IG105), IG106))","v":0},null,null,null,null,112,"",null,null,{"$f":"IF(IP107=\"\", 0, IP107 - IF(IP106=\"\", LOOKUP(2, 1/(IP$17:IP105<>\"\"), IP$17:IP105), IP106))","v":0},null,null,null,null,112,"",null,null,{"$f":"IF(IY107=\"\", 0, IY107 - IF(IY106=\"\", LOOKUP(2, 1/(IY$17:IY105<>\"\"), IY$17:IY105), IY106))","v":0},null,null,null,null,112,"",null,null,{"$f":"IF(JH107=\"\", 0, JH107 - IF(JH106=\"\", LOOKUP(2, 1/(JH$17:JH105<>\"\"), JH$17:JH105), JH106))","v":0},null,null,null,null,112,"",null,null,{"$f":"IF(JQ107=\"\", 0, JQ107 - IF(JQ106=\"\", LOOKUP(2, 1/(JQ$17:JQ105<>\"\"), JQ$17:JQ105), JQ106))","v":0},null,null,null,null,112,"",null,null,{"$f":"IF(JZ107=\"\", 0, JZ107 - IF(JZ106=\"\", LOOKUP(2, 1/(JZ$17:JZ105<>\"\"), JZ$17:JZ105), JZ106))","v":0},null,null,null,null,112,"",null,null,{"$f":"IF(KI107=\"\", 0, KI107 - IF(KI106=\"\", LOOKUP(2, 1/(KI$17:KI105<>\"\"), KI$17:KI105), KI106))","v":0},null,null,null,null,112,"",null,null,{"$f":"IF(KR107=\"\", 0, KR107 - IF(KR106=\"\", LOOKUP(2, 1/(KR$17:KR105<>\"\"), KR$17:KR105), KR106))","v":0},null,null,null,null,112,"",null,null,{"$f":"IF(LA107=\"\", 0, LA107 - IF(LA106=\"\", LOOKUP(2, 1/(LA$17:LA105<>\"\"), LA$17:LA105), LA106))","v":0},null,null,null,null,112,"",null,null,{"$f":"IF(LJ107=\"\", 0, LJ107 - IF(LJ106=\"\", LOOKUP(2, 1/(LJ$17:LJ105<>\"\"), LJ$17:LJ105), LJ106))","v":0},null,null,null,null,112,"",null,null,{"$f":"IF(LS107=\"\", 0, LS107 - IF(LS106=\"\", LOOKUP(2, 1/(LS$17:LS105<>\"\"), LS$17:LS105), LS106))","v":0},null,null,null,null,112,"",null,null,{"$f":"IF(MB107=\"\", 0, MB107 - IF(MB106=\"\", LOOKUP(2, 1/(MB$17:MB105<>\"\"), MB$17:MB105), MB106))","v":0},null,null,null,null,112,"",null,null,{"$f":"IF(MK107=\"\", 0, MK107 - IF(MK106=\"\", LOOKUP(2, 1/(MK$17:MK105<>\"\"), MK$17:MK105), MK106))","v":0},null,null,null,null,112,"",null,null,{"$f":"IF(MT107=\"\", 0, MT107 - IF(MT106=\"\", LOOKUP(2, 1/(MT$17:MT105<>\"\"), MT$17:MT105), MT106))","v":0},null,null,112,"",null,null,{"$f":"IF(NA107=\"\", 0, NA107 - IF(NA106=\"\", LOOKUP(2, 1/(NA$17:NA105<>\"\"), NA$17:NA105), NA106))","v":0},null,null,null,null,112,"",null,null,{"$f":"IF(NJ107=\"\", 0, NJ107 - IF(NJ106=\"\", LOOKUP(2, 1/(NJ$17:NJ105<>\"\"), NJ$17:NJ105), NJ106))","v":0},null,null,null,null,112,"",null,null,{"$f":"IF(NS107=\"\", 0, NS107 - IF(NS106=\"\", LOOKUP(2, 1/(NS$17:NS105<>\"\"), NS$17:NS105), NS106))","v":0},null,null,null,null,112,"",null,null,{"$f":"IF(OB107=\"\", 0, OB107 - IF(OB106=\"\", LOOKUP(2, 1/(OB$17:OB105<>\"\"), OB$17:OB105), OB106))","v":0},null,null,null,null,112,"",null,null,{"$f":"IF(OK107=\"\", 0, OK107 - IF(OK106=\"\", LOOKUP(2, 1/(OK$17:OK105<>\"\"), OK$17:OK105), OK106))","v":0},null,null,null,null,112,"",null,null,{"$f":"IF(OT107=\"\", 0, OT107 - IF(OT106=\"\", LOOKUP(2, 1/(OT$17:OT105<>\"\"), OT$17:OT105), OT106))","v":0},null,null,null,null,112,"",null,null,{"$f":"IF(PC107=\"\", 0, PC107 - IF(PC106=\"\", LOOKUP(2, 1/(PC$17:PC105<>\"\"), PC$17:PC105), PC106))","v":0},null,null,null,null,112,"",null,null,{"$f":"IF(PL107=\"\", 0, PL107 - IF(PL106=\"\", LOOKUP(2, 1/(PL$17:PL105<>\"\"), PL$17:PL105), PL106))","v":0},null,null,null,null,112,"",null,null,{"$f":"IF(PU107=\"\", 0, PU107 - IF(PU106=\"\", LOOKUP(2, 1/(PU$17:PU105<>\"\"), PU$17:PU105), PU106))","v":0},null,null,null,null,112,"",null,null,{"$f":"IF(QD107=\"\", 0, QD107 - IF(QD106=\"\", LOOKUP(2, 1/(QD$17:QD105<>\"\"), QD$17:QD105), QD106))","v":0}]
[null,null,null,111,"",null,null,{"$f":"IF(G108=\"\", 0, G108 - IF(G107=\"\", LOOKUP(2, 1/(G$17:G106<>\"\"), G$17:G106), G107))","v":0},null,null,null,null,111,"",null,null,{"$f":"IF(P108=\"\", 0, P108 - IF(P107=\"\", LOOKUP(2, 1/(P$17:P106<>\"\"), P$17:P106), P107))","v":0},null,null,null,null,111,"",null,null,{"$f":"IF(Y108=\"\", 0, Y108 - IF(Y107=\"\", LOOKUP(2, 1/(Y$17:Y106<>\"\"), Y$17:Y106), Y107))","v":0},null,null,null,null,111,"",null,null,{"$f":"IF(AH108=\"\", 0, AH108 - IF(AH107=\"\", LOOKUP(2, 1/(AH$17:AH106<>\"\"), AH$17:AH106), AH107))","v":0},null,null,null,null,111,"",null,null,{"$f":"IF(AQ108=\"\", 0, AQ108 - IF(AQ107=\"\", LOOKUP(2, 1/(AQ$17:AQ106<>\"\"), AQ$17:AQ106), AQ107))","v":0},null,null,null,null,111,"",null,null,{"$f":"IF(AZ108=\"\", 0, AZ108 - IF(AZ107=\"\", LOOKUP(2, 1/(AZ$17:AZ106<>\"\"), AZ$17:AZ106), AZ107))","v":0},null,null,null,null,111,"",null,null,{"$f":"IF(BI108=\"\", 0, BI108 - IF(BI107=\"\", LOOKUP(2, 1/(BI$17:BI106<>\"\"), BI$17:BI106), BI107))","v":0},null,null,null,null,111,"",null,null,{"$f":"IF(BR108=\"\", 0, BR108 - IF(BR107=\"\", LOOKUP(2, 1/(BR$17:BR106<>\"\"), BR$17:BR106), BR107))","v":0},null,null,null,null,111,"",null,null,{"$f":"IF(CA108=\"\", 0, CA108 - IF(CA107=\"\", LOOKUP(2, 1/(CA$17:CA106<>\"\"), CA$17:CA106), CA107))","v":0},null,null,null,null,111,"",null,null,{"$f":"IF(CJ108=\"\", 0, CJ108 - IF(CJ107=\"\", LOOKUP(2, 1/(CJ$17:CJ106<>\"\"), CJ$17:CJ106), CJ107))","v":0},null,null,null,null,111,"",null,null,{"$f":"IF(CS108=\"\", 0, CS108 - IF(CS107=\"\", LOOKUP(2, 1/(CS$17:CS106<>\"\"), CS$17:CS106), CS107))","v":0},null,null,null,null,111,"",null,null,{"$f":"IF(DB108=\"\", 0, DB108 - IF(DB107=\"\", LOOKUP(2, 1/(DB$17:DB106<>\"\"), DB$17:DB106), DB107))","v":0},null,null,null,null,111,"",null,null,{"$f":"IF(DK108=\"\", 0, DK108 - IF(DK107=\"\", LOOKUP(2, 1/(DK$17:DK106<>\"\"), DK$17:DK106), DK107))","v":0},null,null,null,null,111,"",null,null,{"$f":"IF(DT108=\"\", 0, DT108 - IF(DT107=\"\", LOOKUP(2, 1/(DT$17:DT106<>\"\"), DT$17:DT106), DT107))","v":0},null,null,null,null,111,"",null,null,{"$f":"IF(EC108=\"\", 0, EC108 - IF(EC107=\"\", LOOKUP(2, 1/(EC$17:EC106<>\"\"), EC$17:EC106), EC107))","v":0},null,null,null,null,111,"",null,null,{"$f":"IF(EL108=\"\", 0, EL108 - IF(EL107=\"\", LOOKUP(2, 1/(EL$17:EL106<>\"\"), EL$17:EL106), EL107))","v":0},null,null,null,null,111,"",null,null,{"$f":"IF(EU108=\"\", 0, EU108 - IF(EU107=\"\", LOOKUP(2, 1/(EU$17:EU106<>\"\"), EU$17:EU106), EU107))","v":0},null,null,null,null,111,"",null,null,{"$f":"IF(FD108=\"\", 0, FD108 - IF(FD107=\"\", LOOKUP(2, 1/(FD$17:FD106<>\"\"), FD$17:FD106), FD107))","v":0},null,null,null,null,111,"",null,null,{"$f":"IF(FM108=\"\", 0, FM108 - IF(FM107=\"\", LOOKUP(2, 1/(FM$17:FM106<>\"\"), FM$17:FM106), FM107))","v":0},null,null,null,null,111,"",null,null,{"$f":"IF(FV108=\"\", 0, FV108 - IF(FV107=\"\", LOOKUP(2, 1/(FV$17:FV106<>\"\"), FV$17:FV106), FV107))","v":0},null,null,null,null,111,"",null,null,{"$f":"IF(GE108=\"\", 0, GE108 - IF(GE107=\"\", LOOKUP(2, 1/(GE$17:GE106<>\"\"), GE$17:GE106), GE107))","v":0},null,null,null,null,111,"",null,null,{"$f":"IF(GN108=\"\", 0, GN108 - IF(GN107=\"\", LOOKUP(2, 1/(GN$17:GN106<>\"\"), GN$17:GN106), GN107))","v":0},null,null,null,null,111,"",null,null,{"$f":"IF(GW108=\"\", 0, GW108 - IF(GW107=\"\", LOOKUP(2, 1/(GW$17:GW106<>\"\"), GW$17:GW106), GW107))","v":0},null,null,null,null,111,"",null,null,{"$f":"IF(HF108=\"\", 0, HF108 - IF(HF107=\"\", LOOKUP(2, 1/(HF$17:HF106<>\"\"), HF$17:HF106), HF107))","v":0},null,null,null,null,111,"",null,null,{"$f":"IF(HO108=\"\", 0, HO108 - IF(HO107=\"\", LOOKUP(2, 1/(HO$17:HO106<>\"\"), HO$17:HO106), HO107))","v":0},null,null,null,null,111,"",null,null,{"$f":"IF(HX108=\"\", 0, HX108 - IF(HX107=\"\", LOOKUP(2, 1/(HX$17:HX106<>\"\"), HX$17:HX106), HX107))","v":0},null,null,null,null,111,"",null,null,{"$f":"IF(IG108=\"\", 0, IG108 - IF(IG107=\"\", LOOKUP(2, 1/(IG$17:IG106<>\"\"), IG$17:IG106), IG107))","v":0},null,null,null,null,111,"",null,null,{"$f":"IF(IP108=\"\", 0, IP108 - IF(IP107=\"\", LOOKUP(2, 1/(IP$17:IP106<>\"\"), IP$17:IP106), IP107))","v":0},null,null,null,null,111,"",null,null,{"$f":"IF(IY108=\"\", 0, IY108 - IF(IY107=\"\", LOOKUP(2, 1/(IY$17:IY106<>\"\"), IY$17:IY106), IY107))","v":0},null,null,null,null,111,"",null,null,{"$f":"IF(JH108=\"\", 0, JH108 - IF(JH107=\"\", LOOKUP(2, 1/(JH$17:JH106<>\"\"), JH$17:JH106), JH107))","v":0},null,null,null,null,111,"",null,null,{"$f":"IF(JQ108=\"\", 0, JQ108 - IF(JQ107=\"\", LOOKUP(2, 1/(JQ$17:JQ106<>\"\"), JQ$17:JQ106), JQ107))","v":0},null,null,null,null,111,"",null,null,{"$f":"IF(JZ108=\"\", 0, JZ108 - IF(JZ107=\"\", LOOKUP(2, 1/(JZ$17:JZ106<>\"\"), JZ$17:JZ106), JZ107))","v":0},null,null,null,null,111,"",null,null,{"$f":"IF(KI108=\"\", 0, KI108 - IF(KI107=\"\", LOOKUP(2, 1/(KI$17:KI106<>\"\"), KI$17:KI106), KI107))","v":0},null,null,null,null,111,"",null,null,{"$f":"IF(KR108=\"\", 0, KR108 - IF(KR107=\"\", LOOKUP(2, 1/(KR$17:KR106<>\"\"), KR$17:KR106), KR107))","v":0},null,null,null,null,111,"",null,null,{"$f":"IF(LA108=\"\", 0, LA108 - IF(LA107=\"\", LOOKUP(2, 1/(LA$17:LA106<>\"\"), LA$17:LA106), LA107))","v":0},null,null,null,null,111,"",null,null,{"$f":"IF(LJ108=\"\", 0, LJ108 - IF(LJ107=\"\", LOOKUP(2, 1/(LJ$17:LJ106<>\"\"), LJ$17:LJ106), LJ107))","v":0},null,null,null,null,111,"",null,null,{"$f":"IF(LS108=\"\", 0, LS108 - IF(LS107=\"\", LOOKUP(2, 1/(LS$17:LS106<>\"\"), LS$17:LS106), LS107))","v":0},null,null,null,null,111,"",null,null,{"$f":"IF(MB108=\"\", 0, MB108 - IF(MB107=\"\", LOOKUP(2, 1/(MB$17:MB106<>\"\"), MB$17:MB106), MB107))","v":0},null,null,null,null,111,"",null,null,{"$f":"IF(MK108=\"\", 0, MK108 - IF(MK107=\"\", LOOKUP(2, 1/(MK$17:MK106<>\"\"), MK$17:MK106), MK107))","v":0},null,null,null,null,111,"",null,null,{"$f":"IF(MT108=\"\", 0, MT108 - IF(MT107=\"\", LOOKUP(2, 1/(MT$17:MT106<>\"\"), MT$17:MT106), MT107))","v":0},null,null,111,"",null,null,{"$f":"IF(NA108=\"\", 0, NA108 - IF(NA107=\"\", LOOKUP(2, 1/(NA$17:NA106<>\"\"), NA$17:NA106), NA107))","v":0},null,null,null,null,111,"",null,null,{"$f":"IF(NJ108=\"\", 0, NJ108 - IF(NJ107=\"\", LOOKUP(2, 1/(NJ$17:NJ106<>\"\"), NJ$17:NJ106), NJ107))","v":0},null,null,null,null,111,"",null,null,{"$f":"IF(NS108=\"\", 0, NS108 - IF(NS107=\"\", LOOKUP(2, 1/(NS$17:NS106<>\"\"), NS$17:NS106), NS107))","v":0},null,null,null,null,111,"",null,null,{"$f":"IF(OB108=\"\", 0, OB108 - IF(OB107=\"\", LOOKUP(2, 1/(OB$17:OB106<>\"\"), OB$17:OB106), OB107))","v":0},null,null,null,null,111,"",null,null,{"$f":"IF(OK108=\"\", 0, OK108 - IF(OK107=\"\", LOOKUP(2, 1/(OK$17:OK106<>\"\"), OK$17:OK106), OK107))","v":0},null,null,null,null,111,"",null,null,{"$f":"IF(OT108=\"\", 0, OT108 - IF(OT107=\"\", LOOKUP(2, 1/(OT$17:OT106<>\"\"), OT$17:OT106), OT107))","v":0},null,null,null,null,111,"",null,null,{"$f":"IF(PC108=\"\", 0, PC108 - IF(PC107=\"\", LOOKUP(2, 1/(PC$17:PC106<>\"\"), PC$17:PC106), PC107))","v":0},null,null,null,null,111,"",null,null,{"$f":"IF(PL108=\"\", 0, PL108 - IF(PL107=\"\", LOOKUP(2, 1/(PL$17:PL106<>\"\"), PL$17:PL106), PL107))","v":0},null,null,null,null,111,"",null,null,{"$f":"IF(PU108=\"\", 0, PU108 - IF(PU107=\"\", LOOKUP(2, 1/(PU$17:PU106<>\"\"), PU$17:PU106), PU107))","v":0},null,null,null,null,111,"",null,null,{"$f":"IF(QD108=\"\", 0, QD108 - IF(QD107=\"\", LOOKUP(2, 1/(QD$17:QD106<>\"\"), QD$17:QD106), QD107))","v":0}]
[null,null,null,110,"",null,null,{"$f":"IF(G109=\"\", 0, G109 - IF(G108=\"\", LOOKUP(2, 1/(G$17:G107<>\"\"), G$17:G107), G108))","v":0},null,null,null,null,110,"",null,null,{"$f":"IF(P109=\"\", 0, P109 - IF(P108=\"\", LOOKUP(2, 1/(P$17:P107<>\"\"), P$17:P107), P108))","v":0},null,null,null,null,110,"",null,null,{"$f":"IF(Y109=\"\", 0, Y109 - IF(Y108=\"\", LOOKUP(2, 1/(Y$17:Y107<>\"\"), Y$17:Y107), Y108))","v":0},null,null,null,null,110,"",null,null,{"$f":"IF(AH109=\"\", 0, AH109 - IF(AH108=\"\", LOOKUP(2, 1/(AH$17:AH107<>\"\"), AH$17:AH107), AH108))","v":0},null,null,null,null,110,"",null,null,{"$f":"IF(AQ109=\"\", 0, AQ109 - IF(AQ108=\"\", LOOKUP(2, 1/(AQ$17:AQ107<>\"\"), AQ$17:AQ107), AQ108))","v":0},null,null,null,null,110,"",null,null,{"$f":"IF(AZ109=\"\", 0, AZ109 - IF(AZ108=\"\", LOOKUP(2, 1/(AZ$17:AZ107<>\"\"), AZ$17:AZ107), AZ108))","v":0},null,null,null,null,110,"",null,null,{"$f":"IF(BI109=\"\", 0, BI109 - IF(BI108=\"\", LOOKUP(2, 1/(BI$17:BI107<>\"\"), BI$17:BI107), BI108))","v":0},null,null,null,null,110,"",null,null,{"$f":"IF(BR109=\"\", 0, BR109 - IF(BR108=\"\", LOOKUP(2, 1/(BR$17:BR107<>\"\"), BR$17:BR107), BR108))","v":0},null,null,null,null,110,"",null,null,{"$f":"IF(CA109=\"\", 0, CA109 - IF(CA108=\"\", LOOKUP(2, 1/(CA$17:CA107<>\"\"), CA$17:CA107), CA108))","v":0},null,null,null,null,110,"",null,null,{"$f":"IF(CJ109=\"\", 0, CJ109 - IF(CJ108=\"\", LOOKUP(2, 1/(CJ$17:CJ107<>\"\"), CJ$17:CJ107), CJ108))","v":0},null,null,null,null,110,"",null,null,{"$f":"IF(CS109=\"\", 0, CS109 - IF(CS108=\"\", LOOKUP(2, 1/(CS$17:CS107<>\"\"), CS$17:CS107), CS108))","v":0},null,null,null,null,110,"",null,null,{"$f":"IF(DB109=\"\", 0, DB109 - IF(DB108=\"\", LOOKUP(2, 1/(DB$17:DB107<>\"\"), DB$17:DB107), DB108))","v":0},null,null,null,null,110,"",null,null,{"$f":"IF(DK109=\"\", 0, DK109 - IF(DK108=\"\", LOOKUP(2, 1/(DK$17:DK107<>\"\"), DK$17:DK107), DK108))","v":0},null,null,null,null,110,"",null,null,{"$f":"IF(DT109=\"\", 0, DT109 - IF(DT108=\"\", LOOKUP(2, 1/(DT$17:DT107<>\"\"), DT$17:DT107), DT108))","v":0},null,null,null,null,110,"",null,null,{"$f":"IF(EC109=\"\", 0, EC109 - IF(EC108=\"\", LOOKUP(2, 1/(EC$17:EC107<>\"\"), EC$17:EC107), EC108))","v":0},null,null,null,null,110,"",null,null,{"$f":"IF(EL109=\"\", 0, EL109 - IF(EL108=\"\", LOOKUP(2, 1/(EL$17:EL107<>\"\"), EL$17:EL107), EL108))","v":0},null,null,null,null,110,"",null,null,{"$f":"IF(EU109=\"\", 0, EU109 - IF(EU108=\"\", LOOKUP(2, 1/(EU$17:EU107<>\"\"), EU$17:EU107), EU108))","v":0},null,null,null,null,110,"",null,null,{"$f":"IF(FD109=\"\", 0, FD109 - IF(FD108=\"\", LOOKUP(2, 1/(FD$17:FD107<>\"\"), FD$17:FD107), FD108))","v":0},null,null,null,null,110,"",null,null,{"$f":"IF(FM109=\"\", 0, FM109 - IF(FM108=\"\", LOOKUP(2, 1/(FM$17:FM107<>\"\"), FM$17:FM107), FM108))","v":0},null,null,null,null,110,"",null,null,{"$f":"IF(FV109=\"\", 0, FV109 - IF(FV108=\"\", LOOKUP(2, 1/(FV$17:FV107<>\"\"), FV$17:FV107), FV108))","v":0},null,null,null,null,110,"",null,null,{"$f":"IF(GE109=\"\", 0, GE109 - IF(GE108=\"\", LOOKUP(2, 1/(GE$17:GE107<>\"\"), GE$17:GE107), GE108))","v":0},null,null,null,null,110,"",null,null,{"$f":"IF(GN109=\"\", 0, GN109 - IF(GN108=\"\", LOOKUP(2, 1/(GN$17:GN107<>\"\"), GN$17:GN107), GN108))","v":0},null,null,null,null,110,"",null,null,{"$f":"IF(GW109=\"\", 0, GW109 - IF(GW108=\"\", LOOKUP(2, 1/(GW$17:GW107<>\"\"), GW$17:GW107), GW108))","v":0},null,null,null,null,110,"",null,null,{"$f":"IF(HF109=\"\", 0, HF109 - IF(HF108=\"\", LOOKUP(2, 1/(HF$17:HF107<>\"\"), HF$17:HF107), HF108))","v":0},null,null,null,null,110,"",null,null,{"$f":"IF(HO109=\"\", 0, HO109 - IF(HO108=\"\", LOOKUP(2, 1/(HO$17:HO107<>\"\"), HO$17:HO107), HO108))","v":0},null,null,null,null,110,"",null,null,{"$f":"IF(HX109=\"\", 0, HX109 - IF(HX108=\"\", LOOKUP(2, 1/(HX$17:HX107<>\"\"), HX$17:HX107), HX108))","v":0},null,null,null,null,110,"",null,null,{"$f":"IF(IG109=\"\", 0, IG109 - IF(IG108=\"\", LOOKUP(2, 1/(IG$17:IG107<>\"\"), IG$17:IG107), IG108))","v":0},null,null,null,null,110,"",null,null,{"$f":"IF(IP109=\"\", 0, IP109 - IF(IP108=\"\", LOOKUP(2, 1/(IP$17:IP107<>\"\"), IP$17:IP107), IP108))","v":0},null,null,null,null,110,"",null,null,{"$f":"IF(IY109=\"\", 0, IY109 - IF(IY108=\"\", LOOKUP(2, 1/(IY$17:IY107<>\"\"), IY$17:IY107), IY108))","v":0},null,null,null,null,110,"",null,null,{"$f":"IF(JH109=\"\", 0, JH109 - IF(JH108=\"\", LOOKUP(2, 1/(JH$17:JH107<>\"\"), JH$17:JH107), JH108))","v":0},null,null,null,null,110,"",null,null,{"$f":"IF(JQ109=\"\", 0, JQ109 - IF(JQ108=\"\", LOOKUP(2, 1/(JQ$17:JQ107<>\"\"), JQ$17:JQ107), JQ108))","v":0},null,null,null,null,110,"",null,null,{"$f":"IF(JZ109=\"\", 0, JZ109 - IF(JZ108=\"\", LOOKUP(2, 1/(JZ$17:JZ107<>\"\"), JZ$17:JZ107), JZ108))","v":0},null,null,null,null,110,"",null,null,{"$f":"IF(KI109=\"\", 0, KI109 - IF(KI108=\"\", LOOKUP(2, 1/(KI$17:KI107<>\"\"), KI$17:KI107), KI108))","v":0},null,null,null,null,110,"",null,null,{"$f":"IF(KR109=\"\", 0, KR109 - IF(KR108=\"\", LOOKUP(2, 1/(KR$17:KR107<>\"\"), KR$17:KR107), KR108))","v":0},null,null,null,null,110,"",null,null,{"$f":"IF(LA109=\"\", 0, LA109 - IF(LA108=\"\", LOOKUP(2, 1/(LA$17:LA107<>\"\"), LA$17:LA107), LA108))","v":0},null,null,null,null,110,"",null,null,{"$f":"IF(LJ109=\"\", 0, LJ109 - IF(LJ108=\"\", LOOKUP(2, 1/(LJ$17:LJ107<>\"\"), LJ$17:LJ107), LJ108))","v":0},null,null,null,null,110,"",null,null,{"$f":"IF(LS109=\"\", 0, LS109 - IF(LS108=\"\", LOOKUP(2, 1/(LS$17:LS107<>\"\"), LS$17:LS107), LS108))","v":0},null,null,null,null,110,"",null,null,{"$f":"IF(MB109=\"\", 0, MB109 - IF(MB108=\"\", LOOKUP(2, 1/(MB$17:MB107<>\"\"), MB$17:MB107), MB108))","v":0},null,null,null,null,110,"",null,null,{"$f":"IF(MK109=\"\", 0, MK109 - IF(MK108=\"\", LOOKUP(2, 1/(MK$17:MK107<>\"\"), MK$17:MK107), MK108))","v":0},null,null,null,null,110,"",null,null,{"$f":"IF(MT109=\"\", 0, MT109 - IF(MT108=\"\", LOOKUP(2, 1/(MT$17:MT107<>\"\"), MT$17:MT107), MT108))","v":0},null,null,110,"",null,null,{"$f":"IF(NA109=\"\", 0, NA109 - IF(NA108=\"\", LOOKUP(2, 1/(NA$17:NA107<>\"\"), NA$17:NA107), NA108))","v":0},null,null,null,null,110,"",null,null,{"$f":"IF(NJ109=\"\", 0, NJ109 - IF(NJ108=\"\", LOOKUP(2, 1/(NJ$17:NJ107<>\"\"), NJ$17:NJ107), NJ108))","v":0},null,null,null,null,110,"",null,null,{"$f":"IF(NS109=\"\", 0, NS109 - IF(NS108=\"\", LOOKUP(2, 1/(NS$17:NS107<>\"\"), NS$17:NS107), NS108))","v":0},null,null,null,null,110,"",null,null,{"$f":"IF(OB109=\"\", 0, OB109 - IF(OB108=\"\", LOOKUP(2, 1/(OB$17:OB107<>\"\"), OB$17:OB107), OB108))","v":0},null,null,null,null,110,"",null,null,{"$f":"IF(OK109=\"\", 0, OK109 - IF(OK108=\"\", LOOKUP(2, 1/(OK$17:OK107<>\"\"), OK$17:OK107), OK108))","v":0},null,null,null,null,110,"",null,null,{"$f":"IF(OT109=\"\", 0, OT109 - IF(OT108=\"\", LOOKUP(2, 1/(OT$17:OT107<>\"\"), OT$17:OT107), OT108))","v":0},null,null,null,null,110,"",null,null,{"$f":"IF(PC109=\"\", 0, PC109 - IF(PC108=\"\", LOOKUP(2, 1/(PC$17:PC107<>\"\"), PC$17:PC107), PC108))","v":0},null,null,null,null,110,"",null,null,{"$f":"IF(PL109=\"\", 0, PL109 - IF(PL108=\"\", LOOKUP(2, 1/(PL$17:PL107<>\"\"), PL$17:PL107), PL108))","v":0},null,null,null,null,110,"",null,null,{"$f":"IF(PU109=\"\", 0, PU109 - IF(PU108=\"\", LOOKUP(2, 1/(PU$17:PU107<>\"\"), PU$17:PU107), PU108))","v":0},null,null,null,null,110,"",null,null,{"$f":"IF(QD109=\"\", 0, QD109 - IF(QD108=\"\", LOOKUP(2, 1/(QD$17:QD107<>\"\"), QD$17:QD107), QD108))","v":0}]
[null,null,null,109,"",null,null,{"$f":"IF(G110=\"\", 0, G110 - IF(G109=\"\", LOOKUP(2, 1/(G$17:G108<>\"\"), G$17:G108), G109))","v":0},null,null,null,null,109,"",null,null,{"$f":"IF(P110=\"\", 0, P110 - IF(P109=\"\", LOOKUP(2, 1/(P$17:P108<>\"\"), P$17:P108), P109))","v":0},null,null,null,null,109,"",null,null,{"$f":"IF(Y110=\"\", 0, Y110 - IF(Y109=\"\", LOOKUP(2, 1/(Y$17:Y108<>\"\"), Y$17:Y108), Y109))","v":0},null,null,null,null,109,"",null,null,{"$f":"IF(AH110=\"\", 0, AH110 - IF(AH109=\"\", LOOKUP(2, 1/(AH$17:AH108<>\"\"), AH$17:AH108), AH109))","v":0},null,null,null,null,109,"",null,null,{"$f":"IF(AQ110=\"\", 0, AQ110 - IF(AQ109=\"\", LOOKUP(2, 1/(AQ$17:AQ108<>\"\"), AQ$17:AQ108), AQ109))","v":0},null,null,null,null,109,"",null,null,{"$f":"IF(AZ110=\"\", 0, AZ110 - IF(AZ109=\"\", LOOKUP(2, 1/(AZ$17:AZ108<>\"\"), AZ$17:AZ108), AZ109))","v":0},null,null,null,null,109,"",null,null,{"$f":"IF(BI110=\"\", 0, BI110 - IF(BI109=\"\", LOOKUP(2, 1/(BI$17:BI108<>\"\"), BI$17:BI108), BI109))","v":0},null,null,null,null,109,"",null,null,{"$f":"IF(BR110=\"\", 0, BR110 - IF(BR109=\"\", LOOKUP(2, 1/(BR$17:BR108<>\"\"), BR$17:BR108), BR109))","v":0},null,null,null,null,109,"",null,null,{"$f":"IF(CA110=\"\", 0, CA110 - IF(CA109=\"\", LOOKUP(2, 1/(CA$17:CA108<>\"\"), CA$17:CA108), CA109))","v":0},null,null,null,null,109,"",null,null,{"$f":"IF(CJ110=\"\", 0, CJ110 - IF(CJ109=\"\", LOOKUP(2, 1/(CJ$17:CJ108<>\"\"), CJ$17:CJ108), CJ109))","v":0},null,null,null,null,109,"",null,null,{"$f":"IF(CS110=\"\", 0, CS110 - IF(CS109=\"\", LOOKUP(2, 1/(CS$17:CS108<>\"\"), CS$17:CS108), CS109))","v":0},null,null,null,null,109,"",null,null,{"$f":"IF(DB110=\"\", 0, DB110 - IF(DB109=\"\", LOOKUP(2, 1/(DB$17:DB108<>\"\"), DB$17:DB108), DB109))","v":0},null,null,null,null,109,"",null,null,{"$f":"IF(DK110=\"\", 0, DK110 - IF(DK109=\"\", LOOKUP(2, 1/(DK$17:DK108<>\"\"), DK$17:DK108), DK109))","v":0},null,null,null,null,109,"",null,null,{"$f":"IF(DT110=\"\", 0, DT110 - IF(DT109=\"\", LOOKUP(2, 1/(DT$17:DT108<>\"\"), DT$17:DT108), DT109))","v":0},null,null,null,null,109,"",null,null,{"$f":"IF(EC110=\"\", 0, EC110 - IF(EC109=\"\", LOOKUP(2, 1/(EC$17:EC108<>\"\"), EC$17:EC108), EC109))","v":0},null,null,null,null,109,"",null,null,{"$f":"IF(EL110=\"\", 0, EL110 - IF(EL109=\"\", LOOKUP(2, 1/(EL$17:EL108<>\"\"), EL$17:EL108), EL109))","v":0},null,null,null,null,109,"",null,null,{"$f":"IF(EU110=\"\", 0, EU110 - IF(EU109=\"\", LOOKUP(2, 1/(EU$17:EU108<>\"\"), EU$17:EU108), EU109))","v":0},null,null,null,null,109,"",null,null,{"$f":"IF(FD110=\"\", 0, FD110 - IF(FD109=\"\", LOOKUP(2, 1/(FD$17:FD108<>\"\"), FD$17:FD108), FD109))","v":0},null,null,null,null,109,"",null,null,{"$f":"IF(FM110=\"\", 0, FM110 - IF(FM109=\"\", LOOKUP(2, 1/(FM$17:FM108<>\"\"), FM$17:FM108), FM109))","v":0},null,null,null,null,109,"",null,null,{"$f":"IF(FV110=\"\", 0, FV110 - IF(FV109=\"\", LOOKUP(2, 1/(FV$17:FV108<>\"\"), FV$17:FV108), FV109))","v":0},null,null,null,null,109,"",null,null,{"$f":"IF(GE110=\"\", 0, GE110 - IF(GE109=\"\", LOOKUP(2, 1/(GE$17:GE108<>\"\"), GE$17:GE108), GE109))","v":0},null,null,null,null,109,"",null,null,{"$f":"IF(GN110=\"\", 0, GN110 - IF(GN109=\"\", LOOKUP(2, 1/(GN$17:GN108<>\"\"), GN$17:GN108), GN109))","v":0},null,null,null,null,109,"",null,null,{"$f":"IF(GW110=\"\", 0, GW110 - IF(GW109=\"\", LOOKUP(2, 1/(GW$17:GW108<>\"\"), GW$17:GW108), GW109))","v":0},null,null,null,null,109,"",null,null,{"$f":"IF(HF110=\"\", 0, HF110 - IF(HF109=\"\", LOOKUP(2, 1/(HF$17:HF108<>\"\"), HF$17:HF108), HF109))","v":0},null,null,null,null,109,"",null,null,{"$f":"IF(HO110=\"\", 0, HO110 - IF(HO109=\"\", LOOKUP(2, 1/(HO$17:HO108<>\"\"), HO$17:HO108), HO109))","v":0},null,null,null,null,109,"",null,null,{"$f":"IF(HX110=\"\", 0, HX110 - IF(HX109=\"\", LOOKUP(2, 1/(HX$17:HX108<>\"\"), HX$17:HX108), HX109))","v":0},null,null,null,null,109,"",null,null,{"$f":"IF(IG110=\"\", 0, IG110 - IF(IG109=\"\", LOOKUP(2, 1/(IG$17:IG108<>\"\"), IG$17:IG108), IG109))","v":0},null,null,null,null,109,"",null,null,{"$f":"IF(IP110=\"\", 0, IP110 - IF(IP109=\"\", LOOKUP(2, 1/(IP$17:IP108<>\"\"), IP$17:IP108), IP109))","v":0},null,null,null,null,109,"",null,null,{"$f":"IF(IY110=\"\", 0, IY110 - IF(IY109=\"\", LOOKUP(2, 1/(IY$17:IY108<>\"\"), IY$17:IY108), IY109))","v":0},null,null,null,null,109,"",null,null,{"$f":"IF(JH110=\"\", 0, JH110 - IF(JH109=\"\", LOOKUP(2, 1/(JH$17:JH108<>\"\"), JH$17:JH108), JH109))","v":0},null,null,null,null,109,"",null,null,{"$f":"IF(JQ110=\"\", 0, JQ110 - IF(JQ109=\"\", LOOKUP(2, 1/(JQ$17:JQ108<>\"\"), JQ$17:JQ108), JQ109))","v":0},null,null,null,null,109,"",null,null,{"$f":"IF(JZ110=\"\", 0, JZ110 - IF(JZ109=\"\", LOOKUP(2, 1/(JZ$17:JZ108<>\"\"), JZ$17:JZ108), JZ109))","v":0},null,null,null,null,109,"",null,null,{"$f":"IF(KI110=\"\", 0, KI110 - IF(KI109=\"\", LOOKUP(2, 1/(KI$17:KI108<>\"\"), KI$17:KI108), KI109))","v":0},null,null,null,null,109,"",null,null,{"$f":"IF(KR110=\"\", 0, KR110 - IF(KR109=\"\", LOOKUP(2, 1/(KR$17:KR108<>\"\"), KR$17:KR108), KR109))","v":0},null,null,null,null,109,"",null,null,{"$f":"IF(LA110=\"\", 0, LA110 - IF(LA109=\"\", LOOKUP(2, 1/(LA$17:LA108<>\"\"), LA$17:LA108), LA109))","v":0},null,null,null,null,109,"",null,null,{"$f":"IF(LJ110=\"\", 0, LJ110 - IF(LJ109=\"\", LOOKUP(2, 1/(LJ$17:LJ108<>\"\"), LJ$17:LJ108), LJ109))","v":0},null,null,null,null,109,"",null,null,{"$f":"IF(LS110=\"\", 0, LS110 - IF(LS109=\"\", LOOKUP(2, 1/(LS$17:LS108<>\"\"), LS$17:LS108), LS109))","v":0},null,null,null,null,109,"",null,null,{"$f":"IF(MB110=\"\", 0, MB110 - IF(MB109=\"\", LOOKUP(2, 1/(MB$17:MB108<>\"\"), MB$17:MB108), MB109))","v":0},null,null,null,null,109,"",null,null,{"$f":"IF(MK110=\"\", 0, MK110 - IF(MK109=\"\", LOOKUP(2, 1/(MK$17:MK108<>\"\"), MK$17:MK108), MK109))","v":0},null,null,null,null,109,"",null,null,{"$f":"IF(MT110=\"\", 0, MT110 - IF(MT109=\"\", LOOKUP(2, 1/(MT$17:MT108<>\"\"), MT$17:MT108), MT109))","v":0},null,null,109,"",null,null,{"$f":"IF(NA110=\"\", 0, NA110 - IF(NA109=\"\", LOOKUP(2, 1/(NA$17:NA108<>\"\"), NA$17:NA108), NA109))","v":0},null,null,null,null,109,"",null,null,{"$f":"IF(NJ110=\"\", 0, NJ110 - IF(NJ109=\"\", LOOKUP(2, 1/(NJ$17:NJ108<>\"\"), NJ$17:NJ108), NJ109))","v":0},null,null,null,null,109,"",null,null,{"$f":"IF(NS110=\"\", 0, NS110 - IF(NS109=\"\", LOOKUP(2, 1/(NS$17:NS108<>\"\"), NS$17:NS108), NS109))","v":0},null,null,null,null,109,"",null,null,{"$f":"IF(OB110=\"\", 0, OB110 - IF(OB109=\"\", LOOKUP(2, 1/(OB$17:OB108<>\"\"), OB$17:OB108), OB109))","v":0},null,null,null,null,109,"",null,null,{"$f":"IF(OK110=\"\", 0, OK110 - IF(OK109=\"\", LOOKUP(2, 1/(OK$17:OK108<>\"\"), OK$17:OK108), OK109))","v":0},null,null,null,null,109,"",null,null,{"$f":"IF(OT110=\"\", 0, OT110 - IF(OT109=\"\", LOOKUP(2, 1/(OT$17:OT108<>\"\"), OT$17:OT108), OT109))","v":0},null,null,null,null,109,"",null,null,{"$f":"IF(PC110=\"\", 0, PC110 - IF(PC109=\"\", LOOKUP(2, 1/(PC$17:PC108<>\"\"), PC$17:PC108), PC109))","v":0},null,null,null,null,109,"",null,null,{"$f":"IF(PL110=\"\", 0, PL110 - IF(PL109=\"\", LOOKUP(2, 1/(PL$17:PL108<>\"\"), PL$17:PL108), PL109))","v":0},null,null,null,null,109,"",null,null,{"$f":"IF(PU110=\"\", 0, PU110 - IF(PU109=\"\", LOOKUP(2, 1/(PU$17:PU108<>\"\"), PU$17:PU108), PU109))","v":0},null,null,null,null,109,"",null,null,{"$f":"IF(QD110=\"\", 0, QD110 - IF(QD109=\"\", LOOKUP(2, 1/(QD$17:QD108<>\"\"), QD$17:QD108), QD109))","v":0}]
[null,null,null,108,"",null,null,{"$f":"IF(G111=\"\", 0, G111 - IF(G110=\"\", LOOKUP(2, 1/(G$17:G109<>\"\"), G$17:G109), G110))","v":0},null,null,null,null,108,"",null,null,{"$f":"IF(P111=\"\", 0, P111 - IF(P110=\"\", LOOKUP(2, 1/(P$17:P109<>\"\"), P$17:P109), P110))","v":0},null,null,null,null,108,"",null,null,{"$f":"IF(Y111=\"\", 0, Y111 - IF(Y110=\"\", LOOKUP(2, 1/(Y$17:Y109<>\"\"), Y$17:Y109), Y110))","v":0},null,null,null,null,108,"",null,null,{"$f":"IF(AH111=\"\", 0, AH111 - IF(AH110=\"\", LOOKUP(2, 1/(AH$17:AH109<>\"\"), AH$17:AH109), AH110))","v":0},null,null,null,null,108,"",null,null,{"$f":"IF(AQ111=\"\", 0, AQ111 - IF(AQ110=\"\", LOOKUP(2, 1/(AQ$17:AQ109<>\"\"), AQ$17:AQ109), AQ110))","v":0},null,null,null,null,108,"",null,null,{"$f":"IF(AZ111=\"\", 0, AZ111 - IF(AZ110=\"\", LOOKUP(2, 1/(AZ$17:AZ109<>\"\"), AZ$17:AZ109), AZ110))","v":0},null,null,null,null,108,"",null,null,{"$f":"IF(BI111=\"\", 0, BI111 - IF(BI110=\"\", LOOKUP(2, 1/(BI$17:BI109<>\"\"), BI$17:BI109), BI110))","v":0},null,null,null,null,108,"",null,null,{"$f":"IF(BR111=\"\", 0, BR111 - IF(BR110=\"\", LOOKUP(2, 1/(BR$17:BR109<>\"\"), BR$17:BR109), BR110))","v":0},null,null,null,null,108,"",null,null,{"$f":"IF(CA111=\"\", 0, CA111 - IF(CA110=\"\", LOOKUP(2, 1/(CA$17:CA109<>\"\"), CA$17:CA109), CA110))","v":0},null,null,null,null,108,"",null,null,{"$f":"IF(CJ111=\"\", 0, CJ111 - IF(CJ110=\"\", LOOKUP(2, 1/(CJ$17:CJ109<>\"\"), CJ$17:CJ109), CJ110))","v":0},null,null,null,null,108,"",null,null,{"$f":"IF(CS111=\"\", 0, CS111 - IF(CS110=\"\", LOOKUP(2, 1/(CS$17:CS109<>\"\"), CS$17:CS109), CS110))","v":0},null,null,null,null,108,"",null,null,{"$f":"IF(DB111=\"\", 0, DB111 - IF(DB110=\"\", LOOKUP(2, 1/(DB$17:DB109<>\"\"), DB$17:DB109), DB110))","v":0},null,null,null,null,108,"",null,null,{"$f":"IF(DK111=\"\", 0, DK111 - IF(DK110=\"\", LOOKUP(2, 1/(DK$17:DK109<>\"\"), DK$17:DK109), DK110))","v":0},null,null,null,null,108,"",null,null,{"$f":"IF(DT111=\"\", 0, DT111 - IF(DT110=\"\", LOOKUP(2, 1/(DT$17:DT109<>\"\"), DT$17:DT109), DT110))","v":0},null,null,null,null,108,"",null,null,{"$f":"IF(EC111=\"\", 0, EC111 - IF(EC110=\"\", LOOKUP(2, 1/(EC$17:EC109<>\"\"), EC$17:EC109), EC110))","v":0},null,null,null,null,108,"",null,null,{"$f":"IF(EL111=\"\", 0, EL111 - IF(EL110=\"\", LOOKUP(2, 1/(EL$17:EL109<>\"\"), EL$17:EL109), EL110))","v":0},null,null,null,null,108,"",null,null,{"$f":"IF(EU111=\"\", 0, EU111 - IF(EU110=\"\", LOOKUP(2, 1/(EU$17:EU109<>\"\"), EU$17:EU109), EU110))","v":0},null,null,null,null,108,"",null,null,{"$f":"IF(FD111=\"\", 0, FD111 - IF(FD110=\"\", LOOKUP(2, 1/(FD$17:FD109<>\"\"), FD$17:FD109), FD110))","v":0},null,null,null,null,108,"",null,null,{"$f":"IF(FM111=\"\", 0, FM111 - IF(FM110=\"\", LOOKUP(2, 1/(FM$17:FM109<>\"\"), FM$17:FM109), FM110))","v":0},null,null,null,null,108,"",null,null,{"$f":"IF(FV111=\"\", 0, FV111 - IF(FV110=\"\", LOOKUP(2, 1/(FV$17:FV109<>\"\"), FV$17:FV109), FV110))","v":0},null,null,null,null,108,"",null,null,{"$f":"IF(GE111=\"\", 0, GE111 - IF(GE110=\"\", LOOKUP(2, 1/(GE$17:GE109<>\"\"), GE$17:GE109), GE110))","v":0},null,null,null,null,108,"",null,null,{"$f":"IF(GN111=\"\", 0, GN111 - IF(GN110=\"\", LOOKUP(2, 1/(GN$17:GN109<>\"\"), GN$17:GN109), GN110))","v":0},null,null,null,null,108,"",null,null,{"$f":"IF(GW111=\"\", 0, GW111 - IF(GW110=\"\", LOOKUP(2, 1/(GW$17:GW109<>\"\"), GW$17:GW109), GW110))","v":0},null,null,null,null,108,"",null,null,{"$f":"IF(HF111=\"\", 0, HF111 - IF(HF110=\"\", LOOKUP(2, 1/(HF$17:HF109<>\"\"), HF$17:HF109), HF110))","v":0},null,null,null,null,108,"",null,null,{"$f":"IF(HO111=\"\", 0, HO111 - IF(HO110=\"\", LOOKUP(2, 1/(HO$17:HO109<>\"\"), HO$17:HO109), HO110))","v":0},null,null,null,null,108,"",null,null,{"$f":"IF(HX111=\"\", 0, HX111 - IF(HX110=\"\", LOOKUP(2, 1/(HX$17:HX109<>\"\"), HX$17:HX109), HX110))","v":0},null,null,null,null,108,"",null,null,{"$f":"IF(IG111=\"\", 0, IG111 - IF(IG110=\"\", LOOKUP(2, 1/(IG$17:IG109<>\"\"), IG$17:IG109), IG110))","v":0},null,null,null,null,108,"",null,null,{"$f":"IF(IP111=\"\", 0, IP111 - IF(IP110=\"\", LOOKUP(2, 1/(IP$17:IP109<>\"\"), IP$17:IP109), IP110))","v":0},null,null,null,null,108,"",null,null,{"$f":"IF(IY111=\"\", 0, IY111 - IF(IY110=\"\", LOOKUP(2, 1/(IY$17:IY109<>\"\"), IY$17:IY109), IY110))","v":0},null,null,null,null,108,"",null,null,{"$f":"IF(JH111=\"\", 0, JH111 - IF(JH110=\"\", LOOKUP(2, 1/(JH$17:JH109<>\"\"), JH$17:JH109), JH110))","v":0},null,null,null,null,108,"",null,null,{"$f":"IF(JQ111=\"\", 0, JQ111 - IF(JQ110=\"\", LOOKUP(2, 1/(JQ$17:JQ109<>\"\"), JQ$17:JQ109), JQ110))","v":0},null,null,null,null,108,"",null,null,{"$f":"IF(JZ111=\"\", 0, JZ111 - IF(JZ110=\"\", LOOKUP(2, 1/(JZ$17:JZ109<>\"\"), JZ$17:JZ109), JZ110))","v":0},null,null,null,null,108,"",null,null,{"$f":"IF(KI111=\"\", 0, KI111 - IF(KI110=\"\", LOOKUP(2, 1/(KI$17:KI109<>\"\"), KI$17:KI109), KI110))","v":0},null,null,null,null,108,"",null,null,{"$f":"IF(KR111=\"\", 0, KR111 - IF(KR110=\"\", LOOKUP(2, 1/(KR$17:KR109<>\"\"), KR$17:KR109), KR110))","v":0},null,null,null,null,108,"",null,null,{"$f":"IF(LA111=\"\", 0, LA111 - IF(LA110=\"\", LOOKUP(2, 1/(LA$17:LA109<>\"\"), LA$17:LA109), LA110))","v":0},null,null,null,null,108,"",null,null,{"$f":"IF(LJ111=\"\", 0, LJ111 - IF(LJ110=\"\", LOOKUP(2, 1/(LJ$17:LJ109<>\"\"), LJ$17:LJ109), LJ110))","v":0},null,null,null,null,108,"",null,null,{"$f":"IF(LS111=\"\", 0, LS111 - IF(LS110=\"\", LOOKUP(2, 1/(LS$17:LS109<>\"\"), LS$17:LS109), LS110))","v":0},null,null,null,null,108,"",null,null,{"$f":"IF(MB111=\"\", 0, MB111 - IF(MB110=\"\", LOOKUP(2, 1/(MB$17:MB109<>\"\"), MB$17:MB109), MB110))","v":0},null,null,null,null,108,"",null,null,{"$f":"IF(MK111=\"\", 0, MK111 - IF(MK110=\"\", LOOKUP(2, 1/(MK$17:MK109<>\"\"), MK$17:MK109), MK110))","v":0},null,null,null,null,108,"",null,null,{"$f":"IF(MT111=\"\", 0, MT111 - IF(MT110=\"\", LOOKUP(2, 1/(MT$17:MT109<>\"\"), MT$17:MT109), MT110))","v":0},null,null,108,"",null,null,{"$f":"IF(NA111=\"\", 0, NA111 - IF(NA110=\"\", LOOKUP(2, 1/(NA$17:NA109<>\"\"), NA$17:NA109), NA110))","v":0},null,null,null,null,108,"",null,null,{"$f":"IF(NJ111=\"\", 0, NJ111 - IF(NJ110=\"\", LOOKUP(2, 1/(NJ$17:NJ109<>\"\"), NJ$17:NJ109), NJ110))","v":0},null,null,null,null,108,"",null,null,{"$f":"IF(NS111=\"\", 0, NS111 - IF(NS110=\"\", LOOKUP(2, 1/(NS$17:NS109<>\"\"), NS$17:NS109), NS110))","v":0},null,null,null,null,108,"",null,null,{"$f":"IF(OB111=\"\", 0, OB111 - IF(OB110=\"\", LOOKUP(2, 1/(OB$17:OB109<>\"\"), OB$17:OB109), OB110))","v":0},null,null,null,null,108,"",null,null,{"$f":"IF(OK111=\"\", 0, OK111 - IF(OK110=\"\", LOOKUP(2, 1/(OK$17:OK109<>\"\"), OK$17:OK109), OK110))","v":0},null,null,null,null,108,"",null,null,{"$f":"IF(OT111=\"\", 0, OT111 - IF(OT110=\"\", LOOKUP(2, 1/(OT$17:OT109<>\"\"), OT$17:OT109), OT110))","v":0},null,null,null,null,108,"",null,null,{"$f":"IF(PC111=\"\", 0, PC111 - IF(PC110=\"\", LOOKUP(2, 1/(PC$17:PC109<>\"\"), PC$17:PC109), PC110))","v":0},null,null,null,null,108,"",null,null,{"$f":"IF(PL111=\"\", 0, PL111 - IF(PL110=\"\", LOOKUP(2, 1/(PL$17:PL109<>\"\"), PL$17:PL109), PL110))","v":0},null,null,null,null,108,"",null,null,{"$f":"IF(PU111=\"\", 0, PU111 - IF(PU110=\"\", LOOKUP(2, 1/(PU$17:PU109<>\"\"), PU$17:PU109), PU110))","v":0},null,null,null,null,108,"",null,null,{"$f":"IF(QD111=\"\", 0, QD111 - IF(QD110=\"\", LOOKUP(2, 1/(QD$17:QD109<>\"\"), QD$17:QD109), QD110))","v":0}]
[null,null,null,107,"",null,null,{"$f":"IF(G112=\"\", 0, G112 - IF(G111=\"\", LOOKUP(2, 1/(G$17:G110<>\"\"), G$17:G110), G111))","v":0},null,null,null,null,107,"",null,null,{"$f":"IF(P112=\"\", 0, P112 - IF(P111=\"\", LOOKUP(2, 1/(P$17:P110<>\"\"), P$17:P110), P111))","v":0},null,null,null,null,107,"",null,null,{"$f":"IF(Y112=\"\", 0, Y112 - IF(Y111=\"\", LOOKUP(2, 1/(Y$17:Y110<>\"\"), Y$17:Y110), Y111))","v":0},null,null,null,null,107,"",null,null,{"$f":"IF(AH112=\"\", 0, AH112 - IF(AH111=\"\", LOOKUP(2, 1/(AH$17:AH110<>\"\"), AH$17:AH110), AH111))","v":0},null,null,null,null,107,"",null,null,{"$f":"IF(AQ112=\"\", 0, AQ112 - IF(AQ111=\"\", LOOKUP(2, 1/(AQ$17:AQ110<>\"\"), AQ$17:AQ110), AQ111))","v":0},null,null,null,null,107,"",null,null,{"$f":"IF(AZ112=\"\", 0, AZ112 - IF(AZ111=\"\", LOOKUP(2, 1/(AZ$17:AZ110<>\"\"), AZ$17:AZ110), AZ111))","v":0},null,null,null,null,107,"",null,null,{"$f":"IF(BI112=\"\", 0, BI112 - IF(BI111=\"\", LOOKUP(2, 1/(BI$17:BI110<>\"\"), BI$17:BI110), BI111))","v":0},null,null,null,null,107,"",null,null,{"$f":"IF(BR112=\"\", 0, BR112 - IF(BR111=\"\", LOOKUP(2, 1/(BR$17:BR110<>\"\"), BR$17:BR110), BR111))","v":0},null,null,null,null,107,"",null,null,{"$f":"IF(CA112=\"\", 0, CA112 - IF(CA111=\"\", LOOKUP(2, 1/(CA$17:CA110<>\"\"), CA$17:CA110), CA111))","v":0},null,null,null,null,107,"",null,null,{"$f":"IF(CJ112=\"\", 0, CJ112 - IF(CJ111=\"\", LOOKUP(2, 1/(CJ$17:CJ110<>\"\"), CJ$17:CJ110), CJ111))","v":0},null,null,null,null,107,"",null,null,{"$f":"IF(CS112=\"\", 0, CS112 - IF(CS111=\"\", LOOKUP(2, 1/(CS$17:CS110<>\"\"), CS$17:CS110), CS111))","v":0},null,null,null,null,107,"",null,null,{"$f":"IF(DB112=\"\", 0, DB112 - IF(DB111=\"\", LOOKUP(2, 1/(DB$17:DB110<>\"\"), DB$17:DB110), DB111))","v":0},null,null,null,null,107,"",null,null,{"$f":"IF(DK112=\"\", 0, DK112 - IF(DK111=\"\", LOOKUP(2, 1/(DK$17:DK110<>\"\"), DK$17:DK110), DK111))","v":0},null,null,null,null,107,"",null,null,{"$f":"IF(DT112=\"\", 0, DT112 - IF(DT111=\"\", LOOKUP(2, 1/(DT$17:DT110<>\"\"), DT$17:DT110), DT111))","v":0},null,null,null,null,107,"",null,null,{"$f":"IF(EC112=\"\", 0, EC112 - IF(EC111=\"\", LOOKUP(2, 1/(EC$17:EC110<>\"\"), EC$17:EC110), EC111))","v":0},null,null,null,null,107,"",null,null,{"$f":"IF(EL112=\"\", 0, EL112 - IF(EL111=\"\", LOOKUP(2, 1/(EL$17:EL110<>\"\"), EL$17:EL110), EL111))","v":0},null,null,null,null,107,"",null,null,{"$f":"IF(EU112=\"\", 0, EU112 - IF(EU111=\"\", LOOKUP(2, 1/(EU$17:EU110<>\"\"), EU$17:EU110), EU111))","v":0},null,null,null,null,107,"",null,null,{"$f":"IF(FD112=\"\", 0, FD112 - IF(FD111=\"\", LOOKUP(2, 1/(FD$17:FD110<>\"\"), FD$17:FD110), FD111))","v":0},null,null,null,null,107,"",null,null,{"$f":"IF(FM112=\"\", 0, FM112 - IF(FM111=\"\", LOOKUP(2, 1/(FM$17:FM110<>\"\"), FM$17:FM110), FM111))","v":0},null,null,null,null,107,"",null,null,{"$f":"IF(FV112=\"\", 0, FV112 - IF(FV111=\"\", LOOKUP(2, 1/(FV$17:FV110<>\"\"), FV$17:FV110), FV111))","v":0},null,null,null,null,107,"",null,null,{"$f":"IF(GE112=\"\", 0, GE112 - IF(GE111=\"\", LOOKUP(2, 1/(GE$17:GE110<>\"\"), GE$17:GE110), GE111))","v":0},null,null,null,null,107,"",null,null,{"$f":"IF(GN112=\"\", 0, GN112 - IF(GN111=\"\", LOOKUP(2, 1/(GN$17:GN110<>\"\"), GN$17:GN110), GN111))","v":0},null,null,null,null,107,"",null,null,{"$f":"IF(GW112=\"\", 0, GW112 - IF(GW111=\"\", LOOKUP(2, 1/(GW$17:GW110<>\"\"), GW$17:GW110), GW111))","v":0},null,null,null,null,107,"",null,null,{"$f":"IF(HF112=\"\", 0, HF112 - IF(HF111=\"\", LOOKUP(2, 1/(HF$17:HF110<>\"\"), HF$17:HF110), HF111))","v":0},null,null,null,null,107,"",null,null,{"$f":"IF(HO112=\"\", 0, HO112 - IF(HO111=\"\", LOOKUP(2, 1/(HO$17:HO110<>\"\"), HO$17:HO110), HO111))","v":0},null,null,null,null,107,"",null,null,{"$f":"IF(HX112=\"\", 0, HX112 - IF(HX111=\"\", LOOKUP(2, 1/(HX$17:HX110<>\"\"), HX$17:HX110), HX111))","v":0},null,null,null,null,107,"",null,null,{"$f":"IF(IG112=\"\", 0, IG112 - IF(IG111=\"\", LOOKUP(2, 1/(IG$17:IG110<>\"\"), IG$17:IG110), IG111))","v":0},null,null,null,null,107,"",null,null,{"$f":"IF(IP112=\"\", 0, IP112 - IF(IP111=\"\", LOOKUP(2, 1/(IP$17:IP110<>\"\"), IP$17:IP110), IP111))","v":0},null,null,null,null,107,"",null,null,{"$f":"IF(IY112=\"\", 0, IY112 - IF(IY111=\"\", LOOKUP(2, 1/(IY$17:IY110<>\"\"), IY$17:IY110), IY111))","v":0},null,null,null,null,107,"",null,null,{"$f":"IF(JH112=\"\", 0, JH112 - IF(JH111=\"\", LOOKUP(2, 1/(JH$17:JH110<>\"\"), JH$17:JH110), JH111))","v":0},null,null,null,null,107,"",null,null,{"$f":"IF(JQ112=\"\", 0, JQ112 - IF(JQ111=\"\", LOOKUP(2, 1/(JQ$17:JQ110<>\"\"), JQ$17:JQ110), JQ111))","v":0},null,null,null,null,107,"",null,null,{"$f":"IF(JZ112=\"\", 0, JZ112 - IF(JZ111=\"\", LOOKUP(2, 1/(JZ$17:JZ110<>\"\"), JZ$17:JZ110), JZ111))","v":0},null,null,null,null,107,"",null,null,{"$f":"IF(KI112=\"\", 0, KI112 - IF(KI111=\"\", LOOKUP(2, 1/(KI$17:KI110<>\"\"), KI$17:KI110), KI111))","v":0},null,null,null,null,107,"",null,null,{"$f":"IF(KR112=\"\", 0, KR112 - IF(KR111=\"\", LOOKUP(2, 1/(KR$17:KR110<>\"\"), KR$17:KR110), KR111))","v":0},null,null,null,null,107,"",null,null,{"$f":"IF(LA112=\"\", 0, LA112 - IF(LA111=\"\", LOOKUP(2, 1/(LA$17:LA110<>\"\"), LA$17:LA110), LA111))","v":0},null,null,null,null,107,"",null,null,{"$f":"IF(LJ112=\"\", 0, LJ112 - IF(LJ111=\"\", LOOKUP(2, 1/(LJ$17:LJ110<>\"\"), LJ$17:LJ110), LJ111))","v":0},null,null,null,null,107,"",null,null,{"$f":"IF(LS112=\"\", 0, LS112 - IF(LS111=\"\", LOOKUP(2, 1/(LS$17:LS110<>\"\"), LS$17:LS110), LS111))","v":0},null,null,null,null,107,"",null,null,{"$f":"IF(MB112=\"\", 0, MB112 - IF(MB111=\"\", LOOKUP(2, 1/(MB$17:MB110<>\"\"), MB$17:MB110), MB111))","v":0},null,null,null,null,107,"",null,null,{"$f":"IF(MK112=\"\", 0, MK112 - IF(MK111=\"\", LOOKUP(2, 1/(MK$17:MK110<>\"\"), MK$17:MK110), MK111))","v":0},null,null,null,null,107,"",null,null,{"$f":"IF(MT112=\"\", 0, MT112 - IF(MT111=\"\", LOOKUP(2, 1/(MT$17:MT110<>\"\"), MT$17:MT110), MT111))","v":0},null,null,107,"",null,null,{"$f":"IF(NA112=\"\", 0, NA112 - IF(NA111=\"\", LOOKUP(2, 1/(NA$17:NA110<>\"\"), NA$17:NA110), NA111))","v":0},null,null,null,null,107,"",null,null,{"$f":"IF(NJ112=\"\", 0, NJ112 - IF(NJ111=\"\", LOOKUP(2, 1/(NJ$17:NJ110<>\"\"), NJ$17:NJ110), NJ111))","v":0},null,null,null,null,107,"",null,null,{"$f":"IF(NS112=\"\", 0, NS112 - IF(NS111=\"\", LOOKUP(2, 1/(NS$17:NS110<>\"\"), NS$17:NS110), NS111))","v":0},null,null,null,null,107,"",null,null,{"$f":"IF(OB112=\"\", 0, OB112 - IF(OB111=\"\", LOOKUP(2, 1/(OB$17:OB110<>\"\"), OB$17:OB110), OB111))","v":0},null,null,null,null,107,"",null,null,{"$f":"IF(OK112=\"\", 0, OK112 - IF(OK111=\"\", LOOKUP(2, 1/(OK$17:OK110<>\"\"), OK$17:OK110), OK111))","v":0},null,null,null,null,107,"",null,null,{"$f":"IF(OT112=\"\", 0, OT112 - IF(OT111=\"\", LOOKUP(2, 1/(OT$17:OT110<>\"\"), OT$17:OT110), OT111))","v":0},null,null,null,null,107,"",null,null,{"$f":"IF(PC112=\"\", 0, PC112 - IF(PC111=\"\", LOOKUP(2, 1/(PC$17:PC110<>\"\"), PC$17:PC110), PC111))","v":0},null,null,null,null,107,"",null,null,{"$f":"IF(PL112=\"\", 0, PL112 - IF(PL111=\"\", LOOKUP(2, 1/(PL$17:PL110<>\"\"), PL$17:PL110), PL111))","v":0},null,null,null,null,107,"",null,null,{"$f":"IF(PU112=\"\", 0, PU112 - IF(PU111=\"\", LOOKUP(2, 1/(PU$17:PU110<>\"\"), PU$17:PU110), PU111))","v":0},null,null,null,null,107,"",null,null,{"$f":"IF(QD112=\"\", 0, QD112 - IF(QD111=\"\", LOOKUP(2, 1/(QD$17:QD110<>\"\"), QD$17:QD110), QD111))","v":0}]
[null,null,null,106,"",null,null,{"$f":"IF(G113=\"\", 0, G113 - IF(G112=\"\", LOOKUP(2, 1/(G$17:G111<>\"\"), G$17:G111), G112))","v":0},null,null,null,null,106,"",null,null,{"$f":"IF(P113=\"\", 0, P113 - IF(P112=\"\", LOOKUP(2, 1/(P$17:P111<>\"\"), P$17:P111), P112))","v":0},null,null,null,null,106,"",null,null,{"$f":"IF(Y113=\"\", 0, Y113 - IF(Y112=\"\", LOOKUP(2, 1/(Y$17:Y111<>\"\"), Y$17:Y111), Y112))","v":0},null,null,null,null,106,"",null,null,{"$f":"IF(AH113=\"\", 0, AH113 - IF(AH112=\"\", LOOKUP(2, 1/(AH$17:AH111<>\"\"), AH$17:AH111), AH112))","v":0},null,null,null,null,106,"",null,null,{"$f":"IF(AQ113=\"\", 0, AQ113 - IF(AQ112=\"\", LOOKUP(2, 1/(AQ$17:AQ111<>\"\"), AQ$17:AQ111), AQ112))","v":0},null,null,null,null,106,"",null,null,{"$f":"IF(AZ113=\"\", 0, AZ113 - IF(AZ112=\"\", LOOKUP(2, 1/(AZ$17:AZ111<>\"\"), AZ$17:AZ111), AZ112))","v":0},null,null,null,null,106,"",null,null,{"$f":"IF(BI113=\"\", 0, BI113 - IF(BI112=\"\", LOOKUP(2, 1/(BI$17:BI111<>\"\"), BI$17:BI111), BI112))","v":0},null,null,null,null,106,"",null,null,{"$f":"IF(BR113=\"\", 0, BR113 - IF(BR112=\"\", LOOKUP(2, 1/(BR$17:BR111<>\"\"), BR$17:BR111), BR112))","v":0},null,null,null,null,106,"",null,null,{"$f":"IF(CA113=\"\", 0, CA113 - IF(CA112=\"\", LOOKUP(2, 1/(CA$17:CA111<>\"\"), CA$17:CA111), CA112))","v":0},null,null,null,null,106,"",null,null,{"$f":"IF(CJ113=\"\", 0, CJ113 - IF(CJ112=\"\", LOOKUP(2, 1/(CJ$17:CJ111<>\"\"), CJ$17:CJ111), CJ112))","v":0},null,null,null,null,106,"",null,null,{"$f":"IF(CS113=\"\", 0, CS113 - IF(CS112=\"\", LOOKUP(2, 1/(CS$17:CS111<>\"\"), CS$17:CS111), CS112))","v":0},null,null,null,null,106,"",null,null,{"$f":"IF(DB113=\"\", 0, DB113 - IF(DB112=\"\", LOOKUP(2, 1/(DB$17:DB111<>\"\"), DB$17:DB111), DB112))","v":0},null,null,null,null,106,"",null,null,{"$f":"IF(DK113=\"\", 0, DK113 - IF(DK112=\"\", LOOKUP(2, 1/(DK$17:DK111<>\"\"), DK$17:DK111), DK112))","v":0},null,null,null,null,106,"",null,null,{"$f":"IF(DT113=\"\", 0, DT113 - IF(DT112=\"\", LOOKUP(2, 1/(DT$17:DT111<>\"\"), DT$17:DT111), DT112))","v":0},null,null,null,null,106,"",null,null,{"$f":"IF(EC113=\"\", 0, EC113 - IF(EC112=\"\", LOOKUP(2, 1/(EC$17:EC111<>\"\"), EC$17:EC111), EC112))","v":0},null,null,null,null,106,"",null,null,{"$f":"IF(EL113=\"\", 0, EL113 - IF(EL112=\"\", LOOKUP(2, 1/(EL$17:EL111<>\"\"), EL$17:EL111), EL112))","v":0},null,null,null,null,106,"",null,null,{"$f":"IF(EU113=\"\", 0, EU113 - IF(EU112=\"\", LOOKUP(2, 1/(EU$17:EU111<>\"\"), EU$17:EU111), EU112))","v":0},null,null,null,null,106,"",null,null,{"$f":"IF(FD113=\"\", 0, FD113 - IF(FD112=\"\", LOOKUP(2, 1/(FD$17:FD111<>\"\"), FD$17:FD111), FD112))","v":0},null,null,null,null,106,"",null,null,{"$f":"IF(FM113=\"\", 0, FM113 - IF(FM112=\"\", LOOKUP(2, 1/(FM$17:FM111<>\"\"), FM$17:FM111), FM112))","v":0},null,null,null,null,106,"",null,null,{"$f":"IF(FV113=\"\", 0, FV113 - IF(FV112=\"\", LOOKUP(2, 1/(FV$17:FV111<>\"\"), FV$17:FV111), FV112))","v":0},null,null,null,null,106,"",null,null,{"$f":"IF(GE113=\"\", 0, GE113 - IF(GE112=\"\", LOOKUP(2, 1/(GE$17:GE111<>\"\"), GE$17:GE111), GE112))","v":0},null,null,null,null,106,"",null,null,{"$f":"IF(GN113=\"\", 0, GN113 - IF(GN112=\"\", LOOKUP(2, 1/(GN$17:GN111<>\"\"), GN$17:GN111), GN112))","v":0},null,null,null,null,106,"",null,null,{"$f":"IF(GW113=\"\", 0, GW113 - IF(GW112=\"\", LOOKUP(2, 1/(GW$17:GW111<>\"\"), GW$17:GW111), GW112))","v":0},null,null,null,null,106,"",null,null,{"$f":"IF(HF113=\"\", 0, HF113 - IF(HF112=\"\", LOOKUP(2, 1/(HF$17:HF111<>\"\"), HF$17:HF111), HF112))","v":0},null,null,null,null,106,"",null,null,{"$f":"IF(HO113=\"\", 0, HO113 - IF(HO112=\"\", LOOKUP(2, 1/(HO$17:HO111<>\"\"), HO$17:HO111), HO112))","v":0},null,null,null,null,106,"",null,null,{"$f":"IF(HX113=\"\", 0, HX113 - IF(HX112=\"\", LOOKUP(2, 1/(HX$17:HX111<>\"\"), HX$17:HX111), HX112))","v":0},null,null,null,null,106,"",null,null,{"$f":"IF(IG113=\"\", 0, IG113 - IF(IG112=\"\", LOOKUP(2, 1/(IG$17:IG111<>\"\"), IG$17:IG111), IG112))","v":0},null,null,null,null,106,"",null,null,{"$f":"IF(IP113=\"\", 0, IP113 - IF(IP112=\"\", LOOKUP(2, 1/(IP$17:IP111<>\"\"), IP$17:IP111), IP112))","v":0},null,null,null,null,106,"",null,null,{"$f":"IF(IY113=\"\", 0, IY113 - IF(IY112=\"\", LOOKUP(2, 1/(IY$17:IY111<>\"\"), IY$17:IY111), IY112))","v":0},null,null,null,null,106,"",null,null,{"$f":"IF(JH113=\"\", 0, JH113 - IF(JH112=\"\", LOOKUP(2, 1/(JH$17:JH111<>\"\"), JH$17:JH111), JH112))","v":0},null,null,null,null,106,"",null,null,{"$f":"IF(JQ113=\"\", 0, JQ113 - IF(JQ112=\"\", LOOKUP(2, 1/(JQ$17:JQ111<>\"\"), JQ$17:JQ111), JQ112))","v":0},null,null,null,null,106,"",null,null,{"$f":"IF(JZ113=\"\", 0, JZ113 - IF(JZ112=\"\", LOOKUP(2, 1/(JZ$17:JZ111<>\"\"), JZ$17:JZ111), JZ112))","v":0},null,null,null,null,106,"",null,null,{"$f":"IF(KI113=\"\", 0, KI113 - IF(KI112=\"\", LOOKUP(2, 1/(KI$17:KI111<>\"\"), KI$17:KI111), KI112))","v":0},null,null,null,null,106,"",null,null,{"$f":"IF(KR113=\"\", 0, KR113 - IF(KR112=\"\", LOOKUP(2, 1/(KR$17:KR111<>\"\"), KR$17:KR111), KR112))","v":0},null,null,null,null,106,"",null,null,{"$f":"IF(LA113=\"\", 0, LA113 - IF(LA112=\"\", LOOKUP(2, 1/(LA$17:LA111<>\"\"), LA$17:LA111), LA112))","v":0},null,null,null,null,106,"",null,null,{"$f":"IF(LJ113=\"\", 0, LJ113 - IF(LJ112=\"\", LOOKUP(2, 1/(LJ$17:LJ111<>\"\"), LJ$17:LJ111), LJ112))","v":0},null,null,null,null,106,"",null,null,{"$f":"IF(LS113=\"\", 0, LS113 - IF(LS112=\"\", LOOKUP(2, 1/(LS$17:LS111<>\"\"), LS$17:LS111), LS112))","v":0},null,null,null,null,106,"",null,null,{"$f":"IF(MB113=\"\", 0, MB113 - IF(MB112=\"\", LOOKUP(2, 1/(MB$17:MB111<>\"\"), MB$17:MB111), MB112))","v":0},null,null,null,null,106,"",null,null,{"$f":"IF(MK113=\"\", 0, MK113 - IF(MK112=\"\", LOOKUP(2, 1/(MK$17:MK111<>\"\"), MK$17:MK111), MK112))","v":0},null,null,null,null,106,"",null,null,{"$f":"IF(MT113=\"\", 0, MT113 - IF(MT112=\"\", LOOKUP(2, 1/(MT$17:MT111<>\"\"), MT$17:MT111), MT112))","v":0},null,null,106,"",null,null,{"$f":"IF(NA113=\"\", 0, NA113 - IF(NA112=\"\", LOOKUP(2, 1/(NA$17:NA111<>\"\"), NA$17:NA111), NA112))","v":0},null,null,null,null,106,"",null,null,{"$f":"IF(NJ113=\"\", 0, NJ113 - IF(NJ112=\"\", LOOKUP(2, 1/(NJ$17:NJ111<>\"\"), NJ$17:NJ111), NJ112))","v":0},null,null,null,null,106,"",null,null,{"$f":"IF(NS113=\"\", 0, NS113 - IF(NS112=\"\", LOOKUP(2, 1/(NS$17:NS111<>\"\"), NS$17:NS111), NS112))","v":0},null,null,null,null,106,"",null,null,{"$f":"IF(OB113=\"\", 0, OB113 - IF(OB112=\"\", LOOKUP(2, 1/(OB$17:OB111<>\"\"), OB$17:OB111), OB112))","v":0},null,null,null,null,106,"",null,null,{"$f":"IF(OK113=\"\", 0, OK113 - IF(OK112=\"\", LOOKUP(2, 1/(OK$17:OK111<>\"\"), OK$17:OK111), OK112))","v":0},null,null,null,null,106,"",null,null,{"$f":"IF(OT113=\"\", 0, OT113 - IF(OT112=\"\", LOOKUP(2, 1/(OT$17:OT111<>\"\"), OT$17:OT111), OT112))","v":0},null,null,null,null,106,"",null,null,{"$f":"IF(PC113=\"\", 0, PC113 - IF(PC112=\"\", LOOKUP(2, 1/(PC$17:PC111<>\"\"), PC$17:PC111), PC112))","v":0},null,null,null,null,106,"",null,null,{"$f":"IF(PL113=\"\", 0, PL113 - IF(PL112=\"\", LOOKUP(2, 1/(PL$17:PL111<>\"\"), PL$17:PL111), PL112))","v":0},null,null,null,null,106,"",null,null,{"$f":"IF(PU113=\"\", 0, PU113 - IF(PU112=\"\", LOOKUP(2, 1/(PU$17:PU111<>\"\"), PU$17:PU111), PU112))","v":0},null,null,null,null,106,"",null,null,{"$f":"IF(QD113=\"\", 0, QD113 - IF(QD112=\"\", LOOKUP(2, 1/(QD$17:QD111<>\"\"), QD$17:QD111), QD112))","v":0}]
[null,null,null,105,"",null,null,{"$f":"IF(G114=\"\", 0, G114 - IF(G113=\"\", LOOKUP(2, 1/(G$17:G112<>\"\"), G$17:G112), G113))","v":0},null,null,null,null,105,"",null,null,{"$f":"IF(P114=\"\", 0, P114 - IF(P113=\"\", LOOKUP(2, 1/(P$17:P112<>\"\"), P$17:P112), P113))","v":0},null,null,null,null,105,"",null,null,{"$f":"IF(Y114=\"\", 0, Y114 - IF(Y113=\"\", LOOKUP(2, 1/(Y$17:Y112<>\"\"), Y$17:Y112), Y113))","v":0},null,null,null,null,105,"",null,null,{"$f":"IF(AH114=\"\", 0, AH114 - IF(AH113=\"\", LOOKUP(2, 1/(AH$17:AH112<>\"\"), AH$17:AH112), AH113))","v":0},null,null,null,null,105,"",null,null,{"$f":"IF(AQ114=\"\", 0, AQ114 - IF(AQ113=\"\", LOOKUP(2, 1/(AQ$17:AQ112<>\"\"), AQ$17:AQ112), AQ113))","v":0},null,null,null,null,105,"",null,null,{"$f":"IF(AZ114=\"\", 0, AZ114 - IF(AZ113=\"\", LOOKUP(2, 1/(AZ$17:AZ112<>\"\"), AZ$17:AZ112), AZ113))","v":0},null,null,null,null,105,"",null,null,{"$f":"IF(BI114=\"\", 0, BI114 - IF(BI113=\"\", LOOKUP(2, 1/(BI$17:BI112<>\"\"), BI$17:BI112), BI113))","v":0},null,null,null,null,105,"",null,null,{"$f":"IF(BR114=\"\", 0, BR114 - IF(BR113=\"\", LOOKUP(2, 1/(BR$17:BR112<>\"\"), BR$17:BR112), BR113))","v":0},null,null,null,null,105,"",null,null,{"$f":"IF(CA114=\"\", 0, CA114 - IF(CA113=\"\", LOOKUP(2, 1/(CA$17:CA112<>\"\"), CA$17:CA112), CA113))","v":0},null,null,null,null,105,"",null,null,{"$f":"IF(CJ114=\"\", 0, CJ114 - IF(CJ113=\"\", LOOKUP(2, 1/(CJ$17:CJ112<>\"\"), CJ$17:CJ112), CJ113))","v":0},null,null,null,null,105,"",null,null,{"$f":"IF(CS114=\"\", 0, CS114 - IF(CS113=\"\", LOOKUP(2, 1/(CS$17:CS112<>\"\"), CS$17:CS112), CS113))","v":0},null,null,null,null,105,"",null,null,{"$f":"IF(DB114=\"\", 0, DB114 - IF(DB113=\"\", LOOKUP(2, 1/(DB$17:DB112<>\"\"), DB$17:DB112), DB113))","v":0},null,null,null,null,105,"",null,null,{"$f":"IF(DK114=\"\", 0, DK114 - IF(DK113=\"\", LOOKUP(2, 1/(DK$17:DK112<>\"\"), DK$17:DK112), DK113))","v":0},null,null,null,null,105,"",null,null,{"$f":"IF(DT114=\"\", 0, DT114 - IF(DT113=\"\", LOOKUP(2, 1/(DT$17:DT112<>\"\"), DT$17:DT112), DT113))","v":0},null,null,null,null,105,"",null,null,{"$f":"IF(EC114=\"\", 0, EC114 - IF(EC113=\"\", LOOKUP(2, 1/(EC$17:EC112<>\"\"), EC$17:EC112), EC113))","v":0},null,null,null,null,105,"",null,null,{"$f":"IF(EL114=\"\", 0, EL114 - IF(EL113=\"\", LOOKUP(2, 1/(EL$17:EL112<>\"\"), EL$17:EL112), EL113))","v":0},null,null,null,null,105,"",null,null,{"$f":"IF(EU114=\"\", 0, EU114 - IF(EU113=\"\", LOOKUP(2, 1/(EU$17:EU112<>\"\"), EU$17:EU112), EU113))","v":0},null,null,null,null,105,"",null,null,{"$f":"IF(FD114=\"\", 0, FD114 - IF(FD113=\"\", LOOKUP(2, 1/(FD$17:FD112<>\"\"), FD$17:FD112), FD113))","v":0},null,null,null,null,105,"",null,null,{"$f":"IF(FM114=\"\", 0, FM114 - IF(FM113=\"\", LOOKUP(2, 1/(FM$17:FM112<>\"\"), FM$17:FM112), FM113))","v":0},null,null,null,null,105,"",null,null,{"$f":"IF(FV114=\"\", 0, FV114 - IF(FV113=\"\", LOOKUP(2, 1/(FV$17:FV112<>\"\"), FV$17:FV112), FV113))","v":0},null,null,null,null,105,"",null,null,{"$f":"IF(GE114=\"\", 0, GE114 - IF(GE113=\"\", LOOKUP(2, 1/(GE$17:GE112<>\"\"), GE$17:GE112), GE113))","v":0},null,null,null,null,105,"",null,null,{"$f":"IF(GN114=\"\", 0, GN114 - IF(GN113=\"\", LOOKUP(2, 1/(GN$17:GN112<>\"\"), GN$17:GN112), GN113))","v":0},null,null,null,null,105,"",null,null,{"$f":"IF(GW114=\"\", 0, GW114 - IF(GW113=\"\", LOOKUP(2, 1/(GW$17:GW112<>\"\"), GW$17:GW112), GW113))","v":0},null,null,null,null,105,"",null,null,{"$f":"IF(HF114=\"\", 0, HF114 - IF(HF113=\"\", LOOKUP(2, 1/(HF$17:HF112<>\"\"), HF$17:HF112), HF113))","v":0},null,null,null,null,105,"",null,null,{"$f":"IF(HO114=\"\", 0, HO114 - IF(HO113=\"\", LOOKUP(2, 1/(HO$17:HO112<>\"\"), HO$17:HO112), HO113))","v":0},null,null,null,null,105,"",null,null,{"$f":"IF(HX114=\"\", 0, HX114 - IF(HX113=\"\", LOOKUP(2, 1/(HX$17:HX112<>\"\"), HX$17:HX112), HX113))","v":0},null,null,null,null,105,"",null,null,{"$f":"IF(IG114=\"\", 0, IG114 - IF(IG113=\"\", LOOKUP(2, 1/(IG$17:IG112<>\"\"), IG$17:IG112), IG113))","v":0},null,null,null,null,105,"",null,null,{"$f":"IF(IP114=\"\", 0, IP114 - IF(IP113=\"\", LOOKUP(2, 1/(IP$17:IP112<>\"\"), IP$17:IP112), IP113))","v":0},null,null,null,null,105,"",null,null,{"$f":"IF(IY114=\"\", 0, IY114 - IF(IY113=\"\", LOOKUP(2, 1/(IY$17:IY112<>\"\"), IY$17:IY112), IY113))","v":0},null,null,null,null,105,"",null,null,{"$f":"IF(JH114=\"\", 0, JH114 - IF(JH113=\"\", LOOKUP(2, 1/(JH$17:JH112<>\"\"), JH$17:JH112), JH113))","v":0},null,null,null,null,105,"",null,null,{"$f":"IF(JQ114=\"\", 0, JQ114 - IF(JQ113=\"\", LOOKUP(2, 1/(JQ$17:JQ112<>\"\"), JQ$17:JQ112), JQ113))","v":0},null,null,null,null,105,"",null,null,{"$f":"IF(JZ114=\"\", 0, JZ114 - IF(JZ113=\"\", LOOKUP(2, 1/(JZ$17:JZ112<>\"\"), JZ$17:JZ112), JZ113))","v":0},null,null,null,null,105,"",null,null,{"$f":"IF(KI114=\"\", 0, KI114 - IF(KI113=\"\", LOOKUP(2, 1/(KI$17:KI112<>\"\"), KI$17:KI112), KI113))","v":0},null,null,null,null,105,"",null,null,{"$f":"IF(KR114=\"\", 0, KR114 - IF(KR113=\"\", LOOKUP(2, 1/(KR$17:KR112<>\"\"), KR$17:KR112), KR113))","v":0},null,null,null,null,105,"",null,null,{"$f":"IF(LA114=\"\", 0, LA114 - IF(LA113=\"\", LOOKUP(2, 1/(LA$17:LA112<>\"\"), LA$17:LA112), LA113))","v":0},null,null,null,null,105,"",null,null,{"$f":"IF(LJ114=\"\", 0, LJ114 - IF(LJ113=\"\", LOOKUP(2, 1/(LJ$17:LJ112<>\"\"), LJ$17:LJ112), LJ113))","v":0},null,null,null,null,105,"",null,null,{"$f":"IF(LS114=\"\", 0, LS114 - IF(LS113=\"\", LOOKUP(2, 1/(LS$17:LS112<>\"\"), LS$17:LS112), LS113))","v":0},null,null,null,null,105,"",null,null,{"$f":"IF(MB114=\"\", 0, MB114 - IF(MB113=\"\", LOOKUP(2, 1/(MB$17:MB112<>\"\"), MB$17:MB112), MB113))","v":0},null,null,null,null,105,"",null,null,{"$f":"IF(MK114=\"\", 0, MK114 - IF(MK113=\"\", LOOKUP(2, 1/(MK$17:MK112<>\"\"), MK$17:MK112), MK113))","v":0},null,null,null,null,105,"",null,null,{"$f":"IF(MT114=\"\", 0, MT114 - IF(MT113=\"\", LOOKUP(2, 1/(MT$17:MT112<>\"\"), MT$17:MT112), MT113))","v":0},null,null,105,"",null,null,{"$f":"IF(NA114=\"\", 0, NA114 - IF(NA113=\"\", LOOKUP(2, 1/(NA$17:NA112<>\"\"), NA$17:NA112), NA113))","v":0},null,null,null,null,105,"",null,null,{"$f":"IF(NJ114=\"\", 0, NJ114 - IF(NJ113=\"\", LOOKUP(2, 1/(NJ$17:NJ112<>\"\"), NJ$17:NJ112), NJ113))","v":0},null,null,null,null,105,"",null,null,{"$f":"IF(NS114=\"\", 0, NS114 - IF(NS113=\"\", LOOKUP(2, 1/(NS$17:NS112<>\"\"), NS$17:NS112), NS113))","v":0},null,null,null,null,105,"",null,null,{"$f":"IF(OB114=\"\", 0, OB114 - IF(OB113=\"\", LOOKUP(2, 1/(OB$17:OB112<>\"\"), OB$17:OB112), OB113))","v":0},null,null,null,null,105,"",null,null,{"$f":"IF(OK114=\"\", 0, OK114 - IF(OK113=\"\", LOOKUP(2, 1/(OK$17:OK112<>\"\"), OK$17:OK112), OK113))","v":0},null,null,null,null,105,"",null,null,{"$f":"IF(OT114=\"\", 0, OT114 - IF(OT113=\"\", LOOKUP(2, 1/(OT$17:OT112<>\"\"), OT$17:OT112), OT113))","v":0},null,null,null,null,105,"",null,null,{"$f":"IF(PC114=\"\", 0, PC114 - IF(PC113=\"\", LOOKUP(2, 1/(PC$17:PC112<>\"\"), PC$17:PC112), PC113))","v":0},null,null,null,null,105,"",null,null,{"$f":"IF(PL114=\"\", 0, PL114 - IF(PL113=\"\", LOOKUP(2, 1/(PL$17:PL112<>\"\"), PL$17:PL112), PL113))","v":0},null,null,null,null,105,"",null,null,{"$f":"IF(PU114=\"\", 0, PU114 - IF(PU113=\"\", LOOKUP(2, 1/(PU$17:PU112<>\"\"), PU$17:PU112), PU113))","v":0},null,null,null,null,105,"",null,null,{"$f":"IF(QD114=\"\", 0, QD114 - IF(QD113=\"\", LOOKUP(2, 1/(QD$17:QD112<>\"\"), QD$17:QD112), QD113))","v":0}]
[null,null,null,104,"",null,null,{"$f":"IF(G115=\"\", 0, G115 - IF(G114=\"\", LOOKUP(2, 1/(G$17:G113<>\"\"), G$17:G113), G114))","v":0},null,null,null,null,104,"",null,null,{"$f":"IF(P115=\"\", 0, P115 - IF(P114=\"\", LOOKUP(2, 1/(P$17:P113<>\"\"), P$17:P113), P114))","v":0},null,null,null,null,104,"",null,null,{"$f":"IF(Y115=\"\", 0, Y115 - IF(Y114=\"\", LOOKUP(2, 1/(Y$17:Y113<>\"\"), Y$17:Y113), Y114))","v":0},null,null,null,null,104,"",null,null,{"$f":"IF(AH115=\"\", 0, AH115 - IF(AH114=\"\", LOOKUP(2, 1/(AH$17:AH113<>\"\"), AH$17:AH113), AH114))","v":0},null,null,null,null,104,"",null,null,{"$f":"IF(AQ115=\"\", 0, AQ115 - IF(AQ114=\"\", LOOKUP(2, 1/(AQ$17:AQ113<>\"\"), AQ$17:AQ113), AQ114))","v":0},null,null,null,null,104,"",null,null,{"$f":"IF(AZ115=\"\", 0, AZ115 - IF(AZ114=\"\", LOOKUP(2, 1/(AZ$17:AZ113<>\"\"), AZ$17:AZ113), AZ114))","v":0},null,null,null,null,104,"",null,null,{"$f":"IF(BI115=\"\", 0, BI115 - IF(BI114=\"\", LOOKUP(2, 1/(BI$17:BI113<>\"\"), BI$17:BI113), BI114))","v":0},null,null,null,null,104,"",null,null,{"$f":"IF(BR115=\"\", 0, BR115 - IF(BR114=\"\", LOOKUP(2, 1/(BR$17:BR113<>\"\"), BR$17:BR113), BR114))","v":0},null,null,null,null,104,"",null,null,{"$f":"IF(CA115=\"\", 0, CA115 - IF(CA114=\"\", LOOKUP(2, 1/(CA$17:CA113<>\"\"), CA$17:CA113), CA114))","v":0},null,null,null,null,104,"",null,null,{"$f":"IF(CJ115=\"\", 0, CJ115 - IF(CJ114=\"\", LOOKUP(2, 1/(CJ$17:CJ113<>\"\"), CJ$17:CJ113), CJ114))","v":0},null,null,null,null,104,"",null,null,{"$f":"IF(CS115=\"\", 0, CS115 - IF(CS114=\"\", LOOKUP(2, 1/(CS$17:CS113<>\"\"), CS$17:CS113), CS114))","v":0},null,null,null,null,104,"",null,null,{"$f":"IF(DB115=\"\", 0, DB115 - IF(DB114=\"\", LOOKUP(2, 1/(DB$17:DB113<>\"\"), DB$17:DB113), DB114))","v":0},null,null,null,null,104,"",null,null,{"$f":"IF(DK115=\"\", 0, DK115 - IF(DK114=\"\", LOOKUP(2, 1/(DK$17:DK113<>\"\"), DK$17:DK113), DK114))","v":0},null,null,null,null,104,"",null,null,{"$f":"IF(DT115=\"\", 0, DT115 - IF(DT114=\"\", LOOKUP(2, 1/(DT$17:DT113<>\"\"), DT$17:DT113), DT114))","v":0},null,null,null,null,104,"",null,null,{"$f":"IF(EC115=\"\", 0, EC115 - IF(EC114=\"\", LOOKUP(2, 1/(EC$17:EC113<>\"\"), EC$17:EC113), EC114))","v":0},null,null,null,null,104,"",null,null,{"$f":"IF(EL115=\"\", 0, EL115 - IF(EL114=\"\", LOOKUP(2, 1/(EL$17:EL113<>\"\"), EL$17:EL113), EL114))","v":0},null,null,null,null,104,"",null,null,{"$f":"IF(EU115=\"\", 0, EU115 - IF(EU114=\"\", LOOKUP(2, 1/(EU$17:EU113<>\"\"), EU$17:EU113), EU114))","v":0},null,null,null,null,104,"",null,null,{"$f":"IF(FD115=\"\", 0, FD115 - IF(FD114=\"\", LOOKUP(2, 1/(FD$17:FD113<>\"\"), FD$17:FD113), FD114))","v":0},null,null,null,null,104,"",null,null,{"$f":"IF(FM115=\"\", 0, FM115 - IF(FM114=\"\", LOOKUP(2, 1/(FM$17:FM113<>\"\"), FM$17:FM113), FM114))","v":0},null,null,null,null,104,"",null,null,{"$f":"IF(FV115=\"\", 0, FV115 - IF(FV114=\"\", LOOKUP(2, 1/(FV$17:FV113<>\"\"), FV$17:FV113), FV114))","v":0},null,null,null,null,104,"",null,null,{"$f":"IF(GE115=\"\", 0, GE115 - IF(GE114=\"\", LOOKUP(2, 1/(GE$17:GE113<>\"\"), GE$17:GE113), GE114))","v":0},null,null,null,null,104,"",null,null,{"$f":"IF(GN115=\"\", 0, GN115 - IF(GN114=\"\", LOOKUP(2, 1/(GN$17:GN113<>\"\"), GN$17:GN113), GN114))","v":0},null,null,null,null,104,"",null,null,{"$f":"IF(GW115=\"\", 0, GW115 - IF(GW114=\"\", LOOKUP(2, 1/(GW$17:GW113<>\"\"), GW$17:GW113), GW114))","v":0},null,null,null,null,104,"",null,null,{"$f":"IF(HF115=\"\", 0, HF115 - IF(HF114=\"\", LOOKUP(2, 1/(HF$17:HF113<>\"\"), HF$17:HF113), HF114))","v":0},null,null,null,null,104,"",null,null,{"$f":"IF(HO115=\"\", 0, HO115 - IF(HO114=\"\", LOOKUP(2, 1/(HO$17:HO113<>\"\"), HO$17:HO113), HO114))","v":0},null,null,null,null,104,"",null,null,{"$f":"IF(HX115=\"\", 0, HX115 - IF(HX114=\"\", LOOKUP(2, 1/(HX$17:HX113<>\"\"), HX$17:HX113), HX114))","v":0},null,null,null,null,104,"",null,null,{"$f":"IF(IG115=\"\", 0, IG115 - IF(IG114=\"\", LOOKUP(2, 1/(IG$17:IG113<>\"\"), IG$17:IG113), IG114))","v":0},null,null,null,null,104,"",null,null,{"$f":"IF(IP115=\"\", 0, IP115 - IF(IP114=\"\", LOOKUP(2, 1/(IP$17:IP113<>\"\"), IP$17:IP113), IP114))","v":0},null,null,null,null,104,"",null,null,{"$f":"IF(IY115=\"\", 0, IY115 - IF(IY114=\"\", LOOKUP(2, 1/(IY$17:IY113<>\"\"), IY$17:IY113), IY114))","v":0},null,null,null,null,104,"",null,null,{"$f":"IF(JH115=\"\", 0, JH115 - IF(JH114=\"\", LOOKUP(2, 1/(JH$17:JH113<>\"\"), JH$17:JH113), JH114))","v":0},null,null,null,null,104,"",null,null,{"$f":"IF(JQ115=\"\", 0, JQ115 - IF(JQ114=\"\", LOOKUP(2, 1/(JQ$17:JQ113<>\"\"), JQ$17:JQ113), JQ114))","v":0},null,null,null,null,104,"",null,null,{"$f":"IF(JZ115=\"\", 0, JZ115 - IF(JZ114=\"\", LOOKUP(2, 1/(JZ$17:JZ113<>\"\"), JZ$17:JZ113), JZ114))","v":0},null,null,null,null,104,"",null,null,{"$f":"IF(KI115=\"\", 0, KI115 - IF(KI114=\"\", LOOKUP(2, 1/(KI$17:KI113<>\"\"), KI$17:KI113), KI114))","v":0},null,null,null,null,104,"",null,null,{"$f":"IF(KR115=\"\", 0, KR115 - IF(KR114=\"\", LOOKUP(2, 1/(KR$17:KR113<>\"\"), KR$17:KR113), KR114))","v":0},null,null,null,null,104,"",null,null,{"$f":"IF(LA115=\"\", 0, LA115 - IF(LA114=\"\", LOOKUP(2, 1/(LA$17:LA113<>\"\"), LA$17:LA113), LA114))","v":0},null,null,null,null,104,"",null,null,{"$f":"IF(LJ115=\"\", 0, LJ115 - IF(LJ114=\"\", LOOKUP(2, 1/(LJ$17:LJ113<>\"\"), LJ$17:LJ113), LJ114))","v":0},null,null,null,null,104,"",null,null,{"$f":"IF(LS115=\"\", 0, LS115 - IF(LS114=\"\", LOOKUP(2, 1/(LS$17:LS113<>\"\"), LS$17:LS113), LS114))","v":0},null,null,null,null,104,"",null,null,{"$f":"IF(MB115=\"\", 0, MB115 - IF(MB114=\"\", LOOKUP(2, 1/(MB$17:MB113<>\"\"), MB$17:MB113), MB114))","v":0},null,null,null,null,104,"",null,null,{"$f":"IF(MK115=\"\", 0, MK115 - IF(MK114=\"\", LOOKUP(2, 1/(MK$17:MK113<>\"\"), MK$17:MK113), MK114))","v":0},null,null,null,null,104,"",null,null,{"$f":"IF(MT115=\"\", 0, MT115 - IF(MT114=\"\", LOOKUP(2, 1/(MT$17:MT113<>\"\"), MT$17:MT113), MT114))","v":0},null,null,104,"",null,null,{"$f":"IF(NA115=\"\", 0, NA115 - IF(NA114=\"\", LOOKUP(2, 1/(NA$17:NA113<>\"\"), NA$17:NA113), NA114))","v":0},null,null,null,null,104,"",null,null,{"$f":"IF(NJ115=\"\", 0, NJ115 - IF(NJ114=\"\", LOOKUP(2, 1/(NJ$17:NJ113<>\"\"), NJ$17:NJ113), NJ114))","v":0},null,null,null,null,104,"",null,null,{"$f":"IF(NS115=\"\", 0, NS115 - IF(NS114=\"\", LOOKUP(2, 1/(NS$17:NS113<>\"\"), NS$17:NS113), NS114))","v":0},null,null,null,null,104,"",null,null,{"$f":"IF(OB115=\"\", 0, OB115 - IF(OB114=\"\", LOOKUP(2, 1/(OB$17:OB113<>\"\"), OB$17:OB113), OB114))","v":0},null,null,null,null,104,"",null,null,{"$f":"IF(OK115=\"\", 0, OK115 - IF(OK114=\"\", LOOKUP(2, 1/(OK$17:OK113<>\"\"), OK$17:OK113), OK114))","v":0},null,null,null,null,104,"",null,null,{"$f":"IF(OT115=\"\", 0, OT115 - IF(OT114=\"\", LOOKUP(2, 1/(OT$17:OT113<>\"\"), OT$17:OT113), OT114))","v":0},null,null,null,null,104,"",null,null,{"$f":"IF(PC115=\"\", 0, PC115 - IF(PC114=\"\", LOOKUP(2, 1/(PC$17:PC113<>\"\"), PC$17:PC113), PC114))","v":0},null,null,null,null,104,"",null,null,{"$f":"IF(PL115=\"\", 0, PL115 - IF(PL114=\"\", LOOKUP(2, 1/(PL$17:PL113<>\"\"), PL$17:PL113), PL114))","v":0},null,null,null,null,104,"",null,null,{"$f":"IF(PU115=\"\", 0, PU115 - IF(PU114=\"\", LOOKUP(2, 1/(PU$17:PU113<>\"\"), PU$17:PU113), PU114))","v":0},null,null,null,null,104,"",null,null,{"$f":"IF(QD115=\"\", 0, QD115 - IF(QD114=\"\", LOOKUP(2, 1/(QD$17:QD113<>\"\"), QD$17:QD113), QD114))","v":0}]
[null,null,null,103,"",null,null,{"$f":"IF(G116=\"\", 0, G116 - IF(G115=\"\", LOOKUP(2, 1/(G$17:G114<>\"\"), G$17:G114), G115))","v":0},null,null,null,null,103,"",null,null,{"$f":"IF(P116=\"\", 0, P116 - IF(P115=\"\", LOOKUP(2, 1/(P$17:P114<>\"\"), P$17:P114), P115))","v":0},null,null,null,null,103,"",null,null,{"$f":"IF(Y116=\"\", 0, Y116 - IF(Y115=\"\", LOOKUP(2, 1/(Y$17:Y114<>\"\"), Y$17:Y114), Y115))","v":0},null,null,null,null,103,"",null,null,{"$f":"IF(AH116=\"\", 0, AH116 - IF(AH115=\"\", LOOKUP(2, 1/(AH$17:AH114<>\"\"), AH$17:AH114), AH115))","v":0},null,null,null,null,103,"",null,null,{"$f":"IF(AQ116=\"\", 0, AQ116 - IF(AQ115=\"\", LOOKUP(2, 1/(AQ$17:AQ114<>\"\"), AQ$17:AQ114), AQ115))","v":0},null,null,null,null,103,"",null,null,{"$f":"IF(AZ116=\"\", 0, AZ116 - IF(AZ115=\"\", LOOKUP(2, 1/(AZ$17:AZ114<>\"\"), AZ$17:AZ114), AZ115))","v":0},null,null,null,null,103,"",null,null,{"$f":"IF(BI116=\"\", 0, BI116 - IF(BI115=\"\", LOOKUP(2, 1/(BI$17:BI114<>\"\"), BI$17:BI114), BI115))","v":0},null,null,null,null,103,"",null,null,{"$f":"IF(BR116=\"\", 0, BR116 - IF(BR115=\"\", LOOKUP(2, 1/(BR$17:BR114<>\"\"), BR$17:BR114), BR115))","v":0},null,null,null,null,103,"",null,null,{"$f":"IF(CA116=\"\", 0, CA116 - IF(CA115=\"\", LOOKUP(2, 1/(CA$17:CA114<>\"\"), CA$17:CA114), CA115))","v":0},null,null,null,null,103,"",null,null,{"$f":"IF(CJ116=\"\", 0, CJ116 - IF(CJ115=\"\", LOOKUP(2, 1/(CJ$17:CJ114<>\"\"), CJ$17:CJ114), CJ115))","v":0},null,null,null,null,103,"",null,null,{"$f":"IF(CS116=\"\", 0, CS116 - IF(CS115=\"\", LOOKUP(2, 1/(CS$17:CS114<>\"\"), CS$17:CS114), CS115))","v":0},null,null,null,null,103,"",null,null,{"$f":"IF(DB116=\"\", 0, DB116 - IF(DB115=\"\", LOOKUP(2, 1/(DB$17:DB114<>\"\"), DB$17:DB114), DB115))","v":0},null,null,null,null,103,"",null,null,{"$f":"IF(DK116=\"\", 0, DK116 - IF(DK115=\"\", LOOKUP(2, 1/(DK$17:DK114<>\"\"), DK$17:DK114), DK115))","v":0},null,null,null,null,103,"",null,null,{"$f":"IF(DT116=\"\", 0, DT116 - IF(DT115=\"\", LOOKUP(2, 1/(DT$17:DT114<>\"\"), DT$17:DT114), DT115))","v":0},null,null,null,null,103,"",null,null,{"$f":"IF(EC116=\"\", 0, EC116 - IF(EC115=\"\", LOOKUP(2, 1/(EC$17:EC114<>\"\"), EC$17:EC114), EC115))","v":0},null,null,null,null,103,"",null,null,{"$f":"IF(EL116=\"\", 0, EL116 - IF(EL115=\"\", LOOKUP(2, 1/(EL$17:EL114<>\"\"), EL$17:EL114), EL115))","v":0},null,null,null,null,103,"",null,null,{"$f":"IF(EU116=\"\", 0, EU116 - IF(EU115=\"\", LOOKUP(2, 1/(EU$17:EU114<>\"\"), EU$17:EU114), EU115))","v":0},null,null,null,null,103,"",null,null,{"$f":"IF(FD116=\"\", 0, FD116 - IF(FD115=\"\", LOOKUP(2, 1/(FD$17:FD114<>\"\"), FD$17:FD114), FD115))","v":0},null,null,null,null,103,"",null,null,{"$f":"IF(FM116=\"\", 0, FM116 - IF(FM115=\"\", LOOKUP(2, 1/(FM$17:FM114<>\"\"), FM$17:FM114), FM115))","v":0},null,null,null,null,103,"",null,null,{"$f":"IF(FV116=\"\", 0, FV116 - IF(FV115=\"\", LOOKUP(2, 1/(FV$17:FV114<>\"\"), FV$17:FV114), FV115))","v":0},null,null,null,null,103,"",null,null,{"$f":"IF(GE116=\"\", 0, GE116 - IF(GE115=\"\", LOOKUP(2, 1/(GE$17:GE114<>\"\"), GE$17:GE114), GE115))","v":0},null,null,null,null,103,"",null,null,{"$f":"IF(GN116=\"\", 0, GN116 - IF(GN115=\"\", LOOKUP(2, 1/(GN$17:GN114<>\"\"), GN$17:GN114), GN115))","v":0},null,null,null,null,103,"",null,null,{"$f":"IF(GW116=\"\", 0, GW116 - IF(GW115=\"\", LOOKUP(2, 1/(GW$17:GW114<>\"\"), GW$17:GW114), GW115))","v":0},null,null,null,null,103,"",null,null,{"$f":"IF(HF116=\"\", 0, HF116 - IF(HF115=\"\", LOOKUP(2, 1/(HF$17:HF114<>\"\"), HF$17:HF114), HF115))","v":0},null,null,null,null,103,"",null,null,{"$f":"IF(HO116=\"\", 0, HO116 - IF(HO115=\"\", LOOKUP(2, 1/(HO$17:HO114<>\"\"), HO$17:HO114), HO115))","v":0},null,null,null,null,103,"",null,null,{"$f":"IF(HX116=\"\", 0, HX116 - IF(HX115=\"\", LOOKUP(2, 1/(HX$17:HX114<>\"\"), HX$17:HX114), HX115))","v":0},null,null,null,null,103,"",null,null,{"$f":"IF(IG116=\"\", 0, IG116 - IF(IG115=\"\", LOOKUP(2, 1/(IG$17:IG114<>\"\"), IG$17:IG114), IG115))","v":0},null,null,null,null,103,"",null,null,{"$f":"IF(IP116=\"\", 0, IP116 - IF(IP115=\"\", LOOKUP(2, 1/(IP$17:IP114<>\"\"), IP$17:IP114), IP115))","v":0},null,null,null,null,103,"",null,null,{"$f":"IF(IY116=\"\", 0, IY116 - IF(IY115=\"\", LOOKUP(2, 1/(IY$17:IY114<>\"\"), IY$17:IY114), IY115))","v":0},null,null,null,null,103,"",null,null,{"$f":"IF(JH116=\"\", 0, JH116 - IF(JH115=\"\", LOOKUP(2, 1/(JH$17:JH114<>\"\"), JH$17:JH114), JH115))","v":0},null,null,null,null,103,"",null,null,{"$f":"IF(JQ116=\"\", 0, JQ116 - IF(JQ115=\"\", LOOKUP(2, 1/(JQ$17:JQ114<>\"\"), JQ$17:JQ114), JQ115))","v":0},null,null,null,null,103,"",null,null,{"$f":"IF(JZ116=\"\", 0, JZ116 - IF(JZ115=\"\", LOOKUP(2, 1/(JZ$17:JZ114<>\"\"), JZ$17:JZ114), JZ115))","v":0},null,null,null,null,103,"",null,null,{"$f":"IF(KI116=\"\", 0, KI116 - IF(KI115=\"\", LOOKUP(2, 1/(KI$17:KI114<>\"\"), KI$17:KI114), KI115))","v":0},null,null,null,null,103,"",null,null,{"$f":"IF(KR116=\"\", 0, KR116 - IF(KR115=\"\", LOOKUP(2, 1/(KR$17:KR114<>\"\"), KR$17:KR114), KR115))","v":0},null,null,null,null,103,"",null,null,{"$f":"IF(LA116=\"\", 0, LA116 - IF(LA115=\"\", LOOKUP(2, 1/(LA$17:LA114<>\"\"), LA$17:LA114), LA115))","v":0},null,null,null,null,103,"",null,null,{"$f":"IF(LJ116=\"\", 0, LJ116 - IF(LJ115=\"\", LOOKUP(2, 1/(LJ$17:LJ114<>\"\"), LJ$17:LJ114), LJ115))","v":0},null,null,null,null,103,"",null,null,{"$f":"IF(LS116=\"\", 0, LS116 - IF(LS115=\"\", LOOKUP(2, 1/(LS$17:LS114<>\"\"), LS$17:LS114), LS115))","v":0},null,null,null,null,103,"",null,null,{"$f":"IF(MB116=\"\", 0, MB116 - IF(MB115=\"\", LOOKUP(2, 1/(MB$17:MB114<>\"\"), MB$17:MB114), MB115))","v":0},null,null,null,null,103,"",null,null,{"$f":"IF(MK116=\"\", 0, MK116 - IF(MK115=\"\", LOOKUP(2, 1/(MK$17:MK114<>\"\"), MK$17:MK114), MK115))","v":0},null,null,null,null,103,"",null,null,{"$f":"IF(MT116=\"\", 0, MT116 - IF(MT115=\"\", LOOKUP(2, 1/(MT$17:MT114<>\"\"), MT$17:MT114), MT115))","v":0},null,null,103,"",null,null,{"$f":"IF(NA116=\"\", 0, NA116 - IF(NA115=\"\", LOOKUP(2, 1/(NA$17:NA114<>\"\"), NA$17:NA114), NA115))","v":0},null,null,null,null,103,"",null,null,{"$f":"IF(NJ116=\"\", 0, NJ116 - IF(NJ115=\"\", LOOKUP(2, 1/(NJ$17:NJ114<>\"\"), NJ$17:NJ114), NJ115))","v":0},null,null,null,null,103,"",null,null,{"$f":"IF(NS116=\"\", 0, NS116 - IF(NS115=\"\", LOOKUP(2, 1/(NS$17:NS114<>\"\"), NS$17:NS114), NS115))","v":0},null,null,null,null,103,"",null,null,{"$f":"IF(OB116=\"\", 0, OB116 - IF(OB115=\"\", LOOKUP(2, 1/(OB$17:OB114<>\"\"), OB$17:OB114), OB115))","v":0},null,null,null,null,103,"",null,null,{"$f":"IF(OK116=\"\", 0, OK116 - IF(OK115=\"\", LOOKUP(2, 1/(OK$17:OK114<>\"\"), OK$17:OK114), OK115))","v":0},null,null,null,null,103,"",null,null,{"$f":"IF(OT116=\"\", 0, OT116 - IF(OT115=\"\", LOOKUP(2, 1/(OT$17:OT114<>\"\"), OT$17:OT114), OT115))","v":0},null,null,null,null,103,"",null,null,{"$f":"IF(PC116=\"\", 0, PC116 - IF(PC115=\"\", LOOKUP(2, 1/(PC$17:PC114<>\"\"), PC$17:PC114), PC115))","v":0},null,null,null,null,103,"",null,null,{"$f":"IF(PL116=\"\", 0, PL116 - IF(PL115=\"\", LOOKUP(2, 1/(PL$17:PL114<>\"\"), PL$17:PL114), PL115))","v":0},null,null,null,null,103,"",null,null,{"$f":"IF(PU116=\"\", 0, PU116 - IF(PU115=\"\", LOOKUP(2, 1/(PU$17:PU114<>\"\"), PU$17:PU114), PU115))","v":0},null,null,null,null,103,"",null,null,{"$f":"IF(QD116=\"\", 0, QD116 - IF(QD115=\"\", LOOKUP(2, 1/(QD$17:QD114<>\"\"), QD$17:QD114), QD115))","v":0}]
[null,null,null,102,"",null,null,{"$f":"IF(G117=\"\", 0, G117 - IF(G116=\"\", LOOKUP(2, 1/(G$17:G115<>\"\"), G$17:G115), G116))","v":0},null,null,null,null,102,"",null,null,{"$f":"IF(P117=\"\", 0, P117 - IF(P116=\"\", LOOKUP(2, 1/(P$17:P115<>\"\"), P$17:P115), P116))","v":0},null,null,null,null,102,"",null,null,{"$f":"IF(Y117=\"\", 0, Y117 - IF(Y116=\"\", LOOKUP(2, 1/(Y$17:Y115<>\"\"), Y$17:Y115), Y116))","v":0},null,null,null,null,102,"",null,null,{"$f":"IF(AH117=\"\", 0, AH117 - IF(AH116=\"\", LOOKUP(2, 1/(AH$17:AH115<>\"\"), AH$17:AH115), AH116))","v":0},null,null,null,null,102,"",null,null,{"$f":"IF(AQ117=\"\", 0, AQ117 - IF(AQ116=\"\", LOOKUP(2, 1/(AQ$17:AQ115<>\"\"), AQ$17:AQ115), AQ116))","v":0},null,null,null,null,102,"",null,null,{"$f":"IF(AZ117=\"\", 0, AZ117 - IF(AZ116=\"\", LOOKUP(2, 1/(AZ$17:AZ115<>\"\"), AZ$17:AZ115), AZ116))","v":0},null,null,null,null,102,"",null,null,{"$f":"IF(BI117=\"\", 0, BI117 - IF(BI116=\"\", LOOKUP(2, 1/(BI$17:BI115<>\"\"), BI$17:BI115), BI116))","v":0},null,null,null,null,102,"",null,null,{"$f":"IF(BR117=\"\", 0, BR117 - IF(BR116=\"\", LOOKUP(2, 1/(BR$17:BR115<>\"\"), BR$17:BR115), BR116))","v":0},null,null,null,null,102,"",null,null,{"$f":"IF(CA117=\"\", 0, CA117 - IF(CA116=\"\", LOOKUP(2, 1/(CA$17:CA115<>\"\"), CA$17:CA115), CA116))","v":0},null,null,null,null,102,"",null,null,{"$f":"IF(CJ117=\"\", 0, CJ117 - IF(CJ116=\"\", LOOKUP(2, 1/(CJ$17:CJ115<>\"\"), CJ$17:CJ115), CJ116))","v":0},null,null,null,null,102,"",null,null,{"$f":"IF(CS117=\"\", 0, CS117 - IF(CS116=\"\", LOOKUP(2, 1/(CS$17:CS115<>\"\"), CS$17:CS115), CS116))","v":0},null,null,null,null,102,"",null,null,{"$f":"IF(DB117=\"\", 0, DB117 - IF(DB116=\"\", LOOKUP(2, 1/(DB$17:DB115<>\"\"), DB$17:DB115), DB116))","v":0},null,null,null,null,102,"",null,null,{"$f":"IF(DK117=\"\", 0, DK117 - IF(DK116=\"\", LOOKUP(2, 1/(DK$17:DK115<>\"\"), DK$17:DK115), DK116))","v":0},null,null,null,null,102,"",null,null,{"$f":"IF(DT117=\"\", 0, DT117 - IF(DT116=\"\", LOOKUP(2, 1/(DT$17:DT115<>\"\"), DT$17:DT115), DT116))","v":0},null,null,null,null,102,"",null,null,{"$f":"IF(EC117=\"\", 0, EC117 - IF(EC116=\"\", LOOKUP(2, 1/(EC$17:EC115<>\"\"), EC$17:EC115), EC116))","v":0},null,null,null,null,102,"",null,null,{"$f":"IF(EL117=\"\", 0, EL117 - IF(EL116=\"\", LOOKUP(2, 1/(EL$17:EL115<>\"\"), EL$17:EL115), EL116))","v":0},null,null,null,null,102,"",null,null,{"$f":"IF(EU117=\"\", 0, EU117 - IF(EU116=\"\", LOOKUP(2, 1/(EU$17:EU115<>\"\"), EU$17:EU115), EU116))","v":0},null,null,null,null,102,"",null,null,{"$f":"IF(FD117=\"\", 0, FD117 - IF(FD116=\"\", LOOKUP(2, 1/(FD$17:FD115<>\"\"), FD$17:FD115), FD116))","v":0},null,null,null,null,102,"",null,null,{"$f":"IF(FM117=\"\", 0, FM117 - IF(FM116=\"\", LOOKUP(2, 1/(FM$17:FM115<>\"\"), FM$17:FM115), FM116))","v":0},null,null,null,null,102,"",null,null,{"$f":"IF(FV117=\"\", 0, FV117 - IF(FV116=\"\", LOOKUP(2, 1/(FV$17:FV115<>\"\"), FV$17:FV115), FV116))","v":0},null,null,null,null,102,"",null,null,{"$f":"IF(GE117=\"\", 0, GE117 - IF(GE116=\"\", LOOKUP(2, 1/(GE$17:GE115<>\"\"), GE$17:GE115), GE116))","v":0},null,null,null,null,102,"",null,null,{"$f":"IF(GN117=\"\", 0, GN117 - IF(GN116=\"\", LOOKUP(2, 1/(GN$17:GN115<>\"\"), GN$17:GN115), GN116))","v":0},null,null,null,null,102,"",null,null,{"$f":"IF(GW117=\"\", 0, GW117 - IF(GW116=\"\", LOOKUP(2, 1/(GW$17:GW115<>\"\"), GW$17:GW115), GW116))","v":0},null,null,null,null,102,"",null,null,{"$f":"IF(HF117=\"\", 0, HF117 - IF(HF116=\"\", LOOKUP(2, 1/(HF$17:HF115<>\"\"), HF$17:HF115), HF116))","v":0},null,null,null,null,102,"",null,null,{"$f":"IF(HO117=\"\", 0, HO117 - IF(HO116=\"\", LOOKUP(2, 1/(HO$17:HO115<>\"\"), HO$17:HO115), HO116))","v":0},null,null,null,null,102,"",null,null,{"$f":"IF(HX117=\"\", 0, HX117 - IF(HX116=\"\", LOOKUP(2, 1/(HX$17:HX115<>\"\"), HX$17:HX115), HX116))","v":0},null,null,null,null,102,"",null,null,{"$f":"IF(IG117=\"\", 0, IG117 - IF(IG116=\"\", LOOKUP(2, 1/(IG$17:IG115<>\"\"), IG$17:IG115), IG116))","v":0},null,null,null,null,102,"",null,null,{"$f":"IF(IP117=\"\", 0, IP117 - IF(IP116=\"\", LOOKUP(2, 1/(IP$17:IP115<>\"\"), IP$17:IP115), IP116))","v":0},null,null,null,null,102,"",null,null,{"$f":"IF(IY117=\"\", 0, IY117 - IF(IY116=\"\", LOOKUP(2, 1/(IY$17:IY115<>\"\"), IY$17:IY115), IY116))","v":0},null,null,null,null,102,"",null,null,{"$f":"IF(JH117=\"\", 0, JH117 - IF(JH116=\"\", LOOKUP(2, 1/(JH$17:JH115<>\"\"), JH$17:JH115), JH116))","v":0},null,null,null,null,102,"",null,null,{"$f":"IF(JQ117=\"\", 0, JQ117 - IF(JQ116=\"\", LOOKUP(2, 1/(JQ$17:JQ115<>\"\"), JQ$17:JQ115), JQ116))","v":0},null,null,null,null,102,"",null,null,{"$f":"IF(JZ117=\"\", 0, JZ117 - IF(JZ116=\"\", LOOKUP(2, 1/(JZ$17:JZ115<>\"\"), JZ$17:JZ115), JZ116))","v":0},null,null,null,null,102,"",null,null,{"$f":"IF(KI117=\"\", 0, KI117 - IF(KI116=\"\", LOOKUP(2, 1/(KI$17:KI115<>\"\"), KI$17:KI115), KI116))","v":0},null,null,null,null,102,"",null,null,{"$f":"IF(KR117=\"\", 0, KR117 - IF(KR116=\"\", LOOKUP(2, 1/(KR$17:KR115<>\"\"), KR$17:KR115), KR116))","v":0},null,null,null,null,102,"",null,null,{"$f":"IF(LA117=\"\", 0, LA117 - IF(LA116=\"\", LOOKUP(2, 1/(LA$17:LA115<>\"\"), LA$17:LA115), LA116))","v":0},null,null,null,null,102,"",null,null,{"$f":"IF(LJ117=\"\", 0, LJ117 - IF(LJ116=\"\", LOOKUP(2, 1/(LJ$17:LJ115<>\"\"), LJ$17:LJ115), LJ116))","v":0},null,null,null,null,102,"",null,null,{"$f":"IF(LS117=\"\", 0, LS117 - IF(LS116=\"\", LOOKUP(2, 1/(LS$17:LS115<>\"\"), LS$17:LS115), LS116))","v":0},null,null,null,null,102,"",null,null,{"$f":"IF(MB117=\"\", 0, MB117 - IF(MB116=\"\", LOOKUP(2, 1/(MB$17:MB115<>\"\"), MB$17:MB115), MB116))","v":0},null,null,null,null,102,"",null,null,{"$f":"IF(MK117=\"\", 0, MK117 - IF(MK116=\"\", LOOKUP(2, 1/(MK$17:MK115<>\"\"), MK$17:MK115), MK116))","v":0},null,null,null,null,102,"",null,null,{"$f":"IF(MT117=\"\", 0, MT117 - IF(MT116=\"\", LOOKUP(2, 1/(MT$17:MT115<>\"\"), MT$17:MT115), MT116))","v":0},null,null,102,"",null,null,{"$f":"IF(NA117=\"\", 0, NA117 - IF(NA116=\"\", LOOKUP(2, 1/(NA$17:NA115<>\"\"), NA$17:NA115), NA116))","v":0},null,null,null,null,102,"",null,null,{"$f":"IF(NJ117=\"\", 0, NJ117 - IF(NJ116=\"\", LOOKUP(2, 1/(NJ$17:NJ115<>\"\"), NJ$17:NJ115), NJ116))","v":0},null,null,null,null,102,"",null,null,{"$f":"IF(NS117=\"\", 0, NS117 - IF(NS116=\"\", LOOKUP(2, 1/(NS$17:NS115<>\"\"), NS$17:NS115), NS116))","v":0},null,null,null,null,102,"",null,null,{"$f":"IF(OB117=\"\", 0, OB117 - IF(OB116=\"\", LOOKUP(2, 1/(OB$17:OB115<>\"\"), OB$17:OB115), OB116))","v":0},null,null,null,null,102,"",null,null,{"$f":"IF(OK117=\"\", 0, OK117 - IF(OK116=\"\", LOOKUP(2, 1/(OK$17:OK115<>\"\"), OK$17:OK115), OK116))","v":0},null,null,null,null,102,"",null,null,{"$f":"IF(OT117=\"\", 0, OT117 - IF(OT116=\"\", LOOKUP(2, 1/(OT$17:OT115<>\"\"), OT$17:OT115), OT116))","v":0},null,null,null,null,102,"",null,null,{"$f":"IF(PC117=\"\", 0, PC117 - IF(PC116=\"\", LOOKUP(2, 1/(PC$17:PC115<>\"\"), PC$17:PC115), PC116))","v":0},null,null,null,null,102,"",null,null,{"$f":"IF(PL117=\"\", 0, PL117 - IF(PL116=\"\", LOOKUP(2, 1/(PL$17:PL115<>\"\"), PL$17:PL115), PL116))","v":0},null,null,null,null,102,"",null,null,{"$f":"IF(PU117=\"\", 0, PU117 - IF(PU116=\"\", LOOKUP(2, 1/(PU$17:PU115<>\"\"), PU$17:PU115), PU116))","v":0},null,null,null,null,102,"",null,null,{"$f":"IF(QD117=\"\", 0, QD117 - IF(QD116=\"\", LOOKUP(2, 1/(QD$17:QD115<>\"\"), QD$17:QD115), QD116))","v":0}]
[null,null,null,101,"",null,null,{"$f":"IF(G118=\"\", 0, G118 - IF(G117=\"\", LOOKUP(2, 1/(G$17:G116<>\"\"), G$17:G116), G117))","v":0},null,null,null,null,101,"",null,null,{"$f":"IF(P118=\"\", 0, P118 - IF(P117=\"\", LOOKUP(2, 1/(P$17:P116<>\"\"), P$17:P116), P117))","v":0},null,null,null,null,101,"",null,null,{"$f":"IF(Y118=\"\", 0, Y118 - IF(Y117=\"\", LOOKUP(2, 1/(Y$17:Y116<>\"\"), Y$17:Y116), Y117))","v":0},null,null,null,null,101,"",null,null,{"$f":"IF(AH118=\"\", 0, AH118 - IF(AH117=\"\", LOOKUP(2, 1/(AH$17:AH116<>\"\"), AH$17:AH116), AH117))","v":0},null,null,null,null,101,"",null,null,{"$f":"IF(AQ118=\"\", 0, AQ118 - IF(AQ117=\"\", LOOKUP(2, 1/(AQ$17:AQ116<>\"\"), AQ$17:AQ116), AQ117))","v":0},null,null,null,null,101,"",null,null,{"$f":"IF(AZ118=\"\", 0, AZ118 - IF(AZ117=\"\", LOOKUP(2, 1/(AZ$17:AZ116<>\"\"), AZ$17:AZ116), AZ117))","v":0},null,null,null,null,101,"",null,null,{"$f":"IF(BI118=\"\", 0, BI118 - IF(BI117=\"\", LOOKUP(2, 1/(BI$17:BI116<>\"\"), BI$17:BI116), BI117))","v":0},null,null,null,null,101,"",null,null,{"$f":"IF(BR118=\"\", 0, BR118 - IF(BR117=\"\", LOOKUP(2, 1/(BR$17:BR116<>\"\"), BR$17:BR116), BR117))","v":0},null,null,null,null,101,"",null,null,{"$f":"IF(CA118=\"\", 0, CA118 - IF(CA117=\"\", LOOKUP(2, 1/(CA$17:CA116<>\"\"), CA$17:CA116), CA117))","v":0},null,null,null,null,101,"",null,null,{"$f":"IF(CJ118=\"\", 0, CJ118 - IF(CJ117=\"\", LOOKUP(2, 1/(CJ$17:CJ116<>\"\"), CJ$17:CJ116), CJ117))","v":0},null,null,null,null,101,"",null,null,{"$f":"IF(CS118=\"\", 0, CS118 - IF(CS117=\"\", LOOKUP(2, 1/(CS$17:CS116<>\"\"), CS$17:CS116), CS117))","v":0},null,null,null,null,101,"",null,null,{"$f":"IF(DB118=\"\", 0, DB118 - IF(DB117=\"\", LOOKUP(2, 1/(DB$17:DB116<>\"\"), DB$17:DB116), DB117))","v":0},null,null,null,null,101,"",null,null,{"$f":"IF(DK118=\"\", 0, DK118 - IF(DK117=\"\", LOOKUP(2, 1/(DK$17:DK116<>\"\"), DK$17:DK116), DK117))","v":0},null,null,null,null,101,"",null,null,{"$f":"IF(DT118=\"\", 0, DT118 - IF(DT117=\"\", LOOKUP(2, 1/(DT$17:DT116<>\"\"), DT$17:DT116), DT117))","v":0},null,null,null,null,101,"",null,null,{"$f":"IF(EC118=\"\", 0, EC118 - IF(EC117=\"\", LOOKUP(2, 1/(EC$17:EC116<>\"\"), EC$17:EC116), EC117))","v":0},null,null,null,null,101,"",null,null,{"$f":"IF(EL118=\"\", 0, EL118 - IF(EL117=\"\", LOOKUP(2, 1/(EL$17:EL116<>\"\"), EL$17:EL116), EL117))","v":0},null,null,null,null,101,"",null,null,{"$f":"IF(EU118=\"\", 0, EU118 - IF(EU117=\"\", LOOKUP(2, 1/(EU$17:EU116<>\"\"), EU$17:EU116), EU117))","v":0},null,null,null,null,101,"",null,null,{"$f":"IF(FD118=\"\", 0, FD118 - IF(FD117=\"\", LOOKUP(2, 1/(FD$17:FD116<>\"\"), FD$17:FD116), FD117))","v":0},null,null,null,null,101,"",null,null,{"$f":"IF(FM118=\"\", 0, FM118 - IF(FM117=\"\", LOOKUP(2, 1/(FM$17:FM116<>\"\"), FM$17:FM116), FM117))","v":0},null,null,null,null,101,"",null,null,{"$f":"IF(FV118=\"\", 0, FV118 - IF(FV117=\"\", LOOKUP(2, 1/(FV$17:FV116<>\"\"), FV$17:FV116), FV117))","v":0},null,null,null,null,101,"",null,null,{"$f":"IF(GE118=\"\", 0, GE118 - IF(GE117=\"\", LOOKUP(2, 1/(GE$17:GE116<>\"\"), GE$17:GE116), GE117))","v":0},null,null,null,null,101,"",null,null,{"$f":"IF(GN118=\"\", 0, GN118 - IF(GN117=\"\", LOOKUP(2, 1/(GN$17:GN116<>\"\"), GN$17:GN116), GN117))","v":0},null,null,null,null,101,"",null,null,{"$f":"IF(GW118=\"\", 0, GW118 - IF(GW117=\"\", LOOKUP(2, 1/(GW$17:GW116<>\"\"), GW$17:GW116), GW117))","v":0},null,null,null,null,101,"",null,null,{"$f":"IF(HF118=\"\", 0, HF118 - IF(HF117=\"\", LOOKUP(2, 1/(HF$17:HF116<>\"\"), HF$17:HF116), HF117))","v":0},null,null,null,null,101,"",null,null,{"$f":"IF(HO118=\"\", 0, HO118 - IF(HO117=\"\", LOOKUP(2, 1/(HO$17:HO116<>\"\"), HO$17:HO116), HO117))","v":0},null,null,null,null,101,"",null,null,{"$f":"IF(HX118=\"\", 0, HX118 - IF(HX117=\"\", LOOKUP(2, 1/(HX$17:HX116<>\"\"), HX$17:HX116), HX117))","v":0},null,null,null,null,101,"",null,null,{"$f":"IF(IG118=\"\", 0, IG118 - IF(IG117=\"\", LOOKUP(2, 1/(IG$17:IG116<>\"\"), IG$17:IG116), IG117))","v":0},null,null,null,null,101,"",null,null,{"$f":"IF(IP118=\"\", 0, IP118 - IF(IP117=\"\", LOOKUP(2, 1/(IP$17:IP116<>\"\"), IP$17:IP116), IP117))","v":0},null,null,null,null,101,"",null,null,{"$f":"IF(IY118=\"\", 0, IY118 - IF(IY117=\"\", LOOKUP(2, 1/(IY$17:IY116<>\"\"), IY$17:IY116), IY117))","v":0},null,null,null,null,101,"",null,null,{"$f":"IF(JH118=\"\", 0, JH118 - IF(JH117=\"\", LOOKUP(2, 1/(JH$17:JH116<>\"\"), JH$17:JH116), JH117))","v":0},null,null,null,null,101,"",null,null,{"$f":"IF(JQ118=\"\", 0, JQ118 - IF(JQ117=\"\", LOOKUP(2, 1/(JQ$17:JQ116<>\"\"), JQ$17:JQ116), JQ117))","v":0},null,null,null,null,101,"",null,null,{"$f":"IF(JZ118=\"\", 0, JZ118 - IF(JZ117=\"\", LOOKUP(2, 1/(JZ$17:JZ116<>\"\"), JZ$17:JZ116), JZ117))","v":0},null,null,null,null,101,"",null,null,{"$f":"IF(KI118=\"\", 0, KI118 - IF(KI117=\"\", LOOKUP(2, 1/(KI$17:KI116<>\"\"), KI$17:KI116), KI117))","v":0},null,null,null,null,101,"",null,null,{"$f":"IF(KR118=\"\", 0, KR118 - IF(KR117=\"\", LOOKUP(2, 1/(KR$17:KR116<>\"\"), KR$17:KR116), KR117))","v":0},null,null,null,null,101,"",null,null,{"$f":"IF(LA118=\"\", 0, LA118 - IF(LA117=\"\", LOOKUP(2, 1/(LA$17:LA116<>\"\"), LA$17:LA116), LA117))","v":0},null,null,null,null,101,"",null,null,{"$f":"IF(LJ118=\"\", 0, LJ118 - IF(LJ117=\"\", LOOKUP(2, 1/(LJ$17:LJ116<>\"\"), LJ$17:LJ116), LJ117))","v":0},null,null,null,null,101,"",null,null,{"$f":"IF(LS118=\"\", 0, LS118 - IF(LS117=\"\", LOOKUP(2, 1/(LS$17:LS116<>\"\"), LS$17:LS116), LS117))","v":0},null,null,null,null,101,"",null,null,{"$f":"IF(MB118=\"\", 0, MB118 - IF(MB117=\"\", LOOKUP(2, 1/(MB$17:MB116<>\"\"), MB$17:MB116), MB117))","v":0},null,null,null,null,101,"",null,null,{"$f":"IF(MK118=\"\", 0, MK118 - IF(MK117=\"\", LOOKUP(2, 1/(MK$17:MK116<>\"\"), MK$17:MK116), MK117))","v":0},null,null,null,null,101,"",null,null,{"$f":"IF(MT118=\"\", 0, MT118 - IF(MT117=\"\", LOOKUP(2, 1/(MT$17:MT116<>\"\"), MT$17:MT116), MT117))","v":0},null,null,101,"",null,null,{"$f":"IF(NA118=\"\", 0, NA118 - IF(NA117=\"\", LOOKUP(2, 1/(NA$17:NA116<>\"\"), NA$17:NA116), NA117))","v":0},null,null,null,null,101,"",null,null,{"$f":"IF(NJ118=\"\", 0, NJ118 - IF(NJ117=\"\", LOOKUP(2, 1/(NJ$17:NJ116<>\"\"), NJ$17:NJ116), NJ117))","v":0},null,null,null,null,101,"",null,null,{"$f":"IF(NS118=\"\", 0, NS118 - IF(NS117=\"\", LOOKUP(2, 1/(NS$17:NS116<>\"\"), NS$17:NS116), NS117))","v":0},null,null,null,null,101,"",null,null,{"$f":"IF(OB118=\"\", 0, OB118 - IF(OB117=\"\", LOOKUP(2, 1/(OB$17:OB116<>\"\"), OB$17:OB116), OB117))","v":0},null,null,null,null,101,"",null,null,{"$f":"IF(OK118=\"\", 0, OK118 - IF(OK117=\"\", LOOKUP(2, 1/(OK$17:OK116<>\"\"), OK$17:OK116), OK117))","v":0},null,null,null,null,101,"",null,null,{"$f":"IF(OT118=\"\", 0, OT118 - IF(OT117=\"\", LOOKUP(2, 1/(OT$17:OT116<>\"\"), OT$17:OT116), OT117))","v":0},null,null,null,null,101,"",null,null,{"$f":"IF(PC118=\"\", 0, PC118 - IF(PC117=\"\", LOOKUP(2, 1/(PC$17:PC116<>\"\"), PC$17:PC116), PC117))","v":0},null,null,null,null,101,"",null,null,{"$f":"IF(PL118=\"\", 0, PL118 - IF(PL117=\"\", LOOKUP(2, 1/(PL$17:PL116<>\"\"), PL$17:PL116), PL117))","v":0},null,null,null,null,101,"",null,null,{"$f":"IF(PU118=\"\", 0, PU118 - IF(PU117=\"\", LOOKUP(2, 1/(PU$17:PU116<>\"\"), PU$17:PU116), PU117))","v":0},null,null,null,null,101,"",null,null,{"$f":"IF(QD118=\"\", 0, QD118 - IF(QD117=\"\", LOOKUP(2, 1/(QD$17:QD116<>\"\"), QD$17:QD116), QD117))","v":0}]
[null,null,null,100,"",null,null,{"$f":"IF(G119=\"\", 0, G119 - IF(G118=\"\", LOOKUP(2, 1/(G$17:G117<>\"\"), G$17:G117), G118))","v":0},null,null,null,null,100,"",null,null,{"$f":"IF(P119=\"\", 0, P119 - IF(P118=\"\", LOOKUP(2, 1/(P$17:P117<>\"\"), P$17:P117), P118))","v":0},null,null,null,null,100,"",null,null,{"$f":"IF(Y119=\"\", 0, Y119 - IF(Y118=\"\", LOOKUP(2, 1/(Y$17:Y117<>\"\"), Y$17:Y117), Y118))","v":0},null,null,null,null,100,"",null,null,{"$f":"IF(AH119=\"\", 0, AH119 - IF(AH118=\"\", LOOKUP(2, 1/(AH$17:AH117<>\"\"), AH$17:AH117), AH118))","v":0},null,null,null,null,100,"",null,null,{"$f":"IF(AQ119=\"\", 0, AQ119 - IF(AQ118=\"\", LOOKUP(2, 1/(AQ$17:AQ117<>\"\"), AQ$17:AQ117), AQ118))","v":0},null,null,null,null,100,"",null,null,{"$f":"IF(AZ119=\"\", 0, AZ119 - IF(AZ118=\"\", LOOKUP(2, 1/(AZ$17:AZ117<>\"\"), AZ$17:AZ117), AZ118))","v":0},null,null,null,null,100,"",null,null,{"$f":"IF(BI119=\"\", 0, BI119 - IF(BI118=\"\", LOOKUP(2, 1/(BI$17:BI117<>\"\"), BI$17:BI117), BI118))","v":0},null,null,null,null,100,"",null,null,{"$f":"IF(BR119=\"\", 0, BR119 - IF(BR118=\"\", LOOKUP(2, 1/(BR$17:BR117<>\"\"), BR$17:BR117), BR118))","v":0},null,null,null,null,100,"",null,null,{"$f":"IF(CA119=\"\", 0, CA119 - IF(CA118=\"\", LOOKUP(2, 1/(CA$17:CA117<>\"\"), CA$17:CA117), CA118))","v":0},null,null,null,null,100,"",null,null,{"$f":"IF(CJ119=\"\", 0, CJ119 - IF(CJ118=\"\", LOOKUP(2, 1/(CJ$17:CJ117<>\"\"), CJ$17:CJ117), CJ118))","v":0},null,null,null,null,100,"",null,null,{"$f":"IF(CS119=\"\", 0, CS119 - IF(CS118=\"\", LOOKUP(2, 1/(CS$17:CS117<>\"\"), CS$17:CS117), CS118))","v":0},null,null,null,null,100,"",null,null,{"$f":"IF(DB119=\"\", 0, DB119 - IF(DB118=\"\", LOOKUP(2, 1/(DB$17:DB117<>\"\"), DB$17:DB117), DB118))","v":0},null,null,null,null,100,"",null,null,{"$f":"IF(DK119=\"\", 0, DK119 - IF(DK118=\"\", LOOKUP(2, 1/(DK$17:DK117<>\"\"), DK$17:DK117), DK118))","v":0},null,null,null,null,100,"",null,null,{"$f":"IF(DT119=\"\", 0, DT119 - IF(DT118=\"\", LOOKUP(2, 1/(DT$17:DT117<>\"\"), DT$17:DT117), DT118))","v":0},null,null,null,null,100,"",null,null,{"$f":"IF(EC119=\"\", 0, EC119 - IF(EC118=\"\", LOOKUP(2, 1/(EC$17:EC117<>\"\"), EC$17:EC117), EC118))","v":0},null,null,null,null,100,"",null,null,{"$f":"IF(EL119=\"\", 0, EL119 - IF(EL118=\"\", LOOKUP(2, 1/(EL$17:EL117<>\"\"), EL$17:EL117), EL118))","v":0},null,null,null,null,100,"",null,null,{"$f":"IF(EU119=\"\", 0, EU119 - IF(EU118=\"\", LOOKUP(2, 1/(EU$17:EU117<>\"\"), EU$17:EU117), EU118))","v":0},null,null,null,null,100,"",null,null,{"$f":"IF(FD119=\"\", 0, FD119 - IF(FD118=\"\", LOOKUP(2, 1/(FD$17:FD117<>\"\"), FD$17:FD117), FD118))","v":0},null,null,null,null,100,"",null,null,{"$f":"IF(FM119=\"\", 0, FM119 - IF(FM118=\"\", LOOKUP(2, 1/(FM$17:FM117<>\"\"), FM$17:FM117), FM118))","v":0},null,null,null,null,100,"",null,null,{"$f":"IF(FV119=\"\", 0, FV119 - IF(FV118=\"\", LOOKUP(2, 1/(FV$17:FV117<>\"\"), FV$17:FV117), FV118))","v":0},null,null,null,null,100,"",null,null,{"$f":"IF(GE119=\"\", 0, GE119 - IF(GE118=\"\", LOOKUP(2, 1/(GE$17:GE117<>\"\"), GE$17:GE117), GE118))","v":0},null,null,null,null,100,"",null,null,{"$f":"IF(GN119=\"\", 0, GN119 - IF(GN118=\"\", LOOKUP(2, 1/(GN$17:GN117<>\"\"), GN$17:GN117), GN118))","v":0},null,null,null,null,100,"",null,null,{"$f":"IF(GW119=\"\", 0, GW119 - IF(GW118=\"\", LOOKUP(2, 1/(GW$17:GW117<>\"\"), GW$17:GW117), GW118))","v":0},null,null,null,null,100,"",null,null,{"$f":"IF(HF119=\"\", 0, HF119 - IF(HF118=\"\", LOOKUP(2, 1/(HF$17:HF117<>\"\"), HF$17:HF117), HF118))","v":0},null,null,null,null,100,"",null,null,{"$f":"IF(HO119=\"\", 0, HO119 - IF(HO118=\"\", LOOKUP(2, 1/(HO$17:HO117<>\"\"), HO$17:HO117), HO118))","v":0},null,null,null,null,100,"",null,null,{"$f":"IF(HX119=\"\", 0, HX119 - IF(HX118=\"\", LOOKUP(2, 1/(HX$17:HX117<>\"\"), HX$17:HX117), HX118))","v":0},null,null,null,null,100,"",null,null,{"$f":"IF(IG119=\"\", 0, IG119 - IF(IG118=\"\", LOOKUP(2, 1/(IG$17:IG117<>\"\"), IG$17:IG117), IG118))","v":0},null,null,null,null,100,"",null,null,{"$f":"IF(IP119=\"\", 0, IP119 - IF(IP118=\"\", LOOKUP(2, 1/(IP$17:IP117<>\"\"), IP$17:IP117), IP118))","v":0},null,null,null,null,100,"",null,null,{"$f":"IF(IY119=\"\", 0, IY119 - IF(IY118=\"\", LOOKUP(2, 1/(IY$17:IY117<>\"\"), IY$17:IY117), IY118))","v":0},null,null,null,null,100,"",null,null,{"$f":"IF(JH119=\"\", 0, JH119 - IF(JH118=\"\", LOOKUP(2, 1/(JH$17:JH117<>\"\"), JH$17:JH117), JH118))","v":0},null,null,null,null,100,"",null,null,{"$f":"IF(JQ119=\"\", 0, JQ119 - IF(JQ118=\"\", LOOKUP(2, 1/(JQ$17:JQ117<>\"\"), JQ$17:JQ117), JQ118))","v":0},null,null,null,null,100,"",null,null,{"$f":"IF(JZ119=\"\", 0, JZ119 - IF(JZ118=\"\", LOOKUP(2, 1/(JZ$17:JZ117<>\"\"), JZ$17:JZ117), JZ118))","v":0},null,null,null,null,100,"",null,null,{"$f":"IF(KI119=\"\", 0, KI119 - IF(KI118=\"\", LOOKUP(2, 1/(KI$17:KI117<>\"\"), KI$17:KI117), KI118))","v":0},null,null,null,null,100,"",null,null,{"$f":"IF(KR119=\"\", 0, KR119 - IF(KR118=\"\", LOOKUP(2, 1/(KR$17:KR117<>\"\"), KR$17:KR117), KR118))","v":0},null,null,null,null,100,"",null,null,{"$f":"IF(LA119=\"\", 0, LA119 - IF(LA118=\"\", LOOKUP(2, 1/(LA$17:LA117<>\"\"), LA$17:LA117), LA118))","v":0},null,null,null,null,100,"",null,null,{"$f":"IF(LJ119=\"\", 0, LJ119 - IF(LJ118=\"\", LOOKUP(2, 1/(LJ$17:LJ117<>\"\"), LJ$17:LJ117), LJ118))","v":0},null,null,null,null,100,"",null,null,{"$f":"IF(LS119=\"\", 0, LS119 - IF(LS118=\"\", LOOKUP(2, 1/(LS$17:LS117<>\"\"), LS$17:LS117), LS118))","v":0},null,null,null,null,100,"",null,null,{"$f":"IF(MB119=\"\", 0, MB119 - IF(MB118=\"\", LOOKUP(2, 1/(MB$17:MB117<>\"\"), MB$17:MB117), MB118))","v":0},null,null,null,null,100,"",null,null,{"$f":"IF(MK119=\"\", 0, MK119 - IF(MK118=\"\", LOOKUP(2, 1/(MK$17:MK117<>\"\"), MK$17:MK117), MK118))","v":0},null,null,null,null,100,"",null,null,{"$f":"IF(MT119=\"\", 0, MT119 - IF(MT118=\"\", LOOKUP(2, 1/(MT$17:MT117<>\"\"), MT$17:MT117), MT118))","v":0},null,null,100,"",null,null,{"$f":"IF(NA119=\"\", 0, NA119 - IF(NA118=\"\", LOOKUP(2, 1/(NA$17:NA117<>\"\"), NA$17:NA117), NA118))","v":0},null,null,null,null,100,"",null,null,{"$f":"IF(NJ119=\"\", 0, NJ119 - IF(NJ118=\"\", LOOKUP(2, 1/(NJ$17:NJ117<>\"\"), NJ$17:NJ117), NJ118))","v":0},null,null,null,null,100,"",null,null,{"$f":"IF(NS119=\"\", 0, NS119 - IF(NS118=\"\", LOOKUP(2, 1/(NS$17:NS117<>\"\"), NS$17:NS117), NS118))","v":0},null,null,null,null,100,"",null,null,{"$f":"IF(OB119=\"\", 0, OB119 - IF(OB118=\"\", LOOKUP(2, 1/(OB$17:OB117<>\"\"), OB$17:OB117), OB118))","v":0},null,null,null,null,100,"",null,null,{"$f":"IF(OK119=\"\", 0, OK119 - IF(OK118=\"\", LOOKUP(2, 1/(OK$17:OK117<>\"\"), OK$17:OK117), OK118))","v":0},null,null,null,null,100,"",null,null,{"$f":"IF(OT119=\"\", 0, OT119 - IF(OT118=\"\", LOOKUP(2, 1/(OT$17:OT117<>\"\"), OT$17:OT117), OT118))","v":0},null,null,null,null,100,"",null,null,{"$f":"IF(PC119=\"\", 0, PC119 - IF(PC118=\"\", LOOKUP(2, 1/(PC$17:PC117<>\"\"), PC$17:PC117), PC118))","v":0},null,null,null,null,100,"",null,null,{"$f":"IF(PL119=\"\", 0, PL119 - IF(PL118=\"\", LOOKUP(2, 1/(PL$17:PL117<>\"\"), PL$17:PL117), PL118))","v":0},null,null,null,null,100,"",null,null,{"$f":"IF(PU119=\"\", 0, PU119 - IF(PU118=\"\", LOOKUP(2, 1/(PU$17:PU117<>\"\"), PU$17:PU117), PU118))","v":0},null,null,null,null,100,"",null,null,{"$f":"IF(QD119=\"\", 0, QD119 - IF(QD118=\"\", LOOKUP(2, 1/(QD$17:QD117<>\"\"), QD$17:QD117), QD118))","v":0}]
[null,null,null,99,"",null,null,{"$f":"IF(G120=\"\", 0, G120 - IF(G119=\"\", LOOKUP(2, 1/(G$17:G118<>\"\"), G$17:G118), G119))","v":0},null,null,null,null,99,"",null,null,{"$f":"IF(P120=\"\", 0, P120 - IF(P119=\"\", LOOKUP(2, 1/(P$17:P118<>\"\"), P$17:P118), P119))","v":0},null,null,null,null,99,"",null,null,{"$f":"IF(Y120=\"\", 0, Y120 - IF(Y119=\"\", LOOKUP(2, 1/(Y$17:Y118<>\"\"), Y$17:Y118), Y119))","v":0},null,null,null,null,99,"",null,null,{"$f":"IF(AH120=\"\", 0, AH120 - IF(AH119=\"\", LOOKUP(2, 1/(AH$17:AH118<>\"\"), AH$17:AH118), AH119))","v":0},null,null,null,null,99,"",null,null,{"$f":"IF(AQ120=\"\", 0, AQ120 - IF(AQ119=\"\", LOOKUP(2, 1/(AQ$17:AQ118<>\"\"), AQ$17:AQ118), AQ119))","v":0},null,null,null,null,99,"",null,null,{"$f":"IF(AZ120=\"\", 0, AZ120 - IF(AZ119=\"\", LOOKUP(2, 1/(AZ$17:AZ118<>\"\"), AZ$17:AZ118), AZ119))","v":0},null,null,null,null,99,"",null,null,{"$f":"IF(BI120=\"\", 0, BI120 - IF(BI119=\"\", LOOKUP(2, 1/(BI$17:BI118<>\"\"), BI$17:BI118), BI119))","v":0},null,null,null,null,99,"",null,null,{"$f":"IF(BR120=\"\", 0, BR120 - IF(BR119=\"\", LOOKUP(2, 1/(BR$17:BR118<>\"\"), BR$17:BR118), BR119))","v":0},null,null,null,null,99,"",null,null,{"$f":"IF(CA120=\"\", 0, CA120 - IF(CA119=\"\", LOOKUP(2, 1/(CA$17:CA118<>\"\"), CA$17:CA118), CA119))","v":0},null,null,null,null,99,"",null,null,{"$f":"IF(CJ120=\"\", 0, CJ120 - IF(CJ119=\"\", LOOKUP(2, 1/(CJ$17:CJ118<>\"\"), CJ$17:CJ118), CJ119))","v":0},null,null,null,null,99,"",null,null,{"$f":"IF(CS120=\"\", 0, CS120 - IF(CS119=\"\", LOOKUP(2, 1/(CS$17:CS118<>\"\"), CS$17:CS118), CS119))","v":0},null,null,null,null,99,"",null,null,{"$f":"IF(DB120=\"\", 0, DB120 - IF(DB119=\"\", LOOKUP(2, 1/(DB$17:DB118<>\"\"), DB$17:DB118), DB119))","v":0},null,null,null,null,99,"",null,null,{"$f":"IF(DK120=\"\", 0, DK120 - IF(DK119=\"\", LOOKUP(2, 1/(DK$17:DK118<>\"\"), DK$17:DK118), DK119))","v":0},null,null,null,null,99,"",null,null,{"$f":"IF(DT120=\"\", 0, DT120 - IF(DT119=\"\", LOOKUP(2, 1/(DT$17:DT118<>\"\"), DT$17:DT118), DT119))","v":0},null,null,null,null,99,"",null,null,{"$f":"IF(EC120=\"\", 0, EC120 - IF(EC119=\"\", LOOKUP(2, 1/(EC$17:EC118<>\"\"), EC$17:EC118), EC119))","v":0},null,null,null,null,99,"",null,null,{"$f":"IF(EL120=\"\", 0, EL120 - IF(EL119=\"\", LOOKUP(2, 1/(EL$17:EL118<>\"\"), EL$17:EL118), EL119))","v":0},null,null,null,null,99,"",null,null,{"$f":"IF(EU120=\"\", 0, EU120 - IF(EU119=\"\", LOOKUP(2, 1/(EU$17:EU118<>\"\"), EU$17:EU118), EU119))","v":0},null,null,null,null,99,"",null,null,{"$f":"IF(FD120=\"\", 0, FD120 - IF(FD119=\"\", LOOKUP(2, 1/(FD$17:FD118<>\"\"), FD$17:FD118), FD119))","v":0},null,null,null,null,99,"",null,null,{"$f":"IF(FM120=\"\", 0, FM120 - IF(FM119=\"\", LOOKUP(2, 1/(FM$17:FM118<>\"\"), FM$17:FM118), FM119))","v":0},null,null,null,null,99,"",null,null,{"$f":"IF(FV120=\"\", 0, FV120 - IF(FV119=\"\", LOOKUP(2, 1/(FV$17:FV118<>\"\"), FV$17:FV118), FV119))","v":0},null,null,null,null,99,"",null,null,{"$f":"IF(GE120=\"\", 0, GE120 - IF(GE119=\"\", LOOKUP(2, 1/(GE$17:GE118<>\"\"), GE$17:GE118), GE119))","v":0},null,null,null,null,99,"",null,null,{"$f":"IF(GN120=\"\", 0, GN120 - IF(GN119=\"\", LOOKUP(2, 1/(GN$17:GN118<>\"\"), GN$17:GN118), GN119))","v":0},null,null,null,null,99,"",null,null,{"$f":"IF(GW120=\"\", 0, GW120 - IF(GW119=\"\", LOOKUP(2, 1/(GW$17:GW118<>\"\"), GW$17:GW118), GW119))","v":0},null,null,null,null,99,"",null,null,{"$f":"IF(HF120=\"\", 0, HF120 - IF(HF119=\"\", LOOKUP(2, 1/(HF$17:HF118<>\"\"), HF$17:HF118), HF119))","v":0},null,null,null,null,99,"",null,null,{"$f":"IF(HO120=\"\", 0, HO120 - IF(HO119=\"\", LOOKUP(2, 1/(HO$17:HO118<>\"\"), HO$17:HO118), HO119))","v":0},null,null,null,null,99,"",null,null,{"$f":"IF(HX120=\"\", 0, HX120 - IF(HX119=\"\", LOOKUP(2, 1/(HX$17:HX118<>\"\"), HX$17:HX118), HX119))","v":0},null,null,null,null,99,"",null,null,{"$f":"IF(IG120=\"\", 0, IG120 - IF(IG119=\"\", LOOKUP(2, 1/(IG$17:IG118<>\"\"), IG$17:IG118), IG119))","v":0},null,null,null,null,99,"",null,null,{"$f":"IF(IP120=\"\", 0, IP120 - IF(IP119=\"\", LOOKUP(2, 1/(IP$17:IP118<>\"\"), IP$17:IP118), IP119))","v":0},null,null,null,null,99,"",null,null,{"$f":"IF(IY120=\"\", 0, IY120 - IF(IY119=\"\", LOOKUP(2, 1/(IY$17:IY118<>\"\"), IY$17:IY118), IY119))","v":0},null,null,null,null,99,"",null,null,{"$f":"IF(JH120=\"\", 0, JH120 - IF(JH119=\"\", LOOKUP(2, 1/(JH$17:JH118<>\"\"), JH$17:JH118), JH119))","v":0},null,null,null,null,99,"",null,null,{"$f":"IF(JQ120=\"\", 0, JQ120 - IF(JQ119=\"\", LOOKUP(2, 1/(JQ$17:JQ118<>\"\"), JQ$17:JQ118), JQ119))","v":0},null,null,null,null,99,"",null,null,{"$f":"IF(JZ120=\"\", 0, JZ120 - IF(JZ119=\"\", LOOKUP(2, 1/(JZ$17:JZ118<>\"\"), JZ$17:JZ118), JZ119))","v":0},null,null,null,null,99,"",null,null,{"$f":"IF(KI120=\"\", 0, KI120 - IF(KI119=\"\", LOOKUP(2, 1/(KI$17:KI118<>\"\"), KI$17:KI118), KI119))","v":0},null,null,null,null,99,"",null,null,{"$f":"IF(KR120=\"\", 0, KR120 - IF(KR119=\"\", LOOKUP(2, 1/(KR$17:KR118<>\"\"), KR$17:KR118), KR119))","v":0},null,null,null,null,99,"",null,null,{"$f":"IF(LA120=\"\", 0, LA120 - IF(LA119=\"\", LOOKUP(2, 1/(LA$17:LA118<>\"\"), LA$17:LA118), LA119))","v":0},null,null,null,null,99,"",null,null,{"$f":"IF(LJ120=\"\", 0, LJ120 - IF(LJ119=\"\", LOOKUP(2, 1/(LJ$17:LJ118<>\"\"), LJ$17:LJ118), LJ119))","v":0},null,null,null,null,99,"",null,null,{"$f":"IF(LS120=\"\", 0, LS120 - IF(LS119=\"\", LOOKUP(2, 1/(LS$17:LS118<>\"\"), LS$17:LS118), LS119))","v":0},null,null,null,null,99,"",null,null,{"$f":"IF(MB120=\"\", 0, MB120 - IF(MB119=\"\", LOOKUP(2, 1/(MB$17:MB118<>\"\"), MB$17:MB118), MB119))","v":0},null,null,null,null,99,"",null,null,{"$f":"IF(MK120=\"\", 0, MK120 - IF(MK119=\"\", LOOKUP(2, 1/(MK$17:MK118<>\"\"), MK$17:MK118), MK119))","v":0},null,null,null,null,99,"",null,null,{"$f":"IF(MT120=\"\", 0, MT120 - IF(MT119=\"\", LOOKUP(2, 1/(MT$17:MT118<>\"\"), MT$17:MT118), MT119))","v":0},null,null,99,"",null,null,{"$f":"IF(NA120=\"\", 0, NA120 - IF(NA119=\"\", LOOKUP(2, 1/(NA$17:NA118<>\"\"), NA$17:NA118), NA119))","v":0},null,null,null,null,99,"",null,null,{"$f":"IF(NJ120=\"\", 0, NJ120 - IF(NJ119=\"\", LOOKUP(2, 1/(NJ$17:NJ118<>\"\"), NJ$17:NJ118), NJ119))","v":0},null,null,null,null,99,"",null,null,{"$f":"IF(NS120=\"\", 0, NS120 - IF(NS119=\"\", LOOKUP(2, 1/(NS$17:NS118<>\"\"), NS$17:NS118), NS119))","v":0},null,null,null,null,99,"",null,null,{"$f":"IF(OB120=\"\", 0, OB120 - IF(OB119=\"\", LOOKUP(2, 1/(OB$17:OB118<>\"\"), OB$17:OB118), OB119))","v":0},null,null,null,null,99,"",null,null,{"$f":"IF(OK120=\"\", 0, OK120 - IF(OK119=\"\", LOOKUP(2, 1/(OK$17:OK118<>\"\"), OK$17:OK118), OK119))","v":0},null,null,null,null,99,"",null,null,{"$f":"IF(OT120=\"\", 0, OT120 - IF(OT119=\"\", LOOKUP(2, 1/(OT$17:OT118<>\"\"), OT$17:OT118), OT119))","v":0},null,null,null,null,99,"",null,null,{"$f":"IF(PC120=\"\", 0, PC120 - IF(PC119=\"\", LOOKUP(2, 1/(PC$17:PC118<>\"\"), PC$17:PC118), PC119))","v":0},null,null,null,null,99,"",null,null,{"$f":"IF(PL120=\"\", 0, PL120 - IF(PL119=\"\", LOOKUP(2, 1/(PL$17:PL118<>\"\"), PL$17:PL118), PL119))","v":0},null,null,null,null,99,"",null,null,{"$f":"IF(PU120=\"\", 0, PU120 - IF(PU119=\"\", LOOKUP(2, 1/(PU$17:PU118<>\"\"), PU$17:PU118), PU119))","v":0},null,null,null,null,99,"",null,null,{"$f":"IF(QD120=\"\", 0, QD120 - IF(QD119=\"\", LOOKUP(2, 1/(QD$17:QD118<>\"\"), QD$17:QD118), QD119))","v":0}]
[null,null,null,98,"",null,null,{"$f":"IF(G121=\"\", 0, G121 - IF(G120=\"\", LOOKUP(2, 1/(G$17:G119<>\"\"), G$17:G119), G120))","v":0},null,null,null,null,98,"",null,null,{"$f":"IF(P121=\"\", 0, P121 - IF(P120=\"\", LOOKUP(2, 1/(P$17:P119<>\"\"), P$17:P119), P120))","v":0},null,null,null,null,98,"",null,null,{"$f":"IF(Y121=\"\", 0, Y121 - IF(Y120=\"\", LOOKUP(2, 1/(Y$17:Y119<>\"\"), Y$17:Y119), Y120))","v":0},null,null,null,null,98,"",null,null,{"$f":"IF(AH121=\"\", 0, AH121 - IF(AH120=\"\", LOOKUP(2, 1/(AH$17:AH119<>\"\"), AH$17:AH119), AH120))","v":0},null,null,null,null,98,"",null,null,{"$f":"IF(AQ121=\"\", 0, AQ121 - IF(AQ120=\"\", LOOKUP(2, 1/(AQ$17:AQ119<>\"\"), AQ$17:AQ119), AQ120))","v":0},null,null,null,null,98,"",null,null,{"$f":"IF(AZ121=\"\", 0, AZ121 - IF(AZ120=\"\", LOOKUP(2, 1/(AZ$17:AZ119<>\"\"), AZ$17:AZ119), AZ120))","v":0},null,null,null,null,98,"",null,null,{"$f":"IF(BI121=\"\", 0, BI121 - IF(BI120=\"\", LOOKUP(2, 1/(BI$17:BI119<>\"\"), BI$17:BI119), BI120))","v":0},null,null,null,null,98,"",null,null,{"$f":"IF(BR121=\"\", 0, BR121 - IF(BR120=\"\", LOOKUP(2, 1/(BR$17:BR119<>\"\"), BR$17:BR119), BR120))","v":0},null,null,null,null,98,"",null,null,{"$f":"IF(CA121=\"\", 0, CA121 - IF(CA120=\"\", LOOKUP(2, 1/(CA$17:CA119<>\"\"), CA$17:CA119), CA120))","v":0},null,null,null,null,98,"",null,null,{"$f":"IF(CJ121=\"\", 0, CJ121 - IF(CJ120=\"\", LOOKUP(2, 1/(CJ$17:CJ119<>\"\"), CJ$17:CJ119), CJ120))","v":0},null,null,null,null,98,"",null,null,{"$f":"IF(CS121=\"\", 0, CS121 - IF(CS120=\"\", LOOKUP(2, 1/(CS$17:CS119<>\"\"), CS$17:CS119), CS120))","v":0},null,null,null,null,98,"",null,null,{"$f":"IF(DB121=\"\", 0, DB121 - IF(DB120=\"\", LOOKUP(2, 1/(DB$17:DB119<>\"\"), DB$17:DB119), DB120))","v":0},null,null,null,null,98,"",null,null,{"$f":"IF(DK121=\"\", 0, DK121 - IF(DK120=\"\", LOOKUP(2, 1/(DK$17:DK119<>\"\"), DK$17:DK119), DK120))","v":0},null,null,null,null,98,"",null,null,{"$f":"IF(DT121=\"\", 0, DT121 - IF(DT120=\"\", LOOKUP(2, 1/(DT$17:DT119<>\"\"), DT$17:DT119), DT120))","v":0},null,null,null,null,98,"",null,null,{"$f":"IF(EC121=\"\", 0, EC121 - IF(EC120=\"\", LOOKUP(2, 1/(EC$17:EC119<>\"\"), EC$17:EC119), EC120))","v":0},null,null,null,null,98,"",null,null,{"$f":"IF(EL121=\"\", 0, EL121 - IF(EL120=\"\", LOOKUP(2, 1/(EL$17:EL119<>\"\"), EL$17:EL119), EL120))","v":0},null,null,null,null,98,"",null,null,{"$f":"IF(EU121=\"\", 0, EU121 - IF(EU120=\"\", LOOKUP(2, 1/(EU$17:EU119<>\"\"), EU$17:EU119), EU120))","v":0},null,null,null,null,98,"",null,null,{"$f":"IF(FD121=\"\", 0, FD121 - IF(FD120=\"\", LOOKUP(2, 1/(FD$17:FD119<>\"\"), FD$17:FD119), FD120))","v":0},null,null,null,null,98,"",null,null,{"$f":"IF(FM121=\"\", 0, FM121 - IF(FM120=\"\", LOOKUP(2, 1/(FM$17:FM119<>\"\"), FM$17:FM119), FM120))","v":0},null,null,null,null,98,"",null,null,{"$f":"IF(FV121=\"\", 0, FV121 - IF(FV120=\"\", LOOKUP(2, 1/(FV$17:FV119<>\"\"), FV$17:FV119), FV120))","v":0},null,null,null,null,98,"",null,null,{"$f":"IF(GE121=\"\", 0, GE121 - IF(GE120=\"\", LOOKUP(2, 1/(GE$17:GE119<>\"\"), GE$17:GE119), GE120))","v":0},null,null,null,null,98,"",null,null,{"$f":"IF(GN121=\"\", 0, GN121 - IF(GN120=\"\", LOOKUP(2, 1/(GN$17:GN119<>\"\"), GN$17:GN119), GN120))","v":0},null,null,null,null,98,"",null,null,{"$f":"IF(GW121=\"\", 0, GW121 - IF(GW120=\"\", LOOKUP(2, 1/(GW$17:GW119<>\"\"), GW$17:GW119), GW120))","v":0},null,null,null,null,98,"",null,null,{"$f":"IF(HF121=\"\", 0, HF121 - IF(HF120=\"\", LOOKUP(2, 1/(HF$17:HF119<>\"\"), HF$17:HF119), HF120))","v":0},null,null,null,null,98,"",null,null,{"$f":"IF(HO121=\"\", 0, HO121 - IF(HO120=\"\", LOOKUP(2, 1/(HO$17:HO119<>\"\"), HO$17:HO119), HO120))","v":0},null,null,null,null,98,"",null,null,{"$f":"IF(HX121=\"\", 0, HX121 - IF(HX120=\"\", LOOKUP(2, 1/(HX$17:HX119<>\"\"), HX$17:HX119), HX120))","v":0},null,null,null,null,98,"",null,null,{"$f":"IF(IG121=\"\", 0, IG121 - IF(IG120=\"\", LOOKUP(2, 1/(IG$17:IG119<>\"\"), IG$17:IG119), IG120))","v":0},null,null,null,null,98,"",null,null,{"$f":"IF(IP121=\"\", 0, IP121 - IF(IP120=\"\", LOOKUP(2, 1/(IP$17:IP119<>\"\"), IP$17:IP119), IP120))","v":0},null,null,null,null,98,"",null,null,{"$f":"IF(IY121=\"\", 0, IY121 - IF(IY120=\"\", LOOKUP(2, 1/(IY$17:IY119<>\"\"), IY$17:IY119), IY120))","v":0},null,null,null,null,98,"",null,null,{"$f":"IF(JH121=\"\", 0, JH121 - IF(JH120=\"\", LOOKUP(2, 1/(JH$17:JH119<>\"\"), JH$17:JH119), JH120))","v":0},null,null,null,null,98,"",null,null,{"$f":"IF(JQ121=\"\", 0, JQ121 - IF(JQ120=\"\", LOOKUP(2, 1/(JQ$17:JQ119<>\"\"), JQ$17:JQ119), JQ120))","v":0},null,null,null,null,98,"",null,null,{"$f":"IF(JZ121=\"\", 0, JZ121 - IF(JZ120=\"\", LOOKUP(2, 1/(JZ$17:JZ119<>\"\"), JZ$17:JZ119), JZ120))","v":0},null,null,null,null,98,"",null,null,{"$f":"IF(KI121=\"\", 0, KI121 - IF(KI120=\"\", LOOKUP(2, 1/(KI$17:KI119<>\"\"), KI$17:KI119), KI120))","v":0},null,null,null,null,98,"",null,null,{"$f":"IF(KR121=\"\", 0, KR121 - IF(KR120=\"\", LOOKUP(2, 1/(KR$17:KR119<>\"\"), KR$17:KR119), KR120))","v":0},null,null,null,null,98,"",null,null,{"$f":"IF(LA121=\"\", 0, LA121 - IF(LA120=\"\", LOOKUP(2, 1/(LA$17:LA119<>\"\"), LA$17:LA119), LA120))","v":0},null,null,null,null,98,"",null,null,{"$f":"IF(LJ121=\"\", 0, LJ121 - IF(LJ120=\"\", LOOKUP(2, 1/(LJ$17:LJ119<>\"\"), LJ$17:LJ119), LJ120))","v":0},null,null,null,null,98,"",null,null,{"$f":"IF(LS121=\"\", 0, LS121 - IF(LS120=\"\", LOOKUP(2, 1/(LS$17:LS119<>\"\"), LS$17:LS119), LS120))","v":0},null,null,null,null,98,"",null,null,{"$f":"IF(MB121=\"\", 0, MB121 - IF(MB120=\"\", LOOKUP(2, 1/(MB$17:MB119<>\"\"), MB$17:MB119), MB120))","v":0},null,null,null,null,98,"",null,null,{"$f":"IF(MK121=\"\", 0, MK121 - IF(MK120=\"\", LOOKUP(2, 1/(MK$17:MK119<>\"\"), MK$17:MK119), MK120))","v":0},null,null,null,null,98,"",null,null,{"$f":"IF(MT121=\"\", 0, MT121 - IF(MT120=\"\", LOOKUP(2, 1/(MT$17:MT119<>\"\"), MT$17:MT119), MT120))","v":0},null,null,98,"",null,null,{"$f":"IF(NA121=\"\", 0, NA121 - IF(NA120=\"\", LOOKUP(2, 1/(NA$17:NA119<>\"\"), NA$17:NA119), NA120))","v":0},null,null,null,null,98,"",null,null,{"$f":"IF(NJ121=\"\", 0, NJ121 - IF(NJ120=\"\", LOOKUP(2, 1/(NJ$17:NJ119<>\"\"), NJ$17:NJ119), NJ120))","v":0},null,null,null,null,98,"",null,null,{"$f":"IF(NS121=\"\", 0, NS121 - IF(NS120=\"\", LOOKUP(2, 1/(NS$17:NS119<>\"\"), NS$17:NS119), NS120))","v":0},null,null,null,null,98,"",null,null,{"$f":"IF(OB121=\"\", 0, OB121 - IF(OB120=\"\", LOOKUP(2, 1/(OB$17:OB119<>\"\"), OB$17:OB119), OB120))","v":0},null,null,null,null,98,"",null,null,{"$f":"IF(OK121=\"\", 0, OK121 - IF(OK120=\"\", LOOKUP(2, 1/(OK$17:OK119<>\"\"), OK$17:OK119), OK120))","v":0},null,null,null,null,98,"",null,null,{"$f":"IF(OT121=\"\", 0, OT121 - IF(OT120=\"\", LOOKUP(2, 1/(OT$17:OT119<>\"\"), OT$17:OT119), OT120))","v":0},null,null,null,null,98,"",null,null,{"$f":"IF(PC121=\"\", 0, PC121 - IF(PC120=\"\", LOOKUP(2, 1/(PC$17:PC119<>\"\"), PC$17:PC119), PC120))","v":0},null,null,null,null,98,"",null,null,{"$f":"IF(PL121=\"\", 0, PL121 - IF(PL120=\"\", LOOKUP(2, 1/(PL$17:PL119<>\"\"), PL$17:PL119), PL120))","v":0},null,null,null,null,98,"",null,null,{"$f":"IF(PU121=\"\", 0, PU121 - IF(PU120=\"\", LOOKUP(2, 1/(PU$17:PU119<>\"\"), PU$17:PU119), PU120))","v":0},null,null,null,null,98,"",null,null,{"$f":"IF(QD121=\"\", 0, QD121 - IF(QD120=\"\", LOOKUP(2, 1/(QD$17:QD119<>\"\"), QD$17:QD119), QD120))","v":0}]
[null,null,null,97,"",null,null,{"$f":"IF(G122=\"\", 0, G122 - IF(G121=\"\", LOOKUP(2, 1/(G$17:G120<>\"\"), G$17:G120), G121))","v":0},null,null,null,null,97,"",null,null,{"$f":"IF(P122=\"\", 0, P122 - IF(P121=\"\", LOOKUP(2, 1/(P$17:P120<>\"\"), P$17:P120), P121))","v":0},null,null,null,null,97,"",null,null,{"$f":"IF(Y122=\"\", 0, Y122 - IF(Y121=\"\", LOOKUP(2, 1/(Y$17:Y120<>\"\"), Y$17:Y120), Y121))","v":0},null,null,null,null,97,"",null,null,{"$f":"IF(AH122=\"\", 0, AH122 - IF(AH121=\"\", LOOKUP(2, 1/(AH$17:AH120<>\"\"), AH$17:AH120), AH121))","v":0},null,null,null,null,97,"",null,null,{"$f":"IF(AQ122=\"\", 0, AQ122 - IF(AQ121=\"\", LOOKUP(2, 1/(AQ$17:AQ120<>\"\"), AQ$17:AQ120), AQ121))","v":0},null,null,null,null,97,"",null,null,{"$f":"IF(AZ122=\"\", 0, AZ122 - IF(AZ121=\"\", LOOKUP(2, 1/(AZ$17:AZ120<>\"\"), AZ$17:AZ120), AZ121))","v":0},null,null,null,null,97,"",null,null,{"$f":"IF(BI122=\"\", 0, BI122 - IF(BI121=\"\", LOOKUP(2, 1/(BI$17:BI120<>\"\"), BI$17:BI120), BI121))","v":0},null,null,null,null,97,"",null,null,{"$f":"IF(BR122=\"\", 0, BR122 - IF(BR121=\"\", LOOKUP(2, 1/(BR$17:BR120<>\"\"), BR$17:BR120), BR121))","v":0},null,null,null,null,97,"",null,null,{"$f":"IF(CA122=\"\", 0, CA122 - IF(CA121=\"\", LOOKUP(2, 1/(CA$17:CA120<>\"\"), CA$17:CA120), CA121))","v":0},null,null,null,null,97,"",null,null,{"$f":"IF(CJ122=\"\", 0, CJ122 - IF(CJ121=\"\", LOOKUP(2, 1/(CJ$17:CJ120<>\"\"), CJ$17:CJ120), CJ121))","v":0},null,null,null,null,97,"",null,null,{"$f":"IF(CS122=\"\", 0, CS122 - IF(CS121=\"\", LOOKUP(2, 1/(CS$17:CS120<>\"\"), CS$17:CS120), CS121))","v":0},null,null,null,null,97,"",null,null,{"$f":"IF(DB122=\"\", 0, DB122 - IF(DB121=\"\", LOOKUP(2, 1/(DB$17:DB120<>\"\"), DB$17:DB120), DB121))","v":0},null,null,null,null,97,"",null,null,{"$f":"IF(DK122=\"\", 0, DK122 - IF(DK121=\"\", LOOKUP(2, 1/(DK$17:DK120<>\"\"), DK$17:DK120), DK121))","v":0},null,null,null,null,97,"",null,null,{"$f":"IF(DT122=\"\", 0, DT122 - IF(DT121=\"\", LOOKUP(2, 1/(DT$17:DT120<>\"\"), DT$17:DT120), DT121))","v":0},null,null,null,null,97,"",null,null,{"$f":"IF(EC122=\"\", 0, EC122 - IF(EC121=\"\", LOOKUP(2, 1/(EC$17:EC120<>\"\"), EC$17:EC120), EC121))","v":0},null,null,null,null,97,"",null,null,{"$f":"IF(EL122=\"\", 0, EL122 - IF(EL121=\"\", LOOKUP(2, 1/(EL$17:EL120<>\"\"), EL$17:EL120), EL121))","v":0},null,null,null,null,97,"",null,null,{"$f":"IF(EU122=\"\", 0, EU122 - IF(EU121=\"\", LOOKUP(2, 1/(EU$17:EU120<>\"\"), EU$17:EU120), EU121))","v":0},null,null,null,null,97,"",null,null,{"$f":"IF(FD122=\"\", 0, FD122 - IF(FD121=\"\", LOOKUP(2, 1/(FD$17:FD120<>\"\"), FD$17:FD120), FD121))","v":0},null,null,null,null,97,"",null,null,{"$f":"IF(FM122=\"\", 0, FM122 - IF(FM121=\"\", LOOKUP(2, 1/(FM$17:FM120<>\"\"), FM$17:FM120), FM121))","v":0},null,null,null,null,97,"",null,null,{"$f":"IF(FV122=\"\", 0, FV122 - IF(FV121=\"\", LOOKUP(2, 1/(FV$17:FV120<>\"\"), FV$17:FV120), FV121))","v":0},null,null,null,null,97,"",null,null,{"$f":"IF(GE122=\"\", 0, GE122 - IF(GE121=\"\", LOOKUP(2, 1/(GE$17:GE120<>\"\"), GE$17:GE120), GE121))","v":0},null,null,null,null,97,"",null,null,{"$f":"IF(GN122=\"\", 0, GN122 - IF(GN121=\"\", LOOKUP(2, 1/(GN$17:GN120<>\"\"), GN$17:GN120), GN121))","v":0},null,null,null,null,97,"",null,null,{"$f":"IF(GW122=\"\", 0, GW122 - IF(GW121=\"\", LOOKUP(2, 1/(GW$17:GW120<>\"\"), GW$17:GW120), GW121))","v":0},null,null,null,null,97,"",null,null,{"$f":"IF(HF122=\"\", 0, HF122 - IF(HF121=\"\", LOOKUP(2, 1/(HF$17:HF120<>\"\"), HF$17:HF120), HF121))","v":0},null,null,null,null,97,"",null,null,{"$f":"IF(HO122=\"\", 0, HO122 - IF(HO121=\"\", LOOKUP(2, 1/(HO$17:HO120<>\"\"), HO$17:HO120), HO121))","v":0},null,null,null,null,97,"",null,null,{"$f":"IF(HX122=\"\", 0, HX122 - IF(HX121=\"\", LOOKUP(2, 1/(HX$17:HX120<>\"\"), HX$17:HX120), HX121))","v":0},null,null,null,null,97,"",null,null,{"$f":"IF(IG122=\"\", 0, IG122 - IF(IG121=\"\", LOOKUP(2, 1/(IG$17:IG120<>\"\"), IG$17:IG120), IG121))","v":0},null,null,null,null,97,"",null,null,{"$f":"IF(IP122=\"\", 0, IP122 - IF(IP121=\"\", LOOKUP(2, 1/(IP$17:IP120<>\"\"), IP$17:IP120), IP121))","v":0},null,null,null,null,97,"",null,null,{"$f":"IF(IY122=\"\", 0, IY122 - IF(IY121=\"\", LOOKUP(2, 1/(IY$17:IY120<>\"\"), IY$17:IY120), IY121))","v":0},null,null,null,null,97,"",null,null,{"$f":"IF(JH122=\"\", 0, JH122 - IF(JH121=\"\", LOOKUP(2, 1/(JH$17:JH120<>\"\"), JH$17:JH120), JH121))","v":0},null,null,null,null,97,"",null,null,{"$f":"IF(JQ122=\"\", 0, JQ122 - IF(JQ121=\"\", LOOKUP(2, 1/(JQ$17:JQ120<>\"\"), JQ$17:JQ120), JQ121))","v":0},null,null,null,null,97,"",null,null,{"$f":"IF(JZ122=\"\", 0, JZ122 - IF(JZ121=\"\", LOOKUP(2, 1/(JZ$17:JZ120<>\"\"), JZ$17:JZ120), JZ121))","v":0},null,null,null,null,97,"",null,null,{"$f":"IF(KI122=\"\", 0, KI122 - IF(KI121=\"\", LOOKUP(2, 1/(KI$17:KI120<>\"\"), KI$17:KI120), KI121))","v":0},null,null,null,null,97,"",null,null,{"$f":"IF(KR122=\"\", 0, KR122 - IF(KR121=\"\", LOOKUP(2, 1/(KR$17:KR120<>\"\"), KR$17:KR120), KR121))","v":0},null,null,null,null,97,"",null,null,{"$f":"IF(LA122=\"\", 0, LA122 - IF(LA121=\"\", LOOKUP(2, 1/(LA$17:LA120<>\"\"), LA$17:LA120), LA121))","v":0},null,null,null,null,97,"",null,null,{"$f":"IF(LJ122=\"\", 0, LJ122 - IF(LJ121=\"\", LOOKUP(2, 1/(LJ$17:LJ120<>\"\"), LJ$17:LJ120), LJ121))","v":0},null,null,null,null,97,"",null,null,{"$f":"IF(LS122=\"\", 0, LS122 - IF(LS121=\"\", LOOKUP(2, 1/(LS$17:LS120<>\"\"), LS$17:LS120), LS121))","v":0},null,null,null,null,97,"",null,null,{"$f":"IF(MB122=\"\", 0, MB122 - IF(MB121=\"\", LOOKUP(2, 1/(MB$17:MB120<>\"\"), MB$17:MB120), MB121))","v":0},null,null,null,null,97,"",null,null,{"$f":"IF(MK122=\"\", 0, MK122 - IF(MK121=\"\", LOOKUP(2, 1/(MK$17:MK120<>\"\"), MK$17:MK120), MK121))","v":0},null,null,null,null,97,"",null,null,{"$f":"IF(MT122=\"\", 0, MT122 - IF(MT121=\"\", LOOKUP(2, 1/(MT$17:MT120<>\"\"), MT$17:MT120), MT121))","v":0},null,null,97,"",null,null,{"$f":"IF(NA122=\"\", 0, NA122 - IF(NA121=\"\", LOOKUP(2, 1/(NA$17:NA120<>\"\"), NA$17:NA120), NA121))","v":0},null,null,null,null,97,"",null,null,{"$f":"IF(NJ122=\"\", 0, NJ122 - IF(NJ121=\"\", LOOKUP(2, 1/(NJ$17:NJ120<>\"\"), NJ$17:NJ120), NJ121))","v":0},null,null,null,null,97,"",null,null,{"$f":"IF(NS122=\"\", 0, NS122 - IF(NS121=\"\", LOOKUP(2, 1/(NS$17:NS120<>\"\"), NS$17:NS120), NS121))","v":0},null,null,null,null,97,"",null,null,{"$f":"IF(OB122=\"\", 0, OB122 - IF(OB121=\"\", LOOKUP(2, 1/(OB$17:OB120<>\"\"), OB$17:OB120), OB121))","v":0},null,null,null,null,97,"",null,null,{"$f":"IF(OK122=\"\", 0, OK122 - IF(OK121=\"\", LOOKUP(2, 1/(OK$17:OK120<>\"\"), OK$17:OK120), OK121))","v":0},null,null,null,null,97,"",null,null,{"$f":"IF(OT122=\"\", 0, OT122 - IF(OT121=\"\", LOOKUP(2, 1/(OT$17:OT120<>\"\"), OT$17:OT120), OT121))","v":0},null,null,null,null,97,"",null,null,{"$f":"IF(PC122=\"\", 0, PC122 - IF(PC121=\"\", LOOKUP(2, 1/(PC$17:PC120<>\"\"), PC$17:PC120), PC121))","v":0},null,null,null,null,97,"",null,null,{"$f":"IF(PL122=\"\", 0, PL122 - IF(PL121=\"\", LOOKUP(2, 1/(PL$17:PL120<>\"\"), PL$17:PL120), PL121))","v":0},null,null,null,null,97,"",null,null,{"$f":"IF(PU122=\"\", 0, PU122 - IF(PU121=\"\", LOOKUP(2, 1/(PU$17:PU120<>\"\"), PU$17:PU120), PU121))","v":0},null,null,null,null,97,"",null,null,{"$f":"IF(QD122=\"\", 0, QD122 - IF(QD121=\"\", LOOKUP(2, 1/(QD$17:QD120<>\"\"), QD$17:QD120), QD121))","v":0}]
[null,null,null,96,"",null,null,{"$f":"IF(G123=\"\", 0, G123 - IF(G122=\"\", LOOKUP(2, 1/(G$17:G121<>\"\"), G$17:G121), G122))","v":0},null,null,null,null,96,"",null,null,{"$f":"IF(P123=\"\", 0, P123 - IF(P122=\"\", LOOKUP(2, 1/(P$17:P121<>\"\"), P$17:P121), P122))","v":0},null,null,null,null,96,"",null,null,{"$f":"IF(Y123=\"\", 0, Y123 - IF(Y122=\"\", LOOKUP(2, 1/(Y$17:Y121<>\"\"), Y$17:Y121), Y122))","v":0},null,null,null,null,96,"",null,null,{"$f":"IF(AH123=\"\", 0, AH123 - IF(AH122=\"\", LOOKUP(2, 1/(AH$17:AH121<>\"\"), AH$17:AH121), AH122))","v":0},null,null,null,null,96,"",null,null,{"$f":"IF(AQ123=\"\", 0, AQ123 - IF(AQ122=\"\", LOOKUP(2, 1/(AQ$17:AQ121<>\"\"), AQ$17:AQ121), AQ122))","v":0},null,null,null,null,96,"",null,null,{"$f":"IF(AZ123=\"\", 0, AZ123 - IF(AZ122=\"\", LOOKUP(2, 1/(AZ$17:AZ121<>\"\"), AZ$17:AZ121), AZ122))","v":0},null,null,null,null,96,"",null,null,{"$f":"IF(BI123=\"\", 0, BI123 - IF(BI122=\"\", LOOKUP(2, 1/(BI$17:BI121<>\"\"), BI$17:BI121), BI122))","v":0},null,null,null,null,96,"",null,null,{"$f":"IF(BR123=\"\", 0, BR123 - IF(BR122=\"\", LOOKUP(2, 1/(BR$17:BR121<>\"\"), BR$17:BR121), BR122))","v":0},null,null,null,null,96,"",null,null,{"$f":"IF(CA123=\"\", 0, CA123 - IF(CA122=\"\", LOOKUP(2, 1/(CA$17:CA121<>\"\"), CA$17:CA121), CA122))","v":0},null,null,null,null,96,"",null,null,{"$f":"IF(CJ123=\"\", 0, CJ123 - IF(CJ122=\"\", LOOKUP(2, 1/(CJ$17:CJ121<>\"\"), CJ$17:CJ121), CJ122))","v":0},null,null,null,null,96,"",null,null,{"$f":"IF(CS123=\"\", 0, CS123 - IF(CS122=\"\", LOOKUP(2, 1/(CS$17:CS121<>\"\"), CS$17:CS121), CS122))","v":0},null,null,null,null,96,"",null,null,{"$f":"IF(DB123=\"\", 0, DB123 - IF(DB122=\"\", LOOKUP(2, 1/(DB$17:DB121<>\"\"), DB$17:DB121), DB122))","v":0},null,null,null,null,96,"",null,null,{"$f":"IF(DK123=\"\", 0, DK123 - IF(DK122=\"\", LOOKUP(2, 1/(DK$17:DK121<>\"\"), DK$17:DK121), DK122))","v":0},null,null,null,null,96,"",null,null,{"$f":"IF(DT123=\"\", 0, DT123 - IF(DT122=\"\", LOOKUP(2, 1/(DT$17:DT121<>\"\"), DT$17:DT121), DT122))","v":0},null,null,null,null,96,"",null,null,{"$f":"IF(EC123=\"\", 0, EC123 - IF(EC122=\"\", LOOKUP(2, 1/(EC$17:EC121<>\"\"), EC$17:EC121), EC122))","v":0},null,null,null,null,96,"",null,null,{"$f":"IF(EL123=\"\", 0, EL123 - IF(EL122=\"\", LOOKUP(2, 1/(EL$17:EL121<>\"\"), EL$17:EL121), EL122))","v":0},null,null,null,null,96,"",null,null,{"$f":"IF(EU123=\"\", 0, EU123 - IF(EU122=\"\", LOOKUP(2, 1/(EU$17:EU121<>\"\"), EU$17:EU121), EU122))","v":0},null,null,null,null,96,"",null,null,{"$f":"IF(FD123=\"\", 0, FD123 - IF(FD122=\"\", LOOKUP(2, 1/(FD$17:FD121<>\"\"), FD$17:FD121), FD122))","v":0},null,null,null,null,96,"",null,null,{"$f":"IF(FM123=\"\", 0, FM123 - IF(FM122=\"\", LOOKUP(2, 1/(FM$17:FM121<>\"\"), FM$17:FM121), FM122))","v":0},null,null,null,null,96,"",null,null,{"$f":"IF(FV123=\"\", 0, FV123 - IF(FV122=\"\", LOOKUP(2, 1/(FV$17:FV121<>\"\"), FV$17:FV121), FV122))","v":0},null,null,null,null,96,"",null,null,{"$f":"IF(GE123=\"\", 0, GE123 - IF(GE122=\"\", LOOKUP(2, 1/(GE$17:GE121<>\"\"), GE$17:GE121), GE122))","v":0},null,null,null,null,96,"",null,null,{"$f":"IF(GN123=\"\", 0, GN123 - IF(GN122=\"\", LOOKUP(2, 1/(GN$17:GN121<>\"\"), GN$17:GN121), GN122))","v":0},null,null,null,null,96,"",null,null,{"$f":"IF(GW123=\"\", 0, GW123 - IF(GW122=\"\", LOOKUP(2, 1/(GW$17:GW121<>\"\"), GW$17:GW121), GW122))","v":0},null,null,null,null,96,"",null,null,{"$f":"IF(HF123=\"\", 0, HF123 - IF(HF122=\"\", LOOKUP(2, 1/(HF$17:HF121<>\"\"), HF$17:HF121), HF122))","v":0},null,null,null,null,96,"",null,null,{"$f":"IF(HO123=\"\", 0, HO123 - IF(HO122=\"\", LOOKUP(2, 1/(HO$17:HO121<>\"\"), HO$17:HO121), HO122))","v":0},null,null,null,null,96,"",null,null,{"$f":"IF(HX123=\"\", 0, HX123 - IF(HX122=\"\", LOOKUP(2, 1/(HX$17:HX121<>\"\"), HX$17:HX121), HX122))","v":0},null,null,null,null,96,"",null,null,{"$f":"IF(IG123=\"\", 0, IG123 - IF(IG122=\"\", LOOKUP(2, 1/(IG$17:IG121<>\"\"), IG$17:IG121), IG122))","v":0},null,null,null,null,96,"",null,null,{"$f":"IF(IP123=\"\", 0, IP123 - IF(IP122=\"\", LOOKUP(2, 1/(IP$17:IP121<>\"\"), IP$17:IP121), IP122))","v":0},null,null,null,null,96,"",null,null,{"$f":"IF(IY123=\"\", 0, IY123 - IF(IY122=\"\", LOOKUP(2, 1/(IY$17:IY121<>\"\"), IY$17:IY121), IY122))","v":0},null,null,null,null,96,"",null,null,{"$f":"IF(JH123=\"\", 0, JH123 - IF(JH122=\"\", LOOKUP(2, 1/(JH$17:JH121<>\"\"), JH$17:JH121), JH122))","v":0},null,null,null,null,96,"",null,null,{"$f":"IF(JQ123=\"\", 0, JQ123 - IF(JQ122=\"\", LOOKUP(2, 1/(JQ$17:JQ121<>\"\"), JQ$17:JQ121), JQ122))","v":0},null,null,null,null,96,"",null,null,{"$f":"IF(JZ123=\"\", 0, JZ123 - IF(JZ122=\"\", LOOKUP(2, 1/(JZ$17:JZ121<>\"\"), JZ$17:JZ121), JZ122))","v":0},null,null,null,null,96,"",null,null,{"$f":"IF(KI123=\"\", 0, KI123 - IF(KI122=\"\", LOOKUP(2, 1/(KI$17:KI121<>\"\"), KI$17:KI121), KI122))","v":0},null,null,null,null,96,"",null,null,{"$f":"IF(KR123=\"\", 0, KR123 - IF(KR122=\"\", LOOKUP(2, 1/(KR$17:KR121<>\"\"), KR$17:KR121), KR122))","v":0},null,null,null,null,96,"",null,null,{"$f":"IF(LA123=\"\", 0, LA123 - IF(LA122=\"\", LOOKUP(2, 1/(LA$17:LA121<>\"\"), LA$17:LA121), LA122))","v":0},null,null,null,null,96,"",null,null,{"$f":"IF(LJ123=\"\", 0, LJ123 - IF(LJ122=\"\", LOOKUP(2, 1/(LJ$17:LJ121<>\"\"), LJ$17:LJ121), LJ122))","v":0},null,null,null,null,96,"",null,null,{"$f":"IF(LS123=\"\", 0, LS123 - IF(LS122=\"\", LOOKUP(2, 1/(LS$17:LS121<>\"\"), LS$17:LS121), LS122))","v":0},null,null,null,null,96,"",null,null,{"$f":"IF(MB123=\"\", 0, MB123 - IF(MB122=\"\", LOOKUP(2, 1/(MB$17:MB121<>\"\"), MB$17:MB121), MB122))","v":0},null,null,null,null,96,"",null,null,{"$f":"IF(MK123=\"\", 0, MK123 - IF(MK122=\"\", LOOKUP(2, 1/(MK$17:MK121<>\"\"), MK$17:MK121), MK122))","v":0},null,null,null,null,96,"",null,null,{"$f":"IF(MT123=\"\", 0, MT123 - IF(MT122=\"\", LOOKUP(2, 1/(MT$17:MT121<>\"\"), MT$17:MT121), MT122))","v":0},null,null,96,"",null,null,{"$f":"IF(NA123=\"\", 0, NA123 - IF(NA122=\"\", LOOKUP(2, 1/(NA$17:NA121<>\"\"), NA$17:NA121), NA122))","v":0},null,null,null,null,96,"",null,null,{"$f":"IF(NJ123=\"\", 0, NJ123 - IF(NJ122=\"\", LOOKUP(2, 1/(NJ$17:NJ121<>\"\"), NJ$17:NJ121), NJ122))","v":0},null,null,null,null,96,"",null,null,{"$f":"IF(NS123=\"\", 0, NS123 - IF(NS122=\"\", LOOKUP(2, 1/(NS$17:NS121<>\"\"), NS$17:NS121), NS122))","v":0},null,null,null,null,96,"",null,null,{"$f":"IF(OB123=\"\", 0, OB123 - IF(OB122=\"\", LOOKUP(2, 1/(OB$17:OB121<>\"\"), OB$17:OB121), OB122))","v":0},null,null,null,null,96,"",null,null,{"$f":"IF(OK123=\"\", 0, OK123 - IF(OK122=\"\", LOOKUP(2, 1/(OK$17:OK121<>\"\"), OK$17:OK121), OK122))","v":0},null,null,null,null,96,"",null,null,{"$f":"IF(OT123=\"\", 0, OT123 - IF(OT122=\"\", LOOKUP(2, 1/(OT$17:OT121<>\"\"), OT$17:OT121), OT122))","v":0},null,null,null,null,96,"",null,null,{"$f":"IF(PC123=\"\", 0, PC123 - IF(PC122=\"\", LOOKUP(2, 1/(PC$17:PC121<>\"\"), PC$17:PC121), PC122))","v":0},null,null,null,null,96,"",null,null,{"$f":"IF(PL123=\"\", 0, PL123 - IF(PL122=\"\", LOOKUP(2, 1/(PL$17:PL121<>\"\"), PL$17:PL121), PL122))","v":0},null,null,null,null,96,"",null,null,{"$f":"IF(PU123=\"\", 0, PU123 - IF(PU122=\"\", LOOKUP(2, 1/(PU$17:PU121<>\"\"), PU$17:PU121), PU122))","v":0},null,null,null,null,96,"",null,null,{"$f":"IF(QD123=\"\", 0, QD123 - IF(QD122=\"\", LOOKUP(2, 1/(QD$17:QD121<>\"\"), QD$17:QD121), QD122))","v":0}]
[null,null,null,95,"",null,null,{"$f":"IF(G124=\"\", 0, G124 - IF(G123=\"\", LOOKUP(2, 1/(G$17:G122<>\"\"), G$17:G122), G123))","v":0},null,null,null,null,95,"",null,null,{"$f":"IF(P124=\"\", 0, P124 - IF(P123=\"\", LOOKUP(2, 1/(P$17:P122<>\"\"), P$17:P122), P123))","v":0},null,null,null,null,95,"",null,null,{"$f":"IF(Y124=\"\", 0, Y124 - IF(Y123=\"\", LOOKUP(2, 1/(Y$17:Y122<>\"\"), Y$17:Y122), Y123))","v":0},null,null,null,null,95,"",null,null,{"$f":"IF(AH124=\"\", 0, AH124 - IF(AH123=\"\", LOOKUP(2, 1/(AH$17:AH122<>\"\"), AH$17:AH122), AH123))","v":0},null,null,null,null,95,"",null,null,{"$f":"IF(AQ124=\"\", 0, AQ124 - IF(AQ123=\"\", LOOKUP(2, 1/(AQ$17:AQ122<>\"\"), AQ$17:AQ122), AQ123))","v":0},null,null,null,null,95,"",null,null,{"$f":"IF(AZ124=\"\", 0, AZ124 - IF(AZ123=\"\", LOOKUP(2, 1/(AZ$17:AZ122<>\"\"), AZ$17:AZ122), AZ123))","v":0},null,null,null,null,95,"",null,null,{"$f":"IF(BI124=\"\", 0, BI124 - IF(BI123=\"\", LOOKUP(2, 1/(BI$17:BI122<>\"\"), BI$17:BI122), BI123))","v":0},null,null,null,null,95,"",null,null,{"$f":"IF(BR124=\"\", 0, BR124 - IF(BR123=\"\", LOOKUP(2, 1/(BR$17:BR122<>\"\"), BR$17:BR122), BR123))","v":0},null,null,null,null,95,"",null,null,{"$f":"IF(CA124=\"\", 0, CA124 - IF(CA123=\"\", LOOKUP(2, 1/(CA$17:CA122<>\"\"), CA$17:CA122), CA123))","v":0},null,null,null,null,95,"",null,null,{"$f":"IF(CJ124=\"\", 0, CJ124 - IF(CJ123=\"\", LOOKUP(2, 1/(CJ$17:CJ122<>\"\"), CJ$17:CJ122), CJ123))","v":0},null,null,null,null,95,"",null,null,{"$f":"IF(CS124=\"\", 0, CS124 - IF(CS123=\"\", LOOKUP(2, 1/(CS$17:CS122<>\"\"), CS$17:CS122), CS123))","v":0},null,null,null,null,95,"",null,null,{"$f":"IF(DB124=\"\", 0, DB124 - IF(DB123=\"\", LOOKUP(2, 1/(DB$17:DB122<>\"\"), DB$17:DB122), DB123))","v":0},null,null,null,null,95,"",null,null,{"$f":"IF(DK124=\"\", 0, DK124 - IF(DK123=\"\", LOOKUP(2, 1/(DK$17:DK122<>\"\"), DK$17:DK122), DK123))","v":0},null,null,null,null,95,"",null,null,{"$f":"IF(DT124=\"\", 0, DT124 - IF(DT123=\"\", LOOKUP(2, 1/(DT$17:DT122<>\"\"), DT$17:DT122), DT123))","v":0},null,null,null,null,95,"",null,null,{"$f":"IF(EC124=\"\", 0, EC124 - IF(EC123=\"\", LOOKUP(2, 1/(EC$17:EC122<>\"\"), EC$17:EC122), EC123))","v":0},null,null,null,null,95,"",null,null,{"$f":"IF(EL124=\"\", 0, EL124 - IF(EL123=\"\", LOOKUP(2, 1/(EL$17:EL122<>\"\"), EL$17:EL122), EL123))","v":0},null,null,null,null,95,"",null,null,{"$f":"IF(EU124=\"\", 0, EU124 - IF(EU123=\"\", LOOKUP(2, 1/(EU$17:EU122<>\"\"), EU$17:EU122), EU123))","v":0},null,null,null,null,95,"",null,null,{"$f":"IF(FD124=\"\", 0, FD124 - IF(FD123=\"\", LOOKUP(2, 1/(FD$17:FD122<>\"\"), FD$17:FD122), FD123))","v":0},null,null,null,null,95,"",null,null,{"$f":"IF(FM124=\"\", 0, FM124 - IF(FM123=\"\", LOOKUP(2, 1/(FM$17:FM122<>\"\"), FM$17:FM122), FM123))","v":0},null,null,null,null,95,"",null,null,{"$f":"IF(FV124=\"\", 0, FV124 - IF(FV123=\"\", LOOKUP(2, 1/(FV$17:FV122<>\"\"), FV$17:FV122), FV123))","v":0},null,null,null,null,95,"",null,null,{"$f":"IF(GE124=\"\", 0, GE124 - IF(GE123=\"\", LOOKUP(2, 1/(GE$17:GE122<>\"\"), GE$17:GE122), GE123))","v":0},null,null,null,null,95,"",null,null,{"$f":"IF(GN124=\"\", 0, GN124 - IF(GN123=\"\", LOOKUP(2, 1/(GN$17:GN122<>\"\"), GN$17:GN122), GN123))","v":0},null,null,null,null,95,"",null,null,{"$f":"IF(GW124=\"\", 0, GW124 - IF(GW123=\"\", LOOKUP(2, 1/(GW$17:GW122<>\"\"), GW$17:GW122), GW123))","v":0},null,null,null,null,95,"",null,null,{"$f":"IF(HF124=\"\", 0, HF124 - IF(HF123=\"\", LOOKUP(2, 1/(HF$17:HF122<>\"\"), HF$17:HF122), HF123))","v":0},null,null,null,null,95,"",null,null,{"$f":"IF(HO124=\"\", 0, HO124 - IF(HO123=\"\", LOOKUP(2, 1/(HO$17:HO122<>\"\"), HO$17:HO122), HO123))","v":0},null,null,null,null,95,"",null,null,{"$f":"IF(HX124=\"\", 0, HX124 - IF(HX123=\"\", LOOKUP(2, 1/(HX$17:HX122<>\"\"), HX$17:HX122), HX123))","v":0},null,null,null,null,95,"",null,null,{"$f":"IF(IG124=\"\", 0, IG124 - IF(IG123=\"\", LOOKUP(2, 1/(IG$17:IG122<>\"\"), IG$17:IG122), IG123))","v":0},null,null,null,null,95,"",null,null,{"$f":"IF(IP124=\"\", 0, IP124 - IF(IP123=\"\", LOOKUP(2, 1/(IP$17:IP122<>\"\"), IP$17:IP122), IP123))","v":0},null,null,null,null,95,"",null,null,{"$f":"IF(IY124=\"\", 0, IY124 - IF(IY123=\"\", LOOKUP(2, 1/(IY$17:IY122<>\"\"), IY$17:IY122), IY123))","v":0},null,null,null,null,95,"",null,null,{"$f":"IF(JH124=\"\", 0, JH124 - IF(JH123=\"\", LOOKUP(2, 1/(JH$17:JH122<>\"\"), JH$17:JH122), JH123))","v":0},null,null,null,null,95,"",null,null,{"$f":"IF(JQ124=\"\", 0, JQ124 - IF(JQ123=\"\", LOOKUP(2, 1/(JQ$17:JQ122<>\"\"), JQ$17:JQ122), JQ123))","v":0},null,null,null,null,95,"",null,null,{"$f":"IF(JZ124=\"\", 0, JZ124 - IF(JZ123=\"\", LOOKUP(2, 1/(JZ$17:JZ122<>\"\"), JZ$17:JZ122), JZ123))","v":0},null,null,null,null,95,"",null,null,{"$f":"IF(KI124=\"\", 0, KI124 - IF(KI123=\"\", LOOKUP(2, 1/(KI$17:KI122<>\"\"), KI$17:KI122), KI123))","v":0},null,null,null,null,95,"",null,null,{"$f":"IF(KR124=\"\", 0, KR124 - IF(KR123=\"\", LOOKUP(2, 1/(KR$17:KR122<>\"\"), KR$17:KR122), KR123))","v":0},null,null,null,null,95,"",null,null,{"$f":"IF(LA124=\"\", 0, LA124 - IF(LA123=\"\", LOOKUP(2, 1/(LA$17:LA122<>\"\"), LA$17:LA122), LA123))","v":0},null,null,null,null,95,"",null,null,{"$f":"IF(LJ124=\"\", 0, LJ124 - IF(LJ123=\"\", LOOKUP(2, 1/(LJ$17:LJ122<>\"\"), LJ$17:LJ122), LJ123))","v":0},null,null,null,null,95,"",null,null,{"$f":"IF(LS124=\"\", 0, LS124 - IF(LS123=\"\", LOOKUP(2, 1/(LS$17:LS122<>\"\"), LS$17:LS122), LS123))","v":0},null,null,null,null,95,"",null,null,{"$f":"IF(MB124=\"\", 0, MB124 - IF(MB123=\"\", LOOKUP(2, 1/(MB$17:MB122<>\"\"), MB$17:MB122), MB123))","v":0},null,null,null,null,95,"",null,null,{"$f":"IF(MK124=\"\", 0, MK124 - IF(MK123=\"\", LOOKUP(2, 1/(MK$17:MK122<>\"\"), MK$17:MK122), MK123))","v":0},null,null,null,null,95,"",null,null,{"$f":"IF(MT124=\"\", 0, MT124 - IF(MT123=\"\", LOOKUP(2, 1/(MT$17:MT122<>\"\"), MT$17:MT122), MT123))","v":0},null,null,95,"",null,null,{"$f":"IF(NA124=\"\", 0, NA124 - IF(NA123=\"\", LOOKUP(2, 1/(NA$17:NA122<>\"\"), NA$17:NA122), NA123))","v":0},null,null,null,null,95,"",null,null,{"$f":"IF(NJ124=\"\", 0, NJ124 - IF(NJ123=\"\", LOOKUP(2, 1/(NJ$17:NJ122<>\"\"), NJ$17:NJ122), NJ123))","v":0},null,null,null,null,95,"",null,null,{"$f":"IF(NS124=\"\", 0, NS124 - IF(NS123=\"\", LOOKUP(2, 1/(NS$17:NS122<>\"\"), NS$17:NS122), NS123))","v":0},null,null,null,null,95,"",null,null,{"$f":"IF(OB124=\"\", 0, OB124 - IF(OB123=\"\", LOOKUP(2, 1/(OB$17:OB122<>\"\"), OB$17:OB122), OB123))","v":0},null,null,null,null,95,"",null,null,{"$f":"IF(OK124=\"\", 0, OK124 - IF(OK123=\"\", LOOKUP(2, 1/(OK$17:OK122<>\"\"), OK$17:OK122), OK123))","v":0},null,null,null,null,95,"",null,null,{"$f":"IF(OT124=\"\", 0, OT124 - IF(OT123=\"\", LOOKUP(2, 1/(OT$17:OT122<>\"\"), OT$17:OT122), OT123))","v":0},null,null,null,null,95,"",null,null,{"$f":"IF(PC124=\"\", 0, PC124 - IF(PC123=\"\", LOOKUP(2, 1/(PC$17:PC122<>\"\"), PC$17:PC122), PC123))","v":0},null,null,null,null,95,"",null,null,{"$f":"IF(PL124=\"\", 0, PL124 - IF(PL123=\"\", LOOKUP(2, 1/(PL$17:PL122<>\"\"), PL$17:PL122), PL123))","v":0},null,null,null,null,95,"",null,null,{"$f":"IF(PU124=\"\", 0, PU124 - IF(PU123=\"\", LOOKUP(2, 1/(PU$17:PU122<>\"\"), PU$17:PU122), PU123))","v":0},null,null,null,null,95,"",null,null,{"$f":"IF(QD124=\"\", 0, QD124 - IF(QD123=\"\", LOOKUP(2, 1/(QD$17:QD122<>\"\"), QD$17:QD122), QD123))","v":0}]
[null,null,null,94,"",null,null,{"$f":"IF(G125=\"\", 0, G125 - IF(G124=\"\", LOOKUP(2, 1/(G$17:G123<>\"\"), G$17:G123), G124))","v":0},null,null,null,null,94,"",null,null,{"$f":"IF(P125=\"\", 0, P125 - IF(P124=\"\", LOOKUP(2, 1/(P$17:P123<>\"\"), P$17:P123), P124))","v":0},null,null,null,null,94,"",null,null,{"$f":"IF(Y125=\"\", 0, Y125 - IF(Y124=\"\", LOOKUP(2, 1/(Y$17:Y123<>\"\"), Y$17:Y123), Y124))","v":0},null,null,null,null,94,"",null,null,{"$f":"IF(AH125=\"\", 0, AH125 - IF(AH124=\"\", LOOKUP(2, 1/(AH$17:AH123<>\"\"), AH$17:AH123), AH124))","v":0},null,null,null,null,94,"",null,null,{"$f":"IF(AQ125=\"\", 0, AQ125 - IF(AQ124=\"\", LOOKUP(2, 1/(AQ$17:AQ123<>\"\"), AQ$17:AQ123), AQ124))","v":0},null,null,null,null,94,"",null,null,{"$f":"IF(AZ125=\"\", 0, AZ125 - IF(AZ124=\"\", LOOKUP(2, 1/(AZ$17:AZ123<>\"\"), AZ$17:AZ123), AZ124))","v":0},null,null,null,null,94,"",null,null,{"$f":"IF(BI125=\"\", 0, BI125 - IF(BI124=\"\", LOOKUP(2, 1/(BI$17:BI123<>\"\"), BI$17:BI123), BI124))","v":0},null,null,null,null,94,"",null,null,{"$f":"IF(BR125=\"\", 0, BR125 - IF(BR124=\"\", LOOKUP(2, 1/(BR$17:BR123<>\"\"), BR$17:BR123), BR124))","v":0},null,null,null,null,94,"",null,null,{"$f":"IF(CA125=\"\", 0, CA125 - IF(CA124=\"\", LOOKUP(2, 1/(CA$17:CA123<>\"\"), CA$17:CA123), CA124))","v":0},null,null,null,null,94,"",null,null,{"$f":"IF(CJ125=\"\", 0, CJ125 - IF(CJ124=\"\", LOOKUP(2, 1/(CJ$17:CJ123<>\"\"), CJ$17:CJ123), CJ124))","v":0},null,null,null,null,94,"",null,null,{"$f":"IF(CS125=\"\", 0, CS125 - IF(CS124=\"\", LOOKUP(2, 1/(CS$17:CS123<>\"\"), CS$17:CS123), CS124))","v":0},null,null,null,null,94,"",null,null,{"$f":"IF(DB125=\"\", 0, DB125 - IF(DB124=\"\", LOOKUP(2, 1/(DB$17:DB123<>\"\"), DB$17:DB123), DB124))","v":0},null,null,null,null,94,"",null,null,{"$f":"IF(DK125=\"\", 0, DK125 - IF(DK124=\"\", LOOKUP(2, 1/(DK$17:DK123<>\"\"), DK$17:DK123), DK124))","v":0},null,null,null,null,94,"",null,null,{"$f":"IF(DT125=\"\", 0, DT125 - IF(DT124=\"\", LOOKUP(2, 1/(DT$17:DT123<>\"\"), DT$17:DT123), DT124))","v":0},null,null,null,null,94,"",null,null,{"$f":"IF(EC125=\"\", 0, EC125 - IF(EC124=\"\", LOOKUP(2, 1/(EC$17:EC123<>\"\"), EC$17:EC123), EC124))","v":0},null,null,null,null,94,"",null,null,{"$f":"IF(EL125=\"\", 0, EL125 - IF(EL124=\"\", LOOKUP(2, 1/(EL$17:EL123<>\"\"), EL$17:EL123), EL124))","v":0},null,null,null,null,94,"",null,null,{"$f":"IF(EU125=\"\", 0, EU125 - IF(EU124=\"\", LOOKUP(2, 1/(EU$17:EU123<>\"\"), EU$17:EU123), EU124))","v":0},null,null,null,null,94,"",null,null,{"$f":"IF(FD125=\"\", 0, FD125 - IF(FD124=\"\", LOOKUP(2, 1/(FD$17:FD123<>\"\"), FD$17:FD123), FD124))","v":0},null,null,null,null,94,"",null,null,{"$f":"IF(FM125=\"\", 0, FM125 - IF(FM124=\"\", LOOKUP(2, 1/(FM$17:FM123<>\"\"), FM$17:FM123), FM124))","v":0},null,null,null,null,94,"",null,null,{"$f":"IF(FV125=\"\", 0, FV125 - IF(FV124=\"\", LOOKUP(2, 1/(FV$17:FV123<>\"\"), FV$17:FV123), FV124))","v":0},null,null,null,null,94,"",null,null,{"$f":"IF(GE125=\"\", 0, GE125 - IF(GE124=\"\", LOOKUP(2, 1/(GE$17:GE123<>\"\"), GE$17:GE123), GE124))","v":0},null,null,null,null,94,"",null,null,{"$f":"IF(GN125=\"\", 0, GN125 - IF(GN124=\"\", LOOKUP(2, 1/(GN$17:GN123<>\"\"), GN$17:GN123), GN124))","v":0},null,null,null,null,94,"",null,null,{"$f":"IF(GW125=\"\", 0, GW125 - IF(GW124=\"\", LOOKUP(2, 1/(GW$17:GW123<>\"\"), GW$17:GW123), GW124))","v":0},null,null,null,null,94,"",null,null,{"$f":"IF(HF125=\"\", 0, HF125 - IF(HF124=\"\", LOOKUP(2, 1/(HF$17:HF123<>\"\"), HF$17:HF123), HF124))","v":0},null,null,null,null,94,"",null,null,{"$f":"IF(HO125=\"\", 0, HO125 - IF(HO124=\"\", LOOKUP(2, 1/(HO$17:HO123<>\"\"), HO$17:HO123), HO124))","v":0},null,null,null,null,94,"",null,null,{"$f":"IF(HX125=\"\", 0, HX125 - IF(HX124=\"\", LOOKUP(2, 1/(HX$17:HX123<>\"\"), HX$17:HX123), HX124))","v":0},null,null,null,null,94,"",null,null,{"$f":"IF(IG125=\"\", 0, IG125 - IF(IG124=\"\", LOOKUP(2, 1/(IG$17:IG123<>\"\"), IG$17:IG123), IG124))","v":0},null,null,null,null,94,"",null,null,{"$f":"IF(IP125=\"\", 0, IP125 - IF(IP124=\"\", LOOKUP(2, 1/(IP$17:IP123<>\"\"), IP$17:IP123), IP124))","v":0},null,null,null,null,94,"",null,null,{"$f":"IF(IY125=\"\", 0, IY125 - IF(IY124=\"\", LOOKUP(2, 1/(IY$17:IY123<>\"\"), IY$17:IY123), IY124))","v":0},null,null,null,null,94,"",null,null,{"$f":"IF(JH125=\"\", 0, JH125 - IF(JH124=\"\", LOOKUP(2, 1/(JH$17:JH123<>\"\"), JH$17:JH123), JH124))","v":0},null,null,null,null,94,"",null,null,{"$f":"IF(JQ125=\"\", 0, JQ125 - IF(JQ124=\"\", LOOKUP(2, 1/(JQ$17:JQ123<>\"\"), JQ$17:JQ123), JQ124))","v":0},null,null,null,null,94,"",null,null,{"$f":"IF(JZ125=\"\", 0, JZ125 - IF(JZ124=\"\", LOOKUP(2, 1/(JZ$17:JZ123<>\"\"), JZ$17:JZ123), JZ124))","v":0},null,null,null,null,94,"",null,null,{"$f":"IF(KI125=\"\", 0, KI125 - IF(KI124=\"\", LOOKUP(2, 1/(KI$17:KI123<>\"\"), KI$17:KI123), KI124))","v":0},null,null,null,null,94,"",null,null,{"$f":"IF(KR125=\"\", 0, KR125 - IF(KR124=\"\", LOOKUP(2, 1/(KR$17:KR123<>\"\"), KR$17:KR123), KR124))","v":0},null,null,null,null,94,"",null,null,{"$f":"IF(LA125=\"\", 0, LA125 - IF(LA124=\"\", LOOKUP(2, 1/(LA$17:LA123<>\"\"), LA$17:LA123), LA124))","v":0},null,null,null,null,94,"",null,null,{"$f":"IF(LJ125=\"\", 0, LJ125 - IF(LJ124=\"\", LOOKUP(2, 1/(LJ$17:LJ123<>\"\"), LJ$17:LJ123), LJ124))","v":0},null,null,null,null,94,"",null,null,{"$f":"IF(LS125=\"\", 0, LS125 - IF(LS124=\"\", LOOKUP(2, 1/(LS$17:LS123<>\"\"), LS$17:LS123), LS124))","v":0},null,null,null,null,94,"",null,null,{"$f":"IF(MB125=\"\", 0, MB125 - IF(MB124=\"\", LOOKUP(2, 1/(MB$17:MB123<>\"\"), MB$17:MB123), MB124))","v":0},null,null,null,null,94,"",null,null,{"$f":"IF(MK125=\"\", 0, MK125 - IF(MK124=\"\", LOOKUP(2, 1/(MK$17:MK123<>\"\"), MK$17:MK123), MK124))","v":0},null,null,null,null,94,"",null,null,{"$f":"IF(MT125=\"\", 0, MT125 - IF(MT124=\"\", LOOKUP(2, 1/(MT$17:MT123<>\"\"), MT$17:MT123), MT124))","v":0},null,null,94,"",null,null,{"$f":"IF(NA125=\"\", 0, NA125 - IF(NA124=\"\", LOOKUP(2, 1/(NA$17:NA123<>\"\"), NA$17:NA123), NA124))","v":0},null,null,null,null,94,"",null,null,{"$f":"IF(NJ125=\"\", 0, NJ125 - IF(NJ124=\"\", LOOKUP(2, 1/(NJ$17:NJ123<>\"\"), NJ$17:NJ123), NJ124))","v":0},null,null,null,null,94,"",null,null,{"$f":"IF(NS125=\"\", 0, NS125 - IF(NS124=\"\", LOOKUP(2, 1/(NS$17:NS123<>\"\"), NS$17:NS123), NS124))","v":0},null,null,null,null,94,"",null,null,{"$f":"IF(OB125=\"\", 0, OB125 - IF(OB124=\"\", LOOKUP(2, 1/(OB$17:OB123<>\"\"), OB$17:OB123), OB124))","v":0},null,null,null,null,94,"",null,null,{"$f":"IF(OK125=\"\", 0, OK125 - IF(OK124=\"\", LOOKUP(2, 1/(OK$17:OK123<>\"\"), OK$17:OK123), OK124))","v":0},null,null,null,null,94,"",null,null,{"$f":"IF(OT125=\"\", 0, OT125 - IF(OT124=\"\", LOOKUP(2, 1/(OT$17:OT123<>\"\"), OT$17:OT123), OT124))","v":0},null,null,null,null,94,"",null,null,{"$f":"IF(PC125=\"\", 0, PC125 - IF(PC124=\"\", LOOKUP(2, 1/(PC$17:PC123<>\"\"), PC$17:PC123), PC124))","v":0},null,null,null,null,94,"",null,null,{"$f":"IF(PL125=\"\", 0, PL125 - IF(PL124=\"\", LOOKUP(2, 1/(PL$17:PL123<>\"\"), PL$17:PL123), PL124))","v":0},null,null,null,null,94,"",null,null,{"$f":"IF(PU125=\"\", 0, PU125 - IF(PU124=\"\", LOOKUP(2, 1/(PU$17:PU123<>\"\"), PU$17:PU123), PU124))","v":0},null,null,null,null,94,"",null,null,{"$f":"IF(QD125=\"\", 0, QD125 - IF(QD124=\"\", LOOKUP(2, 1/(QD$17:QD123<>\"\"), QD$17:QD123), QD124))","v":0}]
[null,null,null,93,"",null,null,{"$f":"IF(G126=\"\", 0, G126 - IF(G125=\"\", LOOKUP(2, 1/(G$17:G124<>\"\"), G$17:G124), G125))","v":0},null,null,null,null,93,"",null,null,{"$f":"IF(P126=\"\", 0, P126 - IF(P125=\"\", LOOKUP(2, 1/(P$17:P124<>\"\"), P$17:P124), P125))","v":0},null,null,null,null,93,"",null,null,{"$f":"IF(Y126=\"\", 0, Y126 - IF(Y125=\"\", LOOKUP(2, 1/(Y$17:Y124<>\"\"), Y$17:Y124), Y125))","v":0},null,null,null,null,93,"",null,null,{"$f":"IF(AH126=\"\", 0, AH126 - IF(AH125=\"\", LOOKUP(2, 1/(AH$17:AH124<>\"\"), AH$17:AH124), AH125))","v":0},null,null,null,null,93,"",null,null,{"$f":"IF(AQ126=\"\", 0, AQ126 - IF(AQ125=\"\", LOOKUP(2, 1/(AQ$17:AQ124<>\"\"), AQ$17:AQ124), AQ125))","v":0},null,null,null,null,93,"",null,null,{"$f":"IF(AZ126=\"\", 0, AZ126 - IF(AZ125=\"\", LOOKUP(2, 1/(AZ$17:AZ124<>\"\"), AZ$17:AZ124), AZ125))","v":0},null,null,null,null,93,"",null,null,{"$f":"IF(BI126=\"\", 0, BI126 - IF(BI125=\"\", LOOKUP(2, 1/(BI$17:BI124<>\"\"), BI$17:BI124), BI125))","v":0},null,null,null,null,93,"",null,null,{"$f":"IF(BR126=\"\", 0, BR126 - IF(BR125=\"\", LOOKUP(2, 1/(BR$17:BR124<>\"\"), BR$17:BR124), BR125))","v":0},null,null,null,null,93,"",null,null,{"$f":"IF(CA126=\"\", 0, CA126 - IF(CA125=\"\", LOOKUP(2, 1/(CA$17:CA124<>\"\"), CA$17:CA124), CA125))","v":0},null,null,null,null,93,"",null,null,{"$f":"IF(CJ126=\"\", 0, CJ126 - IF(CJ125=\"\", LOOKUP(2, 1/(CJ$17:CJ124<>\"\"), CJ$17:CJ124), CJ125))","v":0},null,null,null,null,93,"",null,null,{"$f":"IF(CS126=\"\", 0, CS126 - IF(CS125=\"\", LOOKUP(2, 1/(CS$17:CS124<>\"\"), CS$17:CS124), CS125))","v":0},null,null,null,null,93,"",null,null,{"$f":"IF(DB126=\"\", 0, DB126 - IF(DB125=\"\", LOOKUP(2, 1/(DB$17:DB124<>\"\"), DB$17:DB124), DB125))","v":0},null,null,null,null,93,"",null,null,{"$f":"IF(DK126=\"\", 0, DK126 - IF(DK125=\"\", LOOKUP(2, 1/(DK$17:DK124<>\"\"), DK$17:DK124), DK125))","v":0},null,null,null,null,93,"",null,null,{"$f":"IF(DT126=\"\", 0, DT126 - IF(DT125=\"\", LOOKUP(2, 1/(DT$17:DT124<>\"\"), DT$17:DT124), DT125))","v":0},null,null,null,null,93,"",null,null,{"$f":"IF(EC126=\"\", 0, EC126 - IF(EC125=\"\", LOOKUP(2, 1/(EC$17:EC124<>\"\"), EC$17:EC124), EC125))","v":0},null,null,null,null,93,"",null,null,{"$f":"IF(EL126=\"\", 0, EL126 - IF(EL125=\"\", LOOKUP(2, 1/(EL$17:EL124<>\"\"), EL$17:EL124), EL125))","v":0},null,null,null,null,93,"",null,null,{"$f":"IF(EU126=\"\", 0, EU126 - IF(EU125=\"\", LOOKUP(2, 1/(EU$17:EU124<>\"\"), EU$17:EU124), EU125))","v":0},null,null,null,null,93,"",null,null,{"$f":"IF(FD126=\"\", 0, FD126 - IF(FD125=\"\", LOOKUP(2, 1/(FD$17:FD124<>\"\"), FD$17:FD124), FD125))","v":0},null,null,null,null,93,"",null,null,{"$f":"IF(FM126=\"\", 0, FM126 - IF(FM125=\"\", LOOKUP(2, 1/(FM$17:FM124<>\"\"), FM$17:FM124), FM125))","v":0},null,null,null,null,93,"",null,null,{"$f":"IF(FV126=\"\", 0, FV126 - IF(FV125=\"\", LOOKUP(2, 1/(FV$17:FV124<>\"\"), FV$17:FV124), FV125))","v":0},null,null,null,null,93,"",null,null,{"$f":"IF(GE126=\"\", 0, GE126 - IF(GE125=\"\", LOOKUP(2, 1/(GE$17:GE124<>\"\"), GE$17:GE124), GE125))","v":0},null,null,null,null,93,"",null,null,{"$f":"IF(GN126=\"\", 0, GN126 - IF(GN125=\"\", LOOKUP(2, 1/(GN$17:GN124<>\"\"), GN$17:GN124), GN125))","v":0},null,null,null,null,93,"",null,null,{"$f":"IF(GW126=\"\", 0, GW126 - IF(GW125=\"\", LOOKUP(2, 1/(GW$17:GW124<>\"\"), GW$17:GW124), GW125))","v":0},null,null,null,null,93,"",null,null,{"$f":"IF(HF126=\"\", 0, HF126 - IF(HF125=\"\", LOOKUP(2, 1/(HF$17:HF124<>\"\"), HF$17:HF124), HF125))","v":0},null,null,null,null,93,"",null,null,{"$f":"IF(HO126=\"\", 0, HO126 - IF(HO125=\"\", LOOKUP(2, 1/(HO$17:HO124<>\"\"), HO$17:HO124), HO125))","v":0},null,null,null,null,93,"",null,null,{"$f":"IF(HX126=\"\", 0, HX126 - IF(HX125=\"\", LOOKUP(2, 1/(HX$17:HX124<>\"\"), HX$17:HX124), HX125))","v":0},null,null,null,null,93,"",null,null,{"$f":"IF(IG126=\"\", 0, IG126 - IF(IG125=\"\", LOOKUP(2, 1/(IG$17:IG124<>\"\"), IG$17:IG124), IG125))","v":0},null,null,null,null,93,"",null,null,{"$f":"IF(IP126=\"\", 0, IP126 - IF(IP125=\"\", LOOKUP(2, 1/(IP$17:IP124<>\"\"), IP$17:IP124), IP125))","v":0},null,null,null,null,93,"",null,null,{"$f":"IF(IY126=\"\", 0, IY126 - IF(IY125=\"\", LOOKUP(2, 1/(IY$17:IY124<>\"\"), IY$17:IY124), IY125))","v":0},null,null,null,null,93,"",null,null,{"$f":"IF(JH126=\"\", 0, JH126 - IF(JH125=\"\", LOOKUP(2, 1/(JH$17:JH124<>\"\"), JH$17:JH124), JH125))","v":0},null,null,null,null,93,"",null,null,{"$f":"IF(JQ126=\"\", 0, JQ126 - IF(JQ125=\"\", LOOKUP(2, 1/(JQ$17:JQ124<>\"\"), JQ$17:JQ124), JQ125))","v":0},null,null,null,null,93,"",null,null,{"$f":"IF(JZ126=\"\", 0, JZ126 - IF(JZ125=\"\", LOOKUP(2, 1/(JZ$17:JZ124<>\"\"), JZ$17:JZ124), JZ125))","v":0},null,null,null,null,93,"",null,null,{"$f":"IF(KI126=\"\", 0, KI126 - IF(KI125=\"\", LOOKUP(2, 1/(KI$17:KI124<>\"\"), KI$17:KI124), KI125))","v":0},null,null,null,null,93,"",null,null,{"$f":"IF(KR126=\"\", 0, KR126 - IF(KR125=\"\", LOOKUP(2, 1/(KR$17:KR124<>\"\"), KR$17:KR124), KR125))","v":0},null,null,null,null,93,"",null,null,{"$f":"IF(LA126=\"\", 0, LA126 - IF(LA125=\"\", LOOKUP(2, 1/(LA$17:LA124<>\"\"), LA$17:LA124), LA125))","v":0},null,null,null,null,93,"",null,null,{"$f":"IF(LJ126=\"\", 0, LJ126 - IF(LJ125=\"\", LOOKUP(2, 1/(LJ$17:LJ124<>\"\"), LJ$17:LJ124), LJ125))","v":0},null,null,null,null,93,"",null,null,{"$f":"IF(LS126=\"\", 0, LS126 - IF(LS125=\"\", LOOKUP(2, 1/(LS$17:LS124<>\"\"), LS$17:LS124), LS125))","v":0},null,null,null,null,93,"",null,null,{"$f":"IF(MB126=\"\", 0, MB126 - IF(MB125=\"\", LOOKUP(2, 1/(MB$17:MB124<>\"\"), MB$17:MB124), MB125))","v":0},null,null,null,null,93,"",null,null,{"$f":"IF(MK126=\"\", 0, MK126 - IF(MK125=\"\", LOOKUP(2, 1/(MK$17:MK124<>\"\"), MK$17:MK124), MK125))","v":0},null,null,null,null,93,"",null,null,{"$f":"IF(MT126=\"\", 0, MT126 - IF(MT125=\"\", LOOKUP(2, 1/(MT$17:MT124<>\"\"), MT$17:MT124), MT125))","v":0},null,null,93,"",null,null,{"$f":"IF(NA126=\"\", 0, NA126 - IF(NA125=\"\", LOOKUP(2, 1/(NA$17:NA124<>\"\"), NA$17:NA124), NA125))","v":0},null,null,null,null,93,"",null,null,{"$f":"IF(NJ126=\"\", 0, NJ126 - IF(NJ125=\"\", LOOKUP(2, 1/(NJ$17:NJ124<>\"\"), NJ$17:NJ124), NJ125))","v":0},null,null,null,null,93,"",null,null,{"$f":"IF(NS126=\"\", 0, NS126 - IF(NS125=\"\", LOOKUP(2, 1/(NS$17:NS124<>\"\"), NS$17:NS124), NS125))","v":0},null,null,null,null,93,"",null,null,{"$f":"IF(OB126=\"\", 0, OB126 - IF(OB125=\"\", LOOKUP(2, 1/(OB$17:OB124<>\"\"), OB$17:OB124), OB125))","v":0},null,null,null,null,93,"",null,null,{"$f":"IF(OK126=\"\", 0, OK126 - IF(OK125=\"\", LOOKUP(2, 1/(OK$17:OK124<>\"\"), OK$17:OK124), OK125))","v":0},null,null,null,null,93,"",null,null,{"$f":"IF(OT126=\"\", 0, OT126 - IF(OT125=\"\", LOOKUP(2, 1/(OT$17:OT124<>\"\"), OT$17:OT124), OT125))","v":0},null,null,null,null,93,"",null,null,{"$f":"IF(PC126=\"\", 0, PC126 - IF(PC125=\"\", LOOKUP(2, 1/(PC$17:PC124<>\"\"), PC$17:PC124), PC125))","v":0},null,null,null,null,93,"",null,null,{"$f":"IF(PL126=\"\", 0, PL126 - IF(PL125=\"\", LOOKUP(2, 1/(PL$17:PL124<>\"\"), PL$17:PL124), PL125))","v":0},null,null,null,null,93,"",null,null,{"$f":"IF(PU126=\"\", 0, PU126 - IF(PU125=\"\", LOOKUP(2, 1/(PU$17:PU124<>\"\"), PU$17:PU124), PU125))","v":0},null,null,null,null,93,"",null,null,{"$f":"IF(QD126=\"\", 0, QD126 - IF(QD125=\"\", LOOKUP(2, 1/(QD$17:QD124<>\"\"), QD$17:QD124), QD125))","v":0}]
[null,null,null,92,"",null,null,{"$f":"IF(G127=\"\", 0, G127 - IF(G126=\"\", LOOKUP(2, 1/(G$17:G125<>\"\"), G$17:G125), G126))","v":0},null,null,null,null,92,"",null,null,{"$f":"IF(P127=\"\", 0, P127 - IF(P126=\"\", LOOKUP(2, 1/(P$17:P125<>\"\"), P$17:P125), P126))","v":0},null,null,null,null,92,"",null,null,{"$f":"IF(Y127=\"\", 0, Y127 - IF(Y126=\"\", LOOKUP(2, 1/(Y$17:Y125<>\"\"), Y$17:Y125), Y126))","v":0},null,null,null,null,92,"",null,null,{"$f":"IF(AH127=\"\", 0, AH127 - IF(AH126=\"\", LOOKUP(2, 1/(AH$17:AH125<>\"\"), AH$17:AH125), AH126))","v":0},null,null,null,null,92,"",null,null,{"$f":"IF(AQ127=\"\", 0, AQ127 - IF(AQ126=\"\", LOOKUP(2, 1/(AQ$17:AQ125<>\"\"), AQ$17:AQ125), AQ126))","v":0},null,null,null,null,92,"",null,null,{"$f":"IF(AZ127=\"\", 0, AZ127 - IF(AZ126=\"\", LOOKUP(2, 1/(AZ$17:AZ125<>\"\"), AZ$17:AZ125), AZ126))","v":0},null,null,null,null,92,"",null,null,{"$f":"IF(BI127=\"\", 0, BI127 - IF(BI126=\"\", LOOKUP(2, 1/(BI$17:BI125<>\"\"), BI$17:BI125), BI126))","v":0},null,null,null,null,92,"",null,null,{"$f":"IF(BR127=\"\", 0, BR127 - IF(BR126=\"\", LOOKUP(2, 1/(BR$17:BR125<>\"\"), BR$17:BR125), BR126))","v":0},null,null,null,null,92,"",null,null,{"$f":"IF(CA127=\"\", 0, CA127 - IF(CA126=\"\", LOOKUP(2, 1/(CA$17:CA125<>\"\"), CA$17:CA125), CA126))","v":0},null,null,null,null,92,"",null,null,{"$f":"IF(CJ127=\"\", 0, CJ127 - IF(CJ126=\"\", LOOKUP(2, 1/(CJ$17:CJ125<>\"\"), CJ$17:CJ125), CJ126))","v":0},null,null,null,null,92,"",null,null,{"$f":"IF(CS127=\"\", 0, CS127 - IF(CS126=\"\", LOOKUP(2, 1/(CS$17:CS125<>\"\"), CS$17:CS125), CS126))","v":0},null,null,null,null,92,"",null,null,{"$f":"IF(DB127=\"\", 0, DB127 - IF(DB126=\"\", LOOKUP(2, 1/(DB$17:DB125<>\"\"), DB$17:DB125), DB126))","v":0},null,null,null,null,92,"",null,null,{"$f":"IF(DK127=\"\", 0, DK127 - IF(DK126=\"\", LOOKUP(2, 1/(DK$17:DK125<>\"\"), DK$17:DK125), DK126))","v":0},null,null,null,null,92,"",null,null,{"$f":"IF(DT127=\"\", 0, DT127 - IF(DT126=\"\", LOOKUP(2, 1/(DT$17:DT125<>\"\"), DT$17:DT125), DT126))","v":0},null,null,null,null,92,"",null,null,{"$f":"IF(EC127=\"\", 0, EC127 - IF(EC126=\"\", LOOKUP(2, 1/(EC$17:EC125<>\"\"), EC$17:EC125), EC126))","v":0},null,null,null,null,92,"",null,null,{"$f":"IF(EL127=\"\", 0, EL127 - IF(EL126=\"\", LOOKUP(2, 1/(EL$17:EL125<>\"\"), EL$17:EL125), EL126))","v":0},null,null,null,null,92,"",null,null,{"$f":"IF(EU127=\"\", 0, EU127 - IF(EU126=\"\", LOOKUP(2, 1/(EU$17:EU125<>\"\"), EU$17:EU125), EU126))","v":0},null,null,null,null,92,"",null,null,{"$f":"IF(FD127=\"\", 0, FD127 - IF(FD126=\"\", LOOKUP(2, 1/(FD$17:FD125<>\"\"), FD$17:FD125), FD126))","v":0},null,null,null,null,92,"",null,null,{"$f":"IF(FM127=\"\", 0, FM127 - IF(FM126=\"\", LOOKUP(2, 1/(FM$17:FM125<>\"\"), FM$17:FM125), FM126))","v":0},null,null,null,null,92,"",null,null,{"$f":"IF(FV127=\"\", 0, FV127 - IF(FV126=\"\", LOOKUP(2, 1/(FV$17:FV125<>\"\"), FV$17:FV125), FV126))","v":0},null,null,null,null,92,"",null,null,{"$f":"IF(GE127=\"\", 0, GE127 - IF(GE126=\"\", LOOKUP(2, 1/(GE$17:GE125<>\"\"), GE$17:GE125), GE126))","v":0},null,null,null,null,92,"",null,null,{"$f":"IF(GN127=\"\", 0, GN127 - IF(GN126=\"\", LOOKUP(2, 1/(GN$17:GN125<>\"\"), GN$17:GN125), GN126))","v":0},null,null,null,null,92,"",null,null,{"$f":"IF(GW127=\"\", 0, GW127 - IF(GW126=\"\", LOOKUP(2, 1/(GW$17:GW125<>\"\"), GW$17:GW125), GW126))","v":0},null,null,null,null,92,"",null,null,{"$f":"IF(HF127=\"\", 0, HF127 - IF(HF126=\"\", LOOKUP(2, 1/(HF$17:HF125<>\"\"), HF$17:HF125), HF126))","v":0},null,null,null,null,92,"",null,null,{"$f":"IF(HO127=\"\", 0, HO127 - IF(HO126=\"\", LOOKUP(2, 1/(HO$17:HO125<>\"\"), HO$17:HO125), HO126))","v":0},null,null,null,null,92,"",null,null,{"$f":"IF(HX127=\"\", 0, HX127 - IF(HX126=\"\", LOOKUP(2, 1/(HX$17:HX125<>\"\"), HX$17:HX125), HX126))","v":0},null,null,null,null,92,"",null,null,{"$f":"IF(IG127=\"\", 0, IG127 - IF(IG126=\"\", LOOKUP(2, 1/(IG$17:IG125<>\"\"), IG$17:IG125), IG126))","v":0},null,null,null,null,92,"",null,null,{"$f":"IF(IP127=\"\", 0, IP127 - IF(IP126=\"\", LOOKUP(2, 1/(IP$17:IP125<>\"\"), IP$17:IP125), IP126))","v":0},null,null,null,null,92,"",null,null,{"$f":"IF(IY127=\"\", 0, IY127 - IF(IY126=\"\", LOOKUP(2, 1/(IY$17:IY125<>\"\"), IY$17:IY125), IY126))","v":0},null,null,null,null,92,"",null,null,{"$f":"IF(JH127=\"\", 0, JH127 - IF(JH126=\"\", LOOKUP(2, 1/(JH$17:JH125<>\"\"), JH$17:JH125), JH126))","v":0},null,null,null,null,92,"",null,null,{"$f":"IF(JQ127=\"\", 0, JQ127 - IF(JQ126=\"\", LOOKUP(2, 1/(JQ$17:JQ125<>\"\"), JQ$17:JQ125), JQ126))","v":0},null,null,null,null,92,"",null,null,{"$f":"IF(JZ127=\"\", 0, JZ127 - IF(JZ126=\"\", LOOKUP(2, 1/(JZ$17:JZ125<>\"\"), JZ$17:JZ125), JZ126))","v":0},null,null,null,null,92,"",null,null,{"$f":"IF(KI127=\"\", 0, KI127 - IF(KI126=\"\", LOOKUP(2, 1/(KI$17:KI125<>\"\"), KI$17:KI125), KI126))","v":0},null,null,null,null,92,"",null,null,{"$f":"IF(KR127=\"\", 0, KR127 - IF(KR126=\"\", LOOKUP(2, 1/(KR$17:KR125<>\"\"), KR$17:KR125), KR126))","v":0},null,null,null,null,92,"",null,null,{"$f":"IF(LA127=\"\", 0, LA127 - IF(LA126=\"\", LOOKUP(2, 1/(LA$17:LA125<>\"\"), LA$17:LA125), LA126))","v":0},null,null,null,null,92,"",null,null,{"$f":"IF(LJ127=\"\", 0, LJ127 - IF(LJ126=\"\", LOOKUP(2, 1/(LJ$17:LJ125<>\"\"), LJ$17:LJ125), LJ126))","v":0},null,null,null,null,92,"",null,null,{"$f":"IF(LS127=\"\", 0, LS127 - IF(LS126=\"\", LOOKUP(2, 1/(LS$17:LS125<>\"\"), LS$17:LS125), LS126))","v":0},null,null,null,null,92,"",null,null,{"$f":"IF(MB127=\"\", 0, MB127 - IF(MB126=\"\", LOOKUP(2, 1/(MB$17:MB125<>\"\"), MB$17:MB125), MB126))","v":0},null,null,null,null,92,"",null,null,{"$f":"IF(MK127=\"\", 0, MK127 - IF(MK126=\"\", LOOKUP(2, 1/(MK$17:MK125<>\"\"), MK$17:MK125), MK126))","v":0},null,null,null,null,92,"",null,null,{"$f":"IF(MT127=\"\", 0, MT127 - IF(MT126=\"\", LOOKUP(2, 1/(MT$17:MT125<>\"\"), MT$17:MT125), MT126))","v":0},null,null,92,"",null,null,{"$f":"IF(NA127=\"\", 0, NA127 - IF(NA126=\"\", LOOKUP(2, 1/(NA$17:NA125<>\"\"), NA$17:NA125), NA126))","v":0},null,null,null,null,92,"",null,null,{"$f":"IF(NJ127=\"\", 0, NJ127 - IF(NJ126=\"\", LOOKUP(2, 1/(NJ$17:NJ125<>\"\"), NJ$17:NJ125), NJ126))","v":0},null,null,null,null,92,"",null,null,{"$f":"IF(NS127=\"\", 0, NS127 - IF(NS126=\"\", LOOKUP(2, 1/(NS$17:NS125<>\"\"), NS$17:NS125), NS126))","v":0},null,null,null,null,92,"",null,null,{"$f":"IF(OB127=\"\", 0, OB127 - IF(OB126=\"\", LOOKUP(2, 1/(OB$17:OB125<>\"\"), OB$17:OB125), OB126))","v":0},null,null,null,null,92,"",null,null,{"$f":"IF(OK127=\"\", 0, OK127 - IF(OK126=\"\", LOOKUP(2, 1/(OK$17:OK125<>\"\"), OK$17:OK125), OK126))","v":0},null,null,null,null,92,"",null,null,{"$f":"IF(OT127=\"\", 0, OT127 - IF(OT126=\"\", LOOKUP(2, 1/(OT$17:OT125<>\"\"), OT$17:OT125), OT126))","v":0},null,null,null,null,92,"",null,null,{"$f":"IF(PC127=\"\", 0, PC127 - IF(PC126=\"\", LOOKUP(2, 1/(PC$17:PC125<>\"\"), PC$17:PC125), PC126))","v":0},null,null,null,null,92,"",null,null,{"$f":"IF(PL127=\"\", 0, PL127 - IF(PL126=\"\", LOOKUP(2, 1/(PL$17:PL125<>\"\"), PL$17:PL125), PL126))","v":0},null,null,null,null,92,"",null,null,{"$f":"IF(PU127=\"\", 0, PU127 - IF(PU126=\"\", LOOKUP(2, 1/(PU$17:PU125<>\"\"), PU$17:PU125), PU126))","v":0},null,null,null,null,92,"",null,null,{"$f":"IF(QD127=\"\", 0, QD127 - IF(QD126=\"\", LOOKUP(2, 1/(QD$17:QD125<>\"\"), QD$17:QD125), QD126))","v":0}]
[null,null,null,91,"",null,null,{"$f":"IF(G128=\"\", 0, G128 - IF(G127=\"\", LOOKUP(2, 1/(G$17:G126<>\"\"), G$17:G126), G127))","v":0},null,null,null,null,91,"",null,null,{"$f":"IF(P128=\"\", 0, P128 - IF(P127=\"\", LOOKUP(2, 1/(P$17:P126<>\"\"), P$17:P126), P127))","v":0},null,null,null,null,91,"",null,null,{"$f":"IF(Y128=\"\", 0, Y128 - IF(Y127=\"\", LOOKUP(2, 1/(Y$17:Y126<>\"\"), Y$17:Y126), Y127))","v":0},null,null,null,null,91,"",null,null,{"$f":"IF(AH128=\"\", 0, AH128 - IF(AH127=\"\", LOOKUP(2, 1/(AH$17:AH126<>\"\"), AH$17:AH126), AH127))","v":0},null,null,null,null,91,"",null,null,{"$f":"IF(AQ128=\"\", 0, AQ128 - IF(AQ127=\"\", LOOKUP(2, 1/(AQ$17:AQ126<>\"\"), AQ$17:AQ126), AQ127))","v":0},null,null,null,null,91,"",null,null,{"$f":"IF(AZ128=\"\", 0, AZ128 - IF(AZ127=\"\", LOOKUP(2, 1/(AZ$17:AZ126<>\"\"), AZ$17:AZ126), AZ127))","v":0},null,null,null,null,91,"",null,null,{"$f":"IF(BI128=\"\", 0, BI128 - IF(BI127=\"\", LOOKUP(2, 1/(BI$17:BI126<>\"\"), BI$17:BI126), BI127))","v":0},null,null,null,null,91,"",null,null,{"$f":"IF(BR128=\"\", 0, BR128 - IF(BR127=\"\", LOOKUP(2, 1/(BR$17:BR126<>\"\"), BR$17:BR126), BR127))","v":0},null,null,null,null,91,"",null,null,{"$f":"IF(CA128=\"\", 0, CA128 - IF(CA127=\"\", LOOKUP(2, 1/(CA$17:CA126<>\"\"), CA$17:CA126), CA127))","v":0},null,null,null,null,91,"",null,null,{"$f":"IF(CJ128=\"\", 0, CJ128 - IF(CJ127=\"\", LOOKUP(2, 1/(CJ$17:CJ126<>\"\"), CJ$17:CJ126), CJ127))","v":0},null,null,null,null,91,"",null,null,{"$f":"IF(CS128=\"\", 0, CS128 - IF(CS127=\"\", LOOKUP(2, 1/(CS$17:CS126<>\"\"), CS$17:CS126), CS127))","v":0},null,null,null,null,91,"",null,null,{"$f":"IF(DB128=\"\", 0, DB128 - IF(DB127=\"\", LOOKUP(2, 1/(DB$17:DB126<>\"\"), DB$17:DB126), DB127))","v":0},null,null,null,null,91,"",null,null,{"$f":"IF(DK128=\"\", 0, DK128 - IF(DK127=\"\", LOOKUP(2, 1/(DK$17:DK126<>\"\"), DK$17:DK126), DK127))","v":0},null,null,null,null,91,"",null,null,{"$f":"IF(DT128=\"\", 0, DT128 - IF(DT127=\"\", LOOKUP(2, 1/(DT$17:DT126<>\"\"), DT$17:DT126), DT127))","v":0},null,null,null,null,91,"",null,null,{"$f":"IF(EC128=\"\", 0, EC128 - IF(EC127=\"\", LOOKUP(2, 1/(EC$17:EC126<>\"\"), EC$17:EC126), EC127))","v":0},null,null,null,null,91,"",null,null,{"$f":"IF(EL128=\"\", 0, EL128 - IF(EL127=\"\", LOOKUP(2, 1/(EL$17:EL126<>\"\"), EL$17:EL126), EL127))","v":0},null,null,null,null,91,"",null,null,{"$f":"IF(EU128=\"\", 0, EU128 - IF(EU127=\"\", LOOKUP(2, 1/(EU$17:EU126<>\"\"), EU$17:EU126), EU127))","v":0},null,null,null,null,91,"",null,null,{"$f":"IF(FD128=\"\", 0, FD128 - IF(FD127=\"\", LOOKUP(2, 1/(FD$17:FD126<>\"\"), FD$17:FD126), FD127))","v":0},null,null,null,null,91,"",null,null,{"$f":"IF(FM128=\"\", 0, FM128 - IF(FM127=\"\", LOOKUP(2, 1/(FM$17:FM126<>\"\"), FM$17:FM126), FM127))","v":0},null,null,null,null,91,"",null,null,{"$f":"IF(FV128=\"\", 0, FV128 - IF(FV127=\"\", LOOKUP(2, 1/(FV$17:FV126<>\"\"), FV$17:FV126), FV127))","v":0},null,null,null,null,91,"",null,null,{"$f":"IF(GE128=\"\", 0, GE128 - IF(GE127=\"\", LOOKUP(2, 1/(GE$17:GE126<>\"\"), GE$17:GE126), GE127))","v":0},null,null,null,null,91,"",null,null,{"$f":"IF(GN128=\"\", 0, GN128 - IF(GN127=\"\", LOOKUP(2, 1/(GN$17:GN126<>\"\"), GN$17:GN126), GN127))","v":0},null,null,null,null,91,"",null,null,{"$f":"IF(GW128=\"\", 0, GW128 - IF(GW127=\"\", LOOKUP(2, 1/(GW$17:GW126<>\"\"), GW$17:GW126), GW127))","v":0},null,null,null,null,91,"",null,null,{"$f":"IF(HF128=\"\", 0, HF128 - IF(HF127=\"\", LOOKUP(2, 1/(HF$17:HF126<>\"\"), HF$17:HF126), HF127))","v":0},null,null,null,null,91,"",null,null,{"$f":"IF(HO128=\"\", 0, HO128 - IF(HO127=\"\", LOOKUP(2, 1/(HO$17:HO126<>\"\"), HO$17:HO126), HO127))","v":0},null,null,null,null,91,"",null,null,{"$f":"IF(HX128=\"\", 0, HX128 - IF(HX127=\"\", LOOKUP(2, 1/(HX$17:HX126<>\"\"), HX$17:HX126), HX127))","v":0},null,null,null,null,91,"",null,null,{"$f":"IF(IG128=\"\", 0, IG128 - IF(IG127=\"\", LOOKUP(2, 1/(IG$17:IG126<>\"\"), IG$17:IG126), IG127))","v":0},null,null,null,null,91,"",null,null,{"$f":"IF(IP128=\"\", 0, IP128 - IF(IP127=\"\", LOOKUP(2, 1/(IP$17:IP126<>\"\"), IP$17:IP126), IP127))","v":0},null,null,null,null,91,"",null,null,{"$f":"IF(IY128=\"\", 0, IY128 - IF(IY127=\"\", LOOKUP(2, 1/(IY$17:IY126<>\"\"), IY$17:IY126), IY127))","v":0},null,null,null,null,91,"",null,null,{"$f":"IF(JH128=\"\", 0, JH128 - IF(JH127=\"\", LOOKUP(2, 1/(JH$17:JH126<>\"\"), JH$17:JH126), JH127))","v":0},null,null,null,null,91,"",null,null,{"$f":"IF(JQ128=\"\", 0, JQ128 - IF(JQ127=\"\", LOOKUP(2, 1/(JQ$17:JQ126<>\"\"), JQ$17:JQ126), JQ127))","v":0},null,null,null,null,91,"",null,null,{"$f":"IF(JZ128=\"\", 0, JZ128 - IF(JZ127=\"\", LOOKUP(2, 1/(JZ$17:JZ126<>\"\"), JZ$17:JZ126), JZ127))","v":0},null,null,null,null,91,"",null,null,{"$f":"IF(KI128=\"\", 0, KI128 - IF(KI127=\"\", LOOKUP(2, 1/(KI$17:KI126<>\"\"), KI$17:KI126), KI127))","v":0},null,null,null,null,91,"",null,null,{"$f":"IF(KR128=\"\", 0, KR128 - IF(KR127=\"\", LOOKUP(2, 1/(KR$17:KR126<>\"\"), KR$17:KR126), KR127))","v":0},null,null,null,null,91,"",null,null,{"$f":"IF(LA128=\"\", 0, LA128 - IF(LA127=\"\", LOOKUP(2, 1/(LA$17:LA126<>\"\"), LA$17:LA126), LA127))","v":0},null,null,null,null,91,"",null,null,{"$f":"IF(LJ128=\"\", 0, LJ128 - IF(LJ127=\"\", LOOKUP(2, 1/(LJ$17:LJ126<>\"\"), LJ$17:LJ126), LJ127))","v":0},null,null,null,null,91,"",null,null,{"$f":"IF(LS128=\"\", 0, LS128 - IF(LS127=\"\", LOOKUP(2, 1/(LS$17:LS126<>\"\"), LS$17:LS126), LS127))","v":0},null,null,null,null,91,"",null,null,{"$f":"IF(MB128=\"\", 0, MB128 - IF(MB127=\"\", LOOKUP(2, 1/(MB$17:MB126<>\"\"), MB$17:MB126), MB127))","v":0},null,null,null,null,91,"",null,null,{"$f":"IF(MK128=\"\", 0, MK128 - IF(MK127=\"\", LOOKUP(2, 1/(MK$17:MK126<>\"\"), MK$17:MK126), MK127))","v":0},null,null,null,null,91,"",null,null,{"$f":"IF(MT128=\"\", 0, MT128 - IF(MT127=\"\", LOOKUP(2, 1/(MT$17:MT126<>\"\"), MT$17:MT126), MT127))","v":0},null,null,91,"",null,null,{"$f":"IF(NA128=\"\", 0, NA128 - IF(NA127=\"\", LOOKUP(2, 1/(NA$17:NA126<>\"\"), NA$17:NA126), NA127))","v":0},null,null,null,null,91,"",null,null,{"$f":"IF(NJ128=\"\", 0, NJ128 - IF(NJ127=\"\", LOOKUP(2, 1/(NJ$17:NJ126<>\"\"), NJ$17:NJ126), NJ127))","v":0},null,null,null,null,91,"",null,null,{"$f":"IF(NS128=\"\", 0, NS128 - IF(NS127=\"\", LOOKUP(2, 1/(NS$17:NS126<>\"\"), NS$17:NS126), NS127))","v":0},null,null,null,null,91,"",null,null,{"$f":"IF(OB128=\"\", 0, OB128 - IF(OB127=\"\", LOOKUP(2, 1/(OB$17:OB126<>\"\"), OB$17:OB126), OB127))","v":0},null,null,null,null,91,"",null,null,{"$f":"IF(OK128=\"\", 0, OK128 - IF(OK127=\"\", LOOKUP(2, 1/(OK$17:OK126<>\"\"), OK$17:OK126), OK127))","v":0},null,null,null,null,91,"",null,null,{"$f":"IF(OT128=\"\", 0, OT128 - IF(OT127=\"\", LOOKUP(2, 1/(OT$17:OT126<>\"\"), OT$17:OT126), OT127))","v":0},null,null,null,null,91,"",null,null,{"$f":"IF(PC128=\"\", 0, PC128 - IF(PC127=\"\", LOOKUP(2, 1/(PC$17:PC126<>\"\"), PC$17:PC126), PC127))","v":0},null,null,null,null,91,"",null,null,{"$f":"IF(PL128=\"\", 0, PL128 - IF(PL127=\"\", LOOKUP(2, 1/(PL$17:PL126<>\"\"), PL$17:PL126), PL127))","v":0},null,null,null,null,91,"",null,null,{"$f":"IF(PU128=\"\", 0, PU128 - IF(PU127=\"\", LOOKUP(2, 1/(PU$17:PU126<>\"\"), PU$17:PU126), PU127))","v":0},null,null,null,null,91,"",null,null,{"$f":"IF(QD128=\"\", 0, QD128 - IF(QD127=\"\", LOOKUP(2, 1/(QD$17:QD126<>\"\"), QD$17:QD126), QD127))","v":0}]
[null,null,null,90,"",null,null,{"$f":"IF(G129=\"\", 0, G129 - IF(G128=\"\", LOOKUP(2, 1/(G$17:G127<>\"\"), G$17:G127), G128))","v":0},null,null,null,null,90,"",null,null,{"$f":"IF(P129=\"\", 0, P129 - IF(P128=\"\", LOOKUP(2, 1/(P$17:P127<>\"\"), P$17:P127), P128))","v":0},null,null,null,null,90,"",null,null,{"$f":"IF(Y129=\"\", 0, Y129 - IF(Y128=\"\", LOOKUP(2, 1/(Y$17:Y127<>\"\"), Y$17:Y127), Y128))","v":0},null,null,null,null,90,"",null,null,{"$f":"IF(AH129=\"\", 0, AH129 - IF(AH128=\"\", LOOKUP(2, 1/(AH$17:AH127<>\"\"), AH$17:AH127), AH128))","v":0},null,null,null,null,90,"",null,null,{"$f":"IF(AQ129=\"\", 0, AQ129 - IF(AQ128=\"\", LOOKUP(2, 1/(AQ$17:AQ127<>\"\"), AQ$17:AQ127), AQ128))","v":0},null,null,null,null,90,"",null,null,{"$f":"IF(AZ129=\"\", 0, AZ129 - IF(AZ128=\"\", LOOKUP(2, 1/(AZ$17:AZ127<>\"\"), AZ$17:AZ127), AZ128))","v":0},null,null,null,null,90,"",null,null,{"$f":"IF(BI129=\"\", 0, BI129 - IF(BI128=\"\", LOOKUP(2, 1/(BI$17:BI127<>\"\"), BI$17:BI127), BI128))","v":0},null,null,null,null,90,"",null,null,{"$f":"IF(BR129=\"\", 0, BR129 - IF(BR128=\"\", LOOKUP(2, 1/(BR$17:BR127<>\"\"), BR$17:BR127), BR128))","v":0},null,null,null,null,90,"",null,null,{"$f":"IF(CA129=\"\", 0, CA129 - IF(CA128=\"\", LOOKUP(2, 1/(CA$17:CA127<>\"\"), CA$17:CA127), CA128))","v":0},null,null,null,null,90,"",null,null,{"$f":"IF(CJ129=\"\", 0, CJ129 - IF(CJ128=\"\", LOOKUP(2, 1/(CJ$17:CJ127<>\"\"), CJ$17:CJ127), CJ128))","v":0},null,null,null,null,90,"",null,null,{"$f":"IF(CS129=\"\", 0, CS129 - IF(CS128=\"\", LOOKUP(2, 1/(CS$17:CS127<>\"\"), CS$17:CS127), CS128))","v":0},null,null,null,null,90,"",null,null,{"$f":"IF(DB129=\"\", 0, DB129 - IF(DB128=\"\", LOOKUP(2, 1/(DB$17:DB127<>\"\"), DB$17:DB127), DB128))","v":0},null,null,null,null,90,"",null,null,{"$f":"IF(DK129=\"\", 0, DK129 - IF(DK128=\"\", LOOKUP(2, 1/(DK$17:DK127<>\"\"), DK$17:DK127), DK128))","v":0},null,null,null,null,90,"",null,null,{"$f":"IF(DT129=\"\", 0, DT129 - IF(DT128=\"\", LOOKUP(2, 1/(DT$17:DT127<>\"\"), DT$17:DT127), DT128))","v":0},null,null,null,null,90,"",null,null,{"$f":"IF(EC129=\"\", 0, EC129 - IF(EC128=\"\", LOOKUP(2, 1/(EC$17:EC127<>\"\"), EC$17:EC127), EC128))","v":0},null,null,null,null,90,"",null,null,{"$f":"IF(EL129=\"\", 0, EL129 - IF(EL128=\"\", LOOKUP(2, 1/(EL$17:EL127<>\"\"), EL$17:EL127), EL128))","v":0},null,null,null,null,90,"",null,null,{"$f":"IF(EU129=\"\", 0, EU129 - IF(EU128=\"\", LOOKUP(2, 1/(EU$17:EU127<>\"\"), EU$17:EU127), EU128))","v":0},null,null,null,null,90,"",null,null,{"$f":"IF(FD129=\"\", 0, FD129 - IF(FD128=\"\", LOOKUP(2, 1/(FD$17:FD127<>\"\"), FD$17:FD127), FD128))","v":0},null,null,null,null,90,"",null,null,{"$f":"IF(FM129=\"\", 0, FM129 - IF(FM128=\"\", LOOKUP(2, 1/(FM$17:FM127<>\"\"), FM$17:FM127), FM128))","v":0},null,null,null,null,90,"",null,null,{"$f":"IF(FV129=\"\", 0, FV129 - IF(FV128=\"\", LOOKUP(2, 1/(FV$17:FV127<>\"\"), FV$17:FV127), FV128))","v":0},null,null,null,null,90,"",null,null,{"$f":"IF(GE129=\"\", 0, GE129 - IF(GE128=\"\", LOOKUP(2, 1/(GE$17:GE127<>\"\"), GE$17:GE127), GE128))","v":0},null,null,null,null,90,"",null,null,{"$f":"IF(GN129=\"\", 0, GN129 - IF(GN128=\"\", LOOKUP(2, 1/(GN$17:GN127<>\"\"), GN$17:GN127), GN128))","v":0},null,null,null,null,90,"",null,null,{"$f":"IF(GW129=\"\", 0, GW129 - IF(GW128=\"\", LOOKUP(2, 1/(GW$17:GW127<>\"\"), GW$17:GW127), GW128))","v":0},null,null,null,null,90,"",null,null,{"$f":"IF(HF129=\"\", 0, HF129 - IF(HF128=\"\", LOOKUP(2, 1/(HF$17:HF127<>\"\"), HF$17:HF127), HF128))","v":0},null,null,null,null,90,"",null,null,{"$f":"IF(HO129=\"\", 0, HO129 - IF(HO128=\"\", LOOKUP(2, 1/(HO$17:HO127<>\"\"), HO$17:HO127), HO128))","v":0},null,null,null,null,90,"",null,null,{"$f":"IF(HX129=\"\", 0, HX129 - IF(HX128=\"\", LOOKUP(2, 1/(HX$17:HX127<>\"\"), HX$17:HX127), HX128))","v":0},null,null,null,null,90,"",null,null,{"$f":"IF(IG129=\"\", 0, IG129 - IF(IG128=\"\", LOOKUP(2, 1/(IG$17:IG127<>\"\"), IG$17:IG127), IG128))","v":0},null,null,null,null,90,"",null,null,{"$f":"IF(IP129=\"\", 0, IP129 - IF(IP128=\"\", LOOKUP(2, 1/(IP$17:IP127<>\"\"), IP$17:IP127), IP128))","v":0},null,null,null,null,90,"",null,null,{"$f":"IF(IY129=\"\", 0, IY129 - IF(IY128=\"\", LOOKUP(2, 1/(IY$17:IY127<>\"\"), IY$17:IY127), IY128))","v":0},null,null,null,null,90,"",null,null,{"$f":"IF(JH129=\"\", 0, JH129 - IF(JH128=\"\", LOOKUP(2, 1/(JH$17:JH127<>\"\"), JH$17:JH127), JH128))","v":0},null,null,null,null,90,"",null,null,{"$f":"IF(JQ129=\"\", 0, JQ129 - IF(JQ128=\"\", LOOKUP(2, 1/(JQ$17:JQ127<>\"\"), JQ$17:JQ127), JQ128))","v":0},null,null,null,null,90,"",null,null,{"$f":"IF(JZ129=\"\", 0, JZ129 - IF(JZ128=\"\", LOOKUP(2, 1/(JZ$17:JZ127<>\"\"), JZ$17:JZ127), JZ128))","v":0},null,null,null,null,90,"",null,null,{"$f":"IF(KI129=\"\", 0, KI129 - IF(KI128=\"\", LOOKUP(2, 1/(KI$17:KI127<>\"\"), KI$17:KI127), KI128))","v":0},null,null,null,null,90,"",null,null,{"$f":"IF(KR129=\"\", 0, KR129 - IF(KR128=\"\", LOOKUP(2, 1/(KR$17:KR127<>\"\"), KR$17:KR127), KR128))","v":0},null,null,null,null,90,"",null,null,{"$f":"IF(LA129=\"\", 0, LA129 - IF(LA128=\"\", LOOKUP(2, 1/(LA$17:LA127<>\"\"), LA$17:LA127), LA128))","v":0},null,null,null,null,90,"",null,null,{"$f":"IF(LJ129=\"\", 0, LJ129 - IF(LJ128=\"\", LOOKUP(2, 1/(LJ$17:LJ127<>\"\"), LJ$17:LJ127), LJ128))","v":0},null,null,null,null,90,"",null,null,{"$f":"IF(LS129=\"\", 0, LS129 - IF(LS128=\"\", LOOKUP(2, 1/(LS$17:LS127<>\"\"), LS$17:LS127), LS128))","v":0},null,null,null,null,90,"",null,null,{"$f":"IF(MB129=\"\", 0, MB129 - IF(MB128=\"\", LOOKUP(2, 1/(MB$17:MB127<>\"\"), MB$17:MB127), MB128))","v":0},null,null,null,null,90,"",null,null,{"$f":"IF(MK129=\"\", 0, MK129 - IF(MK128=\"\", LOOKUP(2, 1/(MK$17:MK127<>\"\"), MK$17:MK127), MK128))","v":0},null,null,null,null,90,"",null,null,{"$f":"IF(MT129=\"\", 0, MT129 - IF(MT128=\"\", LOOKUP(2, 1/(MT$17:MT127<>\"\"), MT$17:MT127), MT128))","v":0},null,null,90,"",null,null,{"$f":"IF(NA129=\"\", 0, NA129 - IF(NA128=\"\", LOOKUP(2, 1/(NA$17:NA127<>\"\"), NA$17:NA127), NA128))","v":0},null,null,null,null,90,"",null,null,{"$f":"IF(NJ129=\"\", 0, NJ129 - IF(NJ128=\"\", LOOKUP(2, 1/(NJ$17:NJ127<>\"\"), NJ$17:NJ127), NJ128))","v":0},null,null,null,null,90,"",null,null,{"$f":"IF(NS129=\"\", 0, NS129 - IF(NS128=\"\", LOOKUP(2, 1/(NS$17:NS127<>\"\"), NS$17:NS127), NS128))","v":0},null,null,null,null,90,"",null,null,{"$f":"IF(OB129=\"\", 0, OB129 - IF(OB128=\"\", LOOKUP(2, 1/(OB$17:OB127<>\"\"), OB$17:OB127), OB128))","v":0},null,null,null,null,90,"",null,null,{"$f":"IF(OK129=\"\", 0, OK129 - IF(OK128=\"\", LOOKUP(2, 1/(OK$17:OK127<>\"\"), OK$17:OK127), OK128))","v":0},null,null,null,null,90,"",null,null,{"$f":"IF(OT129=\"\", 0, OT129 - IF(OT128=\"\", LOOKUP(2, 1/(OT$17:OT127<>\"\"), OT$17:OT127), OT128))","v":0},null,null,null,null,90,"",null,null,{"$f":"IF(PC129=\"\", 0, PC129 - IF(PC128=\"\", LOOKUP(2, 1/(PC$17:PC127<>\"\"), PC$17:PC127), PC128))","v":0},null,null,null,null,90,"",null,null,{"$f":"IF(PL129=\"\", 0, PL129 - IF(PL128=\"\", LOOKUP(2, 1/(PL$17:PL127<>\"\"), PL$17:PL127), PL128))","v":0},null,null,null,null,90,"",null,null,{"$f":"IF(PU129=\"\", 0, PU129 - IF(PU128=\"\", LOOKUP(2, 1/(PU$17:PU127<>\"\"), PU$17:PU127), PU128))","v":0},null,null,null,null,90,"",null,null,{"$f":"IF(QD129=\"\", 0, QD129 - IF(QD128=\"\", LOOKUP(2, 1/(QD$17:QD127<>\"\"), QD$17:QD127), QD128))","v":0}]
[null,null,null,89,"",null,null,{"$f":"IF(G130=\"\", 0, G130 - IF(G129=\"\", LOOKUP(2, 1/(G$17:G128<>\"\"), G$17:G128), G129))","v":0},null,null,null,null,89,"",null,null,{"$f":"IF(P130=\"\", 0, P130 - IF(P129=\"\", LOOKUP(2, 1/(P$17:P128<>\"\"), P$17:P128), P129))","v":0},null,null,null,null,89,"",null,null,{"$f":"IF(Y130=\"\", 0, Y130 - IF(Y129=\"\", LOOKUP(2, 1/(Y$17:Y128<>\"\"), Y$17:Y128), Y129))","v":0},null,null,null,null,89,"",null,null,{"$f":"IF(AH130=\"\", 0, AH130 - IF(AH129=\"\", LOOKUP(2, 1/(AH$17:AH128<>\"\"), AH$17:AH128), AH129))","v":0},null,null,null,null,89,"",null,null,{"$f":"IF(AQ130=\"\", 0, AQ130 - IF(AQ129=\"\", LOOKUP(2, 1/(AQ$17:AQ128<>\"\"), AQ$17:AQ128), AQ129))","v":0},null,null,null,null,89,"",null,null,{"$f":"IF(AZ130=\"\", 0, AZ130 - IF(AZ129=\"\", LOOKUP(2, 1/(AZ$17:AZ128<>\"\"), AZ$17:AZ128), AZ129))","v":0},null,null,null,null,89,"",null,null,{"$f":"IF(BI130=\"\", 0, BI130 - IF(BI129=\"\", LOOKUP(2, 1/(BI$17:BI128<>\"\"), BI$17:BI128), BI129))","v":0},null,null,null,null,89,"",null,null,{"$f":"IF(BR130=\"\", 0, BR130 - IF(BR129=\"\", LOOKUP(2, 1/(BR$17:BR128<>\"\"), BR$17:BR128), BR129))","v":0},null,null,null,null,89,"",null,null,{"$f":"IF(CA130=\"\", 0, CA130 - IF(CA129=\"\", LOOKUP(2, 1/(CA$17:CA128<>\"\"), CA$17:CA128), CA129))","v":0},null,null,null,null,89,"",null,null,{"$f":"IF(CJ130=\"\", 0, CJ130 - IF(CJ129=\"\", LOOKUP(2, 1/(CJ$17:CJ128<>\"\"), CJ$17:CJ128), CJ129))","v":0},null,null,null,null,89,"",null,null,{"$f":"IF(CS130=\"\", 0, CS130 - IF(CS129=\"\", LOOKUP(2, 1/(CS$17:CS128<>\"\"), CS$17:CS128), CS129))","v":0},null,null,null,null,89,"",null,null,{"$f":"IF(DB130=\"\", 0, DB130 - IF(DB129=\"\", LOOKUP(2, 1/(DB$17:DB128<>\"\"), DB$17:DB128), DB129))","v":0},null,null,null,null,89,"",null,null,{"$f":"IF(DK130=\"\", 0, DK130 - IF(DK129=\"\", LOOKUP(2, 1/(DK$17:DK128<>\"\"), DK$17:DK128), DK129))","v":0},null,null,null,null,89,"",null,null,{"$f":"IF(DT130=\"\", 0, DT130 - IF(DT129=\"\", LOOKUP(2, 1/(DT$17:DT128<>\"\"), DT$17:DT128), DT129))","v":0},null,null,null,null,89,"",null,null,{"$f":"IF(EC130=\"\", 0, EC130 - IF(EC129=\"\", LOOKUP(2, 1/(EC$17:EC128<>\"\"), EC$17:EC128), EC129))","v":0},null,null,null,null,89,"",null,null,{"$f":"IF(EL130=\"\", 0, EL130 - IF(EL129=\"\", LOOKUP(2, 1/(EL$17:EL128<>\"\"), EL$17:EL128), EL129))","v":0},null,null,null,null,89,"",null,null,{"$f":"IF(EU130=\"\", 0, EU130 - IF(EU129=\"\", LOOKUP(2, 1/(EU$17:EU128<>\"\"), EU$17:EU128), EU129))","v":0},null,null,null,null,89,"",null,null,{"$f":"IF(FD130=\"\", 0, FD130 - IF(FD129=\"\", LOOKUP(2, 1/(FD$17:FD128<>\"\"), FD$17:FD128), FD129))","v":0},null,null,null,null,89,"",null,null,{"$f":"IF(FM130=\"\", 0, FM130 - IF(FM129=\"\", LOOKUP(2, 1/(FM$17:FM128<>\"\"), FM$17:FM128), FM129))","v":0},null,null,null,null,89,"",null,null,{"$f":"IF(FV130=\"\", 0, FV130 - IF(FV129=\"\", LOOKUP(2, 1/(FV$17:FV128<>\"\"), FV$17:FV128), FV129))","v":0},null,null,null,null,89,"",null,null,{"$f":"IF(GE130=\"\", 0, GE130 - IF(GE129=\"\", LOOKUP(2, 1/(GE$17:GE128<>\"\"), GE$17:GE128), GE129))","v":0},null,null,null,null,89,"",null,null,{"$f":"IF(GN130=\"\", 0, GN130 - IF(GN129=\"\", LOOKUP(2, 1/(GN$17:GN128<>\"\"), GN$17:GN128), GN129))","v":0},null,null,null,null,89,"",null,null,{"$f":"IF(GW130=\"\", 0, GW130 - IF(GW129=\"\", LOOKUP(2, 1/(GW$17:GW128<>\"\"), GW$17:GW128), GW129))","v":0},null,null,null,null,89,"",null,null,{"$f":"IF(HF130=\"\", 0, HF130 - IF(HF129=\"\", LOOKUP(2, 1/(HF$17:HF128<>\"\"), HF$17:HF128), HF129))","v":0},null,null,null,null,89,"",null,null,{"$f":"IF(HO130=\"\", 0, HO130 - IF(HO129=\"\", LOOKUP(2, 1/(HO$17:HO128<>\"\"), HO$17:HO128), HO129))","v":0},null,null,null,null,89,"",null,null,{"$f":"IF(HX130=\"\", 0, HX130 - IF(HX129=\"\", LOOKUP(2, 1/(HX$17:HX128<>\"\"), HX$17:HX128), HX129))","v":0},null,null,null,null,89,"",null,null,{"$f":"IF(IG130=\"\", 0, IG130 - IF(IG129=\"\", LOOKUP(2, 1/(IG$17:IG128<>\"\"), IG$17:IG128), IG129))","v":0},null,null,null,null,89,"",null,null,{"$f":"IF(IP130=\"\", 0, IP130 - IF(IP129=\"\", LOOKUP(2, 1/(IP$17:IP128<>\"\"), IP$17:IP128), IP129))","v":0},null,null,null,null,89,"",null,null,{"$f":"IF(IY130=\"\", 0, IY130 - IF(IY129=\"\", LOOKUP(2, 1/(IY$17:IY128<>\"\"), IY$17:IY128), IY129))","v":0},null,null,null,null,89,"",null,null,{"$f":"IF(JH130=\"\", 0, JH130 - IF(JH129=\"\", LOOKUP(2, 1/(JH$17:JH128<>\"\"), JH$17:JH128), JH129))","v":0},null,null,null,null,89,"",null,null,{"$f":"IF(JQ130=\"\", 0, JQ130 - IF(JQ129=\"\", LOOKUP(2, 1/(JQ$17:JQ128<>\"\"), JQ$17:JQ128), JQ129))","v":0},null,null,null,null,89,"",null,null,{"$f":"IF(JZ130=\"\", 0, JZ130 - IF(JZ129=\"\", LOOKUP(2, 1/(JZ$17:JZ128<>\"\"), JZ$17:JZ128), JZ129))","v":0},null,null,null,null,89,"",null,null,{"$f":"IF(KI130=\"\", 0, KI130 - IF(KI129=\"\", LOOKUP(2, 1/(KI$17:KI128<>\"\"), KI$17:KI128), KI129))","v":0},null,null,null,null,89,"",null,null,{"$f":"IF(KR130=\"\", 0, KR130 - IF(KR129=\"\", LOOKUP(2, 1/(KR$17:KR128<>\"\"), KR$17:KR128), KR129))","v":0},null,null,null,null,89,"",null,null,{"$f":"IF(LA130=\"\", 0, LA130 - IF(LA129=\"\", LOOKUP(2, 1/(LA$17:LA128<>\"\"), LA$17:LA128), LA129))","v":0},null,null,null,null,89,"",null,null,{"$f":"IF(LJ130=\"\", 0, LJ130 - IF(LJ129=\"\", LOOKUP(2, 1/(LJ$17:LJ128<>\"\"), LJ$17:LJ128), LJ129))","v":0},null,null,null,null,89,"",null,null,{"$f":"IF(LS130=\"\", 0, LS130 - IF(LS129=\"\", LOOKUP(2, 1/(LS$17:LS128<>\"\"), LS$17:LS128), LS129))","v":0},null,null,null,null,89,"",null,null,{"$f":"IF(MB130=\"\", 0, MB130 - IF(MB129=\"\", LOOKUP(2, 1/(MB$17:MB128<>\"\"), MB$17:MB128), MB129))","v":0},null,null,null,null,89,"",null,null,{"$f":"IF(MK130=\"\", 0, MK130 - IF(MK129=\"\", LOOKUP(2, 1/(MK$17:MK128<>\"\"), MK$17:MK128), MK129))","v":0},null,null,null,null,89,"",null,null,{"$f":"IF(MT130=\"\", 0, MT130 - IF(MT129=\"\", LOOKUP(2, 1/(MT$17:MT128<>\"\"), MT$17:MT128), MT129))","v":0},null,null,89,"",null,null,{"$f":"IF(NA130=\"\", 0, NA130 - IF(NA129=\"\", LOOKUP(2, 1/(NA$17:NA128<>\"\"), NA$17:NA128), NA129))","v":0},null,null,null,null,89,"",null,null,{"$f":"IF(NJ130=\"\", 0, NJ130 - IF(NJ129=\"\", LOOKUP(2, 1/(NJ$17:NJ128<>\"\"), NJ$17:NJ128), NJ129))","v":0},null,null,null,null,89,"",null,null,{"$f":"IF(NS130=\"\", 0, NS130 - IF(NS129=\"\", LOOKUP(2, 1/(NS$17:NS128<>\"\"), NS$17:NS128), NS129))","v":0},null,null,null,null,89,"",null,null,{"$f":"IF(OB130=\"\", 0, OB130 - IF(OB129=\"\", LOOKUP(2, 1/(OB$17:OB128<>\"\"), OB$17:OB128), OB129))","v":0},null,null,null,null,89,"",null,null,{"$f":"IF(OK130=\"\", 0, OK130 - IF(OK129=\"\", LOOKUP(2, 1/(OK$17:OK128<>\"\"), OK$17:OK128), OK129))","v":0},null,null,null,null,89,"",null,null,{"$f":"IF(OT130=\"\", 0, OT130 - IF(OT129=\"\", LOOKUP(2, 1/(OT$17:OT128<>\"\"), OT$17:OT128), OT129))","v":0},null,null,null,null,89,"",null,null,{"$f":"IF(PC130=\"\", 0, PC130 - IF(PC129=\"\", LOOKUP(2, 1/(PC$17:PC128<>\"\"), PC$17:PC128), PC129))","v":0},null,null,null,null,89,"",null,null,{"$f":"IF(PL130=\"\", 0, PL130 - IF(PL129=\"\", LOOKUP(2, 1/(PL$17:PL128<>\"\"), PL$17:PL128), PL129))","v":0},null,null,null,null,89,"",null,null,{"$f":"IF(PU130=\"\", 0, PU130 - IF(PU129=\"\", LOOKUP(2, 1/(PU$17:PU128<>\"\"), PU$17:PU128), PU129))","v":0},null,null,null,null,89,"",null,null,{"$f":"IF(QD130=\"\", 0, QD130 - IF(QD129=\"\", LOOKUP(2, 1/(QD$17:QD128<>\"\"), QD$17:QD128), QD129))","v":0}]
[null,null,null,88,"",null,null,{"$f":"IF(G131=\"\", 0, G131 - IF(G130=\"\", LOOKUP(2, 1/(G$17:G129<>\"\"), G$17:G129), G130))","v":0},null,null,null,null,88,"",null,null,{"$f":"IF(P131=\"\", 0, P131 - IF(P130=\"\", LOOKUP(2, 1/(P$17:P129<>\"\"), P$17:P129), P130))","v":0},null,null,null,null,88,"",null,null,{"$f":"IF(Y131=\"\", 0, Y131 - IF(Y130=\"\", LOOKUP(2, 1/(Y$17:Y129<>\"\"), Y$17:Y129), Y130))","v":0},null,null,null,null,88,"",null,null,{"$f":"IF(AH131=\"\", 0, AH131 - IF(AH130=\"\", LOOKUP(2, 1/(AH$17:AH129<>\"\"), AH$17:AH129), AH130))","v":0},null,null,null,null,88,"",null,null,{"$f":"IF(AQ131=\"\", 0, AQ131 - IF(AQ130=\"\", LOOKUP(2, 1/(AQ$17:AQ129<>\"\"), AQ$17:AQ129), AQ130))","v":0},null,null,null,null,88,"",null,null,{"$f":"IF(AZ131=\"\", 0, AZ131 - IF(AZ130=\"\", LOOKUP(2, 1/(AZ$17:AZ129<>\"\"), AZ$17:AZ129), AZ130))","v":0},null,null,null,null,88,"",null,null,{"$f":"IF(BI131=\"\", 0, BI131 - IF(BI130=\"\", LOOKUP(2, 1/(BI$17:BI129<>\"\"), BI$17:BI129), BI130))","v":0},null,null,null,null,88,"",null,null,{"$f":"IF(BR131=\"\", 0, BR131 - IF(BR130=\"\", LOOKUP(2, 1/(BR$17:BR129<>\"\"), BR$17:BR129), BR130))","v":0},null,null,null,null,88,"",null,null,{"$f":"IF(CA131=\"\", 0, CA131 - IF(CA130=\"\", LOOKUP(2, 1/(CA$17:CA129<>\"\"), CA$17:CA129), CA130))","v":0},null,null,null,null,88,"",null,null,{"$f":"IF(CJ131=\"\", 0, CJ131 - IF(CJ130=\"\", LOOKUP(2, 1/(CJ$17:CJ129<>\"\"), CJ$17:CJ129), CJ130))","v":0},null,null,null,null,88,"",null,null,{"$f":"IF(CS131=\"\", 0, CS131 - IF(CS130=\"\", LOOKUP(2, 1/(CS$17:CS129<>\"\"), CS$17:CS129), CS130))","v":0},null,null,null,null,88,"",null,null,{"$f":"IF(DB131=\"\", 0, DB131 - IF(DB130=\"\", LOOKUP(2, 1/(DB$17:DB129<>\"\"), DB$17:DB129), DB130))","v":0},null,null,null,null,88,"",null,null,{"$f":"IF(DK131=\"\", 0, DK131 - IF(DK130=\"\", LOOKUP(2, 1/(DK$17:DK129<>\"\"), DK$17:DK129), DK130))","v":0},null,null,null,null,88,"",null,null,{"$f":"IF(DT131=\"\", 0, DT131 - IF(DT130=\"\", LOOKUP(2, 1/(DT$17:DT129<>\"\"), DT$17:DT129), DT130))","v":0},null,null,null,null,88,"",null,null,{"$f":"IF(EC131=\"\", 0, EC131 - IF(EC130=\"\", LOOKUP(2, 1/(EC$17:EC129<>\"\"), EC$17:EC129), EC130))","v":0},null,null,null,null,88,"",null,null,{"$f":"IF(EL131=\"\", 0, EL131 - IF(EL130=\"\", LOOKUP(2, 1/(EL$17:EL129<>\"\"), EL$17:EL129), EL130))","v":0},null,null,null,null,88,"",null,null,{"$f":"IF(EU131=\"\", 0, EU131 - IF(EU130=\"\", LOOKUP(2, 1/(EU$17:EU129<>\"\"), EU$17:EU129), EU130))","v":0},null,null,null,null,88,"",null,null,{"$f":"IF(FD131=\"\", 0, FD131 - IF(FD130=\"\", LOOKUP(2, 1/(FD$17:FD129<>\"\"), FD$17:FD129), FD130))","v":0},null,null,null,null,88,"",null,null,{"$f":"IF(FM131=\"\", 0, FM131 - IF(FM130=\"\", LOOKUP(2, 1/(FM$17:FM129<>\"\"), FM$17:FM129), FM130))","v":0},null,null,null,null,88,"",null,null,{"$f":"IF(FV131=\"\", 0, FV131 - IF(FV130=\"\", LOOKUP(2, 1/(FV$17:FV129<>\"\"), FV$17:FV129), FV130))","v":0},null,null,null,null,88,"",null,null,{"$f":"IF(GE131=\"\", 0, GE131 - IF(GE130=\"\", LOOKUP(2, 1/(GE$17:GE129<>\"\"), GE$17:GE129), GE130))","v":0},null,null,null,null,88,"",null,null,{"$f":"IF(GN131=\"\", 0, GN131 - IF(GN130=\"\", LOOKUP(2, 1/(GN$17:GN129<>\"\"), GN$17:GN129), GN130))","v":0},null,null,null,null,88,"",null,null,{"$f":"IF(GW131=\"\", 0, GW131 - IF(GW130=\"\", LOOKUP(2, 1/(GW$17:GW129<>\"\"), GW$17:GW129), GW130))","v":0},null,null,null,null,88,"",null,null,{"$f":"IF(HF131=\"\", 0, HF131 - IF(HF130=\"\", LOOKUP(2, 1/(HF$17:HF129<>\"\"), HF$17:HF129), HF130))","v":0},null,null,null,null,88,"",null,null,{"$f":"IF(HO131=\"\", 0, HO131 - IF(HO130=\"\", LOOKUP(2, 1/(HO$17:HO129<>\"\"), HO$17:HO129), HO130))","v":0},null,null,null,null,88,"",null,null,{"$f":"IF(HX131=\"\", 0, HX131 - IF(HX130=\"\", LOOKUP(2, 1/(HX$17:HX129<>\"\"), HX$17:HX129), HX130))","v":0},null,null,null,null,88,"",null,null,{"$f":"IF(IG131=\"\", 0, IG131 - IF(IG130=\"\", LOOKUP(2, 1/(IG$17:IG129<>\"\"), IG$17:IG129), IG130))","v":0},null,null,null,null,88,"",null,null,{"$f":"IF(IP131=\"\", 0, IP131 - IF(IP130=\"\", LOOKUP(2, 1/(IP$17:IP129<>\"\"), IP$17:IP129), IP130))","v":0},null,null,null,null,88,"",null,null,{"$f":"IF(IY131=\"\", 0, IY131 - IF(IY130=\"\", LOOKUP(2, 1/(IY$17:IY129<>\"\"), IY$17:IY129), IY130))","v":0},null,null,null,null,88,"",null,null,{"$f":"IF(JH131=\"\", 0, JH131 - IF(JH130=\"\", LOOKUP(2, 1/(JH$17:JH129<>\"\"), JH$17:JH129), JH130))","v":0},null,null,null,null,88,"",null,null,{"$f":"IF(JQ131=\"\", 0, JQ131 - IF(JQ130=\"\", LOOKUP(2, 1/(JQ$17:JQ129<>\"\"), JQ$17:JQ129), JQ130))","v":0},null,null,null,null,88,"",null,null,{"$f":"IF(JZ131=\"\", 0, JZ131 - IF(JZ130=\"\", LOOKUP(2, 1/(JZ$17:JZ129<>\"\"), JZ$17:JZ129), JZ130))","v":0},null,null,null,null,88,"",null,null,{"$f":"IF(KI131=\"\", 0, KI131 - IF(KI130=\"\", LOOKUP(2, 1/(KI$17:KI129<>\"\"), KI$17:KI129), KI130))","v":0},null,null,null,null,88,"",null,null,{"$f":"IF(KR131=\"\", 0, KR131 - IF(KR130=\"\", LOOKUP(2, 1/(KR$17:KR129<>\"\"), KR$17:KR129), KR130))","v":0},null,null,null,null,88,"",null,null,{"$f":"IF(LA131=\"\", 0, LA131 - IF(LA130=\"\", LOOKUP(2, 1/(LA$17:LA129<>\"\"), LA$17:LA129), LA130))","v":0},null,null,null,null,88,"",null,null,{"$f":"IF(LJ131=\"\", 0, LJ131 - IF(LJ130=\"\", LOOKUP(2, 1/(LJ$17:LJ129<>\"\"), LJ$17:LJ129), LJ130))","v":0},null,null,null,null,88,"",null,null,{"$f":"IF(LS131=\"\", 0, LS131 - IF(LS130=\"\", LOOKUP(2, 1/(LS$17:LS129<>\"\"), LS$17:LS129), LS130))","v":0},null,null,null,null,88,"",null,null,{"$f":"IF(MB131=\"\", 0, MB131 - IF(MB130=\"\", LOOKUP(2, 1/(MB$17:MB129<>\"\"), MB$17:MB129), MB130))","v":0},null,null,null,null,88,"",null,null,{"$f":"IF(MK131=\"\", 0, MK131 - IF(MK130=\"\", LOOKUP(2, 1/(MK$17:MK129<>\"\"), MK$17:MK129), MK130))","v":0},null,null,null,null,88,"",null,null,{"$f":"IF(MT131=\"\", 0, MT131 - IF(MT130=\"\", LOOKUP(2, 1/(MT$17:MT129<>\"\"), MT$17:MT129), MT130))","v":0},null,null,88,"",null,null,{"$f":"IF(NA131=\"\", 0, NA131 - IF(NA130=\"\", LOOKUP(2, 1/(NA$17:NA129<>\"\"), NA$17:NA129), NA130))","v":0},null,null,null,null,88,"",null,null,{"$f":"IF(NJ131=\"\", 0, NJ131 - IF(NJ130=\"\", LOOKUP(2, 1/(NJ$17:NJ129<>\"\"), NJ$17:NJ129), NJ130))","v":0},null,null,null,null,88,"",null,null,{"$f":"IF(NS131=\"\", 0, NS131 - IF(NS130=\"\", LOOKUP(2, 1/(NS$17:NS129<>\"\"), NS$17:NS129), NS130))","v":0},null,null,null,null,88,"",null,null,{"$f":"IF(OB131=\"\", 0, OB131 - IF(OB130=\"\", LOOKUP(2, 1/(OB$17:OB129<>\"\"), OB$17:OB129), OB130))","v":0},null,null,null,null,88,"",null,null,{"$f":"IF(OK131=\"\", 0, OK131 - IF(OK130=\"\", LOOKUP(2, 1/(OK$17:OK129<>\"\"), OK$17:OK129), OK130))","v":0},null,null,null,null,88,"",null,null,{"$f":"IF(OT131=\"\", 0, OT131 - IF(OT130=\"\", LOOKUP(2, 1/(OT$17:OT129<>\"\"), OT$17:OT129), OT130))","v":0},null,null,null,null,88,"",null,null,{"$f":"IF(PC131=\"\", 0, PC131 - IF(PC130=\"\", LOOKUP(2, 1/(PC$17:PC129<>\"\"), PC$17:PC129), PC130))","v":0},null,null,null,null,88,"",null,null,{"$f":"IF(PL131=\"\", 0, PL131 - IF(PL130=\"\", LOOKUP(2, 1/(PL$17:PL129<>\"\"), PL$17:PL129), PL130))","v":0},null,null,null,null,88,"",null,null,{"$f":"IF(PU131=\"\", 0, PU131 - IF(PU130=\"\", LOOKUP(2, 1/(PU$17:PU129<>\"\"), PU$17:PU129), PU130))","v":0},null,null,null,null,88,"",null,null,{"$f":"IF(QD131=\"\", 0, QD131 - IF(QD130=\"\", LOOKUP(2, 1/(QD$17:QD129<>\"\"), QD$17:QD129), QD130))","v":0}]
[null,null,null,87,"",null,null,{"$f":"IF(G132=\"\", 0, G132 - IF(G131=\"\", LOOKUP(2, 1/(G$17:G130<>\"\"), G$17:G130), G131))","v":0},null,null,null,null,87,"",null,null,{"$f":"IF(P132=\"\", 0, P132 - IF(P131=\"\", LOOKUP(2, 1/(P$17:P130<>\"\"), P$17:P130), P131))","v":0},null,null,null,null,87,"",null,null,{"$f":"IF(Y132=\"\", 0, Y132 - IF(Y131=\"\", LOOKUP(2, 1/(Y$17:Y130<>\"\"), Y$17:Y130), Y131))","v":0},null,null,null,null,87,"",null,null,{"$f":"IF(AH132=\"\", 0, AH132 - IF(AH131=\"\", LOOKUP(2, 1/(AH$17:AH130<>\"\"), AH$17:AH130), AH131))","v":0},null,null,null,null,87,"",null,null,{"$f":"IF(AQ132=\"\", 0, AQ132 - IF(AQ131=\"\", LOOKUP(2, 1/(AQ$17:AQ130<>\"\"), AQ$17:AQ130), AQ131))","v":0},null,null,null,null,87,"",null,null,{"$f":"IF(AZ132=\"\", 0, AZ132 - IF(AZ131=\"\", LOOKUP(2, 1/(AZ$17:AZ130<>\"\"), AZ$17:AZ130), AZ131))","v":0},null,null,null,null,87,"",null,null,{"$f":"IF(BI132=\"\", 0, BI132 - IF(BI131=\"\", LOOKUP(2, 1/(BI$17:BI130<>\"\"), BI$17:BI130), BI131))","v":0},null,null,null,null,87,"",null,null,{"$f":"IF(BR132=\"\", 0, BR132 - IF(BR131=\"\", LOOKUP(2, 1/(BR$17:BR130<>\"\"), BR$17:BR130), BR131))","v":0},null,null,null,null,87,"",null,null,{"$f":"IF(CA132=\"\", 0, CA132 - IF(CA131=\"\", LOOKUP(2, 1/(CA$17:CA130<>\"\"), CA$17:CA130), CA131))","v":0},null,null,null,null,87,"",null,null,{"$f":"IF(CJ132=\"\", 0, CJ132 - IF(CJ131=\"\", LOOKUP(2, 1/(CJ$17:CJ130<>\"\"), CJ$17:CJ130), CJ131))","v":0},null,null,null,null,87,"",null,null,{"$f":"IF(CS132=\"\", 0, CS132 - IF(CS131=\"\", LOOKUP(2, 1/(CS$17:CS130<>\"\"), CS$17:CS130), CS131))","v":0},null,null,null,null,87,"",null,null,{"$f":"IF(DB132=\"\", 0, DB132 - IF(DB131=\"\", LOOKUP(2, 1/(DB$17:DB130<>\"\"), DB$17:DB130), DB131))","v":0},null,null,null,null,87,"",null,null,{"$f":"IF(DK132=\"\", 0, DK132 - IF(DK131=\"\", LOOKUP(2, 1/(DK$17:DK130<>\"\"), DK$17:DK130), DK131))","v":0},null,null,null,null,87,"",null,null,{"$f":"IF(DT132=\"\", 0, DT132 - IF(DT131=\"\", LOOKUP(2, 1/(DT$17:DT130<>\"\"), DT$17:DT130), DT131))","v":0},null,null,null,null,87,"",null,null,{"$f":"IF(EC132=\"\", 0, EC132 - IF(EC131=\"\", LOOKUP(2, 1/(EC$17:EC130<>\"\"), EC$17:EC130), EC131))","v":0},null,null,null,null,87,"",null,null,{"$f":"IF(EL132=\"\", 0, EL132 - IF(EL131=\"\", LOOKUP(2, 1/(EL$17:EL130<>\"\"), EL$17:EL130), EL131))","v":0},null,null,null,null,87,"",null,null,{"$f":"IF(EU132=\"\", 0, EU132 - IF(EU131=\"\", LOOKUP(2, 1/(EU$17:EU130<>\"\"), EU$17:EU130), EU131))","v":0},null,null,null,null,87,"",null,null,{"$f":"IF(FD132=\"\", 0, FD132 - IF(FD131=\"\", LOOKUP(2, 1/(FD$17:FD130<>\"\"), FD$17:FD130), FD131))","v":0},null,null,null,null,87,"",null,null,{"$f":"IF(FM132=\"\", 0, FM132 - IF(FM131=\"\", LOOKUP(2, 1/(FM$17:FM130<>\"\"), FM$17:FM130), FM131))","v":0},null,null,null,null,87,"",null,null,{"$f":"IF(FV132=\"\", 0, FV132 - IF(FV131=\"\", LOOKUP(2, 1/(FV$17:FV130<>\"\"), FV$17:FV130), FV131))","v":0},null,null,null,null,87,"",null,null,{"$f":"IF(GE132=\"\", 0, GE132 - IF(GE131=\"\", LOOKUP(2, 1/(GE$17:GE130<>\"\"), GE$17:GE130), GE131))","v":0},null,null,null,null,87,"",null,null,{"$f":"IF(GN132=\"\", 0, GN132 - IF(GN131=\"\", LOOKUP(2, 1/(GN$17:GN130<>\"\"), GN$17:GN130), GN131))","v":0},null,null,null,null,87,"",null,null,{"$f":"IF(GW132=\"\", 0, GW132 - IF(GW131=\"\", LOOKUP(2, 1/(GW$17:GW130<>\"\"), GW$17:GW130), GW131))","v":0},null,null,null,null,87,"",null,null,{"$f":"IF(HF132=\"\", 0, HF132 - IF(HF131=\"\", LOOKUP(2, 1/(HF$17:HF130<>\"\"), HF$17:HF130), HF131))","v":0},null,null,null,null,87,"",null,null,{"$f":"IF(HO132=\"\", 0, HO132 - IF(HO131=\"\", LOOKUP(2, 1/(HO$17:HO130<>\"\"), HO$17:HO130), HO131))","v":0},null,null,null,null,87,"",null,null,{"$f":"IF(HX132=\"\", 0, HX132 - IF(HX131=\"\", LOOKUP(2, 1/(HX$17:HX130<>\"\"), HX$17:HX130), HX131))","v":0},null,null,null,null,87,"",null,null,{"$f":"IF(IG132=\"\", 0, IG132 - IF(IG131=\"\", LOOKUP(2, 1/(IG$17:IG130<>\"\"), IG$17:IG130), IG131))","v":0},null,null,null,null,87,"",null,null,{"$f":"IF(IP132=\"\", 0, IP132 - IF(IP131=\"\", LOOKUP(2, 1/(IP$17:IP130<>\"\"), IP$17:IP130), IP131))","v":0},null,null,null,null,87,"",null,null,{"$f":"IF(IY132=\"\", 0, IY132 - IF(IY131=\"\", LOOKUP(2, 1/(IY$17:IY130<>\"\"), IY$17:IY130), IY131))","v":0},null,null,null,null,87,"",null,null,{"$f":"IF(JH132=\"\", 0, JH132 - IF(JH131=\"\", LOOKUP(2, 1/(JH$17:JH130<>\"\"), JH$17:JH130), JH131))","v":0},null,null,null,null,87,"",null,null,{"$f":"IF(JQ132=\"\", 0, JQ132 - IF(JQ131=\"\", LOOKUP(2, 1/(JQ$17:JQ130<>\"\"), JQ$17:JQ130), JQ131))","v":0},null,null,null,null,87,"",null,null,{"$f":"IF(JZ132=\"\", 0, JZ132 - IF(JZ131=\"\", LOOKUP(2, 1/(JZ$17:JZ130<>\"\"), JZ$17:JZ130), JZ131))","v":0},null,null,null,null,87,"",null,null,{"$f":"IF(KI132=\"\", 0, KI132 - IF(KI131=\"\", LOOKUP(2, 1/(KI$17:KI130<>\"\"), KI$17:KI130), KI131))","v":0},null,null,null,null,87,"",null,null,{"$f":"IF(KR132=\"\", 0, KR132 - IF(KR131=\"\", LOOKUP(2, 1/(KR$17:KR130<>\"\"), KR$17:KR130), KR131))","v":0},null,null,null,null,87,"",null,null,{"$f":"IF(LA132=\"\", 0, LA132 - IF(LA131=\"\", LOOKUP(2, 1/(LA$17:LA130<>\"\"), LA$17:LA130), LA131))","v":0},null,null,null,null,87,"",null,null,{"$f":"IF(LJ132=\"\", 0, LJ132 - IF(LJ131=\"\", LOOKUP(2, 1/(LJ$17:LJ130<>\"\"), LJ$17:LJ130), LJ131))","v":0},null,null,null,null,87,"",null,null,{"$f":"IF(LS132=\"\", 0, LS132 - IF(LS131=\"\", LOOKUP(2, 1/(LS$17:LS130<>\"\"), LS$17:LS130), LS131))","v":0},null,null,null,null,87,"",null,null,{"$f":"IF(MB132=\"\", 0, MB132 - IF(MB131=\"\", LOOKUP(2, 1/(MB$17:MB130<>\"\"), MB$17:MB130), MB131))","v":0},null,null,null,null,87,"",null,null,{"$f":"IF(MK132=\"\", 0, MK132 - IF(MK131=\"\", LOOKUP(2, 1/(MK$17:MK130<>\"\"), MK$17:MK130), MK131))","v":0},null,null,null,null,87,"",null,null,{"$f":"IF(MT132=\"\", 0, MT132 - IF(MT131=\"\", LOOKUP(2, 1/(MT$17:MT130<>\"\"), MT$17:MT130), MT131))","v":0},null,null,87,"",null,null,{"$f":"IF(NA132=\"\", 0, NA132 - IF(NA131=\"\", LOOKUP(2, 1/(NA$17:NA130<>\"\"), NA$17:NA130), NA131))","v":0},null,null,null,null,87,"",null,null,{"$f":"IF(NJ132=\"\", 0, NJ132 - IF(NJ131=\"\", LOOKUP(2, 1/(NJ$17:NJ130<>\"\"), NJ$17:NJ130), NJ131))","v":0},null,null,null,null,87,"",null,null,{"$f":"IF(NS132=\"\", 0, NS132 - IF(NS131=\"\", LOOKUP(2, 1/(NS$17:NS130<>\"\"), NS$17:NS130), NS131))","v":0},null,null,null,null,87,"",null,null,{"$f":"IF(OB132=\"\", 0, OB132 - IF(OB131=\"\", LOOKUP(2, 1/(OB$17:OB130<>\"\"), OB$17:OB130), OB131))","v":0},null,null,null,null,87,"",null,null,{"$f":"IF(OK132=\"\", 0, OK132 - IF(OK131=\"\", LOOKUP(2, 1/(OK$17:OK130<>\"\"), OK$17:OK130), OK131))","v":0},null,null,null,null,87,"",null,null,{"$f":"IF(OT132=\"\", 0, OT132 - IF(OT131=\"\", LOOKUP(2, 1/(OT$17:OT130<>\"\"), OT$17:OT130), OT131))","v":0},null,null,null,null,87,"",null,null,{"$f":"IF(PC132=\"\", 0, PC132 - IF(PC131=\"\", LOOKUP(2, 1/(PC$17:PC130<>\"\"), PC$17:PC130), PC131))","v":0},null,null,null,null,87,"",null,null,{"$f":"IF(PL132=\"\", 0, PL132 - IF(PL131=\"\", LOOKUP(2, 1/(PL$17:PL130<>\"\"), PL$17:PL130), PL131))","v":0},null,null,null,null,87,"",null,null,{"$f":"IF(PU132=\"\", 0, PU132 - IF(PU131=\"\", LOOKUP(2, 1/(PU$17:PU130<>\"\"), PU$17:PU130), PU131))","v":0},null,null,null,null,87,"",null,null,{"$f":"IF(QD132=\"\", 0, QD132 - IF(QD131=\"\", LOOKUP(2, 1/(QD$17:QD130<>\"\"), QD$17:QD130), QD131))","v":0}]
[null,null,null,86,"",null,null,{"$f":"IF(G133=\"\", 0, G133 - IF(G132=\"\", LOOKUP(2, 1/(G$17:G131<>\"\"), G$17:G131), G132))","v":0},null,null,null,null,86,"",null,null,{"$f":"IF(P133=\"\", 0, P133 - IF(P132=\"\", LOOKUP(2, 1/(P$17:P131<>\"\"), P$17:P131), P132))","v":0},null,null,null,null,86,"",null,null,{"$f":"IF(Y133=\"\", 0, Y133 - IF(Y132=\"\", LOOKUP(2, 1/(Y$17:Y131<>\"\"), Y$17:Y131), Y132))","v":0},null,null,null,null,86,"",null,null,{"$f":"IF(AH133=\"\", 0, AH133 - IF(AH132=\"\", LOOKUP(2, 1/(AH$17:AH131<>\"\"), AH$17:AH131), AH132))","v":0},null,null,null,null,86,"",null,null,{"$f":"IF(AQ133=\"\", 0, AQ133 - IF(AQ132=\"\", LOOKUP(2, 1/(AQ$17:AQ131<>\"\"), AQ$17:AQ131), AQ132))","v":0},null,null,null,null,86,"",null,null,{"$f":"IF(AZ133=\"\", 0, AZ133 - IF(AZ132=\"\", LOOKUP(2, 1/(AZ$17:AZ131<>\"\"), AZ$17:AZ131), AZ132))","v":0},null,null,null,null,86,"",null,null,{"$f":"IF(BI133=\"\", 0, BI133 - IF(BI132=\"\", LOOKUP(2, 1/(BI$17:BI131<>\"\"), BI$17:BI131), BI132))","v":0},null,null,null,null,86,"",null,null,{"$f":"IF(BR133=\"\", 0, BR133 - IF(BR132=\"\", LOOKUP(2, 1/(BR$17:BR131<>\"\"), BR$17:BR131), BR132))","v":0},null,null,null,null,86,"",null,null,{"$f":"IF(CA133=\"\", 0, CA133 - IF(CA132=\"\", LOOKUP(2, 1/(CA$17:CA131<>\"\"), CA$17:CA131), CA132))","v":0},null,null,null,null,86,"",null,null,{"$f":"IF(CJ133=\"\", 0, CJ133 - IF(CJ132=\"\", LOOKUP(2, 1/(CJ$17:CJ131<>\"\"), CJ$17:CJ131), CJ132))","v":0},null,null,null,null,86,"",null,null,{"$f":"IF(CS133=\"\", 0, CS133 - IF(CS132=\"\", LOOKUP(2, 1/(CS$17:CS131<>\"\"), CS$17:CS131), CS132))","v":0},null,null,null,null,86,"",null,null,{"$f":"IF(DB133=\"\", 0, DB133 - IF(DB132=\"\", LOOKUP(2, 1/(DB$17:DB131<>\"\"), DB$17:DB131), DB132))","v":0},null,null,null,null,86,"",null,null,{"$f":"IF(DK133=\"\", 0, DK133 - IF(DK132=\"\", LOOKUP(2, 1/(DK$17:DK131<>\"\"), DK$17:DK131), DK132))","v":0},null,null,null,null,86,"",null,null,{"$f":"IF(DT133=\"\", 0, DT133 - IF(DT132=\"\", LOOKUP(2, 1/(DT$17:DT131<>\"\"), DT$17:DT131), DT132))","v":0},null,null,null,null,86,"",null,null,{"$f":"IF(EC133=\"\", 0, EC133 - IF(EC132=\"\", LOOKUP(2, 1/(EC$17:EC131<>\"\"), EC$17:EC131), EC132))","v":0},null,null,null,null,86,"",null,null,{"$f":"IF(EL133=\"\", 0, EL133 - IF(EL132=\"\", LOOKUP(2, 1/(EL$17:EL131<>\"\"), EL$17:EL131), EL132))","v":0},null,null,null,null,86,"",null,null,{"$f":"IF(EU133=\"\", 0, EU133 - IF(EU132=\"\", LOOKUP(2, 1/(EU$17:EU131<>\"\"), EU$17:EU131), EU132))","v":0},null,null,null,null,86,"",null,null,{"$f":"IF(FD133=\"\", 0, FD133 - IF(FD132=\"\", LOOKUP(2, 1/(FD$17:FD131<>\"\"), FD$17:FD131), FD132))","v":0},null,null,null,null,86,"",null,null,{"$f":"IF(FM133=\"\", 0, FM133 - IF(FM132=\"\", LOOKUP(2, 1/(FM$17:FM131<>\"\"), FM$17:FM131), FM132))","v":0},null,null,null,null,86,"",null,null,{"$f":"IF(FV133=\"\", 0, FV133 - IF(FV132=\"\", LOOKUP(2, 1/(FV$17:FV131<>\"\"), FV$17:FV131), FV132))","v":0},null,null,null,null,86,"",null,null,{"$f":"IF(GE133=\"\", 0, GE133 - IF(GE132=\"\", LOOKUP(2, 1/(GE$17:GE131<>\"\"), GE$17:GE131), GE132))","v":0},null,null,null,null,86,"",null,null,{"$f":"IF(GN133=\"\", 0, GN133 - IF(GN132=\"\", LOOKUP(2, 1/(GN$17:GN131<>\"\"), GN$17:GN131), GN132))","v":0},null,null,null,null,86,"",null,null,{"$f":"IF(GW133=\"\", 0, GW133 - IF(GW132=\"\", LOOKUP(2, 1/(GW$17:GW131<>\"\"), GW$17:GW131), GW132))","v":0},null,null,null,null,86,"",null,null,{"$f":"IF(HF133=\"\", 0, HF133 - IF(HF132=\"\", LOOKUP(2, 1/(HF$17:HF131<>\"\"), HF$17:HF131), HF132))","v":0},null,null,null,null,86,"",null,null,{"$f":"IF(HO133=\"\", 0, HO133 - IF(HO132=\"\", LOOKUP(2, 1/(HO$17:HO131<>\"\"), HO$17:HO131), HO132))","v":0},null,null,null,null,86,"",null,null,{"$f":"IF(HX133=\"\", 0, HX133 - IF(HX132=\"\", LOOKUP(2, 1/(HX$17:HX131<>\"\"), HX$17:HX131), HX132))","v":0},null,null,null,null,86,"",null,null,{"$f":"IF(IG133=\"\", 0, IG133 - IF(IG132=\"\", LOOKUP(2, 1/(IG$17:IG131<>\"\"), IG$17:IG131), IG132))","v":0},null,null,null,null,86,"",null,null,{"$f":"IF(IP133=\"\", 0, IP133 - IF(IP132=\"\", LOOKUP(2, 1/(IP$17:IP131<>\"\"), IP$17:IP131), IP132))","v":0},null,null,null,null,86,"",null,null,{"$f":"IF(IY133=\"\", 0, IY133 - IF(IY132=\"\", LOOKUP(2, 1/(IY$17:IY131<>\"\"), IY$17:IY131), IY132))","v":0},null,null,null,null,86,"",null,null,{"$f":"IF(JH133=\"\", 0, JH133 - IF(JH132=\"\", LOOKUP(2, 1/(JH$17:JH131<>\"\"), JH$17:JH131), JH132))","v":0},null,null,null,null,86,"",null,null,{"$f":"IF(JQ133=\"\", 0, JQ133 - IF(JQ132=\"\", LOOKUP(2, 1/(JQ$17:JQ131<>\"\"), JQ$17:JQ131), JQ132))","v":0},null,null,null,null,86,"",null,null,{"$f":"IF(JZ133=\"\", 0, JZ133 - IF(JZ132=\"\", LOOKUP(2, 1/(JZ$17:JZ131<>\"\"), JZ$17:JZ131), JZ132))","v":0},null,null,null,null,86,"",null,null,{"$f":"IF(KI133=\"\", 0, KI133 - IF(KI132=\"\", LOOKUP(2, 1/(KI$17:KI131<>\"\"), KI$17:KI131), KI132))","v":0},null,null,null,null,86,"",null,null,{"$f":"IF(KR133=\"\", 0, KR133 - IF(KR132=\"\", LOOKUP(2, 1/(KR$17:KR131<>\"\"), KR$17:KR131), KR132))","v":0},null,null,null,null,86,"",null,null,{"$f":"IF(LA133=\"\", 0, LA133 - IF(LA132=\"\", LOOKUP(2, 1/(LA$17:LA131<>\"\"), LA$17:LA131), LA132))","v":0},null,null,null,null,86,"",null,null,{"$f":"IF(LJ133=\"\", 0, LJ133 - IF(LJ132=\"\", LOOKUP(2, 1/(LJ$17:LJ131<>\"\"), LJ$17:LJ131), LJ132))","v":0},null,null,null,null,86,"",null,null,{"$f":"IF(LS133=\"\", 0, LS133 - IF(LS132=\"\", LOOKUP(2, 1/(LS$17:LS131<>\"\"), LS$17:LS131), LS132))","v":0},null,null,null,null,86,"",null,null,{"$f":"IF(MB133=\"\", 0, MB133 - IF(MB132=\"\", LOOKUP(2, 1/(MB$17:MB131<>\"\"), MB$17:MB131), MB132))","v":0},null,null,null,null,86,"",null,null,{"$f":"IF(MK133=\"\", 0, MK133 - IF(MK132=\"\", LOOKUP(2, 1/(MK$17:MK131<>\"\"), MK$17:MK131), MK132))","v":0},null,null,null,null,86,"",null,null,{"$f":"IF(MT133=\"\", 0, MT133 - IF(MT132=\"\", LOOKUP(2, 1/(MT$17:MT131<>\"\"), MT$17:MT131), MT132))","v":0},null,null,86,"",null,null,{"$f":"IF(NA133=\"\", 0, NA133 - IF(NA132=\"\", LOOKUP(2, 1/(NA$17:NA131<>\"\"), NA$17:NA131), NA132))","v":0},null,null,null,null,86,"",null,null,{"$f":"IF(NJ133=\"\", 0, NJ133 - IF(NJ132=\"\", LOOKUP(2, 1/(NJ$17:NJ131<>\"\"), NJ$17:NJ131), NJ132))","v":0},null,null,null,null,86,"",null,null,{"$f":"IF(NS133=\"\", 0, NS133 - IF(NS132=\"\", LOOKUP(2, 1/(NS$17:NS131<>\"\"), NS$17:NS131), NS132))","v":0},null,null,null,null,86,"",null,null,{"$f":"IF(OB133=\"\", 0, OB133 - IF(OB132=\"\", LOOKUP(2, 1/(OB$17:OB131<>\"\"), OB$17:OB131), OB132))","v":0},null,null,null,null,86,"",null,null,{"$f":"IF(OK133=\"\", 0, OK133 - IF(OK132=\"\", LOOKUP(2, 1/(OK$17:OK131<>\"\"), OK$17:OK131), OK132))","v":0},null,null,null,null,86,"",null,null,{"$f":"IF(OT133=\"\", 0, OT133 - IF(OT132=\"\", LOOKUP(2, 1/(OT$17:OT131<>\"\"), OT$17:OT131), OT132))","v":0},null,null,null,null,86,"",null,null,{"$f":"IF(PC133=\"\", 0, PC133 - IF(PC132=\"\", LOOKUP(2, 1/(PC$17:PC131<>\"\"), PC$17:PC131), PC132))","v":0},null,null,null,null,86,"",null,null,{"$f":"IF(PL133=\"\", 0, PL133 - IF(PL132=\"\", LOOKUP(2, 1/(PL$17:PL131<>\"\"), PL$17:PL131), PL132))","v":0},null,null,null,null,86,"",null,null,{"$f":"IF(PU133=\"\", 0, PU133 - IF(PU132=\"\", LOOKUP(2, 1/(PU$17:PU131<>\"\"), PU$17:PU131), PU132))","v":0},null,null,null,null,86,"",null,null,{"$f":"IF(QD133=\"\", 0, QD133 - IF(QD132=\"\", LOOKUP(2, 1/(QD$17:QD131<>\"\"), QD$17:QD131), QD132))","v":0}]
[null,null,null,85,"",null,null,{"$f":"IF(G134=\"\", 0, G134 - IF(G133=\"\", LOOKUP(2, 1/(G$17:G132<>\"\"), G$17:G132), G133))","v":0},null,null,null,null,85,"",null,null,{"$f":"IF(P134=\"\", 0, P134 - IF(P133=\"\", LOOKUP(2, 1/(P$17:P132<>\"\"), P$17:P132), P133))","v":0},null,null,null,null,85,"",null,null,{"$f":"IF(Y134=\"\", 0, Y134 - IF(Y133=\"\", LOOKUP(2, 1/(Y$17:Y132<>\"\"), Y$17:Y132), Y133))","v":0},null,null,null,null,85,"",null,null,{"$f":"IF(AH134=\"\", 0, AH134 - IF(AH133=\"\", LOOKUP(2, 1/(AH$17:AH132<>\"\"), AH$17:AH132), AH133))","v":0},null,null,null,null,85,"",null,null,{"$f":"IF(AQ134=\"\", 0, AQ134 - IF(AQ133=\"\", LOOKUP(2, 1/(AQ$17:AQ132<>\"\"), AQ$17:AQ132), AQ133))","v":0},null,null,null,null,85,"",null,null,{"$f":"IF(AZ134=\"\", 0, AZ134 - IF(AZ133=\"\", LOOKUP(2, 1/(AZ$17:AZ132<>\"\"), AZ$17:AZ132), AZ133))","v":0},null,null,null,null,85,"",null,null,{"$f":"IF(BI134=\"\", 0, BI134 - IF(BI133=\"\", LOOKUP(2, 1/(BI$17:BI132<>\"\"), BI$17:BI132), BI133))","v":0},null,null,null,null,85,"",null,null,{"$f":"IF(BR134=\"\", 0, BR134 - IF(BR133=\"\", LOOKUP(2, 1/(BR$17:BR132<>\"\"), BR$17:BR132), BR133))","v":0},null,null,null,null,85,"",null,null,{"$f":"IF(CA134=\"\", 0, CA134 - IF(CA133=\"\", LOOKUP(2, 1/(CA$17:CA132<>\"\"), CA$17:CA132), CA133))","v":0},null,null,null,null,85,"",null,null,{"$f":"IF(CJ134=\"\", 0, CJ134 - IF(CJ133=\"\", LOOKUP(2, 1/(CJ$17:CJ132<>\"\"), CJ$17:CJ132), CJ133))","v":0},null,null,null,null,85,"",null,null,{"$f":"IF(CS134=\"\", 0, CS134 - IF(CS133=\"\", LOOKUP(2, 1/(CS$17:CS132<>\"\"), CS$17:CS132), CS133))","v":0},null,null,null,null,85,"",null,null,{"$f":"IF(DB134=\"\", 0, DB134 - IF(DB133=\"\", LOOKUP(2, 1/(DB$17:DB132<>\"\"), DB$17:DB132), DB133))","v":0},null,null,null,null,85,"",null,null,{"$f":"IF(DK134=\"\", 0, DK134 - IF(DK133=\"\", LOOKUP(2, 1/(DK$17:DK132<>\"\"), DK$17:DK132), DK133))","v":0},null,null,null,null,85,"",null,null,{"$f":"IF(DT134=\"\", 0, DT134 - IF(DT133=\"\", LOOKUP(2, 1/(DT$17:DT132<>\"\"), DT$17:DT132), DT133))","v":0},null,null,null,null,85,"",null,null,{"$f":"IF(EC134=\"\", 0, EC134 - IF(EC133=\"\", LOOKUP(2, 1/(EC$17:EC132<>\"\"), EC$17:EC132), EC133))","v":0},null,null,null,null,85,"",null,null,{"$f":"IF(EL134=\"\", 0, EL134 - IF(EL133=\"\", LOOKUP(2, 1/(EL$17:EL132<>\"\"), EL$17:EL132), EL133))","v":0},null,null,null,null,85,"",null,null,{"$f":"IF(EU134=\"\", 0, EU134 - IF(EU133=\"\", LOOKUP(2, 1/(EU$17:EU132<>\"\"), EU$17:EU132), EU133))","v":0},null,null,null,null,85,"",null,null,{"$f":"IF(FD134=\"\", 0, FD134 - IF(FD133=\"\", LOOKUP(2, 1/(FD$17:FD132<>\"\"), FD$17:FD132), FD133))","v":0},null,null,null,null,85,"",null,null,{"$f":"IF(FM134=\"\", 0, FM134 - IF(FM133=\"\", LOOKUP(2, 1/(FM$17:FM132<>\"\"), FM$17:FM132), FM133))","v":0},null,null,null,null,85,"",null,null,{"$f":"IF(FV134=\"\", 0, FV134 - IF(FV133=\"\", LOOKUP(2, 1/(FV$17:FV132<>\"\"), FV$17:FV132), FV133))","v":0},null,null,null,null,85,"",null,null,{"$f":"IF(GE134=\"\", 0, GE134 - IF(GE133=\"\", LOOKUP(2, 1/(GE$17:GE132<>\"\"), GE$17:GE132), GE133))","v":0},null,null,null,null,85,"",null,null,{"$f":"IF(GN134=\"\", 0, GN134 - IF(GN133=\"\", LOOKUP(2, 1/(GN$17:GN132<>\"\"), GN$17:GN132), GN133))","v":0},null,null,null,null,85,"",null,null,{"$f":"IF(GW134=\"\", 0, GW134 - IF(GW133=\"\", LOOKUP(2, 1/(GW$17:GW132<>\"\"), GW$17:GW132), GW133))","v":0},null,null,null,null,85,"",null,null,{"$f":"IF(HF134=\"\", 0, HF134 - IF(HF133=\"\", LOOKUP(2, 1/(HF$17:HF132<>\"\"), HF$17:HF132), HF133))","v":0},null,null,null,null,85,"",null,null,{"$f":"IF(HO134=\"\", 0, HO134 - IF(HO133=\"\", LOOKUP(2, 1/(HO$17:HO132<>\"\"), HO$17:HO132), HO133))","v":0},null,null,null,null,85,"",null,null,{"$f":"IF(HX134=\"\", 0, HX134 - IF(HX133=\"\", LOOKUP(2, 1/(HX$17:HX132<>\"\"), HX$17:HX132), HX133))","v":0},null,null,null,null,85,"",null,null,{"$f":"IF(IG134=\"\", 0, IG134 - IF(IG133=\"\", LOOKUP(2, 1/(IG$17:IG132<>\"\"), IG$17:IG132), IG133))","v":0},null,null,null,null,85,"",null,null,{"$f":"IF(IP134=\"\", 0, IP134 - IF(IP133=\"\", LOOKUP(2, 1/(IP$17:IP132<>\"\"), IP$17:IP132), IP133))","v":0},null,null,null,null,85,"",null,null,{"$f":"IF(IY134=\"\", 0, IY134 - IF(IY133=\"\", LOOKUP(2, 1/(IY$17:IY132<>\"\"), IY$17:IY132), IY133))","v":0},null,null,null,null,85,"",null,null,{"$f":"IF(JH134=\"\", 0, JH134 - IF(JH133=\"\", LOOKUP(2, 1/(JH$17:JH132<>\"\"), JH$17:JH132), JH133))","v":0},null,null,null,null,85,"",null,null,{"$f":"IF(JQ134=\"\", 0, JQ134 - IF(JQ133=\"\", LOOKUP(2, 1/(JQ$17:JQ132<>\"\"), JQ$17:JQ132), JQ133))","v":0},null,null,null,null,85,"",null,null,{"$f":"IF(JZ134=\"\", 0, JZ134 - IF(JZ133=\"\", LOOKUP(2, 1/(JZ$17:JZ132<>\"\"), JZ$17:JZ132), JZ133))","v":0},null,null,null,null,85,"",null,null,{"$f":"IF(KI134=\"\", 0, KI134 - IF(KI133=\"\", LOOKUP(2, 1/(KI$17:KI132<>\"\"), KI$17:KI132), KI133))","v":0},null,null,null,null,85,"",null,null,{"$f":"IF(KR134=\"\", 0, KR134 - IF(KR133=\"\", LOOKUP(2, 1/(KR$17:KR132<>\"\"), KR$17:KR132), KR133))","v":0},null,null,null,null,85,"",null,null,{"$f":"IF(LA134=\"\", 0, LA134 - IF(LA133=\"\", LOOKUP(2, 1/(LA$17:LA132<>\"\"), LA$17:LA132), LA133))","v":0},null,null,null,null,85,"",null,null,{"$f":"IF(LJ134=\"\", 0, LJ134 - IF(LJ133=\"\", LOOKUP(2, 1/(LJ$17:LJ132<>\"\"), LJ$17:LJ132), LJ133))","v":0},null,null,null,null,85,"",null,null,{"$f":"IF(LS134=\"\", 0, LS134 - IF(LS133=\"\", LOOKUP(2, 1/(LS$17:LS132<>\"\"), LS$17:LS132), LS133))","v":0},null,null,null,null,85,"",null,null,{"$f":"IF(MB134=\"\", 0, MB134 - IF(MB133=\"\", LOOKUP(2, 1/(MB$17:MB132<>\"\"), MB$17:MB132), MB133))","v":0},null,null,null,null,85,"",null,null,{"$f":"IF(MK134=\"\", 0, MK134 - IF(MK133=\"\", LOOKUP(2, 1/(MK$17:MK132<>\"\"), MK$17:MK132), MK133))","v":0},null,null,null,null,85,"",null,null,{"$f":"IF(MT134=\"\", 0, MT134 - IF(MT133=\"\", LOOKUP(2, 1/(MT$17:MT132<>\"\"), MT$17:MT132), MT133))","v":0},null,null,85,"",null,null,{"$f":"IF(NA134=\"\", 0, NA134 - IF(NA133=\"\", LOOKUP(2, 1/(NA$17:NA132<>\"\"), NA$17:NA132), NA133))","v":0},null,null,null,null,85,"",null,null,{"$f":"IF(NJ134=\"\", 0, NJ134 - IF(NJ133=\"\", LOOKUP(2, 1/(NJ$17:NJ132<>\"\"), NJ$17:NJ132), NJ133))","v":0},null,null,null,null,85,"",null,null,{"$f":"IF(NS134=\"\", 0, NS134 - IF(NS133=\"\", LOOKUP(2, 1/(NS$17:NS132<>\"\"), NS$17:NS132), NS133))","v":0},null,null,null,null,85,"",null,null,{"$f":"IF(OB134=\"\", 0, OB134 - IF(OB133=\"\", LOOKUP(2, 1/(OB$17:OB132<>\"\"), OB$17:OB132), OB133))","v":0},null,null,null,null,85,"",null,null,{"$f":"IF(OK134=\"\", 0, OK134 - IF(OK133=\"\", LOOKUP(2, 1/(OK$17:OK132<>\"\"), OK$17:OK132), OK133))","v":0},null,null,null,null,85,"",null,null,{"$f":"IF(OT134=\"\", 0, OT134 - IF(OT133=\"\", LOOKUP(2, 1/(OT$17:OT132<>\"\"), OT$17:OT132), OT133))","v":0},null,null,null,null,85,"",null,null,{"$f":"IF(PC134=\"\", 0, PC134 - IF(PC133=\"\", LOOKUP(2, 1/(PC$17:PC132<>\"\"), PC$17:PC132), PC133))","v":0},null,null,null,null,85,"",null,null,{"$f":"IF(PL134=\"\", 0, PL134 - IF(PL133=\"\", LOOKUP(2, 1/(PL$17:PL132<>\"\"), PL$17:PL132), PL133))","v":0},null,null,null,null,85,"",null,null,{"$f":"IF(PU134=\"\", 0, PU134 - IF(PU133=\"\", LOOKUP(2, 1/(PU$17:PU132<>\"\"), PU$17:PU132), PU133))","v":0},null,null,null,null,85,"",null,null,{"$f":"IF(QD134=\"\", 0, QD134 - IF(QD133=\"\", LOOKUP(2, 1/(QD$17:QD132<>\"\"), QD$17:QD132), QD133))","v":0}]
[null,null,null,84,"",null,null,{"$f":"IF(G135=\"\", 0, G135 - IF(G134=\"\", LOOKUP(2, 1/(G$17:G133<>\"\"), G$17:G133), G134))","v":0},null,null,null,null,84,"",null,null,{"$f":"IF(P135=\"\", 0, P135 - IF(P134=\"\", LOOKUP(2, 1/(P$17:P133<>\"\"), P$17:P133), P134))","v":0},null,null,null,null,84,"",null,null,{"$f":"IF(Y135=\"\", 0, Y135 - IF(Y134=\"\", LOOKUP(2, 1/(Y$17:Y133<>\"\"), Y$17:Y133), Y134))","v":0},null,null,null,null,84,"",null,null,{"$f":"IF(AH135=\"\", 0, AH135 - IF(AH134=\"\", LOOKUP(2, 1/(AH$17:AH133<>\"\"), AH$17:AH133), AH134))","v":0},null,null,null,null,84,"",null,null,{"$f":"IF(AQ135=\"\", 0, AQ135 - IF(AQ134=\"\", LOOKUP(2, 1/(AQ$17:AQ133<>\"\"), AQ$17:AQ133), AQ134))","v":0},null,null,null,null,84,"",null,null,{"$f":"IF(AZ135=\"\", 0, AZ135 - IF(AZ134=\"\", LOOKUP(2, 1/(AZ$17:AZ133<>\"\"), AZ$17:AZ133), AZ134))","v":0},null,null,null,null,84,"",null,null,{"$f":"IF(BI135=\"\", 0, BI135 - IF(BI134=\"\", LOOKUP(2, 1/(BI$17:BI133<>\"\"), BI$17:BI133), BI134))","v":0},null,null,null,null,84,"",null,null,{"$f":"IF(BR135=\"\", 0, BR135 - IF(BR134=\"\", LOOKUP(2, 1/(BR$17:BR133<>\"\"), BR$17:BR133), BR134))","v":0},null,null,null,null,84,"",null,null,{"$f":"IF(CA135=\"\", 0, CA135 - IF(CA134=\"\", LOOKUP(2, 1/(CA$17:CA133<>\"\"), CA$17:CA133), CA134))","v":0},null,null,null,null,84,"",null,null,{"$f":"IF(CJ135=\"\", 0, CJ135 - IF(CJ134=\"\", LOOKUP(2, 1/(CJ$17:CJ133<>\"\"), CJ$17:CJ133), CJ134))","v":0},null,null,null,null,84,"",null,null,{"$f":"IF(CS135=\"\", 0, CS135 - IF(CS134=\"\", LOOKUP(2, 1/(CS$17:CS133<>\"\"), CS$17:CS133), CS134))","v":0},null,null,null,null,84,"",null,null,{"$f":"IF(DB135=\"\", 0, DB135 - IF(DB134=\"\", LOOKUP(2, 1/(DB$17:DB133<>\"\"), DB$17:DB133), DB134))","v":0},null,null,null,null,84,"",null,null,{"$f":"IF(DK135=\"\", 0, DK135 - IF(DK134=\"\", LOOKUP(2, 1/(DK$17:DK133<>\"\"), DK$17:DK133), DK134))","v":0},null,null,null,null,84,"",null,null,{"$f":"IF(DT135=\"\", 0, DT135 - IF(DT134=\"\", LOOKUP(2, 1/(DT$17:DT133<>\"\"), DT$17:DT133), DT134))","v":0},null,null,null,null,84,"",null,null,{"$f":"IF(EC135=\"\", 0, EC135 - IF(EC134=\"\", LOOKUP(2, 1/(EC$17:EC133<>\"\"), EC$17:EC133), EC134))","v":0},null,null,null,null,84,"",null,null,{"$f":"IF(EL135=\"\", 0, EL135 - IF(EL134=\"\", LOOKUP(2, 1/(EL$17:EL133<>\"\"), EL$17:EL133), EL134))","v":0},null,null,null,null,84,"",null,null,{"$f":"IF(EU135=\"\", 0, EU135 - IF(EU134=\"\", LOOKUP(2, 1/(EU$17:EU133<>\"\"), EU$17:EU133), EU134))","v":0},null,null,null,null,84,"",null,null,{"$f":"IF(FD135=\"\", 0, FD135 - IF(FD134=\"\", LOOKUP(2, 1/(FD$17:FD133<>\"\"), FD$17:FD133), FD134))","v":0},null,null,null,null,84,"",null,null,{"$f":"IF(FM135=\"\", 0, FM135 - IF(FM134=\"\", LOOKUP(2, 1/(FM$17:FM133<>\"\"), FM$17:FM133), FM134))","v":0},null,null,null,null,84,"",null,null,{"$f":"IF(FV135=\"\", 0, FV135 - IF(FV134=\"\", LOOKUP(2, 1/(FV$17:FV133<>\"\"), FV$17:FV133), FV134))","v":0},null,null,null,null,84,"",null,null,{"$f":"IF(GE135=\"\", 0, GE135 - IF(GE134=\"\", LOOKUP(2, 1/(GE$17:GE133<>\"\"), GE$17:GE133), GE134))","v":0},null,null,null,null,84,"",null,null,{"$f":"IF(GN135=\"\", 0, GN135 - IF(GN134=\"\", LOOKUP(2, 1/(GN$17:GN133<>\"\"), GN$17:GN133), GN134))","v":0},null,null,null,null,84,"",null,null,{"$f":"IF(GW135=\"\", 0, GW135 - IF(GW134=\"\", LOOKUP(2, 1/(GW$17:GW133<>\"\"), GW$17:GW133), GW134))","v":0},null,null,null,null,84,"",null,null,{"$f":"IF(HF135=\"\", 0, HF135 - IF(HF134=\"\", LOOKUP(2, 1/(HF$17:HF133<>\"\"), HF$17:HF133), HF134))","v":0},null,null,null,null,84,"",null,null,{"$f":"IF(HO135=\"\", 0, HO135 - IF(HO134=\"\", LOOKUP(2, 1/(HO$17:HO133<>\"\"), HO$17:HO133), HO134))","v":0},null,null,null,null,84,"",null,null,{"$f":"IF(HX135=\"\", 0, HX135 - IF(HX134=\"\", LOOKUP(2, 1/(HX$17:HX133<>\"\"), HX$17:HX133), HX134))","v":0},null,null,null,null,84,"",null,null,{"$f":"IF(IG135=\"\", 0, IG135 - IF(IG134=\"\", LOOKUP(2, 1/(IG$17:IG133<>\"\"), IG$17:IG133), IG134))","v":0},null,null,null,null,84,"",null,null,{"$f":"IF(IP135=\"\", 0, IP135 - IF(IP134=\"\", LOOKUP(2, 1/(IP$17:IP133<>\"\"), IP$17:IP133), IP134))","v":0},null,null,null,null,84,"",null,null,{"$f":"IF(IY135=\"\", 0, IY135 - IF(IY134=\"\", LOOKUP(2, 1/(IY$17:IY133<>\"\"), IY$17:IY133), IY134))","v":0},null,null,null,null,84,"",null,null,{"$f":"IF(JH135=\"\", 0, JH135 - IF(JH134=\"\", LOOKUP(2, 1/(JH$17:JH133<>\"\"), JH$17:JH133), JH134))","v":0},null,null,null,null,84,"",null,null,{"$f":"IF(JQ135=\"\", 0, JQ135 - IF(JQ134=\"\", LOOKUP(2, 1/(JQ$17:JQ133<>\"\"), JQ$17:JQ133), JQ134))","v":0},null,null,null,null,84,"",null,null,{"$f":"IF(JZ135=\"\", 0, JZ135 - IF(JZ134=\"\", LOOKUP(2, 1/(JZ$17:JZ133<>\"\"), JZ$17:JZ133), JZ134))","v":0},null,null,null,null,84,"",null,null,{"$f":"IF(KI135=\"\", 0, KI135 - IF(KI134=\"\", LOOKUP(2, 1/(KI$17:KI133<>\"\"), KI$17:KI133), KI134))","v":0},null,null,null,null,84,"",null,null,{"$f":"IF(KR135=\"\", 0, KR135 - IF(KR134=\"\", LOOKUP(2, 1/(KR$17:KR133<>\"\"), KR$17:KR133), KR134))","v":0},null,null,null,null,84,"",null,null,{"$f":"IF(LA135=\"\", 0, LA135 - IF(LA134=\"\", LOOKUP(2, 1/(LA$17:LA133<>\"\"), LA$17:LA133), LA134))","v":0},null,null,null,null,84,"",null,null,{"$f":"IF(LJ135=\"\", 0, LJ135 - IF(LJ134=\"\", LOOKUP(2, 1/(LJ$17:LJ133<>\"\"), LJ$17:LJ133), LJ134))","v":0},null,null,null,null,84,"",null,null,{"$f":"IF(LS135=\"\", 0, LS135 - IF(LS134=\"\", LOOKUP(2, 1/(LS$17:LS133<>\"\"), LS$17:LS133), LS134))","v":0},null,null,null,null,84,"",null,null,{"$f":"IF(MB135=\"\", 0, MB135 - IF(MB134=\"\", LOOKUP(2, 1/(MB$17:MB133<>\"\"), MB$17:MB133), MB134))","v":0},null,null,null,null,84,"",null,null,{"$f":"IF(MK135=\"\", 0, MK135 - IF(MK134=\"\", LOOKUP(2, 1/(MK$17:MK133<>\"\"), MK$17:MK133), MK134))","v":0},null,null,null,null,84,"",null,null,{"$f":"IF(MT135=\"\", 0, MT135 - IF(MT134=\"\", LOOKUP(2, 1/(MT$17:MT133<>\"\"), MT$17:MT133), MT134))","v":0},null,null,84,"",null,null,{"$f":"IF(NA135=\"\", 0, NA135 - IF(NA134=\"\", LOOKUP(2, 1/(NA$17:NA133<>\"\"), NA$17:NA133), NA134))","v":0},null,null,null,null,84,"",null,null,{"$f":"IF(NJ135=\"\", 0, NJ135 - IF(NJ134=\"\", LOOKUP(2, 1/(NJ$17:NJ133<>\"\"), NJ$17:NJ133), NJ134))","v":0},null,null,null,null,84,"",null,null,{"$f":"IF(NS135=\"\", 0, NS135 - IF(NS134=\"\", LOOKUP(2, 1/(NS$17:NS133<>\"\"), NS$17:NS133), NS134))","v":0},null,null,null,null,84,"",null,null,{"$f":"IF(OB135=\"\", 0, OB135 - IF(OB134=\"\", LOOKUP(2, 1/(OB$17:OB133<>\"\"), OB$17:OB133), OB134))","v":0},null,null,null,null,84,"",null,null,{"$f":"IF(OK135=\"\", 0, OK135 - IF(OK134=\"\", LOOKUP(2, 1/(OK$17:OK133<>\"\"), OK$17:OK133), OK134))","v":0},null,null,null,null,84,"",null,null,{"$f":"IF(OT135=\"\", 0, OT135 - IF(OT134=\"\", LOOKUP(2, 1/(OT$17:OT133<>\"\"), OT$17:OT133), OT134))","v":0},null,null,null,null,84,"",null,null,{"$f":"IF(PC135=\"\", 0, PC135 - IF(PC134=\"\", LOOKUP(2, 1/(PC$17:PC133<>\"\"), PC$17:PC133), PC134))","v":0},null,null,null,null,84,"",null,null,{"$f":"IF(PL135=\"\", 0, PL135 - IF(PL134=\"\", LOOKUP(2, 1/(PL$17:PL133<>\"\"), PL$17:PL133), PL134))","v":0},null,null,null,null,84,"",null,null,{"$f":"IF(PU135=\"\", 0, PU135 - IF(PU134=\"\", LOOKUP(2, 1/(PU$17:PU133<>\"\"), PU$17:PU133), PU134))","v":0},null,null,null,null,84,"",null,null,{"$f":"IF(QD135=\"\", 0, QD135 - IF(QD134=\"\", LOOKUP(2, 1/(QD$17:QD133<>\"\"), QD$17:QD133), QD134))","v":0}]
[null,null,null,83,"",null,null,{"$f":"IF(G136=\"\", 0, G136 - IF(G135=\"\", LOOKUP(2, 1/(G$17:G134<>\"\"), G$17:G134), G135))","v":0},null,null,null,null,83,"",null,null,{"$f":"IF(P136=\"\", 0, P136 - IF(P135=\"\", LOOKUP(2, 1/(P$17:P134<>\"\"), P$17:P134), P135))","v":0},null,null,null,null,83,"",null,null,{"$f":"IF(Y136=\"\", 0, Y136 - IF(Y135=\"\", LOOKUP(2, 1/(Y$17:Y134<>\"\"), Y$17:Y134), Y135))","v":0},null,null,null,null,83,"",null,null,{"$f":"IF(AH136=\"\", 0, AH136 - IF(AH135=\"\", LOOKUP(2, 1/(AH$17:AH134<>\"\"), AH$17:AH134), AH135))","v":0},null,null,null,null,83,"",null,null,{"$f":"IF(AQ136=\"\", 0, AQ136 - IF(AQ135=\"\", LOOKUP(2, 1/(AQ$17:AQ134<>\"\"), AQ$17:AQ134), AQ135))","v":0},null,null,null,null,83,"",null,null,{"$f":"IF(AZ136=\"\", 0, AZ136 - IF(AZ135=\"\", LOOKUP(2, 1/(AZ$17:AZ134<>\"\"), AZ$17:AZ134), AZ135))","v":0},null,null,null,null,83,"",null,null,{"$f":"IF(BI136=\"\", 0, BI136 - IF(BI135=\"\", LOOKUP(2, 1/(BI$17:BI134<>\"\"), BI$17:BI134), BI135))","v":0},null,null,null,null,83,"",null,null,{"$f":"IF(BR136=\"\", 0, BR136 - IF(BR135=\"\", LOOKUP(2, 1/(BR$17:BR134<>\"\"), BR$17:BR134), BR135))","v":0},null,null,null,null,83,"",null,null,{"$f":"IF(CA136=\"\", 0, CA136 - IF(CA135=\"\", LOOKUP(2, 1/(CA$17:CA134<>\"\"), CA$17:CA134), CA135))","v":0},null,null,null,null,83,"",null,null,{"$f":"IF(CJ136=\"\", 0, CJ136 - IF(CJ135=\"\", LOOKUP(2, 1/(CJ$17:CJ134<>\"\"), CJ$17:CJ134), CJ135))","v":0},null,null,null,null,83,"",null,null,{"$f":"IF(CS136=\"\", 0, CS136 - IF(CS135=\"\", LOOKUP(2, 1/(CS$17:CS134<>\"\"), CS$17:CS134), CS135))","v":0},null,null,null,null,83,"",null,null,{"$f":"IF(DB136=\"\", 0, DB136 - IF(DB135=\"\", LOOKUP(2, 1/(DB$17:DB134<>\"\"), DB$17:DB134), DB135))","v":0},null,null,null,null,83,"",null,null,{"$f":"IF(DK136=\"\", 0, DK136 - IF(DK135=\"\", LOOKUP(2, 1/(DK$17:DK134<>\"\"), DK$17:DK134), DK135))","v":0},null,null,null,null,83,"",null,null,{"$f":"IF(DT136=\"\", 0, DT136 - IF(DT135=\"\", LOOKUP(2, 1/(DT$17:DT134<>\"\"), DT$17:DT134), DT135))","v":0},null,null,null,null,83,"",null,null,{"$f":"IF(EC136=\"\", 0, EC136 - IF(EC135=\"\", LOOKUP(2, 1/(EC$17:EC134<>\"\"), EC$17:EC134), EC135))","v":0},null,null,null,null,83,"",null,null,{"$f":"IF(EL136=\"\", 0, EL136 - IF(EL135=\"\", LOOKUP(2, 1/(EL$17:EL134<>\"\"), EL$17:EL134), EL135))","v":0},null,null,null,null,83,"",null,null,{"$f":"IF(EU136=\"\", 0, EU136 - IF(EU135=\"\", LOOKUP(2, 1/(EU$17:EU134<>\"\"), EU$17:EU134), EU135))","v":0},null,null,null,null,83,"",null,null,{"$f":"IF(FD136=\"\", 0, FD136 - IF(FD135=\"\", LOOKUP(2, 1/(FD$17:FD134<>\"\"), FD$17:FD134), FD135))","v":0},null,null,null,null,83,"",null,null,{"$f":"IF(FM136=\"\", 0, FM136 - IF(FM135=\"\", LOOKUP(2, 1/(FM$17:FM134<>\"\"), FM$17:FM134), FM135))","v":0},null,null,null,null,83,"",null,null,{"$f":"IF(FV136=\"\", 0, FV136 - IF(FV135=\"\", LOOKUP(2, 1/(FV$17:FV134<>\"\"), FV$17:FV134), FV135))","v":0},null,null,null,null,83,"",null,null,{"$f":"IF(GE136=\"\", 0, GE136 - IF(GE135=\"\", LOOKUP(2, 1/(GE$17:GE134<>\"\"), GE$17:GE134), GE135))","v":0},null,null,null,null,83,"",null,null,{"$f":"IF(GN136=\"\", 0, GN136 - IF(GN135=\"\", LOOKUP(2, 1/(GN$17:GN134<>\"\"), GN$17:GN134), GN135))","v":0},null,null,null,null,83,"",null,null,{"$f":"IF(GW136=\"\", 0, GW136 - IF(GW135=\"\", LOOKUP(2, 1/(GW$17:GW134<>\"\"), GW$17:GW134), GW135))","v":0},null,null,null,null,83,"",null,null,{"$f":"IF(HF136=\"\", 0, HF136 - IF(HF135=\"\", LOOKUP(2, 1/(HF$17:HF134<>\"\"), HF$17:HF134), HF135))","v":0},null,null,null,null,83,"",null,null,{"$f":"IF(HO136=\"\", 0, HO136 - IF(HO135=\"\", LOOKUP(2, 1/(HO$17:HO134<>\"\"), HO$17:HO134), HO135))","v":0},null,null,null,null,83,"",null,null,{"$f":"IF(HX136=\"\", 0, HX136 - IF(HX135=\"\", LOOKUP(2, 1/(HX$17:HX134<>\"\"), HX$17:HX134), HX135))","v":0},null,null,null,null,83,"",null,null,{"$f":"IF(IG136=\"\", 0, IG136 - IF(IG135=\"\", LOOKUP(2, 1/(IG$17:IG134<>\"\"), IG$17:IG134), IG135))","v":0},null,null,null,null,83,"",null,null,{"$f":"IF(IP136=\"\", 0, IP136 - IF(IP135=\"\", LOOKUP(2, 1/(IP$17:IP134<>\"\"), IP$17:IP134), IP135))","v":0},null,null,null,null,83,"",null,null,{"$f":"IF(IY136=\"\", 0, IY136 - IF(IY135=\"\", LOOKUP(2, 1/(IY$17:IY134<>\"\"), IY$17:IY134), IY135))","v":0},null,null,null,null,83,"",null,null,{"$f":"IF(JH136=\"\", 0, JH136 - IF(JH135=\"\", LOOKUP(2, 1/(JH$17:JH134<>\"\"), JH$17:JH134), JH135))","v":0},null,null,null,null,83,"",null,null,{"$f":"IF(JQ136=\"\", 0, JQ136 - IF(JQ135=\"\", LOOKUP(2, 1/(JQ$17:JQ134<>\"\"), JQ$17:JQ134), JQ135))","v":0},null,null,null,null,83,"",null,null,{"$f":"IF(JZ136=\"\", 0, JZ136 - IF(JZ135=\"\", LOOKUP(2, 1/(JZ$17:JZ134<>\"\"), JZ$17:JZ134), JZ135))","v":0},null,null,null,null,83,"",null,null,{"$f":"IF(KI136=\"\", 0, KI136 - IF(KI135=\"\", LOOKUP(2, 1/(KI$17:KI134<>\"\"), KI$17:KI134), KI135))","v":0},null,null,null,null,83,"",null,null,{"$f":"IF(KR136=\"\", 0, KR136 - IF(KR135=\"\", LOOKUP(2, 1/(KR$17:KR134<>\"\"), KR$17:KR134), KR135))","v":0},null,null,null,null,83,"",null,null,{"$f":"IF(LA136=\"\", 0, LA136 - IF(LA135=\"\", LOOKUP(2, 1/(LA$17:LA134<>\"\"), LA$17:LA134), LA135))","v":0},null,null,null,null,83,"",null,null,{"$f":"IF(LJ136=\"\", 0, LJ136 - IF(LJ135=\"\", LOOKUP(2, 1/(LJ$17:LJ134<>\"\"), LJ$17:LJ134), LJ135))","v":0},null,null,null,null,83,"",null,null,{"$f":"IF(LS136=\"\", 0, LS136 - IF(LS135=\"\", LOOKUP(2, 1/(LS$17:LS134<>\"\"), LS$17:LS134), LS135))","v":0},null,null,null,null,83,"",null,null,{"$f":"IF(MB136=\"\", 0, MB136 - IF(MB135=\"\", LOOKUP(2, 1/(MB$17:MB134<>\"\"), MB$17:MB134), MB135))","v":0},null,null,null,null,83,"",null,null,{"$f":"IF(MK136=\"\", 0, MK136 - IF(MK135=\"\", LOOKUP(2, 1/(MK$17:MK134<>\"\"), MK$17:MK134), MK135))","v":0},null,null,null,null,83,"",null,null,{"$f":"IF(MT136=\"\", 0, MT136 - IF(MT135=\"\", LOOKUP(2, 1/(MT$17:MT134<>\"\"), MT$17:MT134), MT135))","v":0},null,null,83,"",null,null,{"$f":"IF(NA136=\"\", 0, NA136 - IF(NA135=\"\", LOOKUP(2, 1/(NA$17:NA134<>\"\"), NA$17:NA134), NA135))","v":0},null,null,null,null,83,"",null,null,{"$f":"IF(NJ136=\"\", 0, NJ136 - IF(NJ135=\"\", LOOKUP(2, 1/(NJ$17:NJ134<>\"\"), NJ$17:NJ134), NJ135))","v":0},null,null,null,null,83,"",null,null,{"$f":"IF(NS136=\"\", 0, NS136 - IF(NS135=\"\", LOOKUP(2, 1/(NS$17:NS134<>\"\"), NS$17:NS134), NS135))","v":0},null,null,null,null,83,"",null,null,{"$f":"IF(OB136=\"\", 0, OB136 - IF(OB135=\"\", LOOKUP(2, 1/(OB$17:OB134<>\"\"), OB$17:OB134), OB135))","v":0},null,null,null,null,83,"",null,null,{"$f":"IF(OK136=\"\", 0, OK136 - IF(OK135=\"\", LOOKUP(2, 1/(OK$17:OK134<>\"\"), OK$17:OK134), OK135))","v":0},null,null,null,null,83,"",null,null,{"$f":"IF(OT136=\"\", 0, OT136 - IF(OT135=\"\", LOOKUP(2, 1/(OT$17:OT134<>\"\"), OT$17:OT134), OT135))","v":0},null,null,null,null,83,"",null,null,{"$f":"IF(PC136=\"\", 0, PC136 - IF(PC135=\"\", LOOKUP(2, 1/(PC$17:PC134<>\"\"), PC$17:PC134), PC135))","v":0},null,null,null,null,83,"",null,null,{"$f":"IF(PL136=\"\", 0, PL136 - IF(PL135=\"\", LOOKUP(2, 1/(PL$17:PL134<>\"\"), PL$17:PL134), PL135))","v":0},null,null,null,null,83,"",null,null,{"$f":"IF(PU136=\"\", 0, PU136 - IF(PU135=\"\", LOOKUP(2, 1/(PU$17:PU134<>\"\"), PU$17:PU134), PU135))","v":0},null,null,null,null,83,"",null,null,{"$f":"IF(QD136=\"\", 0, QD136 - IF(QD135=\"\", LOOKUP(2, 1/(QD$17:QD134<>\"\"), QD$17:QD134), QD135))","v":0}]
[null,null,null,82,"",null,null,{"$f":"IF(G137=\"\", 0, G137 - IF(G136=\"\", LOOKUP(2, 1/(G$17:G135<>\"\"), G$17:G135), G136))","v":0},null,null,null,null,82,"",null,null,{"$f":"IF(P137=\"\", 0, P137 - IF(P136=\"\", LOOKUP(2, 1/(P$17:P135<>\"\"), P$17:P135), P136))","v":0},null,null,null,null,82,"",null,null,{"$f":"IF(Y137=\"\", 0, Y137 - IF(Y136=\"\", LOOKUP(2, 1/(Y$17:Y135<>\"\"), Y$17:Y135), Y136))","v":0},null,null,null,null,82,"",null,null,{"$f":"IF(AH137=\"\", 0, AH137 - IF(AH136=\"\", LOOKUP(2, 1/(AH$17:AH135<>\"\"), AH$17:AH135), AH136))","v":0},null,null,null,null,82,"",null,null,{"$f":"IF(AQ137=\"\", 0, AQ137 - IF(AQ136=\"\", LOOKUP(2, 1/(AQ$17:AQ135<>\"\"), AQ$17:AQ135), AQ136))","v":0},null,null,null,null,82,"",null,null,{"$f":"IF(AZ137=\"\", 0, AZ137 - IF(AZ136=\"\", LOOKUP(2, 1/(AZ$17:AZ135<>\"\"), AZ$17:AZ135), AZ136))","v":0},null,null,null,null,82,"",null,null,{"$f":"IF(BI137=\"\", 0, BI137 - IF(BI136=\"\", LOOKUP(2, 1/(BI$17:BI135<>\"\"), BI$17:BI135), BI136))","v":0},null,null,null,null,82,"",null,null,{"$f":"IF(BR137=\"\", 0, BR137 - IF(BR136=\"\", LOOKUP(2, 1/(BR$17:BR135<>\"\"), BR$17:BR135), BR136))","v":0},null,null,null,null,82,"",null,null,{"$f":"IF(CA137=\"\", 0, CA137 - IF(CA136=\"\", LOOKUP(2, 1/(CA$17:CA135<>\"\"), CA$17:CA135), CA136))","v":0},null,null,null,null,82,"",null,null,{"$f":"IF(CJ137=\"\", 0, CJ137 - IF(CJ136=\"\", LOOKUP(2, 1/(CJ$17:CJ135<>\"\"), CJ$17:CJ135), CJ136))","v":0},null,null,null,null,82,"",null,null,{"$f":"IF(CS137=\"\", 0, CS137 - IF(CS136=\"\", LOOKUP(2, 1/(CS$17:CS135<>\"\"), CS$17:CS135), CS136))","v":0},null,null,null,null,82,"",null,null,{"$f":"IF(DB137=\"\", 0, DB137 - IF(DB136=\"\", LOOKUP(2, 1/(DB$17:DB135<>\"\"), DB$17:DB135), DB136))","v":0},null,null,null,null,82,"",null,null,{"$f":"IF(DK137=\"\", 0, DK137 - IF(DK136=\"\", LOOKUP(2, 1/(DK$17:DK135<>\"\"), DK$17:DK135), DK136))","v":0},null,null,null,null,82,"",null,null,{"$f":"IF(DT137=\"\", 0, DT137 - IF(DT136=\"\", LOOKUP(2, 1/(DT$17:DT135<>\"\"), DT$17:DT135), DT136))","v":0},null,null,null,null,82,"",null,null,{"$f":"IF(EC137=\"\", 0, EC137 - IF(EC136=\"\", LOOKUP(2, 1/(EC$17:EC135<>\"\"), EC$17:EC135), EC136))","v":0},null,null,null,null,82,"",null,null,{"$f":"IF(EL137=\"\", 0, EL137 - IF(EL136=\"\", LOOKUP(2, 1/(EL$17:EL135<>\"\"), EL$17:EL135), EL136))","v":0},null,null,null,null,82,"",null,null,{"$f":"IF(EU137=\"\", 0, EU137 - IF(EU136=\"\", LOOKUP(2, 1/(EU$17:EU135<>\"\"), EU$17:EU135), EU136))","v":0},null,null,null,null,82,"",null,null,{"$f":"IF(FD137=\"\", 0, FD137 - IF(FD136=\"\", LOOKUP(2, 1/(FD$17:FD135<>\"\"), FD$17:FD135), FD136))","v":0},null,null,null,null,82,"",null,null,{"$f":"IF(FM137=\"\", 0, FM137 - IF(FM136=\"\", LOOKUP(2, 1/(FM$17:FM135<>\"\"), FM$17:FM135), FM136))","v":0},null,null,null,null,82,"",null,null,{"$f":"IF(FV137=\"\", 0, FV137 - IF(FV136=\"\", LOOKUP(2, 1/(FV$17:FV135<>\"\"), FV$17:FV135), FV136))","v":0},null,null,null,null,82,"",null,null,{"$f":"IF(GE137=\"\", 0, GE137 - IF(GE136=\"\", LOOKUP(2, 1/(GE$17:GE135<>\"\"), GE$17:GE135), GE136))","v":0},null,null,null,null,82,"",null,null,{"$f":"IF(GN137=\"\", 0, GN137 - IF(GN136=\"\", LOOKUP(2, 1/(GN$17:GN135<>\"\"), GN$17:GN135), GN136))","v":0},null,null,null,null,82,"",null,null,{"$f":"IF(GW137=\"\", 0, GW137 - IF(GW136=\"\", LOOKUP(2, 1/(GW$17:GW135<>\"\"), GW$17:GW135), GW136))","v":0},null,null,null,null,82,"",null,null,{"$f":"IF(HF137=\"\", 0, HF137 - IF(HF136=\"\", LOOKUP(2, 1/(HF$17:HF135<>\"\"), HF$17:HF135), HF136))","v":0},null,null,null,null,82,"",null,null,{"$f":"IF(HO137=\"\", 0, HO137 - IF(HO136=\"\", LOOKUP(2, 1/(HO$17:HO135<>\"\"), HO$17:HO135), HO136))","v":0},null,null,null,null,82,"",null,null,{"$f":"IF(HX137=\"\", 0, HX137 - IF(HX136=\"\", LOOKUP(2, 1/(HX$17:HX135<>\"\"), HX$17:HX135), HX136))","v":0},null,null,null,null,82,"",null,null,{"$f":"IF(IG137=\"\", 0, IG137 - IF(IG136=\"\", LOOKUP(2, 1/(IG$17:IG135<>\"\"), IG$17:IG135), IG136))","v":0},null,null,null,null,82,"",null,null,{"$f":"IF(IP137=\"\", 0, IP137 - IF(IP136=\"\", LOOKUP(2, 1/(IP$17:IP135<>\"\"), IP$17:IP135), IP136))","v":0},null,null,null,null,82,"",null,null,{"$f":"IF(IY137=\"\", 0, IY137 - IF(IY136=\"\", LOOKUP(2, 1/(IY$17:IY135<>\"\"), IY$17:IY135), IY136))","v":0},null,null,null,null,82,"",null,null,{"$f":"IF(JH137=\"\", 0, JH137 - IF(JH136=\"\", LOOKUP(2, 1/(JH$17:JH135<>\"\"), JH$17:JH135), JH136))","v":0},null,null,null,null,82,"",null,null,{"$f":"IF(JQ137=\"\", 0, JQ137 - IF(JQ136=\"\", LOOKUP(2, 1/(JQ$17:JQ135<>\"\"), JQ$17:JQ135), JQ136))","v":0},null,null,null,null,82,"",null,null,{"$f":"IF(JZ137=\"\", 0, JZ137 - IF(JZ136=\"\", LOOKUP(2, 1/(JZ$17:JZ135<>\"\"), JZ$17:JZ135), JZ136))","v":0},null,null,null,null,82,"",null,null,{"$f":"IF(KI137=\"\", 0, KI137 - IF(KI136=\"\", LOOKUP(2, 1/(KI$17:KI135<>\"\"), KI$17:KI135), KI136))","v":0},null,null,null,null,82,"",null,null,{"$f":"IF(KR137=\"\", 0, KR137 - IF(KR136=\"\", LOOKUP(2, 1/(KR$17:KR135<>\"\"), KR$17:KR135), KR136))","v":0},null,null,null,null,82,"",null,null,{"$f":"IF(LA137=\"\", 0, LA137 - IF(LA136=\"\", LOOKUP(2, 1/(LA$17:LA135<>\"\"), LA$17:LA135), LA136))","v":0},null,null,null,null,82,"",null,null,{"$f":"IF(LJ137=\"\", 0, LJ137 - IF(LJ136=\"\", LOOKUP(2, 1/(LJ$17:LJ135<>\"\"), LJ$17:LJ135), LJ136))","v":0},null,null,null,null,82,"",null,null,{"$f":"IF(LS137=\"\", 0, LS137 - IF(LS136=\"\", LOOKUP(2, 1/(LS$17:LS135<>\"\"), LS$17:LS135), LS136))","v":0},null,null,null,null,82,"",null,null,{"$f":"IF(MB137=\"\", 0, MB137 - IF(MB136=\"\", LOOKUP(2, 1/(MB$17:MB135<>\"\"), MB$17:MB135), MB136))","v":0},null,null,null,null,82,"",null,null,{"$f":"IF(MK137=\"\", 0, MK137 - IF(MK136=\"\", LOOKUP(2, 1/(MK$17:MK135<>\"\"), MK$17:MK135), MK136))","v":0},null,null,null,null,82,"",null,null,{"$f":"IF(MT137=\"\", 0, MT137 - IF(MT136=\"\", LOOKUP(2, 1/(MT$17:MT135<>\"\"), MT$17:MT135), MT136))","v":0},null,null,82,"",null,null,{"$f":"IF(NA137=\"\", 0, NA137 - IF(NA136=\"\", LOOKUP(2, 1/(NA$17:NA135<>\"\"), NA$17:NA135), NA136))","v":0},null,null,null,null,82,"",null,null,{"$f":"IF(NJ137=\"\", 0, NJ137 - IF(NJ136=\"\", LOOKUP(2, 1/(NJ$17:NJ135<>\"\"), NJ$17:NJ135), NJ136))","v":0},null,null,null,null,82,"",null,null,{"$f":"IF(NS137=\"\", 0, NS137 - IF(NS136=\"\", LOOKUP(2, 1/(NS$17:NS135<>\"\"), NS$17:NS135), NS136))","v":0},null,null,null,null,82,"",null,null,{"$f":"IF(OB137=\"\", 0, OB137 - IF(OB136=\"\", LOOKUP(2, 1/(OB$17:OB135<>\"\"), OB$17:OB135), OB136))","v":0},null,null,null,null,82,"",null,null,{"$f":"IF(OK137=\"\", 0, OK137 - IF(OK136=\"\", LOOKUP(2, 1/(OK$17:OK135<>\"\"), OK$17:OK135), OK136))","v":0},null,null,null,null,82,"",null,null,{"$f":"IF(OT137=\"\", 0, OT137 - IF(OT136=\"\", LOOKUP(2, 1/(OT$17:OT135<>\"\"), OT$17:OT135), OT136))","v":0},null,null,null,null,82,"",null,null,{"$f":"IF(PC137=\"\", 0, PC137 - IF(PC136=\"\", LOOKUP(2, 1/(PC$17:PC135<>\"\"), PC$17:PC135), PC136))","v":0},null,null,null,null,82,"",null,null,{"$f":"IF(PL137=\"\", 0, PL137 - IF(PL136=\"\", LOOKUP(2, 1/(PL$17:PL135<>\"\"), PL$17:PL135), PL136))","v":0},null,null,null,null,82,"",null,null,{"$f":"IF(PU137=\"\", 0, PU137 - IF(PU136=\"\", LOOKUP(2, 1/(PU$17:PU135<>\"\"), PU$17:PU135), PU136))","v":0},null,null,null,null,82,"",null,null,{"$f":"IF(QD137=\"\", 0, QD137 - IF(QD136=\"\", LOOKUP(2, 1/(QD$17:QD135<>\"\"), QD$17:QD135), QD136))","v":0}]
[null,null,null,81,"",null,null,{"$f":"IF(G138=\"\", 0, G138 - IF(G137=\"\", LOOKUP(2, 1/(G$17:G136<>\"\"), G$17:G136), G137))","v":0},null,null,null,null,81,"",null,null,{"$f":"IF(P138=\"\", 0, P138 - IF(P137=\"\", LOOKUP(2, 1/(P$17:P136<>\"\"), P$17:P136), P137))","v":0},null,null,null,null,81,"",null,null,{"$f":"IF(Y138=\"\", 0, Y138 - IF(Y137=\"\", LOOKUP(2, 1/(Y$17:Y136<>\"\"), Y$17:Y136), Y137))","v":0},null,null,null,null,81,"",null,null,{"$f":"IF(AH138=\"\", 0, AH138 - IF(AH137=\"\", LOOKUP(2, 1/(AH$17:AH136<>\"\"), AH$17:AH136), AH137))","v":0},null,null,null,null,81,"",null,null,{"$f":"IF(AQ138=\"\", 0, AQ138 - IF(AQ137=\"\", LOOKUP(2, 1/(AQ$17:AQ136<>\"\"), AQ$17:AQ136), AQ137))","v":0},null,null,null,null,81,"",null,null,{"$f":"IF(AZ138=\"\", 0, AZ138 - IF(AZ137=\"\", LOOKUP(2, 1/(AZ$17:AZ136<>\"\"), AZ$17:AZ136), AZ137))","v":0},null,null,null,null,81,"",null,null,{"$f":"IF(BI138=\"\", 0, BI138 - IF(BI137=\"\", LOOKUP(2, 1/(BI$17:BI136<>\"\"), BI$17:BI136), BI137))","v":0},null,null,null,null,81,"",null,null,{"$f":"IF(BR138=\"\", 0, BR138 - IF(BR137=\"\", LOOKUP(2, 1/(BR$17:BR136<>\"\"), BR$17:BR136), BR137))","v":0},null,null,null,null,81,"",null,null,{"$f":"IF(CA138=\"\", 0, CA138 - IF(CA137=\"\", LOOKUP(2, 1/(CA$17:CA136<>\"\"), CA$17:CA136), CA137))","v":0},null,null,null,null,81,"",null,null,{"$f":"IF(CJ138=\"\", 0, CJ138 - IF(CJ137=\"\", LOOKUP(2, 1/(CJ$17:CJ136<>\"\"), CJ$17:CJ136), CJ137))","v":0},null,null,null,null,81,"",null,null,{"$f":"IF(CS138=\"\", 0, CS138 - IF(CS137=\"\", LOOKUP(2, 1/(CS$17:CS136<>\"\"), CS$17:CS136), CS137))","v":0},null,null,null,null,81,"",null,null,{"$f":"IF(DB138=\"\", 0, DB138 - IF(DB137=\"\", LOOKUP(2, 1/(DB$17:DB136<>\"\"), DB$17:DB136), DB137))","v":0},null,null,null,null,81,"",null,null,{"$f":"IF(DK138=\"\", 0, DK138 - IF(DK137=\"\", LOOKUP(2, 1/(DK$17:DK136<>\"\"), DK$17:DK136), DK137))","v":0},null,null,null,null,81,"",null,null,{"$f":"IF(DT138=\"\", 0, DT138 - IF(DT137=\"\", LOOKUP(2, 1/(DT$17:DT136<>\"\"), DT$17:DT136), DT137))","v":0},null,null,null,null,81,"",null,null,{"$f":"IF(EC138=\"\", 0, EC138 - IF(EC137=\"\", LOOKUP(2, 1/(EC$17:EC136<>\"\"), EC$17:EC136), EC137))","v":0},null,null,null,null,81,"",null,null,{"$f":"IF(EL138=\"\", 0, EL138 - IF(EL137=\"\", LOOKUP(2, 1/(EL$17:EL136<>\"\"), EL$17:EL136), EL137))","v":0},null,null,null,null,81,"",null,null,{"$f":"IF(EU138=\"\", 0, EU138 - IF(EU137=\"\", LOOKUP(2, 1/(EU$17:EU136<>\"\"), EU$17:EU136), EU137))","v":0},null,null,null,null,81,"",null,null,{"$f":"IF(FD138=\"\", 0, FD138 - IF(FD137=\"\", LOOKUP(2, 1/(FD$17:FD136<>\"\"), FD$17:FD136), FD137))","v":0},null,null,null,null,81,"",null,null,{"$f":"IF(FM138=\"\", 0, FM138 - IF(FM137=\"\", LOOKUP(2, 1/(FM$17:FM136<>\"\"), FM$17:FM136), FM137))","v":0},null,null,null,null,81,"",null,null,{"$f":"IF(FV138=\"\", 0, FV138 - IF(FV137=\"\", LOOKUP(2, 1/(FV$17:FV136<>\"\"), FV$17:FV136), FV137))","v":0},null,null,null,null,81,"",null,null,{"$f":"IF(GE138=\"\", 0, GE138 - IF(GE137=\"\", LOOKUP(2, 1/(GE$17:GE136<>\"\"), GE$17:GE136), GE137))","v":0},null,null,null,null,81,"",null,null,{"$f":"IF(GN138=\"\", 0, GN138 - IF(GN137=\"\", LOOKUP(2, 1/(GN$17:GN136<>\"\"), GN$17:GN136), GN137))","v":0},null,null,null,null,81,"",null,null,{"$f":"IF(GW138=\"\", 0, GW138 - IF(GW137=\"\", LOOKUP(2, 1/(GW$17:GW136<>\"\"), GW$17:GW136), GW137))","v":0},null,null,null,null,81,"",null,null,{"$f":"IF(HF138=\"\", 0, HF138 - IF(HF137=\"\", LOOKUP(2, 1/(HF$17:HF136<>\"\"), HF$17:HF136), HF137))","v":0},null,null,null,null,81,"",null,null,{"$f":"IF(HO138=\"\", 0, HO138 - IF(HO137=\"\", LOOKUP(2, 1/(HO$17:HO136<>\"\"), HO$17:HO136), HO137))","v":0},null,null,null,null,81,"",null,null,{"$f":"IF(HX138=\"\", 0, HX138 - IF(HX137=\"\", LOOKUP(2, 1/(HX$17:HX136<>\"\"), HX$17:HX136), HX137))","v":0},null,null,null,null,81,"",null,null,{"$f":"IF(IG138=\"\", 0, IG138 - IF(IG137=\"\", LOOKUP(2, 1/(IG$17:IG136<>\"\"), IG$17:IG136), IG137))","v":0},null,null,null,null,81,"",null,null,{"$f":"IF(IP138=\"\", 0, IP138 - IF(IP137=\"\", LOOKUP(2, 1/(IP$17:IP136<>\"\"), IP$17:IP136), IP137))","v":0},null,null,null,null,81,"",null,null,{"$f":"IF(IY138=\"\", 0, IY138 - IF(IY137=\"\", LOOKUP(2, 1/(IY$17:IY136<>\"\"), IY$17:IY136), IY137))","v":0},null,null,null,null,81,"",null,null,{"$f":"IF(JH138=\"\", 0, JH138 - IF(JH137=\"\", LOOKUP(2, 1/(JH$17:JH136<>\"\"), JH$17:JH136), JH137))","v":0},null,null,null,null,81,"",null,null,{"$f":"IF(JQ138=\"\", 0, JQ138 - IF(JQ137=\"\", LOOKUP(2, 1/(JQ$17:JQ136<>\"\"), JQ$17:JQ136), JQ137))","v":0},null,null,null,null,81,"",null,null,{"$f":"IF(JZ138=\"\", 0, JZ138 - IF(JZ137=\"\", LOOKUP(2, 1/(JZ$17:JZ136<>\"\"), JZ$17:JZ136), JZ137))","v":0},null,null,null,null,81,"",null,null,{"$f":"IF(KI138=\"\", 0, KI138 - IF(KI137=\"\", LOOKUP(2, 1/(KI$17:KI136<>\"\"), KI$17:KI136), KI137))","v":0},null,null,null,null,81,"",null,null,{"$f":"IF(KR138=\"\", 0, KR138 - IF(KR137=\"\", LOOKUP(2, 1/(KR$17:KR136<>\"\"), KR$17:KR136), KR137))","v":0},null,null,null,null,81,"",null,null,{"$f":"IF(LA138=\"\", 0, LA138 - IF(LA137=\"\", LOOKUP(2, 1/(LA$17:LA136<>\"\"), LA$17:LA136), LA137))","v":0},null,null,null,null,81,"",null,null,{"$f":"IF(LJ138=\"\", 0, LJ138 - IF(LJ137=\"\", LOOKUP(2, 1/(LJ$17:LJ136<>\"\"), LJ$17:LJ136), LJ137))","v":0},null,null,null,null,81,"",null,null,{"$f":"IF(LS138=\"\", 0, LS138 - IF(LS137=\"\", LOOKUP(2, 1/(LS$17:LS136<>\"\"), LS$17:LS136), LS137))","v":0},null,null,null,null,81,"",null,null,{"$f":"IF(MB138=\"\", 0, MB138 - IF(MB137=\"\", LOOKUP(2, 1/(MB$17:MB136<>\"\"), MB$17:MB136), MB137))","v":0},null,null,null,null,81,"",null,null,{"$f":"IF(MK138=\"\", 0, MK138 - IF(MK137=\"\", LOOKUP(2, 1/(MK$17:MK136<>\"\"), MK$17:MK136), MK137))","v":0},null,null,null,null,81,"",null,null,{"$f":"IF(MT138=\"\", 0, MT138 - IF(MT137=\"\", LOOKUP(2, 1/(MT$17:MT136<>\"\"), MT$17:MT136), MT137))","v":0},null,null,81,"",null,null,{"$f":"IF(NA138=\"\", 0, NA138 - IF(NA137=\"\", LOOKUP(2, 1/(NA$17:NA136<>\"\"), NA$17:NA136), NA137))","v":0},null,null,null,null,81,"",null,null,{"$f":"IF(NJ138=\"\", 0, NJ138 - IF(NJ137=\"\", LOOKUP(2, 1/(NJ$17:NJ136<>\"\"), NJ$17:NJ136), NJ137))","v":0},null,null,null,null,81,"",null,null,{"$f":"IF(NS138=\"\", 0, NS138 - IF(NS137=\"\", LOOKUP(2, 1/(NS$17:NS136<>\"\"), NS$17:NS136), NS137))","v":0},null,null,null,null,81,"",null,null,{"$f":"IF(OB138=\"\", 0, OB138 - IF(OB137=\"\", LOOKUP(2, 1/(OB$17:OB136<>\"\"), OB$17:OB136), OB137))","v":0},null,null,null,null,81,"",null,null,{"$f":"IF(OK138=\"\", 0, OK138 - IF(OK137=\"\", LOOKUP(2, 1/(OK$17:OK136<>\"\"), OK$17:OK136), OK137))","v":0},null,null,null,null,81,"",null,null,{"$f":"IF(OT138=\"\", 0, OT138 - IF(OT137=\"\", LOOKUP(2, 1/(OT$17:OT136<>\"\"), OT$17:OT136), OT137))","v":0},null,null,null,null,81,"",null,null,{"$f":"IF(PC138=\"\", 0, PC138 - IF(PC137=\"\", LOOKUP(2, 1/(PC$17:PC136<>\"\"), PC$17:PC136), PC137))","v":0},null,null,null,null,81,"",null,null,{"$f":"IF(PL138=\"\", 0, PL138 - IF(PL137=\"\", LOOKUP(2, 1/(PL$17:PL136<>\"\"), PL$17:PL136), PL137))","v":0},null,null,null,null,81,"",null,null,{"$f":"IF(PU138=\"\", 0, PU138 - IF(PU137=\"\", LOOKUP(2, 1/(PU$17:PU136<>\"\"), PU$17:PU136), PU137))","v":0},null,null,null,null,81,"",null,null,{"$f":"IF(QD138=\"\", 0, QD138 - IF(QD137=\"\", LOOKUP(2, 1/(QD$17:QD136<>\"\"), QD$17:QD136), QD137))","v":0}]
[null,null,null,80,"",null,null,{"$f":"IF(G139=\"\", 0, G139 - IF(G138=\"\", LOOKUP(2, 1/(G$17:G137<>\"\"), G$17:G137), G138))","v":0},null,null,null,null,80,"",null,null,{"$f":"IF(P139=\"\", 0, P139 - IF(P138=\"\", LOOKUP(2, 1/(P$17:P137<>\"\"), P$17:P137), P138))","v":0},null,null,null,null,80,"",null,null,{"$f":"IF(Y139=\"\", 0, Y139 - IF(Y138=\"\", LOOKUP(2, 1/(Y$17:Y137<>\"\"), Y$17:Y137), Y138))","v":0},null,null,null,null,80,"",null,null,{"$f":"IF(AH139=\"\", 0, AH139 - IF(AH138=\"\", LOOKUP(2, 1/(AH$17:AH137<>\"\"), AH$17:AH137), AH138))","v":0},null,null,null,null,80,"",null,null,{"$f":"IF(AQ139=\"\", 0, AQ139 - IF(AQ138=\"\", LOOKUP(2, 1/(AQ$17:AQ137<>\"\"), AQ$17:AQ137), AQ138))","v":0},null,null,null,null,80,"",null,null,{"$f":"IF(AZ139=\"\", 0, AZ139 - IF(AZ138=\"\", LOOKUP(2, 1/(AZ$17:AZ137<>\"\"), AZ$17:AZ137), AZ138))","v":0},null,null,null,null,80,"",null,null,{"$f":"IF(BI139=\"\", 0, BI139 - IF(BI138=\"\", LOOKUP(2, 1/(BI$17:BI137<>\"\"), BI$17:BI137), BI138))","v":0},null,null,null,null,80,"",null,null,{"$f":"IF(BR139=\"\", 0, BR139 - IF(BR138=\"\", LOOKUP(2, 1/(BR$17:BR137<>\"\"), BR$17:BR137), BR138))","v":0},null,null,null,null,80,"",null,null,{"$f":"IF(CA139=\"\", 0, CA139 - IF(CA138=\"\", LOOKUP(2, 1/(CA$17:CA137<>\"\"), CA$17:CA137), CA138))","v":0},null,null,null,null,80,"",null,null,{"$f":"IF(CJ139=\"\", 0, CJ139 - IF(CJ138=\"\", LOOKUP(2, 1/(CJ$17:CJ137<>\"\"), CJ$17:CJ137), CJ138))","v":0},null,null,null,null,80,"",null,null,{"$f":"IF(CS139=\"\", 0, CS139 - IF(CS138=\"\", LOOKUP(2, 1/(CS$17:CS137<>\"\"), CS$17:CS137), CS138))","v":0},null,null,null,null,80,"",null,null,{"$f":"IF(DB139=\"\", 0, DB139 - IF(DB138=\"\", LOOKUP(2, 1/(DB$17:DB137<>\"\"), DB$17:DB137), DB138))","v":0},null,null,null,null,80,"",null,null,{"$f":"IF(DK139=\"\", 0, DK139 - IF(DK138=\"\", LOOKUP(2, 1/(DK$17:DK137<>\"\"), DK$17:DK137), DK138))","v":0},null,null,null,null,80,"",null,null,{"$f":"IF(DT139=\"\", 0, DT139 - IF(DT138=\"\", LOOKUP(2, 1/(DT$17:DT137<>\"\"), DT$17:DT137), DT138))","v":0},null,null,null,null,80,"",null,null,{"$f":"IF(EC139=\"\", 0, EC139 - IF(EC138=\"\", LOOKUP(2, 1/(EC$17:EC137<>\"\"), EC$17:EC137), EC138))","v":0},null,null,null,null,80,"",null,null,{"$f":"IF(EL139=\"\", 0, EL139 - IF(EL138=\"\", LOOKUP(2, 1/(EL$17:EL137<>\"\"), EL$17:EL137), EL138))","v":0},null,null,null,null,80,"",null,null,{"$f":"IF(EU139=\"\", 0, EU139 - IF(EU138=\"\", LOOKUP(2, 1/(EU$17:EU137<>\"\"), EU$17:EU137), EU138))","v":0},null,null,null,null,80,"",null,null,{"$f":"IF(FD139=\"\", 0, FD139 - IF(FD138=\"\", LOOKUP(2, 1/(FD$17:FD137<>\"\"), FD$17:FD137), FD138))","v":0},null,null,null,null,80,"",null,null,{"$f":"IF(FM139=\"\", 0, FM139 - IF(FM138=\"\", LOOKUP(2, 1/(FM$17:FM137<>\"\"), FM$17:FM137), FM138))","v":0},null,null,null,null,80,"",null,null,{"$f":"IF(FV139=\"\", 0, FV139 - IF(FV138=\"\", LOOKUP(2, 1/(FV$17:FV137<>\"\"), FV$17:FV137), FV138))","v":0},null,null,null,null,80,"",null,null,{"$f":"IF(GE139=\"\", 0, GE139 - IF(GE138=\"\", LOOKUP(2, 1/(GE$17:GE137<>\"\"), GE$17:GE137), GE138))","v":0},null,null,null,null,80,"",null,null,{"$f":"IF(GN139=\"\", 0, GN139 - IF(GN138=\"\", LOOKUP(2, 1/(GN$17:GN137<>\"\"), GN$17:GN137), GN138))","v":0},null,null,null,null,80,"",null,null,{"$f":"IF(GW139=\"\", 0, GW139 - IF(GW138=\"\", LOOKUP(2, 1/(GW$17:GW137<>\"\"), GW$17:GW137), GW138))","v":0},null,null,null,null,80,"",null,null,{"$f":"IF(HF139=\"\", 0, HF139 - IF(HF138=\"\", LOOKUP(2, 1/(HF$17:HF137<>\"\"), HF$17:HF137), HF138))","v":0},null,null,null,null,80,"",null,null,{"$f":"IF(HO139=\"\", 0, HO139 - IF(HO138=\"\", LOOKUP(2, 1/(HO$17:HO137<>\"\"), HO$17:HO137), HO138))","v":0},null,null,null,null,80,"",null,null,{"$f":"IF(HX139=\"\", 0, HX139 - IF(HX138=\"\", LOOKUP(2, 1/(HX$17:HX137<>\"\"), HX$17:HX137), HX138))","v":0},null,null,null,null,80,"",null,null,{"$f":"IF(IG139=\"\", 0, IG139 - IF(IG138=\"\", LOOKUP(2, 1/(IG$17:IG137<>\"\"), IG$17:IG137), IG138))","v":0},null,null,null,null,80,"",null,null,{"$f":"IF(IP139=\"\", 0, IP139 - IF(IP138=\"\", LOOKUP(2, 1/(IP$17:IP137<>\"\"), IP$17:IP137), IP138))","v":0},null,null,null,null,80,"",null,null,{"$f":"IF(IY139=\"\", 0, IY139 - IF(IY138=\"\", LOOKUP(2, 1/(IY$17:IY137<>\"\"), IY$17:IY137), IY138))","v":0},null,null,null,null,80,"",null,null,{"$f":"IF(JH139=\"\", 0, JH139 - IF(JH138=\"\", LOOKUP(2, 1/(JH$17:JH137<>\"\"), JH$17:JH137), JH138))","v":0},null,null,null,null,80,"",null,null,{"$f":"IF(JQ139=\"\", 0, JQ139 - IF(JQ138=\"\", LOOKUP(2, 1/(JQ$17:JQ137<>\"\"), JQ$17:JQ137), JQ138))","v":0},null,null,null,null,80,"",null,null,{"$f":"IF(JZ139=\"\", 0, JZ139 - IF(JZ138=\"\", LOOKUP(2, 1/(JZ$17:JZ137<>\"\"), JZ$17:JZ137), JZ138))","v":0},null,null,null,null,80,"",null,null,{"$f":"IF(KI139=\"\", 0, KI139 - IF(KI138=\"\", LOOKUP(2, 1/(KI$17:KI137<>\"\"), KI$17:KI137), KI138))","v":0},null,null,null,null,80,"",null,null,{"$f":"IF(KR139=\"\", 0, KR139 - IF(KR138=\"\", LOOKUP(2, 1/(KR$17:KR137<>\"\"), KR$17:KR137), KR138))","v":0},null,null,null,null,80,"",null,null,{"$f":"IF(LA139=\"\", 0, LA139 - IF(LA138=\"\", LOOKUP(2, 1/(LA$17:LA137<>\"\"), LA$17:LA137), LA138))","v":0},null,null,null,null,80,"",null,null,{"$f":"IF(LJ139=\"\", 0, LJ139 - IF(LJ138=\"\", LOOKUP(2, 1/(LJ$17:LJ137<>\"\"), LJ$17:LJ137), LJ138))","v":0},null,null,null,null,80,"",null,null,{"$f":"IF(LS139=\"\", 0, LS139 - IF(LS138=\"\", LOOKUP(2, 1/(LS$17:LS137<>\"\"), LS$17:LS137), LS138))","v":0},null,null,null,null,80,"",null,null,{"$f":"IF(MB139=\"\", 0, MB139 - IF(MB138=\"\", LOOKUP(2, 1/(MB$17:MB137<>\"\"), MB$17:MB137), MB138))","v":0},null,null,null,null,80,"",null,null,{"$f":"IF(MK139=\"\", 0, MK139 - IF(MK138=\"\", LOOKUP(2, 1/(MK$17:MK137<>\"\"), MK$17:MK137), MK138))","v":0},null,null,null,null,80,"",null,null,{"$f":"IF(MT139=\"\", 0, MT139 - IF(MT138=\"\", LOOKUP(2, 1/(MT$17:MT137<>\"\"), MT$17:MT137), MT138))","v":0},null,null,80,"",null,null,{"$f":"IF(NA139=\"\", 0, NA139 - IF(NA138=\"\", LOOKUP(2, 1/(NA$17:NA137<>\"\"), NA$17:NA137), NA138))","v":0},null,null,null,null,80,"",null,null,{"$f":"IF(NJ139=\"\", 0, NJ139 - IF(NJ138=\"\", LOOKUP(2, 1/(NJ$17:NJ137<>\"\"), NJ$17:NJ137), NJ138))","v":0},null,null,null,null,80,"",null,null,{"$f":"IF(NS139=\"\", 0, NS139 - IF(NS138=\"\", LOOKUP(2, 1/(NS$17:NS137<>\"\"), NS$17:NS137), NS138))","v":0},null,null,null,null,80,"",null,null,{"$f":"IF(OB139=\"\", 0, OB139 - IF(OB138=\"\", LOOKUP(2, 1/(OB$17:OB137<>\"\"), OB$17:OB137), OB138))","v":0},null,null,null,null,80,"",null,null,{"$f":"IF(OK139=\"\", 0, OK139 - IF(OK138=\"\", LOOKUP(2, 1/(OK$17:OK137<>\"\"), OK$17:OK137), OK138))","v":0},null,null,null,null,80,"",null,null,{"$f":"IF(OT139=\"\", 0, OT139 - IF(OT138=\"\", LOOKUP(2, 1/(OT$17:OT137<>\"\"), OT$17:OT137), OT138))","v":0},null,null,null,null,80,"",null,null,{"$f":"IF(PC139=\"\", 0, PC139 - IF(PC138=\"\", LOOKUP(2, 1/(PC$17:PC137<>\"\"), PC$17:PC137), PC138))","v":0},null,null,null,null,80,"",null,null,{"$f":"IF(PL139=\"\", 0, PL139 - IF(PL138=\"\", LOOKUP(2, 1/(PL$17:PL137<>\"\"), PL$17:PL137), PL138))","v":0},null,null,null,null,80,"",null,null,{"$f":"IF(PU139=\"\", 0, PU139 - IF(PU138=\"\", LOOKUP(2, 1/(PU$17:PU137<>\"\"), PU$17:PU137), PU138))","v":0},null,null,null,null,80,"",null,null,{"$f":"IF(QD139=\"\", 0, QD139 - IF(QD138=\"\", LOOKUP(2, 1/(QD$17:QD137<>\"\"), QD$17:QD137), QD138))","v":0}]
[null,null,null,79,"",null,null,{"$f":"IF(G140=\"\", 0, G140 - IF(G139=\"\", LOOKUP(2, 1/(G$17:G138<>\"\"), G$17:G138), G139))","v":0},null,null,null,null,79,"",null,null,{"$f":"IF(P140=\"\", 0, P140 - IF(P139=\"\", LOOKUP(2, 1/(P$17:P138<>\"\"), P$17:P138), P139))","v":0},null,null,null,null,79,"",null,null,{"$f":"IF(Y140=\"\", 0, Y140 - IF(Y139=\"\", LOOKUP(2, 1/(Y$17:Y138<>\"\"), Y$17:Y138), Y139))","v":0},null,null,null,null,79,"",null,null,{"$f":"IF(AH140=\"\", 0, AH140 - IF(AH139=\"\", LOOKUP(2, 1/(AH$17:AH138<>\"\"), AH$17:AH138), AH139))","v":0},null,null,null,null,79,"",null,null,{"$f":"IF(AQ140=\"\", 0, AQ140 - IF(AQ139=\"\", LOOKUP(2, 1/(AQ$17:AQ138<>\"\"), AQ$17:AQ138), AQ139))","v":0},null,null,null,null,79,"",null,null,{"$f":"IF(AZ140=\"\", 0, AZ140 - IF(AZ139=\"\", LOOKUP(2, 1/(AZ$17:AZ138<>\"\"), AZ$17:AZ138), AZ139))","v":0},null,null,null,null,79,"",null,null,{"$f":"IF(BI140=\"\", 0, BI140 - IF(BI139=\"\", LOOKUP(2, 1/(BI$17:BI138<>\"\"), BI$17:BI138), BI139))","v":0},null,null,null,null,79,"",null,null,{"$f":"IF(BR140=\"\", 0, BR140 - IF(BR139=\"\", LOOKUP(2, 1/(BR$17:BR138<>\"\"), BR$17:BR138), BR139))","v":0},null,null,null,null,79,"",null,null,{"$f":"IF(CA140=\"\", 0, CA140 - IF(CA139=\"\", LOOKUP(2, 1/(CA$17:CA138<>\"\"), CA$17:CA138), CA139))","v":0},null,null,null,null,79,"",null,null,{"$f":"IF(CJ140=\"\", 0, CJ140 - IF(CJ139=\"\", LOOKUP(2, 1/(CJ$17:CJ138<>\"\"), CJ$17:CJ138), CJ139))","v":0},null,null,null,null,79,"",null,null,{"$f":"IF(CS140=\"\", 0, CS140 - IF(CS139=\"\", LOOKUP(2, 1/(CS$17:CS138<>\"\"), CS$17:CS138), CS139))","v":0},null,null,null,null,79,"",null,null,{"$f":"IF(DB140=\"\", 0, DB140 - IF(DB139=\"\", LOOKUP(2, 1/(DB$17:DB138<>\"\"), DB$17:DB138), DB139))","v":0},null,null,null,null,79,"",null,null,{"$f":"IF(DK140=\"\", 0, DK140 - IF(DK139=\"\", LOOKUP(2, 1/(DK$17:DK138<>\"\"), DK$17:DK138), DK139))","v":0},null,null,null,null,79,"",null,null,{"$f":"IF(DT140=\"\", 0, DT140 - IF(DT139=\"\", LOOKUP(2, 1/(DT$17:DT138<>\"\"), DT$17:DT138), DT139))","v":0},null,null,null,null,79,"",null,null,{"$f":"IF(EC140=\"\", 0, EC140 - IF(EC139=\"\", LOOKUP(2, 1/(EC$17:EC138<>\"\"), EC$17:EC138), EC139))","v":0},null,null,null,null,79,"",null,null,{"$f":"IF(EL140=\"\", 0, EL140 - IF(EL139=\"\", LOOKUP(2, 1/(EL$17:EL138<>\"\"), EL$17:EL138), EL139))","v":0},null,null,null,null,79,"",null,null,{"$f":"IF(EU140=\"\", 0, EU140 - IF(EU139=\"\", LOOKUP(2, 1/(EU$17:EU138<>\"\"), EU$17:EU138), EU139))","v":0},null,null,null,null,79,"",null,null,{"$f":"IF(FD140=\"\", 0, FD140 - IF(FD139=\"\", LOOKUP(2, 1/(FD$17:FD138<>\"\"), FD$17:FD138), FD139))","v":0},null,null,null,null,79,"",null,null,{"$f":"IF(FM140=\"\", 0, FM140 - IF(FM139=\"\", LOOKUP(2, 1/(FM$17:FM138<>\"\"), FM$17:FM138), FM139))","v":0},null,null,null,null,79,"",null,null,{"$f":"IF(FV140=\"\", 0, FV140 - IF(FV139=\"\", LOOKUP(2, 1/(FV$17:FV138<>\"\"), FV$17:FV138), FV139))","v":0},null,null,null,null,79,"",null,null,{"$f":"IF(GE140=\"\", 0, GE140 - IF(GE139=\"\", LOOKUP(2, 1/(GE$17:GE138<>\"\"), GE$17:GE138), GE139))","v":0},null,null,null,null,79,"",null,null,{"$f":"IF(GN140=\"\", 0, GN140 - IF(GN139=\"\", LOOKUP(2, 1/(GN$17:GN138<>\"\"), GN$17:GN138), GN139))","v":0},null,null,null,null,79,"",null,null,{"$f":"IF(GW140=\"\", 0, GW140 - IF(GW139=\"\", LOOKUP(2, 1/(GW$17:GW138<>\"\"), GW$17:GW138), GW139))","v":0},null,null,null,null,79,"",null,null,{"$f":"IF(HF140=\"\", 0, HF140 - IF(HF139=\"\", LOOKUP(2, 1/(HF$17:HF138<>\"\"), HF$17:HF138), HF139))","v":0},null,null,null,null,79,"",null,null,{"$f":"IF(HO140=\"\", 0, HO140 - IF(HO139=\"\", LOOKUP(2, 1/(HO$17:HO138<>\"\"), HO$17:HO138), HO139))","v":0},null,null,null,null,79,"",null,null,{"$f":"IF(HX140=\"\", 0, HX140 - IF(HX139=\"\", LOOKUP(2, 1/(HX$17:HX138<>\"\"), HX$17:HX138), HX139))","v":0},null,null,null,null,79,"",null,null,{"$f":"IF(IG140=\"\", 0, IG140 - IF(IG139=\"\", LOOKUP(2, 1/(IG$17:IG138<>\"\"), IG$17:IG138), IG139))","v":0},null,null,null,null,79,"",null,null,{"$f":"IF(IP140=\"\", 0, IP140 - IF(IP139=\"\", LOOKUP(2, 1/(IP$17:IP138<>\"\"), IP$17:IP138), IP139))","v":0},null,null,null,null,79,"",null,null,{"$f":"IF(IY140=\"\", 0, IY140 - IF(IY139=\"\", LOOKUP(2, 1/(IY$17:IY138<>\"\"), IY$17:IY138), IY139))","v":0},null,null,null,null,79,"",null,null,{"$f":"IF(JH140=\"\", 0, JH140 - IF(JH139=\"\", LOOKUP(2, 1/(JH$17:JH138<>\"\"), JH$17:JH138), JH139))","v":0},null,null,null,null,79,"",null,null,{"$f":"IF(JQ140=\"\", 0, JQ140 - IF(JQ139=\"\", LOOKUP(2, 1/(JQ$17:JQ138<>\"\"), JQ$17:JQ138), JQ139))","v":0},null,null,null,null,79,"",null,null,{"$f":"IF(JZ140=\"\", 0, JZ140 - IF(JZ139=\"\", LOOKUP(2, 1/(JZ$17:JZ138<>\"\"), JZ$17:JZ138), JZ139))","v":0},null,null,null,null,79,"",null,null,{"$f":"IF(KI140=\"\", 0, KI140 - IF(KI139=\"\", LOOKUP(2, 1/(KI$17:KI138<>\"\"), KI$17:KI138), KI139))","v":0},null,null,null,null,79,"",null,null,{"$f":"IF(KR140=\"\", 0, KR140 - IF(KR139=\"\", LOOKUP(2, 1/(KR$17:KR138<>\"\"), KR$17:KR138), KR139))","v":0},null,null,null,null,79,"",null,null,{"$f":"IF(LA140=\"\", 0, LA140 - IF(LA139=\"\", LOOKUP(2, 1/(LA$17:LA138<>\"\"), LA$17:LA138), LA139))","v":0},null,null,null,null,79,"",null,null,{"$f":"IF(LJ140=\"\", 0, LJ140 - IF(LJ139=\"\", LOOKUP(2, 1/(LJ$17:LJ138<>\"\"), LJ$17:LJ138), LJ139))","v":0},null,null,null,null,79,"",null,null,{"$f":"IF(LS140=\"\", 0, LS140 - IF(LS139=\"\", LOOKUP(2, 1/(LS$17:LS138<>\"\"), LS$17:LS138), LS139))","v":0},null,null,null,null,79,"",null,null,{"$f":"IF(MB140=\"\", 0, MB140 - IF(MB139=\"\", LOOKUP(2, 1/(MB$17:MB138<>\"\"), MB$17:MB138), MB139))","v":0},null,null,null,null,79,"",null,null,{"$f":"IF(MK140=\"\", 0, MK140 - IF(MK139=\"\", LOOKUP(2, 1/(MK$17:MK138<>\"\"), MK$17:MK138), MK139))","v":0},null,null,null,null,79,"",null,null,{"$f":"IF(MT140=\"\", 0, MT140 - IF(MT139=\"\", LOOKUP(2, 1/(MT$17:MT138<>\"\"), MT$17:MT138), MT139))","v":0},null,null,79,"",null,null,{"$f":"IF(NA140=\"\", 0, NA140 - IF(NA139=\"\", LOOKUP(2, 1/(NA$17:NA138<>\"\"), NA$17:NA138), NA139))","v":0},null,null,null,null,79,"",null,null,{"$f":"IF(NJ140=\"\", 0, NJ140 - IF(NJ139=\"\", LOOKUP(2, 1/(NJ$17:NJ138<>\"\"), NJ$17:NJ138), NJ139))","v":0},null,null,null,null,79,"",null,null,{"$f":"IF(NS140=\"\", 0, NS140 - IF(NS139=\"\", LOOKUP(2, 1/(NS$17:NS138<>\"\"), NS$17:NS138), NS139))","v":0},null,null,null,null,79,"",null,null,{"$f":"IF(OB140=\"\", 0, OB140 - IF(OB139=\"\", LOOKUP(2, 1/(OB$17:OB138<>\"\"), OB$17:OB138), OB139))","v":0},null,null,null,null,79,"",null,null,{"$f":"IF(OK140=\"\", 0, OK140 - IF(OK139=\"\", LOOKUP(2, 1/(OK$17:OK138<>\"\"), OK$17:OK138), OK139))","v":0},null,null,null,null,79,"",null,null,{"$f":"IF(OT140=\"\", 0, OT140 - IF(OT139=\"\", LOOKUP(2, 1/(OT$17:OT138<>\"\"), OT$17:OT138), OT139))","v":0},null,null,null,null,79,"",null,null,{"$f":"IF(PC140=\"\", 0, PC140 - IF(PC139=\"\", LOOKUP(2, 1/(PC$17:PC138<>\"\"), PC$17:PC138), PC139))","v":0},null,null,null,null,79,"",null,null,{"$f":"IF(PL140=\"\", 0, PL140 - IF(PL139=\"\", LOOKUP(2, 1/(PL$17:PL138<>\"\"), PL$17:PL138), PL139))","v":0},null,null,null,null,79,"",null,null,{"$f":"IF(PU140=\"\", 0, PU140 - IF(PU139=\"\", LOOKUP(2, 1/(PU$17:PU138<>\"\"), PU$17:PU138), PU139))","v":0},null,null,null,null,79,"",null,null,{"$f":"IF(QD140=\"\", 0, QD140 - IF(QD139=\"\", LOOKUP(2, 1/(QD$17:QD138<>\"\"), QD$17:QD138), QD139))","v":0}]
[null,null,null,78,"",null,null,{"$f":"IF(G141=\"\", 0, G141 - IF(G140=\"\", LOOKUP(2, 1/(G$17:G139<>\"\"), G$17:G139), G140))","v":0},null,null,null,null,78,"",null,null,{"$f":"IF(P141=\"\", 0, P141 - IF(P140=\"\", LOOKUP(2, 1/(P$17:P139<>\"\"), P$17:P139), P140))","v":0},null,null,null,null,78,"",null,null,{"$f":"IF(Y141=\"\", 0, Y141 - IF(Y140=\"\", LOOKUP(2, 1/(Y$17:Y139<>\"\"), Y$17:Y139), Y140))","v":0},null,null,null,null,78,"",null,null,{"$f":"IF(AH141=\"\", 0, AH141 - IF(AH140=\"\", LOOKUP(2, 1/(AH$17:AH139<>\"\"), AH$17:AH139), AH140))","v":0},null,null,null,null,78,"",null,null,{"$f":"IF(AQ141=\"\", 0, AQ141 - IF(AQ140=\"\", LOOKUP(2, 1/(AQ$17:AQ139<>\"\"), AQ$17:AQ139), AQ140))","v":0},null,null,null,null,78,"",null,null,{"$f":"IF(AZ141=\"\", 0, AZ141 - IF(AZ140=\"\", LOOKUP(2, 1/(AZ$17:AZ139<>\"\"), AZ$17:AZ139), AZ140))","v":0},null,null,null,null,78,"",null,null,{"$f":"IF(BI141=\"\", 0, BI141 - IF(BI140=\"\", LOOKUP(2, 1/(BI$17:BI139<>\"\"), BI$17:BI139), BI140))","v":0},null,null,null,null,78,"",null,null,{"$f":"IF(BR141=\"\", 0, BR141 - IF(BR140=\"\", LOOKUP(2, 1/(BR$17:BR139<>\"\"), BR$17:BR139), BR140))","v":0},null,null,null,null,78,"",null,null,{"$f":"IF(CA141=\"\", 0, CA141 - IF(CA140=\"\", LOOKUP(2, 1/(CA$17:CA139<>\"\"), CA$17:CA139), CA140))","v":0},null,null,null,null,78,"",null,null,{"$f":"IF(CJ141=\"\", 0, CJ141 - IF(CJ140=\"\", LOOKUP(2, 1/(CJ$17:CJ139<>\"\"), CJ$17:CJ139), CJ140))","v":0},null,null,null,null,78,"",null,null,{"$f":"IF(CS141=\"\", 0, CS141 - IF(CS140=\"\", LOOKUP(2, 1/(CS$17:CS139<>\"\"), CS$17:CS139), CS140))","v":0},null,null,null,null,78,"",null,null,{"$f":"IF(DB141=\"\", 0, DB141 - IF(DB140=\"\", LOOKUP(2, 1/(DB$17:DB139<>\"\"), DB$17:DB139), DB140))","v":0},null,null,null,null,78,"",null,null,{"$f":"IF(DK141=\"\", 0, DK141 - IF(DK140=\"\", LOOKUP(2, 1/(DK$17:DK139<>\"\"), DK$17:DK139), DK140))","v":0},null,null,null,null,78,"",null,null,{"$f":"IF(DT141=\"\", 0, DT141 - IF(DT140=\"\", LOOKUP(2, 1/(DT$17:DT139<>\"\"), DT$17:DT139), DT140))","v":0},null,null,null,null,78,"",null,null,{"$f":"IF(EC141=\"\", 0, EC141 - IF(EC140=\"\", LOOKUP(2, 1/(EC$17:EC139<>\"\"), EC$17:EC139), EC140))","v":0},null,null,null,null,78,"",null,null,{"$f":"IF(EL141=\"\", 0, EL141 - IF(EL140=\"\", LOOKUP(2, 1/(EL$17:EL139<>\"\"), EL$17:EL139), EL140))","v":0},null,null,null,null,78,"",null,null,{"$f":"IF(EU141=\"\", 0, EU141 - IF(EU140=\"\", LOOKUP(2, 1/(EU$17:EU139<>\"\"), EU$17:EU139), EU140))","v":0},null,null,null,null,78,"",null,null,{"$f":"IF(FD141=\"\", 0, FD141 - IF(FD140=\"\", LOOKUP(2, 1/(FD$17:FD139<>\"\"), FD$17:FD139), FD140))","v":0},null,null,null,null,78,"",null,null,{"$f":"IF(FM141=\"\", 0, FM141 - IF(FM140=\"\", LOOKUP(2, 1/(FM$17:FM139<>\"\"), FM$17:FM139), FM140))","v":0},null,null,null,null,78,"",null,null,{"$f":"IF(FV141=\"\", 0, FV141 - IF(FV140=\"\", LOOKUP(2, 1/(FV$17:FV139<>\"\"), FV$17:FV139), FV140))","v":0},null,null,null,null,78,"",null,null,{"$f":"IF(GE141=\"\", 0, GE141 - IF(GE140=\"\", LOOKUP(2, 1/(GE$17:GE139<>\"\"), GE$17:GE139), GE140))","v":0},null,null,null,null,78,"",null,null,{"$f":"IF(GN141=\"\", 0, GN141 - IF(GN140=\"\", LOOKUP(2, 1/(GN$17:GN139<>\"\"), GN$17:GN139), GN140))","v":0},null,null,null,null,78,"",null,null,{"$f":"IF(GW141=\"\", 0, GW141 - IF(GW140=\"\", LOOKUP(2, 1/(GW$17:GW139<>\"\"), GW$17:GW139), GW140))","v":0},null,null,null,null,78,"",null,null,{"$f":"IF(HF141=\"\", 0, HF141 - IF(HF140=\"\", LOOKUP(2, 1/(HF$17:HF139<>\"\"), HF$17:HF139), HF140))","v":0},null,null,null,null,78,"",null,null,{"$f":"IF(HO141=\"\", 0, HO141 - IF(HO140=\"\", LOOKUP(2, 1/(HO$17:HO139<>\"\"), HO$17:HO139), HO140))","v":0},null,null,null,null,78,"",null,null,{"$f":"IF(HX141=\"\", 0, HX141 - IF(HX140=\"\", LOOKUP(2, 1/(HX$17:HX139<>\"\"), HX$17:HX139), HX140))","v":0},null,null,null,null,78,"",null,null,{"$f":"IF(IG141=\"\", 0, IG141 - IF(IG140=\"\", LOOKUP(2, 1/(IG$17:IG139<>\"\"), IG$17:IG139), IG140))","v":0},null,null,null,null,78,"",null,null,{"$f":"IF(IP141=\"\", 0, IP141 - IF(IP140=\"\", LOOKUP(2, 1/(IP$17:IP139<>\"\"), IP$17:IP139), IP140))","v":0},null,null,null,null,78,"",null,null,{"$f":"IF(IY141=\"\", 0, IY141 - IF(IY140=\"\", LOOKUP(2, 1/(IY$17:IY139<>\"\"), IY$17:IY139), IY140))","v":0},null,null,null,null,78,"",null,null,{"$f":"IF(JH141=\"\", 0, JH141 - IF(JH140=\"\", LOOKUP(2, 1/(JH$17:JH139<>\"\"), JH$17:JH139), JH140))","v":0},null,null,null,null,78,"",null,null,{"$f":"IF(JQ141=\"\", 0, JQ141 - IF(JQ140=\"\", LOOKUP(2, 1/(JQ$17:JQ139<>\"\"), JQ$17:JQ139), JQ140))","v":0},null,null,null,null,78,"",null,null,{"$f":"IF(JZ141=\"\", 0, JZ141 - IF(JZ140=\"\", LOOKUP(2, 1/(JZ$17:JZ139<>\"\"), JZ$17:JZ139), JZ140))","v":0},null,null,null,null,78,"",null,null,{"$f":"IF(KI141=\"\", 0, KI141 - IF(KI140=\"\", LOOKUP(2, 1/(KI$17:KI139<>\"\"), KI$17:KI139), KI140))","v":0},null,null,null,null,78,"",null,null,{"$f":"IF(KR141=\"\", 0, KR141 - IF(KR140=\"\", LOOKUP(2, 1/(KR$17:KR139<>\"\"), KR$17:KR139), KR140))","v":0},null,null,null,null,78,"",null,null,{"$f":"IF(LA141=\"\", 0, LA141 - IF(LA140=\"\", LOOKUP(2, 1/(LA$17:LA139<>\"\"), LA$17:LA139), LA140))","v":0},null,null,null,null,78,"",null,null,{"$f":"IF(LJ141=\"\", 0, LJ141 - IF(LJ140=\"\", LOOKUP(2, 1/(LJ$17:LJ139<>\"\"), LJ$17:LJ139), LJ140))","v":0},null,null,null,null,78,"",null,null,{"$f":"IF(LS141=\"\", 0, LS141 - IF(LS140=\"\", LOOKUP(2, 1/(LS$17:LS139<>\"\"), LS$17:LS139), LS140))","v":0},null,null,null,null,78,"",null,null,{"$f":"IF(MB141=\"\", 0, MB141 - IF(MB140=\"\", LOOKUP(2, 1/(MB$17:MB139<>\"\"), MB$17:MB139), MB140))","v":0},null,null,null,null,78,"",null,null,{"$f":"IF(MK141=\"\", 0, MK141 - IF(MK140=\"\", LOOKUP(2, 1/(MK$17:MK139<>\"\"), MK$17:MK139), MK140))","v":0},null,null,null,null,78,"",null,null,{"$f":"IF(MT141=\"\", 0, MT141 - IF(MT140=\"\", LOOKUP(2, 1/(MT$17:MT139<>\"\"), MT$17:MT139), MT140))","v":0},null,null,78,"",null,null,{"$f":"IF(NA141=\"\", 0, NA141 - IF(NA140=\"\", LOOKUP(2, 1/(NA$17:NA139<>\"\"), NA$17:NA139), NA140))","v":0},null,null,null,null,78,"",null,null,{"$f":"IF(NJ141=\"\", 0, NJ141 - IF(NJ140=\"\", LOOKUP(2, 1/(NJ$17:NJ139<>\"\"), NJ$17:NJ139), NJ140))","v":0},null,null,null,null,78,"",null,null,{"$f":"IF(NS141=\"\", 0, NS141 - IF(NS140=\"\", LOOKUP(2, 1/(NS$17:NS139<>\"\"), NS$17:NS139), NS140))","v":0},null,null,null,null,78,"",null,null,{"$f":"IF(OB141=\"\", 0, OB141 - IF(OB140=\"\", LOOKUP(2, 1/(OB$17:OB139<>\"\"), OB$17:OB139), OB140))","v":0},null,null,null,null,78,"",null,null,{"$f":"IF(OK141=\"\", 0, OK141 - IF(OK140=\"\", LOOKUP(2, 1/(OK$17:OK139<>\"\"), OK$17:OK139), OK140))","v":0},null,null,null,null,78,"",null,null,{"$f":"IF(OT141=\"\", 0, OT141 - IF(OT140=\"\", LOOKUP(2, 1/(OT$17:OT139<>\"\"), OT$17:OT139), OT140))","v":0},null,null,null,null,78,"",null,null,{"$f":"IF(PC141=\"\", 0, PC141 - IF(PC140=\"\", LOOKUP(2, 1/(PC$17:PC139<>\"\"), PC$17:PC139), PC140))","v":0},null,null,null,null,78,"",null,null,{"$f":"IF(PL141=\"\", 0, PL141 - IF(PL140=\"\", LOOKUP(2, 1/(PL$17:PL139<>\"\"), PL$17:PL139), PL140))","v":0},null,null,null,null,78,"",null,null,{"$f":"IF(PU141=\"\", 0, PU141 - IF(PU140=\"\", LOOKUP(2, 1/(PU$17:PU139<>\"\"), PU$17:PU139), PU140))","v":0},null,null,null,null,78,"",null,null,{"$f":"IF(QD141=\"\", 0, QD141 - IF(QD140=\"\", LOOKUP(2, 1/(QD$17:QD139<>\"\"), QD$17:QD139), QD140))","v":0}]
[null,null,null,77,"",null,null,{"$f":"IF(G142=\"\", 0, G142 - IF(G141=\"\", LOOKUP(2, 1/(G$17:G140<>\"\"), G$17:G140), G141))","v":0},null,null,null,null,77,"",null,null,{"$f":"IF(P142=\"\", 0, P142 - IF(P141=\"\", LOOKUP(2, 1/(P$17:P140<>\"\"), P$17:P140), P141))","v":0},null,null,null,null,77,"",null,null,{"$f":"IF(Y142=\"\", 0, Y142 - IF(Y141=\"\", LOOKUP(2, 1/(Y$17:Y140<>\"\"), Y$17:Y140), Y141))","v":0},null,null,null,null,77,"",null,null,{"$f":"IF(AH142=\"\", 0, AH142 - IF(AH141=\"\", LOOKUP(2, 1/(AH$17:AH140<>\"\"), AH$17:AH140), AH141))","v":0},null,null,null,null,77,"",null,null,{"$f":"IF(AQ142=\"\", 0, AQ142 - IF(AQ141=\"\", LOOKUP(2, 1/(AQ$17:AQ140<>\"\"), AQ$17:AQ140), AQ141))","v":0},null,null,null,null,77,"",null,null,{"$f":"IF(AZ142=\"\", 0, AZ142 - IF(AZ141=\"\", LOOKUP(2, 1/(AZ$17:AZ140<>\"\"), AZ$17:AZ140), AZ141))","v":0},null,null,null,null,77,"",null,null,{"$f":"IF(BI142=\"\", 0, BI142 - IF(BI141=\"\", LOOKUP(2, 1/(BI$17:BI140<>\"\"), BI$17:BI140), BI141))","v":0},null,null,null,null,77,"",null,null,{"$f":"IF(BR142=\"\", 0, BR142 - IF(BR141=\"\", LOOKUP(2, 1/(BR$17:BR140<>\"\"), BR$17:BR140), BR141))","v":0},null,null,null,null,77,"",null,null,{"$f":"IF(CA142=\"\", 0, CA142 - IF(CA141=\"\", LOOKUP(2, 1/(CA$17:CA140<>\"\"), CA$17:CA140), CA141))","v":0},null,null,null,null,77,"",null,null,{"$f":"IF(CJ142=\"\", 0, CJ142 - IF(CJ141=\"\", LOOKUP(2, 1/(CJ$17:CJ140<>\"\"), CJ$17:CJ140), CJ141))","v":0},null,null,null,null,77,"",null,null,{"$f":"IF(CS142=\"\", 0, CS142 - IF(CS141=\"\", LOOKUP(2, 1/(CS$17:CS140<>\"\"), CS$17:CS140), CS141))","v":0},null,null,null,null,77,"",null,null,{"$f":"IF(DB142=\"\", 0, DB142 - IF(DB141=\"\", LOOKUP(2, 1/(DB$17:DB140<>\"\"), DB$17:DB140), DB141))","v":0},null,null,null,null,77,"",null,null,{"$f":"IF(DK142=\"\", 0, DK142 - IF(DK141=\"\", LOOKUP(2, 1/(DK$17:DK140<>\"\"), DK$17:DK140), DK141))","v":0},null,null,null,null,77,"",null,null,{"$f":"IF(DT142=\"\", 0, DT142 - IF(DT141=\"\", LOOKUP(2, 1/(DT$17:DT140<>\"\"), DT$17:DT140), DT141))","v":0},null,null,null,null,77,"",null,null,{"$f":"IF(EC142=\"\", 0, EC142 - IF(EC141=\"\", LOOKUP(2, 1/(EC$17:EC140<>\"\"), EC$17:EC140), EC141))","v":0},null,null,null,null,77,"",null,null,{"$f":"IF(EL142=\"\", 0, EL142 - IF(EL141=\"\", LOOKUP(2, 1/(EL$17:EL140<>\"\"), EL$17:EL140), EL141))","v":0},null,null,null,null,77,"",null,null,{"$f":"IF(EU142=\"\", 0, EU142 - IF(EU141=\"\", LOOKUP(2, 1/(EU$17:EU140<>\"\"), EU$17:EU140), EU141))","v":0},null,null,null,null,77,"",null,null,{"$f":"IF(FD142=\"\", 0, FD142 - IF(FD141=\"\", LOOKUP(2, 1/(FD$17:FD140<>\"\"), FD$17:FD140), FD141))","v":0},null,null,null,null,77,"",null,null,{"$f":"IF(FM142=\"\", 0, FM142 - IF(FM141=\"\", LOOKUP(2, 1/(FM$17:FM140<>\"\"), FM$17:FM140), FM141))","v":0},null,null,null,null,77,"",null,null,{"$f":"IF(FV142=\"\", 0, FV142 - IF(FV141=\"\", LOOKUP(2, 1/(FV$17:FV140<>\"\"), FV$17:FV140), FV141))","v":0},null,null,null,null,77,"",null,null,{"$f":"IF(GE142=\"\", 0, GE142 - IF(GE141=\"\", LOOKUP(2, 1/(GE$17:GE140<>\"\"), GE$17:GE140), GE141))","v":0},null,null,null,null,77,"",null,null,{"$f":"IF(GN142=\"\", 0, GN142 - IF(GN141=\"\", LOOKUP(2, 1/(GN$17:GN140<>\"\"), GN$17:GN140), GN141))","v":0},null,null,null,null,77,"",null,null,{"$f":"IF(GW142=\"\", 0, GW142 - IF(GW141=\"\", LOOKUP(2, 1/(GW$17:GW140<>\"\"), GW$17:GW140), GW141))","v":0},null,null,null,null,77,"",null,null,{"$f":"IF(HF142=\"\", 0, HF142 - IF(HF141=\"\", LOOKUP(2, 1/(HF$17:HF140<>\"\"), HF$17:HF140), HF141))","v":0},null,null,null,null,77,"",null,null,{"$f":"IF(HO142=\"\", 0, HO142 - IF(HO141=\"\", LOOKUP(2, 1/(HO$17:HO140<>\"\"), HO$17:HO140), HO141))","v":0},null,null,null,null,77,"",null,null,{"$f":"IF(HX142=\"\", 0, HX142 - IF(HX141=\"\", LOOKUP(2, 1/(HX$17:HX140<>\"\"), HX$17:HX140), HX141))","v":0},null,null,null,null,77,"",null,null,{"$f":"IF(IG142=\"\", 0, IG142 - IF(IG141=\"\", LOOKUP(2, 1/(IG$17:IG140<>\"\"), IG$17:IG140), IG141))","v":0},null,null,null,null,77,"",null,null,{"$f":"IF(IP142=\"\", 0, IP142 - IF(IP141=\"\", LOOKUP(2, 1/(IP$17:IP140<>\"\"), IP$17:IP140), IP141))","v":0},null,null,null,null,77,"",null,null,{"$f":"IF(IY142=\"\", 0, IY142 - IF(IY141=\"\", LOOKUP(2, 1/(IY$17:IY140<>\"\"), IY$17:IY140), IY141))","v":0},null,null,null,null,77,"",null,null,{"$f":"IF(JH142=\"\", 0, JH142 - IF(JH141=\"\", LOOKUP(2, 1/(JH$17:JH140<>\"\"), JH$17:JH140), JH141))","v":0},null,null,null,null,77,"",null,null,{"$f":"IF(JQ142=\"\", 0, JQ142 - IF(JQ141=\"\", LOOKUP(2, 1/(JQ$17:JQ140<>\"\"), JQ$17:JQ140), JQ141))","v":0},null,null,null,null,77,"",null,null,{"$f":"IF(JZ142=\"\", 0, JZ142 - IF(JZ141=\"\", LOOKUP(2, 1/(JZ$17:JZ140<>\"\"), JZ$17:JZ140), JZ141))","v":0},null,null,null,null,77,"",null,null,{"$f":"IF(KI142=\"\", 0, KI142 - IF(KI141=\"\", LOOKUP(2, 1/(KI$17:KI140<>\"\"), KI$17:KI140), KI141))","v":0},null,null,null,null,77,"",null,null,{"$f":"IF(KR142=\"\", 0, KR142 - IF(KR141=\"\", LOOKUP(2, 1/(KR$17:KR140<>\"\"), KR$17:KR140), KR141))","v":0},null,null,null,null,77,"",null,null,{"$f":"IF(LA142=\"\", 0, LA142 - IF(LA141=\"\", LOOKUP(2, 1/(LA$17:LA140<>\"\"), LA$17:LA140), LA141))","v":0},null,null,null,null,77,"",null,null,{"$f":"IF(LJ142=\"\", 0, LJ142 - IF(LJ141=\"\", LOOKUP(2, 1/(LJ$17:LJ140<>\"\"), LJ$17:LJ140), LJ141))","v":0},null,null,null,null,77,"",null,null,{"$f":"IF(LS142=\"\", 0, LS142 - IF(LS141=\"\", LOOKUP(2, 1/(LS$17:LS140<>\"\"), LS$17:LS140), LS141))","v":0},null,null,null,null,77,"",null,null,{"$f":"IF(MB142=\"\", 0, MB142 - IF(MB141=\"\", LOOKUP(2, 1/(MB$17:MB140<>\"\"), MB$17:MB140), MB141))","v":0},null,null,null,null,77,"",null,null,{"$f":"IF(MK142=\"\", 0, MK142 - IF(MK141=\"\", LOOKUP(2, 1/(MK$17:MK140<>\"\"), MK$17:MK140), MK141))","v":0},null,null,null,null,77,"",null,null,{"$f":"IF(MT142=\"\", 0, MT142 - IF(MT141=\"\", LOOKUP(2, 1/(MT$17:MT140<>\"\"), MT$17:MT140), MT141))","v":0},null,null,77,"",null,null,{"$f":"IF(NA142=\"\", 0, NA142 - IF(NA141=\"\", LOOKUP(2, 1/(NA$17:NA140<>\"\"), NA$17:NA140), NA141))","v":0},null,null,null,null,77,"",null,null,{"$f":"IF(NJ142=\"\", 0, NJ142 - IF(NJ141=\"\", LOOKUP(2, 1/(NJ$17:NJ140<>\"\"), NJ$17:NJ140), NJ141))","v":0},null,null,null,null,77,"",null,null,{"$f":"IF(NS142=\"\", 0, NS142 - IF(NS141=\"\", LOOKUP(2, 1/(NS$17:NS140<>\"\"), NS$17:NS140), NS141))","v":0},null,null,null,null,77,"",null,null,{"$f":"IF(OB142=\"\", 0, OB142 - IF(OB141=\"\", LOOKUP(2, 1/(OB$17:OB140<>\"\"), OB$17:OB140), OB141))","v":0},null,null,null,null,77,"",null,null,{"$f":"IF(OK142=\"\", 0, OK142 - IF(OK141=\"\", LOOKUP(2, 1/(OK$17:OK140<>\"\"), OK$17:OK140), OK141))","v":0},null,null,null,null,77,"",null,null,{"$f":"IF(OT142=\"\", 0, OT142 - IF(OT141=\"\", LOOKUP(2, 1/(OT$17:OT140<>\"\"), OT$17:OT140), OT141))","v":0},null,null,null,null,77,"",null,null,{"$f":"IF(PC142=\"\", 0, PC142 - IF(PC141=\"\", LOOKUP(2, 1/(PC$17:PC140<>\"\"), PC$17:PC140), PC141))","v":0},null,null,null,null,77,"",null,null,{"$f":"IF(PL142=\"\", 0, PL142 - IF(PL141=\"\", LOOKUP(2, 1/(PL$17:PL140<>\"\"), PL$17:PL140), PL141))","v":0},null,null,null,null,77,"",null,null,{"$f":"IF(PU142=\"\", 0, PU142 - IF(PU141=\"\", LOOKUP(2, 1/(PU$17:PU140<>\"\"), PU$17:PU140), PU141))","v":0},null,null,null,null,77,"",null,null,{"$f":"IF(QD142=\"\", 0, QD142 - IF(QD141=\"\", LOOKUP(2, 1/(QD$17:QD140<>\"\"), QD$17:QD140), QD141))","v":0}]
[null,null,null,76,"",null,null,{"$f":"IF(G143=\"\", 0, G143 - IF(G142=\"\", LOOKUP(2, 1/(G$17:G141<>\"\"), G$17:G141), G142))","v":0},null,null,null,null,76,"",null,null,{"$f":"IF(P143=\"\", 0, P143 - IF(P142=\"\", LOOKUP(2, 1/(P$17:P141<>\"\"), P$17:P141), P142))","v":0},null,null,null,null,76,"",null,null,{"$f":"IF(Y143=\"\", 0, Y143 - IF(Y142=\"\", LOOKUP(2, 1/(Y$17:Y141<>\"\"), Y$17:Y141), Y142))","v":0},null,null,null,null,76,"",null,null,{"$f":"IF(AH143=\"\", 0, AH143 - IF(AH142=\"\", LOOKUP(2, 1/(AH$17:AH141<>\"\"), AH$17:AH141), AH142))","v":0},null,null,null,null,76,"",null,null,{"$f":"IF(AQ143=\"\", 0, AQ143 - IF(AQ142=\"\", LOOKUP(2, 1/(AQ$17:AQ141<>\"\"), AQ$17:AQ141), AQ142))","v":0},null,null,null,null,76,"",null,null,{"$f":"IF(AZ143=\"\", 0, AZ143 - IF(AZ142=\"\", LOOKUP(2, 1/(AZ$17:AZ141<>\"\"), AZ$17:AZ141), AZ142))","v":0},null,null,null,null,76,"",null,null,{"$f":"IF(BI143=\"\", 0, BI143 - IF(BI142=\"\", LOOKUP(2, 1/(BI$17:BI141<>\"\"), BI$17:BI141), BI142))","v":0},null,null,null,null,76,"",null,null,{"$f":"IF(BR143=\"\", 0, BR143 - IF(BR142=\"\", LOOKUP(2, 1/(BR$17:BR141<>\"\"), BR$17:BR141), BR142))","v":0},null,null,null,null,76,"",null,null,{"$f":"IF(CA143=\"\", 0, CA143 - IF(CA142=\"\", LOOKUP(2, 1/(CA$17:CA141<>\"\"), CA$17:CA141), CA142))","v":0},null,null,null,null,76,"",null,null,{"$f":"IF(CJ143=\"\", 0, CJ143 - IF(CJ142=\"\", LOOKUP(2, 1/(CJ$17:CJ141<>\"\"), CJ$17:CJ141), CJ142))","v":0},null,null,null,null,76,"",null,null,{"$f":"IF(CS143=\"\", 0, CS143 - IF(CS142=\"\", LOOKUP(2, 1/(CS$17:CS141<>\"\"), CS$17:CS141), CS142))","v":0},null,null,null,null,76,"",null,null,{"$f":"IF(DB143=\"\", 0, DB143 - IF(DB142=\"\", LOOKUP(2, 1/(DB$17:DB141<>\"\"), DB$17:DB141), DB142))","v":0},null,null,null,null,76,"",null,null,{"$f":"IF(DK143=\"\", 0, DK143 - IF(DK142=\"\", LOOKUP(2, 1/(DK$17:DK141<>\"\"), DK$17:DK141), DK142))","v":0},null,null,null,null,76,"",null,null,{"$f":"IF(DT143=\"\", 0, DT143 - IF(DT142=\"\", LOOKUP(2, 1/(DT$17:DT141<>\"\"), DT$17:DT141), DT142))","v":0},null,null,null,null,76,"",null,null,{"$f":"IF(EC143=\"\", 0, EC143 - IF(EC142=\"\", LOOKUP(2, 1/(EC$17:EC141<>\"\"), EC$17:EC141), EC142))","v":0},null,null,null,null,76,"",null,null,{"$f":"IF(EL143=\"\", 0, EL143 - IF(EL142=\"\", LOOKUP(2, 1/(EL$17:EL141<>\"\"), EL$17:EL141), EL142))","v":0},null,null,null,null,76,"",null,null,{"$f":"IF(EU143=\"\", 0, EU143 - IF(EU142=\"\", LOOKUP(2, 1/(EU$17:EU141<>\"\"), EU$17:EU141), EU142))","v":0},null,null,null,null,76,"",null,null,{"$f":"IF(FD143=\"\", 0, FD143 - IF(FD142=\"\", LOOKUP(2, 1/(FD$17:FD141<>\"\"), FD$17:FD141), FD142))","v":0},null,null,null,null,76,"",null,null,{"$f":"IF(FM143=\"\", 0, FM143 - IF(FM142=\"\", LOOKUP(2, 1/(FM$17:FM141<>\"\"), FM$17:FM141), FM142))","v":0},null,null,null,null,76,"",null,null,{"$f":"IF(FV143=\"\", 0, FV143 - IF(FV142=\"\", LOOKUP(2, 1/(FV$17:FV141<>\"\"), FV$17:FV141), FV142))","v":0},null,null,null,null,76,"",null,null,{"$f":"IF(GE143=\"\", 0, GE143 - IF(GE142=\"\", LOOKUP(2, 1/(GE$17:GE141<>\"\"), GE$17:GE141), GE142))","v":0},null,null,null,null,76,"",null,null,{"$f":"IF(GN143=\"\", 0, GN143 - IF(GN142=\"\", LOOKUP(2, 1/(GN$17:GN141<>\"\"), GN$17:GN141), GN142))","v":0},null,null,null,null,76,"",null,null,{"$f":"IF(GW143=\"\", 0, GW143 - IF(GW142=\"\", LOOKUP(2, 1/(GW$17:GW141<>\"\"), GW$17:GW141), GW142))","v":0},null,null,null,null,76,"",null,null,{"$f":"IF(HF143=\"\", 0, HF143 - IF(HF142=\"\", LOOKUP(2, 1/(HF$17:HF141<>\"\"), HF$17:HF141), HF142))","v":0},null,null,null,null,76,"",null,null,{"$f":"IF(HO143=\"\", 0, HO143 - IF(HO142=\"\", LOOKUP(2, 1/(HO$17:HO141<>\"\"), HO$17:HO141), HO142))","v":0},null,null,null,null,76,"",null,null,{"$f":"IF(HX143=\"\", 0, HX143 - IF(HX142=\"\", LOOKUP(2, 1/(HX$17:HX141<>\"\"), HX$17:HX141), HX142))","v":0},null,null,null,null,76,"",null,null,{"$f":"IF(IG143=\"\", 0, IG143 - IF(IG142=\"\", LOOKUP(2, 1/(IG$17:IG141<>\"\"), IG$17:IG141), IG142))","v":0},null,null,null,null,76,"",null,null,{"$f":"IF(IP143=\"\", 0, IP143 - IF(IP142=\"\", LOOKUP(2, 1/(IP$17:IP141<>\"\"), IP$17:IP141), IP142))","v":0},null,null,null,null,76,"",null,null,{"$f":"IF(IY143=\"\", 0, IY143 - IF(IY142=\"\", LOOKUP(2, 1/(IY$17:IY141<>\"\"), IY$17:IY141), IY142))","v":0},null,null,null,null,76,"",null,null,{"$f":"IF(JH143=\"\", 0, JH143 - IF(JH142=\"\", LOOKUP(2, 1/(JH$17:JH141<>\"\"), JH$17:JH141), JH142))","v":0},null,null,null,null,76,"",null,null,{"$f":"IF(JQ143=\"\", 0, JQ143 - IF(JQ142=\"\", LOOKUP(2, 1/(JQ$17:JQ141<>\"\"), JQ$17:JQ141), JQ142))","v":0},null,null,null,null,76,"",null,null,{"$f":"IF(JZ143=\"\", 0, JZ143 - IF(JZ142=\"\", LOOKUP(2, 1/(JZ$17:JZ141<>\"\"), JZ$17:JZ141), JZ142))","v":0},null,null,null,null,76,"",null,null,{"$f":"IF(KI143=\"\", 0, KI143 - IF(KI142=\"\", LOOKUP(2, 1/(KI$17:KI141<>\"\"), KI$17:KI141), KI142))","v":0},null,null,null,null,76,"",null,null,{"$f":"IF(KR143=\"\", 0, KR143 - IF(KR142=\"\", LOOKUP(2, 1/(KR$17:KR141<>\"\"), KR$17:KR141), KR142))","v":0},null,null,null,null,76,"",null,null,{"$f":"IF(LA143=\"\", 0, LA143 - IF(LA142=\"\", LOOKUP(2, 1/(LA$17:LA141<>\"\"), LA$17:LA141), LA142))","v":0},null,null,null,null,76,"",null,null,{"$f":"IF(LJ143=\"\", 0, LJ143 - IF(LJ142=\"\", LOOKUP(2, 1/(LJ$17:LJ141<>\"\"), LJ$17:LJ141), LJ142))","v":0},null,null,null,null,76,"",null,null,{"$f":"IF(LS143=\"\", 0, LS143 - IF(LS142=\"\", LOOKUP(2, 1/(LS$17:LS141<>\"\"), LS$17:LS141), LS142))","v":0},null,null,null,null,76,"",null,null,{"$f":"IF(MB143=\"\", 0, MB143 - IF(MB142=\"\", LOOKUP(2, 1/(MB$17:MB141<>\"\"), MB$17:MB141), MB142))","v":0},null,null,null,null,76,"",null,null,{"$f":"IF(MK143=\"\", 0, MK143 - IF(MK142=\"\", LOOKUP(2, 1/(MK$17:MK141<>\"\"), MK$17:MK141), MK142))","v":0},null,null,null,null,76,"",null,null,{"$f":"IF(MT143=\"\", 0, MT143 - IF(MT142=\"\", LOOKUP(2, 1/(MT$17:MT141<>\"\"), MT$17:MT141), MT142))","v":0},null,null,76,"",null,null,{"$f":"IF(NA143=\"\", 0, NA143 - IF(NA142=\"\", LOOKUP(2, 1/(NA$17:NA141<>\"\"), NA$17:NA141), NA142))","v":0},null,null,null,null,76,"",null,null,{"$f":"IF(NJ143=\"\", 0, NJ143 - IF(NJ142=\"\", LOOKUP(2, 1/(NJ$17:NJ141<>\"\"), NJ$17:NJ141), NJ142))","v":0},null,null,null,null,76,"",null,null,{"$f":"IF(NS143=\"\", 0, NS143 - IF(NS142=\"\", LOOKUP(2, 1/(NS$17:NS141<>\"\"), NS$17:NS141), NS142))","v":0},null,null,null,null,76,"",null,null,{"$f":"IF(OB143=\"\", 0, OB143 - IF(OB142=\"\", LOOKUP(2, 1/(OB$17:OB141<>\"\"), OB$17:OB141), OB142))","v":0},null,null,null,null,76,"",null,null,{"$f":"IF(OK143=\"\", 0, OK143 - IF(OK142=\"\", LOOKUP(2, 1/(OK$17:OK141<>\"\"), OK$17:OK141), OK142))","v":0},null,null,null,null,76,"",null,null,{"$f":"IF(OT143=\"\", 0, OT143 - IF(OT142=\"\", LOOKUP(2, 1/(OT$17:OT141<>\"\"), OT$17:OT141), OT142))","v":0},null,null,null,null,76,"",null,null,{"$f":"IF(PC143=\"\", 0, PC143 - IF(PC142=\"\", LOOKUP(2, 1/(PC$17:PC141<>\"\"), PC$17:PC141), PC142))","v":0},null,null,null,null,76,"",null,null,{"$f":"IF(PL143=\"\", 0, PL143 - IF(PL142=\"\", LOOKUP(2, 1/(PL$17:PL141<>\"\"), PL$17:PL141), PL142))","v":0},null,null,null,null,76,"",null,null,{"$f":"IF(PU143=\"\", 0, PU143 - IF(PU142=\"\", LOOKUP(2, 1/(PU$17:PU141<>\"\"), PU$17:PU141), PU142))","v":0},null,null,null,null,76,"",null,null,{"$f":"IF(QD143=\"\", 0, QD143 - IF(QD142=\"\", LOOKUP(2, 1/(QD$17:QD141<>\"\"), QD$17:QD141), QD142))","v":0}]
[null,null,null,75,"",null,null,{"$f":"IF(G144=\"\", 0, G144 - IF(G143=\"\", LOOKUP(2, 1/(G$17:G142<>\"\"), G$17:G142), G143))","v":0},null,null,null,null,75,"",null,null,{"$f":"IF(P144=\"\", 0, P144 - IF(P143=\"\", LOOKUP(2, 1/(P$17:P142<>\"\"), P$17:P142), P143))","v":0},null,null,null,null,75,"",null,null,{"$f":"IF(Y144=\"\", 0, Y144 - IF(Y143=\"\", LOOKUP(2, 1/(Y$17:Y142<>\"\"), Y$17:Y142), Y143))","v":0},null,null,null,null,75,"",null,null,{"$f":"IF(AH144=\"\", 0, AH144 - IF(AH143=\"\", LOOKUP(2, 1/(AH$17:AH142<>\"\"), AH$17:AH142), AH143))","v":0},null,null,null,null,75,"",null,null,{"$f":"IF(AQ144=\"\", 0, AQ144 - IF(AQ143=\"\", LOOKUP(2, 1/(AQ$17:AQ142<>\"\"), AQ$17:AQ142), AQ143))","v":0},null,null,null,null,75,"",null,null,{"$f":"IF(AZ144=\"\", 0, AZ144 - IF(AZ143=\"\", LOOKUP(2, 1/(AZ$17:AZ142<>\"\"), AZ$17:AZ142), AZ143))","v":0},null,null,null,null,75,"",null,null,{"$f":"IF(BI144=\"\", 0, BI144 - IF(BI143=\"\", LOOKUP(2, 1/(BI$17:BI142<>\"\"), BI$17:BI142), BI143))","v":0},null,null,null,null,75,"",null,null,{"$f":"IF(BR144=\"\", 0, BR144 - IF(BR143=\"\", LOOKUP(2, 1/(BR$17:BR142<>\"\"), BR$17:BR142), BR143))","v":0},null,null,null,null,75,"",null,null,{"$f":"IF(CA144=\"\", 0, CA144 - IF(CA143=\"\", LOOKUP(2, 1/(CA$17:CA142<>\"\"), CA$17:CA142), CA143))","v":0},null,null,null,null,75,"",null,null,{"$f":"IF(CJ144=\"\", 0, CJ144 - IF(CJ143=\"\", LOOKUP(2, 1/(CJ$17:CJ142<>\"\"), CJ$17:CJ142), CJ143))","v":0},null,null,null,null,75,"",null,null,{"$f":"IF(CS144=\"\", 0, CS144 - IF(CS143=\"\", LOOKUP(2, 1/(CS$17:CS142<>\"\"), CS$17:CS142), CS143))","v":0},null,null,null,null,75,"",null,null,{"$f":"IF(DB144=\"\", 0, DB144 - IF(DB143=\"\", LOOKUP(2, 1/(DB$17:DB142<>\"\"), DB$17:DB142), DB143))","v":0},null,null,null,null,75,"",null,null,{"$f":"IF(DK144=\"\", 0, DK144 - IF(DK143=\"\", LOOKUP(2, 1/(DK$17:DK142<>\"\"), DK$17:DK142), DK143))","v":0},null,null,null,null,75,"",null,null,{"$f":"IF(DT144=\"\", 0, DT144 - IF(DT143=\"\", LOOKUP(2, 1/(DT$17:DT142<>\"\"), DT$17:DT142), DT143))","v":0},null,null,null,null,75,"",null,null,{"$f":"IF(EC144=\"\", 0, EC144 - IF(EC143=\"\", LOOKUP(2, 1/(EC$17:EC142<>\"\"), EC$17:EC142), EC143))","v":0},null,null,null,null,75,"",null,null,{"$f":"IF(EL144=\"\", 0, EL144 - IF(EL143=\"\", LOOKUP(2, 1/(EL$17:EL142<>\"\"), EL$17:EL142), EL143))","v":0},null,null,null,null,75,"",null,null,{"$f":"IF(EU144=\"\", 0, EU144 - IF(EU143=\"\", LOOKUP(2, 1/(EU$17:EU142<>\"\"), EU$17:EU142), EU143))","v":0},null,null,null,null,75,"",null,null,{"$f":"IF(FD144=\"\", 0, FD144 - IF(FD143=\"\", LOOKUP(2, 1/(FD$17:FD142<>\"\"), FD$17:FD142), FD143))","v":0},null,null,null,null,75,"",null,null,{"$f":"IF(FM144=\"\", 0, FM144 - IF(FM143=\"\", LOOKUP(2, 1/(FM$17:FM142<>\"\"), FM$17:FM142), FM143))","v":0},null,null,null,null,75,"",null,null,{"$f":"IF(FV144=\"\", 0, FV144 - IF(FV143=\"\", LOOKUP(2, 1/(FV$17:FV142<>\"\"), FV$17:FV142), FV143))","v":0},null,null,null,null,75,"",null,null,{"$f":"IF(GE144=\"\", 0, GE144 - IF(GE143=\"\", LOOKUP(2, 1/(GE$17:GE142<>\"\"), GE$17:GE142), GE143))","v":0},null,null,null,null,75,"",null,null,{"$f":"IF(GN144=\"\", 0, GN144 - IF(GN143=\"\", LOOKUP(2, 1/(GN$17:GN142<>\"\"), GN$17:GN142), GN143))","v":0},null,null,null,null,75,"",null,null,{"$f":"IF(GW144=\"\", 0, GW144 - IF(GW143=\"\", LOOKUP(2, 1/(GW$17:GW142<>\"\"), GW$17:GW142), GW143))","v":0},null,null,null,null,75,"",null,null,{"$f":"IF(HF144=\"\", 0, HF144 - IF(HF143=\"\", LOOKUP(2, 1/(HF$17:HF142<>\"\"), HF$17:HF142), HF143))","v":0},null,null,null,null,75,"",null,null,{"$f":"IF(HO144=\"\", 0, HO144 - IF(HO143=\"\", LOOKUP(2, 1/(HO$17:HO142<>\"\"), HO$17:HO142), HO143))","v":0},null,null,null,null,75,"",null,null,{"$f":"IF(HX144=\"\", 0, HX144 - IF(HX143=\"\", LOOKUP(2, 1/(HX$17:HX142<>\"\"), HX$17:HX142), HX143))","v":0},null,null,null,null,75,"",null,null,{"$f":"IF(IG144=\"\", 0, IG144 - IF(IG143=\"\", LOOKUP(2, 1/(IG$17:IG142<>\"\"), IG$17:IG142), IG143))","v":0},null,null,null,null,75,"",null,null,{"$f":"IF(IP144=\"\", 0, IP144 - IF(IP143=\"\", LOOKUP(2, 1/(IP$17:IP142<>\"\"), IP$17:IP142), IP143))","v":0},null,null,null,null,75,"",null,null,{"$f":"IF(IY144=\"\", 0, IY144 - IF(IY143=\"\", LOOKUP(2, 1/(IY$17:IY142<>\"\"), IY$17:IY142), IY143))","v":0},null,null,null,null,75,"",null,null,{"$f":"IF(JH144=\"\", 0, JH144 - IF(JH143=\"\", LOOKUP(2, 1/(JH$17:JH142<>\"\"), JH$17:JH142), JH143))","v":0},null,null,null,null,75,"",null,null,{"$f":"IF(JQ144=\"\", 0, JQ144 - IF(JQ143=\"\", LOOKUP(2, 1/(JQ$17:JQ142<>\"\"), JQ$17:JQ142), JQ143))","v":0},null,null,null,null,75,"",null,null,{"$f":"IF(JZ144=\"\", 0, JZ144 - IF(JZ143=\"\", LOOKUP(2, 1/(JZ$17:JZ142<>\"\"), JZ$17:JZ142), JZ143))","v":0},null,null,null,null,75,"",null,null,{"$f":"IF(KI144=\"\", 0, KI144 - IF(KI143=\"\", LOOKUP(2, 1/(KI$17:KI142<>\"\"), KI$17:KI142), KI143))","v":0},null,null,null,null,75,"",null,null,{"$f":"IF(KR144=\"\", 0, KR144 - IF(KR143=\"\", LOOKUP(2, 1/(KR$17:KR142<>\"\"), KR$17:KR142), KR143))","v":0},null,null,null,null,75,"",null,null,{"$f":"IF(LA144=\"\", 0, LA144 - IF(LA143=\"\", LOOKUP(2, 1/(LA$17:LA142<>\"\"), LA$17:LA142), LA143))","v":0},null,null,null,null,75,"",null,null,{"$f":"IF(LJ144=\"\", 0, LJ144 - IF(LJ143=\"\", LOOKUP(2, 1/(LJ$17:LJ142<>\"\"), LJ$17:LJ142), LJ143))","v":0},null,null,null,null,75,"",null,null,{"$f":"IF(LS144=\"\", 0, LS144 - IF(LS143=\"\", LOOKUP(2, 1/(LS$17:LS142<>\"\"), LS$17:LS142), LS143))","v":0},null,null,null,null,75,"",null,null,{"$f":"IF(MB144=\"\", 0, MB144 - IF(MB143=\"\", LOOKUP(2, 1/(MB$17:MB142<>\"\"), MB$17:MB142), MB143))","v":0},null,null,null,null,75,"",null,null,{"$f":"IF(MK144=\"\", 0, MK144 - IF(MK143=\"\", LOOKUP(2, 1/(MK$17:MK142<>\"\"), MK$17:MK142), MK143))","v":0},null,null,null,null,75,"",null,null,{"$f":"IF(MT144=\"\", 0, MT144 - IF(MT143=\"\", LOOKUP(2, 1/(MT$17:MT142<>\"\"), MT$17:MT142), MT143))","v":0},null,null,75,"",null,null,{"$f":"IF(NA144=\"\", 0, NA144 - IF(NA143=\"\", LOOKUP(2, 1/(NA$17:NA142<>\"\"), NA$17:NA142), NA143))","v":0},null,null,null,null,75,"",null,null,{"$f":"IF(NJ144=\"\", 0, NJ144 - IF(NJ143=\"\", LOOKUP(2, 1/(NJ$17:NJ142<>\"\"), NJ$17:NJ142), NJ143))","v":0},null,null,null,null,75,"",null,null,{"$f":"IF(NS144=\"\", 0, NS144 - IF(NS143=\"\", LOOKUP(2, 1/(NS$17:NS142<>\"\"), NS$17:NS142), NS143))","v":0},null,null,null,null,75,"",null,null,{"$f":"IF(OB144=\"\", 0, OB144 - IF(OB143=\"\", LOOKUP(2, 1/(OB$17:OB142<>\"\"), OB$17:OB142), OB143))","v":0},null,null,null,null,75,"",null,null,{"$f":"IF(OK144=\"\", 0, OK144 - IF(OK143=\"\", LOOKUP(2, 1/(OK$17:OK142<>\"\"), OK$17:OK142), OK143))","v":0},null,null,null,null,75,"",null,null,{"$f":"IF(OT144=\"\", 0, OT144 - IF(OT143=\"\", LOOKUP(2, 1/(OT$17:OT142<>\"\"), OT$17:OT142), OT143))","v":0},null,null,null,null,75,"",null,null,{"$f":"IF(PC144=\"\", 0, PC144 - IF(PC143=\"\", LOOKUP(2, 1/(PC$17:PC142<>\"\"), PC$17:PC142), PC143))","v":0},null,null,null,null,75,"",null,null,{"$f":"IF(PL144=\"\", 0, PL144 - IF(PL143=\"\", LOOKUP(2, 1/(PL$17:PL142<>\"\"), PL$17:PL142), PL143))","v":0},null,null,null,null,75,"",null,null,{"$f":"IF(PU144=\"\", 0, PU144 - IF(PU143=\"\", LOOKUP(2, 1/(PU$17:PU142<>\"\"), PU$17:PU142), PU143))","v":0},null,null,null,null,75,"",null,null,{"$f":"IF(QD144=\"\", 0, QD144 - IF(QD143=\"\", LOOKUP(2, 1/(QD$17:QD142<>\"\"), QD$17:QD142), QD143))","v":0}]
[null,null,null,74,"",null,null,{"$f":"IF(G145=\"\", 0, G145 - IF(G144=\"\", LOOKUP(2, 1/(G$17:G143<>\"\"), G$17:G143), G144))","v":0},null,null,null,null,74,"",null,null,{"$f":"IF(P145=\"\", 0, P145 - IF(P144=\"\", LOOKUP(2, 1/(P$17:P143<>\"\"), P$17:P143), P144))","v":0},null,null,null,null,74,"",null,null,{"$f":"IF(Y145=\"\", 0, Y145 - IF(Y144=\"\", LOOKUP(2, 1/(Y$17:Y143<>\"\"), Y$17:Y143), Y144))","v":0},null,null,null,null,74,"",null,null,{"$f":"IF(AH145=\"\", 0, AH145 - IF(AH144=\"\", LOOKUP(2, 1/(AH$17:AH143<>\"\"), AH$17:AH143), AH144))","v":0},null,null,null,null,74,"",null,null,{"$f":"IF(AQ145=\"\", 0, AQ145 - IF(AQ144=\"\", LOOKUP(2, 1/(AQ$17:AQ143<>\"\"), AQ$17:AQ143), AQ144))","v":0},null,null,null,null,74,"",null,null,{"$f":"IF(AZ145=\"\", 0, AZ145 - IF(AZ144=\"\", LOOKUP(2, 1/(AZ$17:AZ143<>\"\"), AZ$17:AZ143), AZ144))","v":0},null,null,null,null,74,"",null,null,{"$f":"IF(BI145=\"\", 0, BI145 - IF(BI144=\"\", LOOKUP(2, 1/(BI$17:BI143<>\"\"), BI$17:BI143), BI144))","v":0},null,null,null,null,74,"",null,null,{"$f":"IF(BR145=\"\", 0, BR145 - IF(BR144=\"\", LOOKUP(2, 1/(BR$17:BR143<>\"\"), BR$17:BR143), BR144))","v":0},null,null,null,null,74,"",null,null,{"$f":"IF(CA145=\"\", 0, CA145 - IF(CA144=\"\", LOOKUP(2, 1/(CA$17:CA143<>\"\"), CA$17:CA143), CA144))","v":0},null,null,null,null,74,"",null,null,{"$f":"IF(CJ145=\"\", 0, CJ145 - IF(CJ144=\"\", LOOKUP(2, 1/(CJ$17:CJ143<>\"\"), CJ$17:CJ143), CJ144))","v":0},null,null,null,null,74,"",null,null,{"$f":"IF(CS145=\"\", 0, CS145 - IF(CS144=\"\", LOOKUP(2, 1/(CS$17:CS143<>\"\"), CS$17:CS143), CS144))","v":0},null,null,null,null,74,"",null,null,{"$f":"IF(DB145=\"\", 0, DB145 - IF(DB144=\"\", LOOKUP(2, 1/(DB$17:DB143<>\"\"), DB$17:DB143), DB144))","v":0},null,null,null,null,74,"",null,null,{"$f":"IF(DK145=\"\", 0, DK145 - IF(DK144=\"\", LOOKUP(2, 1/(DK$17:DK143<>\"\"), DK$17:DK143), DK144))","v":0},null,null,null,null,74,"",null,null,{"$f":"IF(DT145=\"\", 0, DT145 - IF(DT144=\"\", LOOKUP(2, 1/(DT$17:DT143<>\"\"), DT$17:DT143), DT144))","v":0},null,null,null,null,74,"",null,null,{"$f":"IF(EC145=\"\", 0, EC145 - IF(EC144=\"\", LOOKUP(2, 1/(EC$17:EC143<>\"\"), EC$17:EC143), EC144))","v":0},null,null,null,null,74,"",null,null,{"$f":"IF(EL145=\"\", 0, EL145 - IF(EL144=\"\", LOOKUP(2, 1/(EL$17:EL143<>\"\"), EL$17:EL143), EL144))","v":0},null,null,null,null,74,"",null,null,{"$f":"IF(EU145=\"\", 0, EU145 - IF(EU144=\"\", LOOKUP(2, 1/(EU$17:EU143<>\"\"), EU$17:EU143), EU144))","v":0},null,null,null,null,74,"",null,null,{"$f":"IF(FD145=\"\", 0, FD145 - IF(FD144=\"\", LOOKUP(2, 1/(FD$17:FD143<>\"\"), FD$17:FD143), FD144))","v":0},null,null,null,null,74,"",null,null,{"$f":"IF(FM145=\"\", 0, FM145 - IF(FM144=\"\", LOOKUP(2, 1/(FM$17:FM143<>\"\"), FM$17:FM143), FM144))","v":0},null,null,null,null,74,"",null,null,{"$f":"IF(FV145=\"\", 0, FV145 - IF(FV144=\"\", LOOKUP(2, 1/(FV$17:FV143<>\"\"), FV$17:FV143), FV144))","v":0},null,null,null,null,74,"",null,null,{"$f":"IF(GE145=\"\", 0, GE145 - IF(GE144=\"\", LOOKUP(2, 1/(GE$17:GE143<>\"\"), GE$17:GE143), GE144))","v":0},null,null,null,null,74,"",null,null,{"$f":"IF(GN145=\"\", 0, GN145 - IF(GN144=\"\", LOOKUP(2, 1/(GN$17:GN143<>\"\"), GN$17:GN143), GN144))","v":0},null,null,null,null,74,"",null,null,{"$f":"IF(GW145=\"\", 0, GW145 - IF(GW144=\"\", LOOKUP(2, 1/(GW$17:GW143<>\"\"), GW$17:GW143), GW144))","v":0},null,null,null,null,74,"",null,null,{"$f":"IF(HF145=\"\", 0, HF145 - IF(HF144=\"\", LOOKUP(2, 1/(HF$17:HF143<>\"\"), HF$17:HF143), HF144))","v":0},null,null,null,null,74,"",null,null,{"$f":"IF(HO145=\"\", 0, HO145 - IF(HO144=\"\", LOOKUP(2, 1/(HO$17:HO143<>\"\"), HO$17:HO143), HO144))","v":0},null,null,null,null,74,"",null,null,{"$f":"IF(HX145=\"\", 0, HX145 - IF(HX144=\"\", LOOKUP(2, 1/(HX$17:HX143<>\"\"), HX$17:HX143), HX144))","v":0},null,null,null,null,74,"",null,null,{"$f":"IF(IG145=\"\", 0, IG145 - IF(IG144=\"\", LOOKUP(2, 1/(IG$17:IG143<>\"\"), IG$17:IG143), IG144))","v":0},null,null,null,null,74,"",null,null,{"$f":"IF(IP145=\"\", 0, IP145 - IF(IP144=\"\", LOOKUP(2, 1/(IP$17:IP143<>\"\"), IP$17:IP143), IP144))","v":0},null,null,null,null,74,"",null,null,{"$f":"IF(IY145=\"\", 0, IY145 - IF(IY144=\"\", LOOKUP(2, 1/(IY$17:IY143<>\"\"), IY$17:IY143), IY144))","v":0},null,null,null,null,74,"",null,null,{"$f":"IF(JH145=\"\", 0, JH145 - IF(JH144=\"\", LOOKUP(2, 1/(JH$17:JH143<>\"\"), JH$17:JH143), JH144))","v":0},null,null,null,null,74,"",null,null,{"$f":"IF(JQ145=\"\", 0, JQ145 - IF(JQ144=\"\", LOOKUP(2, 1/(JQ$17:JQ143<>\"\"), JQ$17:JQ143), JQ144))","v":0},null,null,null,null,74,"",null,null,{"$f":"IF(JZ145=\"\", 0, JZ145 - IF(JZ144=\"\", LOOKUP(2, 1/(JZ$17:JZ143<>\"\"), JZ$17:JZ143), JZ144))","v":0},null,null,null,null,74,"",null,null,{"$f":"IF(KI145=\"\", 0, KI145 - IF(KI144=\"\", LOOKUP(2, 1/(KI$17:KI143<>\"\"), KI$17:KI143), KI144))","v":0},null,null,null,null,74,"",null,null,{"$f":"IF(KR145=\"\", 0, KR145 - IF(KR144=\"\", LOOKUP(2, 1/(KR$17:KR143<>\"\"), KR$17:KR143), KR144))","v":0},null,null,null,null,74,"",null,null,{"$f":"IF(LA145=\"\", 0, LA145 - IF(LA144=\"\", LOOKUP(2, 1/(LA$17:LA143<>\"\"), LA$17:LA143), LA144))","v":0},null,null,null,null,74,"",null,null,{"$f":"IF(LJ145=\"\", 0, LJ145 - IF(LJ144=\"\", LOOKUP(2, 1/(LJ$17:LJ143<>\"\"), LJ$17:LJ143), LJ144))","v":0},null,null,null,null,74,"",null,null,{"$f":"IF(LS145=\"\", 0, LS145 - IF(LS144=\"\", LOOKUP(2, 1/(LS$17:LS143<>\"\"), LS$17:LS143), LS144))","v":0},null,null,null,null,74,"",null,null,{"$f":"IF(MB145=\"\", 0, MB145 - IF(MB144=\"\", LOOKUP(2, 1/(MB$17:MB143<>\"\"), MB$17:MB143), MB144))","v":0},null,null,null,null,74,"",null,null,{"$f":"IF(MK145=\"\", 0, MK145 - IF(MK144=\"\", LOOKUP(2, 1/(MK$17:MK143<>\"\"), MK$17:MK143), MK144))","v":0},null,null,null,null,74,"",null,null,{"$f":"IF(MT145=\"\", 0, MT145 - IF(MT144=\"\", LOOKUP(2, 1/(MT$17:MT143<>\"\"), MT$17:MT143), MT144))","v":0},null,null,74,"",null,null,{"$f":"IF(NA145=\"\", 0, NA145 - IF(NA144=\"\", LOOKUP(2, 1/(NA$17:NA143<>\"\"), NA$17:NA143), NA144))","v":0},null,null,null,null,74,"",null,null,{"$f":"IF(NJ145=\"\", 0, NJ145 - IF(NJ144=\"\", LOOKUP(2, 1/(NJ$17:NJ143<>\"\"), NJ$17:NJ143), NJ144))","v":0},null,null,null,null,74,"",null,null,{"$f":"IF(NS145=\"\", 0, NS145 - IF(NS144=\"\", LOOKUP(2, 1/(NS$17:NS143<>\"\"), NS$17:NS143), NS144))","v":0},null,null,null,null,74,"",null,null,{"$f":"IF(OB145=\"\", 0, OB145 - IF(OB144=\"\", LOOKUP(2, 1/(OB$17:OB143<>\"\"), OB$17:OB143), OB144))","v":0},null,null,null,null,74,"",null,null,{"$f":"IF(OK145=\"\", 0, OK145 - IF(OK144=\"\", LOOKUP(2, 1/(OK$17:OK143<>\"\"), OK$17:OK143), OK144))","v":0},null,null,null,null,74,"",null,null,{"$f":"IF(OT145=\"\", 0, OT145 - IF(OT144=\"\", LOOKUP(2, 1/(OT$17:OT143<>\"\"), OT$17:OT143), OT144))","v":0},null,null,null,null,74,"",null,null,{"$f":"IF(PC145=\"\", 0, PC145 - IF(PC144=\"\", LOOKUP(2, 1/(PC$17:PC143<>\"\"), PC$17:PC143), PC144))","v":0},null,null,null,null,74,"",null,null,{"$f":"IF(PL145=\"\", 0, PL145 - IF(PL144=\"\", LOOKUP(2, 1/(PL$17:PL143<>\"\"), PL$17:PL143), PL144))","v":0},null,null,null,null,74,"",null,null,{"$f":"IF(PU145=\"\", 0, PU145 - IF(PU144=\"\", LOOKUP(2, 1/(PU$17:PU143<>\"\"), PU$17:PU143), PU144))","v":0},null,null,null,null,74,"",null,null,{"$f":"IF(QD145=\"\", 0, QD145 - IF(QD144=\"\", LOOKUP(2, 1/(QD$17:QD143<>\"\"), QD$17:QD143), QD144))","v":0}]
[null,null,null,73,{"$f":"MID(F146,6,5)","v":""},null,null,{"$f":"IF(G146=\"\", 0, G146 - IF(G145=\"\", LOOKUP(2, 1/(G$17:G144<>\"\"), G$17:G144), G145))","v":0},null,null,null,null,73,{"$f":"MID(O146,6,5)","v":""},null,null,{"$f":"IF(P146=\"\", 0, P146 - IF(P145=\"\", LOOKUP(2, 1/(P$17:P144<>\"\"), P$17:P144), P145))","v":0},null,null,null,null,73,{"$f":"MID(X146,6,5)","v":""},null,null,{"$f":"IF(Y146=\"\", 0, Y146 - IF(Y145=\"\", LOOKUP(2, 1/(Y$17:Y144<>\"\"), Y$17:Y144), Y145))","v":0},null,null,null,null,73,{"$f":"MID(AG146,6,5)","v":""},null,null,{"$f":"IF(AH146=\"\", 0, AH146 - IF(AH145=\"\", LOOKUP(2, 1/(AH$17:AH144<>\"\"), AH$17:AH144), AH145))","v":0},null,null,null,null,73,{"$f":"MID(AP146,6,5)","v":""},null,null,{"$f":"IF(AQ146=\"\", 0, AQ146 - IF(AQ145=\"\", LOOKUP(2, 1/(AQ$17:AQ144<>\"\"), AQ$17:AQ144), AQ145))","v":0},null,null,null,null,73,{"$f":"MID(AY146,6,5)","v":""},null,null,{"$f":"IF(AZ146=\"\", 0, AZ146 - IF(AZ145=\"\", LOOKUP(2, 1/(AZ$17:AZ144<>\"\"), AZ$17:AZ144), AZ145))","v":0},null,null,null,null,73,{"$f":"MID(BH146,6,5)","v":""},null,null,{"$f":"IF(BI146=\"\", 0, BI146 - IF(BI145=\"\", LOOKUP(2, 1/(BI$17:BI144<>\"\"), BI$17:BI144), BI145))","v":0},null,null,null,null,73,{"$f":"MID(BQ146,6,5)","v":""},null,null,{"$f":"IF(BR146=\"\", 0, BR146 - IF(BR145=\"\", LOOKUP(2, 1/(BR$17:BR144<>\"\"), BR$17:BR144), BR145))","v":0},null,null,null,null,73,{"$f":"MID(BZ146,6,5)","v":""},null,null,{"$f":"IF(CA146=\"\", 0, CA146 - IF(CA145=\"\", LOOKUP(2, 1/(CA$17:CA144<>\"\"), CA$17:CA144), CA145))","v":0},null,null,null,null,73,{"$f":"MID(CI146,6,5)","v":""},null,null,{"$f":"IF(CJ146=\"\", 0, CJ146 - IF(CJ145=\"\", LOOKUP(2, 1/(CJ$17:CJ144<>\"\"), CJ$17:CJ144), CJ145))","v":0},null,null,null,null,73,{"$f":"MID(CR146,6,5)","v":""},null,null,{"$f":"IF(CS146=\"\", 0, CS146 - IF(CS145=\"\", LOOKUP(2, 1/(CS$17:CS144<>\"\"), CS$17:CS144), CS145))","v":0},null,null,null,null,73,{"$f":"MID(DA146,6,5)","v":""},null,null,{"$f":"IF(DB146=\"\", 0, DB146 - IF(DB145=\"\", LOOKUP(2, 1/(DB$17:DB144<>\"\"), DB$17:DB144), DB145))","v":0},null,null,null,null,73,{"$f":"MID(DJ146,6,5)","v":""},null,null,{"$f":"IF(DK146=\"\", 0, DK146 - IF(DK145=\"\", LOOKUP(2, 1/(DK$17:DK144<>\"\"), DK$17:DK144), DK145))","v":0},null,null,null,null,73,{"$f":"MID(DS146,6,5)","v":""},null,null,{"$f":"IF(DT146=\"\", 0, DT146 - IF(DT145=\"\", LOOKUP(2, 1/(DT$17:DT144<>\"\"), DT$17:DT144), DT145))","v":0},null,null,null,null,73,{"$f":"MID(EB146,6,5)","v":""},null,null,{"$f":"IF(EC146=\"\", 0, EC146 - IF(EC145=\"\", LOOKUP(2, 1/(EC$17:EC144<>\"\"), EC$17:EC144), EC145))","v":0},null,null,null,null,73,{"$f":"MID(EK146,6,5)","v":""},null,null,{"$f":"IF(EL146=\"\", 0, EL146 - IF(EL145=\"\", LOOKUP(2, 1/(EL$17:EL144<>\"\"), EL$17:EL144), EL145))","v":0},null,null,null,null,73,{"$f":"MID(ET146,6,5)","v":""},null,null,{"$f":"IF(EU146=\"\", 0, EU146 - IF(EU145=\"\", LOOKUP(2, 1/(EU$17:EU144<>\"\"), EU$17:EU144), EU145))","v":0},null,null,null,null,73,{"$f":"MID(FC146,6,5)","v":""},null,null,{"$f":"IF(FD146=\"\", 0, FD146 - IF(FD145=\"\", LOOKUP(2, 1/(FD$17:FD144<>\"\"), FD$17:FD144), FD145))","v":0},null,null,null,null,73,{"$f":"MID(FL146,6,5)","v":""},null,null,{"$f":"IF(FM146=\"\", 0, FM146 - IF(FM145=\"\", LOOKUP(2, 1/(FM$17:FM144<>\"\"), FM$17:FM144), FM145))","v":0},null,null,null,null,73,{"$f":"MID(FU146,6,5)","v":""},null,null,{"$f":"IF(FV146=\"\", 0, FV146 - IF(FV145=\"\", LOOKUP(2, 1/(FV$17:FV144<>\"\"), FV$17:FV144), FV145))","v":0},null,null,null,null,73,{"$f":"MID(GD146,6,5)","v":""},null,null,{"$f":"IF(GE146=\"\", 0, GE146 - IF(GE145=\"\", LOOKUP(2, 1/(GE$17:GE144<>\"\"), GE$17:GE144), GE145))","v":0},null,null,null,null,73,{"$f":"MID(GM146,6,5)","v":""},null,null,{"$f":"IF(GN146=\"\", 0, GN146 - IF(GN145=\"\", LOOKUP(2, 1/(GN$17:GN144<>\"\"), GN$17:GN144), GN145))","v":0},null,null,null,null,73,{"$f":"MID(GV146,6,5)","v":""},null,null,{"$f":"IF(GW146=\"\", 0, GW146 - IF(GW145=\"\", LOOKUP(2, 1/(GW$17:GW144<>\"\"), GW$17:GW144), GW145))","v":0},null,null,null,null,73,{"$f":"MID(HE146,6,5)","v":""},null,null,{"$f":"IF(HF146=\"\", 0, HF146 - IF(HF145=\"\", LOOKUP(2, 1/(HF$17:HF144<>\"\"), HF$17:HF144), HF145))","v":0},null,null,null,null,73,{"$f":"MID(HN146,6,5)","v":""},null,null,{"$f":"IF(HO146=\"\", 0, HO146 - IF(HO145=\"\", LOOKUP(2, 1/(HO$17:HO144<>\"\"), HO$17:HO144), HO145))","v":0},null,null,null,null,73,{"$f":"MID(HW146,6,5)","v":""},null,null,{"$f":"IF(HX146=\"\", 0, HX146 - IF(HX145=\"\", LOOKUP(2, 1/(HX$17:HX144<>\"\"), HX$17:HX144), HX145))","v":0},null,null,null,null,73,{"$f":"MID(IF146,6,5)","v":""},null,null,{"$f":"IF(IG146=\"\", 0, IG146 - IF(IG145=\"\", LOOKUP(2, 1/(IG$17:IG144<>\"\"), IG$17:IG144), IG145))","v":0},null,null,null,null,73,{"$f":"MID(IO146,6,5)","v":""},null,null,{"$f":"IF(IP146=\"\", 0, IP146 - IF(IP145=\"\", LOOKUP(2, 1/(IP$17:IP144<>\"\"), IP$17:IP144), IP145))","v":0},null,null,null,null,73,{"$f":"MID(IX146,6,5)","v":""},null,null,{"$f":"IF(IY146=\"\", 0, IY146 - IF(IY145=\"\", LOOKUP(2, 1/(IY$17:IY144<>\"\"), IY$17:IY144), IY145))","v":0},null,null,null,null,73,{"$f":"MID(JG146,6,5)","v":""},null,null,{"$f":"IF(JH146=\"\", 0, JH146 - IF(JH145=\"\", LOOKUP(2, 1/(JH$17:JH144<>\"\"), JH$17:JH144), JH145))","v":0},null,null,null,null,73,{"$f":"MID(JP146,6,5)","v":""},null,null,{"$f":"IF(JQ146=\"\", 0, JQ146 - IF(JQ145=\"\", LOOKUP(2, 1/(JQ$17:JQ144<>\"\"), JQ$17:JQ144), JQ145))","v":0},null,null,null,null,73,{"$f":"MID(JY146,6,5)","v":""},null,null,{"$f":"IF(JZ146=\"\", 0, JZ146 - IF(JZ145=\"\", LOOKUP(2, 1/(JZ$17:JZ144<>\"\"), JZ$17:JZ144), JZ145))","v":0},null,null,null,null,73,{"$f":"MID(KH146,6,5)","v":""},null,null,{"$f":"IF(KI146=\"\", 0, KI146 - IF(KI145=\"\", LOOKUP(2, 1/(KI$17:KI144<>\"\"), KI$17:KI144), KI145))","v":0},null,null,null,null,73,{"$f":"MID(KQ146,6,5)","v":""},null,null,{"$f":"IF(KR146=\"\", 0, KR146 - IF(KR145=\"\", LOOKUP(2, 1/(KR$17:KR144<>\"\"), KR$17:KR144), KR145))","v":0},null,null,null,null,73,{"$f":"MID(KZ146,6,5)","v":""},null,null,{"$f":"IF(LA146=\"\", 0, LA146 - IF(LA145=\"\", LOOKUP(2, 1/(LA$17:LA144<>\"\"), LA$17:LA144), LA145))","v":0},null,null,null,null,73,{"$f":"MID(LI146,6,5)","v":""},null,null,{"$f":"IF(LJ146=\"\", 0, LJ146 - IF(LJ145=\"\", LOOKUP(2, 1/(LJ$17:LJ144<>\"\"), LJ$17:LJ144), LJ145))","v":0},null,null,null,null,73,{"$f":"MID(LR146,6,5)","v":""},null,null,{"$f":"IF(LS146=\"\", 0, LS146 - IF(LS145=\"\", LOOKUP(2, 1/(LS$17:LS144<>\"\"), LS$17:LS144), LS145))","v":0},null,null,null,null,73,{"$f":"MID(MA146,6,5)","v":""},null,null,{"$f":"IF(MB146=\"\", 0, MB146 - IF(MB145=\"\", LOOKUP(2, 1/(MB$17:MB144<>\"\"), MB$17:MB144), MB145))","v":0},null,null,null,null,73,{"$f":"MID(MJ146,6,5)","v":""},null,null,{"$f":"IF(MK146=\"\", 0, MK146 - IF(MK145=\"\", LOOKUP(2, 1/(MK$17:MK144<>\"\"), MK$17:MK144), MK145))","v":0},null,null,null,null,73,{"$f":"MID(MS146,6,5)","v":""},null,null,{"$f":"IF(MT146=\"\", 0, MT146 - IF(MT145=\"\", LOOKUP(2, 1/(MT$17:MT144<>\"\"), MT$17:MT144), MT145))","v":0},null,null,73,{"$f":"MID(MZ146,6,5)","v":""},null,null,{"$f":"IF(NA146=\"\", 0, NA146 - IF(NA145=\"\", LOOKUP(2, 1/(NA$17:NA144<>\"\"), NA$17:NA144), NA145))","v":0},null,null,null,null,73,{"$f":"MID(NI146,6,5)","v":""},null,null,{"$f":"IF(NJ146=\"\", 0, NJ146 - IF(NJ145=\"\", LOOKUP(2, 1/(NJ$17:NJ144<>\"\"), NJ$17:NJ144), NJ145))","v":0},null,null,null,null,73,{"$f":"MID(NR146,6,5)","v":""},null,null,{"$f":"IF(NS146=\"\", 0, NS146 - IF(NS145=\"\", LOOKUP(2, 1/(NS$17:NS144<>\"\"), NS$17:NS144), NS145))","v":0},null,null,null,null,73,{"$f":"MID(OA146,6,5)","v":""},null,null,{"$f":"IF(OB146=\"\", 0, OB146 - IF(OB145=\"\", LOOKUP(2, 1/(OB$17:OB144<>\"\"), OB$17:OB144), OB145))","v":0},null,null,null,null,73,{"$f":"MID(OJ146,6,5)","v":""},null,null,{"$f":"IF(OK146=\"\", 0, OK146 - IF(OK145=\"\", LOOKUP(2, 1/(OK$17:OK144<>\"\"), OK$17:OK144), OK145))","v":0},null,null,null,null,73,{"$f":"MID(OS146,6,5)","v":""},null,null,{"$f":"IF(OT146=\"\", 0, OT146 - IF(OT145=\"\", LOOKUP(2, 1/(OT$17:OT144<>\"\"), OT$17:OT144), OT145))","v":0},null,null,null,null,73,{"$f":"MID(PB146,6,5)","v":""},null,null,{"$f":"IF(PC146=\"\", 0, PC146 - IF(PC145=\"\", LOOKUP(2, 1/(PC$17:PC144<>\"\"), PC$17:PC144), PC145))","v":0},null,null,null,null,73,{"$f":"MID(PK146,6,5)","v":""},null,null,{"$f":"IF(PL146=\"\", 0, PL146 - IF(PL145=\"\", LOOKUP(2, 1/(PL$17:PL144<>\"\"), PL$17:PL144), PL145))","v":0},null,null,null,null,73,{"$f":"MID(PT146,6,5)","v":""},null,null,{"$f":"IF(PU146=\"\", 0, PU146 - IF(PU145=\"\", LOOKUP(2, 1/(PU$17:PU144<>\"\"), PU$17:PU144), PU145))","v":0},null,null,null,null,73,{"$f":"MID(QC146,6,5)","v":""},null,null,{"$f":"IF(QD146=\"\", 0, QD146 - IF(QD145=\"\", LOOKUP(2, 1/(QD$17:QD144<>\"\"), QD$17:QD144), QD145))","v":0}]
[null,null,null,72,"",null,null,{"$f":"IF(G147=\"\", 0, G147 - IF(G146=\"\", LOOKUP(2, 1/(G$17:G145<>\"\"), G$17:G145), G146))","v":0},null,null,null,null,72,"",null,null,{"$f":"IF(P147=\"\", 0, P147 - IF(P146=\"\", LOOKUP(2, 1/(P$17:P145<>\"\"), P$17:P145), P146))","v":0},null,null,null,null,72,"",null,null,{"$f":"IF(Y147=\"\", 0, Y147 - IF(Y146=\"\", LOOKUP(2, 1/(Y$17:Y145<>\"\"), Y$17:Y145), Y146))","v":0},null,null,null,null,72,"",null,null,{"$f":"IF(AH147=\"\", 0, AH147 - IF(AH146=\"\", LOOKUP(2, 1/(AH$17:AH145<>\"\"), AH$17:AH145), AH146))","v":0},null,null,null,null,72,"",null,null,{"$f":"IF(AQ147=\"\", 0, AQ147 - IF(AQ146=\"\", LOOKUP(2, 1/(AQ$17:AQ145<>\"\"), AQ$17:AQ145), AQ146))","v":0},null,null,null,null,72,"",null,null,{"$f":"IF(AZ147=\"\", 0, AZ147 - IF(AZ146=\"\", LOOKUP(2, 1/(AZ$17:AZ145<>\"\"), AZ$17:AZ145), AZ146))","v":0},null,null,null,null,72,"",null,null,{"$f":"IF(BI147=\"\", 0, BI147 - IF(BI146=\"\", LOOKUP(2, 1/(BI$17:BI145<>\"\"), BI$17:BI145), BI146))","v":0},null,null,null,null,72,"",null,null,{"$f":"IF(BR147=\"\", 0, BR147 - IF(BR146=\"\", LOOKUP(2, 1/(BR$17:BR145<>\"\"), BR$17:BR145), BR146))","v":0},null,null,null,null,72,"",null,null,{"$f":"IF(CA147=\"\", 0, CA147 - IF(CA146=\"\", LOOKUP(2, 1/(CA$17:CA145<>\"\"), CA$17:CA145), CA146))","v":0},null,null,null,null,72,"",null,null,{"$f":"IF(CJ147=\"\", 0, CJ147 - IF(CJ146=\"\", LOOKUP(2, 1/(CJ$17:CJ145<>\"\"), CJ$17:CJ145), CJ146))","v":0},null,null,null,null,72,"",null,null,{"$f":"IF(CS147=\"\", 0, CS147 - IF(CS146=\"\", LOOKUP(2, 1/(CS$17:CS145<>\"\"), CS$17:CS145), CS146))","v":0},null,null,null,null,72,"",null,null,{"$f":"IF(DB147=\"\", 0, DB147 - IF(DB146=\"\", LOOKUP(2, 1/(DB$17:DB145<>\"\"), DB$17:DB145), DB146))","v":0},null,null,null,null,72,"",null,null,{"$f":"IF(DK147=\"\", 0, DK147 - IF(DK146=\"\", LOOKUP(2, 1/(DK$17:DK145<>\"\"), DK$17:DK145), DK146))","v":0},null,null,null,null,72,"",null,null,{"$f":"IF(DT147=\"\", 0, DT147 - IF(DT146=\"\", LOOKUP(2, 1/(DT$17:DT145<>\"\"), DT$17:DT145), DT146))","v":0},null,null,null,null,72,"",null,null,{"$f":"IF(EC147=\"\", 0, EC147 - IF(EC146=\"\", LOOKUP(2, 1/(EC$17:EC145<>\"\"), EC$17:EC145), EC146))","v":0},null,null,null,null,72,"",null,null,{"$f":"IF(EL147=\"\", 0, EL147 - IF(EL146=\"\", LOOKUP(2, 1/(EL$17:EL145<>\"\"), EL$17:EL145), EL146))","v":0},null,null,null,null,72,"",null,null,{"$f":"IF(EU147=\"\", 0, EU147 - IF(EU146=\"\", LOOKUP(2, 1/(EU$17:EU145<>\"\"), EU$17:EU145), EU146))","v":0},null,null,null,null,72,"",null,null,{"$f":"IF(FD147=\"\", 0, FD147 - IF(FD146=\"\", LOOKUP(2, 1/(FD$17:FD145<>\"\"), FD$17:FD145), FD146))","v":0},null,null,null,null,72,"",null,null,{"$f":"IF(FM147=\"\", 0, FM147 - IF(FM146=\"\", LOOKUP(2, 1/(FM$17:FM145<>\"\"), FM$17:FM145), FM146))","v":0},null,null,null,null,72,"",null,null,{"$f":"IF(FV147=\"\", 0, FV147 - IF(FV146=\"\", LOOKUP(2, 1/(FV$17:FV145<>\"\"), FV$17:FV145), FV146))","v":0},null,null,null,null,72,"",null,null,{"$f":"IF(GE147=\"\", 0, GE147 - IF(GE146=\"\", LOOKUP(2, 1/(GE$17:GE145<>\"\"), GE$17:GE145), GE146))","v":0},null,null,null,null,72,"",null,null,{"$f":"IF(GN147=\"\", 0, GN147 - IF(GN146=\"\", LOOKUP(2, 1/(GN$17:GN145<>\"\"), GN$17:GN145), GN146))","v":0},null,null,null,null,72,"",null,null,{"$f":"IF(GW147=\"\", 0, GW147 - IF(GW146=\"\", LOOKUP(2, 1/(GW$17:GW145<>\"\"), GW$17:GW145), GW146))","v":0},null,null,null,null,72,"",null,null,{"$f":"IF(HF147=\"\", 0, HF147 - IF(HF146=\"\", LOOKUP(2, 1/(HF$17:HF145<>\"\"), HF$17:HF145), HF146))","v":0},null,null,null,null,72,"",null,null,{"$f":"IF(HO147=\"\", 0, HO147 - IF(HO146=\"\", LOOKUP(2, 1/(HO$17:HO145<>\"\"), HO$17:HO145), HO146))","v":0},null,null,null,null,72,"",null,null,{"$f":"IF(HX147=\"\", 0, HX147 - IF(HX146=\"\", LOOKUP(2, 1/(HX$17:HX145<>\"\"), HX$17:HX145), HX146))","v":0},null,null,null,null,72,"",null,null,{"$f":"IF(IG147=\"\", 0, IG147 - IF(IG146=\"\", LOOKUP(2, 1/(IG$17:IG145<>\"\"), IG$17:IG145), IG146))","v":0},null,null,null,null,72,"",null,null,{"$f":"IF(IP147=\"\", 0, IP147 - IF(IP146=\"\", LOOKUP(2, 1/(IP$17:IP145<>\"\"), IP$17:IP145), IP146))","v":0},null,null,null,null,72,"",null,null,{"$f":"IF(IY147=\"\", 0, IY147 - IF(IY146=\"\", LOOKUP(2, 1/(IY$17:IY145<>\"\"), IY$17:IY145), IY146))","v":0},null,null,null,null,72,"",null,null,{"$f":"IF(JH147=\"\", 0, JH147 - IF(JH146=\"\", LOOKUP(2, 1/(JH$17:JH145<>\"\"), JH$17:JH145), JH146))","v":0},null,null,null,null,72,"",null,null,{"$f":"IF(JQ147=\"\", 0, JQ147 - IF(JQ146=\"\", LOOKUP(2, 1/(JQ$17:JQ145<>\"\"), JQ$17:JQ145), JQ146))","v":0},null,null,null,null,72,"",null,null,{"$f":"IF(JZ147=\"\", 0, JZ147 - IF(JZ146=\"\", LOOKUP(2, 1/(JZ$17:JZ145<>\"\"), JZ$17:JZ145), JZ146))","v":0},null,null,null,null,72,"",null,null,{"$f":"IF(KI147=\"\", 0, KI147 - IF(KI146=\"\", LOOKUP(2, 1/(KI$17:KI145<>\"\"), KI$17:KI145), KI146))","v":0},null,null,null,null,72,"",null,null,{"$f":"IF(KR147=\"\", 0, KR147 - IF(KR146=\"\", LOOKUP(2, 1/(KR$17:KR145<>\"\"), KR$17:KR145), KR146))","v":0},null,null,null,null,72,"",null,null,{"$f":"IF(LA147=\"\", 0, LA147 - IF(LA146=\"\", LOOKUP(2, 1/(LA$17:LA145<>\"\"), LA$17:LA145), LA146))","v":0},null,null,null,null,72,"",null,null,{"$f":"IF(LJ147=\"\", 0, LJ147 - IF(LJ146=\"\", LOOKUP(2, 1/(LJ$17:LJ145<>\"\"), LJ$17:LJ145), LJ146))","v":0},null,null,null,null,72,"",null,null,{"$f":"IF(LS147=\"\", 0, LS147 - IF(LS146=\"\", LOOKUP(2, 1/(LS$17:LS145<>\"\"), LS$17:LS145), LS146))","v":0},null,null,null,null,72,"",null,null,{"$f":"IF(MB147=\"\", 0, MB147 - IF(MB146=\"\", LOOKUP(2, 1/(MB$17:MB145<>\"\"), MB$17:MB145), MB146))","v":0},null,null,null,null,72,"",null,null,{"$f":"IF(MK147=\"\", 0, MK147 - IF(MK146=\"\", LOOKUP(2, 1/(MK$17:MK145<>\"\"), MK$17:MK145), MK146))","v":0},null,null,null,null,72,"",null,null,{"$f":"IF(MT147=\"\", 0, MT147 - IF(MT146=\"\", LOOKUP(2, 1/(MT$17:MT145<>\"\"), MT$17:MT145), MT146))","v":0},null,null,72,"",null,null,{"$f":"IF(NA147=\"\", 0, NA147 - IF(NA146=\"\", LOOKUP(2, 1/(NA$17:NA145<>\"\"), NA$17:NA145), NA146))","v":0},null,null,null,null,72,"",null,null,{"$f":"IF(NJ147=\"\", 0, NJ147 - IF(NJ146=\"\", LOOKUP(2, 1/(NJ$17:NJ145<>\"\"), NJ$17:NJ145), NJ146))","v":0},null,null,null,null,72,"",null,null,{"$f":"IF(NS147=\"\", 0, NS147 - IF(NS146=\"\", LOOKUP(2, 1/(NS$17:NS145<>\"\"), NS$17:NS145), NS146))","v":0},null,null,null,null,72,"",null,null,{"$f":"IF(OB147=\"\", 0, OB147 - IF(OB146=\"\", LOOKUP(2, 1/(OB$17:OB145<>\"\"), OB$17:OB145), OB146))","v":0},null,null,null,null,72,"",null,null,{"$f":"IF(OK147=\"\", 0, OK147 - IF(OK146=\"\", LOOKUP(2, 1/(OK$17:OK145<>\"\"), OK$17:OK145), OK146))","v":0},null,null,null,null,72,"",null,null,{"$f":"IF(OT147=\"\", 0, OT147 - IF(OT146=\"\", LOOKUP(2, 1/(OT$17:OT145<>\"\"), OT$17:OT145), OT146))","v":0},null,null,null,null,72,"",null,null,{"$f":"IF(PC147=\"\", 0, PC147 - IF(PC146=\"\", LOOKUP(2, 1/(PC$17:PC145<>\"\"), PC$17:PC145), PC146))","v":0},null,null,null,null,72,"",null,null,{"$f":"IF(PL147=\"\", 0, PL147 - IF(PL146=\"\", LOOKUP(2, 1/(PL$17:PL145<>\"\"), PL$17:PL145), PL146))","v":0},null,null,null,null,72,"",null,null,{"$f":"IF(PU147=\"\", 0, PU147 - IF(PU146=\"\", LOOKUP(2, 1/(PU$17:PU145<>\"\"), PU$17:PU145), PU146))","v":0},null,null,null,null,72,"",null,null,{"$f":"IF(QD147=\"\", 0, QD147 - IF(QD146=\"\", LOOKUP(2, 1/(QD$17:QD145<>\"\"), QD$17:QD145), QD146))","v":0}]
[null,null,null,71,"",null,null,{"$f":"IF(G148=\"\", 0, G148 - IF(G147=\"\", LOOKUP(2, 1/(G$17:G146<>\"\"), G$17:G146), G147))","v":0},null,null,null,null,71,"",null,null,{"$f":"IF(P148=\"\", 0, P148 - IF(P147=\"\", LOOKUP(2, 1/(P$17:P146<>\"\"), P$17:P146), P147))","v":0},null,null,null,null,71,"",null,null,{"$f":"IF(Y148=\"\", 0, Y148 - IF(Y147=\"\", LOOKUP(2, 1/(Y$17:Y146<>\"\"), Y$17:Y146), Y147))","v":0},null,null,null,null,71,"",null,null,{"$f":"IF(AH148=\"\", 0, AH148 - IF(AH147=\"\", LOOKUP(2, 1/(AH$17:AH146<>\"\"), AH$17:AH146), AH147))","v":0},null,null,null,null,71,"",null,null,{"$f":"IF(AQ148=\"\", 0, AQ148 - IF(AQ147=\"\", LOOKUP(2, 1/(AQ$17:AQ146<>\"\"), AQ$17:AQ146), AQ147))","v":0},null,null,null,null,71,"",null,null,{"$f":"IF(AZ148=\"\", 0, AZ148 - IF(AZ147=\"\", LOOKUP(2, 1/(AZ$17:AZ146<>\"\"), AZ$17:AZ146), AZ147))","v":0},null,null,null,null,71,"",null,null,{"$f":"IF(BI148=\"\", 0, BI148 - IF(BI147=\"\", LOOKUP(2, 1/(BI$17:BI146<>\"\"), BI$17:BI146), BI147))","v":0},null,null,null,null,71,"",null,null,{"$f":"IF(BR148=\"\", 0, BR148 - IF(BR147=\"\", LOOKUP(2, 1/(BR$17:BR146<>\"\"), BR$17:BR146), BR147))","v":0},null,null,null,null,71,"",null,null,{"$f":"IF(CA148=\"\", 0, CA148 - IF(CA147=\"\", LOOKUP(2, 1/(CA$17:CA146<>\"\"), CA$17:CA146), CA147))","v":0},null,null,null,null,71,"",null,null,{"$f":"IF(CJ148=\"\", 0, CJ148 - IF(CJ147=\"\", LOOKUP(2, 1/(CJ$17:CJ146<>\"\"), CJ$17:CJ146), CJ147))","v":0},null,null,null,null,71,"",null,null,{"$f":"IF(CS148=\"\", 0, CS148 - IF(CS147=\"\", LOOKUP(2, 1/(CS$17:CS146<>\"\"), CS$17:CS146), CS147))","v":0},null,null,null,null,71,"",null,null,{"$f":"IF(DB148=\"\", 0, DB148 - IF(DB147=\"\", LOOKUP(2, 1/(DB$17:DB146<>\"\"), DB$17:DB146), DB147))","v":0},null,null,null,null,71,"",null,null,{"$f":"IF(DK148=\"\", 0, DK148 - IF(DK147=\"\", LOOKUP(2, 1/(DK$17:DK146<>\"\"), DK$17:DK146), DK147))","v":0},null,null,null,null,71,"",null,null,{"$f":"IF(DT148=\"\", 0, DT148 - IF(DT147=\"\", LOOKUP(2, 1/(DT$17:DT146<>\"\"), DT$17:DT146), DT147))","v":0},null,null,null,null,71,"",null,null,{"$f":"IF(EC148=\"\", 0, EC148 - IF(EC147=\"\", LOOKUP(2, 1/(EC$17:EC146<>\"\"), EC$17:EC146), EC147))","v":0},null,null,null,null,71,"",null,null,{"$f":"IF(EL148=\"\", 0, EL148 - IF(EL147=\"\", LOOKUP(2, 1/(EL$17:EL146<>\"\"), EL$17:EL146), EL147))","v":0},null,null,null,null,71,"",null,null,{"$f":"IF(EU148=\"\", 0, EU148 - IF(EU147=\"\", LOOKUP(2, 1/(EU$17:EU146<>\"\"), EU$17:EU146), EU147))","v":0},null,null,null,null,71,"",null,null,{"$f":"IF(FD148=\"\", 0, FD148 - IF(FD147=\"\", LOOKUP(2, 1/(FD$17:FD146<>\"\"), FD$17:FD146), FD147))","v":0},null,null,null,null,71,"",null,null,{"$f":"IF(FM148=\"\", 0, FM148 - IF(FM147=\"\", LOOKUP(2, 1/(FM$17:FM146<>\"\"), FM$17:FM146), FM147))","v":0},null,null,null,null,71,"",null,null,{"$f":"IF(FV148=\"\", 0, FV148 - IF(FV147=\"\", LOOKUP(2, 1/(FV$17:FV146<>\"\"), FV$17:FV146), FV147))","v":0},null,null,null,null,71,"",null,null,{"$f":"IF(GE148=\"\", 0, GE148 - IF(GE147=\"\", LOOKUP(2, 1/(GE$17:GE146<>\"\"), GE$17:GE146), GE147))","v":0},null,null,null,null,71,"",null,null,{"$f":"IF(GN148=\"\", 0, GN148 - IF(GN147=\"\", LOOKUP(2, 1/(GN$17:GN146<>\"\"), GN$17:GN146), GN147))","v":0},null,null,null,null,71,"",null,null,{"$f":"IF(GW148=\"\", 0, GW148 - IF(GW147=\"\", LOOKUP(2, 1/(GW$17:GW146<>\"\"), GW$17:GW146), GW147))","v":0},null,null,null,null,71,"",null,null,{"$f":"IF(HF148=\"\", 0, HF148 - IF(HF147=\"\", LOOKUP(2, 1/(HF$17:HF146<>\"\"), HF$17:HF146), HF147))","v":0},null,null,null,null,71,"",null,null,{"$f":"IF(HO148=\"\", 0, HO148 - IF(HO147=\"\", LOOKUP(2, 1/(HO$17:HO146<>\"\"), HO$17:HO146), HO147))","v":0},null,null,null,null,71,"",null,null,{"$f":"IF(HX148=\"\", 0, HX148 - IF(HX147=\"\", LOOKUP(2, 1/(HX$17:HX146<>\"\"), HX$17:HX146), HX147))","v":0},null,null,null,null,71,"",null,null,{"$f":"IF(IG148=\"\", 0, IG148 - IF(IG147=\"\", LOOKUP(2, 1/(IG$17:IG146<>\"\"), IG$17:IG146), IG147))","v":0},null,null,null,null,71,"",null,null,{"$f":"IF(IP148=\"\", 0, IP148 - IF(IP147=\"\", LOOKUP(2, 1/(IP$17:IP146<>\"\"), IP$17:IP146), IP147))","v":0},null,null,null,null,71,"",null,null,{"$f":"IF(IY148=\"\", 0, IY148 - IF(IY147=\"\", LOOKUP(2, 1/(IY$17:IY146<>\"\"), IY$17:IY146), IY147))","v":0},null,null,null,null,71,"",null,null,{"$f":"IF(JH148=\"\", 0, JH148 - IF(JH147=\"\", LOOKUP(2, 1/(JH$17:JH146<>\"\"), JH$17:JH146), JH147))","v":0},null,null,null,null,71,"",null,null,{"$f":"IF(JQ148=\"\", 0, JQ148 - IF(JQ147=\"\", LOOKUP(2, 1/(JQ$17:JQ146<>\"\"), JQ$17:JQ146), JQ147))","v":0},null,null,null,null,71,"",null,null,{"$f":"IF(JZ148=\"\", 0, JZ148 - IF(JZ147=\"\", LOOKUP(2, 1/(JZ$17:JZ146<>\"\"), JZ$17:JZ146), JZ147))","v":0},null,null,null,null,71,"",null,null,{"$f":"IF(KI148=\"\", 0, KI148 - IF(KI147=\"\", LOOKUP(2, 1/(KI$17:KI146<>\"\"), KI$17:KI146), KI147))","v":0},null,null,null,null,71,"",null,null,{"$f":"IF(KR148=\"\", 0, KR148 - IF(KR147=\"\", LOOKUP(2, 1/(KR$17:KR146<>\"\"), KR$17:KR146), KR147))","v":0},null,null,null,null,71,"",null,null,{"$f":"IF(LA148=\"\", 0, LA148 - IF(LA147=\"\", LOOKUP(2, 1/(LA$17:LA146<>\"\"), LA$17:LA146), LA147))","v":0},null,null,null,null,71,"",null,null,{"$f":"IF(LJ148=\"\", 0, LJ148 - IF(LJ147=\"\", LOOKUP(2, 1/(LJ$17:LJ146<>\"\"), LJ$17:LJ146), LJ147))","v":0},null,null,null,null,71,"",null,null,{"$f":"IF(LS148=\"\", 0, LS148 - IF(LS147=\"\", LOOKUP(2, 1/(LS$17:LS146<>\"\"), LS$17:LS146), LS147))","v":0},null,null,null,null,71,"",null,null,{"$f":"IF(MB148=\"\", 0, MB148 - IF(MB147=\"\", LOOKUP(2, 1/(MB$17:MB146<>\"\"), MB$17:MB146), MB147))","v":0},null,null,null,null,71,"",null,null,{"$f":"IF(MK148=\"\", 0, MK148 - IF(MK147=\"\", LOOKUP(2, 1/(MK$17:MK146<>\"\"), MK$17:MK146), MK147))","v":0},null,null,null,null,71,"",null,null,{"$f":"IF(MT148=\"\", 0, MT148 - IF(MT147=\"\", LOOKUP(2, 1/(MT$17:MT146<>\"\"), MT$17:MT146), MT147))","v":0},null,null,71,"",null,null,{"$f":"IF(NA148=\"\", 0, NA148 - IF(NA147=\"\", LOOKUP(2, 1/(NA$17:NA146<>\"\"), NA$17:NA146), NA147))","v":0},null,null,null,null,71,"",null,null,{"$f":"IF(NJ148=\"\", 0, NJ148 - IF(NJ147=\"\", LOOKUP(2, 1/(NJ$17:NJ146<>\"\"), NJ$17:NJ146), NJ147))","v":0},null,null,null,null,71,"",null,null,{"$f":"IF(NS148=\"\", 0, NS148 - IF(NS147=\"\", LOOKUP(2, 1/(NS$17:NS146<>\"\"), NS$17:NS146), NS147))","v":0},null,null,null,null,71,"",null,null,{"$f":"IF(OB148=\"\", 0, OB148 - IF(OB147=\"\", LOOKUP(2, 1/(OB$17:OB146<>\"\"), OB$17:OB146), OB147))","v":0},null,null,null,null,71,"",null,null,{"$f":"IF(OK148=\"\", 0, OK148 - IF(OK147=\"\", LOOKUP(2, 1/(OK$17:OK146<>\"\"), OK$17:OK146), OK147))","v":0},null,null,null,null,71,"",null,null,{"$f":"IF(OT148=\"\", 0, OT148 - IF(OT147=\"\", LOOKUP(2, 1/(OT$17:OT146<>\"\"), OT$17:OT146), OT147))","v":0},null,null,null,null,71,"",null,null,{"$f":"IF(PC148=\"\", 0, PC148 - IF(PC147=\"\", LOOKUP(2, 1/(PC$17:PC146<>\"\"), PC$17:PC146), PC147))","v":0},null,null,null,null,71,"",null,null,{"$f":"IF(PL148=\"\", 0, PL148 - IF(PL147=\"\", LOOKUP(2, 1/(PL$17:PL146<>\"\"), PL$17:PL146), PL147))","v":0},null,null,null,null,71,"",null,null,{"$f":"IF(PU148=\"\", 0, PU148 - IF(PU147=\"\", LOOKUP(2, 1/(PU$17:PU146<>\"\"), PU$17:PU146), PU147))","v":0},null,null,null,null,71,"",null,null,{"$f":"IF(QD148=\"\", 0, QD148 - IF(QD147=\"\", LOOKUP(2, 1/(QD$17:QD146<>\"\"), QD$17:QD146), QD147))","v":0}]
[null,null,null,70,"",null,null,{"$f":"IF(G149=\"\", 0, G149 - IF(G148=\"\", LOOKUP(2, 1/(G$17:G147<>\"\"), G$17:G147), G148))","v":0},null,null,null,null,70,"",null,null,{"$f":"IF(P149=\"\", 0, P149 - IF(P148=\"\", LOOKUP(2, 1/(P$17:P147<>\"\"), P$17:P147), P148))","v":0},null,null,null,null,70,"",null,null,{"$f":"IF(Y149=\"\", 0, Y149 - IF(Y148=\"\", LOOKUP(2, 1/(Y$17:Y147<>\"\"), Y$17:Y147), Y148))","v":0},null,null,null,null,70,"",null,null,{"$f":"IF(AH149=\"\", 0, AH149 - IF(AH148=\"\", LOOKUP(2, 1/(AH$17:AH147<>\"\"), AH$17:AH147), AH148))","v":0},null,null,null,null,70,"",null,null,{"$f":"IF(AQ149=\"\", 0, AQ149 - IF(AQ148=\"\", LOOKUP(2, 1/(AQ$17:AQ147<>\"\"), AQ$17:AQ147), AQ148))","v":0},null,null,null,null,70,"",null,null,{"$f":"IF(AZ149=\"\", 0, AZ149 - IF(AZ148=\"\", LOOKUP(2, 1/(AZ$17:AZ147<>\"\"), AZ$17:AZ147), AZ148))","v":0},null,null,null,null,70,"",null,null,{"$f":"IF(BI149=\"\", 0, BI149 - IF(BI148=\"\", LOOKUP(2, 1/(BI$17:BI147<>\"\"), BI$17:BI147), BI148))","v":0},null,null,null,null,70,"",null,null,{"$f":"IF(BR149=\"\", 0, BR149 - IF(BR148=\"\", LOOKUP(2, 1/(BR$17:BR147<>\"\"), BR$17:BR147), BR148))","v":0},null,null,null,null,70,"",null,null,{"$f":"IF(CA149=\"\", 0, CA149 - IF(CA148=\"\", LOOKUP(2, 1/(CA$17:CA147<>\"\"), CA$17:CA147), CA148))","v":0},null,null,null,null,70,"",null,null,{"$f":"IF(CJ149=\"\", 0, CJ149 - IF(CJ148=\"\", LOOKUP(2, 1/(CJ$17:CJ147<>\"\"), CJ$17:CJ147), CJ148))","v":0},null,null,null,null,70,"",null,null,{"$f":"IF(CS149=\"\", 0, CS149 - IF(CS148=\"\", LOOKUP(2, 1/(CS$17:CS147<>\"\"), CS$17:CS147), CS148))","v":0},null,null,null,null,70,"",null,null,{"$f":"IF(DB149=\"\", 0, DB149 - IF(DB148=\"\", LOOKUP(2, 1/(DB$17:DB147<>\"\"), DB$17:DB147), DB148))","v":0},null,null,null,null,70,"",null,null,{"$f":"IF(DK149=\"\", 0, DK149 - IF(DK148=\"\", LOOKUP(2, 1/(DK$17:DK147<>\"\"), DK$17:DK147), DK148))","v":0},null,null,null,null,70,"",null,null,{"$f":"IF(DT149=\"\", 0, DT149 - IF(DT148=\"\", LOOKUP(2, 1/(DT$17:DT147<>\"\"), DT$17:DT147), DT148))","v":0},null,null,null,null,70,"",null,null,{"$f":"IF(EC149=\"\", 0, EC149 - IF(EC148=\"\", LOOKUP(2, 1/(EC$17:EC147<>\"\"), EC$17:EC147), EC148))","v":0},null,null,null,null,70,"",null,null,{"$f":"IF(EL149=\"\", 0, EL149 - IF(EL148=\"\", LOOKUP(2, 1/(EL$17:EL147<>\"\"), EL$17:EL147), EL148))","v":0},null,null,null,null,70,"",null,null,{"$f":"IF(EU149=\"\", 0, EU149 - IF(EU148=\"\", LOOKUP(2, 1/(EU$17:EU147<>\"\"), EU$17:EU147), EU148))","v":0},null,null,null,null,70,"",null,null,{"$f":"IF(FD149=\"\", 0, FD149 - IF(FD148=\"\", LOOKUP(2, 1/(FD$17:FD147<>\"\"), FD$17:FD147), FD148))","v":0},null,null,null,null,70,"",null,null,{"$f":"IF(FM149=\"\", 0, FM149 - IF(FM148=\"\", LOOKUP(2, 1/(FM$17:FM147<>\"\"), FM$17:FM147), FM148))","v":0},null,null,null,null,70,"",null,null,{"$f":"IF(FV149=\"\", 0, FV149 - IF(FV148=\"\", LOOKUP(2, 1/(FV$17:FV147<>\"\"), FV$17:FV147), FV148))","v":0},null,null,null,null,70,"",null,null,{"$f":"IF(GE149=\"\", 0, GE149 - IF(GE148=\"\", LOOKUP(2, 1/(GE$17:GE147<>\"\"), GE$17:GE147), GE148))","v":0},null,null,null,null,70,"",null,null,{"$f":"IF(GN149=\"\", 0, GN149 - IF(GN148=\"\", LOOKUP(2, 1/(GN$17:GN147<>\"\"), GN$17:GN147), GN148))","v":0},null,null,null,null,70,"",null,null,{"$f":"IF(GW149=\"\", 0, GW149 - IF(GW148=\"\", LOOKUP(2, 1/(GW$17:GW147<>\"\"), GW$17:GW147), GW148))","v":0},null,null,null,null,70,"",null,null,{"$f":"IF(HF149=\"\", 0, HF149 - IF(HF148=\"\", LOOKUP(2, 1/(HF$17:HF147<>\"\"), HF$17:HF147), HF148))","v":0},null,null,null,null,70,"",null,null,{"$f":"IF(HO149=\"\", 0, HO149 - IF(HO148=\"\", LOOKUP(2, 1/(HO$17:HO147<>\"\"), HO$17:HO147), HO148))","v":0},null,null,null,null,70,"",null,null,{"$f":"IF(HX149=\"\", 0, HX149 - IF(HX148=\"\", LOOKUP(2, 1/(HX$17:HX147<>\"\"), HX$17:HX147), HX148))","v":0},null,null,null,null,70,"",null,null,{"$f":"IF(IG149=\"\", 0, IG149 - IF(IG148=\"\", LOOKUP(2, 1/(IG$17:IG147<>\"\"), IG$17:IG147), IG148))","v":0},null,null,null,null,70,"",null,null,{"$f":"IF(IP149=\"\", 0, IP149 - IF(IP148=\"\", LOOKUP(2, 1/(IP$17:IP147<>\"\"), IP$17:IP147), IP148))","v":0},null,null,null,null,70,"",null,null,{"$f":"IF(IY149=\"\", 0, IY149 - IF(IY148=\"\", LOOKUP(2, 1/(IY$17:IY147<>\"\"), IY$17:IY147), IY148))","v":0},null,null,null,null,70,"",null,null,{"$f":"IF(JH149=\"\", 0, JH149 - IF(JH148=\"\", LOOKUP(2, 1/(JH$17:JH147<>\"\"), JH$17:JH147), JH148))","v":0},null,null,null,null,70,"",null,null,{"$f":"IF(JQ149=\"\", 0, JQ149 - IF(JQ148=\"\", LOOKUP(2, 1/(JQ$17:JQ147<>\"\"), JQ$17:JQ147), JQ148))","v":0},null,null,null,null,70,"",null,null,{"$f":"IF(JZ149=\"\", 0, JZ149 - IF(JZ148=\"\", LOOKUP(2, 1/(JZ$17:JZ147<>\"\"), JZ$17:JZ147), JZ148))","v":0},null,null,null,null,70,"",null,null,{"$f":"IF(KI149=\"\", 0, KI149 - IF(KI148=\"\", LOOKUP(2, 1/(KI$17:KI147<>\"\"), KI$17:KI147), KI148))","v":0},null,null,null,null,70,"",null,null,{"$f":"IF(KR149=\"\", 0, KR149 - IF(KR148=\"\", LOOKUP(2, 1/(KR$17:KR147<>\"\"), KR$17:KR147), KR148))","v":0},null,null,null,null,70,"",null,null,{"$f":"IF(LA149=\"\", 0, LA149 - IF(LA148=\"\", LOOKUP(2, 1/(LA$17:LA147<>\"\"), LA$17:LA147), LA148))","v":0},null,null,null,null,70,"",null,null,{"$f":"IF(LJ149=\"\", 0, LJ149 - IF(LJ148=\"\", LOOKUP(2, 1/(LJ$17:LJ147<>\"\"), LJ$17:LJ147), LJ148))","v":0},null,null,null,null,70,"",null,null,{"$f":"IF(LS149=\"\", 0, LS149 - IF(LS148=\"\", LOOKUP(2, 1/(LS$17:LS147<>\"\"), LS$17:LS147), LS148))","v":0},null,null,null,null,70,"",null,null,{"$f":"IF(MB149=\"\", 0, MB149 - IF(MB148=\"\", LOOKUP(2, 1/(MB$17:MB147<>\"\"), MB$17:MB147), MB148))","v":0},null,null,null,null,70,"",null,null,{"$f":"IF(MK149=\"\", 0, MK149 - IF(MK148=\"\", LOOKUP(2, 1/(MK$17:MK147<>\"\"), MK$17:MK147), MK148))","v":0},null,null,null,null,70,"",null,null,{"$f":"IF(MT149=\"\", 0, MT149 - IF(MT148=\"\", LOOKUP(2, 1/(MT$17:MT147<>\"\"), MT$17:MT147), MT148))","v":0},null,null,70,"",null,null,{"$f":"IF(NA149=\"\", 0, NA149 - IF(NA148=\"\", LOOKUP(2, 1/(NA$17:NA147<>\"\"), NA$17:NA147), NA148))","v":0},null,null,null,null,70,"",null,null,{"$f":"IF(NJ149=\"\", 0, NJ149 - IF(NJ148=\"\", LOOKUP(2, 1/(NJ$17:NJ147<>\"\"), NJ$17:NJ147), NJ148))","v":0},null,null,null,null,70,"",null,null,{"$f":"IF(NS149=\"\", 0, NS149 - IF(NS148=\"\", LOOKUP(2, 1/(NS$17:NS147<>\"\"), NS$17:NS147), NS148))","v":0},null,null,null,null,70,"",null,null,{"$f":"IF(OB149=\"\", 0, OB149 - IF(OB148=\"\", LOOKUP(2, 1/(OB$17:OB147<>\"\"), OB$17:OB147), OB148))","v":0},null,null,null,null,70,"",null,null,{"$f":"IF(OK149=\"\", 0, OK149 - IF(OK148=\"\", LOOKUP(2, 1/(OK$17:OK147<>\"\"), OK$17:OK147), OK148))","v":0},null,null,null,null,70,"",null,null,{"$f":"IF(OT149=\"\", 0, OT149 - IF(OT148=\"\", LOOKUP(2, 1/(OT$17:OT147<>\"\"), OT$17:OT147), OT148))","v":0},null,null,null,null,70,"",null,null,{"$f":"IF(PC149=\"\", 0, PC149 - IF(PC148=\"\", LOOKUP(2, 1/(PC$17:PC147<>\"\"), PC$17:PC147), PC148))","v":0},null,null,null,null,70,"",null,null,{"$f":"IF(PL149=\"\", 0, PL149 - IF(PL148=\"\", LOOKUP(2, 1/(PL$17:PL147<>\"\"), PL$17:PL147), PL148))","v":0},null,null,null,null,70,"",null,null,{"$f":"IF(PU149=\"\", 0, PU149 - IF(PU148=\"\", LOOKUP(2, 1/(PU$17:PU147<>\"\"), PU$17:PU147), PU148))","v":0},null,null,null,null,70,"",null,null,{"$f":"IF(QD149=\"\", 0, QD149 - IF(QD148=\"\", LOOKUP(2, 1/(QD$17:QD147<>\"\"), QD$17:QD147), QD148))","v":0}]
[null,null,null,69,"",null,null,{"$f":"IF(G150=\"\", 0, G150 - IF(G149=\"\", LOOKUP(2, 1/(G$17:G148<>\"\"), G$17:G148), G149))","v":0},null,null,null,null,69,"",null,null,{"$f":"IF(P150=\"\", 0, P150 - IF(P149=\"\", LOOKUP(2, 1/(P$17:P148<>\"\"), P$17:P148), P149))","v":0},null,null,null,null,69,"",null,null,{"$f":"IF(Y150=\"\", 0, Y150 - IF(Y149=\"\", LOOKUP(2, 1/(Y$17:Y148<>\"\"), Y$17:Y148), Y149))","v":0},null,null,null,null,69,"",null,null,{"$f":"IF(AH150=\"\", 0, AH150 - IF(AH149=\"\", LOOKUP(2, 1/(AH$17:AH148<>\"\"), AH$17:AH148), AH149))","v":0},null,null,null,null,69,"",null,null,{"$f":"IF(AQ150=\"\", 0, AQ150 - IF(AQ149=\"\", LOOKUP(2, 1/(AQ$17:AQ148<>\"\"), AQ$17:AQ148), AQ149))","v":0},null,null,null,null,69,"",null,null,{"$f":"IF(AZ150=\"\", 0, AZ150 - IF(AZ149=\"\", LOOKUP(2, 1/(AZ$17:AZ148<>\"\"), AZ$17:AZ148), AZ149))","v":0},null,null,null,null,69,"",null,null,{"$f":"IF(BI150=\"\", 0, BI150 - IF(BI149=\"\", LOOKUP(2, 1/(BI$17:BI148<>\"\"), BI$17:BI148), BI149))","v":0},null,null,null,null,69,"",null,null,{"$f":"IF(BR150=\"\", 0, BR150 - IF(BR149=\"\", LOOKUP(2, 1/(BR$17:BR148<>\"\"), BR$17:BR148), BR149))","v":0},null,null,null,null,69,"",null,null,{"$f":"IF(CA150=\"\", 0, CA150 - IF(CA149=\"\", LOOKUP(2, 1/(CA$17:CA148<>\"\"), CA$17:CA148), CA149))","v":0},null,null,null,null,69,"",null,null,{"$f":"IF(CJ150=\"\", 0, CJ150 - IF(CJ149=\"\", LOOKUP(2, 1/(CJ$17:CJ148<>\"\"), CJ$17:CJ148), CJ149))","v":0},null,null,null,null,69,"",null,null,{"$f":"IF(CS150=\"\", 0, CS150 - IF(CS149=\"\", LOOKUP(2, 1/(CS$17:CS148<>\"\"), CS$17:CS148), CS149))","v":0},null,null,null,null,69,"",null,null,{"$f":"IF(DB150=\"\", 0, DB150 - IF(DB149=\"\", LOOKUP(2, 1/(DB$17:DB148<>\"\"), DB$17:DB148), DB149))","v":0},null,null,null,null,69,"",null,null,{"$f":"IF(DK150=\"\", 0, DK150 - IF(DK149=\"\", LOOKUP(2, 1/(DK$17:DK148<>\"\"), DK$17:DK148), DK149))","v":0},null,null,null,null,69,"",null,null,{"$f":"IF(DT150=\"\", 0, DT150 - IF(DT149=\"\", LOOKUP(2, 1/(DT$17:DT148<>\"\"), DT$17:DT148), DT149))","v":0},null,null,null,null,69,"",null,null,{"$f":"IF(EC150=\"\", 0, EC150 - IF(EC149=\"\", LOOKUP(2, 1/(EC$17:EC148<>\"\"), EC$17:EC148), EC149))","v":0},null,null,null,null,69,"",null,null,{"$f":"IF(EL150=\"\", 0, EL150 - IF(EL149=\"\", LOOKUP(2, 1/(EL$17:EL148<>\"\"), EL$17:EL148), EL149))","v":0},null,null,null,null,69,"",null,null,{"$f":"IF(EU150=\"\", 0, EU150 - IF(EU149=\"\", LOOKUP(2, 1/(EU$17:EU148<>\"\"), EU$17:EU148), EU149))","v":0},null,null,null,null,69,"",null,null,{"$f":"IF(FD150=\"\", 0, FD150 - IF(FD149=\"\", LOOKUP(2, 1/(FD$17:FD148<>\"\"), FD$17:FD148), FD149))","v":0},null,null,null,null,69,"",null,null,{"$f":"IF(FM150=\"\", 0, FM150 - IF(FM149=\"\", LOOKUP(2, 1/(FM$17:FM148<>\"\"), FM$17:FM148), FM149))","v":0},null,null,null,null,69,"",null,null,{"$f":"IF(FV150=\"\", 0, FV150 - IF(FV149=\"\", LOOKUP(2, 1/(FV$17:FV148<>\"\"), FV$17:FV148), FV149))","v":0},null,null,null,null,69,"",null,null,{"$f":"IF(GE150=\"\", 0, GE150 - IF(GE149=\"\", LOOKUP(2, 1/(GE$17:GE148<>\"\"), GE$17:GE148), GE149))","v":0},null,null,null,null,69,"",null,null,{"$f":"IF(GN150=\"\", 0, GN150 - IF(GN149=\"\", LOOKUP(2, 1/(GN$17:GN148<>\"\"), GN$17:GN148), GN149))","v":0},null,null,null,null,69,"",null,null,{"$f":"IF(GW150=\"\", 0, GW150 - IF(GW149=\"\", LOOKUP(2, 1/(GW$17:GW148<>\"\"), GW$17:GW148), GW149))","v":0},null,null,null,null,69,"",null,null,{"$f":"IF(HF150=\"\", 0, HF150 - IF(HF149=\"\", LOOKUP(2, 1/(HF$17:HF148<>\"\"), HF$17:HF148), HF149))","v":0},null,null,null,null,69,"",null,null,{"$f":"IF(HO150=\"\", 0, HO150 - IF(HO149=\"\", LOOKUP(2, 1/(HO$17:HO148<>\"\"), HO$17:HO148), HO149))","v":0},null,null,null,null,69,"",null,null,{"$f":"IF(HX150=\"\", 0, HX150 - IF(HX149=\"\", LOOKUP(2, 1/(HX$17:HX148<>\"\"), HX$17:HX148), HX149))","v":0},null,null,null,null,69,"",null,null,{"$f":"IF(IG150=\"\", 0, IG150 - IF(IG149=\"\", LOOKUP(2, 1/(IG$17:IG148<>\"\"), IG$17:IG148), IG149))","v":0},null,null,null,null,69,"",null,null,{"$f":"IF(IP150=\"\", 0, IP150 - IF(IP149=\"\", LOOKUP(2, 1/(IP$17:IP148<>\"\"), IP$17:IP148), IP149))","v":0},null,null,null,null,69,"",null,null,{"$f":"IF(IY150=\"\", 0, IY150 - IF(IY149=\"\", LOOKUP(2, 1/(IY$17:IY148<>\"\"), IY$17:IY148), IY149))","v":0},null,null,null,null,69,"",null,null,{"$f":"IF(JH150=\"\", 0, JH150 - IF(JH149=\"\", LOOKUP(2, 1/(JH$17:JH148<>\"\"), JH$17:JH148), JH149))","v":0},null,null,null,null,69,"",null,null,{"$f":"IF(JQ150=\"\", 0, JQ150 - IF(JQ149=\"\", LOOKUP(2, 1/(JQ$17:JQ148<>\"\"), JQ$17:JQ148), JQ149))","v":0},null,null,null,null,69,"",null,null,{"$f":"IF(JZ150=\"\", 0, JZ150 - IF(JZ149=\"\", LOOKUP(2, 1/(JZ$17:JZ148<>\"\"), JZ$17:JZ148), JZ149))","v":0},null,null,null,null,69,"",null,null,{"$f":"IF(KI150=\"\", 0, KI150 - IF(KI149=\"\", LOOKUP(2, 1/(KI$17:KI148<>\"\"), KI$17:KI148), KI149))","v":0},null,null,null,null,69,"",null,null,{"$f":"IF(KR150=\"\", 0, KR150 - IF(KR149=\"\", LOOKUP(2, 1/(KR$17:KR148<>\"\"), KR$17:KR148), KR149))","v":0},null,null,null,null,69,"",null,null,{"$f":"IF(LA150=\"\", 0, LA150 - IF(LA149=\"\", LOOKUP(2, 1/(LA$17:LA148<>\"\"), LA$17:LA148), LA149))","v":0},null,null,null,null,69,"",null,null,{"$f":"IF(LJ150=\"\", 0, LJ150 - IF(LJ149=\"\", LOOKUP(2, 1/(LJ$17:LJ148<>\"\"), LJ$17:LJ148), LJ149))","v":0},null,null,null,null,69,"",null,null,{"$f":"IF(LS150=\"\", 0, LS150 - IF(LS149=\"\", LOOKUP(2, 1/(LS$17:LS148<>\"\"), LS$17:LS148), LS149))","v":0},null,null,null,null,69,"",null,null,{"$f":"IF(MB150=\"\", 0, MB150 - IF(MB149=\"\", LOOKUP(2, 1/(MB$17:MB148<>\"\"), MB$17:MB148), MB149))","v":0},null,null,null,null,69,"",null,null,{"$f":"IF(MK150=\"\", 0, MK150 - IF(MK149=\"\", LOOKUP(2, 1/(MK$17:MK148<>\"\"), MK$17:MK148), MK149))","v":0},null,null,null,null,69,"",null,null,{"$f":"IF(MT150=\"\", 0, MT150 - IF(MT149=\"\", LOOKUP(2, 1/(MT$17:MT148<>\"\"), MT$17:MT148), MT149))","v":0},null,null,69,"",null,null,{"$f":"IF(NA150=\"\", 0, NA150 - IF(NA149=\"\", LOOKUP(2, 1/(NA$17:NA148<>\"\"), NA$17:NA148), NA149))","v":0},null,null,null,null,69,"",null,null,{"$f":"IF(NJ150=\"\", 0, NJ150 - IF(NJ149=\"\", LOOKUP(2, 1/(NJ$17:NJ148<>\"\"), NJ$17:NJ148), NJ149))","v":0},null,null,null,null,69,"",null,null,{"$f":"IF(NS150=\"\", 0, NS150 - IF(NS149=\"\", LOOKUP(2, 1/(NS$17:NS148<>\"\"), NS$17:NS148), NS149))","v":0},null,null,null,null,69,"",null,null,{"$f":"IF(OB150=\"\", 0, OB150 - IF(OB149=\"\", LOOKUP(2, 1/(OB$17:OB148<>\"\"), OB$17:OB148), OB149))","v":0},null,null,null,null,69,"",null,null,{"$f":"IF(OK150=\"\", 0, OK150 - IF(OK149=\"\", LOOKUP(2, 1/(OK$17:OK148<>\"\"), OK$17:OK148), OK149))","v":0},null,null,null,null,69,"",null,null,{"$f":"IF(OT150=\"\", 0, OT150 - IF(OT149=\"\", LOOKUP(2, 1/(OT$17:OT148<>\"\"), OT$17:OT148), OT149))","v":0},null,null,null,null,69,"",null,null,{"$f":"IF(PC150=\"\", 0, PC150 - IF(PC149=\"\", LOOKUP(2, 1/(PC$17:PC148<>\"\"), PC$17:PC148), PC149))","v":0},null,null,null,null,69,"",null,null,{"$f":"IF(PL150=\"\", 0, PL150 - IF(PL149=\"\", LOOKUP(2, 1/(PL$17:PL148<>\"\"), PL$17:PL148), PL149))","v":0},null,null,null,null,69,"",null,null,{"$f":"IF(PU150=\"\", 0, PU150 - IF(PU149=\"\", LOOKUP(2, 1/(PU$17:PU148<>\"\"), PU$17:PU148), PU149))","v":0},null,null,null,null,69,"",null,null,{"$f":"IF(QD150=\"\", 0, QD150 - IF(QD149=\"\", LOOKUP(2, 1/(QD$17:QD148<>\"\"), QD$17:QD148), QD149))","v":0}]
[null,null,null,68,"",null,null,{"$f":"IF(G151=\"\", 0, G151 - IF(G150=\"\", LOOKUP(2, 1/(G$17:G149<>\"\"), G$17:G149), G150))","v":0},null,null,null,null,68,"",null,null,{"$f":"IF(P151=\"\", 0, P151 - IF(P150=\"\", LOOKUP(2, 1/(P$17:P149<>\"\"), P$17:P149), P150))","v":0},null,null,null,null,68,"",null,null,{"$f":"IF(Y151=\"\", 0, Y151 - IF(Y150=\"\", LOOKUP(2, 1/(Y$17:Y149<>\"\"), Y$17:Y149), Y150))","v":0},null,null,null,null,68,"",null,null,{"$f":"IF(AH151=\"\", 0, AH151 - IF(AH150=\"\", LOOKUP(2, 1/(AH$17:AH149<>\"\"), AH$17:AH149), AH150))","v":0},null,null,null,null,68,"",null,null,{"$f":"IF(AQ151=\"\", 0, AQ151 - IF(AQ150=\"\", LOOKUP(2, 1/(AQ$17:AQ149<>\"\"), AQ$17:AQ149), AQ150))","v":0},null,null,null,null,68,"",null,null,{"$f":"IF(AZ151=\"\", 0, AZ151 - IF(AZ150=\"\", LOOKUP(2, 1/(AZ$17:AZ149<>\"\"), AZ$17:AZ149), AZ150))","v":0},null,null,null,null,68,"",null,null,{"$f":"IF(BI151=\"\", 0, BI151 - IF(BI150=\"\", LOOKUP(2, 1/(BI$17:BI149<>\"\"), BI$17:BI149), BI150))","v":0},null,null,null,null,68,"",null,null,{"$f":"IF(BR151=\"\", 0, BR151 - IF(BR150=\"\", LOOKUP(2, 1/(BR$17:BR149<>\"\"), BR$17:BR149), BR150))","v":0},null,null,null,null,68,"",null,null,{"$f":"IF(CA151=\"\", 0, CA151 - IF(CA150=\"\", LOOKUP(2, 1/(CA$17:CA149<>\"\"), CA$17:CA149), CA150))","v":0},null,null,null,null,68,"",null,null,{"$f":"IF(CJ151=\"\", 0, CJ151 - IF(CJ150=\"\", LOOKUP(2, 1/(CJ$17:CJ149<>\"\"), CJ$17:CJ149), CJ150))","v":0},null,null,null,null,68,"",null,null,{"$f":"IF(CS151=\"\", 0, CS151 - IF(CS150=\"\", LOOKUP(2, 1/(CS$17:CS149<>\"\"), CS$17:CS149), CS150))","v":0},null,null,null,null,68,"",null,null,{"$f":"IF(DB151=\"\", 0, DB151 - IF(DB150=\"\", LOOKUP(2, 1/(DB$17:DB149<>\"\"), DB$17:DB149), DB150))","v":0},null,null,null,null,68,"",null,null,{"$f":"IF(DK151=\"\", 0, DK151 - IF(DK150=\"\", LOOKUP(2, 1/(DK$17:DK149<>\"\"), DK$17:DK149), DK150))","v":0},null,null,null,null,68,"",null,null,{"$f":"IF(DT151=\"\", 0, DT151 - IF(DT150=\"\", LOOKUP(2, 1/(DT$17:DT149<>\"\"), DT$17:DT149), DT150))","v":0},null,null,null,null,68,"",null,null,{"$f":"IF(EC151=\"\", 0, EC151 - IF(EC150=\"\", LOOKUP(2, 1/(EC$17:EC149<>\"\"), EC$17:EC149), EC150))","v":0},null,null,null,null,68,"",null,null,{"$f":"IF(EL151=\"\", 0, EL151 - IF(EL150=\"\", LOOKUP(2, 1/(EL$17:EL149<>\"\"), EL$17:EL149), EL150))","v":0},null,null,null,null,68,"",null,null,{"$f":"IF(EU151=\"\", 0, EU151 - IF(EU150=\"\", LOOKUP(2, 1/(EU$17:EU149<>\"\"), EU$17:EU149), EU150))","v":0},null,null,null,null,68,"",null,null,{"$f":"IF(FD151=\"\", 0, FD151 - IF(FD150=\"\", LOOKUP(2, 1/(FD$17:FD149<>\"\"), FD$17:FD149), FD150))","v":0},null,null,null,null,68,"",null,null,{"$f":"IF(FM151=\"\", 0, FM151 - IF(FM150=\"\", LOOKUP(2, 1/(FM$17:FM149<>\"\"), FM$17:FM149), FM150))","v":0},null,null,null,null,68,"",null,null,{"$f":"IF(FV151=\"\", 0, FV151 - IF(FV150=\"\", LOOKUP(2, 1/(FV$17:FV149<>\"\"), FV$17:FV149), FV150))","v":0},null,null,null,null,68,"",null,null,{"$f":"IF(GE151=\"\", 0, GE151 - IF(GE150=\"\", LOOKUP(2, 1/(GE$17:GE149<>\"\"), GE$17:GE149), GE150))","v":0},null,null,null,null,68,"",null,null,{"$f":"IF(GN151=\"\", 0, GN151 - IF(GN150=\"\", LOOKUP(2, 1/(GN$17:GN149<>\"\"), GN$17:GN149), GN150))","v":0},null,null,null,null,68,"",null,null,{"$f":"IF(GW151=\"\", 0, GW151 - IF(GW150=\"\", LOOKUP(2, 1/(GW$17:GW149<>\"\"), GW$17:GW149), GW150))","v":0},null,null,null,null,68,"",null,null,{"$f":"IF(HF151=\"\", 0, HF151 - IF(HF150=\"\", LOOKUP(2, 1/(HF$17:HF149<>\"\"), HF$17:HF149), HF150))","v":0},null,null,null,null,68,"",null,null,{"$f":"IF(HO151=\"\", 0, HO151 - IF(HO150=\"\", LOOKUP(2, 1/(HO$17:HO149<>\"\"), HO$17:HO149), HO150))","v":0},null,null,null,null,68,"",null,null,{"$f":"IF(HX151=\"\", 0, HX151 - IF(HX150=\"\", LOOKUP(2, 1/(HX$17:HX149<>\"\"), HX$17:HX149), HX150))","v":0},null,null,null,null,68,"",null,null,{"$f":"IF(IG151=\"\", 0, IG151 - IF(IG150=\"\", LOOKUP(2, 1/(IG$17:IG149<>\"\"), IG$17:IG149), IG150))","v":0},null,null,null,null,68,"",null,null,{"$f":"IF(IP151=\"\", 0, IP151 - IF(IP150=\"\", LOOKUP(2, 1/(IP$17:IP149<>\"\"), IP$17:IP149), IP150))","v":0},null,null,null,null,68,"",null,null,{"$f":"IF(IY151=\"\", 0, IY151 - IF(IY150=\"\", LOOKUP(2, 1/(IY$17:IY149<>\"\"), IY$17:IY149), IY150))","v":0},null,null,null,null,68,"",null,null,{"$f":"IF(JH151=\"\", 0, JH151 - IF(JH150=\"\", LOOKUP(2, 1/(JH$17:JH149<>\"\"), JH$17:JH149), JH150))","v":0},null,null,null,null,68,"",null,null,{"$f":"IF(JQ151=\"\", 0, JQ151 - IF(JQ150=\"\", LOOKUP(2, 1/(JQ$17:JQ149<>\"\"), JQ$17:JQ149), JQ150))","v":0},null,null,null,null,68,"",null,null,{"$f":"IF(JZ151=\"\", 0, JZ151 - IF(JZ150=\"\", LOOKUP(2, 1/(JZ$17:JZ149<>\"\"), JZ$17:JZ149), JZ150))","v":0},null,null,null,null,68,"",null,null,{"$f":"IF(KI151=\"\", 0, KI151 - IF(KI150=\"\", LOOKUP(2, 1/(KI$17:KI149<>\"\"), KI$17:KI149), KI150))","v":0},null,null,null,null,68,"",null,null,{"$f":"IF(KR151=\"\", 0, KR151 - IF(KR150=\"\", LOOKUP(2, 1/(KR$17:KR149<>\"\"), KR$17:KR149), KR150))","v":0},null,null,null,null,68,"",null,null,{"$f":"IF(LA151=\"\", 0, LA151 - IF(LA150=\"\", LOOKUP(2, 1/(LA$17:LA149<>\"\"), LA$17:LA149), LA150))","v":0},null,null,null,null,68,"",null,null,{"$f":"IF(LJ151=\"\", 0, LJ151 - IF(LJ150=\"\", LOOKUP(2, 1/(LJ$17:LJ149<>\"\"), LJ$17:LJ149), LJ150))","v":0},null,null,null,null,68,"",null,null,{"$f":"IF(LS151=\"\", 0, LS151 - IF(LS150=\"\", LOOKUP(2, 1/(LS$17:LS149<>\"\"), LS$17:LS149), LS150))","v":0},null,null,null,null,68,"",null,null,{"$f":"IF(MB151=\"\", 0, MB151 - IF(MB150=\"\", LOOKUP(2, 1/(MB$17:MB149<>\"\"), MB$17:MB149), MB150))","v":0},null,null,null,null,68,"",null,null,{"$f":"IF(MK151=\"\", 0, MK151 - IF(MK150=\"\", LOOKUP(2, 1/(MK$17:MK149<>\"\"), MK$17:MK149), MK150))","v":0},null,null,null,null,68,"",null,null,{"$f":"IF(MT151=\"\", 0, MT151 - IF(MT150=\"\", LOOKUP(2, 1/(MT$17:MT149<>\"\"), MT$17:MT149), MT150))","v":0},null,null,68,"",null,null,{"$f":"IF(NA151=\"\", 0, NA151 - IF(NA150=\"\", LOOKUP(2, 1/(NA$17:NA149<>\"\"), NA$17:NA149), NA150))","v":0},null,null,null,null,68,"",null,null,{"$f":"IF(NJ151=\"\", 0, NJ151 - IF(NJ150=\"\", LOOKUP(2, 1/(NJ$17:NJ149<>\"\"), NJ$17:NJ149), NJ150))","v":0},null,null,null,null,68,"",null,null,{"$f":"IF(NS151=\"\", 0, NS151 - IF(NS150=\"\", LOOKUP(2, 1/(NS$17:NS149<>\"\"), NS$17:NS149), NS150))","v":0},null,null,null,null,68,"",null,null,{"$f":"IF(OB151=\"\", 0, OB151 - IF(OB150=\"\", LOOKUP(2, 1/(OB$17:OB149<>\"\"), OB$17:OB149), OB150))","v":0},null,null,null,null,68,"",null,null,{"$f":"IF(OK151=\"\", 0, OK151 - IF(OK150=\"\", LOOKUP(2, 1/(OK$17:OK149<>\"\"), OK$17:OK149), OK150))","v":0},null,null,null,null,68,"",null,null,{"$f":"IF(OT151=\"\", 0, OT151 - IF(OT150=\"\", LOOKUP(2, 1/(OT$17:OT149<>\"\"), OT$17:OT149), OT150))","v":0},null,null,null,null,68,"",null,null,{"$f":"IF(PC151=\"\", 0, PC151 - IF(PC150=\"\", LOOKUP(2, 1/(PC$17:PC149<>\"\"), PC$17:PC149), PC150))","v":0},null,null,null,null,68,"",null,null,{"$f":"IF(PL151=\"\", 0, PL151 - IF(PL150=\"\", LOOKUP(2, 1/(PL$17:PL149<>\"\"), PL$17:PL149), PL150))","v":0},null,null,null,null,68,"",null,null,{"$f":"IF(PU151=\"\", 0, PU151 - IF(PU150=\"\", LOOKUP(2, 1/(PU$17:PU149<>\"\"), PU$17:PU149), PU150))","v":0},null,null,null,null,68,"",null,null,{"$f":"IF(QD151=\"\", 0, QD151 - IF(QD150=\"\", LOOKUP(2, 1/(QD$17:QD149<>\"\"), QD$17:QD149), QD150))","v":0}]
[null,null,null,67,"",null,null,{"$f":"IF(G152=\"\", 0, G152 - IF(G151=\"\", LOOKUP(2, 1/(G$17:G150<>\"\"), G$17:G150), G151))","v":0},null,null,null,null,67,"",null,null,{"$f":"IF(P152=\"\", 0, P152 - IF(P151=\"\", LOOKUP(2, 1/(P$17:P150<>\"\"), P$17:P150), P151))","v":0},null,null,null,null,67,"",null,null,{"$f":"IF(Y152=\"\", 0, Y152 - IF(Y151=\"\", LOOKUP(2, 1/(Y$17:Y150<>\"\"), Y$17:Y150), Y151))","v":0},null,null,null,null,67,"",null,null,{"$f":"IF(AH152=\"\", 0, AH152 - IF(AH151=\"\", LOOKUP(2, 1/(AH$17:AH150<>\"\"), AH$17:AH150), AH151))","v":0},null,null,null,null,67,"",null,null,{"$f":"IF(AQ152=\"\", 0, AQ152 - IF(AQ151=\"\", LOOKUP(2, 1/(AQ$17:AQ150<>\"\"), AQ$17:AQ150), AQ151))","v":0},null,null,null,null,67,"",null,null,{"$f":"IF(AZ152=\"\", 0, AZ152 - IF(AZ151=\"\", LOOKUP(2, 1/(AZ$17:AZ150<>\"\"), AZ$17:AZ150), AZ151))","v":0},null,null,null,null,67,"",null,null,{"$f":"IF(BI152=\"\", 0, BI152 - IF(BI151=\"\", LOOKUP(2, 1/(BI$17:BI150<>\"\"), BI$17:BI150), BI151))","v":0},null,null,null,null,67,"",null,null,{"$f":"IF(BR152=\"\", 0, BR152 - IF(BR151=\"\", LOOKUP(2, 1/(BR$17:BR150<>\"\"), BR$17:BR150), BR151))","v":0},null,null,null,null,67,"",null,null,{"$f":"IF(CA152=\"\", 0, CA152 - IF(CA151=\"\", LOOKUP(2, 1/(CA$17:CA150<>\"\"), CA$17:CA150), CA151))","v":0},null,null,null,null,67,"",null,null,{"$f":"IF(CJ152=\"\", 0, CJ152 - IF(CJ151=\"\", LOOKUP(2, 1/(CJ$17:CJ150<>\"\"), CJ$17:CJ150), CJ151))","v":0},null,null,null,null,67,"",null,null,{"$f":"IF(CS152=\"\", 0, CS152 - IF(CS151=\"\", LOOKUP(2, 1/(CS$17:CS150<>\"\"), CS$17:CS150), CS151))","v":0},null,null,null,null,67,"",null,null,{"$f":"IF(DB152=\"\", 0, DB152 - IF(DB151=\"\", LOOKUP(2, 1/(DB$17:DB150<>\"\"), DB$17:DB150), DB151))","v":0},null,null,null,null,67,"",null,null,{"$f":"IF(DK152=\"\", 0, DK152 - IF(DK151=\"\", LOOKUP(2, 1/(DK$17:DK150<>\"\"), DK$17:DK150), DK151))","v":0},null,null,null,null,67,"",null,null,{"$f":"IF(DT152=\"\", 0, DT152 - IF(DT151=\"\", LOOKUP(2, 1/(DT$17:DT150<>\"\"), DT$17:DT150), DT151))","v":0},null,null,null,null,67,"",null,null,{"$f":"IF(EC152=\"\", 0, EC152 - IF(EC151=\"\", LOOKUP(2, 1/(EC$17:EC150<>\"\"), EC$17:EC150), EC151))","v":0},null,null,null,null,67,"",null,null,{"$f":"IF(EL152=\"\", 0, EL152 - IF(EL151=\"\", LOOKUP(2, 1/(EL$17:EL150<>\"\"), EL$17:EL150), EL151))","v":0},null,null,null,null,67,"",null,null,{"$f":"IF(EU152=\"\", 0, EU152 - IF(EU151=\"\", LOOKUP(2, 1/(EU$17:EU150<>\"\"), EU$17:EU150), EU151))","v":0},null,null,null,null,67,"",null,null,{"$f":"IF(FD152=\"\", 0, FD152 - IF(FD151=\"\", LOOKUP(2, 1/(FD$17:FD150<>\"\"), FD$17:FD150), FD151))","v":0},null,null,null,null,67,"",null,null,{"$f":"IF(FM152=\"\", 0, FM152 - IF(FM151=\"\", LOOKUP(2, 1/(FM$17:FM150<>\"\"), FM$17:FM150), FM151))","v":0},null,null,null,null,67,"",null,null,{"$f":"IF(FV152=\"\", 0, FV152 - IF(FV151=\"\", LOOKUP(2, 1/(FV$17:FV150<>\"\"), FV$17:FV150), FV151))","v":0},null,null,null,null,67,"",null,null,{"$f":"IF(GE152=\"\", 0, GE152 - IF(GE151=\"\", LOOKUP(2, 1/(GE$17:GE150<>\"\"), GE$17:GE150), GE151))","v":0},null,null,null,null,67,"",null,null,{"$f":"IF(GN152=\"\", 0, GN152 - IF(GN151=\"\", LOOKUP(2, 1/(GN$17:GN150<>\"\"), GN$17:GN150), GN151))","v":0},null,null,null,null,67,"",null,null,{"$f":"IF(GW152=\"\", 0, GW152 - IF(GW151=\"\", LOOKUP(2, 1/(GW$17:GW150<>\"\"), GW$17:GW150), GW151))","v":0},null,null,null,null,67,"",null,null,{"$f":"IF(HF152=\"\", 0, HF152 - IF(HF151=\"\", LOOKUP(2, 1/(HF$17:HF150<>\"\"), HF$17:HF150), HF151))","v":0},null,null,null,null,67,"",null,null,{"$f":"IF(HO152=\"\", 0, HO152 - IF(HO151=\"\", LOOKUP(2, 1/(HO$17:HO150<>\"\"), HO$17:HO150), HO151))","v":0},null,null,null,null,67,"",null,null,{"$f":"IF(HX152=\"\", 0, HX152 - IF(HX151=\"\", LOOKUP(2, 1/(HX$17:HX150<>\"\"), HX$17:HX150), HX151))","v":0},null,null,null,null,67,"",null,null,{"$f":"IF(IG152=\"\", 0, IG152 - IF(IG151=\"\", LOOKUP(2, 1/(IG$17:IG150<>\"\"), IG$17:IG150), IG151))","v":0},null,null,null,null,67,"",null,null,{"$f":"IF(IP152=\"\", 0, IP152 - IF(IP151=\"\", LOOKUP(2, 1/(IP$17:IP150<>\"\"), IP$17:IP150), IP151))","v":0},null,null,null,null,67,"",null,null,{"$f":"IF(IY152=\"\", 0, IY152 - IF(IY151=\"\", LOOKUP(2, 1/(IY$17:IY150<>\"\"), IY$17:IY150), IY151))","v":0},null,null,null,null,67,"",null,null,{"$f":"IF(JH152=\"\", 0, JH152 - IF(JH151=\"\", LOOKUP(2, 1/(JH$17:JH150<>\"\"), JH$17:JH150), JH151))","v":0},null,null,null,null,67,"",null,null,{"$f":"IF(JQ152=\"\", 0, JQ152 - IF(JQ151=\"\", LOOKUP(2, 1/(JQ$17:JQ150<>\"\"), JQ$17:JQ150), JQ151))","v":0},null,null,null,null,67,"",null,null,{"$f":"IF(JZ152=\"\", 0, JZ152 - IF(JZ151=\"\", LOOKUP(2, 1/(JZ$17:JZ150<>\"\"), JZ$17:JZ150), JZ151))","v":0},null,null,null,null,67,"",null,null,{"$f":"IF(KI152=\"\", 0, KI152 - IF(KI151=\"\", LOOKUP(2, 1/(KI$17:KI150<>\"\"), KI$17:KI150), KI151))","v":0},null,null,null,null,67,"",null,null,{"$f":"IF(KR152=\"\", 0, KR152 - IF(KR151=\"\", LOOKUP(2, 1/(KR$17:KR150<>\"\"), KR$17:KR150), KR151))","v":0},null,null,null,null,67,"",null,null,{"$f":"IF(LA152=\"\", 0, LA152 - IF(LA151=\"\", LOOKUP(2, 1/(LA$17:LA150<>\"\"), LA$17:LA150), LA151))","v":0},null,null,null,null,67,"",null,null,{"$f":"IF(LJ152=\"\", 0, LJ152 - IF(LJ151=\"\", LOOKUP(2, 1/(LJ$17:LJ150<>\"\"), LJ$17:LJ150), LJ151))","v":0},null,null,null,null,67,"",null,null,{"$f":"IF(LS152=\"\", 0, LS152 - IF(LS151=\"\", LOOKUP(2, 1/(LS$17:LS150<>\"\"), LS$17:LS150), LS151))","v":0},null,null,null,null,67,"",null,null,{"$f":"IF(MB152=\"\", 0, MB152 - IF(MB151=\"\", LOOKUP(2, 1/(MB$17:MB150<>\"\"), MB$17:MB150), MB151))","v":0},null,null,null,null,67,"",null,null,{"$f":"IF(MK152=\"\", 0, MK152 - IF(MK151=\"\", LOOKUP(2, 1/(MK$17:MK150<>\"\"), MK$17:MK150), MK151))","v":0},null,null,null,null,67,"",null,null,{"$f":"IF(MT152=\"\", 0, MT152 - IF(MT151=\"\", LOOKUP(2, 1/(MT$17:MT150<>\"\"), MT$17:MT150), MT151))","v":0},null,null,67,"",null,null,{"$f":"IF(NA152=\"\", 0, NA152 - IF(NA151=\"\", LOOKUP(2, 1/(NA$17:NA150<>\"\"), NA$17:NA150), NA151))","v":0},null,null,null,null,67,"",null,null,{"$f":"IF(NJ152=\"\", 0, NJ152 - IF(NJ151=\"\", LOOKUP(2, 1/(NJ$17:NJ150<>\"\"), NJ$17:NJ150), NJ151))","v":0},null,null,null,null,67,"",null,null,{"$f":"IF(NS152=\"\", 0, NS152 - IF(NS151=\"\", LOOKUP(2, 1/(NS$17:NS150<>\"\"), NS$17:NS150), NS151))","v":0},null,null,null,null,67,"",null,null,{"$f":"IF(OB152=\"\", 0, OB152 - IF(OB151=\"\", LOOKUP(2, 1/(OB$17:OB150<>\"\"), OB$17:OB150), OB151))","v":0},null,null,null,null,67,"",null,null,{"$f":"IF(OK152=\"\", 0, OK152 - IF(OK151=\"\", LOOKUP(2, 1/(OK$17:OK150<>\"\"), OK$17:OK150), OK151))","v":0},null,null,null,null,67,"",null,null,{"$f":"IF(OT152=\"\", 0, OT152 - IF(OT151=\"\", LOOKUP(2, 1/(OT$17:OT150<>\"\"), OT$17:OT150), OT151))","v":0},null,null,null,null,67,"",null,null,{"$f":"IF(PC152=\"\", 0, PC152 - IF(PC151=\"\", LOOKUP(2, 1/(PC$17:PC150<>\"\"), PC$17:PC150), PC151))","v":0},null,null,null,null,67,"",null,null,{"$f":"IF(PL152=\"\", 0, PL152 - IF(PL151=\"\", LOOKUP(2, 1/(PL$17:PL150<>\"\"), PL$17:PL150), PL151))","v":0},null,null,null,null,67,"",null,null,{"$f":"IF(PU152=\"\", 0, PU152 - IF(PU151=\"\", LOOKUP(2, 1/(PU$17:PU150<>\"\"), PU$17:PU150), PU151))","v":0},null,null,null,null,67,"",null,null,{"$f":"IF(QD152=\"\", 0, QD152 - IF(QD151=\"\", LOOKUP(2, 1/(QD$17:QD150<>\"\"), QD$17:QD150), QD151))","v":0}]
[null,null,null,66,"",null,null,{"$f":"IF(G153=\"\", 0, G153 - IF(G152=\"\", LOOKUP(2, 1/(G$17:G151<>\"\"), G$17:G151), G152))","v":0},null,null,null,null,66,"",null,null,{"$f":"IF(P153=\"\", 0, P153 - IF(P152=\"\", LOOKUP(2, 1/(P$17:P151<>\"\"), P$17:P151), P152))","v":0},null,null,null,null,66,"",null,null,{"$f":"IF(Y153=\"\", 0, Y153 - IF(Y152=\"\", LOOKUP(2, 1/(Y$17:Y151<>\"\"), Y$17:Y151), Y152))","v":0},null,null,null,null,66,"",null,null,{"$f":"IF(AH153=\"\", 0, AH153 - IF(AH152=\"\", LOOKUP(2, 1/(AH$17:AH151<>\"\"), AH$17:AH151), AH152))","v":0},null,null,null,null,66,"",null,null,{"$f":"IF(AQ153=\"\", 0, AQ153 - IF(AQ152=\"\", LOOKUP(2, 1/(AQ$17:AQ151<>\"\"), AQ$17:AQ151), AQ152))","v":0},null,null,null,null,66,"",null,null,{"$f":"IF(AZ153=\"\", 0, AZ153 - IF(AZ152=\"\", LOOKUP(2, 1/(AZ$17:AZ151<>\"\"), AZ$17:AZ151), AZ152))","v":0},null,null,null,null,66,"",null,null,{"$f":"IF(BI153=\"\", 0, BI153 - IF(BI152=\"\", LOOKUP(2, 1/(BI$17:BI151<>\"\"), BI$17:BI151), BI152))","v":0},null,null,null,null,66,"",null,null,{"$f":"IF(BR153=\"\", 0, BR153 - IF(BR152=\"\", LOOKUP(2, 1/(BR$17:BR151<>\"\"), BR$17:BR151), BR152))","v":0},null,null,null,null,66,"",null,null,{"$f":"IF(CA153=\"\", 0, CA153 - IF(CA152=\"\", LOOKUP(2, 1/(CA$17:CA151<>\"\"), CA$17:CA151), CA152))","v":0},null,null,null,null,66,"",null,null,{"$f":"IF(CJ153=\"\", 0, CJ153 - IF(CJ152=\"\", LOOKUP(2, 1/(CJ$17:CJ151<>\"\"), CJ$17:CJ151), CJ152))","v":0},null,null,null,null,66,"",null,null,{"$f":"IF(CS153=\"\", 0, CS153 - IF(CS152=\"\", LOOKUP(2, 1/(CS$17:CS151<>\"\"), CS$17:CS151), CS152))","v":0},null,null,null,null,66,"",null,null,{"$f":"IF(DB153=\"\", 0, DB153 - IF(DB152=\"\", LOOKUP(2, 1/(DB$17:DB151<>\"\"), DB$17:DB151), DB152))","v":0},null,null,null,null,66,"",null,null,{"$f":"IF(DK153=\"\", 0, DK153 - IF(DK152=\"\", LOOKUP(2, 1/(DK$17:DK151<>\"\"), DK$17:DK151), DK152))","v":0},null,null,null,null,66,"",null,null,{"$f":"IF(DT153=\"\", 0, DT153 - IF(DT152=\"\", LOOKUP(2, 1/(DT$17:DT151<>\"\"), DT$17:DT151), DT152))","v":0},null,null,null,null,66,"",null,null,{"$f":"IF(EC153=\"\", 0, EC153 - IF(EC152=\"\", LOOKUP(2, 1/(EC$17:EC151<>\"\"), EC$17:EC151), EC152))","v":0},null,null,null,null,66,"",null,null,{"$f":"IF(EL153=\"\", 0, EL153 - IF(EL152=\"\", LOOKUP(2, 1/(EL$17:EL151<>\"\"), EL$17:EL151), EL152))","v":0},null,null,null,null,66,"",null,null,{"$f":"IF(EU153=\"\", 0, EU153 - IF(EU152=\"\", LOOKUP(2, 1/(EU$17:EU151<>\"\"), EU$17:EU151), EU152))","v":0},null,null,null,null,66,"",null,null,{"$f":"IF(FD153=\"\", 0, FD153 - IF(FD152=\"\", LOOKUP(2, 1/(FD$17:FD151<>\"\"), FD$17:FD151), FD152))","v":0},null,null,null,null,66,"",null,null,{"$f":"IF(FM153=\"\", 0, FM153 - IF(FM152=\"\", LOOKUP(2, 1/(FM$17:FM151<>\"\"), FM$17:FM151), FM152))","v":0},null,null,null,null,66,"",null,null,{"$f":"IF(FV153=\"\", 0, FV153 - IF(FV152=\"\", LOOKUP(2, 1/(FV$17:FV151<>\"\"), FV$17:FV151), FV152))","v":0},null,null,null,null,66,"",null,null,{"$f":"IF(GE153=\"\", 0, GE153 - IF(GE152=\"\", LOOKUP(2, 1/(GE$17:GE151<>\"\"), GE$17:GE151), GE152))","v":0},null,null,null,null,66,"",null,null,{"$f":"IF(GN153=\"\", 0, GN153 - IF(GN152=\"\", LOOKUP(2, 1/(GN$17:GN151<>\"\"), GN$17:GN151), GN152))","v":0},null,null,null,null,66,"",null,null,{"$f":"IF(GW153=\"\", 0, GW153 - IF(GW152=\"\", LOOKUP(2, 1/(GW$17:GW151<>\"\"), GW$17:GW151), GW152))","v":0},null,null,null,null,66,"",null,null,{"$f":"IF(HF153=\"\", 0, HF153 - IF(HF152=\"\", LOOKUP(2, 1/(HF$17:HF151<>\"\"), HF$17:HF151), HF152))","v":0},null,null,null,null,66,"",null,null,{"$f":"IF(HO153=\"\", 0, HO153 - IF(HO152=\"\", LOOKUP(2, 1/(HO$17:HO151<>\"\"), HO$17:HO151), HO152))","v":0},null,null,null,null,66,"",null,null,{"$f":"IF(HX153=\"\", 0, HX153 - IF(HX152=\"\", LOOKUP(2, 1/(HX$17:HX151<>\"\"), HX$17:HX151), HX152))","v":0},null,null,null,null,66,"",null,null,{"$f":"IF(IG153=\"\", 0, IG153 - IF(IG152=\"\", LOOKUP(2, 1/(IG$17:IG151<>\"\"), IG$17:IG151), IG152))","v":0},null,null,null,null,66,"",null,null,{"$f":"IF(IP153=\"\", 0, IP153 - IF(IP152=\"\", LOOKUP(2, 1/(IP$17:IP151<>\"\"), IP$17:IP151), IP152))","v":0},null,null,null,null,66,"",null,null,{"$f":"IF(IY153=\"\", 0, IY153 - IF(IY152=\"\", LOOKUP(2, 1/(IY$17:IY151<>\"\"), IY$17:IY151), IY152))","v":0},null,null,null,null,66,"",null,null,{"$f":"IF(JH153=\"\", 0, JH153 - IF(JH152=\"\", LOOKUP(2, 1/(JH$17:JH151<>\"\"), JH$17:JH151), JH152))","v":0},null,null,null,null,66,"",null,null,{"$f":"IF(JQ153=\"\", 0, JQ153 - IF(JQ152=\"\", LOOKUP(2, 1/(JQ$17:JQ151<>\"\"), JQ$17:JQ151), JQ152))","v":0},null,null,null,null,66,"",null,null,{"$f":"IF(JZ153=\"\", 0, JZ153 - IF(JZ152=\"\", LOOKUP(2, 1/(JZ$17:JZ151<>\"\"), JZ$17:JZ151), JZ152))","v":0},null,null,null,null,66,"",null,null,{"$f":"IF(KI153=\"\", 0, KI153 - IF(KI152=\"\", LOOKUP(2, 1/(KI$17:KI151<>\"\"), KI$17:KI151), KI152))","v":0},null,null,null,null,66,"",null,null,{"$f":"IF(KR153=\"\", 0, KR153 - IF(KR152=\"\", LOOKUP(2, 1/(KR$17:KR151<>\"\"), KR$17:KR151), KR152))","v":0},null,null,null,null,66,"",null,null,{"$f":"IF(LA153=\"\", 0, LA153 - IF(LA152=\"\", LOOKUP(2, 1/(LA$17:LA151<>\"\"), LA$17:LA151), LA152))","v":0},null,null,null,null,66,"",null,null,{"$f":"IF(LJ153=\"\", 0, LJ153 - IF(LJ152=\"\", LOOKUP(2, 1/(LJ$17:LJ151<>\"\"), LJ$17:LJ151), LJ152))","v":0},null,null,null,null,66,"",null,null,{"$f":"IF(LS153=\"\", 0, LS153 - IF(LS152=\"\", LOOKUP(2, 1/(LS$17:LS151<>\"\"), LS$17:LS151), LS152))","v":0},null,null,null,null,66,"",null,null,{"$f":"IF(MB153=\"\", 0, MB153 - IF(MB152=\"\", LOOKUP(2, 1/(MB$17:MB151<>\"\"), MB$17:MB151), MB152))","v":0},null,null,null,null,66,"",null,null,{"$f":"IF(MK153=\"\", 0, MK153 - IF(MK152=\"\", LOOKUP(2, 1/(MK$17:MK151<>\"\"), MK$17:MK151), MK152))","v":0},null,null,null,null,66,"",null,null,{"$f":"IF(MT153=\"\", 0, MT153 - IF(MT152=\"\", LOOKUP(2, 1/(MT$17:MT151<>\"\"), MT$17:MT151), MT152))","v":0},null,null,66,"",null,null,{"$f":"IF(NA153=\"\", 0, NA153 - IF(NA152=\"\", LOOKUP(2, 1/(NA$17:NA151<>\"\"), NA$17:NA151), NA152))","v":0},null,null,null,null,66,"",null,null,{"$f":"IF(NJ153=\"\", 0, NJ153 - IF(NJ152=\"\", LOOKUP(2, 1/(NJ$17:NJ151<>\"\"), NJ$17:NJ151), NJ152))","v":0},null,null,null,null,66,"",null,null,{"$f":"IF(NS153=\"\", 0, NS153 - IF(NS152=\"\", LOOKUP(2, 1/(NS$17:NS151<>\"\"), NS$17:NS151), NS152))","v":0},null,null,null,null,66,"",null,null,{"$f":"IF(OB153=\"\", 0, OB153 - IF(OB152=\"\", LOOKUP(2, 1/(OB$17:OB151<>\"\"), OB$17:OB151), OB152))","v":0},null,null,null,null,66,"",null,null,{"$f":"IF(OK153=\"\", 0, OK153 - IF(OK152=\"\", LOOKUP(2, 1/(OK$17:OK151<>\"\"), OK$17:OK151), OK152))","v":0},null,null,null,null,66,"",null,null,{"$f":"IF(OT153=\"\", 0, OT153 - IF(OT152=\"\", LOOKUP(2, 1/(OT$17:OT151<>\"\"), OT$17:OT151), OT152))","v":0},null,null,null,null,66,"",null,null,{"$f":"IF(PC153=\"\", 0, PC153 - IF(PC152=\"\", LOOKUP(2, 1/(PC$17:PC151<>\"\"), PC$17:PC151), PC152))","v":0},null,null,null,null,66,"",null,null,{"$f":"IF(PL153=\"\", 0, PL153 - IF(PL152=\"\", LOOKUP(2, 1/(PL$17:PL151<>\"\"), PL$17:PL151), PL152))","v":0},null,null,null,null,66,"",null,null,{"$f":"IF(PU153=\"\", 0, PU153 - IF(PU152=\"\", LOOKUP(2, 1/(PU$17:PU151<>\"\"), PU$17:PU151), PU152))","v":0},null,null,null,null,66,"",null,null,{"$f":"IF(QD153=\"\", 0, QD153 - IF(QD152=\"\", LOOKUP(2, 1/(QD$17:QD151<>\"\"), QD$17:QD151), QD152))","v":0}]
[null,null,null,65,"",null,null,{"$f":"IF(G154=\"\", 0, G154 - IF(G153=\"\", LOOKUP(2, 1/(G$17:G152<>\"\"), G$17:G152), G153))","v":0},null,null,null,null,65,"",null,null,{"$f":"IF(P154=\"\", 0, P154 - IF(P153=\"\", LOOKUP(2, 1/(P$17:P152<>\"\"), P$17:P152), P153))","v":0},null,null,null,null,65,"",null,null,{"$f":"IF(Y154=\"\", 0, Y154 - IF(Y153=\"\", LOOKUP(2, 1/(Y$17:Y152<>\"\"), Y$17:Y152), Y153))","v":0},null,null,null,null,65,"",null,null,{"$f":"IF(AH154=\"\", 0, AH154 - IF(AH153=\"\", LOOKUP(2, 1/(AH$17:AH152<>\"\"), AH$17:AH152), AH153))","v":0},null,null,null,null,65,"",null,null,{"$f":"IF(AQ154=\"\", 0, AQ154 - IF(AQ153=\"\", LOOKUP(2, 1/(AQ$17:AQ152<>\"\"), AQ$17:AQ152), AQ153))","v":0},null,null,null,null,65,"",null,null,{"$f":"IF(AZ154=\"\", 0, AZ154 - IF(AZ153=\"\", LOOKUP(2, 1/(AZ$17:AZ152<>\"\"), AZ$17:AZ152), AZ153))","v":0},null,null,null,null,65,"",null,null,{"$f":"IF(BI154=\"\", 0, BI154 - IF(BI153=\"\", LOOKUP(2, 1/(BI$17:BI152<>\"\"), BI$17:BI152), BI153))","v":0},null,null,null,null,65,"",null,null,{"$f":"IF(BR154=\"\", 0, BR154 - IF(BR153=\"\", LOOKUP(2, 1/(BR$17:BR152<>\"\"), BR$17:BR152), BR153))","v":0},null,null,null,null,65,"",null,null,{"$f":"IF(CA154=\"\", 0, CA154 - IF(CA153=\"\", LOOKUP(2, 1/(CA$17:CA152<>\"\"), CA$17:CA152), CA153))","v":0},null,null,null,null,65,"",null,null,{"$f":"IF(CJ154=\"\", 0, CJ154 - IF(CJ153=\"\", LOOKUP(2, 1/(CJ$17:CJ152<>\"\"), CJ$17:CJ152), CJ153))","v":0},null,null,null,null,65,"",null,null,{"$f":"IF(CS154=\"\", 0, CS154 - IF(CS153=\"\", LOOKUP(2, 1/(CS$17:CS152<>\"\"), CS$17:CS152), CS153))","v":0},null,null,null,null,65,"",null,null,{"$f":"IF(DB154=\"\", 0, DB154 - IF(DB153=\"\", LOOKUP(2, 1/(DB$17:DB152<>\"\"), DB$17:DB152), DB153))","v":0},null,null,null,null,65,"",null,null,{"$f":"IF(DK154=\"\", 0, DK154 - IF(DK153=\"\", LOOKUP(2, 1/(DK$17:DK152<>\"\"), DK$17:DK152), DK153))","v":0},null,null,null,null,65,"",null,null,{"$f":"IF(DT154=\"\", 0, DT154 - IF(DT153=\"\", LOOKUP(2, 1/(DT$17:DT152<>\"\"), DT$17:DT152), DT153))","v":0},null,null,null,null,65,"",null,null,{"$f":"IF(EC154=\"\", 0, EC154 - IF(EC153=\"\", LOOKUP(2, 1/(EC$17:EC152<>\"\"), EC$17:EC152), EC153))","v":0},null,null,null,null,65,"",null,null,{"$f":"IF(EL154=\"\", 0, EL154 - IF(EL153=\"\", LOOKUP(2, 1/(EL$17:EL152<>\"\"), EL$17:EL152), EL153))","v":0},null,null,null,null,65,"",null,null,{"$f":"IF(EU154=\"\", 0, EU154 - IF(EU153=\"\", LOOKUP(2, 1/(EU$17:EU152<>\"\"), EU$17:EU152), EU153))","v":0},null,null,null,null,65,"",null,null,{"$f":"IF(FD154=\"\", 0, FD154 - IF(FD153=\"\", LOOKUP(2, 1/(FD$17:FD152<>\"\"), FD$17:FD152), FD153))","v":0},null,null,null,null,65,"",null,null,{"$f":"IF(FM154=\"\", 0, FM154 - IF(FM153=\"\", LOOKUP(2, 1/(FM$17:FM152<>\"\"), FM$17:FM152), FM153))","v":0},null,null,null,null,65,"",null,null,{"$f":"IF(FV154=\"\", 0, FV154 - IF(FV153=\"\", LOOKUP(2, 1/(FV$17:FV152<>\"\"), FV$17:FV152), FV153))","v":0},null,null,null,null,65,"",null,null,{"$f":"IF(GE154=\"\", 0, GE154 - IF(GE153=\"\", LOOKUP(2, 1/(GE$17:GE152<>\"\"), GE$17:GE152), GE153))","v":0},null,null,null,null,65,"",null,null,{"$f":"IF(GN154=\"\", 0, GN154 - IF(GN153=\"\", LOOKUP(2, 1/(GN$17:GN152<>\"\"), GN$17:GN152), GN153))","v":0},null,null,null,null,65,"",null,null,{"$f":"IF(GW154=\"\", 0, GW154 - IF(GW153=\"\", LOOKUP(2, 1/(GW$17:GW152<>\"\"), GW$17:GW152), GW153))","v":0},null,null,null,null,65,"",null,null,{"$f":"IF(HF154=\"\", 0, HF154 - IF(HF153=\"\", LOOKUP(2, 1/(HF$17:HF152<>\"\"), HF$17:HF152), HF153))","v":0},null,null,null,null,65,"",null,null,{"$f":"IF(HO154=\"\", 0, HO154 - IF(HO153=\"\", LOOKUP(2, 1/(HO$17:HO152<>\"\"), HO$17:HO152), HO153))","v":0},null,null,null,null,65,"",null,null,{"$f":"IF(HX154=\"\", 0, HX154 - IF(HX153=\"\", LOOKUP(2, 1/(HX$17:HX152<>\"\"), HX$17:HX152), HX153))","v":0},null,null,null,null,65,"",null,null,{"$f":"IF(IG154=\"\", 0, IG154 - IF(IG153=\"\", LOOKUP(2, 1/(IG$17:IG152<>\"\"), IG$17:IG152), IG153))","v":0},null,null,null,null,65,"",null,null,{"$f":"IF(IP154=\"\", 0, IP154 - IF(IP153=\"\", LOOKUP(2, 1/(IP$17:IP152<>\"\"), IP$17:IP152), IP153))","v":0},null,null,null,null,65,"",null,null,{"$f":"IF(IY154=\"\", 0, IY154 - IF(IY153=\"\", LOOKUP(2, 1/(IY$17:IY152<>\"\"), IY$17:IY152), IY153))","v":0},null,null,null,null,65,"",null,null,{"$f":"IF(JH154=\"\", 0, JH154 - IF(JH153=\"\", LOOKUP(2, 1/(JH$17:JH152<>\"\"), JH$17:JH152), JH153))","v":0},null,null,null,null,65,"",null,null,{"$f":"IF(JQ154=\"\", 0, JQ154 - IF(JQ153=\"\", LOOKUP(2, 1/(JQ$17:JQ152<>\"\"), JQ$17:JQ152), JQ153))","v":0},null,null,null,null,65,"",null,null,{"$f":"IF(JZ154=\"\", 0, JZ154 - IF(JZ153=\"\", LOOKUP(2, 1/(JZ$17:JZ152<>\"\"), JZ$17:JZ152), JZ153))","v":0},null,null,null,null,65,"",null,null,{"$f":"IF(KI154=\"\", 0, KI154 - IF(KI153=\"\", LOOKUP(2, 1/(KI$17:KI152<>\"\"), KI$17:KI152), KI153))","v":0},null,null,null,null,65,"",null,null,{"$f":"IF(KR154=\"\", 0, KR154 - IF(KR153=\"\", LOOKUP(2, 1/(KR$17:KR152<>\"\"), KR$17:KR152), KR153))","v":0},null,null,null,null,65,"",null,null,{"$f":"IF(LA154=\"\", 0, LA154 - IF(LA153=\"\", LOOKUP(2, 1/(LA$17:LA152<>\"\"), LA$17:LA152), LA153))","v":0},null,null,null,null,65,"",null,null,{"$f":"IF(LJ154=\"\", 0, LJ154 - IF(LJ153=\"\", LOOKUP(2, 1/(LJ$17:LJ152<>\"\"), LJ$17:LJ152), LJ153))","v":0},null,null,null,null,65,"",null,null,{"$f":"IF(LS154=\"\", 0, LS154 - IF(LS153=\"\", LOOKUP(2, 1/(LS$17:LS152<>\"\"), LS$17:LS152), LS153))","v":0},null,null,null,null,65,"",null,null,{"$f":"IF(MB154=\"\", 0, MB154 - IF(MB153=\"\", LOOKUP(2, 1/(MB$17:MB152<>\"\"), MB$17:MB152), MB153))","v":0},null,null,null,null,65,"",null,null,{"$f":"IF(MK154=\"\", 0, MK154 - IF(MK153=\"\", LOOKUP(2, 1/(MK$17:MK152<>\"\"), MK$17:MK152), MK153))","v":0},null,null,null,null,65,"",null,null,{"$f":"IF(MT154=\"\", 0, MT154 - IF(MT153=\"\", LOOKUP(2, 1/(MT$17:MT152<>\"\"), MT$17:MT152), MT153))","v":0},null,null,65,"",null,null,{"$f":"IF(NA154=\"\", 0, NA154 - IF(NA153=\"\", LOOKUP(2, 1/(NA$17:NA152<>\"\"), NA$17:NA152), NA153))","v":0},null,null,null,null,65,"",null,null,{"$f":"IF(NJ154=\"\", 0, NJ154 - IF(NJ153=\"\", LOOKUP(2, 1/(NJ$17:NJ152<>\"\"), NJ$17:NJ152), NJ153))","v":0},null,null,null,null,65,"",null,null,{"$f":"IF(NS154=\"\", 0, NS154 - IF(NS153=\"\", LOOKUP(2, 1/(NS$17:NS152<>\"\"), NS$17:NS152), NS153))","v":0},null,null,null,null,65,"",null,null,{"$f":"IF(OB154=\"\", 0, OB154 - IF(OB153=\"\", LOOKUP(2, 1/(OB$17:OB152<>\"\"), OB$17:OB152), OB153))","v":0},null,null,null,null,65,"",null,null,{"$f":"IF(OK154=\"\", 0, OK154 - IF(OK153=\"\", LOOKUP(2, 1/(OK$17:OK152<>\"\"), OK$17:OK152), OK153))","v":0},null,null,null,null,65,"",null,null,{"$f":"IF(OT154=\"\", 0, OT154 - IF(OT153=\"\", LOOKUP(2, 1/(OT$17:OT152<>\"\"), OT$17:OT152), OT153))","v":0},null,null,null,null,65,"",null,null,{"$f":"IF(PC154=\"\", 0, PC154 - IF(PC153=\"\", LOOKUP(2, 1/(PC$17:PC152<>\"\"), PC$17:PC152), PC153))","v":0},null,null,null,null,65,"",null,null,{"$f":"IF(PL154=\"\", 0, PL154 - IF(PL153=\"\", LOOKUP(2, 1/(PL$17:PL152<>\"\"), PL$17:PL152), PL153))","v":0},null,null,null,null,65,"",null,null,{"$f":"IF(PU154=\"\", 0, PU154 - IF(PU153=\"\", LOOKUP(2, 1/(PU$17:PU152<>\"\"), PU$17:PU152), PU153))","v":0},null,null,null,null,65,"",null,null,{"$f":"IF(QD154=\"\", 0, QD154 - IF(QD153=\"\", LOOKUP(2, 1/(QD$17:QD152<>\"\"), QD$17:QD152), QD153))","v":0}]
[null,null,null,64,"",null,null,{"$f":"IF(G155=\"\", 0, G155 - IF(G154=\"\", LOOKUP(2, 1/(G$17:G153<>\"\"), G$17:G153), G154))","v":0},null,null,null,null,64,"",null,null,{"$f":"IF(P155=\"\", 0, P155 - IF(P154=\"\", LOOKUP(2, 1/(P$17:P153<>\"\"), P$17:P153), P154))","v":0},null,null,null,null,64,"",null,null,{"$f":"IF(Y155=\"\", 0, Y155 - IF(Y154=\"\", LOOKUP(2, 1/(Y$17:Y153<>\"\"), Y$17:Y153), Y154))","v":0},null,null,null,null,64,"",null,null,{"$f":"IF(AH155=\"\", 0, AH155 - IF(AH154=\"\", LOOKUP(2, 1/(AH$17:AH153<>\"\"), AH$17:AH153), AH154))","v":0},null,null,null,null,64,"",null,null,{"$f":"IF(AQ155=\"\", 0, AQ155 - IF(AQ154=\"\", LOOKUP(2, 1/(AQ$17:AQ153<>\"\"), AQ$17:AQ153), AQ154))","v":0},null,null,null,null,64,"",null,null,{"$f":"IF(AZ155=\"\", 0, AZ155 - IF(AZ154=\"\", LOOKUP(2, 1/(AZ$17:AZ153<>\"\"), AZ$17:AZ153), AZ154))","v":0},null,null,null,null,64,"",null,null,{"$f":"IF(BI155=\"\", 0, BI155 - IF(BI154=\"\", LOOKUP(2, 1/(BI$17:BI153<>\"\"), BI$17:BI153), BI154))","v":0},null,null,null,null,64,"",null,null,{"$f":"IF(BR155=\"\", 0, BR155 - IF(BR154=\"\", LOOKUP(2, 1/(BR$17:BR153<>\"\"), BR$17:BR153), BR154))","v":0},null,null,null,null,64,"",null,null,{"$f":"IF(CA155=\"\", 0, CA155 - IF(CA154=\"\", LOOKUP(2, 1/(CA$17:CA153<>\"\"), CA$17:CA153), CA154))","v":0},null,null,null,null,64,"",null,null,{"$f":"IF(CJ155=\"\", 0, CJ155 - IF(CJ154=\"\", LOOKUP(2, 1/(CJ$17:CJ153<>\"\"), CJ$17:CJ153), CJ154))","v":0},null,null,null,null,64,"",null,null,{"$f":"IF(CS155=\"\", 0, CS155 - IF(CS154=\"\", LOOKUP(2, 1/(CS$17:CS153<>\"\"), CS$17:CS153), CS154))","v":0},null,null,null,null,64,"",null,null,{"$f":"IF(DB155=\"\", 0, DB155 - IF(DB154=\"\", LOOKUP(2, 1/(DB$17:DB153<>\"\"), DB$17:DB153), DB154))","v":0},null,null,null,null,64,"",null,null,{"$f":"IF(DK155=\"\", 0, DK155 - IF(DK154=\"\", LOOKUP(2, 1/(DK$17:DK153<>\"\"), DK$17:DK153), DK154))","v":0},null,null,null,null,64,"",null,null,{"$f":"IF(DT155=\"\", 0, DT155 - IF(DT154=\"\", LOOKUP(2, 1/(DT$17:DT153<>\"\"), DT$17:DT153), DT154))","v":0},null,null,null,null,64,"",null,null,{"$f":"IF(EC155=\"\", 0, EC155 - IF(EC154=\"\", LOOKUP(2, 1/(EC$17:EC153<>\"\"), EC$17:EC153), EC154))","v":0},null,null,null,null,64,"",null,null,{"$f":"IF(EL155=\"\", 0, EL155 - IF(EL154=\"\", LOOKUP(2, 1/(EL$17:EL153<>\"\"), EL$17:EL153), EL154))","v":0},null,null,null,null,64,"",null,null,{"$f":"IF(EU155=\"\", 0, EU155 - IF(EU154=\"\", LOOKUP(2, 1/(EU$17:EU153<>\"\"), EU$17:EU153), EU154))","v":0},null,null,null,null,64,"",null,null,{"$f":"IF(FD155=\"\", 0, FD155 - IF(FD154=\"\", LOOKUP(2, 1/(FD$17:FD153<>\"\"), FD$17:FD153), FD154))","v":0},null,null,null,null,64,"",null,null,{"$f":"IF(FM155=\"\", 0, FM155 - IF(FM154=\"\", LOOKUP(2, 1/(FM$17:FM153<>\"\"), FM$17:FM153), FM154))","v":0},null,null,null,null,64,"",null,null,{"$f":"IF(FV155=\"\", 0, FV155 - IF(FV154=\"\", LOOKUP(2, 1/(FV$17:FV153<>\"\"), FV$17:FV153), FV154))","v":0},null,null,null,null,64,"",null,null,{"$f":"IF(GE155=\"\", 0, GE155 - IF(GE154=\"\", LOOKUP(2, 1/(GE$17:GE153<>\"\"), GE$17:GE153), GE154))","v":0},null,null,null,null,64,"",null,null,{"$f":"IF(GN155=\"\", 0, GN155 - IF(GN154=\"\", LOOKUP(2, 1/(GN$17:GN153<>\"\"), GN$17:GN153), GN154))","v":0},null,null,null,null,64,"",null,null,{"$f":"IF(GW155=\"\", 0, GW155 - IF(GW154=\"\", LOOKUP(2, 1/(GW$17:GW153<>\"\"), GW$17:GW153), GW154))","v":0},null,null,null,null,64,"",null,null,{"$f":"IF(HF155=\"\", 0, HF155 - IF(HF154=\"\", LOOKUP(2, 1/(HF$17:HF153<>\"\"), HF$17:HF153), HF154))","v":0},null,null,null,null,64,"",null,null,{"$f":"IF(HO155=\"\", 0, HO155 - IF(HO154=\"\", LOOKUP(2, 1/(HO$17:HO153<>\"\"), HO$17:HO153), HO154))","v":0},null,null,null,null,64,"",null,null,{"$f":"IF(HX155=\"\", 0, HX155 - IF(HX154=\"\", LOOKUP(2, 1/(HX$17:HX153<>\"\"), HX$17:HX153), HX154))","v":0},null,null,null,null,64,"",null,null,{"$f":"IF(IG155=\"\", 0, IG155 - IF(IG154=\"\", LOOKUP(2, 1/(IG$17:IG153<>\"\"), IG$17:IG153), IG154))","v":0},null,null,null,null,64,"",null,null,{"$f":"IF(IP155=\"\", 0, IP155 - IF(IP154=\"\", LOOKUP(2, 1/(IP$17:IP153<>\"\"), IP$17:IP153), IP154))","v":0},null,null,null,null,64,"",null,null,{"$f":"IF(IY155=\"\", 0, IY155 - IF(IY154=\"\", LOOKUP(2, 1/(IY$17:IY153<>\"\"), IY$17:IY153), IY154))","v":0},null,null,null,null,64,"",null,null,{"$f":"IF(JH155=\"\", 0, JH155 - IF(JH154=\"\", LOOKUP(2, 1/(JH$17:JH153<>\"\"), JH$17:JH153), JH154))","v":0},null,null,null,null,64,"",null,null,{"$f":"IF(JQ155=\"\", 0, JQ155 - IF(JQ154=\"\", LOOKUP(2, 1/(JQ$17:JQ153<>\"\"), JQ$17:JQ153), JQ154))","v":0},null,null,null,null,64,"",null,null,{"$f":"IF(JZ155=\"\", 0, JZ155 - IF(JZ154=\"\", LOOKUP(2, 1/(JZ$17:JZ153<>\"\"), JZ$17:JZ153), JZ154))","v":0},null,null,null,null,64,"",null,null,{"$f":"IF(KI155=\"\", 0, KI155 - IF(KI154=\"\", LOOKUP(2, 1/(KI$17:KI153<>\"\"), KI$17:KI153), KI154))","v":0},null,null,null,null,64,"",null,null,{"$f":"IF(KR155=\"\", 0, KR155 - IF(KR154=\"\", LOOKUP(2, 1/(KR$17:KR153<>\"\"), KR$17:KR153), KR154))","v":0},null,null,null,null,64,"",null,null,{"$f":"IF(LA155=\"\", 0, LA155 - IF(LA154=\"\", LOOKUP(2, 1/(LA$17:LA153<>\"\"), LA$17:LA153), LA154))","v":0},null,null,null,null,64,"",null,null,{"$f":"IF(LJ155=\"\", 0, LJ155 - IF(LJ154=\"\", LOOKUP(2, 1/(LJ$17:LJ153<>\"\"), LJ$17:LJ153), LJ154))","v":0},null,null,null,null,64,"",null,null,{"$f":"IF(LS155=\"\", 0, LS155 - IF(LS154=\"\", LOOKUP(2, 1/(LS$17:LS153<>\"\"), LS$17:LS153), LS154))","v":0},null,null,null,null,64,"",null,null,{"$f":"IF(MB155=\"\", 0, MB155 - IF(MB154=\"\", LOOKUP(2, 1/(MB$17:MB153<>\"\"), MB$17:MB153), MB154))","v":0},null,null,null,null,64,"",null,null,{"$f":"IF(MK155=\"\", 0, MK155 - IF(MK154=\"\", LOOKUP(2, 1/(MK$17:MK153<>\"\"), MK$17:MK153), MK154))","v":0},null,null,null,null,64,"",null,null,{"$f":"IF(MT155=\"\", 0, MT155 - IF(MT154=\"\", LOOKUP(2, 1/(MT$17:MT153<>\"\"), MT$17:MT153), MT154))","v":0},null,null,64,"",null,null,{"$f":"IF(NA155=\"\", 0, NA155 - IF(NA154=\"\", LOOKUP(2, 1/(NA$17:NA153<>\"\"), NA$17:NA153), NA154))","v":0},null,null,null,null,64,"",null,null,{"$f":"IF(NJ155=\"\", 0, NJ155 - IF(NJ154=\"\", LOOKUP(2, 1/(NJ$17:NJ153<>\"\"), NJ$17:NJ153), NJ154))","v":0},null,null,null,null,64,"",null,null,{"$f":"IF(NS155=\"\", 0, NS155 - IF(NS154=\"\", LOOKUP(2, 1/(NS$17:NS153<>\"\"), NS$17:NS153), NS154))","v":0},null,null,null,null,64,"",null,null,{"$f":"IF(OB155=\"\", 0, OB155 - IF(OB154=\"\", LOOKUP(2, 1/(OB$17:OB153<>\"\"), OB$17:OB153), OB154))","v":0},null,null,null,null,64,"",null,null,{"$f":"IF(OK155=\"\", 0, OK155 - IF(OK154=\"\", LOOKUP(2, 1/(OK$17:OK153<>\"\"), OK$17:OK153), OK154))","v":0},null,null,null,null,64,"",null,null,{"$f":"IF(OT155=\"\", 0, OT155 - IF(OT154=\"\", LOOKUP(2, 1/(OT$17:OT153<>\"\"), OT$17:OT153), OT154))","v":0},null,null,null,null,64,"",null,null,{"$f":"IF(PC155=\"\", 0, PC155 - IF(PC154=\"\", LOOKUP(2, 1/(PC$17:PC153<>\"\"), PC$17:PC153), PC154))","v":0},null,null,null,null,64,"",null,null,{"$f":"IF(PL155=\"\", 0, PL155 - IF(PL154=\"\", LOOKUP(2, 1/(PL$17:PL153<>\"\"), PL$17:PL153), PL154))","v":0},null,null,null,null,64,"",null,null,{"$f":"IF(PU155=\"\", 0, PU155 - IF(PU154=\"\", LOOKUP(2, 1/(PU$17:PU153<>\"\"), PU$17:PU153), PU154))","v":0},null,null,null,null,64,"",null,null,{"$f":"IF(QD155=\"\", 0, QD155 - IF(QD154=\"\", LOOKUP(2, 1/(QD$17:QD153<>\"\"), QD$17:QD153), QD154))","v":0}]
[null,null,null,63,"",null,null,{"$f":"IF(G156=\"\", 0, G156 - IF(G155=\"\", LOOKUP(2, 1/(G$17:G154<>\"\"), G$17:G154), G155))","v":0},null,null,null,null,63,"",null,null,{"$f":"IF(P156=\"\", 0, P156 - IF(P155=\"\", LOOKUP(2, 1/(P$17:P154<>\"\"), P$17:P154), P155))","v":0},null,null,null,null,63,"",null,null,{"$f":"IF(Y156=\"\", 0, Y156 - IF(Y155=\"\", LOOKUP(2, 1/(Y$17:Y154<>\"\"), Y$17:Y154), Y155))","v":0},null,null,null,null,63,"",null,null,{"$f":"IF(AH156=\"\", 0, AH156 - IF(AH155=\"\", LOOKUP(2, 1/(AH$17:AH154<>\"\"), AH$17:AH154), AH155))","v":0},null,null,null,null,63,"",null,null,{"$f":"IF(AQ156=\"\", 0, AQ156 - IF(AQ155=\"\", LOOKUP(2, 1/(AQ$17:AQ154<>\"\"), AQ$17:AQ154), AQ155))","v":0},null,null,null,null,63,"",null,null,{"$f":"IF(AZ156=\"\", 0, AZ156 - IF(AZ155=\"\", LOOKUP(2, 1/(AZ$17:AZ154<>\"\"), AZ$17:AZ154), AZ155))","v":0},null,null,null,null,63,"",null,null,{"$f":"IF(BI156=\"\", 0, BI156 - IF(BI155=\"\", LOOKUP(2, 1/(BI$17:BI154<>\"\"), BI$17:BI154), BI155))","v":0},null,null,null,null,63,"",null,null,{"$f":"IF(BR156=\"\", 0, BR156 - IF(BR155=\"\", LOOKUP(2, 1/(BR$17:BR154<>\"\"), BR$17:BR154), BR155))","v":0},null,null,null,null,63,"",null,null,{"$f":"IF(CA156=\"\", 0, CA156 - IF(CA155=\"\", LOOKUP(2, 1/(CA$17:CA154<>\"\"), CA$17:CA154), CA155))","v":0},null,null,null,null,63,"",null,null,{"$f":"IF(CJ156=\"\", 0, CJ156 - IF(CJ155=\"\", LOOKUP(2, 1/(CJ$17:CJ154<>\"\"), CJ$17:CJ154), CJ155))","v":0},null,null,null,null,63,"",null,null,{"$f":"IF(CS156=\"\", 0, CS156 - IF(CS155=\"\", LOOKUP(2, 1/(CS$17:CS154<>\"\"), CS$17:CS154), CS155))","v":0},null,null,null,null,63,"",null,null,{"$f":"IF(DB156=\"\", 0, DB156 - IF(DB155=\"\", LOOKUP(2, 1/(DB$17:DB154<>\"\"), DB$17:DB154), DB155))","v":0},null,null,null,null,63,"",null,null,{"$f":"IF(DK156=\"\", 0, DK156 - IF(DK155=\"\", LOOKUP(2, 1/(DK$17:DK154<>\"\"), DK$17:DK154), DK155))","v":0},null,null,null,null,63,"",null,null,{"$f":"IF(DT156=\"\", 0, DT156 - IF(DT155=\"\", LOOKUP(2, 1/(DT$17:DT154<>\"\"), DT$17:DT154), DT155))","v":0},null,null,null,null,63,"",null,null,{"$f":"IF(EC156=\"\", 0, EC156 - IF(EC155=\"\", LOOKUP(2, 1/(EC$17:EC154<>\"\"), EC$17:EC154), EC155))","v":0},null,null,null,null,63,"",null,null,{"$f":"IF(EL156=\"\", 0, EL156 - IF(EL155=\"\", LOOKUP(2, 1/(EL$17:EL154<>\"\"), EL$17:EL154), EL155))","v":0},null,null,null,null,63,"",null,null,{"$f":"IF(EU156=\"\", 0, EU156 - IF(EU155=\"\", LOOKUP(2, 1/(EU$17:EU154<>\"\"), EU$17:EU154), EU155))","v":0},null,null,null,null,63,"",null,null,{"$f":"IF(FD156=\"\", 0, FD156 - IF(FD155=\"\", LOOKUP(2, 1/(FD$17:FD154<>\"\"), FD$17:FD154), FD155))","v":0},null,null,null,null,63,"",null,null,{"$f":"IF(FM156=\"\", 0, FM156 - IF(FM155=\"\", LOOKUP(2, 1/(FM$17:FM154<>\"\"), FM$17:FM154), FM155))","v":0},null,null,null,null,63,"",null,null,{"$f":"IF(FV156=\"\", 0, FV156 - IF(FV155=\"\", LOOKUP(2, 1/(FV$17:FV154<>\"\"), FV$17:FV154), FV155))","v":0},null,null,null,null,63,"",null,null,{"$f":"IF(GE156=\"\", 0, GE156 - IF(GE155=\"\", LOOKUP(2, 1/(GE$17:GE154<>\"\"), GE$17:GE154), GE155))","v":0},null,null,null,null,63,"",null,null,{"$f":"IF(GN156=\"\", 0, GN156 - IF(GN155=\"\", LOOKUP(2, 1/(GN$17:GN154<>\"\"), GN$17:GN154), GN155))","v":0},null,null,null,null,63,"",null,null,{"$f":"IF(GW156=\"\", 0, GW156 - IF(GW155=\"\", LOOKUP(2, 1/(GW$17:GW154<>\"\"), GW$17:GW154), GW155))","v":0},null,null,null,null,63,"",null,null,{"$f":"IF(HF156=\"\", 0, HF156 - IF(HF155=\"\", LOOKUP(2, 1/(HF$17:HF154<>\"\"), HF$17:HF154), HF155))","v":0},null,null,null,null,63,"",null,null,{"$f":"IF(HO156=\"\", 0, HO156 - IF(HO155=\"\", LOOKUP(2, 1/(HO$17:HO154<>\"\"), HO$17:HO154), HO155))","v":0},null,null,null,null,63,"",null,null,{"$f":"IF(HX156=\"\", 0, HX156 - IF(HX155=\"\", LOOKUP(2, 1/(HX$17:HX154<>\"\"), HX$17:HX154), HX155))","v":0},null,null,null,null,63,"",null,null,{"$f":"IF(IG156=\"\", 0, IG156 - IF(IG155=\"\", LOOKUP(2, 1/(IG$17:IG154<>\"\"), IG$17:IG154), IG155))","v":0},null,null,null,null,63,"",null,null,{"$f":"IF(IP156=\"\", 0, IP156 - IF(IP155=\"\", LOOKUP(2, 1/(IP$17:IP154<>\"\"), IP$17:IP154), IP155))","v":0},null,null,null,null,63,"",null,null,{"$f":"IF(IY156=\"\", 0, IY156 - IF(IY155=\"\", LOOKUP(2, 1/(IY$17:IY154<>\"\"), IY$17:IY154), IY155))","v":0},null,null,null,null,63,"",null,null,{"$f":"IF(JH156=\"\", 0, JH156 - IF(JH155=\"\", LOOKUP(2, 1/(JH$17:JH154<>\"\"), JH$17:JH154), JH155))","v":0},null,null,null,null,63,"",null,null,{"$f":"IF(JQ156=\"\", 0, JQ156 - IF(JQ155=\"\", LOOKUP(2, 1/(JQ$17:JQ154<>\"\"), JQ$17:JQ154), JQ155))","v":0},null,null,null,null,63,"",null,null,{"$f":"IF(JZ156=\"\", 0, JZ156 - IF(JZ155=\"\", LOOKUP(2, 1/(JZ$17:JZ154<>\"\"), JZ$17:JZ154), JZ155))","v":0},null,null,null,null,63,"",null,null,{"$f":"IF(KI156=\"\", 0, KI156 - IF(KI155=\"\", LOOKUP(2, 1/(KI$17:KI154<>\"\"), KI$17:KI154), KI155))","v":0},null,null,null,null,63,"",null,null,{"$f":"IF(KR156=\"\", 0, KR156 - IF(KR155=\"\", LOOKUP(2, 1/(KR$17:KR154<>\"\"), KR$17:KR154), KR155))","v":0},null,null,null,null,63,"",null,null,{"$f":"IF(LA156=\"\", 0, LA156 - IF(LA155=\"\", LOOKUP(2, 1/(LA$17:LA154<>\"\"), LA$17:LA154), LA155))","v":0},null,null,null,null,63,"",null,null,{"$f":"IF(LJ156=\"\", 0, LJ156 - IF(LJ155=\"\", LOOKUP(2, 1/(LJ$17:LJ154<>\"\"), LJ$17:LJ154), LJ155))","v":0},null,null,null,null,63,"",null,null,{"$f":"IF(LS156=\"\", 0, LS156 - IF(LS155=\"\", LOOKUP(2, 1/(LS$17:LS154<>\"\"), LS$17:LS154), LS155))","v":0},null,null,null,null,63,"",null,null,{"$f":"IF(MB156=\"\", 0, MB156 - IF(MB155=\"\", LOOKUP(2, 1/(MB$17:MB154<>\"\"), MB$17:MB154), MB155))","v":0},null,null,null,null,63,"",null,null,{"$f":"IF(MK156=\"\", 0, MK156 - IF(MK155=\"\", LOOKUP(2, 1/(MK$17:MK154<>\"\"), MK$17:MK154), MK155))","v":0},null,null,null,null,63,"",null,null,{"$f":"IF(MT156=\"\", 0, MT156 - IF(MT155=\"\", LOOKUP(2, 1/(MT$17:MT154<>\"\"), MT$17:MT154), MT155))","v":0},null,null,63,"",null,null,{"$f":"IF(NA156=\"\", 0, NA156 - IF(NA155=\"\", LOOKUP(2, 1/(NA$17:NA154<>\"\"), NA$17:NA154), NA155))","v":0},null,null,null,null,63,"",null,null,{"$f":"IF(NJ156=\"\", 0, NJ156 - IF(NJ155=\"\", LOOKUP(2, 1/(NJ$17:NJ154<>\"\"), NJ$17:NJ154), NJ155))","v":0},null,null,null,null,63,"",null,null,{"$f":"IF(NS156=\"\", 0, NS156 - IF(NS155=\"\", LOOKUP(2, 1/(NS$17:NS154<>\"\"), NS$17:NS154), NS155))","v":0},null,null,null,null,63,"",null,null,{"$f":"IF(OB156=\"\", 0, OB156 - IF(OB155=\"\", LOOKUP(2, 1/(OB$17:OB154<>\"\"), OB$17:OB154), OB155))","v":0},null,null,null,null,63,"",null,null,{"$f":"IF(OK156=\"\", 0, OK156 - IF(OK155=\"\", LOOKUP(2, 1/(OK$17:OK154<>\"\"), OK$17:OK154), OK155))","v":0},null,null,null,null,63,"",null,null,{"$f":"IF(OT156=\"\", 0, OT156 - IF(OT155=\"\", LOOKUP(2, 1/(OT$17:OT154<>\"\"), OT$17:OT154), OT155))","v":0},null,null,null,null,63,"",null,null,{"$f":"IF(PC156=\"\", 0, PC156 - IF(PC155=\"\", LOOKUP(2, 1/(PC$17:PC154<>\"\"), PC$17:PC154), PC155))","v":0},null,null,null,null,63,"",null,null,{"$f":"IF(PL156=\"\", 0, PL156 - IF(PL155=\"\", LOOKUP(2, 1/(PL$17:PL154<>\"\"), PL$17:PL154), PL155))","v":0},null,null,null,null,63,"",null,null,{"$f":"IF(PU156=\"\", 0, PU156 - IF(PU155=\"\", LOOKUP(2, 1/(PU$17:PU154<>\"\"), PU$17:PU154), PU155))","v":0},null,null,null,null,63,"",null,null,{"$f":"IF(QD156=\"\", 0, QD156 - IF(QD155=\"\", LOOKUP(2, 1/(QD$17:QD154<>\"\"), QD$17:QD154), QD155))","v":0}]
[null,null,null,62,"",null,null,{"$f":"IF(G157=\"\", 0, G157 - IF(G156=\"\", LOOKUP(2, 1/(G$17:G155<>\"\"), G$17:G155), G156))","v":0},null,null,null,null,62,"",null,null,{"$f":"IF(P157=\"\", 0, P157 - IF(P156=\"\", LOOKUP(2, 1/(P$17:P155<>\"\"), P$17:P155), P156))","v":0},null,null,null,null,62,"",null,null,{"$f":"IF(Y157=\"\", 0, Y157 - IF(Y156=\"\", LOOKUP(2, 1/(Y$17:Y155<>\"\"), Y$17:Y155), Y156))","v":0},null,null,null,null,62,"",null,null,{"$f":"IF(AH157=\"\", 0, AH157 - IF(AH156=\"\", LOOKUP(2, 1/(AH$17:AH155<>\"\"), AH$17:AH155), AH156))","v":0},null,null,null,null,62,"",null,null,{"$f":"IF(AQ157=\"\", 0, AQ157 - IF(AQ156=\"\", LOOKUP(2, 1/(AQ$17:AQ155<>\"\"), AQ$17:AQ155), AQ156))","v":0},null,null,null,null,62,"",null,null,{"$f":"IF(AZ157=\"\", 0, AZ157 - IF(AZ156=\"\", LOOKUP(2, 1/(AZ$17:AZ155<>\"\"), AZ$17:AZ155), AZ156))","v":0},null,null,null,null,62,"",null,null,{"$f":"IF(BI157=\"\", 0, BI157 - IF(BI156=\"\", LOOKUP(2, 1/(BI$17:BI155<>\"\"), BI$17:BI155), BI156))","v":0},null,null,null,null,62,"",null,null,{"$f":"IF(BR157=\"\", 0, BR157 - IF(BR156=\"\", LOOKUP(2, 1/(BR$17:BR155<>\"\"), BR$17:BR155), BR156))","v":0},null,null,null,null,62,"",null,null,{"$f":"IF(CA157=\"\", 0, CA157 - IF(CA156=\"\", LOOKUP(2, 1/(CA$17:CA155<>\"\"), CA$17:CA155), CA156))","v":0},null,null,null,null,62,"",null,null,{"$f":"IF(CJ157=\"\", 0, CJ157 - IF(CJ156=\"\", LOOKUP(2, 1/(CJ$17:CJ155<>\"\"), CJ$17:CJ155), CJ156))","v":0},null,null,null,null,62,"",null,null,{"$f":"IF(CS157=\"\", 0, CS157 - IF(CS156=\"\", LOOKUP(2, 1/(CS$17:CS155<>\"\"), CS$17:CS155), CS156))","v":0},null,null,null,null,62,"",null,null,{"$f":"IF(DB157=\"\", 0, DB157 - IF(DB156=\"\", LOOKUP(2, 1/(DB$17:DB155<>\"\"), DB$17:DB155), DB156))","v":0},null,null,null,null,62,"",null,null,{"$f":"IF(DK157=\"\", 0, DK157 - IF(DK156=\"\", LOOKUP(2, 1/(DK$17:DK155<>\"\"), DK$17:DK155), DK156))","v":0},null,null,null,null,62,"",null,null,{"$f":"IF(DT157=\"\", 0, DT157 - IF(DT156=\"\", LOOKUP(2, 1/(DT$17:DT155<>\"\"), DT$17:DT155), DT156))","v":0},null,null,null,null,62,"",null,null,{"$f":"IF(EC157=\"\", 0, EC157 - IF(EC156=\"\", LOOKUP(2, 1/(EC$17:EC155<>\"\"), EC$17:EC155), EC156))","v":0},null,null,null,null,62,"",null,null,{"$f":"IF(EL157=\"\", 0, EL157 - IF(EL156=\"\", LOOKUP(2, 1/(EL$17:EL155<>\"\"), EL$17:EL155), EL156))","v":0},null,null,null,null,62,"",null,null,{"$f":"IF(EU157=\"\", 0, EU157 - IF(EU156=\"\", LOOKUP(2, 1/(EU$17:EU155<>\"\"), EU$17:EU155), EU156))","v":0},null,null,null,null,62,"",null,null,{"$f":"IF(FD157=\"\", 0, FD157 - IF(FD156=\"\", LOOKUP(2, 1/(FD$17:FD155<>\"\"), FD$17:FD155), FD156))","v":0},null,null,null,null,62,"",null,null,{"$f":"IF(FM157=\"\", 0, FM157 - IF(FM156=\"\", LOOKUP(2, 1/(FM$17:FM155<>\"\"), FM$17:FM155), FM156))","v":0},null,null,null,null,62,"",null,null,{"$f":"IF(FV157=\"\", 0, FV157 - IF(FV156=\"\", LOOKUP(2, 1/(FV$17:FV155<>\"\"), FV$17:FV155), FV156))","v":0},null,null,null,null,62,"",null,null,{"$f":"IF(GE157=\"\", 0, GE157 - IF(GE156=\"\", LOOKUP(2, 1/(GE$17:GE155<>\"\"), GE$17:GE155), GE156))","v":0},null,null,null,null,62,"",null,null,{"$f":"IF(GN157=\"\", 0, GN157 - IF(GN156=\"\", LOOKUP(2, 1/(GN$17:GN155<>\"\"), GN$17:GN155), GN156))","v":0},null,null,null,null,62,"",null,null,{"$f":"IF(GW157=\"\", 0, GW157 - IF(GW156=\"\", LOOKUP(2, 1/(GW$17:GW155<>\"\"), GW$17:GW155), GW156))","v":0},null,null,null,null,62,"",null,null,{"$f":"IF(HF157=\"\", 0, HF157 - IF(HF156=\"\", LOOKUP(2, 1/(HF$17:HF155<>\"\"), HF$17:HF155), HF156))","v":0},null,null,null,null,62,"",null,null,{"$f":"IF(HO157=\"\", 0, HO157 - IF(HO156=\"\", LOOKUP(2, 1/(HO$17:HO155<>\"\"), HO$17:HO155), HO156))","v":0},null,null,null,null,62,"",null,null,{"$f":"IF(HX157=\"\", 0, HX157 - IF(HX156=\"\", LOOKUP(2, 1/(HX$17:HX155<>\"\"), HX$17:HX155), HX156))","v":0},null,null,null,null,62,"",null,null,{"$f":"IF(IG157=\"\", 0, IG157 - IF(IG156=\"\", LOOKUP(2, 1/(IG$17:IG155<>\"\"), IG$17:IG155), IG156))","v":0},null,null,null,null,62,"",null,null,{"$f":"IF(IP157=\"\", 0, IP157 - IF(IP156=\"\", LOOKUP(2, 1/(IP$17:IP155<>\"\"), IP$17:IP155), IP156))","v":0},null,null,null,null,62,"",null,null,{"$f":"IF(IY157=\"\", 0, IY157 - IF(IY156=\"\", LOOKUP(2, 1/(IY$17:IY155<>\"\"), IY$17:IY155), IY156))","v":0},null,null,null,null,62,"",null,null,{"$f":"IF(JH157=\"\", 0, JH157 - IF(JH156=\"\", LOOKUP(2, 1/(JH$17:JH155<>\"\"), JH$17:JH155), JH156))","v":0},null,null,null,null,62,"",null,null,{"$f":"IF(JQ157=\"\", 0, JQ157 - IF(JQ156=\"\", LOOKUP(2, 1/(JQ$17:JQ155<>\"\"), JQ$17:JQ155), JQ156))","v":0},null,null,null,null,62,"",null,null,{"$f":"IF(JZ157=\"\", 0, JZ157 - IF(JZ156=\"\", LOOKUP(2, 1/(JZ$17:JZ155<>\"\"), JZ$17:JZ155), JZ156))","v":0},null,null,null,null,62,"",null,null,{"$f":"IF(KI157=\"\", 0, KI157 - IF(KI156=\"\", LOOKUP(2, 1/(KI$17:KI155<>\"\"), KI$17:KI155), KI156))","v":0},null,null,null,null,62,"",null,null,{"$f":"IF(KR157=\"\", 0, KR157 - IF(KR156=\"\", LOOKUP(2, 1/(KR$17:KR155<>\"\"), KR$17:KR155), KR156))","v":0},null,null,null,null,62,"",null,null,{"$f":"IF(LA157=\"\", 0, LA157 - IF(LA156=\"\", LOOKUP(2, 1/(LA$17:LA155<>\"\"), LA$17:LA155), LA156))","v":0},null,null,null,null,62,"",null,null,{"$f":"IF(LJ157=\"\", 0, LJ157 - IF(LJ156=\"\", LOOKUP(2, 1/(LJ$17:LJ155<>\"\"), LJ$17:LJ155), LJ156))","v":0},null,null,null,null,62,"",null,null,{"$f":"IF(LS157=\"\", 0, LS157 - IF(LS156=\"\", LOOKUP(2, 1/(LS$17:LS155<>\"\"), LS$17:LS155), LS156))","v":0},null,null,null,null,62,"",null,null,{"$f":"IF(MB157=\"\", 0, MB157 - IF(MB156=\"\", LOOKUP(2, 1/(MB$17:MB155<>\"\"), MB$17:MB155), MB156))","v":0},null,null,null,null,62,"",null,null,{"$f":"IF(MK157=\"\", 0, MK157 - IF(MK156=\"\", LOOKUP(2, 1/(MK$17:MK155<>\"\"), MK$17:MK155), MK156))","v":0},null,null,null,null,62,"",null,null,{"$f":"IF(MT157=\"\", 0, MT157 - IF(MT156=\"\", LOOKUP(2, 1/(MT$17:MT155<>\"\"), MT$17:MT155), MT156))","v":0},null,null,62,"",null,null,{"$f":"IF(NA157=\"\", 0, NA157 - IF(NA156=\"\", LOOKUP(2, 1/(NA$17:NA155<>\"\"), NA$17:NA155), NA156))","v":0},null,null,null,null,62,"",null,null,{"$f":"IF(NJ157=\"\", 0, NJ157 - IF(NJ156=\"\", LOOKUP(2, 1/(NJ$17:NJ155<>\"\"), NJ$17:NJ155), NJ156))","v":0},null,null,null,null,62,"",null,null,{"$f":"IF(NS157=\"\", 0, NS157 - IF(NS156=\"\", LOOKUP(2, 1/(NS$17:NS155<>\"\"), NS$17:NS155), NS156))","v":0},null,null,null,null,62,"",null,null,{"$f":"IF(OB157=\"\", 0, OB157 - IF(OB156=\"\", LOOKUP(2, 1/(OB$17:OB155<>\"\"), OB$17:OB155), OB156))","v":0},null,null,null,null,62,"",null,null,{"$f":"IF(OK157=\"\", 0, OK157 - IF(OK156=\"\", LOOKUP(2, 1/(OK$17:OK155<>\"\"), OK$17:OK155), OK156))","v":0},null,null,null,null,62,"",null,null,{"$f":"IF(OT157=\"\", 0, OT157 - IF(OT156=\"\", LOOKUP(2, 1/(OT$17:OT155<>\"\"), OT$17:OT155), OT156))","v":0},null,null,null,null,62,"",null,null,{"$f":"IF(PC157=\"\", 0, PC157 - IF(PC156=\"\", LOOKUP(2, 1/(PC$17:PC155<>\"\"), PC$17:PC155), PC156))","v":0},null,null,null,null,62,"",null,null,{"$f":"IF(PL157=\"\", 0, PL157 - IF(PL156=\"\", LOOKUP(2, 1/(PL$17:PL155<>\"\"), PL$17:PL155), PL156))","v":0},null,null,null,null,62,"",null,null,{"$f":"IF(PU157=\"\", 0, PU157 - IF(PU156=\"\", LOOKUP(2, 1/(PU$17:PU155<>\"\"), PU$17:PU155), PU156))","v":0},null,null,null,null,62,"",null,null,{"$f":"IF(QD157=\"\", 0, QD157 - IF(QD156=\"\", LOOKUP(2, 1/(QD$17:QD155<>\"\"), QD$17:QD155), QD156))","v":0}]
[null,null,null,61,"",null,null,{"$f":"IF(G158=\"\", 0, G158 - IF(G157=\"\", LOOKUP(2, 1/(G$17:G156<>\"\"), G$17:G156), G157))","v":0},null,null,null,null,61,"",null,null,{"$f":"IF(P158=\"\", 0, P158 - IF(P157=\"\", LOOKUP(2, 1/(P$17:P156<>\"\"), P$17:P156), P157))","v":0},null,null,null,null,61,"",null,null,{"$f":"IF(Y158=\"\", 0, Y158 - IF(Y157=\"\", LOOKUP(2, 1/(Y$17:Y156<>\"\"), Y$17:Y156), Y157))","v":0},null,null,null,null,61,"",null,null,{"$f":"IF(AH158=\"\", 0, AH158 - IF(AH157=\"\", LOOKUP(2, 1/(AH$17:AH156<>\"\"), AH$17:AH156), AH157))","v":0},null,null,null,null,61,"",null,null,{"$f":"IF(AQ158=\"\", 0, AQ158 - IF(AQ157=\"\", LOOKUP(2, 1/(AQ$17:AQ156<>\"\"), AQ$17:AQ156), AQ157))","v":0},null,null,null,null,61,"",null,null,{"$f":"IF(AZ158=\"\", 0, AZ158 - IF(AZ157=\"\", LOOKUP(2, 1/(AZ$17:AZ156<>\"\"), AZ$17:AZ156), AZ157))","v":0},null,null,null,null,61,"",null,null,{"$f":"IF(BI158=\"\", 0, BI158 - IF(BI157=\"\", LOOKUP(2, 1/(BI$17:BI156<>\"\"), BI$17:BI156), BI157))","v":0},null,null,null,null,61,"",null,null,{"$f":"IF(BR158=\"\", 0, BR158 - IF(BR157=\"\", LOOKUP(2, 1/(BR$17:BR156<>\"\"), BR$17:BR156), BR157))","v":0},null,null,null,null,61,"",null,null,{"$f":"IF(CA158=\"\", 0, CA158 - IF(CA157=\"\", LOOKUP(2, 1/(CA$17:CA156<>\"\"), CA$17:CA156), CA157))","v":0},null,null,null,null,61,"",null,null,{"$f":"IF(CJ158=\"\", 0, CJ158 - IF(CJ157=\"\", LOOKUP(2, 1/(CJ$17:CJ156<>\"\"), CJ$17:CJ156), CJ157))","v":0},null,null,null,null,61,"",null,null,{"$f":"IF(CS158=\"\", 0, CS158 - IF(CS157=\"\", LOOKUP(2, 1/(CS$17:CS156<>\"\"), CS$17:CS156), CS157))","v":0},null,null,null,null,61,"",null,null,{"$f":"IF(DB158=\"\", 0, DB158 - IF(DB157=\"\", LOOKUP(2, 1/(DB$17:DB156<>\"\"), DB$17:DB156), DB157))","v":0},null,null,null,null,61,"",null,null,{"$f":"IF(DK158=\"\", 0, DK158 - IF(DK157=\"\", LOOKUP(2, 1/(DK$17:DK156<>\"\"), DK$17:DK156), DK157))","v":0},null,null,null,null,61,"",null,null,{"$f":"IF(DT158=\"\", 0, DT158 - IF(DT157=\"\", LOOKUP(2, 1/(DT$17:DT156<>\"\"), DT$17:DT156), DT157))","v":0},null,null,null,null,61,"",null,null,{"$f":"IF(EC158=\"\", 0, EC158 - IF(EC157=\"\", LOOKUP(2, 1/(EC$17:EC156<>\"\"), EC$17:EC156), EC157))","v":0},null,null,null,null,61,"",null,null,{"$f":"IF(EL158=\"\", 0, EL158 - IF(EL157=\"\", LOOKUP(2, 1/(EL$17:EL156<>\"\"), EL$17:EL156), EL157))","v":0},null,null,null,null,61,"",null,null,{"$f":"IF(EU158=\"\", 0, EU158 - IF(EU157=\"\", LOOKUP(2, 1/(EU$17:EU156<>\"\"), EU$17:EU156), EU157))","v":0},null,null,null,null,61,"",null,null,{"$f":"IF(FD158=\"\", 0, FD158 - IF(FD157=\"\", LOOKUP(2, 1/(FD$17:FD156<>\"\"), FD$17:FD156), FD157))","v":0},null,null,null,null,61,"",null,null,{"$f":"IF(FM158=\"\", 0, FM158 - IF(FM157=\"\", LOOKUP(2, 1/(FM$17:FM156<>\"\"), FM$17:FM156), FM157))","v":0},null,null,null,null,61,"",null,null,{"$f":"IF(FV158=\"\", 0, FV158 - IF(FV157=\"\", LOOKUP(2, 1/(FV$17:FV156<>\"\"), FV$17:FV156), FV157))","v":0},null,null,null,null,61,"",null,null,{"$f":"IF(GE158=\"\", 0, GE158 - IF(GE157=\"\", LOOKUP(2, 1/(GE$17:GE156<>\"\"), GE$17:GE156), GE157))","v":0},null,null,null,null,61,"",null,null,{"$f":"IF(GN158=\"\", 0, GN158 - IF(GN157=\"\", LOOKUP(2, 1/(GN$17:GN156<>\"\"), GN$17:GN156), GN157))","v":0},null,null,null,null,61,"",null,null,{"$f":"IF(GW158=\"\", 0, GW158 - IF(GW157=\"\", LOOKUP(2, 1/(GW$17:GW156<>\"\"), GW$17:GW156), GW157))","v":0},null,null,null,null,61,"",null,null,{"$f":"IF(HF158=\"\", 0, HF158 - IF(HF157=\"\", LOOKUP(2, 1/(HF$17:HF156<>\"\"), HF$17:HF156), HF157))","v":0},null,null,null,null,61,"",null,null,{"$f":"IF(HO158=\"\", 0, HO158 - IF(HO157=\"\", LOOKUP(2, 1/(HO$17:HO156<>\"\"), HO$17:HO156), HO157))","v":0},null,null,null,null,61,"",null,null,{"$f":"IF(HX158=\"\", 0, HX158 - IF(HX157=\"\", LOOKUP(2, 1/(HX$17:HX156<>\"\"), HX$17:HX156), HX157))","v":0},null,null,null,null,61,"",null,null,{"$f":"IF(IG158=\"\", 0, IG158 - IF(IG157=\"\", LOOKUP(2, 1/(IG$17:IG156<>\"\"), IG$17:IG156), IG157))","v":0},null,null,null,null,61,"",null,null,{"$f":"IF(IP158=\"\", 0, IP158 - IF(IP157=\"\", LOOKUP(2, 1/(IP$17:IP156<>\"\"), IP$17:IP156), IP157))","v":0},null,null,null,null,61,"",null,null,{"$f":"IF(IY158=\"\", 0, IY158 - IF(IY157=\"\", LOOKUP(2, 1/(IY$17:IY156<>\"\"), IY$17:IY156), IY157))","v":0},null,null,null,null,61,"",null,null,{"$f":"IF(JH158=\"\", 0, JH158 - IF(JH157=\"\", LOOKUP(2, 1/(JH$17:JH156<>\"\"), JH$17:JH156), JH157))","v":0},null,null,null,null,61,"",null,null,{"$f":"IF(JQ158=\"\", 0, JQ158 - IF(JQ157=\"\", LOOKUP(2, 1/(JQ$17:JQ156<>\"\"), JQ$17:JQ156), JQ157))","v":0},null,null,null,null,61,"",null,null,{"$f":"IF(JZ158=\"\", 0, JZ158 - IF(JZ157=\"\", LOOKUP(2, 1/(JZ$17:JZ156<>\"\"), JZ$17:JZ156), JZ157))","v":0},null,null,null,null,61,"",null,null,{"$f":"IF(KI158=\"\", 0, KI158 - IF(KI157=\"\", LOOKUP(2, 1/(KI$17:KI156<>\"\"), KI$17:KI156), KI157))","v":0},null,null,null,null,61,"",null,null,{"$f":"IF(KR158=\"\", 0, KR158 - IF(KR157=\"\", LOOKUP(2, 1/(KR$17:KR156<>\"\"), KR$17:KR156), KR157))","v":0},null,null,null,null,61,"",null,null,{"$f":"IF(LA158=\"\", 0, LA158 - IF(LA157=\"\", LOOKUP(2, 1/(LA$17:LA156<>\"\"), LA$17:LA156), LA157))","v":0},null,null,null,null,61,"",null,null,{"$f":"IF(LJ158=\"\", 0, LJ158 - IF(LJ157=\"\", LOOKUP(2, 1/(LJ$17:LJ156<>\"\"), LJ$17:LJ156), LJ157))","v":0},null,null,null,null,61,"",null,null,{"$f":"IF(LS158=\"\", 0, LS158 - IF(LS157=\"\", LOOKUP(2, 1/(LS$17:LS156<>\"\"), LS$17:LS156), LS157))","v":0},null,null,null,null,61,"",null,null,{"$f":"IF(MB158=\"\", 0, MB158 - IF(MB157=\"\", LOOKUP(2, 1/(MB$17:MB156<>\"\"), MB$17:MB156), MB157))","v":0},null,null,null,null,61,"",null,null,{"$f":"IF(MK158=\"\", 0, MK158 - IF(MK157=\"\", LOOKUP(2, 1/(MK$17:MK156<>\"\"), MK$17:MK156), MK157))","v":0},null,null,null,null,61,"",null,null,{"$f":"IF(MT158=\"\", 0, MT158 - IF(MT157=\"\", LOOKUP(2, 1/(MT$17:MT156<>\"\"), MT$17:MT156), MT157))","v":0},null,null,61,"",null,null,{"$f":"IF(NA158=\"\", 0, NA158 - IF(NA157=\"\", LOOKUP(2, 1/(NA$17:NA156<>\"\"), NA$17:NA156), NA157))","v":0},null,null,null,null,61,"",null,null,{"$f":"IF(NJ158=\"\", 0, NJ158 - IF(NJ157=\"\", LOOKUP(2, 1/(NJ$17:NJ156<>\"\"), NJ$17:NJ156), NJ157))","v":0},null,null,null,null,61,"",null,null,{"$f":"IF(NS158=\"\", 0, NS158 - IF(NS157=\"\", LOOKUP(2, 1/(NS$17:NS156<>\"\"), NS$17:NS156), NS157))","v":0},null,null,null,null,61,"",null,null,{"$f":"IF(OB158=\"\", 0, OB158 - IF(OB157=\"\", LOOKUP(2, 1/(OB$17:OB156<>\"\"), OB$17:OB156), OB157))","v":0},null,null,null,null,61,"",null,null,{"$f":"IF(OK158=\"\", 0, OK158 - IF(OK157=\"\", LOOKUP(2, 1/(OK$17:OK156<>\"\"), OK$17:OK156), OK157))","v":0},null,null,null,null,61,"",null,null,{"$f":"IF(OT158=\"\", 0, OT158 - IF(OT157=\"\", LOOKUP(2, 1/(OT$17:OT156<>\"\"), OT$17:OT156), OT157))","v":0},null,null,null,null,61,"",null,null,{"$f":"IF(PC158=\"\", 0, PC158 - IF(PC157=\"\", LOOKUP(2, 1/(PC$17:PC156<>\"\"), PC$17:PC156), PC157))","v":0},null,null,null,null,61,"",null,null,{"$f":"IF(PL158=\"\", 0, PL158 - IF(PL157=\"\", LOOKUP(2, 1/(PL$17:PL156<>\"\"), PL$17:PL156), PL157))","v":0},null,null,null,null,61,"",null,null,{"$f":"IF(PU158=\"\", 0, PU158 - IF(PU157=\"\", LOOKUP(2, 1/(PU$17:PU156<>\"\"), PU$17:PU156), PU157))","v":0},null,null,null,null,61,"",null,null,{"$f":"IF(QD158=\"\", 0, QD158 - IF(QD157=\"\", LOOKUP(2, 1/(QD$17:QD156<>\"\"), QD$17:QD156), QD157))","v":0}]
[null,null,null,60,"",null,null,{"$f":"IF(G159=\"\", 0, G159 - IF(G158=\"\", LOOKUP(2, 1/(G$17:G157<>\"\"), G$17:G157), G158))","v":0},null,null,null,null,60,"",null,null,{"$f":"IF(P159=\"\", 0, P159 - IF(P158=\"\", LOOKUP(2, 1/(P$17:P157<>\"\"), P$17:P157), P158))","v":0},null,null,null,null,60,"",null,null,{"$f":"IF(Y159=\"\", 0, Y159 - IF(Y158=\"\", LOOKUP(2, 1/(Y$17:Y157<>\"\"), Y$17:Y157), Y158))","v":0},null,null,null,null,60,"",null,null,{"$f":"IF(AH159=\"\", 0, AH159 - IF(AH158=\"\", LOOKUP(2, 1/(AH$17:AH157<>\"\"), AH$17:AH157), AH158))","v":0},null,null,null,null,60,"",null,null,{"$f":"IF(AQ159=\"\", 0, AQ159 - IF(AQ158=\"\", LOOKUP(2, 1/(AQ$17:AQ157<>\"\"), AQ$17:AQ157), AQ158))","v":0},null,null,null,null,60,"",null,null,{"$f":"IF(AZ159=\"\", 0, AZ159 - IF(AZ158=\"\", LOOKUP(2, 1/(AZ$17:AZ157<>\"\"), AZ$17:AZ157), AZ158))","v":0},null,null,null,null,60,"",null,null,{"$f":"IF(BI159=\"\", 0, BI159 - IF(BI158=\"\", LOOKUP(2, 1/(BI$17:BI157<>\"\"), BI$17:BI157), BI158))","v":0},null,null,null,null,60,"",null,null,{"$f":"IF(BR159=\"\", 0, BR159 - IF(BR158=\"\", LOOKUP(2, 1/(BR$17:BR157<>\"\"), BR$17:BR157), BR158))","v":0},null,null,null,null,60,"",null,null,{"$f":"IF(CA159=\"\", 0, CA159 - IF(CA158=\"\", LOOKUP(2, 1/(CA$17:CA157<>\"\"), CA$17:CA157), CA158))","v":0},null,null,null,null,60,"",null,null,{"$f":"IF(CJ159=\"\", 0, CJ159 - IF(CJ158=\"\", LOOKUP(2, 1/(CJ$17:CJ157<>\"\"), CJ$17:CJ157), CJ158))","v":0},null,null,null,null,60,"",null,null,{"$f":"IF(CS159=\"\", 0, CS159 - IF(CS158=\"\", LOOKUP(2, 1/(CS$17:CS157<>\"\"), CS$17:CS157), CS158))","v":0},null,null,null,null,60,"",null,null,{"$f":"IF(DB159=\"\", 0, DB159 - IF(DB158=\"\", LOOKUP(2, 1/(DB$17:DB157<>\"\"), DB$17:DB157), DB158))","v":0},null,null,null,null,60,"",null,null,{"$f":"IF(DK159=\"\", 0, DK159 - IF(DK158=\"\", LOOKUP(2, 1/(DK$17:DK157<>\"\"), DK$17:DK157), DK158))","v":0},null,null,null,null,60,"",null,null,{"$f":"IF(DT159=\"\", 0, DT159 - IF(DT158=\"\", LOOKUP(2, 1/(DT$17:DT157<>\"\"), DT$17:DT157), DT158))","v":0},null,null,null,null,60,"",null,null,{"$f":"IF(EC159=\"\", 0, EC159 - IF(EC158=\"\", LOOKUP(2, 1/(EC$17:EC157<>\"\"), EC$17:EC157), EC158))","v":0},null,null,null,null,60,"",null,null,{"$f":"IF(EL159=\"\", 0, EL159 - IF(EL158=\"\", LOOKUP(2, 1/(EL$17:EL157<>\"\"), EL$17:EL157), EL158))","v":0},null,null,null,null,60,"",null,null,{"$f":"IF(EU159=\"\", 0, EU159 - IF(EU158=\"\", LOOKUP(2, 1/(EU$17:EU157<>\"\"), EU$17:EU157), EU158))","v":0},null,null,null,null,60,"",null,null,{"$f":"IF(FD159=\"\", 0, FD159 - IF(FD158=\"\", LOOKUP(2, 1/(FD$17:FD157<>\"\"), FD$17:FD157), FD158))","v":0},null,null,null,null,60,"",null,null,{"$f":"IF(FM159=\"\", 0, FM159 - IF(FM158=\"\", LOOKUP(2, 1/(FM$17:FM157<>\"\"), FM$17:FM157), FM158))","v":0},null,null,null,null,60,"",null,null,{"$f":"IF(FV159=\"\", 0, FV159 - IF(FV158=\"\", LOOKUP(2, 1/(FV$17:FV157<>\"\"), FV$17:FV157), FV158))","v":0},null,null,null,null,60,"",null,null,{"$f":"IF(GE159=\"\", 0, GE159 - IF(GE158=\"\", LOOKUP(2, 1/(GE$17:GE157<>\"\"), GE$17:GE157), GE158))","v":0},null,null,null,null,60,"",null,null,{"$f":"IF(GN159=\"\", 0, GN159 - IF(GN158=\"\", LOOKUP(2, 1/(GN$17:GN157<>\"\"), GN$17:GN157), GN158))","v":0},null,null,null,null,60,"",null,null,{"$f":"IF(GW159=\"\", 0, GW159 - IF(GW158=\"\", LOOKUP(2, 1/(GW$17:GW157<>\"\"), GW$17:GW157), GW158))","v":0},null,null,null,null,60,"",null,null,{"$f":"IF(HF159=\"\", 0, HF159 - IF(HF158=\"\", LOOKUP(2, 1/(HF$17:HF157<>\"\"), HF$17:HF157), HF158))","v":0},null,null,null,null,60,"",null,null,{"$f":"IF(HO159=\"\", 0, HO159 - IF(HO158=\"\", LOOKUP(2, 1/(HO$17:HO157<>\"\"), HO$17:HO157), HO158))","v":0},null,null,null,null,60,"",null,null,{"$f":"IF(HX159=\"\", 0, HX159 - IF(HX158=\"\", LOOKUP(2, 1/(HX$17:HX157<>\"\"), HX$17:HX157), HX158))","v":0},null,null,null,null,60,"",null,null,{"$f":"IF(IG159=\"\", 0, IG159 - IF(IG158=\"\", LOOKUP(2, 1/(IG$17:IG157<>\"\"), IG$17:IG157), IG158))","v":0},null,null,null,null,60,"",null,null,{"$f":"IF(IP159=\"\", 0, IP159 - IF(IP158=\"\", LOOKUP(2, 1/(IP$17:IP157<>\"\"), IP$17:IP157), IP158))","v":0},null,null,null,null,60,"",null,null,{"$f":"IF(IY159=\"\", 0, IY159 - IF(IY158=\"\", LOOKUP(2, 1/(IY$17:IY157<>\"\"), IY$17:IY157), IY158))","v":0},null,null,null,null,60,"",null,null,{"$f":"IF(JH159=\"\", 0, JH159 - IF(JH158=\"\", LOOKUP(2, 1/(JH$17:JH157<>\"\"), JH$17:JH157), JH158))","v":0},null,null,null,null,60,"",null,null,{"$f":"IF(JQ159=\"\", 0, JQ159 - IF(JQ158=\"\", LOOKUP(2, 1/(JQ$17:JQ157<>\"\"), JQ$17:JQ157), JQ158))","v":0},null,null,null,null,60,"",null,null,{"$f":"IF(JZ159=\"\", 0, JZ159 - IF(JZ158=\"\", LOOKUP(2, 1/(JZ$17:JZ157<>\"\"), JZ$17:JZ157), JZ158))","v":0},null,null,null,null,60,"",null,null,{"$f":"IF(KI159=\"\", 0, KI159 - IF(KI158=\"\", LOOKUP(2, 1/(KI$17:KI157<>\"\"), KI$17:KI157), KI158))","v":0},null,null,null,null,60,"",null,null,{"$f":"IF(KR159=\"\", 0, KR159 - IF(KR158=\"\", LOOKUP(2, 1/(KR$17:KR157<>\"\"), KR$17:KR157), KR158))","v":0},null,null,null,null,60,"",null,null,{"$f":"IF(LA159=\"\", 0, LA159 - IF(LA158=\"\", LOOKUP(2, 1/(LA$17:LA157<>\"\"), LA$17:LA157), LA158))","v":0},null,null,null,null,60,"",null,null,{"$f":"IF(LJ159=\"\", 0, LJ159 - IF(LJ158=\"\", LOOKUP(2, 1/(LJ$17:LJ157<>\"\"), LJ$17:LJ157), LJ158))","v":0},null,null,null,null,60,"",null,null,{"$f":"IF(LS159=\"\", 0, LS159 - IF(LS158=\"\", LOOKUP(2, 1/(LS$17:LS157<>\"\"), LS$17:LS157), LS158))","v":0},null,null,null,null,60,"",null,null,{"$f":"IF(MB159=\"\", 0, MB159 - IF(MB158=\"\", LOOKUP(2, 1/(MB$17:MB157<>\"\"), MB$17:MB157), MB158))","v":0},null,null,null,null,60,"",null,null,{"$f":"IF(MK159=\"\", 0, MK159 - IF(MK158=\"\", LOOKUP(2, 1/(MK$17:MK157<>\"\"), MK$17:MK157), MK158))","v":0},null,null,null,null,60,"",null,null,{"$f":"IF(MT159=\"\", 0, MT159 - IF(MT158=\"\", LOOKUP(2, 1/(MT$17:MT157<>\"\"), MT$17:MT157), MT158))","v":0},null,null,60,"",null,null,{"$f":"IF(NA159=\"\", 0, NA159 - IF(NA158=\"\", LOOKUP(2, 1/(NA$17:NA157<>\"\"), NA$17:NA157), NA158))","v":0},null,null,null,null,60,"",null,null,{"$f":"IF(NJ159=\"\", 0, NJ159 - IF(NJ158=\"\", LOOKUP(2, 1/(NJ$17:NJ157<>\"\"), NJ$17:NJ157), NJ158))","v":0},null,null,null,null,60,"",null,null,{"$f":"IF(NS159=\"\", 0, NS159 - IF(NS158=\"\", LOOKUP(2, 1/(NS$17:NS157<>\"\"), NS$17:NS157), NS158))","v":0},null,null,null,null,60,"",null,null,{"$f":"IF(OB159=\"\", 0, OB159 - IF(OB158=\"\", LOOKUP(2, 1/(OB$17:OB157<>\"\"), OB$17:OB157), OB158))","v":0},null,null,null,null,60,"",null,null,{"$f":"IF(OK159=\"\", 0, OK159 - IF(OK158=\"\", LOOKUP(2, 1/(OK$17:OK157<>\"\"), OK$17:OK157), OK158))","v":0},null,null,null,null,60,"",null,null,{"$f":"IF(OT159=\"\", 0, OT159 - IF(OT158=\"\", LOOKUP(2, 1/(OT$17:OT157<>\"\"), OT$17:OT157), OT158))","v":0},null,null,null,null,60,"",null,null,{"$f":"IF(PC159=\"\", 0, PC159 - IF(PC158=\"\", LOOKUP(2, 1/(PC$17:PC157<>\"\"), PC$17:PC157), PC158))","v":0},null,null,null,null,60,"",null,null,{"$f":"IF(PL159=\"\", 0, PL159 - IF(PL158=\"\", LOOKUP(2, 1/(PL$17:PL157<>\"\"), PL$17:PL157), PL158))","v":0},null,null,null,null,60,"",null,null,{"$f":"IF(PU159=\"\", 0, PU159 - IF(PU158=\"\", LOOKUP(2, 1/(PU$17:PU157<>\"\"), PU$17:PU157), PU158))","v":0},null,null,null,null,60,"",null,null,{"$f":"IF(QD159=\"\", 0, QD159 - IF(QD158=\"\", LOOKUP(2, 1/(QD$17:QD157<>\"\"), QD$17:QD157), QD158))","v":0}]
[null,null,null,59,"",null,null,{"$f":"IF(G160=\"\", 0, G160 - IF(G159=\"\", LOOKUP(2, 1/(G$17:G158<>\"\"), G$17:G158), G159))","v":0},null,null,null,null,59,"",null,null,{"$f":"IF(P160=\"\", 0, P160 - IF(P159=\"\", LOOKUP(2, 1/(P$17:P158<>\"\"), P$17:P158), P159))","v":0},null,null,null,null,59,"",null,null,{"$f":"IF(Y160=\"\", 0, Y160 - IF(Y159=\"\", LOOKUP(2, 1/(Y$17:Y158<>\"\"), Y$17:Y158), Y159))","v":0},null,null,null,null,59,"",null,null,{"$f":"IF(AH160=\"\", 0, AH160 - IF(AH159=\"\", LOOKUP(2, 1/(AH$17:AH158<>\"\"), AH$17:AH158), AH159))","v":0},null,null,null,null,59,"",null,null,{"$f":"IF(AQ160=\"\", 0, AQ160 - IF(AQ159=\"\", LOOKUP(2, 1/(AQ$17:AQ158<>\"\"), AQ$17:AQ158), AQ159))","v":0},null,null,null,null,59,"",null,null,{"$f":"IF(AZ160=\"\", 0, AZ160 - IF(AZ159=\"\", LOOKUP(2, 1/(AZ$17:AZ158<>\"\"), AZ$17:AZ158), AZ159))","v":0},null,null,null,null,59,"",null,null,{"$f":"IF(BI160=\"\", 0, BI160 - IF(BI159=\"\", LOOKUP(2, 1/(BI$17:BI158<>\"\"), BI$17:BI158), BI159))","v":0},null,null,null,null,59,"",null,null,{"$f":"IF(BR160=\"\", 0, BR160 - IF(BR159=\"\", LOOKUP(2, 1/(BR$17:BR158<>\"\"), BR$17:BR158), BR159))","v":0},null,null,null,null,59,"",null,null,{"$f":"IF(CA160=\"\", 0, CA160 - IF(CA159=\"\", LOOKUP(2, 1/(CA$17:CA158<>\"\"), CA$17:CA158), CA159))","v":0},null,null,null,null,59,"",null,null,{"$f":"IF(CJ160=\"\", 0, CJ160 - IF(CJ159=\"\", LOOKUP(2, 1/(CJ$17:CJ158<>\"\"), CJ$17:CJ158), CJ159))","v":0},null,null,null,null,59,"",null,null,{"$f":"IF(CS160=\"\", 0, CS160 - IF(CS159=\"\", LOOKUP(2, 1/(CS$17:CS158<>\"\"), CS$17:CS158), CS159))","v":0},null,null,null,null,59,"",null,null,{"$f":"IF(DB160=\"\", 0, DB160 - IF(DB159=\"\", LOOKUP(2, 1/(DB$17:DB158<>\"\"), DB$17:DB158), DB159))","v":0},null,null,null,null,59,"",null,null,{"$f":"IF(DK160=\"\", 0, DK160 - IF(DK159=\"\", LOOKUP(2, 1/(DK$17:DK158<>\"\"), DK$17:DK158), DK159))","v":0},null,null,null,null,59,"",null,null,{"$f":"IF(DT160=\"\", 0, DT160 - IF(DT159=\"\", LOOKUP(2, 1/(DT$17:DT158<>\"\"), DT$17:DT158), DT159))","v":0},null,null,null,null,59,"",null,null,{"$f":"IF(EC160=\"\", 0, EC160 - IF(EC159=\"\", LOOKUP(2, 1/(EC$17:EC158<>\"\"), EC$17:EC158), EC159))","v":0},null,null,null,null,59,"",null,null,{"$f":"IF(EL160=\"\", 0, EL160 - IF(EL159=\"\", LOOKUP(2, 1/(EL$17:EL158<>\"\"), EL$17:EL158), EL159))","v":0},null,null,null,null,59,"",null,null,{"$f":"IF(EU160=\"\", 0, EU160 - IF(EU159=\"\", LOOKUP(2, 1/(EU$17:EU158<>\"\"), EU$17:EU158), EU159))","v":0},null,null,null,null,59,"",null,null,{"$f":"IF(FD160=\"\", 0, FD160 - IF(FD159=\"\", LOOKUP(2, 1/(FD$17:FD158<>\"\"), FD$17:FD158), FD159))","v":0},null,null,null,null,59,"",null,null,{"$f":"IF(FM160=\"\", 0, FM160 - IF(FM159=\"\", LOOKUP(2, 1/(FM$17:FM158<>\"\"), FM$17:FM158), FM159))","v":0},null,null,null,null,59,"",null,null,{"$f":"IF(FV160=\"\", 0, FV160 - IF(FV159=\"\", LOOKUP(2, 1/(FV$17:FV158<>\"\"), FV$17:FV158), FV159))","v":0},null,null,null,null,59,"",null,null,{"$f":"IF(GE160=\"\", 0, GE160 - IF(GE159=\"\", LOOKUP(2, 1/(GE$17:GE158<>\"\"), GE$17:GE158), GE159))","v":0},null,null,null,null,59,"",null,null,{"$f":"IF(GN160=\"\", 0, GN160 - IF(GN159=\"\", LOOKUP(2, 1/(GN$17:GN158<>\"\"), GN$17:GN158), GN159))","v":0},null,null,null,null,59,"",null,null,{"$f":"IF(GW160=\"\", 0, GW160 - IF(GW159=\"\", LOOKUP(2, 1/(GW$17:GW158<>\"\"), GW$17:GW158), GW159))","v":0},null,null,null,null,59,"",null,null,{"$f":"IF(HF160=\"\", 0, HF160 - IF(HF159=\"\", LOOKUP(2, 1/(HF$17:HF158<>\"\"), HF$17:HF158), HF159))","v":0},null,null,null,null,59,"",null,null,{"$f":"IF(HO160=\"\", 0, HO160 - IF(HO159=\"\", LOOKUP(2, 1/(HO$17:HO158<>\"\"), HO$17:HO158), HO159))","v":0},null,null,null,null,59,"",null,null,{"$f":"IF(HX160=\"\", 0, HX160 - IF(HX159=\"\", LOOKUP(2, 1/(HX$17:HX158<>\"\"), HX$17:HX158), HX159))","v":0},null,null,null,null,59,"",null,null,{"$f":"IF(IG160=\"\", 0, IG160 - IF(IG159=\"\", LOOKUP(2, 1/(IG$17:IG158<>\"\"), IG$17:IG158), IG159))","v":0},null,null,null,null,59,"",null,null,{"$f":"IF(IP160=\"\", 0, IP160 - IF(IP159=\"\", LOOKUP(2, 1/(IP$17:IP158<>\"\"), IP$17:IP158), IP159))","v":0},null,null,null,null,59,"",null,null,{"$f":"IF(IY160=\"\", 0, IY160 - IF(IY159=\"\", LOOKUP(2, 1/(IY$17:IY158<>\"\"), IY$17:IY158), IY159))","v":0},null,null,null,null,59,"",null,null,{"$f":"IF(JH160=\"\", 0, JH160 - IF(JH159=\"\", LOOKUP(2, 1/(JH$17:JH158<>\"\"), JH$17:JH158), JH159))","v":0},null,null,null,null,59,"",null,null,{"$f":"IF(JQ160=\"\", 0, JQ160 - IF(JQ159=\"\", LOOKUP(2, 1/(JQ$17:JQ158<>\"\"), JQ$17:JQ158), JQ159))","v":0},null,null,null,null,59,"",null,null,{"$f":"IF(JZ160=\"\", 0, JZ160 - IF(JZ159=\"\", LOOKUP(2, 1/(JZ$17:JZ158<>\"\"), JZ$17:JZ158), JZ159))","v":0},null,null,null,null,59,"",null,null,{"$f":"IF(KI160=\"\", 0, KI160 - IF(KI159=\"\", LOOKUP(2, 1/(KI$17:KI158<>\"\"), KI$17:KI158), KI159))","v":0},null,null,null,null,59,"",null,null,{"$f":"IF(KR160=\"\", 0, KR160 - IF(KR159=\"\", LOOKUP(2, 1/(KR$17:KR158<>\"\"), KR$17:KR158), KR159))","v":0},null,null,null,null,59,"",null,null,{"$f":"IF(LA160=\"\", 0, LA160 - IF(LA159=\"\", LOOKUP(2, 1/(LA$17:LA158<>\"\"), LA$17:LA158), LA159))","v":0},null,null,null,null,59,"",null,null,{"$f":"IF(LJ160=\"\", 0, LJ160 - IF(LJ159=\"\", LOOKUP(2, 1/(LJ$17:LJ158<>\"\"), LJ$17:LJ158), LJ159))","v":0},null,null,null,null,59,"",null,null,{"$f":"IF(LS160=\"\", 0, LS160 - IF(LS159=\"\", LOOKUP(2, 1/(LS$17:LS158<>\"\"), LS$17:LS158), LS159))","v":0},null,null,null,null,59,"",null,null,{"$f":"IF(MB160=\"\", 0, MB160 - IF(MB159=\"\", LOOKUP(2, 1/(MB$17:MB158<>\"\"), MB$17:MB158), MB159))","v":0},null,null,null,null,59,"",null,null,{"$f":"IF(MK160=\"\", 0, MK160 - IF(MK159=\"\", LOOKUP(2, 1/(MK$17:MK158<>\"\"), MK$17:MK158), MK159))","v":0},null,null,null,null,59,"",null,null,{"$f":"IF(MT160=\"\", 0, MT160 - IF(MT159=\"\", LOOKUP(2, 1/(MT$17:MT158<>\"\"), MT$17:MT158), MT159))","v":0},null,null,59,"",null,null,{"$f":"IF(NA160=\"\", 0, NA160 - IF(NA159=\"\", LOOKUP(2, 1/(NA$17:NA158<>\"\"), NA$17:NA158), NA159))","v":0},null,null,null,null,59,"",null,null,{"$f":"IF(NJ160=\"\", 0, NJ160 - IF(NJ159=\"\", LOOKUP(2, 1/(NJ$17:NJ158<>\"\"), NJ$17:NJ158), NJ159))","v":0},null,null,null,null,59,"",null,null,{"$f":"IF(NS160=\"\", 0, NS160 - IF(NS159=\"\", LOOKUP(2, 1/(NS$17:NS158<>\"\"), NS$17:NS158), NS159))","v":0},null,null,null,null,59,"",null,null,{"$f":"IF(OB160=\"\", 0, OB160 - IF(OB159=\"\", LOOKUP(2, 1/(OB$17:OB158<>\"\"), OB$17:OB158), OB159))","v":0},null,null,null,null,59,"",null,null,{"$f":"IF(OK160=\"\", 0, OK160 - IF(OK159=\"\", LOOKUP(2, 1/(OK$17:OK158<>\"\"), OK$17:OK158), OK159))","v":0},null,null,null,null,59,"",null,null,{"$f":"IF(OT160=\"\", 0, OT160 - IF(OT159=\"\", LOOKUP(2, 1/(OT$17:OT158<>\"\"), OT$17:OT158), OT159))","v":0},null,null,null,null,59,"",null,null,{"$f":"IF(PC160=\"\", 0, PC160 - IF(PC159=\"\", LOOKUP(2, 1/(PC$17:PC158<>\"\"), PC$17:PC158), PC159))","v":0},null,null,null,null,59,"",null,null,{"$f":"IF(PL160=\"\", 0, PL160 - IF(PL159=\"\", LOOKUP(2, 1/(PL$17:PL158<>\"\"), PL$17:PL158), PL159))","v":0},null,null,null,null,59,"",null,null,{"$f":"IF(PU160=\"\", 0, PU160 - IF(PU159=\"\", LOOKUP(2, 1/(PU$17:PU158<>\"\"), PU$17:PU158), PU159))","v":0},null,null,null,null,59,"",null,null,{"$f":"IF(QD160=\"\", 0, QD160 - IF(QD159=\"\", LOOKUP(2, 1/(QD$17:QD158<>\"\"), QD$17:QD158), QD159))","v":0}]
[null,null,null,58,"",null,null,{"$f":"IF(G161=\"\", 0, G161 - IF(G160=\"\", LOOKUP(2, 1/(G$17:G159<>\"\"), G$17:G159), G160))","v":0},null,null,null,null,58,"",null,null,{"$f":"IF(P161=\"\", 0, P161 - IF(P160=\"\", LOOKUP(2, 1/(P$17:P159<>\"\"), P$17:P159), P160))","v":0},null,null,null,null,58,"",null,null,{"$f":"IF(Y161=\"\", 0, Y161 - IF(Y160=\"\", LOOKUP(2, 1/(Y$17:Y159<>\"\"), Y$17:Y159), Y160))","v":0},null,null,null,null,58,"",null,null,{"$f":"IF(AH161=\"\", 0, AH161 - IF(AH160=\"\", LOOKUP(2, 1/(AH$17:AH159<>\"\"), AH$17:AH159), AH160))","v":0},null,null,null,null,58,"",null,null,{"$f":"IF(AQ161=\"\", 0, AQ161 - IF(AQ160=\"\", LOOKUP(2, 1/(AQ$17:AQ159<>\"\"), AQ$17:AQ159), AQ160))","v":0},null,null,null,null,58,"",null,null,{"$f":"IF(AZ161=\"\", 0, AZ161 - IF(AZ160=\"\", LOOKUP(2, 1/(AZ$17:AZ159<>\"\"), AZ$17:AZ159), AZ160))","v":0},null,null,null,null,58,"",null,null,{"$f":"IF(BI161=\"\", 0, BI161 - IF(BI160=\"\", LOOKUP(2, 1/(BI$17:BI159<>\"\"), BI$17:BI159), BI160))","v":0},null,null,null,null,58,"",null,null,{"$f":"IF(BR161=\"\", 0, BR161 - IF(BR160=\"\", LOOKUP(2, 1/(BR$17:BR159<>\"\"), BR$17:BR159), BR160))","v":0},null,null,null,null,58,"",null,null,{"$f":"IF(CA161=\"\", 0, CA161 - IF(CA160=\"\", LOOKUP(2, 1/(CA$17:CA159<>\"\"), CA$17:CA159), CA160))","v":0},null,null,null,null,58,"",null,null,{"$f":"IF(CJ161=\"\", 0, CJ161 - IF(CJ160=\"\", LOOKUP(2, 1/(CJ$17:CJ159<>\"\"), CJ$17:CJ159), CJ160))","v":0},null,null,null,null,58,"",null,null,{"$f":"IF(CS161=\"\", 0, CS161 - IF(CS160=\"\", LOOKUP(2, 1/(CS$17:CS159<>\"\"), CS$17:CS159), CS160))","v":0},null,null,null,null,58,"",null,null,{"$f":"IF(DB161=\"\", 0, DB161 - IF(DB160=\"\", LOOKUP(2, 1/(DB$17:DB159<>\"\"), DB$17:DB159), DB160))","v":0},null,null,null,null,58,"",null,null,{"$f":"IF(DK161=\"\", 0, DK161 - IF(DK160=\"\", LOOKUP(2, 1/(DK$17:DK159<>\"\"), DK$17:DK159), DK160))","v":0},null,null,null,null,58,"",null,null,{"$f":"IF(DT161=\"\", 0, DT161 - IF(DT160=\"\", LOOKUP(2, 1/(DT$17:DT159<>\"\"), DT$17:DT159), DT160))","v":0},null,null,null,null,58,"",null,null,{"$f":"IF(EC161=\"\", 0, EC161 - IF(EC160=\"\", LOOKUP(2, 1/(EC$17:EC159<>\"\"), EC$17:EC159), EC160))","v":0},null,null,null,null,58,"",null,null,{"$f":"IF(EL161=\"\", 0, EL161 - IF(EL160=\"\", LOOKUP(2, 1/(EL$17:EL159<>\"\"), EL$17:EL159), EL160))","v":0},null,null,null,null,58,"",null,null,{"$f":"IF(EU161=\"\", 0, EU161 - IF(EU160=\"\", LOOKUP(2, 1/(EU$17:EU159<>\"\"), EU$17:EU159), EU160))","v":0},null,null,null,null,58,"",null,null,{"$f":"IF(FD161=\"\", 0, FD161 - IF(FD160=\"\", LOOKUP(2, 1/(FD$17:FD159<>\"\"), FD$17:FD159), FD160))","v":0},null,null,null,null,58,"",null,null,{"$f":"IF(FM161=\"\", 0, FM161 - IF(FM160=\"\", LOOKUP(2, 1/(FM$17:FM159<>\"\"), FM$17:FM159), FM160))","v":0},null,null,null,null,58,"",null,null,{"$f":"IF(FV161=\"\", 0, FV161 - IF(FV160=\"\", LOOKUP(2, 1/(FV$17:FV159<>\"\"), FV$17:FV159), FV160))","v":0},null,null,null,null,58,"",null,null,{"$f":"IF(GE161=\"\", 0, GE161 - IF(GE160=\"\", LOOKUP(2, 1/(GE$17:GE159<>\"\"), GE$17:GE159), GE160))","v":0},null,null,null,null,58,"",null,null,{"$f":"IF(GN161=\"\", 0, GN161 - IF(GN160=\"\", LOOKUP(2, 1/(GN$17:GN159<>\"\"), GN$17:GN159), GN160))","v":0},null,null,null,null,58,"",null,null,{"$f":"IF(GW161=\"\", 0, GW161 - IF(GW160=\"\", LOOKUP(2, 1/(GW$17:GW159<>\"\"), GW$17:GW159), GW160))","v":0},null,null,null,null,58,"",null,null,{"$f":"IF(HF161=\"\", 0, HF161 - IF(HF160=\"\", LOOKUP(2, 1/(HF$17:HF159<>\"\"), HF$17:HF159), HF160))","v":0},null,null,null,null,58,"",null,null,{"$f":"IF(HO161=\"\", 0, HO161 - IF(HO160=\"\", LOOKUP(2, 1/(HO$17:HO159<>\"\"), HO$17:HO159), HO160))","v":0},null,null,null,null,58,"",null,null,{"$f":"IF(HX161=\"\", 0, HX161 - IF(HX160=\"\", LOOKUP(2, 1/(HX$17:HX159<>\"\"), HX$17:HX159), HX160))","v":0},null,null,null,null,58,"",null,null,{"$f":"IF(IG161=\"\", 0, IG161 - IF(IG160=\"\", LOOKUP(2, 1/(IG$17:IG159<>\"\"), IG$17:IG159), IG160))","v":0},null,null,null,null,58,"",null,null,{"$f":"IF(IP161=\"\", 0, IP161 - IF(IP160=\"\", LOOKUP(2, 1/(IP$17:IP159<>\"\"), IP$17:IP159), IP160))","v":0},null,null,null,null,58,"",null,null,{"$f":"IF(IY161=\"\", 0, IY161 - IF(IY160=\"\", LOOKUP(2, 1/(IY$17:IY159<>\"\"), IY$17:IY159), IY160))","v":0},null,null,null,null,58,"",null,null,{"$f":"IF(JH161=\"\", 0, JH161 - IF(JH160=\"\", LOOKUP(2, 1/(JH$17:JH159<>\"\"), JH$17:JH159), JH160))","v":0},null,null,null,null,58,"",null,null,{"$f":"IF(JQ161=\"\", 0, JQ161 - IF(JQ160=\"\", LOOKUP(2, 1/(JQ$17:JQ159<>\"\"), JQ$17:JQ159), JQ160))","v":0},null,null,null,null,58,"",null,null,{"$f":"IF(JZ161=\"\", 0, JZ161 - IF(JZ160=\"\", LOOKUP(2, 1/(JZ$17:JZ159<>\"\"), JZ$17:JZ159), JZ160))","v":0},null,null,null,null,58,"",null,null,{"$f":"IF(KI161=\"\", 0, KI161 - IF(KI160=\"\", LOOKUP(2, 1/(KI$17:KI159<>\"\"), KI$17:KI159), KI160))","v":0},null,null,null,null,58,"",null,null,{"$f":"IF(KR161=\"\", 0, KR161 - IF(KR160=\"\", LOOKUP(2, 1/(KR$17:KR159<>\"\"), KR$17:KR159), KR160))","v":0},null,null,null,null,58,"",null,null,{"$f":"IF(LA161=\"\", 0, LA161 - IF(LA160=\"\", LOOKUP(2, 1/(LA$17:LA159<>\"\"), LA$17:LA159), LA160))","v":0},null,null,null,null,58,"",null,null,{"$f":"IF(LJ161=\"\", 0, LJ161 - IF(LJ160=\"\", LOOKUP(2, 1/(LJ$17:LJ159<>\"\"), LJ$17:LJ159), LJ160))","v":0},null,null,null,null,58,"",null,null,{"$f":"IF(LS161=\"\", 0, LS161 - IF(LS160=\"\", LOOKUP(2, 1/(LS$17:LS159<>\"\"), LS$17:LS159), LS160))","v":0},null,null,null,null,58,"",null,null,{"$f":"IF(MB161=\"\", 0, MB161 - IF(MB160=\"\", LOOKUP(2, 1/(MB$17:MB159<>\"\"), MB$17:MB159), MB160))","v":0},null,null,null,null,58,"",null,null,{"$f":"IF(MK161=\"\", 0, MK161 - IF(MK160=\"\", LOOKUP(2, 1/(MK$17:MK159<>\"\"), MK$17:MK159), MK160))","v":0},null,null,null,null,58,"",null,null,{"$f":"IF(MT161=\"\", 0, MT161 - IF(MT160=\"\", LOOKUP(2, 1/(MT$17:MT159<>\"\"), MT$17:MT159), MT160))","v":0},null,null,58,"",null,null,{"$f":"IF(NA161=\"\", 0, NA161 - IF(NA160=\"\", LOOKUP(2, 1/(NA$17:NA159<>\"\"), NA$17:NA159), NA160))","v":0},null,null,null,null,58,"",null,null,{"$f":"IF(NJ161=\"\", 0, NJ161 - IF(NJ160=\"\", LOOKUP(2, 1/(NJ$17:NJ159<>\"\"), NJ$17:NJ159), NJ160))","v":0},null,null,null,null,58,"",null,null,{"$f":"IF(NS161=\"\", 0, NS161 - IF(NS160=\"\", LOOKUP(2, 1/(NS$17:NS159<>\"\"), NS$17:NS159), NS160))","v":0},null,null,null,null,58,"",null,null,{"$f":"IF(OB161=\"\", 0, OB161 - IF(OB160=\"\", LOOKUP(2, 1/(OB$17:OB159<>\"\"), OB$17:OB159), OB160))","v":0},null,null,null,null,58,"",null,null,{"$f":"IF(OK161=\"\", 0, OK161 - IF(OK160=\"\", LOOKUP(2, 1/(OK$17:OK159<>\"\"), OK$17:OK159), OK160))","v":0},null,null,null,null,58,"",null,null,{"$f":"IF(OT161=\"\", 0, OT161 - IF(OT160=\"\", LOOKUP(2, 1/(OT$17:OT159<>\"\"), OT$17:OT159), OT160))","v":0},null,null,null,null,58,"",null,null,{"$f":"IF(PC161=\"\", 0, PC161 - IF(PC160=\"\", LOOKUP(2, 1/(PC$17:PC159<>\"\"), PC$17:PC159), PC160))","v":0},null,null,null,null,58,"",null,null,{"$f":"IF(PL161=\"\", 0, PL161 - IF(PL160=\"\", LOOKUP(2, 1/(PL$17:PL159<>\"\"), PL$17:PL159), PL160))","v":0},null,null,null,null,58,"",null,null,{"$f":"IF(PU161=\"\", 0, PU161 - IF(PU160=\"\", LOOKUP(2, 1/(PU$17:PU159<>\"\"), PU$17:PU159), PU160))","v":0},null,null,null,null,58,"",null,null,{"$f":"IF(QD161=\"\", 0, QD161 - IF(QD160=\"\", LOOKUP(2, 1/(QD$17:QD159<>\"\"), QD$17:QD159), QD160))","v":0}]
[null,null,null,57,"",null,null,{"$f":"IF(G162=\"\", 0, G162 - IF(G161=\"\", LOOKUP(2, 1/(G$17:G160<>\"\"), G$17:G160), G161))","v":0},null,null,null,null,57,"",null,null,{"$f":"IF(P162=\"\", 0, P162 - IF(P161=\"\", LOOKUP(2, 1/(P$17:P160<>\"\"), P$17:P160), P161))","v":0},null,null,null,null,57,"",null,null,{"$f":"IF(Y162=\"\", 0, Y162 - IF(Y161=\"\", LOOKUP(2, 1/(Y$17:Y160<>\"\"), Y$17:Y160), Y161))","v":0},null,null,null,null,57,"",null,null,{"$f":"IF(AH162=\"\", 0, AH162 - IF(AH161=\"\", LOOKUP(2, 1/(AH$17:AH160<>\"\"), AH$17:AH160), AH161))","v":0},null,null,null,null,57,"",null,null,{"$f":"IF(AQ162=\"\", 0, AQ162 - IF(AQ161=\"\", LOOKUP(2, 1/(AQ$17:AQ160<>\"\"), AQ$17:AQ160), AQ161))","v":0},null,null,null,null,57,"",null,null,{"$f":"IF(AZ162=\"\", 0, AZ162 - IF(AZ161=\"\", LOOKUP(2, 1/(AZ$17:AZ160<>\"\"), AZ$17:AZ160), AZ161))","v":0},null,null,null,null,57,"",null,null,{"$f":"IF(BI162=\"\", 0, BI162 - IF(BI161=\"\", LOOKUP(2, 1/(BI$17:BI160<>\"\"), BI$17:BI160), BI161))","v":0},null,null,null,null,57,"",null,null,{"$f":"IF(BR162=\"\", 0, BR162 - IF(BR161=\"\", LOOKUP(2, 1/(BR$17:BR160<>\"\"), BR$17:BR160), BR161))","v":0},null,null,null,null,57,"",null,null,{"$f":"IF(CA162=\"\", 0, CA162 - IF(CA161=\"\", LOOKUP(2, 1/(CA$17:CA160<>\"\"), CA$17:CA160), CA161))","v":0},null,null,null,null,57,"",null,null,{"$f":"IF(CJ162=\"\", 0, CJ162 - IF(CJ161=\"\", LOOKUP(2, 1/(CJ$17:CJ160<>\"\"), CJ$17:CJ160), CJ161))","v":0},null,null,null,null,57,"",null,null,{"$f":"IF(CS162=\"\", 0, CS162 - IF(CS161=\"\", LOOKUP(2, 1/(CS$17:CS160<>\"\"), CS$17:CS160), CS161))","v":0},null,null,null,null,57,"",null,null,{"$f":"IF(DB162=\"\", 0, DB162 - IF(DB161=\"\", LOOKUP(2, 1/(DB$17:DB160<>\"\"), DB$17:DB160), DB161))","v":0},null,null,null,null,57,"",null,null,{"$f":"IF(DK162=\"\", 0, DK162 - IF(DK161=\"\", LOOKUP(2, 1/(DK$17:DK160<>\"\"), DK$17:DK160), DK161))","v":0},null,null,null,null,57,"",null,null,{"$f":"IF(DT162=\"\", 0, DT162 - IF(DT161=\"\", LOOKUP(2, 1/(DT$17:DT160<>\"\"), DT$17:DT160), DT161))","v":0},null,null,null,null,57,"",null,null,{"$f":"IF(EC162=\"\", 0, EC162 - IF(EC161=\"\", LOOKUP(2, 1/(EC$17:EC160<>\"\"), EC$17:EC160), EC161))","v":0},null,null,null,null,57,"",null,null,{"$f":"IF(EL162=\"\", 0, EL162 - IF(EL161=\"\", LOOKUP(2, 1/(EL$17:EL160<>\"\"), EL$17:EL160), EL161))","v":0},null,null,null,null,57,"",null,null,{"$f":"IF(EU162=\"\", 0, EU162 - IF(EU161=\"\", LOOKUP(2, 1/(EU$17:EU160<>\"\"), EU$17:EU160), EU161))","v":0},null,null,null,null,57,"",null,null,{"$f":"IF(FD162=\"\", 0, FD162 - IF(FD161=\"\", LOOKUP(2, 1/(FD$17:FD160<>\"\"), FD$17:FD160), FD161))","v":0},null,null,null,null,57,"",null,null,{"$f":"IF(FM162=\"\", 0, FM162 - IF(FM161=\"\", LOOKUP(2, 1/(FM$17:FM160<>\"\"), FM$17:FM160), FM161))","v":0},null,null,null,null,57,"",null,null,{"$f":"IF(FV162=\"\", 0, FV162 - IF(FV161=\"\", LOOKUP(2, 1/(FV$17:FV160<>\"\"), FV$17:FV160), FV161))","v":0},null,null,null,null,57,"",null,null,{"$f":"IF(GE162=\"\", 0, GE162 - IF(GE161=\"\", LOOKUP(2, 1/(GE$17:GE160<>\"\"), GE$17:GE160), GE161))","v":0},null,null,null,null,57,"",null,null,{"$f":"IF(GN162=\"\", 0, GN162 - IF(GN161=\"\", LOOKUP(2, 1/(GN$17:GN160<>\"\"), GN$17:GN160), GN161))","v":0},null,null,null,null,57,"",null,null,{"$f":"IF(GW162=\"\", 0, GW162 - IF(GW161=\"\", LOOKUP(2, 1/(GW$17:GW160<>\"\"), GW$17:GW160), GW161))","v":0},null,null,null,null,57,"",null,null,{"$f":"IF(HF162=\"\", 0, HF162 - IF(HF161=\"\", LOOKUP(2, 1/(HF$17:HF160<>\"\"), HF$17:HF160), HF161))","v":0},null,null,null,null,57,"",null,null,{"$f":"IF(HO162=\"\", 0, HO162 - IF(HO161=\"\", LOOKUP(2, 1/(HO$17:HO160<>\"\"), HO$17:HO160), HO161))","v":0},null,null,null,null,57,"",null,null,{"$f":"IF(HX162=\"\", 0, HX162 - IF(HX161=\"\", LOOKUP(2, 1/(HX$17:HX160<>\"\"), HX$17:HX160), HX161))","v":0},null,null,null,null,57,"",null,null,{"$f":"IF(IG162=\"\", 0, IG162 - IF(IG161=\"\", LOOKUP(2, 1/(IG$17:IG160<>\"\"), IG$17:IG160), IG161))","v":0},null,null,null,null,57,"",null,null,{"$f":"IF(IP162=\"\", 0, IP162 - IF(IP161=\"\", LOOKUP(2, 1/(IP$17:IP160<>\"\"), IP$17:IP160), IP161))","v":0},null,null,null,null,57,"",null,null,{"$f":"IF(IY162=\"\", 0, IY162 - IF(IY161=\"\", LOOKUP(2, 1/(IY$17:IY160<>\"\"), IY$17:IY160), IY161))","v":0},null,null,null,null,57,"",null,null,{"$f":"IF(JH162=\"\", 0, JH162 - IF(JH161=\"\", LOOKUP(2, 1/(JH$17:JH160<>\"\"), JH$17:JH160), JH161))","v":0},null,null,null,null,57,"",null,null,{"$f":"IF(JQ162=\"\", 0, JQ162 - IF(JQ161=\"\", LOOKUP(2, 1/(JQ$17:JQ160<>\"\"), JQ$17:JQ160), JQ161))","v":0},null,null,null,null,57,"",null,null,{"$f":"IF(JZ162=\"\", 0, JZ162 - IF(JZ161=\"\", LOOKUP(2, 1/(JZ$17:JZ160<>\"\"), JZ$17:JZ160), JZ161))","v":0},null,null,null,null,57,"",null,null,{"$f":"IF(KI162=\"\", 0, KI162 - IF(KI161=\"\", LOOKUP(2, 1/(KI$17:KI160<>\"\"), KI$17:KI160), KI161))","v":0},null,null,null,null,57,"",null,null,{"$f":"IF(KR162=\"\", 0, KR162 - IF(KR161=\"\", LOOKUP(2, 1/(KR$17:KR160<>\"\"), KR$17:KR160), KR161))","v":0},null,null,null,null,57,"",null,null,{"$f":"IF(LA162=\"\", 0, LA162 - IF(LA161=\"\", LOOKUP(2, 1/(LA$17:LA160<>\"\"), LA$17:LA160), LA161))","v":0},null,null,null,null,57,"",null,null,{"$f":"IF(LJ162=\"\", 0, LJ162 - IF(LJ161=\"\", LOOKUP(2, 1/(LJ$17:LJ160<>\"\"), LJ$17:LJ160), LJ161))","v":0},null,null,null,null,57,"",null,null,{"$f":"IF(LS162=\"\", 0, LS162 - IF(LS161=\"\", LOOKUP(2, 1/(LS$17:LS160<>\"\"), LS$17:LS160), LS161))","v":0},null,null,null,null,57,"",null,null,{"$f":"IF(MB162=\"\", 0, MB162 - IF(MB161=\"\", LOOKUP(2, 1/(MB$17:MB160<>\"\"), MB$17:MB160), MB161))","v":0},null,null,null,null,57,"",null,null,{"$f":"IF(MK162=\"\", 0, MK162 - IF(MK161=\"\", LOOKUP(2, 1/(MK$17:MK160<>\"\"), MK$17:MK160), MK161))","v":0},null,null,null,null,57,"",null,null,{"$f":"IF(MT162=\"\", 0, MT162 - IF(MT161=\"\", LOOKUP(2, 1/(MT$17:MT160<>\"\"), MT$17:MT160), MT161))","v":0},null,null,57,"",null,null,{"$f":"IF(NA162=\"\", 0, NA162 - IF(NA161=\"\", LOOKUP(2, 1/(NA$17:NA160<>\"\"), NA$17:NA160), NA161))","v":0},null,null,null,null,57,"",null,null,{"$f":"IF(NJ162=\"\", 0, NJ162 - IF(NJ161=\"\", LOOKUP(2, 1/(NJ$17:NJ160<>\"\"), NJ$17:NJ160), NJ161))","v":0},null,null,null,null,57,"",null,null,{"$f":"IF(NS162=\"\", 0, NS162 - IF(NS161=\"\", LOOKUP(2, 1/(NS$17:NS160<>\"\"), NS$17:NS160), NS161))","v":0},null,null,null,null,57,"",null,null,{"$f":"IF(OB162=\"\", 0, OB162 - IF(OB161=\"\", LOOKUP(2, 1/(OB$17:OB160<>\"\"), OB$17:OB160), OB161))","v":0},null,null,null,null,57,"",null,null,{"$f":"IF(OK162=\"\", 0, OK162 - IF(OK161=\"\", LOOKUP(2, 1/(OK$17:OK160<>\"\"), OK$17:OK160), OK161))","v":0},null,null,null,null,57,"",null,null,{"$f":"IF(OT162=\"\", 0, OT162 - IF(OT161=\"\", LOOKUP(2, 1/(OT$17:OT160<>\"\"), OT$17:OT160), OT161))","v":0},null,null,null,null,57,"",null,null,{"$f":"IF(PC162=\"\", 0, PC162 - IF(PC161=\"\", LOOKUP(2, 1/(PC$17:PC160<>\"\"), PC$17:PC160), PC161))","v":0},null,null,null,null,57,"",null,null,{"$f":"IF(PL162=\"\", 0, PL162 - IF(PL161=\"\", LOOKUP(2, 1/(PL$17:PL160<>\"\"), PL$17:PL160), PL161))","v":0},null,null,null,null,57,"",null,null,{"$f":"IF(PU162=\"\", 0, PU162 - IF(PU161=\"\", LOOKUP(2, 1/(PU$17:PU160<>\"\"), PU$17:PU160), PU161))","v":0},null,null,null,null,57,"",null,null,{"$f":"IF(QD162=\"\", 0, QD162 - IF(QD161=\"\", LOOKUP(2, 1/(QD$17:QD160<>\"\"), QD$17:QD160), QD161))","v":0}]
[null,null,null,56,"",null,null,{"$f":"IF(G163=\"\", 0, G163 - IF(G162=\"\", LOOKUP(2, 1/(G$17:G161<>\"\"), G$17:G161), G162))","v":0},null,null,null,null,56,"",null,null,{"$f":"IF(P163=\"\", 0, P163 - IF(P162=\"\", LOOKUP(2, 1/(P$17:P161<>\"\"), P$17:P161), P162))","v":0},null,null,null,null,56,"",null,null,{"$f":"IF(Y163=\"\", 0, Y163 - IF(Y162=\"\", LOOKUP(2, 1/(Y$17:Y161<>\"\"), Y$17:Y161), Y162))","v":0},null,null,null,null,56,"",null,null,{"$f":"IF(AH163=\"\", 0, AH163 - IF(AH162=\"\", LOOKUP(2, 1/(AH$17:AH161<>\"\"), AH$17:AH161), AH162))","v":0},null,null,null,null,56,"",null,null,{"$f":"IF(AQ163=\"\", 0, AQ163 - IF(AQ162=\"\", LOOKUP(2, 1/(AQ$17:AQ161<>\"\"), AQ$17:AQ161), AQ162))","v":0},null,null,null,null,56,"",null,null,{"$f":"IF(AZ163=\"\", 0, AZ163 - IF(AZ162=\"\", LOOKUP(2, 1/(AZ$17:AZ161<>\"\"), AZ$17:AZ161), AZ162))","v":0},null,null,null,null,56,"",null,null,{"$f":"IF(BI163=\"\", 0, BI163 - IF(BI162=\"\", LOOKUP(2, 1/(BI$17:BI161<>\"\"), BI$17:BI161), BI162))","v":0},null,null,null,null,56,"",null,null,{"$f":"IF(BR163=\"\", 0, BR163 - IF(BR162=\"\", LOOKUP(2, 1/(BR$17:BR161<>\"\"), BR$17:BR161), BR162))","v":0},null,null,null,null,56,"",null,null,{"$f":"IF(CA163=\"\", 0, CA163 - IF(CA162=\"\", LOOKUP(2, 1/(CA$17:CA161<>\"\"), CA$17:CA161), CA162))","v":0},null,null,null,null,56,"",null,null,{"$f":"IF(CJ163=\"\", 0, CJ163 - IF(CJ162=\"\", LOOKUP(2, 1/(CJ$17:CJ161<>\"\"), CJ$17:CJ161), CJ162))","v":0},null,null,null,null,56,"",null,null,{"$f":"IF(CS163=\"\", 0, CS163 - IF(CS162=\"\", LOOKUP(2, 1/(CS$17:CS161<>\"\"), CS$17:CS161), CS162))","v":0},null,null,null,null,56,"",null,null,{"$f":"IF(DB163=\"\", 0, DB163 - IF(DB162=\"\", LOOKUP(2, 1/(DB$17:DB161<>\"\"), DB$17:DB161), DB162))","v":0},null,null,null,null,56,"",null,null,{"$f":"IF(DK163=\"\", 0, DK163 - IF(DK162=\"\", LOOKUP(2, 1/(DK$17:DK161<>\"\"), DK$17:DK161), DK162))","v":0},null,null,null,null,56,"",null,null,{"$f":"IF(DT163=\"\", 0, DT163 - IF(DT162=\"\", LOOKUP(2, 1/(DT$17:DT161<>\"\"), DT$17:DT161), DT162))","v":0},null,null,null,null,56,"",null,null,{"$f":"IF(EC163=\"\", 0, EC163 - IF(EC162=\"\", LOOKUP(2, 1/(EC$17:EC161<>\"\"), EC$17:EC161), EC162))","v":0},null,null,null,null,56,"",null,null,{"$f":"IF(EL163=\"\", 0, EL163 - IF(EL162=\"\", LOOKUP(2, 1/(EL$17:EL161<>\"\"), EL$17:EL161), EL162))","v":0},null,null,null,null,56,"",null,null,{"$f":"IF(EU163=\"\", 0, EU163 - IF(EU162=\"\", LOOKUP(2, 1/(EU$17:EU161<>\"\"), EU$17:EU161), EU162))","v":0},null,null,null,null,56,"",null,null,{"$f":"IF(FD163=\"\", 0, FD163 - IF(FD162=\"\", LOOKUP(2, 1/(FD$17:FD161<>\"\"), FD$17:FD161), FD162))","v":0},null,null,null,null,56,"",null,null,{"$f":"IF(FM163=\"\", 0, FM163 - IF(FM162=\"\", LOOKUP(2, 1/(FM$17:FM161<>\"\"), FM$17:FM161), FM162))","v":0},null,null,null,null,56,"",null,null,{"$f":"IF(FV163=\"\", 0, FV163 - IF(FV162=\"\", LOOKUP(2, 1/(FV$17:FV161<>\"\"), FV$17:FV161), FV162))","v":0},null,null,null,null,56,"",null,null,{"$f":"IF(GE163=\"\", 0, GE163 - IF(GE162=\"\", LOOKUP(2, 1/(GE$17:GE161<>\"\"), GE$17:GE161), GE162))","v":0},null,null,null,null,56,"",null,null,{"$f":"IF(GN163=\"\", 0, GN163 - IF(GN162=\"\", LOOKUP(2, 1/(GN$17:GN161<>\"\"), GN$17:GN161), GN162))","v":0},null,null,null,null,56,"",null,null,{"$f":"IF(GW163=\"\", 0, GW163 - IF(GW162=\"\", LOOKUP(2, 1/(GW$17:GW161<>\"\"), GW$17:GW161), GW162))","v":0},null,null,null,null,56,"",null,null,{"$f":"IF(HF163=\"\", 0, HF163 - IF(HF162=\"\", LOOKUP(2, 1/(HF$17:HF161<>\"\"), HF$17:HF161), HF162))","v":0},null,null,null,null,56,"",null,null,{"$f":"IF(HO163=\"\", 0, HO163 - IF(HO162=\"\", LOOKUP(2, 1/(HO$17:HO161<>\"\"), HO$17:HO161), HO162))","v":0},null,null,null,null,56,"",null,null,{"$f":"IF(HX163=\"\", 0, HX163 - IF(HX162=\"\", LOOKUP(2, 1/(HX$17:HX161<>\"\"), HX$17:HX161), HX162))","v":0},null,null,null,null,56,"",null,null,{"$f":"IF(IG163=\"\", 0, IG163 - IF(IG162=\"\", LOOKUP(2, 1/(IG$17:IG161<>\"\"), IG$17:IG161), IG162))","v":0},null,null,null,null,56,"",null,null,{"$f":"IF(IP163=\"\", 0, IP163 - IF(IP162=\"\", LOOKUP(2, 1/(IP$17:IP161<>\"\"), IP$17:IP161), IP162))","v":0},null,null,null,null,56,"",null,null,{"$f":"IF(IY163=\"\", 0, IY163 - IF(IY162=\"\", LOOKUP(2, 1/(IY$17:IY161<>\"\"), IY$17:IY161), IY162))","v":0},null,null,null,null,56,"",null,null,{"$f":"IF(JH163=\"\", 0, JH163 - IF(JH162=\"\", LOOKUP(2, 1/(JH$17:JH161<>\"\"), JH$17:JH161), JH162))","v":0},null,null,null,null,56,"",null,null,{"$f":"IF(JQ163=\"\", 0, JQ163 - IF(JQ162=\"\", LOOKUP(2, 1/(JQ$17:JQ161<>\"\"), JQ$17:JQ161), JQ162))","v":0},null,null,null,null,56,"",null,null,{"$f":"IF(JZ163=\"\", 0, JZ163 - IF(JZ162=\"\", LOOKUP(2, 1/(JZ$17:JZ161<>\"\"), JZ$17:JZ161), JZ162))","v":0},null,null,null,null,56,"",null,null,{"$f":"IF(KI163=\"\", 0, KI163 - IF(KI162=\"\", LOOKUP(2, 1/(KI$17:KI161<>\"\"), KI$17:KI161), KI162))","v":0},null,null,null,null,56,"",null,null,{"$f":"IF(KR163=\"\", 0, KR163 - IF(KR162=\"\", LOOKUP(2, 1/(KR$17:KR161<>\"\"), KR$17:KR161), KR162))","v":0},null,null,null,null,56,"",null,null,{"$f":"IF(LA163=\"\", 0, LA163 - IF(LA162=\"\", LOOKUP(2, 1/(LA$17:LA161<>\"\"), LA$17:LA161), LA162))","v":0},null,null,null,null,56,"",null,null,{"$f":"IF(LJ163=\"\", 0, LJ163 - IF(LJ162=\"\", LOOKUP(2, 1/(LJ$17:LJ161<>\"\"), LJ$17:LJ161), LJ162))","v":0},null,null,null,null,56,"",null,null,{"$f":"IF(LS163=\"\", 0, LS163 - IF(LS162=\"\", LOOKUP(2, 1/(LS$17:LS161<>\"\"), LS$17:LS161), LS162))","v":0},null,null,null,null,56,"",null,null,{"$f":"IF(MB163=\"\", 0, MB163 - IF(MB162=\"\", LOOKUP(2, 1/(MB$17:MB161<>\"\"), MB$17:MB161), MB162))","v":0},null,null,null,null,56,"",null,null,{"$f":"IF(MK163=\"\", 0, MK163 - IF(MK162=\"\", LOOKUP(2, 1/(MK$17:MK161<>\"\"), MK$17:MK161), MK162))","v":0},null,null,null,null,56,"",null,null,{"$f":"IF(MT163=\"\", 0, MT163 - IF(MT162=\"\", LOOKUP(2, 1/(MT$17:MT161<>\"\"), MT$17:MT161), MT162))","v":0},null,null,56,"",null,null,{"$f":"IF(NA163=\"\", 0, NA163 - IF(NA162=\"\", LOOKUP(2, 1/(NA$17:NA161<>\"\"), NA$17:NA161), NA162))","v":0},null,null,null,null,56,"",null,null,{"$f":"IF(NJ163=\"\", 0, NJ163 - IF(NJ162=\"\", LOOKUP(2, 1/(NJ$17:NJ161<>\"\"), NJ$17:NJ161), NJ162))","v":0},null,null,null,null,56,"",null,null,{"$f":"IF(NS163=\"\", 0, NS163 - IF(NS162=\"\", LOOKUP(2, 1/(NS$17:NS161<>\"\"), NS$17:NS161), NS162))","v":0},null,null,null,null,56,"",null,null,{"$f":"IF(OB163=\"\", 0, OB163 - IF(OB162=\"\", LOOKUP(2, 1/(OB$17:OB161<>\"\"), OB$17:OB161), OB162))","v":0},null,null,null,null,56,"",null,null,{"$f":"IF(OK163=\"\", 0, OK163 - IF(OK162=\"\", LOOKUP(2, 1/(OK$17:OK161<>\"\"), OK$17:OK161), OK162))","v":0},null,null,null,null,56,"",null,null,{"$f":"IF(OT163=\"\", 0, OT163 - IF(OT162=\"\", LOOKUP(2, 1/(OT$17:OT161<>\"\"), OT$17:OT161), OT162))","v":0},null,null,null,null,56,"",null,null,{"$f":"IF(PC163=\"\", 0, PC163 - IF(PC162=\"\", LOOKUP(2, 1/(PC$17:PC161<>\"\"), PC$17:PC161), PC162))","v":0},null,null,null,null,56,"",null,null,{"$f":"IF(PL163=\"\", 0, PL163 - IF(PL162=\"\", LOOKUP(2, 1/(PL$17:PL161<>\"\"), PL$17:PL161), PL162))","v":0},null,null,null,null,56,"",null,null,{"$f":"IF(PU163=\"\", 0, PU163 - IF(PU162=\"\", LOOKUP(2, 1/(PU$17:PU161<>\"\"), PU$17:PU161), PU162))","v":0},null,null,null,null,56,"",null,null,{"$f":"IF(QD163=\"\", 0, QD163 - IF(QD162=\"\", LOOKUP(2, 1/(QD$17:QD161<>\"\"), QD$17:QD161), QD162))","v":0}]
[null,null,null,55,"",null,null,{"$f":"IF(G164=\"\", 0, G164 - IF(G163=\"\", LOOKUP(2, 1/(G$17:G162<>\"\"), G$17:G162), G163))","v":0},null,null,null,null,55,"",null,null,{"$f":"IF(P164=\"\", 0, P164 - IF(P163=\"\", LOOKUP(2, 1/(P$17:P162<>\"\"), P$17:P162), P163))","v":0},null,null,null,null,55,"",null,null,{"$f":"IF(Y164=\"\", 0, Y164 - IF(Y163=\"\", LOOKUP(2, 1/(Y$17:Y162<>\"\"), Y$17:Y162), Y163))","v":0},null,null,null,null,55,"",null,null,{"$f":"IF(AH164=\"\", 0, AH164 - IF(AH163=\"\", LOOKUP(2, 1/(AH$17:AH162<>\"\"), AH$17:AH162), AH163))","v":0},null,null,null,null,55,"",null,null,{"$f":"IF(AQ164=\"\", 0, AQ164 - IF(AQ163=\"\", LOOKUP(2, 1/(AQ$17:AQ162<>\"\"), AQ$17:AQ162), AQ163))","v":0},null,null,null,null,55,"",null,null,{"$f":"IF(AZ164=\"\", 0, AZ164 - IF(AZ163=\"\", LOOKUP(2, 1/(AZ$17:AZ162<>\"\"), AZ$17:AZ162), AZ163))","v":0},null,null,null,null,55,"",null,null,{"$f":"IF(BI164=\"\", 0, BI164 - IF(BI163=\"\", LOOKUP(2, 1/(BI$17:BI162<>\"\"), BI$17:BI162), BI163))","v":0},null,null,null,null,55,"",null,null,{"$f":"IF(BR164=\"\", 0, BR164 - IF(BR163=\"\", LOOKUP(2, 1/(BR$17:BR162<>\"\"), BR$17:BR162), BR163))","v":0},null,null,null,null,55,"",null,null,{"$f":"IF(CA164=\"\", 0, CA164 - IF(CA163=\"\", LOOKUP(2, 1/(CA$17:CA162<>\"\"), CA$17:CA162), CA163))","v":0},null,null,null,null,55,"",null,null,{"$f":"IF(CJ164=\"\", 0, CJ164 - IF(CJ163=\"\", LOOKUP(2, 1/(CJ$17:CJ162<>\"\"), CJ$17:CJ162), CJ163))","v":0},null,null,null,null,55,"",null,null,{"$f":"IF(CS164=\"\", 0, CS164 - IF(CS163=\"\", LOOKUP(2, 1/(CS$17:CS162<>\"\"), CS$17:CS162), CS163))","v":0},null,null,null,null,55,"",null,null,{"$f":"IF(DB164=\"\", 0, DB164 - IF(DB163=\"\", LOOKUP(2, 1/(DB$17:DB162<>\"\"), DB$17:DB162), DB163))","v":0},null,null,null,null,55,"",null,null,{"$f":"IF(DK164=\"\", 0, DK164 - IF(DK163=\"\", LOOKUP(2, 1/(DK$17:DK162<>\"\"), DK$17:DK162), DK163))","v":0},null,null,null,null,55,"",null,null,{"$f":"IF(DT164=\"\", 0, DT164 - IF(DT163=\"\", LOOKUP(2, 1/(DT$17:DT162<>\"\"), DT$17:DT162), DT163))","v":0},null,null,null,null,55,"",null,null,{"$f":"IF(EC164=\"\", 0, EC164 - IF(EC163=\"\", LOOKUP(2, 1/(EC$17:EC162<>\"\"), EC$17:EC162), EC163))","v":0},null,null,null,null,55,"",null,null,{"$f":"IF(EL164=\"\", 0, EL164 - IF(EL163=\"\", LOOKUP(2, 1/(EL$17:EL162<>\"\"), EL$17:EL162), EL163))","v":0},null,null,null,null,55,"",null,null,{"$f":"IF(EU164=\"\", 0, EU164 - IF(EU163=\"\", LOOKUP(2, 1/(EU$17:EU162<>\"\"), EU$17:EU162), EU163))","v":0},null,null,null,null,55,"",null,null,{"$f":"IF(FD164=\"\", 0, FD164 - IF(FD163=\"\", LOOKUP(2, 1/(FD$17:FD162<>\"\"), FD$17:FD162), FD163))","v":0},null,null,null,null,55,"",null,null,{"$f":"IF(FM164=\"\", 0, FM164 - IF(FM163=\"\", LOOKUP(2, 1/(FM$17:FM162<>\"\"), FM$17:FM162), FM163))","v":0},null,null,null,null,55,"",null,null,{"$f":"IF(FV164=\"\", 0, FV164 - IF(FV163=\"\", LOOKUP(2, 1/(FV$17:FV162<>\"\"), FV$17:FV162), FV163))","v":0},null,null,null,null,55,"",null,null,{"$f":"IF(GE164=\"\", 0, GE164 - IF(GE163=\"\", LOOKUP(2, 1/(GE$17:GE162<>\"\"), GE$17:GE162), GE163))","v":0},null,null,null,null,55,"",null,null,{"$f":"IF(GN164=\"\", 0, GN164 - IF(GN163=\"\", LOOKUP(2, 1/(GN$17:GN162<>\"\"), GN$17:GN162), GN163))","v":0},null,null,null,null,55,"",null,null,{"$f":"IF(GW164=\"\", 0, GW164 - IF(GW163=\"\", LOOKUP(2, 1/(GW$17:GW162<>\"\"), GW$17:GW162), GW163))","v":0},null,null,null,null,55,"",null,null,{"$f":"IF(HF164=\"\", 0, HF164 - IF(HF163=\"\", LOOKUP(2, 1/(HF$17:HF162<>\"\"), HF$17:HF162), HF163))","v":0},null,null,null,null,55,"",null,null,{"$f":"IF(HO164=\"\", 0, HO164 - IF(HO163=\"\", LOOKUP(2, 1/(HO$17:HO162<>\"\"), HO$17:HO162), HO163))","v":0},null,null,null,null,55,"",null,null,{"$f":"IF(HX164=\"\", 0, HX164 - IF(HX163=\"\", LOOKUP(2, 1/(HX$17:HX162<>\"\"), HX$17:HX162), HX163))","v":0},null,null,null,null,55,"",null,null,{"$f":"IF(IG164=\"\", 0, IG164 - IF(IG163=\"\", LOOKUP(2, 1/(IG$17:IG162<>\"\"), IG$17:IG162), IG163))","v":0},null,null,null,null,55,"",null,null,{"$f":"IF(IP164=\"\", 0, IP164 - IF(IP163=\"\", LOOKUP(2, 1/(IP$17:IP162<>\"\"), IP$17:IP162), IP163))","v":0},null,null,null,null,55,"",null,null,{"$f":"IF(IY164=\"\", 0, IY164 - IF(IY163=\"\", LOOKUP(2, 1/(IY$17:IY162<>\"\"), IY$17:IY162), IY163))","v":0},null,null,null,null,55,"",null,null,{"$f":"IF(JH164=\"\", 0, JH164 - IF(JH163=\"\", LOOKUP(2, 1/(JH$17:JH162<>\"\"), JH$17:JH162), JH163))","v":0},null,null,null,null,55,"",null,null,{"$f":"IF(JQ164=\"\", 0, JQ164 - IF(JQ163=\"\", LOOKUP(2, 1/(JQ$17:JQ162<>\"\"), JQ$17:JQ162), JQ163))","v":0},null,null,null,null,55,"",null,null,{"$f":"IF(JZ164=\"\", 0, JZ164 - IF(JZ163=\"\", LOOKUP(2, 1/(JZ$17:JZ162<>\"\"), JZ$17:JZ162), JZ163))","v":0},null,null,null,null,55,"",null,null,{"$f":"IF(KI164=\"\", 0, KI164 - IF(KI163=\"\", LOOKUP(2, 1/(KI$17:KI162<>\"\"), KI$17:KI162), KI163))","v":0},null,null,null,null,55,"",null,null,{"$f":"IF(KR164=\"\", 0, KR164 - IF(KR163=\"\", LOOKUP(2, 1/(KR$17:KR162<>\"\"), KR$17:KR162), KR163))","v":0},null,null,null,null,55,"",null,null,{"$f":"IF(LA164=\"\", 0, LA164 - IF(LA163=\"\", LOOKUP(2, 1/(LA$17:LA162<>\"\"), LA$17:LA162), LA163))","v":0},null,null,null,null,55,"",null,null,{"$f":"IF(LJ164=\"\", 0, LJ164 - IF(LJ163=\"\", LOOKUP(2, 1/(LJ$17:LJ162<>\"\"), LJ$17:LJ162), LJ163))","v":0},null,null,null,null,55,"",null,null,{"$f":"IF(LS164=\"\", 0, LS164 - IF(LS163=\"\", LOOKUP(2, 1/(LS$17:LS162<>\"\"), LS$17:LS162), LS163))","v":0},null,null,null,null,55,"",null,null,{"$f":"IF(MB164=\"\", 0, MB164 - IF(MB163=\"\", LOOKUP(2, 1/(MB$17:MB162<>\"\"), MB$17:MB162), MB163))","v":0},null,null,null,null,55,"",null,null,{"$f":"IF(MK164=\"\", 0, MK164 - IF(MK163=\"\", LOOKUP(2, 1/(MK$17:MK162<>\"\"), MK$17:MK162), MK163))","v":0},null,null,null,null,55,"",null,null,{"$f":"IF(MT164=\"\", 0, MT164 - IF(MT163=\"\", LOOKUP(2, 1/(MT$17:MT162<>\"\"), MT$17:MT162), MT163))","v":0},null,null,55,"",null,null,{"$f":"IF(NA164=\"\", 0, NA164 - IF(NA163=\"\", LOOKUP(2, 1/(NA$17:NA162<>\"\"), NA$17:NA162), NA163))","v":0},null,null,null,null,55,"",null,null,{"$f":"IF(NJ164=\"\", 0, NJ164 - IF(NJ163=\"\", LOOKUP(2, 1/(NJ$17:NJ162<>\"\"), NJ$17:NJ162), NJ163))","v":0},null,null,null,null,55,"",null,null,{"$f":"IF(NS164=\"\", 0, NS164 - IF(NS163=\"\", LOOKUP(2, 1/(NS$17:NS162<>\"\"), NS$17:NS162), NS163))","v":0},null,null,null,null,55,"",null,null,{"$f":"IF(OB164=\"\", 0, OB164 - IF(OB163=\"\", LOOKUP(2, 1/(OB$17:OB162<>\"\"), OB$17:OB162), OB163))","v":0},null,null,null,null,55,"",null,null,{"$f":"IF(OK164=\"\", 0, OK164 - IF(OK163=\"\", LOOKUP(2, 1/(OK$17:OK162<>\"\"), OK$17:OK162), OK163))","v":0},null,null,null,null,55,"",null,null,{"$f":"IF(OT164=\"\", 0, OT164 - IF(OT163=\"\", LOOKUP(2, 1/(OT$17:OT162<>\"\"), OT$17:OT162), OT163))","v":0},null,null,null,null,55,"",null,null,{"$f":"IF(PC164=\"\", 0, PC164 - IF(PC163=\"\", LOOKUP(2, 1/(PC$17:PC162<>\"\"), PC$17:PC162), PC163))","v":0},null,null,null,null,55,"",null,null,{"$f":"IF(PL164=\"\", 0, PL164 - IF(PL163=\"\", LOOKUP(2, 1/(PL$17:PL162<>\"\"), PL$17:PL162), PL163))","v":0},null,null,null,null,55,"",null,null,{"$f":"IF(PU164=\"\", 0, PU164 - IF(PU163=\"\", LOOKUP(2, 1/(PU$17:PU162<>\"\"), PU$17:PU162), PU163))","v":0},null,null,null,null,55,"",null,null,{"$f":"IF(QD164=\"\", 0, QD164 - IF(QD163=\"\", LOOKUP(2, 1/(QD$17:QD162<>\"\"), QD$17:QD162), QD163))","v":0}]
[null,null,null,54,"",null,null,{"$f":"IF(G165=\"\", 0, G165 - IF(G164=\"\", LOOKUP(2, 1/(G$17:G163<>\"\"), G$17:G163), G164))","v":0},null,null,null,null,54,"",null,null,{"$f":"IF(P165=\"\", 0, P165 - IF(P164=\"\", LOOKUP(2, 1/(P$17:P163<>\"\"), P$17:P163), P164))","v":0},null,null,null,null,54,"",null,null,{"$f":"IF(Y165=\"\", 0, Y165 - IF(Y164=\"\", LOOKUP(2, 1/(Y$17:Y163<>\"\"), Y$17:Y163), Y164))","v":0},null,null,null,null,54,"",null,null,{"$f":"IF(AH165=\"\", 0, AH165 - IF(AH164=\"\", LOOKUP(2, 1/(AH$17:AH163<>\"\"), AH$17:AH163), AH164))","v":0},null,null,null,null,54,"",null,null,{"$f":"IF(AQ165=\"\", 0, AQ165 - IF(AQ164=\"\", LOOKUP(2, 1/(AQ$17:AQ163<>\"\"), AQ$17:AQ163), AQ164))","v":0},null,null,null,null,54,"",null,null,{"$f":"IF(AZ165=\"\", 0, AZ165 - IF(AZ164=\"\", LOOKUP(2, 1/(AZ$17:AZ163<>\"\"), AZ$17:AZ163), AZ164))","v":0},null,null,null,null,54,"",null,null,{"$f":"IF(BI165=\"\", 0, BI165 - IF(BI164=\"\", LOOKUP(2, 1/(BI$17:BI163<>\"\"), BI$17:BI163), BI164))","v":0},null,null,null,null,54,"",null,null,{"$f":"IF(BR165=\"\", 0, BR165 - IF(BR164=\"\", LOOKUP(2, 1/(BR$17:BR163<>\"\"), BR$17:BR163), BR164))","v":0},null,null,null,null,54,"",null,null,{"$f":"IF(CA165=\"\", 0, CA165 - IF(CA164=\"\", LOOKUP(2, 1/(CA$17:CA163<>\"\"), CA$17:CA163), CA164))","v":0},null,null,null,null,54,"",null,null,{"$f":"IF(CJ165=\"\", 0, CJ165 - IF(CJ164=\"\", LOOKUP(2, 1/(CJ$17:CJ163<>\"\"), CJ$17:CJ163), CJ164))","v":0},null,null,null,null,54,"",null,null,{"$f":"IF(CS165=\"\", 0, CS165 - IF(CS164=\"\", LOOKUP(2, 1/(CS$17:CS163<>\"\"), CS$17:CS163), CS164))","v":0},null,null,null,null,54,"",null,null,{"$f":"IF(DB165=\"\", 0, DB165 - IF(DB164=\"\", LOOKUP(2, 1/(DB$17:DB163<>\"\"), DB$17:DB163), DB164))","v":0},null,null,null,null,54,"",null,null,{"$f":"IF(DK165=\"\", 0, DK165 - IF(DK164=\"\", LOOKUP(2, 1/(DK$17:DK163<>\"\"), DK$17:DK163), DK164))","v":0},null,null,null,null,54,"",null,null,{"$f":"IF(DT165=\"\", 0, DT165 - IF(DT164=\"\", LOOKUP(2, 1/(DT$17:DT163<>\"\"), DT$17:DT163), DT164))","v":0},null,null,null,null,54,"",null,null,{"$f":"IF(EC165=\"\", 0, EC165 - IF(EC164=\"\", LOOKUP(2, 1/(EC$17:EC163<>\"\"), EC$17:EC163), EC164))","v":0},null,null,null,null,54,"",null,null,{"$f":"IF(EL165=\"\", 0, EL165 - IF(EL164=\"\", LOOKUP(2, 1/(EL$17:EL163<>\"\"), EL$17:EL163), EL164))","v":0},null,null,null,null,54,"",null,null,{"$f":"IF(EU165=\"\", 0, EU165 - IF(EU164=\"\", LOOKUP(2, 1/(EU$17:EU163<>\"\"), EU$17:EU163), EU164))","v":0},null,null,null,null,54,"",null,null,{"$f":"IF(FD165=\"\", 0, FD165 - IF(FD164=\"\", LOOKUP(2, 1/(FD$17:FD163<>\"\"), FD$17:FD163), FD164))","v":0},null,null,null,null,54,"",null,null,{"$f":"IF(FM165=\"\", 0, FM165 - IF(FM164=\"\", LOOKUP(2, 1/(FM$17:FM163<>\"\"), FM$17:FM163), FM164))","v":0},null,null,null,null,54,"",null,null,{"$f":"IF(FV165=\"\", 0, FV165 - IF(FV164=\"\", LOOKUP(2, 1/(FV$17:FV163<>\"\"), FV$17:FV163), FV164))","v":0},null,null,null,null,54,"",null,null,{"$f":"IF(GE165=\"\", 0, GE165 - IF(GE164=\"\", LOOKUP(2, 1/(GE$17:GE163<>\"\"), GE$17:GE163), GE164))","v":0},null,null,null,null,54,"",null,null,{"$f":"IF(GN165=\"\", 0, GN165 - IF(GN164=\"\", LOOKUP(2, 1/(GN$17:GN163<>\"\"), GN$17:GN163), GN164))","v":0},null,null,null,null,54,"",null,null,{"$f":"IF(GW165=\"\", 0, GW165 - IF(GW164=\"\", LOOKUP(2, 1/(GW$17:GW163<>\"\"), GW$17:GW163), GW164))","v":0},null,null,null,null,54,"",null,null,{"$f":"IF(HF165=\"\", 0, HF165 - IF(HF164=\"\", LOOKUP(2, 1/(HF$17:HF163<>\"\"), HF$17:HF163), HF164))","v":0},null,null,null,null,54,"",null,null,{"$f":"IF(HO165=\"\", 0, HO165 - IF(HO164=\"\", LOOKUP(2, 1/(HO$17:HO163<>\"\"), HO$17:HO163), HO164))","v":0},null,null,null,null,54,"",null,null,{"$f":"IF(HX165=\"\", 0, HX165 - IF(HX164=\"\", LOOKUP(2, 1/(HX$17:HX163<>\"\"), HX$17:HX163), HX164))","v":0},null,null,null,null,54,"",null,null,{"$f":"IF(IG165=\"\", 0, IG165 - IF(IG164=\"\", LOOKUP(2, 1/(IG$17:IG163<>\"\"), IG$17:IG163), IG164))","v":0},null,null,null,null,54,"",null,null,{"$f":"IF(IP165=\"\", 0, IP165 - IF(IP164=\"\", LOOKUP(2, 1/(IP$17:IP163<>\"\"), IP$17:IP163), IP164))","v":0},null,null,null,null,54,"",null,null,{"$f":"IF(IY165=\"\", 0, IY165 - IF(IY164=\"\", LOOKUP(2, 1/(IY$17:IY163<>\"\"), IY$17:IY163), IY164))","v":0},null,null,null,null,54,"",null,null,{"$f":"IF(JH165=\"\", 0, JH165 - IF(JH164=\"\", LOOKUP(2, 1/(JH$17:JH163<>\"\"), JH$17:JH163), JH164))","v":0},null,null,null,null,54,"",null,null,{"$f":"IF(JQ165=\"\", 0, JQ165 - IF(JQ164=\"\", LOOKUP(2, 1/(JQ$17:JQ163<>\"\"), JQ$17:JQ163), JQ164))","v":0},null,null,null,null,54,"",null,null,{"$f":"IF(JZ165=\"\", 0, JZ165 - IF(JZ164=\"\", LOOKUP(2, 1/(JZ$17:JZ163<>\"\"), JZ$17:JZ163), JZ164))","v":0},null,null,null,null,54,"",null,null,{"$f":"IF(KI165=\"\", 0, KI165 - IF(KI164=\"\", LOOKUP(2, 1/(KI$17:KI163<>\"\"), KI$17:KI163), KI164))","v":0},null,null,null,null,54,"",null,null,{"$f":"IF(KR165=\"\", 0, KR165 - IF(KR164=\"\", LOOKUP(2, 1/(KR$17:KR163<>\"\"), KR$17:KR163), KR164))","v":0},null,null,null,null,54,"",null,null,{"$f":"IF(LA165=\"\", 0, LA165 - IF(LA164=\"\", LOOKUP(2, 1/(LA$17:LA163<>\"\"), LA$17:LA163), LA164))","v":0},null,null,null,null,54,"",null,null,{"$f":"IF(LJ165=\"\", 0, LJ165 - IF(LJ164=\"\", LOOKUP(2, 1/(LJ$17:LJ163<>\"\"), LJ$17:LJ163), LJ164))","v":0},null,null,null,null,54,"",null,null,{"$f":"IF(LS165=\"\", 0, LS165 - IF(LS164=\"\", LOOKUP(2, 1/(LS$17:LS163<>\"\"), LS$17:LS163), LS164))","v":0},null,null,null,null,54,"",null,null,{"$f":"IF(MB165=\"\", 0, MB165 - IF(MB164=\"\", LOOKUP(2, 1/(MB$17:MB163<>\"\"), MB$17:MB163), MB164))","v":0},null,null,null,null,54,"",null,null,{"$f":"IF(MK165=\"\", 0, MK165 - IF(MK164=\"\", LOOKUP(2, 1/(MK$17:MK163<>\"\"), MK$17:MK163), MK164))","v":0},null,null,null,null,54,"",null,null,{"$f":"IF(MT165=\"\", 0, MT165 - IF(MT164=\"\", LOOKUP(2, 1/(MT$17:MT163<>\"\"), MT$17:MT163), MT164))","v":0},null,null,54,"",null,null,{"$f":"IF(NA165=\"\", 0, NA165 - IF(NA164=\"\", LOOKUP(2, 1/(NA$17:NA163<>\"\"), NA$17:NA163), NA164))","v":0},null,null,null,null,54,"",null,null,{"$f":"IF(NJ165=\"\", 0, NJ165 - IF(NJ164=\"\", LOOKUP(2, 1/(NJ$17:NJ163<>\"\"), NJ$17:NJ163), NJ164))","v":0},null,null,null,null,54,"",null,null,{"$f":"IF(NS165=\"\", 0, NS165 - IF(NS164=\"\", LOOKUP(2, 1/(NS$17:NS163<>\"\"), NS$17:NS163), NS164))","v":0},null,null,null,null,54,"",null,null,{"$f":"IF(OB165=\"\", 0, OB165 - IF(OB164=\"\", LOOKUP(2, 1/(OB$17:OB163<>\"\"), OB$17:OB163), OB164))","v":0},null,null,null,null,54,"",null,null,{"$f":"IF(OK165=\"\", 0, OK165 - IF(OK164=\"\", LOOKUP(2, 1/(OK$17:OK163<>\"\"), OK$17:OK163), OK164))","v":0},null,null,null,null,54,"",null,null,{"$f":"IF(OT165=\"\", 0, OT165 - IF(OT164=\"\", LOOKUP(2, 1/(OT$17:OT163<>\"\"), OT$17:OT163), OT164))","v":0},null,null,null,null,54,"",null,null,{"$f":"IF(PC165=\"\", 0, PC165 - IF(PC164=\"\", LOOKUP(2, 1/(PC$17:PC163<>\"\"), PC$17:PC163), PC164))","v":0},null,null,null,null,54,"",null,null,{"$f":"IF(PL165=\"\", 0, PL165 - IF(PL164=\"\", LOOKUP(2, 1/(PL$17:PL163<>\"\"), PL$17:PL163), PL164))","v":0},null,null,null,null,54,"",null,null,{"$f":"IF(PU165=\"\", 0, PU165 - IF(PU164=\"\", LOOKUP(2, 1/(PU$17:PU163<>\"\"), PU$17:PU163), PU164))","v":0},null,null,null,null,54,"",null,null,{"$f":"IF(QD165=\"\", 0, QD165 - IF(QD164=\"\", LOOKUP(2, 1/(QD$17:QD163<>\"\"), QD$17:QD163), QD164))","v":0}]
[null,null,null,53,"",null,null,{"$f":"IF(G166=\"\", 0, G166 - IF(G165=\"\", LOOKUP(2, 1/(G$17:G164<>\"\"), G$17:G164), G165))","v":0},null,null,null,null,53,"",null,null,{"$f":"IF(P166=\"\", 0, P166 - IF(P165=\"\", LOOKUP(2, 1/(P$17:P164<>\"\"), P$17:P164), P165))","v":0},null,null,null,null,53,"",null,null,{"$f":"IF(Y166=\"\", 0, Y166 - IF(Y165=\"\", LOOKUP(2, 1/(Y$17:Y164<>\"\"), Y$17:Y164), Y165))","v":0},null,null,null,null,53,"",null,null,{"$f":"IF(AH166=\"\", 0, AH166 - IF(AH165=\"\", LOOKUP(2, 1/(AH$17:AH164<>\"\"), AH$17:AH164), AH165))","v":0},null,null,null,null,53,"",null,null,{"$f":"IF(AQ166=\"\", 0, AQ166 - IF(AQ165=\"\", LOOKUP(2, 1/(AQ$17:AQ164<>\"\"), AQ$17:AQ164), AQ165))","v":0},null,null,null,null,53,"",null,null,{"$f":"IF(AZ166=\"\", 0, AZ166 - IF(AZ165=\"\", LOOKUP(2, 1/(AZ$17:AZ164<>\"\"), AZ$17:AZ164), AZ165))","v":0},null,null,null,null,53,"",null,null,{"$f":"IF(BI166=\"\", 0, BI166 - IF(BI165=\"\", LOOKUP(2, 1/(BI$17:BI164<>\"\"), BI$17:BI164), BI165))","v":0},null,null,null,null,53,"",null,null,{"$f":"IF(BR166=\"\", 0, BR166 - IF(BR165=\"\", LOOKUP(2, 1/(BR$17:BR164<>\"\"), BR$17:BR164), BR165))","v":0},null,null,null,null,53,"",null,null,{"$f":"IF(CA166=\"\", 0, CA166 - IF(CA165=\"\", LOOKUP(2, 1/(CA$17:CA164<>\"\"), CA$17:CA164), CA165))","v":0},null,null,null,null,53,"",null,null,{"$f":"IF(CJ166=\"\", 0, CJ166 - IF(CJ165=\"\", LOOKUP(2, 1/(CJ$17:CJ164<>\"\"), CJ$17:CJ164), CJ165))","v":0},null,null,null,null,53,"",null,null,{"$f":"IF(CS166=\"\", 0, CS166 - IF(CS165=\"\", LOOKUP(2, 1/(CS$17:CS164<>\"\"), CS$17:CS164), CS165))","v":0},null,null,null,null,53,"",null,null,{"$f":"IF(DB166=\"\", 0, DB166 - IF(DB165=\"\", LOOKUP(2, 1/(DB$17:DB164<>\"\"), DB$17:DB164), DB165))","v":0},null,null,null,null,53,"",null,null,{"$f":"IF(DK166=\"\", 0, DK166 - IF(DK165=\"\", LOOKUP(2, 1/(DK$17:DK164<>\"\"), DK$17:DK164), DK165))","v":0},null,null,null,null,53,"",null,null,{"$f":"IF(DT166=\"\", 0, DT166 - IF(DT165=\"\", LOOKUP(2, 1/(DT$17:DT164<>\"\"), DT$17:DT164), DT165))","v":0},null,null,null,null,53,"",null,null,{"$f":"IF(EC166=\"\", 0, EC166 - IF(EC165=\"\", LOOKUP(2, 1/(EC$17:EC164<>\"\"), EC$17:EC164), EC165))","v":0},null,null,null,null,53,"",null,null,{"$f":"IF(EL166=\"\", 0, EL166 - IF(EL165=\"\", LOOKUP(2, 1/(EL$17:EL164<>\"\"), EL$17:EL164), EL165))","v":0},null,null,null,null,53,"",null,null,{"$f":"IF(EU166=\"\", 0, EU166 - IF(EU165=\"\", LOOKUP(2, 1/(EU$17:EU164<>\"\"), EU$17:EU164), EU165))","v":0},null,null,null,null,53,"",null,null,{"$f":"IF(FD166=\"\", 0, FD166 - IF(FD165=\"\", LOOKUP(2, 1/(FD$17:FD164<>\"\"), FD$17:FD164), FD165))","v":0},null,null,null,null,53,"",null,null,{"$f":"IF(FM166=\"\", 0, FM166 - IF(FM165=\"\", LOOKUP(2, 1/(FM$17:FM164<>\"\"), FM$17:FM164), FM165))","v":0},null,null,null,null,53,"",null,null,{"$f":"IF(FV166=\"\", 0, FV166 - IF(FV165=\"\", LOOKUP(2, 1/(FV$17:FV164<>\"\"), FV$17:FV164), FV165))","v":0},null,null,null,null,53,"",null,null,{"$f":"IF(GE166=\"\", 0, GE166 - IF(GE165=\"\", LOOKUP(2, 1/(GE$17:GE164<>\"\"), GE$17:GE164), GE165))","v":0},null,null,null,null,53,"",null,null,{"$f":"IF(GN166=\"\", 0, GN166 - IF(GN165=\"\", LOOKUP(2, 1/(GN$17:GN164<>\"\"), GN$17:GN164), GN165))","v":0},null,null,null,null,53,"",null,null,{"$f":"IF(GW166=\"\", 0, GW166 - IF(GW165=\"\", LOOKUP(2, 1/(GW$17:GW164<>\"\"), GW$17:GW164), GW165))","v":0},null,null,null,null,53,"",null,null,{"$f":"IF(HF166=\"\", 0, HF166 - IF(HF165=\"\", LOOKUP(2, 1/(HF$17:HF164<>\"\"), HF$17:HF164), HF165))","v":0},null,null,null,null,53,"",null,null,{"$f":"IF(HO166=\"\", 0, HO166 - IF(HO165=\"\", LOOKUP(2, 1/(HO$17:HO164<>\"\"), HO$17:HO164), HO165))","v":0},null,null,null,null,53,"",null,null,{"$f":"IF(HX166=\"\", 0, HX166 - IF(HX165=\"\", LOOKUP(2, 1/(HX$17:HX164<>\"\"), HX$17:HX164), HX165))","v":0},null,null,null,null,53,"",null,null,{"$f":"IF(IG166=\"\", 0, IG166 - IF(IG165=\"\", LOOKUP(2, 1/(IG$17:IG164<>\"\"), IG$17:IG164), IG165))","v":0},null,null,null,null,53,"",null,null,{"$f":"IF(IP166=\"\", 0, IP166 - IF(IP165=\"\", LOOKUP(2, 1/(IP$17:IP164<>\"\"), IP$17:IP164), IP165))","v":0},null,null,null,null,53,"",null,null,{"$f":"IF(IY166=\"\", 0, IY166 - IF(IY165=\"\", LOOKUP(2, 1/(IY$17:IY164<>\"\"), IY$17:IY164), IY165))","v":0},null,null,null,null,53,"",null,null,{"$f":"IF(JH166=\"\", 0, JH166 - IF(JH165=\"\", LOOKUP(2, 1/(JH$17:JH164<>\"\"), JH$17:JH164), JH165))","v":0},null,null,null,null,53,"",null,null,{"$f":"IF(JQ166=\"\", 0, JQ166 - IF(JQ165=\"\", LOOKUP(2, 1/(JQ$17:JQ164<>\"\"), JQ$17:JQ164), JQ165))","v":0},null,null,null,null,53,"",null,null,{"$f":"IF(JZ166=\"\", 0, JZ166 - IF(JZ165=\"\", LOOKUP(2, 1/(JZ$17:JZ164<>\"\"), JZ$17:JZ164), JZ165))","v":0},null,null,null,null,53,"",null,null,{"$f":"IF(KI166=\"\", 0, KI166 - IF(KI165=\"\", LOOKUP(2, 1/(KI$17:KI164<>\"\"), KI$17:KI164), KI165))","v":0},null,null,null,null,53,"",null,null,{"$f":"IF(KR166=\"\", 0, KR166 - IF(KR165=\"\", LOOKUP(2, 1/(KR$17:KR164<>\"\"), KR$17:KR164), KR165))","v":0},null,null,null,null,53,"",null,null,{"$f":"IF(LA166=\"\", 0, LA166 - IF(LA165=\"\", LOOKUP(2, 1/(LA$17:LA164<>\"\"), LA$17:LA164), LA165))","v":0},null,null,null,null,53,"",null,null,{"$f":"IF(LJ166=\"\", 0, LJ166 - IF(LJ165=\"\", LOOKUP(2, 1/(LJ$17:LJ164<>\"\"), LJ$17:LJ164), LJ165))","v":0},null,null,null,null,53,"",null,null,{"$f":"IF(LS166=\"\", 0, LS166 - IF(LS165=\"\", LOOKUP(2, 1/(LS$17:LS164<>\"\"), LS$17:LS164), LS165))","v":0},null,null,null,null,53,"",null,null,{"$f":"IF(MB166=\"\", 0, MB166 - IF(MB165=\"\", LOOKUP(2, 1/(MB$17:MB164<>\"\"), MB$17:MB164), MB165))","v":0},null,null,null,null,53,"",null,null,{"$f":"IF(MK166=\"\", 0, MK166 - IF(MK165=\"\", LOOKUP(2, 1/(MK$17:MK164<>\"\"), MK$17:MK164), MK165))","v":0},null,null,null,null,53,"",null,null,{"$f":"IF(MT166=\"\", 0, MT166 - IF(MT165=\"\", LOOKUP(2, 1/(MT$17:MT164<>\"\"), MT$17:MT164), MT165))","v":0},null,null,53,"",null,null,{"$f":"IF(NA166=\"\", 0, NA166 - IF(NA165=\"\", LOOKUP(2, 1/(NA$17:NA164<>\"\"), NA$17:NA164), NA165))","v":0},null,null,null,null,53,"",null,null,{"$f":"IF(NJ166=\"\", 0, NJ166 - IF(NJ165=\"\", LOOKUP(2, 1/(NJ$17:NJ164<>\"\"), NJ$17:NJ164), NJ165))","v":0},null,null,null,null,53,"",null,null,{"$f":"IF(NS166=\"\", 0, NS166 - IF(NS165=\"\", LOOKUP(2, 1/(NS$17:NS164<>\"\"), NS$17:NS164), NS165))","v":0},null,null,null,null,53,"",null,null,{"$f":"IF(OB166=\"\", 0, OB166 - IF(OB165=\"\", LOOKUP(2, 1/(OB$17:OB164<>\"\"), OB$17:OB164), OB165))","v":0},null,null,null,null,53,"",null,null,{"$f":"IF(OK166=\"\", 0, OK166 - IF(OK165=\"\", LOOKUP(2, 1/(OK$17:OK164<>\"\"), OK$17:OK164), OK165))","v":0},null,null,null,null,53,"",null,null,{"$f":"IF(OT166=\"\", 0, OT166 - IF(OT165=\"\", LOOKUP(2, 1/(OT$17:OT164<>\"\"), OT$17:OT164), OT165))","v":0},null,null,null,null,53,"",null,null,{"$f":"IF(PC166=\"\", 0, PC166 - IF(PC165=\"\", LOOKUP(2, 1/(PC$17:PC164<>\"\"), PC$17:PC164), PC165))","v":0},null,null,null,null,53,"",null,null,{"$f":"IF(PL166=\"\", 0, PL166 - IF(PL165=\"\", LOOKUP(2, 1/(PL$17:PL164<>\"\"), PL$17:PL164), PL165))","v":0},null,null,null,null,53,"",null,null,{"$f":"IF(PU166=\"\", 0, PU166 - IF(PU165=\"\", LOOKUP(2, 1/(PU$17:PU164<>\"\"), PU$17:PU164), PU165))","v":0},null,null,null,null,53,"",null,null,{"$f":"IF(QD166=\"\", 0, QD166 - IF(QD165=\"\", LOOKUP(2, 1/(QD$17:QD164<>\"\"), QD$17:QD164), QD165))","v":0}]
[null,null,null,52,"",null,null,{"$f":"IF(G167=\"\", 0, G167 - IF(G166=\"\", LOOKUP(2, 1/(G$17:G165<>\"\"), G$17:G165), G166))","v":0},null,null,null,null,52,"",null,null,{"$f":"IF(P167=\"\", 0, P167 - IF(P166=\"\", LOOKUP(2, 1/(P$17:P165<>\"\"), P$17:P165), P166))","v":0},null,null,null,null,52,"",null,null,{"$f":"IF(Y167=\"\", 0, Y167 - IF(Y166=\"\", LOOKUP(2, 1/(Y$17:Y165<>\"\"), Y$17:Y165), Y166))","v":0},null,null,null,null,52,"",null,null,{"$f":"IF(AH167=\"\", 0, AH167 - IF(AH166=\"\", LOOKUP(2, 1/(AH$17:AH165<>\"\"), AH$17:AH165), AH166))","v":0},null,null,null,null,52,"",null,null,{"$f":"IF(AQ167=\"\", 0, AQ167 - IF(AQ166=\"\", LOOKUP(2, 1/(AQ$17:AQ165<>\"\"), AQ$17:AQ165), AQ166))","v":0},null,null,null,null,52,"",null,null,{"$f":"IF(AZ167=\"\", 0, AZ167 - IF(AZ166=\"\", LOOKUP(2, 1/(AZ$17:AZ165<>\"\"), AZ$17:AZ165), AZ166))","v":0},null,null,null,null,52,"",null,null,{"$f":"IF(BI167=\"\", 0, BI167 - IF(BI166=\"\", LOOKUP(2, 1/(BI$17:BI165<>\"\"), BI$17:BI165), BI166))","v":0},null,null,null,null,52,"",null,null,{"$f":"IF(BR167=\"\", 0, BR167 - IF(BR166=\"\", LOOKUP(2, 1/(BR$17:BR165<>\"\"), BR$17:BR165), BR166))","v":0},null,null,null,null,52,"",null,null,{"$f":"IF(CA167=\"\", 0, CA167 - IF(CA166=\"\", LOOKUP(2, 1/(CA$17:CA165<>\"\"), CA$17:CA165), CA166))","v":0},null,null,null,null,52,"",null,null,{"$f":"IF(CJ167=\"\", 0, CJ167 - IF(CJ166=\"\", LOOKUP(2, 1/(CJ$17:CJ165<>\"\"), CJ$17:CJ165), CJ166))","v":0},null,null,null,null,52,"",null,null,{"$f":"IF(CS167=\"\", 0, CS167 - IF(CS166=\"\", LOOKUP(2, 1/(CS$17:CS165<>\"\"), CS$17:CS165), CS166))","v":0},null,null,null,null,52,"",null,null,{"$f":"IF(DB167=\"\", 0, DB167 - IF(DB166=\"\", LOOKUP(2, 1/(DB$17:DB165<>\"\"), DB$17:DB165), DB166))","v":0},null,null,null,null,52,"",null,null,{"$f":"IF(DK167=\"\", 0, DK167 - IF(DK166=\"\", LOOKUP(2, 1/(DK$17:DK165<>\"\"), DK$17:DK165), DK166))","v":0},null,null,null,null,52,"",null,null,{"$f":"IF(DT167=\"\", 0, DT167 - IF(DT166=\"\", LOOKUP(2, 1/(DT$17:DT165<>\"\"), DT$17:DT165), DT166))","v":0},null,null,null,null,52,"",null,null,{"$f":"IF(EC167=\"\", 0, EC167 - IF(EC166=\"\", LOOKUP(2, 1/(EC$17:EC165<>\"\"), EC$17:EC165), EC166))","v":0},null,null,null,null,52,"",null,null,{"$f":"IF(EL167=\"\", 0, EL167 - IF(EL166=\"\", LOOKUP(2, 1/(EL$17:EL165<>\"\"), EL$17:EL165), EL166))","v":0},null,null,null,null,52,"",null,null,{"$f":"IF(EU167=\"\", 0, EU167 - IF(EU166=\"\", LOOKUP(2, 1/(EU$17:EU165<>\"\"), EU$17:EU165), EU166))","v":0},null,null,null,null,52,"",null,null,{"$f":"IF(FD167=\"\", 0, FD167 - IF(FD166=\"\", LOOKUP(2, 1/(FD$17:FD165<>\"\"), FD$17:FD165), FD166))","v":0},null,null,null,null,52,"",null,null,{"$f":"IF(FM167=\"\", 0, FM167 - IF(FM166=\"\", LOOKUP(2, 1/(FM$17:FM165<>\"\"), FM$17:FM165), FM166))","v":0},null,null,null,null,52,"",null,null,{"$f":"IF(FV167=\"\", 0, FV167 - IF(FV166=\"\", LOOKUP(2, 1/(FV$17:FV165<>\"\"), FV$17:FV165), FV166))","v":0},null,null,null,null,52,"",null,null,{"$f":"IF(GE167=\"\", 0, GE167 - IF(GE166=\"\", LOOKUP(2, 1/(GE$17:GE165<>\"\"), GE$17:GE165), GE166))","v":0},null,null,null,null,52,"",null,null,{"$f":"IF(GN167=\"\", 0, GN167 - IF(GN166=\"\", LOOKUP(2, 1/(GN$17:GN165<>\"\"), GN$17:GN165), GN166))","v":0},null,null,null,null,52,"",null,null,{"$f":"IF(GW167=\"\", 0, GW167 - IF(GW166=\"\", LOOKUP(2, 1/(GW$17:GW165<>\"\"), GW$17:GW165), GW166))","v":0},null,null,null,null,52,"",null,null,{"$f":"IF(HF167=\"\", 0, HF167 - IF(HF166=\"\", LOOKUP(2, 1/(HF$17:HF165<>\"\"), HF$17:HF165), HF166))","v":0},null,null,null,null,52,"",null,null,{"$f":"IF(HO167=\"\", 0, HO167 - IF(HO166=\"\", LOOKUP(2, 1/(HO$17:HO165<>\"\"), HO$17:HO165), HO166))","v":0},null,null,null,null,52,"",null,null,{"$f":"IF(HX167=\"\", 0, HX167 - IF(HX166=\"\", LOOKUP(2, 1/(HX$17:HX165<>\"\"), HX$17:HX165), HX166))","v":0},null,null,null,null,52,"",null,null,{"$f":"IF(IG167=\"\", 0, IG167 - IF(IG166=\"\", LOOKUP(2, 1/(IG$17:IG165<>\"\"), IG$17:IG165), IG166))","v":0},null,null,null,null,52,"",null,null,{"$f":"IF(IP167=\"\", 0, IP167 - IF(IP166=\"\", LOOKUP(2, 1/(IP$17:IP165<>\"\"), IP$17:IP165), IP166))","v":0},null,null,null,null,52,"",null,null,{"$f":"IF(IY167=\"\", 0, IY167 - IF(IY166=\"\", LOOKUP(2, 1/(IY$17:IY165<>\"\"), IY$17:IY165), IY166))","v":0},null,null,null,null,52,"",null,null,{"$f":"IF(JH167=\"\", 0, JH167 - IF(JH166=\"\", LOOKUP(2, 1/(JH$17:JH165<>\"\"), JH$17:JH165), JH166))","v":0},null,null,null,null,52,"",null,null,{"$f":"IF(JQ167=\"\", 0, JQ167 - IF(JQ166=\"\", LOOKUP(2, 1/(JQ$17:JQ165<>\"\"), JQ$17:JQ165), JQ166))","v":0},null,null,null,null,52,"",null,null,{"$f":"IF(JZ167=\"\", 0, JZ167 - IF(JZ166=\"\", LOOKUP(2, 1/(JZ$17:JZ165<>\"\"), JZ$17:JZ165), JZ166))","v":0},null,null,null,null,52,"",null,null,{"$f":"IF(KI167=\"\", 0, KI167 - IF(KI166=\"\", LOOKUP(2, 1/(KI$17:KI165<>\"\"), KI$17:KI165), KI166))","v":0},null,null,null,null,52,"",null,null,{"$f":"IF(KR167=\"\", 0, KR167 - IF(KR166=\"\", LOOKUP(2, 1/(KR$17:KR165<>\"\"), KR$17:KR165), KR166))","v":0},null,null,null,null,52,"",null,null,{"$f":"IF(LA167=\"\", 0, LA167 - IF(LA166=\"\", LOOKUP(2, 1/(LA$17:LA165<>\"\"), LA$17:LA165), LA166))","v":0},null,null,null,null,52,"",null,null,{"$f":"IF(LJ167=\"\", 0, LJ167 - IF(LJ166=\"\", LOOKUP(2, 1/(LJ$17:LJ165<>\"\"), LJ$17:LJ165), LJ166))","v":0},null,null,null,null,52,"",null,null,{"$f":"IF(LS167=\"\", 0, LS167 - IF(LS166=\"\", LOOKUP(2, 1/(LS$17:LS165<>\"\"), LS$17:LS165), LS166))","v":0},null,null,null,null,52,"",null,null,{"$f":"IF(MB167=\"\", 0, MB167 - IF(MB166=\"\", LOOKUP(2, 1/(MB$17:MB165<>\"\"), MB$17:MB165), MB166))","v":0},null,null,null,null,52,"",null,null,{"$f":"IF(MK167=\"\", 0, MK167 - IF(MK166=\"\", LOOKUP(2, 1/(MK$17:MK165<>\"\"), MK$17:MK165), MK166))","v":0},null,null,null,null,52,"",null,null,{"$f":"IF(MT167=\"\", 0, MT167 - IF(MT166=\"\", LOOKUP(2, 1/(MT$17:MT165<>\"\"), MT$17:MT165), MT166))","v":0},null,null,52,"",null,null,{"$f":"IF(NA167=\"\", 0, NA167 - IF(NA166=\"\", LOOKUP(2, 1/(NA$17:NA165<>\"\"), NA$17:NA165), NA166))","v":0},null,null,null,null,52,"",null,null,{"$f":"IF(NJ167=\"\", 0, NJ167 - IF(NJ166=\"\", LOOKUP(2, 1/(NJ$17:NJ165<>\"\"), NJ$17:NJ165), NJ166))","v":0},null,null,null,null,52,"",null,null,{"$f":"IF(NS167=\"\", 0, NS167 - IF(NS166=\"\", LOOKUP(2, 1/(NS$17:NS165<>\"\"), NS$17:NS165), NS166))","v":0},null,null,null,null,52,"",null,null,{"$f":"IF(OB167=\"\", 0, OB167 - IF(OB166=\"\", LOOKUP(2, 1/(OB$17:OB165<>\"\"), OB$17:OB165), OB166))","v":0},null,null,null,null,52,"",null,null,{"$f":"IF(OK167=\"\", 0, OK167 - IF(OK166=\"\", LOOKUP(2, 1/(OK$17:OK165<>\"\"), OK$17:OK165), OK166))","v":0},null,null,null,null,52,"",null,null,{"$f":"IF(OT167=\"\", 0, OT167 - IF(OT166=\"\", LOOKUP(2, 1/(OT$17:OT165<>\"\"), OT$17:OT165), OT166))","v":0},null,null,null,null,52,"",null,null,{"$f":"IF(PC167=\"\", 0, PC167 - IF(PC166=\"\", LOOKUP(2, 1/(PC$17:PC165<>\"\"), PC$17:PC165), PC166))","v":0},null,null,null,null,52,"",null,null,{"$f":"IF(PL167=\"\", 0, PL167 - IF(PL166=\"\", LOOKUP(2, 1/(PL$17:PL165<>\"\"), PL$17:PL165), PL166))","v":0},null,null,null,null,52,"",null,null,{"$f":"IF(PU167=\"\", 0, PU167 - IF(PU166=\"\", LOOKUP(2, 1/(PU$17:PU165<>\"\"), PU$17:PU165), PU166))","v":0},null,null,null,null,52,"",null,null,{"$f":"IF(QD167=\"\", 0, QD167 - IF(QD166=\"\", LOOKUP(2, 1/(QD$17:QD165<>\"\"), QD$17:QD165), QD166))","v":0}]
[null,null,null,51,"",null,null,{"$f":"IF(G168=\"\", 0, G168 - IF(G167=\"\", LOOKUP(2, 1/(G$17:G166<>\"\"), G$17:G166), G167))","v":0},null,null,null,null,51,"",null,null,{"$f":"IF(P168=\"\", 0, P168 - IF(P167=\"\", LOOKUP(2, 1/(P$17:P166<>\"\"), P$17:P166), P167))","v":0},null,null,null,null,51,"",null,null,{"$f":"IF(Y168=\"\", 0, Y168 - IF(Y167=\"\", LOOKUP(2, 1/(Y$17:Y166<>\"\"), Y$17:Y166), Y167))","v":0},null,null,null,null,51,"",null,null,{"$f":"IF(AH168=\"\", 0, AH168 - IF(AH167=\"\", LOOKUP(2, 1/(AH$17:AH166<>\"\"), AH$17:AH166), AH167))","v":0},null,null,null,null,51,"",null,null,{"$f":"IF(AQ168=\"\", 0, AQ168 - IF(AQ167=\"\", LOOKUP(2, 1/(AQ$17:AQ166<>\"\"), AQ$17:AQ166), AQ167))","v":0},null,null,null,null,51,"",null,null,{"$f":"IF(AZ168=\"\", 0, AZ168 - IF(AZ167=\"\", LOOKUP(2, 1/(AZ$17:AZ166<>\"\"), AZ$17:AZ166), AZ167))","v":0},null,null,null,null,51,"",null,null,{"$f":"IF(BI168=\"\", 0, BI168 - IF(BI167=\"\", LOOKUP(2, 1/(BI$17:BI166<>\"\"), BI$17:BI166), BI167))","v":0},null,null,null,null,51,"",null,null,{"$f":"IF(BR168=\"\", 0, BR168 - IF(BR167=\"\", LOOKUP(2, 1/(BR$17:BR166<>\"\"), BR$17:BR166), BR167))","v":0},null,null,null,null,51,"",null,null,{"$f":"IF(CA168=\"\", 0, CA168 - IF(CA167=\"\", LOOKUP(2, 1/(CA$17:CA166<>\"\"), CA$17:CA166), CA167))","v":0},null,null,null,null,51,"",null,null,{"$f":"IF(CJ168=\"\", 0, CJ168 - IF(CJ167=\"\", LOOKUP(2, 1/(CJ$17:CJ166<>\"\"), CJ$17:CJ166), CJ167))","v":0},null,null,null,null,51,"",null,null,{"$f":"IF(CS168=\"\", 0, CS168 - IF(CS167=\"\", LOOKUP(2, 1/(CS$17:CS166<>\"\"), CS$17:CS166), CS167))","v":0},null,null,null,null,51,"",null,null,{"$f":"IF(DB168=\"\", 0, DB168 - IF(DB167=\"\", LOOKUP(2, 1/(DB$17:DB166<>\"\"), DB$17:DB166), DB167))","v":0},null,null,null,null,51,"",null,null,{"$f":"IF(DK168=\"\", 0, DK168 - IF(DK167=\"\", LOOKUP(2, 1/(DK$17:DK166<>\"\"), DK$17:DK166), DK167))","v":0},null,null,null,null,51,"",null,null,{"$f":"IF(DT168=\"\", 0, DT168 - IF(DT167=\"\", LOOKUP(2, 1/(DT$17:DT166<>\"\"), DT$17:DT166), DT167))","v":0},null,null,null,null,51,"",null,null,{"$f":"IF(EC168=\"\", 0, EC168 - IF(EC167=\"\", LOOKUP(2, 1/(EC$17:EC166<>\"\"), EC$17:EC166), EC167))","v":0},null,null,null,null,51,"",null,null,{"$f":"IF(EL168=\"\", 0, EL168 - IF(EL167=\"\", LOOKUP(2, 1/(EL$17:EL166<>\"\"), EL$17:EL166), EL167))","v":0},null,null,null,null,51,"",null,null,{"$f":"IF(EU168=\"\", 0, EU168 - IF(EU167=\"\", LOOKUP(2, 1/(EU$17:EU166<>\"\"), EU$17:EU166), EU167))","v":0},null,null,null,null,51,"",null,null,{"$f":"IF(FD168=\"\", 0, FD168 - IF(FD167=\"\", LOOKUP(2, 1/(FD$17:FD166<>\"\"), FD$17:FD166), FD167))","v":0},null,null,null,null,51,"",null,null,{"$f":"IF(FM168=\"\", 0, FM168 - IF(FM167=\"\", LOOKUP(2, 1/(FM$17:FM166<>\"\"), FM$17:FM166), FM167))","v":0},null,null,null,null,51,"",null,null,{"$f":"IF(FV168=\"\", 0, FV168 - IF(FV167=\"\", LOOKUP(2, 1/(FV$17:FV166<>\"\"), FV$17:FV166), FV167))","v":0},null,null,null,null,51,"",null,null,{"$f":"IF(GE168=\"\", 0, GE168 - IF(GE167=\"\", LOOKUP(2, 1/(GE$17:GE166<>\"\"), GE$17:GE166), GE167))","v":0},null,null,null,null,51,"",null,null,{"$f":"IF(GN168=\"\", 0, GN168 - IF(GN167=\"\", LOOKUP(2, 1/(GN$17:GN166<>\"\"), GN$17:GN166), GN167))","v":0},null,null,null,null,51,"",null,null,{"$f":"IF(GW168=\"\", 0, GW168 - IF(GW167=\"\", LOOKUP(2, 1/(GW$17:GW166<>\"\"), GW$17:GW166), GW167))","v":0},null,null,null,null,51,"",null,null,{"$f":"IF(HF168=\"\", 0, HF168 - IF(HF167=\"\", LOOKUP(2, 1/(HF$17:HF166<>\"\"), HF$17:HF166), HF167))","v":0},null,null,null,null,51,"",null,null,{"$f":"IF(HO168=\"\", 0, HO168 - IF(HO167=\"\", LOOKUP(2, 1/(HO$17:HO166<>\"\"), HO$17:HO166), HO167))","v":0},null,null,null,null,51,"",null,null,{"$f":"IF(HX168=\"\", 0, HX168 - IF(HX167=\"\", LOOKUP(2, 1/(HX$17:HX166<>\"\"), HX$17:HX166), HX167))","v":0},null,null,null,null,51,"",null,null,{"$f":"IF(IG168=\"\", 0, IG168 - IF(IG167=\"\", LOOKUP(2, 1/(IG$17:IG166<>\"\"), IG$17:IG166), IG167))","v":0},null,null,null,null,51,"",null,null,{"$f":"IF(IP168=\"\", 0, IP168 - IF(IP167=\"\", LOOKUP(2, 1/(IP$17:IP166<>\"\"), IP$17:IP166), IP167))","v":0},null,null,null,null,51,"",null,null,{"$f":"IF(IY168=\"\", 0, IY168 - IF(IY167=\"\", LOOKUP(2, 1/(IY$17:IY166<>\"\"), IY$17:IY166), IY167))","v":0},null,null,null,null,51,"",null,null,{"$f":"IF(JH168=\"\", 0, JH168 - IF(JH167=\"\", LOOKUP(2, 1/(JH$17:JH166<>\"\"), JH$17:JH166), JH167))","v":0},null,null,null,null,51,"",null,null,{"$f":"IF(JQ168=\"\", 0, JQ168 - IF(JQ167=\"\", LOOKUP(2, 1/(JQ$17:JQ166<>\"\"), JQ$17:JQ166), JQ167))","v":0},null,null,null,null,51,"",null,null,{"$f":"IF(JZ168=\"\", 0, JZ168 - IF(JZ167=\"\", LOOKUP(2, 1/(JZ$17:JZ166<>\"\"), JZ$17:JZ166), JZ167))","v":0},null,null,null,null,51,"",null,null,{"$f":"IF(KI168=\"\", 0, KI168 - IF(KI167=\"\", LOOKUP(2, 1/(KI$17:KI166<>\"\"), KI$17:KI166), KI167))","v":0},null,null,null,null,51,"",null,null,{"$f":"IF(KR168=\"\", 0, KR168 - IF(KR167=\"\", LOOKUP(2, 1/(KR$17:KR166<>\"\"), KR$17:KR166), KR167))","v":0},null,null,null,null,51,"",null,null,{"$f":"IF(LA168=\"\", 0, LA168 - IF(LA167=\"\", LOOKUP(2, 1/(LA$17:LA166<>\"\"), LA$17:LA166), LA167))","v":0},null,null,null,null,51,"",null,null,{"$f":"IF(LJ168=\"\", 0, LJ168 - IF(LJ167=\"\", LOOKUP(2, 1/(LJ$17:LJ166<>\"\"), LJ$17:LJ166), LJ167))","v":0},null,null,null,null,51,"",null,null,{"$f":"IF(LS168=\"\", 0, LS168 - IF(LS167=\"\", LOOKUP(2, 1/(LS$17:LS166<>\"\"), LS$17:LS166), LS167))","v":0},null,null,null,null,51,"",null,null,{"$f":"IF(MB168=\"\", 0, MB168 - IF(MB167=\"\", LOOKUP(2, 1/(MB$17:MB166<>\"\"), MB$17:MB166), MB167))","v":0},null,null,null,null,51,"",null,null,{"$f":"IF(MK168=\"\", 0, MK168 - IF(MK167=\"\", LOOKUP(2, 1/(MK$17:MK166<>\"\"), MK$17:MK166), MK167))","v":0},null,null,null,null,51,"",null,null,{"$f":"IF(MT168=\"\", 0, MT168 - IF(MT167=\"\", LOOKUP(2, 1/(MT$17:MT166<>\"\"), MT$17:MT166), MT167))","v":0},null,null,51,"",null,null,{"$f":"IF(NA168=\"\", 0, NA168 - IF(NA167=\"\", LOOKUP(2, 1/(NA$17:NA166<>\"\"), NA$17:NA166), NA167))","v":0},null,null,null,null,51,"",null,null,{"$f":"IF(NJ168=\"\", 0, NJ168 - IF(NJ167=\"\", LOOKUP(2, 1/(NJ$17:NJ166<>\"\"), NJ$17:NJ166), NJ167))","v":0},null,null,null,null,51,"",null,null,{"$f":"IF(NS168=\"\", 0, NS168 - IF(NS167=\"\", LOOKUP(2, 1/(NS$17:NS166<>\"\"), NS$17:NS166), NS167))","v":0},null,null,null,null,51,"",null,null,{"$f":"IF(OB168=\"\", 0, OB168 - IF(OB167=\"\", LOOKUP(2, 1/(OB$17:OB166<>\"\"), OB$17:OB166), OB167))","v":0},null,null,null,null,51,"",null,null,{"$f":"IF(OK168=\"\", 0, OK168 - IF(OK167=\"\", LOOKUP(2, 1/(OK$17:OK166<>\"\"), OK$17:OK166), OK167))","v":0},null,null,null,null,51,"",null,null,{"$f":"IF(OT168=\"\", 0, OT168 - IF(OT167=\"\", LOOKUP(2, 1/(OT$17:OT166<>\"\"), OT$17:OT166), OT167))","v":0},null,null,null,null,51,"",null,null,{"$f":"IF(PC168=\"\", 0, PC168 - IF(PC167=\"\", LOOKUP(2, 1/(PC$17:PC166<>\"\"), PC$17:PC166), PC167))","v":0},null,null,null,null,51,"",null,null,{"$f":"IF(PL168=\"\", 0, PL168 - IF(PL167=\"\", LOOKUP(2, 1/(PL$17:PL166<>\"\"), PL$17:PL166), PL167))","v":0},null,null,null,null,51,"",null,null,{"$f":"IF(PU168=\"\", 0, PU168 - IF(PU167=\"\", LOOKUP(2, 1/(PU$17:PU166<>\"\"), PU$17:PU166), PU167))","v":0},null,null,null,null,51,"",null,null,{"$f":"IF(QD168=\"\", 0, QD168 - IF(QD167=\"\", LOOKUP(2, 1/(QD$17:QD166<>\"\"), QD$17:QD166), QD167))","v":0}]
[null,null,null,50,"",null,null,{"$f":"IF(G169=\"\", 0, G169 - IF(G168=\"\", LOOKUP(2, 1/(G$17:G167<>\"\"), G$17:G167), G168))","v":0},null,null,null,null,50,"",null,null,{"$f":"IF(P169=\"\", 0, P169 - IF(P168=\"\", LOOKUP(2, 1/(P$17:P167<>\"\"), P$17:P167), P168))","v":0},null,null,null,null,50,"",null,null,{"$f":"IF(Y169=\"\", 0, Y169 - IF(Y168=\"\", LOOKUP(2, 1/(Y$17:Y167<>\"\"), Y$17:Y167), Y168))","v":0},null,null,null,null,50,"",null,null,{"$f":"IF(AH169=\"\", 0, AH169 - IF(AH168=\"\", LOOKUP(2, 1/(AH$17:AH167<>\"\"), AH$17:AH167), AH168))","v":0},null,null,null,null,50,"",null,null,{"$f":"IF(AQ169=\"\", 0, AQ169 - IF(AQ168=\"\", LOOKUP(2, 1/(AQ$17:AQ167<>\"\"), AQ$17:AQ167), AQ168))","v":0},null,null,null,null,50,"",null,null,{"$f":"IF(AZ169=\"\", 0, AZ169 - IF(AZ168=\"\", LOOKUP(2, 1/(AZ$17:AZ167<>\"\"), AZ$17:AZ167), AZ168))","v":0},null,null,null,null,50,"",null,null,{"$f":"IF(BI169=\"\", 0, BI169 - IF(BI168=\"\", LOOKUP(2, 1/(BI$17:BI167<>\"\"), BI$17:BI167), BI168))","v":0},null,null,null,null,50,"",null,null,{"$f":"IF(BR169=\"\", 0, BR169 - IF(BR168=\"\", LOOKUP(2, 1/(BR$17:BR167<>\"\"), BR$17:BR167), BR168))","v":0},null,null,null,null,50,"",null,null,{"$f":"IF(CA169=\"\", 0, CA169 - IF(CA168=\"\", LOOKUP(2, 1/(CA$17:CA167<>\"\"), CA$17:CA167), CA168))","v":0},null,null,null,null,50,"",null,null,{"$f":"IF(CJ169=\"\", 0, CJ169 - IF(CJ168=\"\", LOOKUP(2, 1/(CJ$17:CJ167<>\"\"), CJ$17:CJ167), CJ168))","v":0},null,null,null,null,50,"",null,null,{"$f":"IF(CS169=\"\", 0, CS169 - IF(CS168=\"\", LOOKUP(2, 1/(CS$17:CS167<>\"\"), CS$17:CS167), CS168))","v":0},null,null,null,null,50,"",null,null,{"$f":"IF(DB169=\"\", 0, DB169 - IF(DB168=\"\", LOOKUP(2, 1/(DB$17:DB167<>\"\"), DB$17:DB167), DB168))","v":0},null,null,null,null,50,"",null,null,{"$f":"IF(DK169=\"\", 0, DK169 - IF(DK168=\"\", LOOKUP(2, 1/(DK$17:DK167<>\"\"), DK$17:DK167), DK168))","v":0},null,null,null,null,50,"",null,null,{"$f":"IF(DT169=\"\", 0, DT169 - IF(DT168=\"\", LOOKUP(2, 1/(DT$17:DT167<>\"\"), DT$17:DT167), DT168))","v":0},null,null,null,null,50,"",null,null,{"$f":"IF(EC169=\"\", 0, EC169 - IF(EC168=\"\", LOOKUP(2, 1/(EC$17:EC167<>\"\"), EC$17:EC167), EC168))","v":0},null,null,null,null,50,"",null,null,{"$f":"IF(EL169=\"\", 0, EL169 - IF(EL168=\"\", LOOKUP(2, 1/(EL$17:EL167<>\"\"), EL$17:EL167), EL168))","v":0},null,null,null,null,50,"",null,null,{"$f":"IF(EU169=\"\", 0, EU169 - IF(EU168=\"\", LOOKUP(2, 1/(EU$17:EU167<>\"\"), EU$17:EU167), EU168))","v":0},null,null,null,null,50,"",null,null,{"$f":"IF(FD169=\"\", 0, FD169 - IF(FD168=\"\", LOOKUP(2, 1/(FD$17:FD167<>\"\"), FD$17:FD167), FD168))","v":0},null,null,null,null,50,"",null,null,{"$f":"IF(FM169=\"\", 0, FM169 - IF(FM168=\"\", LOOKUP(2, 1/(FM$17:FM167<>\"\"), FM$17:FM167), FM168))","v":0},null,null,null,null,50,"",null,null,{"$f":"IF(FV169=\"\", 0, FV169 - IF(FV168=\"\", LOOKUP(2, 1/(FV$17:FV167<>\"\"), FV$17:FV167), FV168))","v":0},null,null,null,null,50,"",null,null,{"$f":"IF(GE169=\"\", 0, GE169 - IF(GE168=\"\", LOOKUP(2, 1/(GE$17:GE167<>\"\"), GE$17:GE167), GE168))","v":0},null,null,null,null,50,"",null,null,{"$f":"IF(GN169=\"\", 0, GN169 - IF(GN168=\"\", LOOKUP(2, 1/(GN$17:GN167<>\"\"), GN$17:GN167), GN168))","v":0},null,null,null,null,50,"",null,null,{"$f":"IF(GW169=\"\", 0, GW169 - IF(GW168=\"\", LOOKUP(2, 1/(GW$17:GW167<>\"\"), GW$17:GW167), GW168))","v":0},null,null,null,null,50,"",null,null,{"$f":"IF(HF169=\"\", 0, HF169 - IF(HF168=\"\", LOOKUP(2, 1/(HF$17:HF167<>\"\"), HF$17:HF167), HF168))","v":0},null,null,null,null,50,"",null,null,{"$f":"IF(HO169=\"\", 0, HO169 - IF(HO168=\"\", LOOKUP(2, 1/(HO$17:HO167<>\"\"), HO$17:HO167), HO168))","v":0},null,null,null,null,50,"",null,null,{"$f":"IF(HX169=\"\", 0, HX169 - IF(HX168=\"\", LOOKUP(2, 1/(HX$17:HX167<>\"\"), HX$17:HX167), HX168))","v":0},null,null,null,null,50,"",null,null,{"$f":"IF(IG169=\"\", 0, IG169 - IF(IG168=\"\", LOOKUP(2, 1/(IG$17:IG167<>\"\"), IG$17:IG167), IG168))","v":0},null,null,null,null,50,"",null,null,{"$f":"IF(IP169=\"\", 0, IP169 - IF(IP168=\"\", LOOKUP(2, 1/(IP$17:IP167<>\"\"), IP$17:IP167), IP168))","v":0},null,null,null,null,50,"",null,null,{"$f":"IF(IY169=\"\", 0, IY169 - IF(IY168=\"\", LOOKUP(2, 1/(IY$17:IY167<>\"\"), IY$17:IY167), IY168))","v":0},null,null,null,null,50,"",null,null,{"$f":"IF(JH169=\"\", 0, JH169 - IF(JH168=\"\", LOOKUP(2, 1/(JH$17:JH167<>\"\"), JH$17:JH167), JH168))","v":0},null,null,null,null,50,"",null,null,{"$f":"IF(JQ169=\"\", 0, JQ169 - IF(JQ168=\"\", LOOKUP(2, 1/(JQ$17:JQ167<>\"\"), JQ$17:JQ167), JQ168))","v":0},null,null,null,null,50,"",null,null,{"$f":"IF(JZ169=\"\", 0, JZ169 - IF(JZ168=\"\", LOOKUP(2, 1/(JZ$17:JZ167<>\"\"), JZ$17:JZ167), JZ168))","v":0},null,null,null,null,50,"",null,null,{"$f":"IF(KI169=\"\", 0, KI169 - IF(KI168=\"\", LOOKUP(2, 1/(KI$17:KI167<>\"\"), KI$17:KI167), KI168))","v":0},null,null,null,null,50,"",null,null,{"$f":"IF(KR169=\"\", 0, KR169 - IF(KR168=\"\", LOOKUP(2, 1/(KR$17:KR167<>\"\"), KR$17:KR167), KR168))","v":0},null,null,null,null,50,"",null,null,{"$f":"IF(LA169=\"\", 0, LA169 - IF(LA168=\"\", LOOKUP(2, 1/(LA$17:LA167<>\"\"), LA$17:LA167), LA168))","v":0},null,null,null,null,50,"",null,null,{"$f":"IF(LJ169=\"\", 0, LJ169 - IF(LJ168=\"\", LOOKUP(2, 1/(LJ$17:LJ167<>\"\"), LJ$17:LJ167), LJ168))","v":0},null,null,null,null,50,"",null,null,{"$f":"IF(LS169=\"\", 0, LS169 - IF(LS168=\"\", LOOKUP(2, 1/(LS$17:LS167<>\"\"), LS$17:LS167), LS168))","v":0},null,null,null,null,50,"",null,null,{"$f":"IF(MB169=\"\", 0, MB169 - IF(MB168=\"\", LOOKUP(2, 1/(MB$17:MB167<>\"\"), MB$17:MB167), MB168))","v":0},null,null,null,null,50,"",null,null,{"$f":"IF(MK169=\"\", 0, MK169 - IF(MK168=\"\", LOOKUP(2, 1/(MK$17:MK167<>\"\"), MK$17:MK167), MK168))","v":0},null,null,null,null,50,"",null,null,{"$f":"IF(MT169=\"\", 0, MT169 - IF(MT168=\"\", LOOKUP(2, 1/(MT$17:MT167<>\"\"), MT$17:MT167), MT168))","v":0},null,null,50,"",null,null,{"$f":"IF(NA169=\"\", 0, NA169 - IF(NA168=\"\", LOOKUP(2, 1/(NA$17:NA167<>\"\"), NA$17:NA167), NA168))","v":0},null,null,null,null,50,"",null,null,{"$f":"IF(NJ169=\"\", 0, NJ169 - IF(NJ168=\"\", LOOKUP(2, 1/(NJ$17:NJ167<>\"\"), NJ$17:NJ167), NJ168))","v":0},null,null,null,null,50,"",null,null,{"$f":"IF(NS169=\"\", 0, NS169 - IF(NS168=\"\", LOOKUP(2, 1/(NS$17:NS167<>\"\"), NS$17:NS167), NS168))","v":0},null,null,null,null,50,"",null,null,{"$f":"IF(OB169=\"\", 0, OB169 - IF(OB168=\"\", LOOKUP(2, 1/(OB$17:OB167<>\"\"), OB$17:OB167), OB168))","v":0},null,null,null,null,50,"",null,null,{"$f":"IF(OK169=\"\", 0, OK169 - IF(OK168=\"\", LOOKUP(2, 1/(OK$17:OK167<>\"\"), OK$17:OK167), OK168))","v":0},null,null,null,null,50,"",null,null,{"$f":"IF(OT169=\"\", 0, OT169 - IF(OT168=\"\", LOOKUP(2, 1/(OT$17:OT167<>\"\"), OT$17:OT167), OT168))","v":0},null,null,null,null,50,"",null,null,{"$f":"IF(PC169=\"\", 0, PC169 - IF(PC168=\"\", LOOKUP(2, 1/(PC$17:PC167<>\"\"), PC$17:PC167), PC168))","v":0},null,null,null,null,50,"",null,null,{"$f":"IF(PL169=\"\", 0, PL169 - IF(PL168=\"\", LOOKUP(2, 1/(PL$17:PL167<>\"\"), PL$17:PL167), PL168))","v":0},null,null,null,null,50,"",null,null,{"$f":"IF(PU169=\"\", 0, PU169 - IF(PU168=\"\", LOOKUP(2, 1/(PU$17:PU167<>\"\"), PU$17:PU167), PU168))","v":0},null,null,null,null,50,"",null,null,{"$f":"IF(QD169=\"\", 0, QD169 - IF(QD168=\"\", LOOKUP(2, 1/(QD$17:QD167<>\"\"), QD$17:QD167), QD168))","v":0}]
[null,null,null,49,"",null,null,{"$f":"IF(G170=\"\", 0, G170 - IF(G169=\"\", LOOKUP(2, 1/(G$17:G168<>\"\"), G$17:G168), G169))","v":0},null,null,null,null,49,"",null,null,{"$f":"IF(P170=\"\", 0, P170 - IF(P169=\"\", LOOKUP(2, 1/(P$17:P168<>\"\"), P$17:P168), P169))","v":0},null,null,null,null,49,"",null,null,{"$f":"IF(Y170=\"\", 0, Y170 - IF(Y169=\"\", LOOKUP(2, 1/(Y$17:Y168<>\"\"), Y$17:Y168), Y169))","v":0},null,null,null,null,49,"",null,null,{"$f":"IF(AH170=\"\", 0, AH170 - IF(AH169=\"\", LOOKUP(2, 1/(AH$17:AH168<>\"\"), AH$17:AH168), AH169))","v":0},null,null,null,null,49,"",null,null,{"$f":"IF(AQ170=\"\", 0, AQ170 - IF(AQ169=\"\", LOOKUP(2, 1/(AQ$17:AQ168<>\"\"), AQ$17:AQ168), AQ169))","v":0},null,null,null,null,49,"",null,null,{"$f":"IF(AZ170=\"\", 0, AZ170 - IF(AZ169=\"\", LOOKUP(2, 1/(AZ$17:AZ168<>\"\"), AZ$17:AZ168), AZ169))","v":0},null,null,null,null,49,"",null,null,{"$f":"IF(BI170=\"\", 0, BI170 - IF(BI169=\"\", LOOKUP(2, 1/(BI$17:BI168<>\"\"), BI$17:BI168), BI169))","v":0},null,null,null,null,49,"",null,null,{"$f":"IF(BR170=\"\", 0, BR170 - IF(BR169=\"\", LOOKUP(2, 1/(BR$17:BR168<>\"\"), BR$17:BR168), BR169))","v":0},null,null,null,null,49,"",null,null,{"$f":"IF(CA170=\"\", 0, CA170 - IF(CA169=\"\", LOOKUP(2, 1/(CA$17:CA168<>\"\"), CA$17:CA168), CA169))","v":0},null,null,null,null,49,"",null,null,{"$f":"IF(CJ170=\"\", 0, CJ170 - IF(CJ169=\"\", LOOKUP(2, 1/(CJ$17:CJ168<>\"\"), CJ$17:CJ168), CJ169))","v":0},null,null,null,null,49,"",null,null,{"$f":"IF(CS170=\"\", 0, CS170 - IF(CS169=\"\", LOOKUP(2, 1/(CS$17:CS168<>\"\"), CS$17:CS168), CS169))","v":0},null,null,null,null,49,"",null,null,{"$f":"IF(DB170=\"\", 0, DB170 - IF(DB169=\"\", LOOKUP(2, 1/(DB$17:DB168<>\"\"), DB$17:DB168), DB169))","v":0},null,null,null,null,49,"",null,null,{"$f":"IF(DK170=\"\", 0, DK170 - IF(DK169=\"\", LOOKUP(2, 1/(DK$17:DK168<>\"\"), DK$17:DK168), DK169))","v":0},null,null,null,null,49,"",null,null,{"$f":"IF(DT170=\"\", 0, DT170 - IF(DT169=\"\", LOOKUP(2, 1/(DT$17:DT168<>\"\"), DT$17:DT168), DT169))","v":0},null,null,null,null,49,"",null,null,{"$f":"IF(EC170=\"\", 0, EC170 - IF(EC169=\"\", LOOKUP(2, 1/(EC$17:EC168<>\"\"), EC$17:EC168), EC169))","v":0},null,null,null,null,49,"",null,null,{"$f":"IF(EL170=\"\", 0, EL170 - IF(EL169=\"\", LOOKUP(2, 1/(EL$17:EL168<>\"\"), EL$17:EL168), EL169))","v":0},null,null,null,null,49,"",null,null,{"$f":"IF(EU170=\"\", 0, EU170 - IF(EU169=\"\", LOOKUP(2, 1/(EU$17:EU168<>\"\"), EU$17:EU168), EU169))","v":0},null,null,null,null,49,"",null,null,{"$f":"IF(FD170=\"\", 0, FD170 - IF(FD169=\"\", LOOKUP(2, 1/(FD$17:FD168<>\"\"), FD$17:FD168), FD169))","v":0},null,null,null,null,49,"",null,null,{"$f":"IF(FM170=\"\", 0, FM170 - IF(FM169=\"\", LOOKUP(2, 1/(FM$17:FM168<>\"\"), FM$17:FM168), FM169))","v":0},null,null,null,null,49,"",null,null,{"$f":"IF(FV170=\"\", 0, FV170 - IF(FV169=\"\", LOOKUP(2, 1/(FV$17:FV168<>\"\"), FV$17:FV168), FV169))","v":0},null,null,null,null,49,"",null,null,{"$f":"IF(GE170=\"\", 0, GE170 - IF(GE169=\"\", LOOKUP(2, 1/(GE$17:GE168<>\"\"), GE$17:GE168), GE169))","v":0},null,null,null,null,49,"",null,null,{"$f":"IF(GN170=\"\", 0, GN170 - IF(GN169=\"\", LOOKUP(2, 1/(GN$17:GN168<>\"\"), GN$17:GN168), GN169))","v":0},null,null,null,null,49,"",null,null,{"$f":"IF(GW170=\"\", 0, GW170 - IF(GW169=\"\", LOOKUP(2, 1/(GW$17:GW168<>\"\"), GW$17:GW168), GW169))","v":0},null,null,null,null,49,"",null,null,{"$f":"IF(HF170=\"\", 0, HF170 - IF(HF169=\"\", LOOKUP(2, 1/(HF$17:HF168<>\"\"), HF$17:HF168), HF169))","v":0},null,null,null,null,49,"",null,null,{"$f":"IF(HO170=\"\", 0, HO170 - IF(HO169=\"\", LOOKUP(2, 1/(HO$17:HO168<>\"\"), HO$17:HO168), HO169))","v":0},null,null,null,null,49,"",null,null,{"$f":"IF(HX170=\"\", 0, HX170 - IF(HX169=\"\", LOOKUP(2, 1/(HX$17:HX168<>\"\"), HX$17:HX168), HX169))","v":0},null,null,null,null,49,"",null,null,{"$f":"IF(IG170=\"\", 0, IG170 - IF(IG169=\"\", LOOKUP(2, 1/(IG$17:IG168<>\"\"), IG$17:IG168), IG169))","v":0},null,null,null,null,49,"",null,null,{"$f":"IF(IP170=\"\", 0, IP170 - IF(IP169=\"\", LOOKUP(2, 1/(IP$17:IP168<>\"\"), IP$17:IP168), IP169))","v":0},null,null,null,null,49,"",null,null,{"$f":"IF(IY170=\"\", 0, IY170 - IF(IY169=\"\", LOOKUP(2, 1/(IY$17:IY168<>\"\"), IY$17:IY168), IY169))","v":0},null,null,null,null,49,"",null,null,{"$f":"IF(JH170=\"\", 0, JH170 - IF(JH169=\"\", LOOKUP(2, 1/(JH$17:JH168<>\"\"), JH$17:JH168), JH169))","v":0},null,null,null,null,49,"",null,null,{"$f":"IF(JQ170=\"\", 0, JQ170 - IF(JQ169=\"\", LOOKUP(2, 1/(JQ$17:JQ168<>\"\"), JQ$17:JQ168), JQ169))","v":0},null,null,null,null,49,"",null,null,{"$f":"IF(JZ170=\"\", 0, JZ170 - IF(JZ169=\"\", LOOKUP(2, 1/(JZ$17:JZ168<>\"\"), JZ$17:JZ168), JZ169))","v":0},null,null,null,null,49,"",null,null,{"$f":"IF(KI170=\"\", 0, KI170 - IF(KI169=\"\", LOOKUP(2, 1/(KI$17:KI168<>\"\"), KI$17:KI168), KI169))","v":0},null,null,null,null,49,"",null,null,{"$f":"IF(KR170=\"\", 0, KR170 - IF(KR169=\"\", LOOKUP(2, 1/(KR$17:KR168<>\"\"), KR$17:KR168), KR169))","v":0},null,null,null,null,49,"",null,null,{"$f":"IF(LA170=\"\", 0, LA170 - IF(LA169=\"\", LOOKUP(2, 1/(LA$17:LA168<>\"\"), LA$17:LA168), LA169))","v":0},null,null,null,null,49,"",null,null,{"$f":"IF(LJ170=\"\", 0, LJ170 - IF(LJ169=\"\", LOOKUP(2, 1/(LJ$17:LJ168<>\"\"), LJ$17:LJ168), LJ169))","v":0},null,null,null,null,49,"",null,null,{"$f":"IF(LS170=\"\", 0, LS170 - IF(LS169=\"\", LOOKUP(2, 1/(LS$17:LS168<>\"\"), LS$17:LS168), LS169))","v":0},null,null,null,null,49,"",null,null,{"$f":"IF(MB170=\"\", 0, MB170 - IF(MB169=\"\", LOOKUP(2, 1/(MB$17:MB168<>\"\"), MB$17:MB168), MB169))","v":0},null,null,null,null,49,"",null,null,{"$f":"IF(MK170=\"\", 0, MK170 - IF(MK169=\"\", LOOKUP(2, 1/(MK$17:MK168<>\"\"), MK$17:MK168), MK169))","v":0},null,null,null,null,49,"",null,null,{"$f":"IF(MT170=\"\", 0, MT170 - IF(MT169=\"\", LOOKUP(2, 1/(MT$17:MT168<>\"\"), MT$17:MT168), MT169))","v":0},null,null,49,"",null,null,{"$f":"IF(NA170=\"\", 0, NA170 - IF(NA169=\"\", LOOKUP(2, 1/(NA$17:NA168<>\"\"), NA$17:NA168), NA169))","v":0},null,null,null,null,49,"",null,null,{"$f":"IF(NJ170=\"\", 0, NJ170 - IF(NJ169=\"\", LOOKUP(2, 1/(NJ$17:NJ168<>\"\"), NJ$17:NJ168), NJ169))","v":0},null,null,null,null,49,"",null,null,{"$f":"IF(NS170=\"\", 0, NS170 - IF(NS169=\"\", LOOKUP(2, 1/(NS$17:NS168<>\"\"), NS$17:NS168), NS169))","v":0},null,null,null,null,49,"",null,null,{"$f":"IF(OB170=\"\", 0, OB170 - IF(OB169=\"\", LOOKUP(2, 1/(OB$17:OB168<>\"\"), OB$17:OB168), OB169))","v":0},null,null,null,null,49,"",null,null,{"$f":"IF(OK170=\"\", 0, OK170 - IF(OK169=\"\", LOOKUP(2, 1/(OK$17:OK168<>\"\"), OK$17:OK168), OK169))","v":0},null,null,null,null,49,"",null,null,{"$f":"IF(OT170=\"\", 0, OT170 - IF(OT169=\"\", LOOKUP(2, 1/(OT$17:OT168<>\"\"), OT$17:OT168), OT169))","v":0},null,null,null,null,49,"",null,null,{"$f":"IF(PC170=\"\", 0, PC170 - IF(PC169=\"\", LOOKUP(2, 1/(PC$17:PC168<>\"\"), PC$17:PC168), PC169))","v":0},null,null,null,null,49,"",null,null,{"$f":"IF(PL170=\"\", 0, PL170 - IF(PL169=\"\", LOOKUP(2, 1/(PL$17:PL168<>\"\"), PL$17:PL168), PL169))","v":0},null,null,null,null,49,"",null,null,{"$f":"IF(PU170=\"\", 0, PU170 - IF(PU169=\"\", LOOKUP(2, 1/(PU$17:PU168<>\"\"), PU$17:PU168), PU169))","v":0},null,null,null,null,49,"",null,null,{"$f":"IF(QD170=\"\", 0, QD170 - IF(QD169=\"\", LOOKUP(2, 1/(QD$17:QD168<>\"\"), QD$17:QD168), QD169))","v":0}]
[null,null,null,48,"",null,null,{"$f":"IF(G171=\"\", 0, G171 - IF(G170=\"\", LOOKUP(2, 1/(G$17:G169<>\"\"), G$17:G169), G170))","v":0},null,null,null,null,48,"",null,null,{"$f":"IF(P171=\"\", 0, P171 - IF(P170=\"\", LOOKUP(2, 1/(P$17:P169<>\"\"), P$17:P169), P170))","v":0},null,null,null,null,48,"",null,null,{"$f":"IF(Y171=\"\", 0, Y171 - IF(Y170=\"\", LOOKUP(2, 1/(Y$17:Y169<>\"\"), Y$17:Y169), Y170))","v":0},null,null,null,null,48,"",null,null,{"$f":"IF(AH171=\"\", 0, AH171 - IF(AH170=\"\", LOOKUP(2, 1/(AH$17:AH169<>\"\"), AH$17:AH169), AH170))","v":0},null,null,null,null,48,"",null,null,{"$f":"IF(AQ171=\"\", 0, AQ171 - IF(AQ170=\"\", LOOKUP(2, 1/(AQ$17:AQ169<>\"\"), AQ$17:AQ169), AQ170))","v":0},null,null,null,null,48,"",null,null,{"$f":"IF(AZ171=\"\", 0, AZ171 - IF(AZ170=\"\", LOOKUP(2, 1/(AZ$17:AZ169<>\"\"), AZ$17:AZ169), AZ170))","v":0},null,null,null,null,48,"",null,null,{"$f":"IF(BI171=\"\", 0, BI171 - IF(BI170=\"\", LOOKUP(2, 1/(BI$17:BI169<>\"\"), BI$17:BI169), BI170))","v":0},null,null,null,null,48,"",null,null,{"$f":"IF(BR171=\"\", 0, BR171 - IF(BR170=\"\", LOOKUP(2, 1/(BR$17:BR169<>\"\"), BR$17:BR169), BR170))","v":0},null,null,null,null,48,"",null,null,{"$f":"IF(CA171=\"\", 0, CA171 - IF(CA170=\"\", LOOKUP(2, 1/(CA$17:CA169<>\"\"), CA$17:CA169), CA170))","v":0},null,null,null,null,48,"",null,null,{"$f":"IF(CJ171=\"\", 0, CJ171 - IF(CJ170=\"\", LOOKUP(2, 1/(CJ$17:CJ169<>\"\"), CJ$17:CJ169), CJ170))","v":0},null,null,null,null,48,"",null,null,{"$f":"IF(CS171=\"\", 0, CS171 - IF(CS170=\"\", LOOKUP(2, 1/(CS$17:CS169<>\"\"), CS$17:CS169), CS170))","v":0},null,null,null,null,48,"",null,null,{"$f":"IF(DB171=\"\", 0, DB171 - IF(DB170=\"\", LOOKUP(2, 1/(DB$17:DB169<>\"\"), DB$17:DB169), DB170))","v":0},null,null,null,null,48,"",null,null,{"$f":"IF(DK171=\"\", 0, DK171 - IF(DK170=\"\", LOOKUP(2, 1/(DK$17:DK169<>\"\"), DK$17:DK169), DK170))","v":0},null,null,null,null,48,"",null,null,{"$f":"IF(DT171=\"\", 0, DT171 - IF(DT170=\"\", LOOKUP(2, 1/(DT$17:DT169<>\"\"), DT$17:DT169), DT170))","v":0},null,null,null,null,48,"",null,null,{"$f":"IF(EC171=\"\", 0, EC171 - IF(EC170=\"\", LOOKUP(2, 1/(EC$17:EC169<>\"\"), EC$17:EC169), EC170))","v":0},null,null,null,null,48,"",null,null,{"$f":"IF(EL171=\"\", 0, EL171 - IF(EL170=\"\", LOOKUP(2, 1/(EL$17:EL169<>\"\"), EL$17:EL169), EL170))","v":0},null,null,null,null,48,"",null,null,{"$f":"IF(EU171=\"\", 0, EU171 - IF(EU170=\"\", LOOKUP(2, 1/(EU$17:EU169<>\"\"), EU$17:EU169), EU170))","v":0},null,null,null,null,48,"",null,null,{"$f":"IF(FD171=\"\", 0, FD171 - IF(FD170=\"\", LOOKUP(2, 1/(FD$17:FD169<>\"\"), FD$17:FD169), FD170))","v":0},null,null,null,null,48,"",null,null,{"$f":"IF(FM171=\"\", 0, FM171 - IF(FM170=\"\", LOOKUP(2, 1/(FM$17:FM169<>\"\"), FM$17:FM169), FM170))","v":0},null,null,null,null,48,"",null,null,{"$f":"IF(FV171=\"\", 0, FV171 - IF(FV170=\"\", LOOKUP(2, 1/(FV$17:FV169<>\"\"), FV$17:FV169), FV170))","v":0},null,null,null,null,48,"",null,null,{"$f":"IF(GE171=\"\", 0, GE171 - IF(GE170=\"\", LOOKUP(2, 1/(GE$17:GE169<>\"\"), GE$17:GE169), GE170))","v":0},null,null,null,null,48,"",null,null,{"$f":"IF(GN171=\"\", 0, GN171 - IF(GN170=\"\", LOOKUP(2, 1/(GN$17:GN169<>\"\"), GN$17:GN169), GN170))","v":0},null,null,null,null,48,"",null,null,{"$f":"IF(GW171=\"\", 0, GW171 - IF(GW170=\"\", LOOKUP(2, 1/(GW$17:GW169<>\"\"), GW$17:GW169), GW170))","v":0},null,null,null,null,48,"",null,null,{"$f":"IF(HF171=\"\", 0, HF171 - IF(HF170=\"\", LOOKUP(2, 1/(HF$17:HF169<>\"\"), HF$17:HF169), HF170))","v":0},null,null,null,null,48,"",null,null,{"$f":"IF(HO171=\"\", 0, HO171 - IF(HO170=\"\", LOOKUP(2, 1/(HO$17:HO169<>\"\"), HO$17:HO169), HO170))","v":0},null,null,null,null,48,"",null,null,{"$f":"IF(HX171=\"\", 0, HX171 - IF(HX170=\"\", LOOKUP(2, 1/(HX$17:HX169<>\"\"), HX$17:HX169), HX170))","v":0},null,null,null,null,48,"",null,null,{"$f":"IF(IG171=\"\", 0, IG171 - IF(IG170=\"\", LOOKUP(2, 1/(IG$17:IG169<>\"\"), IG$17:IG169), IG170))","v":0},null,null,null,null,48,"",null,null,{"$f":"IF(IP171=\"\", 0, IP171 - IF(IP170=\"\", LOOKUP(2, 1/(IP$17:IP169<>\"\"), IP$17:IP169), IP170))","v":0},null,null,null,null,48,"",null,null,{"$f":"IF(IY171=\"\", 0, IY171 - IF(IY170=\"\", LOOKUP(2, 1/(IY$17:IY169<>\"\"), IY$17:IY169), IY170))","v":0},null,null,null,null,48,"",null,null,{"$f":"IF(JH171=\"\", 0, JH171 - IF(JH170=\"\", LOOKUP(2, 1/(JH$17:JH169<>\"\"), JH$17:JH169), JH170))","v":0},null,null,null,null,48,"",null,null,{"$f":"IF(JQ171=\"\", 0, JQ171 - IF(JQ170=\"\", LOOKUP(2, 1/(JQ$17:JQ169<>\"\"), JQ$17:JQ169), JQ170))","v":0},null,null,null,null,48,"",null,null,{"$f":"IF(JZ171=\"\", 0, JZ171 - IF(JZ170=\"\", LOOKUP(2, 1/(JZ$17:JZ169<>\"\"), JZ$17:JZ169), JZ170))","v":0},null,null,null,null,48,"",null,null,{"$f":"IF(KI171=\"\", 0, KI171 - IF(KI170=\"\", LOOKUP(2, 1/(KI$17:KI169<>\"\"), KI$17:KI169), KI170))","v":0},null,null,null,null,48,"",null,null,{"$f":"IF(KR171=\"\", 0, KR171 - IF(KR170=\"\", LOOKUP(2, 1/(KR$17:KR169<>\"\"), KR$17:KR169), KR170))","v":0},null,null,null,null,48,"",null,null,{"$f":"IF(LA171=\"\", 0, LA171 - IF(LA170=\"\", LOOKUP(2, 1/(LA$17:LA169<>\"\"), LA$17:LA169), LA170))","v":0},null,null,null,null,48,"",null,null,{"$f":"IF(LJ171=\"\", 0, LJ171 - IF(LJ170=\"\", LOOKUP(2, 1/(LJ$17:LJ169<>\"\"), LJ$17:LJ169), LJ170))","v":0},null,null,null,null,48,"",null,null,{"$f":"IF(LS171=\"\", 0, LS171 - IF(LS170=\"\", LOOKUP(2, 1/(LS$17:LS169<>\"\"), LS$17:LS169), LS170))","v":0},null,null,null,null,48,"",null,null,{"$f":"IF(MB171=\"\", 0, MB171 - IF(MB170=\"\", LOOKUP(2, 1/(MB$17:MB169<>\"\"), MB$17:MB169), MB170))","v":0},null,null,null,null,48,"",null,null,{"$f":"IF(MK171=\"\", 0, MK171 - IF(MK170=\"\", LOOKUP(2, 1/(MK$17:MK169<>\"\"), MK$17:MK169), MK170))","v":0},null,null,null,null,48,"",null,null,{"$f":"IF(MT171=\"\", 0, MT171 - IF(MT170=\"\", LOOKUP(2, 1/(MT$17:MT169<>\"\"), MT$17:MT169), MT170))","v":0},null,null,48,"",null,null,{"$f":"IF(NA171=\"\", 0, NA171 - IF(NA170=\"\", LOOKUP(2, 1/(NA$17:NA169<>\"\"), NA$17:NA169), NA170))","v":0},null,null,null,null,48,"",null,null,{"$f":"IF(NJ171=\"\", 0, NJ171 - IF(NJ170=\"\", LOOKUP(2, 1/(NJ$17:NJ169<>\"\"), NJ$17:NJ169), NJ170))","v":0},null,null,null,null,48,"",null,null,{"$f":"IF(NS171=\"\", 0, NS171 - IF(NS170=\"\", LOOKUP(2, 1/(NS$17:NS169<>\"\"), NS$17:NS169), NS170))","v":0},null,null,null,null,48,"",null,null,{"$f":"IF(OB171=\"\", 0, OB171 - IF(OB170=\"\", LOOKUP(2, 1/(OB$17:OB169<>\"\"), OB$17:OB169), OB170))","v":0},null,null,null,null,48,"",null,null,{"$f":"IF(OK171=\"\", 0, OK171 - IF(OK170=\"\", LOOKUP(2, 1/(OK$17:OK169<>\"\"), OK$17:OK169), OK170))","v":0},null,null,null,null,48,"",null,null,{"$f":"IF(OT171=\"\", 0, OT171 - IF(OT170=\"\", LOOKUP(2, 1/(OT$17:OT169<>\"\"), OT$17:OT169), OT170))","v":0},null,null,null,null,48,"",null,null,{"$f":"IF(PC171=\"\", 0, PC171 - IF(PC170=\"\", LOOKUP(2, 1/(PC$17:PC169<>\"\"), PC$17:PC169), PC170))","v":0},null,null,null,null,48,"",null,null,{"$f":"IF(PL171=\"\", 0, PL171 - IF(PL170=\"\", LOOKUP(2, 1/(PL$17:PL169<>\"\"), PL$17:PL169), PL170))","v":0},null,null,null,null,48,"",null,null,{"$f":"IF(PU171=\"\", 0, PU171 - IF(PU170=\"\", LOOKUP(2, 1/(PU$17:PU169<>\"\"), PU$17:PU169), PU170))","v":0},null,null,null,null,48,"",null,null,{"$f":"IF(QD171=\"\", 0, QD171 - IF(QD170=\"\", LOOKUP(2, 1/(QD$17:QD169<>\"\"), QD$17:QD169), QD170))","v":0}]
[null,null,null,47,"",null,null,{"$f":"IF(G172=\"\", 0, G172 - IF(G171=\"\", LOOKUP(2, 1/(G$17:G170<>\"\"), G$17:G170), G171))","v":0},null,null,null,null,47,"",null,null,{"$f":"IF(P172=\"\", 0, P172 - IF(P171=\"\", LOOKUP(2, 1/(P$17:P170<>\"\"), P$17:P170), P171))","v":0},null,null,null,null,47,"",null,null,{"$f":"IF(Y172=\"\", 0, Y172 - IF(Y171=\"\", LOOKUP(2, 1/(Y$17:Y170<>\"\"), Y$17:Y170), Y171))","v":0},null,null,null,null,47,"",null,null,{"$f":"IF(AH172=\"\", 0, AH172 - IF(AH171=\"\", LOOKUP(2, 1/(AH$17:AH170<>\"\"), AH$17:AH170), AH171))","v":0},null,null,null,null,47,"",null,null,{"$f":"IF(AQ172=\"\", 0, AQ172 - IF(AQ171=\"\", LOOKUP(2, 1/(AQ$17:AQ170<>\"\"), AQ$17:AQ170), AQ171))","v":0},null,null,null,null,47,"",null,null,{"$f":"IF(AZ172=\"\", 0, AZ172 - IF(AZ171=\"\", LOOKUP(2, 1/(AZ$17:AZ170<>\"\"), AZ$17:AZ170), AZ171))","v":0},null,null,null,null,47,"",null,null,{"$f":"IF(BI172=\"\", 0, BI172 - IF(BI171=\"\", LOOKUP(2, 1/(BI$17:BI170<>\"\"), BI$17:BI170), BI171))","v":0},null,null,null,null,47,"",null,null,{"$f":"IF(BR172=\"\", 0, BR172 - IF(BR171=\"\", LOOKUP(2, 1/(BR$17:BR170<>\"\"), BR$17:BR170), BR171))","v":0},null,null,null,null,47,"",null,null,{"$f":"IF(CA172=\"\", 0, CA172 - IF(CA171=\"\", LOOKUP(2, 1/(CA$17:CA170<>\"\"), CA$17:CA170), CA171))","v":0},null,null,null,null,47,"",null,null,{"$f":"IF(CJ172=\"\", 0, CJ172 - IF(CJ171=\"\", LOOKUP(2, 1/(CJ$17:CJ170<>\"\"), CJ$17:CJ170), CJ171))","v":0},null,null,null,null,47,"",null,null,{"$f":"IF(CS172=\"\", 0, CS172 - IF(CS171=\"\", LOOKUP(2, 1/(CS$17:CS170<>\"\"), CS$17:CS170), CS171))","v":0},null,null,null,null,47,"",null,null,{"$f":"IF(DB172=\"\", 0, DB172 - IF(DB171=\"\", LOOKUP(2, 1/(DB$17:DB170<>\"\"), DB$17:DB170), DB171))","v":0},null,null,null,null,47,"",null,null,{"$f":"IF(DK172=\"\", 0, DK172 - IF(DK171=\"\", LOOKUP(2, 1/(DK$17:DK170<>\"\"), DK$17:DK170), DK171))","v":0},null,null,null,null,47,"",null,null,{"$f":"IF(DT172=\"\", 0, DT172 - IF(DT171=\"\", LOOKUP(2, 1/(DT$17:DT170<>\"\"), DT$17:DT170), DT171))","v":0},null,null,null,null,47,"",null,null,{"$f":"IF(EC172=\"\", 0, EC172 - IF(EC171=\"\", LOOKUP(2, 1/(EC$17:EC170<>\"\"), EC$17:EC170), EC171))","v":0},null,null,null,null,47,"",null,null,{"$f":"IF(EL172=\"\", 0, EL172 - IF(EL171=\"\", LOOKUP(2, 1/(EL$17:EL170<>\"\"), EL$17:EL170), EL171))","v":0},null,null,null,null,47,"",null,null,{"$f":"IF(EU172=\"\", 0, EU172 - IF(EU171=\"\", LOOKUP(2, 1/(EU$17:EU170<>\"\"), EU$17:EU170), EU171))","v":0},null,null,null,null,47,"",null,null,{"$f":"IF(FD172=\"\", 0, FD172 - IF(FD171=\"\", LOOKUP(2, 1/(FD$17:FD170<>\"\"), FD$17:FD170), FD171))","v":0},null,null,null,null,47,"",null,null,{"$f":"IF(FM172=\"\", 0, FM172 - IF(FM171=\"\", LOOKUP(2, 1/(FM$17:FM170<>\"\"), FM$17:FM170), FM171))","v":0},null,null,null,null,47,"",null,null,{"$f":"IF(FV172=\"\", 0, FV172 - IF(FV171=\"\", LOOKUP(2, 1/(FV$17:FV170<>\"\"), FV$17:FV170), FV171))","v":0},null,null,null,null,47,"",null,null,{"$f":"IF(GE172=\"\", 0, GE172 - IF(GE171=\"\", LOOKUP(2, 1/(GE$17:GE170<>\"\"), GE$17:GE170), GE171))","v":0},null,null,null,null,47,"",null,null,{"$f":"IF(GN172=\"\", 0, GN172 - IF(GN171=\"\", LOOKUP(2, 1/(GN$17:GN170<>\"\"), GN$17:GN170), GN171))","v":0},null,null,null,null,47,"",null,null,{"$f":"IF(GW172=\"\", 0, GW172 - IF(GW171=\"\", LOOKUP(2, 1/(GW$17:GW170<>\"\"), GW$17:GW170), GW171))","v":0},null,null,null,null,47,"",null,null,{"$f":"IF(HF172=\"\", 0, HF172 - IF(HF171=\"\", LOOKUP(2, 1/(HF$17:HF170<>\"\"), HF$17:HF170), HF171))","v":0},null,null,null,null,47,"",null,null,{"$f":"IF(HO172=\"\", 0, HO172 - IF(HO171=\"\", LOOKUP(2, 1/(HO$17:HO170<>\"\"), HO$17:HO170), HO171))","v":0},null,null,null,null,47,"",null,null,{"$f":"IF(HX172=\"\", 0, HX172 - IF(HX171=\"\", LOOKUP(2, 1/(HX$17:HX170<>\"\"), HX$17:HX170), HX171))","v":0},null,null,null,null,47,"",null,null,{"$f":"IF(IG172=\"\", 0, IG172 - IF(IG171=\"\", LOOKUP(2, 1/(IG$17:IG170<>\"\"), IG$17:IG170), IG171))","v":0},null,null,null,null,47,"",null,null,{"$f":"IF(IP172=\"\", 0, IP172 - IF(IP171=\"\", LOOKUP(2, 1/(IP$17:IP170<>\"\"), IP$17:IP170), IP171))","v":0},null,null,null,null,47,"",null,null,{"$f":"IF(IY172=\"\", 0, IY172 - IF(IY171=\"\", LOOKUP(2, 1/(IY$17:IY170<>\"\"), IY$17:IY170), IY171))","v":0},null,null,null,null,47,"",null,null,{"$f":"IF(JH172=\"\", 0, JH172 - IF(JH171=\"\", LOOKUP(2, 1/(JH$17:JH170<>\"\"), JH$17:JH170), JH171))","v":0},null,null,null,null,47,"",null,null,{"$f":"IF(JQ172=\"\", 0, JQ172 - IF(JQ171=\"\", LOOKUP(2, 1/(JQ$17:JQ170<>\"\"), JQ$17:JQ170), JQ171))","v":0},null,null,null,null,47,"",null,null,{"$f":"IF(JZ172=\"\", 0, JZ172 - IF(JZ171=\"\", LOOKUP(2, 1/(JZ$17:JZ170<>\"\"), JZ$17:JZ170), JZ171))","v":0},null,null,null,null,47,"",null,null,{"$f":"IF(KI172=\"\", 0, KI172 - IF(KI171=\"\", LOOKUP(2, 1/(KI$17:KI170<>\"\"), KI$17:KI170), KI171))","v":0},null,null,null,null,47,"",null,null,{"$f":"IF(KR172=\"\", 0, KR172 - IF(KR171=\"\", LOOKUP(2, 1/(KR$17:KR170<>\"\"), KR$17:KR170), KR171))","v":0},null,null,null,null,47,"",null,null,{"$f":"IF(LA172=\"\", 0, LA172 - IF(LA171=\"\", LOOKUP(2, 1/(LA$17:LA170<>\"\"), LA$17:LA170), LA171))","v":0},null,null,null,null,47,"",null,null,{"$f":"IF(LJ172=\"\", 0, LJ172 - IF(LJ171=\"\", LOOKUP(2, 1/(LJ$17:LJ170<>\"\"), LJ$17:LJ170), LJ171))","v":0},null,null,null,null,47,"",null,null,{"$f":"IF(LS172=\"\", 0, LS172 - IF(LS171=\"\", LOOKUP(2, 1/(LS$17:LS170<>\"\"), LS$17:LS170), LS171))","v":0},null,null,null,null,47,"",null,null,{"$f":"IF(MB172=\"\", 0, MB172 - IF(MB171=\"\", LOOKUP(2, 1/(MB$17:MB170<>\"\"), MB$17:MB170), MB171))","v":0},null,null,null,null,47,"",null,null,{"$f":"IF(MK172=\"\", 0, MK172 - IF(MK171=\"\", LOOKUP(2, 1/(MK$17:MK170<>\"\"), MK$17:MK170), MK171))","v":0},null,null,null,null,47,"",null,null,{"$f":"IF(MT172=\"\", 0, MT172 - IF(MT171=\"\", LOOKUP(2, 1/(MT$17:MT170<>\"\"), MT$17:MT170), MT171))","v":0},null,null,47,"",null,null,{"$f":"IF(NA172=\"\", 0, NA172 - IF(NA171=\"\", LOOKUP(2, 1/(NA$17:NA170<>\"\"), NA$17:NA170), NA171))","v":0},null,null,null,null,47,"",null,null,{"$f":"IF(NJ172=\"\", 0, NJ172 - IF(NJ171=\"\", LOOKUP(2, 1/(NJ$17:NJ170<>\"\"), NJ$17:NJ170), NJ171))","v":0},null,null,null,null,47,"",null,null,{"$f":"IF(NS172=\"\", 0, NS172 - IF(NS171=\"\", LOOKUP(2, 1/(NS$17:NS170<>\"\"), NS$17:NS170), NS171))","v":0},null,null,null,null,47,"",null,null,{"$f":"IF(OB172=\"\", 0, OB172 - IF(OB171=\"\", LOOKUP(2, 1/(OB$17:OB170<>\"\"), OB$17:OB170), OB171))","v":0},null,null,null,null,47,"",null,null,{"$f":"IF(OK172=\"\", 0, OK172 - IF(OK171=\"\", LOOKUP(2, 1/(OK$17:OK170<>\"\"), OK$17:OK170), OK171))","v":0},null,null,null,null,47,"",null,null,{"$f":"IF(OT172=\"\", 0, OT172 - IF(OT171=\"\", LOOKUP(2, 1/(OT$17:OT170<>\"\"), OT$17:OT170), OT171))","v":0},null,null,null,null,47,"",null,null,{"$f":"IF(PC172=\"\", 0, PC172 - IF(PC171=\"\", LOOKUP(2, 1/(PC$17:PC170<>\"\"), PC$17:PC170), PC171))","v":0},null,null,null,null,47,"",null,null,{"$f":"IF(PL172=\"\", 0, PL172 - IF(PL171=\"\", LOOKUP(2, 1/(PL$17:PL170<>\"\"), PL$17:PL170), PL171))","v":0},null,null,null,null,47,"",null,null,{"$f":"IF(PU172=\"\", 0, PU172 - IF(PU171=\"\", LOOKUP(2, 1/(PU$17:PU170<>\"\"), PU$17:PU170), PU171))","v":0},null,null,null,null,47,"",null,null,{"$f":"IF(QD172=\"\", 0, QD172 - IF(QD171=\"\", LOOKUP(2, 1/(QD$17:QD170<>\"\"), QD$17:QD170), QD171))","v":0}]
[null,null,null,46,"",null,null,{"$f":"IF(G173=\"\", 0, G173 - IF(G172=\"\", LOOKUP(2, 1/(G$17:G171<>\"\"), G$17:G171), G172))","v":0},null,null,null,null,46,"",null,null,{"$f":"IF(P173=\"\", 0, P173 - IF(P172=\"\", LOOKUP(2, 1/(P$17:P171<>\"\"), P$17:P171), P172))","v":0},null,null,null,null,46,"",null,null,{"$f":"IF(Y173=\"\", 0, Y173 - IF(Y172=\"\", LOOKUP(2, 1/(Y$17:Y171<>\"\"), Y$17:Y171), Y172))","v":0},null,null,null,null,46,"",null,null,{"$f":"IF(AH173=\"\", 0, AH173 - IF(AH172=\"\", LOOKUP(2, 1/(AH$17:AH171<>\"\"), AH$17:AH171), AH172))","v":0},null,null,null,null,46,"",null,null,{"$f":"IF(AQ173=\"\", 0, AQ173 - IF(AQ172=\"\", LOOKUP(2, 1/(AQ$17:AQ171<>\"\"), AQ$17:AQ171), AQ172))","v":0},null,null,null,null,46,"",null,null,{"$f":"IF(AZ173=\"\", 0, AZ173 - IF(AZ172=\"\", LOOKUP(2, 1/(AZ$17:AZ171<>\"\"), AZ$17:AZ171), AZ172))","v":0},null,null,null,null,46,"",null,null,{"$f":"IF(BI173=\"\", 0, BI173 - IF(BI172=\"\", LOOKUP(2, 1/(BI$17:BI171<>\"\"), BI$17:BI171), BI172))","v":0},null,null,null,null,46,"",null,null,{"$f":"IF(BR173=\"\", 0, BR173 - IF(BR172=\"\", LOOKUP(2, 1/(BR$17:BR171<>\"\"), BR$17:BR171), BR172))","v":0},null,null,null,null,46,"",null,null,{"$f":"IF(CA173=\"\", 0, CA173 - IF(CA172=\"\", LOOKUP(2, 1/(CA$17:CA171<>\"\"), CA$17:CA171), CA172))","v":0},null,null,null,null,46,"",null,null,{"$f":"IF(CJ173=\"\", 0, CJ173 - IF(CJ172=\"\", LOOKUP(2, 1/(CJ$17:CJ171<>\"\"), CJ$17:CJ171), CJ172))","v":0},null,null,null,null,46,"",null,null,{"$f":"IF(CS173=\"\", 0, CS173 - IF(CS172=\"\", LOOKUP(2, 1/(CS$17:CS171<>\"\"), CS$17:CS171), CS172))","v":0},null,null,null,null,46,"",null,null,{"$f":"IF(DB173=\"\", 0, DB173 - IF(DB172=\"\", LOOKUP(2, 1/(DB$17:DB171<>\"\"), DB$17:DB171), DB172))","v":0},null,null,null,null,46,"",null,null,{"$f":"IF(DK173=\"\", 0, DK173 - IF(DK172=\"\", LOOKUP(2, 1/(DK$17:DK171<>\"\"), DK$17:DK171), DK172))","v":0},null,null,null,null,46,"",null,null,{"$f":"IF(DT173=\"\", 0, DT173 - IF(DT172=\"\", LOOKUP(2, 1/(DT$17:DT171<>\"\"), DT$17:DT171), DT172))","v":0},null,null,null,null,46,"",null,null,{"$f":"IF(EC173=\"\", 0, EC173 - IF(EC172=\"\", LOOKUP(2, 1/(EC$17:EC171<>\"\"), EC$17:EC171), EC172))","v":0},null,null,null,null,46,"",null,null,{"$f":"IF(EL173=\"\", 0, EL173 - IF(EL172=\"\", LOOKUP(2, 1/(EL$17:EL171<>\"\"), EL$17:EL171), EL172))","v":0},null,null,null,null,46,"",null,null,{"$f":"IF(EU173=\"\", 0, EU173 - IF(EU172=\"\", LOOKUP(2, 1/(EU$17:EU171<>\"\"), EU$17:EU171), EU172))","v":0},null,null,null,null,46,"",null,null,{"$f":"IF(FD173=\"\", 0, FD173 - IF(FD172=\"\", LOOKUP(2, 1/(FD$17:FD171<>\"\"), FD$17:FD171), FD172))","v":0},null,null,null,null,46,"",null,null,{"$f":"IF(FM173=\"\", 0, FM173 - IF(FM172=\"\", LOOKUP(2, 1/(FM$17:FM171<>\"\"), FM$17:FM171), FM172))","v":0},null,null,null,null,46,"",null,null,{"$f":"IF(FV173=\"\", 0, FV173 - IF(FV172=\"\", LOOKUP(2, 1/(FV$17:FV171<>\"\"), FV$17:FV171), FV172))","v":0},null,null,null,null,46,"",null,null,{"$f":"IF(GE173=\"\", 0, GE173 - IF(GE172=\"\", LOOKUP(2, 1/(GE$17:GE171<>\"\"), GE$17:GE171), GE172))","v":0},null,null,null,null,46,"",null,null,{"$f":"IF(GN173=\"\", 0, GN173 - IF(GN172=\"\", LOOKUP(2, 1/(GN$17:GN171<>\"\"), GN$17:GN171), GN172))","v":0},null,null,null,null,46,"",null,null,{"$f":"IF(GW173=\"\", 0, GW173 - IF(GW172=\"\", LOOKUP(2, 1/(GW$17:GW171<>\"\"), GW$17:GW171), GW172))","v":0},null,null,null,null,46,"",null,null,{"$f":"IF(HF173=\"\", 0, HF173 - IF(HF172=\"\", LOOKUP(2, 1/(HF$17:HF171<>\"\"), HF$17:HF171), HF172))","v":0},null,null,null,null,46,"",null,null,{"$f":"IF(HO173=\"\", 0, HO173 - IF(HO172=\"\", LOOKUP(2, 1/(HO$17:HO171<>\"\"), HO$17:HO171), HO172))","v":0},null,null,null,null,46,"",null,null,{"$f":"IF(HX173=\"\", 0, HX173 - IF(HX172=\"\", LOOKUP(2, 1/(HX$17:HX171<>\"\"), HX$17:HX171), HX172))","v":0},null,null,null,null,46,"",null,null,{"$f":"IF(IG173=\"\", 0, IG173 - IF(IG172=\"\", LOOKUP(2, 1/(IG$17:IG171<>\"\"), IG$17:IG171), IG172))","v":0},null,null,null,null,46,"",null,null,{"$f":"IF(IP173=\"\", 0, IP173 - IF(IP172=\"\", LOOKUP(2, 1/(IP$17:IP171<>\"\"), IP$17:IP171), IP172))","v":0},null,null,null,null,46,"",null,null,{"$f":"IF(IY173=\"\", 0, IY173 - IF(IY172=\"\", LOOKUP(2, 1/(IY$17:IY171<>\"\"), IY$17:IY171), IY172))","v":0},null,null,null,null,46,"",null,null,{"$f":"IF(JH173=\"\", 0, JH173 - IF(JH172=\"\", LOOKUP(2, 1/(JH$17:JH171<>\"\"), JH$17:JH171), JH172))","v":0},null,null,null,null,46,"",null,null,{"$f":"IF(JQ173=\"\", 0, JQ173 - IF(JQ172=\"\", LOOKUP(2, 1/(JQ$17:JQ171<>\"\"), JQ$17:JQ171), JQ172))","v":0},null,null,null,null,46,"",null,null,{"$f":"IF(JZ173=\"\", 0, JZ173 - IF(JZ172=\"\", LOOKUP(2, 1/(JZ$17:JZ171<>\"\"), JZ$17:JZ171), JZ172))","v":0},null,null,null,null,46,"",null,null,{"$f":"IF(KI173=\"\", 0, KI173 - IF(KI172=\"\", LOOKUP(2, 1/(KI$17:KI171<>\"\"), KI$17:KI171), KI172))","v":0},null,null,null,null,46,"",null,null,{"$f":"IF(KR173=\"\", 0, KR173 - IF(KR172=\"\", LOOKUP(2, 1/(KR$17:KR171<>\"\"), KR$17:KR171), KR172))","v":0},null,null,null,null,46,"",null,null,{"$f":"IF(LA173=\"\", 0, LA173 - IF(LA172=\"\", LOOKUP(2, 1/(LA$17:LA171<>\"\"), LA$17:LA171), LA172))","v":0},null,null,null,null,46,"",null,null,{"$f":"IF(LJ173=\"\", 0, LJ173 - IF(LJ172=\"\", LOOKUP(2, 1/(LJ$17:LJ171<>\"\"), LJ$17:LJ171), LJ172))","v":0},null,null,null,null,46,"",null,null,{"$f":"IF(LS173=\"\", 0, LS173 - IF(LS172=\"\", LOOKUP(2, 1/(LS$17:LS171<>\"\"), LS$17:LS171), LS172))","v":0},null,null,null,null,46,"",null,null,{"$f":"IF(MB173=\"\", 0, MB173 - IF(MB172=\"\", LOOKUP(2, 1/(MB$17:MB171<>\"\"), MB$17:MB171), MB172))","v":0},null,null,null,null,46,"",null,null,{"$f":"IF(MK173=\"\", 0, MK173 - IF(MK172=\"\", LOOKUP(2, 1/(MK$17:MK171<>\"\"), MK$17:MK171), MK172))","v":0},null,null,null,null,46,"",null,null,{"$f":"IF(MT173=\"\", 0, MT173 - IF(MT172=\"\", LOOKUP(2, 1/(MT$17:MT171<>\"\"), MT$17:MT171), MT172))","v":0},null,null,46,"",null,null,{"$f":"IF(NA173=\"\", 0, NA173 - IF(NA172=\"\", LOOKUP(2, 1/(NA$17:NA171<>\"\"), NA$17:NA171), NA172))","v":0},null,null,null,null,46,"",null,null,{"$f":"IF(NJ173=\"\", 0, NJ173 - IF(NJ172=\"\", LOOKUP(2, 1/(NJ$17:NJ171<>\"\"), NJ$17:NJ171), NJ172))","v":0},null,null,null,null,46,"",null,null,{"$f":"IF(NS173=\"\", 0, NS173 - IF(NS172=\"\", LOOKUP(2, 1/(NS$17:NS171<>\"\"), NS$17:NS171), NS172))","v":0},null,null,null,null,46,"",null,null,{"$f":"IF(OB173=\"\", 0, OB173 - IF(OB172=\"\", LOOKUP(2, 1/(OB$17:OB171<>\"\"), OB$17:OB171), OB172))","v":0},null,null,null,null,46,"",null,null,{"$f":"IF(OK173=\"\", 0, OK173 - IF(OK172=\"\", LOOKUP(2, 1/(OK$17:OK171<>\"\"), OK$17:OK171), OK172))","v":0},null,null,null,null,46,"",null,null,{"$f":"IF(OT173=\"\", 0, OT173 - IF(OT172=\"\", LOOKUP(2, 1/(OT$17:OT171<>\"\"), OT$17:OT171), OT172))","v":0},null,null,null,null,46,"",null,null,{"$f":"IF(PC173=\"\", 0, PC173 - IF(PC172=\"\", LOOKUP(2, 1/(PC$17:PC171<>\"\"), PC$17:PC171), PC172))","v":0},null,null,null,null,46,"",null,null,{"$f":"IF(PL173=\"\", 0, PL173 - IF(PL172=\"\", LOOKUP(2, 1/(PL$17:PL171<>\"\"), PL$17:PL171), PL172))","v":0},null,null,null,null,46,"",null,null,{"$f":"IF(PU173=\"\", 0, PU173 - IF(PU172=\"\", LOOKUP(2, 1/(PU$17:PU171<>\"\"), PU$17:PU171), PU172))","v":0},null,null,null,null,46,"",null,null,{"$f":"IF(QD173=\"\", 0, QD173 - IF(QD172=\"\", LOOKUP(2, 1/(QD$17:QD171<>\"\"), QD$17:QD171), QD172))","v":0}]
[null,null,null,45,"",null,null,{"$f":"IF(G174=\"\", 0, G174 - IF(G173=\"\", LOOKUP(2, 1/(G$17:G172<>\"\"), G$17:G172), G173))","v":0},null,null,null,null,45,"",null,null,{"$f":"IF(P174=\"\", 0, P174 - IF(P173=\"\", LOOKUP(2, 1/(P$17:P172<>\"\"), P$17:P172), P173))","v":0},null,null,null,null,45,"",null,null,{"$f":"IF(Y174=\"\", 0, Y174 - IF(Y173=\"\", LOOKUP(2, 1/(Y$17:Y172<>\"\"), Y$17:Y172), Y173))","v":0},null,null,null,null,45,"",null,null,{"$f":"IF(AH174=\"\", 0, AH174 - IF(AH173=\"\", LOOKUP(2, 1/(AH$17:AH172<>\"\"), AH$17:AH172), AH173))","v":0},null,null,null,null,45,"",null,null,{"$f":"IF(AQ174=\"\", 0, AQ174 - IF(AQ173=\"\", LOOKUP(2, 1/(AQ$17:AQ172<>\"\"), AQ$17:AQ172), AQ173))","v":0},null,null,null,null,45,"",null,null,{"$f":"IF(AZ174=\"\", 0, AZ174 - IF(AZ173=\"\", LOOKUP(2, 1/(AZ$17:AZ172<>\"\"), AZ$17:AZ172), AZ173))","v":0},null,null,null,null,45,"",null,null,{"$f":"IF(BI174=\"\", 0, BI174 - IF(BI173=\"\", LOOKUP(2, 1/(BI$17:BI172<>\"\"), BI$17:BI172), BI173))","v":0},null,null,null,null,45,"",null,null,{"$f":"IF(BR174=\"\", 0, BR174 - IF(BR173=\"\", LOOKUP(2, 1/(BR$17:BR172<>\"\"), BR$17:BR172), BR173))","v":0},null,null,null,null,45,"",null,null,{"$f":"IF(CA174=\"\", 0, CA174 - IF(CA173=\"\", LOOKUP(2, 1/(CA$17:CA172<>\"\"), CA$17:CA172), CA173))","v":0},null,null,null,null,45,"",null,null,{"$f":"IF(CJ174=\"\", 0, CJ174 - IF(CJ173=\"\", LOOKUP(2, 1/(CJ$17:CJ172<>\"\"), CJ$17:CJ172), CJ173))","v":0},null,null,null,null,45,"",null,null,{"$f":"IF(CS174=\"\", 0, CS174 - IF(CS173=\"\", LOOKUP(2, 1/(CS$17:CS172<>\"\"), CS$17:CS172), CS173))","v":0},null,null,null,null,45,"",null,null,{"$f":"IF(DB174=\"\", 0, DB174 - IF(DB173=\"\", LOOKUP(2, 1/(DB$17:DB172<>\"\"), DB$17:DB172), DB173))","v":0},null,null,null,null,45,"",null,null,{"$f":"IF(DK174=\"\", 0, DK174 - IF(DK173=\"\", LOOKUP(2, 1/(DK$17:DK172<>\"\"), DK$17:DK172), DK173))","v":0},null,null,null,null,45,"",null,null,{"$f":"IF(DT174=\"\", 0, DT174 - IF(DT173=\"\", LOOKUP(2, 1/(DT$17:DT172<>\"\"), DT$17:DT172), DT173))","v":0},null,null,null,null,45,"",null,null,{"$f":"IF(EC174=\"\", 0, EC174 - IF(EC173=\"\", LOOKUP(2, 1/(EC$17:EC172<>\"\"), EC$17:EC172), EC173))","v":0},null,null,null,null,45,"",null,null,{"$f":"IF(EL174=\"\", 0, EL174 - IF(EL173=\"\", LOOKUP(2, 1/(EL$17:EL172<>\"\"), EL$17:EL172), EL173))","v":0},null,null,null,null,45,"",null,null,{"$f":"IF(EU174=\"\", 0, EU174 - IF(EU173=\"\", LOOKUP(2, 1/(EU$17:EU172<>\"\"), EU$17:EU172), EU173))","v":0},null,null,null,null,45,"",null,null,{"$f":"IF(FD174=\"\", 0, FD174 - IF(FD173=\"\", LOOKUP(2, 1/(FD$17:FD172<>\"\"), FD$17:FD172), FD173))","v":0},null,null,null,null,45,"",null,null,{"$f":"IF(FM174=\"\", 0, FM174 - IF(FM173=\"\", LOOKUP(2, 1/(FM$17:FM172<>\"\"), FM$17:FM172), FM173))","v":0},null,null,null,null,45,"",null,null,{"$f":"IF(FV174=\"\", 0, FV174 - IF(FV173=\"\", LOOKUP(2, 1/(FV$17:FV172<>\"\"), FV$17:FV172), FV173))","v":0},null,null,null,null,45,"",null,null,{"$f":"IF(GE174=\"\", 0, GE174 - IF(GE173=\"\", LOOKUP(2, 1/(GE$17:GE172<>\"\"), GE$17:GE172), GE173))","v":0},null,null,null,null,45,"",null,null,{"$f":"IF(GN174=\"\", 0, GN174 - IF(GN173=\"\", LOOKUP(2, 1/(GN$17:GN172<>\"\"), GN$17:GN172), GN173))","v":0},null,null,null,null,45,"",null,null,{"$f":"IF(GW174=\"\", 0, GW174 - IF(GW173=\"\", LOOKUP(2, 1/(GW$17:GW172<>\"\"), GW$17:GW172), GW173))","v":0},null,null,null,null,45,"",null,null,{"$f":"IF(HF174=\"\", 0, HF174 - IF(HF173=\"\", LOOKUP(2, 1/(HF$17:HF172<>\"\"), HF$17:HF172), HF173))","v":0},null,null,null,null,45,"",null,null,{"$f":"IF(HO174=\"\", 0, HO174 - IF(HO173=\"\", LOOKUP(2, 1/(HO$17:HO172<>\"\"), HO$17:HO172), HO173))","v":0},null,null,null,null,45,"",null,null,{"$f":"IF(HX174=\"\", 0, HX174 - IF(HX173=\"\", LOOKUP(2, 1/(HX$17:HX172<>\"\"), HX$17:HX172), HX173))","v":0},null,null,null,null,45,"",null,null,{"$f":"IF(IG174=\"\", 0, IG174 - IF(IG173=\"\", LOOKUP(2, 1/(IG$17:IG172<>\"\"), IG$17:IG172), IG173))","v":0},null,null,null,null,45,"",null,null,{"$f":"IF(IP174=\"\", 0, IP174 - IF(IP173=\"\", LOOKUP(2, 1/(IP$17:IP172<>\"\"), IP$17:IP172), IP173))","v":0},null,null,null,null,45,"",null,null,{"$f":"IF(IY174=\"\", 0, IY174 - IF(IY173=\"\", LOOKUP(2, 1/(IY$17:IY172<>\"\"), IY$17:IY172), IY173))","v":0},null,null,null,null,45,"",null,null,{"$f":"IF(JH174=\"\", 0, JH174 - IF(JH173=\"\", LOOKUP(2, 1/(JH$17:JH172<>\"\"), JH$17:JH172), JH173))","v":0},null,null,null,null,45,"",null,null,{"$f":"IF(JQ174=\"\", 0, JQ174 - IF(JQ173=\"\", LOOKUP(2, 1/(JQ$17:JQ172<>\"\"), JQ$17:JQ172), JQ173))","v":0},null,null,null,null,45,"",null,null,{"$f":"IF(JZ174=\"\", 0, JZ174 - IF(JZ173=\"\", LOOKUP(2, 1/(JZ$17:JZ172<>\"\"), JZ$17:JZ172), JZ173))","v":0},null,null,null,null,45,"",null,null,{"$f":"IF(KI174=\"\", 0, KI174 - IF(KI173=\"\", LOOKUP(2, 1/(KI$17:KI172<>\"\"), KI$17:KI172), KI173))","v":0},null,null,null,null,45,"",null,null,{"$f":"IF(KR174=\"\", 0, KR174 - IF(KR173=\"\", LOOKUP(2, 1/(KR$17:KR172<>\"\"), KR$17:KR172), KR173))","v":0},null,null,null,null,45,"",null,null,{"$f":"IF(LA174=\"\", 0, LA174 - IF(LA173=\"\", LOOKUP(2, 1/(LA$17:LA172<>\"\"), LA$17:LA172), LA173))","v":0},null,null,null,null,45,"",null,null,{"$f":"IF(LJ174=\"\", 0, LJ174 - IF(LJ173=\"\", LOOKUP(2, 1/(LJ$17:LJ172<>\"\"), LJ$17:LJ172), LJ173))","v":0},null,null,null,null,45,"",null,null,{"$f":"IF(LS174=\"\", 0, LS174 - IF(LS173=\"\", LOOKUP(2, 1/(LS$17:LS172<>\"\"), LS$17:LS172), LS173))","v":0},null,null,null,null,45,"",null,null,{"$f":"IF(MB174=\"\", 0, MB174 - IF(MB173=\"\", LOOKUP(2, 1/(MB$17:MB172<>\"\"), MB$17:MB172), MB173))","v":0},null,null,null,null,45,"",null,null,{"$f":"IF(MK174=\"\", 0, MK174 - IF(MK173=\"\", LOOKUP(2, 1/(MK$17:MK172<>\"\"), MK$17:MK172), MK173))","v":0},null,null,null,null,45,"",null,null,{"$f":"IF(MT174=\"\", 0, MT174 - IF(MT173=\"\", LOOKUP(2, 1/(MT$17:MT172<>\"\"), MT$17:MT172), MT173))","v":0},null,null,45,"",null,null,{"$f":"IF(NA174=\"\", 0, NA174 - IF(NA173=\"\", LOOKUP(2, 1/(NA$17:NA172<>\"\"), NA$17:NA172), NA173))","v":0},null,null,null,null,45,"",null,null,{"$f":"IF(NJ174=\"\", 0, NJ174 - IF(NJ173=\"\", LOOKUP(2, 1/(NJ$17:NJ172<>\"\"), NJ$17:NJ172), NJ173))","v":0},null,null,null,null,45,"",null,null,{"$f":"IF(NS174=\"\", 0, NS174 - IF(NS173=\"\", LOOKUP(2, 1/(NS$17:NS172<>\"\"), NS$17:NS172), NS173))","v":0},null,null,null,null,45,"",null,null,{"$f":"IF(OB174=\"\", 0, OB174 - IF(OB173=\"\", LOOKUP(2, 1/(OB$17:OB172<>\"\"), OB$17:OB172), OB173))","v":0},null,null,null,null,45,"",null,null,{"$f":"IF(OK174=\"\", 0, OK174 - IF(OK173=\"\", LOOKUP(2, 1/(OK$17:OK172<>\"\"), OK$17:OK172), OK173))","v":0},null,null,null,null,45,"",null,null,{"$f":"IF(OT174=\"\", 0, OT174 - IF(OT173=\"\", LOOKUP(2, 1/(OT$17:OT172<>\"\"), OT$17:OT172), OT173))","v":0},null,null,null,null,45,"",null,null,{"$f":"IF(PC174=\"\", 0, PC174 - IF(PC173=\"\", LOOKUP(2, 1/(PC$17:PC172<>\"\"), PC$17:PC172), PC173))","v":0},null,null,null,null,45,"",null,null,{"$f":"IF(PL174=\"\", 0, PL174 - IF(PL173=\"\", LOOKUP(2, 1/(PL$17:PL172<>\"\"), PL$17:PL172), PL173))","v":0},null,null,null,null,45,"",null,null,{"$f":"IF(PU174=\"\", 0, PU174 - IF(PU173=\"\", LOOKUP(2, 1/(PU$17:PU172<>\"\"), PU$17:PU172), PU173))","v":0},null,null,null,null,45,"",null,null,{"$f":"IF(QD174=\"\", 0, QD174 - IF(QD173=\"\", LOOKUP(2, 1/(QD$17:QD172<>\"\"), QD$17:QD172), QD173))","v":0}]
[null,null,null,44,"",null,null,{"$f":"IF(G175=\"\", 0, G175 - IF(G174=\"\", LOOKUP(2, 1/(G$17:G173<>\"\"), G$17:G173), G174))","v":0},null,null,null,null,44,"",null,null,{"$f":"IF(P175=\"\", 0, P175 - IF(P174=\"\", LOOKUP(2, 1/(P$17:P173<>\"\"), P$17:P173), P174))","v":0},null,null,null,null,44,"",null,null,{"$f":"IF(Y175=\"\", 0, Y175 - IF(Y174=\"\", LOOKUP(2, 1/(Y$17:Y173<>\"\"), Y$17:Y173), Y174))","v":0},null,null,null,null,44,"",null,null,{"$f":"IF(AH175=\"\", 0, AH175 - IF(AH174=\"\", LOOKUP(2, 1/(AH$17:AH173<>\"\"), AH$17:AH173), AH174))","v":0},null,null,null,null,44,"",null,null,{"$f":"IF(AQ175=\"\", 0, AQ175 - IF(AQ174=\"\", LOOKUP(2, 1/(AQ$17:AQ173<>\"\"), AQ$17:AQ173), AQ174))","v":0},null,null,null,null,44,"",null,null,{"$f":"IF(AZ175=\"\", 0, AZ175 - IF(AZ174=\"\", LOOKUP(2, 1/(AZ$17:AZ173<>\"\"), AZ$17:AZ173), AZ174))","v":0},null,null,null,null,44,"",null,null,{"$f":"IF(BI175=\"\", 0, BI175 - IF(BI174=\"\", LOOKUP(2, 1/(BI$17:BI173<>\"\"), BI$17:BI173), BI174))","v":0},null,null,null,null,44,"",null,null,{"$f":"IF(BR175=\"\", 0, BR175 - IF(BR174=\"\", LOOKUP(2, 1/(BR$17:BR173<>\"\"), BR$17:BR173), BR174))","v":0},null,null,null,null,44,"",null,null,{"$f":"IF(CA175=\"\", 0, CA175 - IF(CA174=\"\", LOOKUP(2, 1/(CA$17:CA173<>\"\"), CA$17:CA173), CA174))","v":0},null,null,null,null,44,"",null,null,{"$f":"IF(CJ175=\"\", 0, CJ175 - IF(CJ174=\"\", LOOKUP(2, 1/(CJ$17:CJ173<>\"\"), CJ$17:CJ173), CJ174))","v":0},null,null,null,null,44,"",null,null,{"$f":"IF(CS175=\"\", 0, CS175 - IF(CS174=\"\", LOOKUP(2, 1/(CS$17:CS173<>\"\"), CS$17:CS173), CS174))","v":0},null,null,null,null,44,"",null,null,{"$f":"IF(DB175=\"\", 0, DB175 - IF(DB174=\"\", LOOKUP(2, 1/(DB$17:DB173<>\"\"), DB$17:DB173), DB174))","v":0},null,null,null,null,44,"",null,null,{"$f":"IF(DK175=\"\", 0, DK175 - IF(DK174=\"\", LOOKUP(2, 1/(DK$17:DK173<>\"\"), DK$17:DK173), DK174))","v":0},null,null,null,null,44,"",null,null,{"$f":"IF(DT175=\"\", 0, DT175 - IF(DT174=\"\", LOOKUP(2, 1/(DT$17:DT173<>\"\"), DT$17:DT173), DT174))","v":0},null,null,null,null,44,"",null,null,{"$f":"IF(EC175=\"\", 0, EC175 - IF(EC174=\"\", LOOKUP(2, 1/(EC$17:EC173<>\"\"), EC$17:EC173), EC174))","v":0},null,null,null,null,44,"",null,null,{"$f":"IF(EL175=\"\", 0, EL175 - IF(EL174=\"\", LOOKUP(2, 1/(EL$17:EL173<>\"\"), EL$17:EL173), EL174))","v":0},null,null,null,null,44,"",null,null,{"$f":"IF(EU175=\"\", 0, EU175 - IF(EU174=\"\", LOOKUP(2, 1/(EU$17:EU173<>\"\"), EU$17:EU173), EU174))","v":0},null,null,null,null,44,"",null,null,{"$f":"IF(FD175=\"\", 0, FD175 - IF(FD174=\"\", LOOKUP(2, 1/(FD$17:FD173<>\"\"), FD$17:FD173), FD174))","v":0},null,null,null,null,44,"",null,null,{"$f":"IF(FM175=\"\", 0, FM175 - IF(FM174=\"\", LOOKUP(2, 1/(FM$17:FM173<>\"\"), FM$17:FM173), FM174))","v":0},null,null,null,null,44,"",null,null,{"$f":"IF(FV175=\"\", 0, FV175 - IF(FV174=\"\", LOOKUP(2, 1/(FV$17:FV173<>\"\"), FV$17:FV173), FV174))","v":0},null,null,null,null,44,"",null,null,{"$f":"IF(GE175=\"\", 0, GE175 - IF(GE174=\"\", LOOKUP(2, 1/(GE$17:GE173<>\"\"), GE$17:GE173), GE174))","v":0},null,null,null,null,44,"",null,null,{"$f":"IF(GN175=\"\", 0, GN175 - IF(GN174=\"\", LOOKUP(2, 1/(GN$17:GN173<>\"\"), GN$17:GN173), GN174))","v":0},null,null,null,null,44,"",null,null,{"$f":"IF(GW175=\"\", 0, GW175 - IF(GW174=\"\", LOOKUP(2, 1/(GW$17:GW173<>\"\"), GW$17:GW173), GW174))","v":0},null,null,null,null,44,"",null,null,{"$f":"IF(HF175=\"\", 0, HF175 - IF(HF174=\"\", LOOKUP(2, 1/(HF$17:HF173<>\"\"), HF$17:HF173), HF174))","v":0},null,null,null,null,44,"",null,null,{"$f":"IF(HO175=\"\", 0, HO175 - IF(HO174=\"\", LOOKUP(2, 1/(HO$17:HO173<>\"\"), HO$17:HO173), HO174))","v":0},null,null,null,null,44,"",null,null,{"$f":"IF(HX175=\"\", 0, HX175 - IF(HX174=\"\", LOOKUP(2, 1/(HX$17:HX173<>\"\"), HX$17:HX173), HX174))","v":0},null,null,null,null,44,"",null,null,{"$f":"IF(IG175=\"\", 0, IG175 - IF(IG174=\"\", LOOKUP(2, 1/(IG$17:IG173<>\"\"), IG$17:IG173), IG174))","v":0},null,null,null,null,44,"",null,null,{"$f":"IF(IP175=\"\", 0, IP175 - IF(IP174=\"\", LOOKUP(2, 1/(IP$17:IP173<>\"\"), IP$17:IP173), IP174))","v":0},null,null,null,null,44,"",null,null,{"$f":"IF(IY175=\"\", 0, IY175 - IF(IY174=\"\", LOOKUP(2, 1/(IY$17:IY173<>\"\"), IY$17:IY173), IY174))","v":0},null,null,null,null,44,"",null,null,{"$f":"IF(JH175=\"\", 0, JH175 - IF(JH174=\"\", LOOKUP(2, 1/(JH$17:JH173<>\"\"), JH$17:JH173), JH174))","v":0},null,null,null,null,44,"",null,null,{"$f":"IF(JQ175=\"\", 0, JQ175 - IF(JQ174=\"\", LOOKUP(2, 1/(JQ$17:JQ173<>\"\"), JQ$17:JQ173), JQ174))","v":0},null,null,null,null,44,"",null,null,{"$f":"IF(JZ175=\"\", 0, JZ175 - IF(JZ174=\"\", LOOKUP(2, 1/(JZ$17:JZ173<>\"\"), JZ$17:JZ173), JZ174))","v":0},null,null,null,null,44,"",null,null,{"$f":"IF(KI175=\"\", 0, KI175 - IF(KI174=\"\", LOOKUP(2, 1/(KI$17:KI173<>\"\"), KI$17:KI173), KI174))","v":0},null,null,null,null,44,"",null,null,{"$f":"IF(KR175=\"\", 0, KR175 - IF(KR174=\"\", LOOKUP(2, 1/(KR$17:KR173<>\"\"), KR$17:KR173), KR174))","v":0},null,null,null,null,44,"",null,null,{"$f":"IF(LA175=\"\", 0, LA175 - IF(LA174=\"\", LOOKUP(2, 1/(LA$17:LA173<>\"\"), LA$17:LA173), LA174))","v":0},null,null,null,null,44,"",null,null,{"$f":"IF(LJ175=\"\", 0, LJ175 - IF(LJ174=\"\", LOOKUP(2, 1/(LJ$17:LJ173<>\"\"), LJ$17:LJ173), LJ174))","v":0},null,null,null,null,44,"",null,null,{"$f":"IF(LS175=\"\", 0, LS175 - IF(LS174=\"\", LOOKUP(2, 1/(LS$17:LS173<>\"\"), LS$17:LS173), LS174))","v":0},null,null,null,null,44,"",null,null,{"$f":"IF(MB175=\"\", 0, MB175 - IF(MB174=\"\", LOOKUP(2, 1/(MB$17:MB173<>\"\"), MB$17:MB173), MB174))","v":0},null,null,null,null,44,"",null,null,{"$f":"IF(MK175=\"\", 0, MK175 - IF(MK174=\"\", LOOKUP(2, 1/(MK$17:MK173<>\"\"), MK$17:MK173), MK174))","v":0},null,null,null,null,44,"",null,null,{"$f":"IF(MT175=\"\", 0, MT175 - IF(MT174=\"\", LOOKUP(2, 1/(MT$17:MT173<>\"\"), MT$17:MT173), MT174))","v":0},null,null,44,"",null,null,{"$f":"IF(NA175=\"\", 0, NA175 - IF(NA174=\"\", LOOKUP(2, 1/(NA$17:NA173<>\"\"), NA$17:NA173), NA174))","v":0},null,null,null,null,44,"",null,null,{"$f":"IF(NJ175=\"\", 0, NJ175 - IF(NJ174=\"\", LOOKUP(2, 1/(NJ$17:NJ173<>\"\"), NJ$17:NJ173), NJ174))","v":0},null,null,null,null,44,"",null,null,{"$f":"IF(NS175=\"\", 0, NS175 - IF(NS174=\"\", LOOKUP(2, 1/(NS$17:NS173<>\"\"), NS$17:NS173), NS174))","v":0},null,null,null,null,44,"",null,null,{"$f":"IF(OB175=\"\", 0, OB175 - IF(OB174=\"\", LOOKUP(2, 1/(OB$17:OB173<>\"\"), OB$17:OB173), OB174))","v":0},null,null,null,null,44,"",null,null,{"$f":"IF(OK175=\"\", 0, OK175 - IF(OK174=\"\", LOOKUP(2, 1/(OK$17:OK173<>\"\"), OK$17:OK173), OK174))","v":0},null,null,null,null,44,"",null,null,{"$f":"IF(OT175=\"\", 0, OT175 - IF(OT174=\"\", LOOKUP(2, 1/(OT$17:OT173<>\"\"), OT$17:OT173), OT174))","v":0},null,null,null,null,44,"",null,null,{"$f":"IF(PC175=\"\", 0, PC175 - IF(PC174=\"\", LOOKUP(2, 1/(PC$17:PC173<>\"\"), PC$17:PC173), PC174))","v":0},null,null,null,null,44,"",null,null,{"$f":"IF(PL175=\"\", 0, PL175 - IF(PL174=\"\", LOOKUP(2, 1/(PL$17:PL173<>\"\"), PL$17:PL173), PL174))","v":0},null,null,null,null,44,"",null,null,{"$f":"IF(PU175=\"\", 0, PU175 - IF(PU174=\"\", LOOKUP(2, 1/(PU$17:PU173<>\"\"), PU$17:PU173), PU174))","v":0},null,null,null,null,44,"",null,null,{"$f":"IF(QD175=\"\", 0, QD175 - IF(QD174=\"\", LOOKUP(2, 1/(QD$17:QD173<>\"\"), QD$17:QD173), QD174))","v":0}]
[null,null,null,43,"",null,null,{"$f":"IF(G176=\"\", 0, G176 - IF(G175=\"\", LOOKUP(2, 1/(G$17:G174<>\"\"), G$17:G174), G175))","v":0},null,null,null,null,43,"",null,null,{"$f":"IF(P176=\"\", 0, P176 - IF(P175=\"\", LOOKUP(2, 1/(P$17:P174<>\"\"), P$17:P174), P175))","v":0},null,null,null,null,43,"",null,null,{"$f":"IF(Y176=\"\", 0, Y176 - IF(Y175=\"\", LOOKUP(2, 1/(Y$17:Y174<>\"\"), Y$17:Y174), Y175))","v":0},null,null,null,null,43,"",null,null,{"$f":"IF(AH176=\"\", 0, AH176 - IF(AH175=\"\", LOOKUP(2, 1/(AH$17:AH174<>\"\"), AH$17:AH174), AH175))","v":0},null,null,null,null,43,"",null,null,{"$f":"IF(AQ176=\"\", 0, AQ176 - IF(AQ175=\"\", LOOKUP(2, 1/(AQ$17:AQ174<>\"\"), AQ$17:AQ174), AQ175))","v":0},null,null,null,null,43,"",null,null,{"$f":"IF(AZ176=\"\", 0, AZ176 - IF(AZ175=\"\", LOOKUP(2, 1/(AZ$17:AZ174<>\"\"), AZ$17:AZ174), AZ175))","v":0},null,null,null,null,43,"",null,null,{"$f":"IF(BI176=\"\", 0, BI176 - IF(BI175=\"\", LOOKUP(2, 1/(BI$17:BI174<>\"\"), BI$17:BI174), BI175))","v":0},null,null,null,null,43,"",null,null,{"$f":"IF(BR176=\"\", 0, BR176 - IF(BR175=\"\", LOOKUP(2, 1/(BR$17:BR174<>\"\"), BR$17:BR174), BR175))","v":0},null,null,null,null,43,"",null,null,{"$f":"IF(CA176=\"\", 0, CA176 - IF(CA175=\"\", LOOKUP(2, 1/(CA$17:CA174<>\"\"), CA$17:CA174), CA175))","v":0},null,null,null,null,43,"",null,null,{"$f":"IF(CJ176=\"\", 0, CJ176 - IF(CJ175=\"\", LOOKUP(2, 1/(CJ$17:CJ174<>\"\"), CJ$17:CJ174), CJ175))","v":0},null,null,null,null,43,"",null,null,{"$f":"IF(CS176=\"\", 0, CS176 - IF(CS175=\"\", LOOKUP(2, 1/(CS$17:CS174<>\"\"), CS$17:CS174), CS175))","v":0},null,null,null,null,43,"",null,null,{"$f":"IF(DB176=\"\", 0, DB176 - IF(DB175=\"\", LOOKUP(2, 1/(DB$17:DB174<>\"\"), DB$17:DB174), DB175))","v":0},null,null,null,null,43,"",null,null,{"$f":"IF(DK176=\"\", 0, DK176 - IF(DK175=\"\", LOOKUP(2, 1/(DK$17:DK174<>\"\"), DK$17:DK174), DK175))","v":0},null,null,null,null,43,"",null,null,{"$f":"IF(DT176=\"\", 0, DT176 - IF(DT175=\"\", LOOKUP(2, 1/(DT$17:DT174<>\"\"), DT$17:DT174), DT175))","v":0},null,null,null,null,43,"",null,null,{"$f":"IF(EC176=\"\", 0, EC176 - IF(EC175=\"\", LOOKUP(2, 1/(EC$17:EC174<>\"\"), EC$17:EC174), EC175))","v":0},null,null,null,null,43,"",null,null,{"$f":"IF(EL176=\"\", 0, EL176 - IF(EL175=\"\", LOOKUP(2, 1/(EL$17:EL174<>\"\"), EL$17:EL174), EL175))","v":0},null,null,null,null,43,"",null,null,{"$f":"IF(EU176=\"\", 0, EU176 - IF(EU175=\"\", LOOKUP(2, 1/(EU$17:EU174<>\"\"), EU$17:EU174), EU175))","v":0},null,null,null,null,43,"",null,null,{"$f":"IF(FD176=\"\", 0, FD176 - IF(FD175=\"\", LOOKUP(2, 1/(FD$17:FD174<>\"\"), FD$17:FD174), FD175))","v":0},null,null,null,null,43,"",null,null,{"$f":"IF(FM176=\"\", 0, FM176 - IF(FM175=\"\", LOOKUP(2, 1/(FM$17:FM174<>\"\"), FM$17:FM174), FM175))","v":0},null,null,null,null,43,"",null,null,{"$f":"IF(FV176=\"\", 0, FV176 - IF(FV175=\"\", LOOKUP(2, 1/(FV$17:FV174<>\"\"), FV$17:FV174), FV175))","v":0},null,null,null,null,43,"",null,null,{"$f":"IF(GE176=\"\", 0, GE176 - IF(GE175=\"\", LOOKUP(2, 1/(GE$17:GE174<>\"\"), GE$17:GE174), GE175))","v":0},null,null,null,null,43,"",null,null,{"$f":"IF(GN176=\"\", 0, GN176 - IF(GN175=\"\", LOOKUP(2, 1/(GN$17:GN174<>\"\"), GN$17:GN174), GN175))","v":0},null,null,null,null,43,"",null,null,{"$f":"IF(GW176=\"\", 0, GW176 - IF(GW175=\"\", LOOKUP(2, 1/(GW$17:GW174<>\"\"), GW$17:GW174), GW175))","v":0},null,null,null,null,43,"",null,null,{"$f":"IF(HF176=\"\", 0, HF176 - IF(HF175=\"\", LOOKUP(2, 1/(HF$17:HF174<>\"\"), HF$17:HF174), HF175))","v":0},null,null,null,null,43,"",null,null,{"$f":"IF(HO176=\"\", 0, HO176 - IF(HO175=\"\", LOOKUP(2, 1/(HO$17:HO174<>\"\"), HO$17:HO174), HO175))","v":0},null,null,null,null,43,"",null,null,{"$f":"IF(HX176=\"\", 0, HX176 - IF(HX175=\"\", LOOKUP(2, 1/(HX$17:HX174<>\"\"), HX$17:HX174), HX175))","v":0},null,null,null,null,43,"",null,null,{"$f":"IF(IG176=\"\", 0, IG176 - IF(IG175=\"\", LOOKUP(2, 1/(IG$17:IG174<>\"\"), IG$17:IG174), IG175))","v":0},null,null,null,null,43,"",null,null,{"$f":"IF(IP176=\"\", 0, IP176 - IF(IP175=\"\", LOOKUP(2, 1/(IP$17:IP174<>\"\"), IP$17:IP174), IP175))","v":0},null,null,null,null,43,"",null,null,{"$f":"IF(IY176=\"\", 0, IY176 - IF(IY175=\"\", LOOKUP(2, 1/(IY$17:IY174<>\"\"), IY$17:IY174), IY175))","v":0},null,null,null,null,43,"",null,null,{"$f":"IF(JH176=\"\", 0, JH176 - IF(JH175=\"\", LOOKUP(2, 1/(JH$17:JH174<>\"\"), JH$17:JH174), JH175))","v":0},null,null,null,null,43,"",null,null,{"$f":"IF(JQ176=\"\", 0, JQ176 - IF(JQ175=\"\", LOOKUP(2, 1/(JQ$17:JQ174<>\"\"), JQ$17:JQ174), JQ175))","v":0},null,null,null,null,43,"",null,null,{"$f":"IF(JZ176=\"\", 0, JZ176 - IF(JZ175=\"\", LOOKUP(2, 1/(JZ$17:JZ174<>\"\"), JZ$17:JZ174), JZ175))","v":0},null,null,null,null,43,"",null,null,{"$f":"IF(KI176=\"\", 0, KI176 - IF(KI175=\"\", LOOKUP(2, 1/(KI$17:KI174<>\"\"), KI$17:KI174), KI175))","v":0},null,null,null,null,43,"",null,null,{"$f":"IF(KR176=\"\", 0, KR176 - IF(KR175=\"\", LOOKUP(2, 1/(KR$17:KR174<>\"\"), KR$17:KR174), KR175))","v":0},null,null,null,null,43,"",null,null,{"$f":"IF(LA176=\"\", 0, LA176 - IF(LA175=\"\", LOOKUP(2, 1/(LA$17:LA174<>\"\"), LA$17:LA174), LA175))","v":0},null,null,null,null,43,"",null,null,{"$f":"IF(LJ176=\"\", 0, LJ176 - IF(LJ175=\"\", LOOKUP(2, 1/(LJ$17:LJ174<>\"\"), LJ$17:LJ174), LJ175))","v":0},null,null,null,null,43,"",null,null,{"$f":"IF(LS176=\"\", 0, LS176 - IF(LS175=\"\", LOOKUP(2, 1/(LS$17:LS174<>\"\"), LS$17:LS174), LS175))","v":0},null,null,null,null,43,"",null,null,{"$f":"IF(MB176=\"\", 0, MB176 - IF(MB175=\"\", LOOKUP(2, 1/(MB$17:MB174<>\"\"), MB$17:MB174), MB175))","v":0},null,null,null,null,43,"",null,null,{"$f":"IF(MK176=\"\", 0, MK176 - IF(MK175=\"\", LOOKUP(2, 1/(MK$17:MK174<>\"\"), MK$17:MK174), MK175))","v":0},null,null,null,null,43,"",null,null,{"$f":"IF(MT176=\"\", 0, MT176 - IF(MT175=\"\", LOOKUP(2, 1/(MT$17:MT174<>\"\"), MT$17:MT174), MT175))","v":0},null,null,43,"",null,null,{"$f":"IF(NA176=\"\", 0, NA176 - IF(NA175=\"\", LOOKUP(2, 1/(NA$17:NA174<>\"\"), NA$17:NA174), NA175))","v":0},null,null,null,null,43,"",null,null,{"$f":"IF(NJ176=\"\", 0, NJ176 - IF(NJ175=\"\", LOOKUP(2, 1/(NJ$17:NJ174<>\"\"), NJ$17:NJ174), NJ175))","v":0},null,null,null,null,43,"",null,null,{"$f":"IF(NS176=\"\", 0, NS176 - IF(NS175=\"\", LOOKUP(2, 1/(NS$17:NS174<>\"\"), NS$17:NS174), NS175))","v":0},null,null,null,null,43,"",null,null,{"$f":"IF(OB176=\"\", 0, OB176 - IF(OB175=\"\", LOOKUP(2, 1/(OB$17:OB174<>\"\"), OB$17:OB174), OB175))","v":0},null,null,null,null,43,"",null,null,{"$f":"IF(OK176=\"\", 0, OK176 - IF(OK175=\"\", LOOKUP(2, 1/(OK$17:OK174<>\"\"), OK$17:OK174), OK175))","v":0},null,null,null,null,43,"",null,null,{"$f":"IF(OT176=\"\", 0, OT176 - IF(OT175=\"\", LOOKUP(2, 1/(OT$17:OT174<>\"\"), OT$17:OT174), OT175))","v":0},null,null,null,null,43,"",null,null,{"$f":"IF(PC176=\"\", 0, PC176 - IF(PC175=\"\", LOOKUP(2, 1/(PC$17:PC174<>\"\"), PC$17:PC174), PC175))","v":0},null,null,null,null,43,"",null,null,{"$f":"IF(PL176=\"\", 0, PL176 - IF(PL175=\"\", LOOKUP(2, 1/(PL$17:PL174<>\"\"), PL$17:PL174), PL175))","v":0},null,null,null,null,43,"",null,null,{"$f":"IF(PU176=\"\", 0, PU176 - IF(PU175=\"\", LOOKUP(2, 1/(PU$17:PU174<>\"\"), PU$17:PU174), PU175))","v":0},null,null,null,null,43,"",null,null,{"$f":"IF(QD176=\"\", 0, QD176 - IF(QD175=\"\", LOOKUP(2, 1/(QD$17:QD174<>\"\"), QD$17:QD174), QD175))","v":0}]
[null,null,null,42,"",null,null,{"$f":"IF(G177=\"\", 0, G177 - IF(G176=\"\", LOOKUP(2, 1/(G$17:G175<>\"\"), G$17:G175), G176))","v":0},null,null,null,null,42,"",null,null,{"$f":"IF(P177=\"\", 0, P177 - IF(P176=\"\", LOOKUP(2, 1/(P$17:P175<>\"\"), P$17:P175), P176))","v":0},null,null,null,null,42,"",null,null,{"$f":"IF(Y177=\"\", 0, Y177 - IF(Y176=\"\", LOOKUP(2, 1/(Y$17:Y175<>\"\"), Y$17:Y175), Y176))","v":0},null,null,null,null,42,"",null,null,{"$f":"IF(AH177=\"\", 0, AH177 - IF(AH176=\"\", LOOKUP(2, 1/(AH$17:AH175<>\"\"), AH$17:AH175), AH176))","v":0},null,null,null,null,42,"",null,null,{"$f":"IF(AQ177=\"\", 0, AQ177 - IF(AQ176=\"\", LOOKUP(2, 1/(AQ$17:AQ175<>\"\"), AQ$17:AQ175), AQ176))","v":0},null,null,null,null,42,"",null,null,{"$f":"IF(AZ177=\"\", 0, AZ177 - IF(AZ176=\"\", LOOKUP(2, 1/(AZ$17:AZ175<>\"\"), AZ$17:AZ175), AZ176))","v":0},null,null,null,null,42,"",null,null,{"$f":"IF(BI177=\"\", 0, BI177 - IF(BI176=\"\", LOOKUP(2, 1/(BI$17:BI175<>\"\"), BI$17:BI175), BI176))","v":0},null,null,null,null,42,"",null,null,{"$f":"IF(BR177=\"\", 0, BR177 - IF(BR176=\"\", LOOKUP(2, 1/(BR$17:BR175<>\"\"), BR$17:BR175), BR176))","v":0},null,null,null,null,42,"",null,null,{"$f":"IF(CA177=\"\", 0, CA177 - IF(CA176=\"\", LOOKUP(2, 1/(CA$17:CA175<>\"\"), CA$17:CA175), CA176))","v":0},null,null,null,null,42,"",null,null,{"$f":"IF(CJ177=\"\", 0, CJ177 - IF(CJ176=\"\", LOOKUP(2, 1/(CJ$17:CJ175<>\"\"), CJ$17:CJ175), CJ176))","v":0},null,null,null,null,42,"",null,null,{"$f":"IF(CS177=\"\", 0, CS177 - IF(CS176=\"\", LOOKUP(2, 1/(CS$17:CS175<>\"\"), CS$17:CS175), CS176))","v":0},null,null,null,null,42,"",null,null,{"$f":"IF(DB177=\"\", 0, DB177 - IF(DB176=\"\", LOOKUP(2, 1/(DB$17:DB175<>\"\"), DB$17:DB175), DB176))","v":0},null,null,null,null,42,"",null,null,{"$f":"IF(DK177=\"\", 0, DK177 - IF(DK176=\"\", LOOKUP(2, 1/(DK$17:DK175<>\"\"), DK$17:DK175), DK176))","v":0},null,null,null,null,42,"",null,null,{"$f":"IF(DT177=\"\", 0, DT177 - IF(DT176=\"\", LOOKUP(2, 1/(DT$17:DT175<>\"\"), DT$17:DT175), DT176))","v":0},null,null,null,null,42,"",null,null,{"$f":"IF(EC177=\"\", 0, EC177 - IF(EC176=\"\", LOOKUP(2, 1/(EC$17:EC175<>\"\"), EC$17:EC175), EC176))","v":0},null,null,null,null,42,"",null,null,{"$f":"IF(EL177=\"\", 0, EL177 - IF(EL176=\"\", LOOKUP(2, 1/(EL$17:EL175<>\"\"), EL$17:EL175), EL176))","v":0},null,null,null,null,42,"",null,null,{"$f":"IF(EU177=\"\", 0, EU177 - IF(EU176=\"\", LOOKUP(2, 1/(EU$17:EU175<>\"\"), EU$17:EU175), EU176))","v":0},null,null,null,null,42,"",null,null,{"$f":"IF(FD177=\"\", 0, FD177 - IF(FD176=\"\", LOOKUP(2, 1/(FD$17:FD175<>\"\"), FD$17:FD175), FD176))","v":0},null,null,null,null,42,"",null,null,{"$f":"IF(FM177=\"\", 0, FM177 - IF(FM176=\"\", LOOKUP(2, 1/(FM$17:FM175<>\"\"), FM$17:FM175), FM176))","v":0},null,null,null,null,42,"",null,null,{"$f":"IF(FV177=\"\", 0, FV177 - IF(FV176=\"\", LOOKUP(2, 1/(FV$17:FV175<>\"\"), FV$17:FV175), FV176))","v":0},null,null,null,null,42,"",null,null,{"$f":"IF(GE177=\"\", 0, GE177 - IF(GE176=\"\", LOOKUP(2, 1/(GE$17:GE175<>\"\"), GE$17:GE175), GE176))","v":0},null,null,null,null,42,"",null,null,{"$f":"IF(GN177=\"\", 0, GN177 - IF(GN176=\"\", LOOKUP(2, 1/(GN$17:GN175<>\"\"), GN$17:GN175), GN176))","v":0},null,null,null,null,42,"",null,null,{"$f":"IF(GW177=\"\", 0, GW177 - IF(GW176=\"\", LOOKUP(2, 1/(GW$17:GW175<>\"\"), GW$17:GW175), GW176))","v":0},null,null,null,null,42,"",null,null,{"$f":"IF(HF177=\"\", 0, HF177 - IF(HF176=\"\", LOOKUP(2, 1/(HF$17:HF175<>\"\"), HF$17:HF175), HF176))","v":0},null,null,null,null,42,"",null,null,{"$f":"IF(HO177=\"\", 0, HO177 - IF(HO176=\"\", LOOKUP(2, 1/(HO$17:HO175<>\"\"), HO$17:HO175), HO176))","v":0},null,null,null,null,42,"",null,null,{"$f":"IF(HX177=\"\", 0, HX177 - IF(HX176=\"\", LOOKUP(2, 1/(HX$17:HX175<>\"\"), HX$17:HX175), HX176))","v":0},null,null,null,null,42,"",null,null,{"$f":"IF(IG177=\"\", 0, IG177 - IF(IG176=\"\", LOOKUP(2, 1/(IG$17:IG175<>\"\"), IG$17:IG175), IG176))","v":0},null,null,null,null,42,"",null,null,{"$f":"IF(IP177=\"\", 0, IP177 - IF(IP176=\"\", LOOKUP(2, 1/(IP$17:IP175<>\"\"), IP$17:IP175), IP176))","v":0},null,null,null,null,42,"",null,null,{"$f":"IF(IY177=\"\", 0, IY177 - IF(IY176=\"\", LOOKUP(2, 1/(IY$17:IY175<>\"\"), IY$17:IY175), IY176))","v":0},null,null,null,null,42,"",null,null,{"$f":"IF(JH177=\"\", 0, JH177 - IF(JH176=\"\", LOOKUP(2, 1/(JH$17:JH175<>\"\"), JH$17:JH175), JH176))","v":0},null,null,null,null,42,"",null,null,{"$f":"IF(JQ177=\"\", 0, JQ177 - IF(JQ176=\"\", LOOKUP(2, 1/(JQ$17:JQ175<>\"\"), JQ$17:JQ175), JQ176))","v":0},null,null,null,null,42,"",null,null,{"$f":"IF(JZ177=\"\", 0, JZ177 - IF(JZ176=\"\", LOOKUP(2, 1/(JZ$17:JZ175<>\"\"), JZ$17:JZ175), JZ176))","v":0},null,null,null,null,42,"",null,null,{"$f":"IF(KI177=\"\", 0, KI177 - IF(KI176=\"\", LOOKUP(2, 1/(KI$17:KI175<>\"\"), KI$17:KI175), KI176))","v":0},null,null,null,null,42,"",null,null,{"$f":"IF(KR177=\"\", 0, KR177 - IF(KR176=\"\", LOOKUP(2, 1/(KR$17:KR175<>\"\"), KR$17:KR175), KR176))","v":0},null,null,null,null,42,"",null,null,{"$f":"IF(LA177=\"\", 0, LA177 - IF(LA176=\"\", LOOKUP(2, 1/(LA$17:LA175<>\"\"), LA$17:LA175), LA176))","v":0},null,null,null,null,42,"",null,null,{"$f":"IF(LJ177=\"\", 0, LJ177 - IF(LJ176=\"\", LOOKUP(2, 1/(LJ$17:LJ175<>\"\"), LJ$17:LJ175), LJ176))","v":0},null,null,null,null,42,"",null,null,{"$f":"IF(LS177=\"\", 0, LS177 - IF(LS176=\"\", LOOKUP(2, 1/(LS$17:LS175<>\"\"), LS$17:LS175), LS176))","v":0},null,null,null,null,42,"",null,null,{"$f":"IF(MB177=\"\", 0, MB177 - IF(MB176=\"\", LOOKUP(2, 1/(MB$17:MB175<>\"\"), MB$17:MB175), MB176))","v":0},null,null,null,null,42,"",null,null,{"$f":"IF(MK177=\"\", 0, MK177 - IF(MK176=\"\", LOOKUP(2, 1/(MK$17:MK175<>\"\"), MK$17:MK175), MK176))","v":0},null,null,null,null,42,"",null,null,{"$f":"IF(MT177=\"\", 0, MT177 - IF(MT176=\"\", LOOKUP(2, 1/(MT$17:MT175<>\"\"), MT$17:MT175), MT176))","v":0},null,null,42,"",null,null,{"$f":"IF(NA177=\"\", 0, NA177 - IF(NA176=\"\", LOOKUP(2, 1/(NA$17:NA175<>\"\"), NA$17:NA175), NA176))","v":0},null,null,null,null,42,"",null,null,{"$f":"IF(NJ177=\"\", 0, NJ177 - IF(NJ176=\"\", LOOKUP(2, 1/(NJ$17:NJ175<>\"\"), NJ$17:NJ175), NJ176))","v":0},null,null,null,null,42,"",null,null,{"$f":"IF(NS177=\"\", 0, NS177 - IF(NS176=\"\", LOOKUP(2, 1/(NS$17:NS175<>\"\"), NS$17:NS175), NS176))","v":0},null,null,null,null,42,"",null,null,{"$f":"IF(OB177=\"\", 0, OB177 - IF(OB176=\"\", LOOKUP(2, 1/(OB$17:OB175<>\"\"), OB$17:OB175), OB176))","v":0},null,null,null,null,42,"",null,null,{"$f":"IF(OK177=\"\", 0, OK177 - IF(OK176=\"\", LOOKUP(2, 1/(OK$17:OK175<>\"\"), OK$17:OK175), OK176))","v":0},null,null,null,null,42,"",null,null,{"$f":"IF(OT177=\"\", 0, OT177 - IF(OT176=\"\", LOOKUP(2, 1/(OT$17:OT175<>\"\"), OT$17:OT175), OT176))","v":0},null,null,null,null,42,"",null,null,{"$f":"IF(PC177=\"\", 0, PC177 - IF(PC176=\"\", LOOKUP(2, 1/(PC$17:PC175<>\"\"), PC$17:PC175), PC176))","v":0},null,null,null,null,42,"",null,null,{"$f":"IF(PL177=\"\", 0, PL177 - IF(PL176=\"\", LOOKUP(2, 1/(PL$17:PL175<>\"\"), PL$17:PL175), PL176))","v":0},null,null,null,null,42,"",null,null,{"$f":"IF(PU177=\"\", 0, PU177 - IF(PU176=\"\", LOOKUP(2, 1/(PU$17:PU175<>\"\"), PU$17:PU175), PU176))","v":0},null,null,null,null,42,"",null,null,{"$f":"IF(QD177=\"\", 0, QD177 - IF(QD176=\"\", LOOKUP(2, 1/(QD$17:QD175<>\"\"), QD$17:QD175), QD176))","v":0}]
[null,null,null,41,"",null,null,{"$f":"IF(G178=\"\", 0, G178 - IF(G177=\"\", LOOKUP(2, 1/(G$17:G176<>\"\"), G$17:G176), G177))","v":0},null,null,null,null,41,"",null,null,{"$f":"IF(P178=\"\", 0, P178 - IF(P177=\"\", LOOKUP(2, 1/(P$17:P176<>\"\"), P$17:P176), P177))","v":0},null,null,null,null,41,"",null,null,{"$f":"IF(Y178=\"\", 0, Y178 - IF(Y177=\"\", LOOKUP(2, 1/(Y$17:Y176<>\"\"), Y$17:Y176), Y177))","v":0},null,null,null,null,41,"",null,null,{"$f":"IF(AH178=\"\", 0, AH178 - IF(AH177=\"\", LOOKUP(2, 1/(AH$17:AH176<>\"\"), AH$17:AH176), AH177))","v":0},null,null,null,null,41,"",null,null,{"$f":"IF(AQ178=\"\", 0, AQ178 - IF(AQ177=\"\", LOOKUP(2, 1/(AQ$17:AQ176<>\"\"), AQ$17:AQ176), AQ177))","v":0},null,null,null,null,41,"",null,null,{"$f":"IF(AZ178=\"\", 0, AZ178 - IF(AZ177=\"\", LOOKUP(2, 1/(AZ$17:AZ176<>\"\"), AZ$17:AZ176), AZ177))","v":0},null,null,null,null,41,"",null,null,{"$f":"IF(BI178=\"\", 0, BI178 - IF(BI177=\"\", LOOKUP(2, 1/(BI$17:BI176<>\"\"), BI$17:BI176), BI177))","v":0},null,null,null,null,41,"",null,null,{"$f":"IF(BR178=\"\", 0, BR178 - IF(BR177=\"\", LOOKUP(2, 1/(BR$17:BR176<>\"\"), BR$17:BR176), BR177))","v":0},null,null,null,null,41,"",null,null,{"$f":"IF(CA178=\"\", 0, CA178 - IF(CA177=\"\", LOOKUP(2, 1/(CA$17:CA176<>\"\"), CA$17:CA176), CA177))","v":0},null,null,null,null,41,"",null,null,{"$f":"IF(CJ178=\"\", 0, CJ178 - IF(CJ177=\"\", LOOKUP(2, 1/(CJ$17:CJ176<>\"\"), CJ$17:CJ176), CJ177))","v":0},null,null,null,null,41,"",null,null,{"$f":"IF(CS178=\"\", 0, CS178 - IF(CS177=\"\", LOOKUP(2, 1/(CS$17:CS176<>\"\"), CS$17:CS176), CS177))","v":0},null,null,null,null,41,"",null,null,{"$f":"IF(DB178=\"\", 0, DB178 - IF(DB177=\"\", LOOKUP(2, 1/(DB$17:DB176<>\"\"), DB$17:DB176), DB177))","v":0},null,null,null,null,41,"",null,null,{"$f":"IF(DK178=\"\", 0, DK178 - IF(DK177=\"\", LOOKUP(2, 1/(DK$17:DK176<>\"\"), DK$17:DK176), DK177))","v":0},null,null,null,null,41,"",null,null,{"$f":"IF(DT178=\"\", 0, DT178 - IF(DT177=\"\", LOOKUP(2, 1/(DT$17:DT176<>\"\"), DT$17:DT176), DT177))","v":0},null,null,null,null,41,"",null,null,{"$f":"IF(EC178=\"\", 0, EC178 - IF(EC177=\"\", LOOKUP(2, 1/(EC$17:EC176<>\"\"), EC$17:EC176), EC177))","v":0},null,null,null,null,41,"",null,null,{"$f":"IF(EL178=\"\", 0, EL178 - IF(EL177=\"\", LOOKUP(2, 1/(EL$17:EL176<>\"\"), EL$17:EL176), EL177))","v":0},null,null,null,null,41,"",null,null,{"$f":"IF(EU178=\"\", 0, EU178 - IF(EU177=\"\", LOOKUP(2, 1/(EU$17:EU176<>\"\"), EU$17:EU176), EU177))","v":0},null,null,null,null,41,"",null,null,{"$f":"IF(FD178=\"\", 0, FD178 - IF(FD177=\"\", LOOKUP(2, 1/(FD$17:FD176<>\"\"), FD$17:FD176), FD177))","v":0},null,null,null,null,41,"",null,null,{"$f":"IF(FM178=\"\", 0, FM178 - IF(FM177=\"\", LOOKUP(2, 1/(FM$17:FM176<>\"\"), FM$17:FM176), FM177))","v":0},null,null,null,null,41,"",null,null,{"$f":"IF(FV178=\"\", 0, FV178 - IF(FV177=\"\", LOOKUP(2, 1/(FV$17:FV176<>\"\"), FV$17:FV176), FV177))","v":0},null,null,null,null,41,"",null,null,{"$f":"IF(GE178=\"\", 0, GE178 - IF(GE177=\"\", LOOKUP(2, 1/(GE$17:GE176<>\"\"), GE$17:GE176), GE177))","v":0},null,null,null,null,41,"",null,null,{"$f":"IF(GN178=\"\", 0, GN178 - IF(GN177=\"\", LOOKUP(2, 1/(GN$17:GN176<>\"\"), GN$17:GN176), GN177))","v":0},null,null,null,null,41,"",null,null,{"$f":"IF(GW178=\"\", 0, GW178 - IF(GW177=\"\", LOOKUP(2, 1/(GW$17:GW176<>\"\"), GW$17:GW176), GW177))","v":0},null,null,null,null,41,"",null,null,{"$f":"IF(HF178=\"\", 0, HF178 - IF(HF177=\"\", LOOKUP(2, 1/(HF$17:HF176<>\"\"), HF$17:HF176), HF177))","v":0},null,null,null,null,41,"",null,null,{"$f":"IF(HO178=\"\", 0, HO178 - IF(HO177=\"\", LOOKUP(2, 1/(HO$17:HO176<>\"\"), HO$17:HO176), HO177))","v":0},null,null,null,null,41,"",null,null,{"$f":"IF(HX178=\"\", 0, HX178 - IF(HX177=\"\", LOOKUP(2, 1/(HX$17:HX176<>\"\"), HX$17:HX176), HX177))","v":0},null,null,null,null,41,"",null,null,{"$f":"IF(IG178=\"\", 0, IG178 - IF(IG177=\"\", LOOKUP(2, 1/(IG$17:IG176<>\"\"), IG$17:IG176), IG177))","v":0},null,null,null,null,41,"",null,null,{"$f":"IF(IP178=\"\", 0, IP178 - IF(IP177=\"\", LOOKUP(2, 1/(IP$17:IP176<>\"\"), IP$17:IP176), IP177))","v":0},null,null,null,null,41,"",null,null,{"$f":"IF(IY178=\"\", 0, IY178 - IF(IY177=\"\", LOOKUP(2, 1/(IY$17:IY176<>\"\"), IY$17:IY176), IY177))","v":0},null,null,null,null,41,"",null,null,{"$f":"IF(JH178=\"\", 0, JH178 - IF(JH177=\"\", LOOKUP(2, 1/(JH$17:JH176<>\"\"), JH$17:JH176), JH177))","v":0},null,null,null,null,41,"",null,null,{"$f":"IF(JQ178=\"\", 0, JQ178 - IF(JQ177=\"\", LOOKUP(2, 1/(JQ$17:JQ176<>\"\"), JQ$17:JQ176), JQ177))","v":0},null,null,null,null,41,"",null,null,{"$f":"IF(JZ178=\"\", 0, JZ178 - IF(JZ177=\"\", LOOKUP(2, 1/(JZ$17:JZ176<>\"\"), JZ$17:JZ176), JZ177))","v":0},null,null,null,null,41,"",null,null,{"$f":"IF(KI178=\"\", 0, KI178 - IF(KI177=\"\", LOOKUP(2, 1/(KI$17:KI176<>\"\"), KI$17:KI176), KI177))","v":0},null,null,null,null,41,"",null,null,{"$f":"IF(KR178=\"\", 0, KR178 - IF(KR177=\"\", LOOKUP(2, 1/(KR$17:KR176<>\"\"), KR$17:KR176), KR177))","v":0},null,null,null,null,41,"",null,null,{"$f":"IF(LA178=\"\", 0, LA178 - IF(LA177=\"\", LOOKUP(2, 1/(LA$17:LA176<>\"\"), LA$17:LA176), LA177))","v":0},null,null,null,null,41,"",null,null,{"$f":"IF(LJ178=\"\", 0, LJ178 - IF(LJ177=\"\", LOOKUP(2, 1/(LJ$17:LJ176<>\"\"), LJ$17:LJ176), LJ177))","v":0},null,null,null,null,41,"",null,null,{"$f":"IF(LS178=\"\", 0, LS178 - IF(LS177=\"\", LOOKUP(2, 1/(LS$17:LS176<>\"\"), LS$17:LS176), LS177))","v":0},null,null,null,null,41,"",null,null,{"$f":"IF(MB178=\"\", 0, MB178 - IF(MB177=\"\", LOOKUP(2, 1/(MB$17:MB176<>\"\"), MB$17:MB176), MB177))","v":0},null,null,null,null,41,"",null,null,{"$f":"IF(MK178=\"\", 0, MK178 - IF(MK177=\"\", LOOKUP(2, 1/(MK$17:MK176<>\"\"), MK$17:MK176), MK177))","v":0},null,null,null,null,41,"",null,null,{"$f":"IF(MT178=\"\", 0, MT178 - IF(MT177=\"\", LOOKUP(2, 1/(MT$17:MT176<>\"\"), MT$17:MT176), MT177))","v":0},null,null,41,"",null,null,{"$f":"IF(NA178=\"\", 0, NA178 - IF(NA177=\"\", LOOKUP(2, 1/(NA$17:NA176<>\"\"), NA$17:NA176), NA177))","v":0},null,null,null,null,41,"",null,null,{"$f":"IF(NJ178=\"\", 0, NJ178 - IF(NJ177=\"\", LOOKUP(2, 1/(NJ$17:NJ176<>\"\"), NJ$17:NJ176), NJ177))","v":0},null,null,null,null,41,"",null,null,{"$f":"IF(NS178=\"\", 0, NS178 - IF(NS177=\"\", LOOKUP(2, 1/(NS$17:NS176<>\"\"), NS$17:NS176), NS177))","v":0},null,null,null,null,41,"",null,null,{"$f":"IF(OB178=\"\", 0, OB178 - IF(OB177=\"\", LOOKUP(2, 1/(OB$17:OB176<>\"\"), OB$17:OB176), OB177))","v":0},null,null,null,null,41,"",null,null,{"$f":"IF(OK178=\"\", 0, OK178 - IF(OK177=\"\", LOOKUP(2, 1/(OK$17:OK176<>\"\"), OK$17:OK176), OK177))","v":0},null,null,null,null,41,"",null,null,{"$f":"IF(OT178=\"\", 0, OT178 - IF(OT177=\"\", LOOKUP(2, 1/(OT$17:OT176<>\"\"), OT$17:OT176), OT177))","v":0},null,null,null,null,41,"",null,null,{"$f":"IF(PC178=\"\", 0, PC178 - IF(PC177=\"\", LOOKUP(2, 1/(PC$17:PC176<>\"\"), PC$17:PC176), PC177))","v":0},null,null,null,null,41,"",null,null,{"$f":"IF(PL178=\"\", 0, PL178 - IF(PL177=\"\", LOOKUP(2, 1/(PL$17:PL176<>\"\"), PL$17:PL176), PL177))","v":0},null,null,null,null,41,"",null,null,{"$f":"IF(PU178=\"\", 0, PU178 - IF(PU177=\"\", LOOKUP(2, 1/(PU$17:PU176<>\"\"), PU$17:PU176), PU177))","v":0},null,null,null,null,41,"",null,null,{"$f":"IF(QD178=\"\", 0, QD178 - IF(QD177=\"\", LOOKUP(2, 1/(QD$17:QD176<>\"\"), QD$17:QD176), QD177))","v":0}]
[null,null,null,40,"",null,null,{"$f":"IF(G179=\"\", 0, G179 - IF(G178=\"\", LOOKUP(2, 1/(G$17:G177<>\"\"), G$17:G177), G178))","v":0},null,null,null,null,40,"",null,null,{"$f":"IF(P179=\"\", 0, P179 - IF(P178=\"\", LOOKUP(2, 1/(P$17:P177<>\"\"), P$17:P177), P178))","v":0},null,null,null,null,40,"",null,null,{"$f":"IF(Y179=\"\", 0, Y179 - IF(Y178=\"\", LOOKUP(2, 1/(Y$17:Y177<>\"\"), Y$17:Y177), Y178))","v":0},null,null,null,null,40,"",null,null,{"$f":"IF(AH179=\"\", 0, AH179 - IF(AH178=\"\", LOOKUP(2, 1/(AH$17:AH177<>\"\"), AH$17:AH177), AH178))","v":0},null,null,null,null,40,"",null,null,{"$f":"IF(AQ179=\"\", 0, AQ179 - IF(AQ178=\"\", LOOKUP(2, 1/(AQ$17:AQ177<>\"\"), AQ$17:AQ177), AQ178))","v":0},null,null,null,null,40,"",null,null,{"$f":"IF(AZ179=\"\", 0, AZ179 - IF(AZ178=\"\", LOOKUP(2, 1/(AZ$17:AZ177<>\"\"), AZ$17:AZ177), AZ178))","v":0},null,null,null,null,40,"",null,null,{"$f":"IF(BI179=\"\", 0, BI179 - IF(BI178=\"\", LOOKUP(2, 1/(BI$17:BI177<>\"\"), BI$17:BI177), BI178))","v":0},null,null,null,null,40,"",null,null,{"$f":"IF(BR179=\"\", 0, BR179 - IF(BR178=\"\", LOOKUP(2, 1/(BR$17:BR177<>\"\"), BR$17:BR177), BR178))","v":0},null,null,null,null,40,"",null,null,{"$f":"IF(CA179=\"\", 0, CA179 - IF(CA178=\"\", LOOKUP(2, 1/(CA$17:CA177<>\"\"), CA$17:CA177), CA178))","v":0},null,null,null,null,40,"",null,null,{"$f":"IF(CJ179=\"\", 0, CJ179 - IF(CJ178=\"\", LOOKUP(2, 1/(CJ$17:CJ177<>\"\"), CJ$17:CJ177), CJ178))","v":0},null,null,null,null,40,"",null,null,{"$f":"IF(CS179=\"\", 0, CS179 - IF(CS178=\"\", LOOKUP(2, 1/(CS$17:CS177<>\"\"), CS$17:CS177), CS178))","v":0},null,null,null,null,40,"",null,null,{"$f":"IF(DB179=\"\", 0, DB179 - IF(DB178=\"\", LOOKUP(2, 1/(DB$17:DB177<>\"\"), DB$17:DB177), DB178))","v":0},null,null,null,null,40,"",null,null,{"$f":"IF(DK179=\"\", 0, DK179 - IF(DK178=\"\", LOOKUP(2, 1/(DK$17:DK177<>\"\"), DK$17:DK177), DK178))","v":0},null,null,null,null,40,"",null,null,{"$f":"IF(DT179=\"\", 0, DT179 - IF(DT178=\"\", LOOKUP(2, 1/(DT$17:DT177<>\"\"), DT$17:DT177), DT178))","v":0},null,null,null,null,40,"",null,null,{"$f":"IF(EC179=\"\", 0, EC179 - IF(EC178=\"\", LOOKUP(2, 1/(EC$17:EC177<>\"\"), EC$17:EC177), EC178))","v":0},null,null,null,null,40,"",null,null,{"$f":"IF(EL179=\"\", 0, EL179 - IF(EL178=\"\", LOOKUP(2, 1/(EL$17:EL177<>\"\"), EL$17:EL177), EL178))","v":0},null,null,null,null,40,"",null,null,{"$f":"IF(EU179=\"\", 0, EU179 - IF(EU178=\"\", LOOKUP(2, 1/(EU$17:EU177<>\"\"), EU$17:EU177), EU178))","v":0},null,null,null,null,40,"",null,null,{"$f":"IF(FD179=\"\", 0, FD179 - IF(FD178=\"\", LOOKUP(2, 1/(FD$17:FD177<>\"\"), FD$17:FD177), FD178))","v":0},null,null,null,null,40,"",null,null,{"$f":"IF(FM179=\"\", 0, FM179 - IF(FM178=\"\", LOOKUP(2, 1/(FM$17:FM177<>\"\"), FM$17:FM177), FM178))","v":0},null,null,null,null,40,"",null,null,{"$f":"IF(FV179=\"\", 0, FV179 - IF(FV178=\"\", LOOKUP(2, 1/(FV$17:FV177<>\"\"), FV$17:FV177), FV178))","v":0},null,null,null,null,40,"",null,null,{"$f":"IF(GE179=\"\", 0, GE179 - IF(GE178=\"\", LOOKUP(2, 1/(GE$17:GE177<>\"\"), GE$17:GE177), GE178))","v":0},null,null,null,null,40,"",null,null,{"$f":"IF(GN179=\"\", 0, GN179 - IF(GN178=\"\", LOOKUP(2, 1/(GN$17:GN177<>\"\"), GN$17:GN177), GN178))","v":0},null,null,null,null,40,"",null,null,{"$f":"IF(GW179=\"\", 0, GW179 - IF(GW178=\"\", LOOKUP(2, 1/(GW$17:GW177<>\"\"), GW$17:GW177), GW178))","v":0},null,null,null,null,40,"",null,null,{"$f":"IF(HF179=\"\", 0, HF179 - IF(HF178=\"\", LOOKUP(2, 1/(HF$17:HF177<>\"\"), HF$17:HF177), HF178))","v":0},null,null,null,null,40,"",null,null,{"$f":"IF(HO179=\"\", 0, HO179 - IF(HO178=\"\", LOOKUP(2, 1/(HO$17:HO177<>\"\"), HO$17:HO177), HO178))","v":0},null,null,null,null,40,"",null,null,{"$f":"IF(HX179=\"\", 0, HX179 - IF(HX178=\"\", LOOKUP(2, 1/(HX$17:HX177<>\"\"), HX$17:HX177), HX178))","v":0},null,null,null,null,40,"",null,null,{"$f":"IF(IG179=\"\", 0, IG179 - IF(IG178=\"\", LOOKUP(2, 1/(IG$17:IG177<>\"\"), IG$17:IG177), IG178))","v":0},null,null,null,null,40,"",null,null,{"$f":"IF(IP179=\"\", 0, IP179 - IF(IP178=\"\", LOOKUP(2, 1/(IP$17:IP177<>\"\"), IP$17:IP177), IP178))","v":0},null,null,null,null,40,"",null,null,{"$f":"IF(IY179=\"\", 0, IY179 - IF(IY178=\"\", LOOKUP(2, 1/(IY$17:IY177<>\"\"), IY$17:IY177), IY178))","v":0},null,null,null,null,40,"",null,null,{"$f":"IF(JH179=\"\", 0, JH179 - IF(JH178=\"\", LOOKUP(2, 1/(JH$17:JH177<>\"\"), JH$17:JH177), JH178))","v":0},null,null,null,null,40,"",null,null,{"$f":"IF(JQ179=\"\", 0, JQ179 - IF(JQ178=\"\", LOOKUP(2, 1/(JQ$17:JQ177<>\"\"), JQ$17:JQ177), JQ178))","v":0},null,null,null,null,40,"",null,null,{"$f":"IF(JZ179=\"\", 0, JZ179 - IF(JZ178=\"\", LOOKUP(2, 1/(JZ$17:JZ177<>\"\"), JZ$17:JZ177), JZ178))","v":0},null,null,null,null,40,"",null,null,{"$f":"IF(KI179=\"\", 0, KI179 - IF(KI178=\"\", LOOKUP(2, 1/(KI$17:KI177<>\"\"), KI$17:KI177), KI178))","v":0},null,null,null,null,40,"",null,null,{"$f":"IF(KR179=\"\", 0, KR179 - IF(KR178=\"\", LOOKUP(2, 1/(KR$17:KR177<>\"\"), KR$17:KR177), KR178))","v":0},null,null,null,null,40,"",null,null,{"$f":"IF(LA179=\"\", 0, LA179 - IF(LA178=\"\", LOOKUP(2, 1/(LA$17:LA177<>\"\"), LA$17:LA177), LA178))","v":0},null,null,null,null,40,"",null,null,{"$f":"IF(LJ179=\"\", 0, LJ179 - IF(LJ178=\"\", LOOKUP(2, 1/(LJ$17:LJ177<>\"\"), LJ$17:LJ177), LJ178))","v":0},null,null,null,null,40,"",null,null,{"$f":"IF(LS179=\"\", 0, LS179 - IF(LS178=\"\", LOOKUP(2, 1/(LS$17:LS177<>\"\"), LS$17:LS177), LS178))","v":0},null,null,null,null,40,"",null,null,{"$f":"IF(MB179=\"\", 0, MB179 - IF(MB178=\"\", LOOKUP(2, 1/(MB$17:MB177<>\"\"), MB$17:MB177), MB178))","v":0},null,null,null,null,40,"",null,null,{"$f":"IF(MK179=\"\", 0, MK179 - IF(MK178=\"\", LOOKUP(2, 1/(MK$17:MK177<>\"\"), MK$17:MK177), MK178))","v":0},null,null,null,null,40,"",null,null,{"$f":"IF(MT179=\"\", 0, MT179 - IF(MT178=\"\", LOOKUP(2, 1/(MT$17:MT177<>\"\"), MT$17:MT177), MT178))","v":0},null,null,40,"",null,null,{"$f":"IF(NA179=\"\", 0, NA179 - IF(NA178=\"\", LOOKUP(2, 1/(NA$17:NA177<>\"\"), NA$17:NA177), NA178))","v":0},null,null,null,null,40,"",null,null,{"$f":"IF(NJ179=\"\", 0, NJ179 - IF(NJ178=\"\", LOOKUP(2, 1/(NJ$17:NJ177<>\"\"), NJ$17:NJ177), NJ178))","v":0},null,null,null,null,40,"",null,null,{"$f":"IF(NS179=\"\", 0, NS179 - IF(NS178=\"\", LOOKUP(2, 1/(NS$17:NS177<>\"\"), NS$17:NS177), NS178))","v":0},null,null,null,null,40,"",null,null,{"$f":"IF(OB179=\"\", 0, OB179 - IF(OB178=\"\", LOOKUP(2, 1/(OB$17:OB177<>\"\"), OB$17:OB177), OB178))","v":0},null,null,null,null,40,"",null,null,{"$f":"IF(OK179=\"\", 0, OK179 - IF(OK178=\"\", LOOKUP(2, 1/(OK$17:OK177<>\"\"), OK$17:OK177), OK178))","v":0},null,null,null,null,40,"",null,null,{"$f":"IF(OT179=\"\", 0, OT179 - IF(OT178=\"\", LOOKUP(2, 1/(OT$17:OT177<>\"\"), OT$17:OT177), OT178))","v":0},null,null,null,null,40,"",null,null,{"$f":"IF(PC179=\"\", 0, PC179 - IF(PC178=\"\", LOOKUP(2, 1/(PC$17:PC177<>\"\"), PC$17:PC177), PC178))","v":0},null,null,null,null,40,"",null,null,{"$f":"IF(PL179=\"\", 0, PL179 - IF(PL178=\"\", LOOKUP(2, 1/(PL$17:PL177<>\"\"), PL$17:PL177), PL178))","v":0},null,null,null,null,40,"",null,null,{"$f":"IF(PU179=\"\", 0, PU179 - IF(PU178=\"\", LOOKUP(2, 1/(PU$17:PU177<>\"\"), PU$17:PU177), PU178))","v":0},null,null,null,null,40,"",null,null,{"$f":"IF(QD179=\"\", 0, QD179 - IF(QD178=\"\", LOOKUP(2, 1/(QD$17:QD177<>\"\"), QD$17:QD177), QD178))","v":0}]
[null,null,null,39,"",null,null,{"$f":"IF(G180=\"\", 0, G180 - IF(G179=\"\", LOOKUP(2, 1/(G$17:G178<>\"\"), G$17:G178), G179))","v":0},null,null,null,null,39,"",null,null,{"$f":"IF(P180=\"\", 0, P180 - IF(P179=\"\", LOOKUP(2, 1/(P$17:P178<>\"\"), P$17:P178), P179))","v":0},null,null,null,null,39,"",null,null,{"$f":"IF(Y180=\"\", 0, Y180 - IF(Y179=\"\", LOOKUP(2, 1/(Y$17:Y178<>\"\"), Y$17:Y178), Y179))","v":0},null,null,null,null,39,"",null,null,{"$f":"IF(AH180=\"\", 0, AH180 - IF(AH179=\"\", LOOKUP(2, 1/(AH$17:AH178<>\"\"), AH$17:AH178), AH179))","v":0},null,null,null,null,39,"",null,null,{"$f":"IF(AQ180=\"\", 0, AQ180 - IF(AQ179=\"\", LOOKUP(2, 1/(AQ$17:AQ178<>\"\"), AQ$17:AQ178), AQ179))","v":0},null,null,null,null,39,"",null,null,{"$f":"IF(AZ180=\"\", 0, AZ180 - IF(AZ179=\"\", LOOKUP(2, 1/(AZ$17:AZ178<>\"\"), AZ$17:AZ178), AZ179))","v":0},null,null,null,null,39,"",null,null,{"$f":"IF(BI180=\"\", 0, BI180 - IF(BI179=\"\", LOOKUP(2, 1/(BI$17:BI178<>\"\"), BI$17:BI178), BI179))","v":0},null,null,null,null,39,"",null,null,{"$f":"IF(BR180=\"\", 0, BR180 - IF(BR179=\"\", LOOKUP(2, 1/(BR$17:BR178<>\"\"), BR$17:BR178), BR179))","v":0},null,null,null,null,39,"",null,null,{"$f":"IF(CA180=\"\", 0, CA180 - IF(CA179=\"\", LOOKUP(2, 1/(CA$17:CA178<>\"\"), CA$17:CA178), CA179))","v":0},null,null,null,null,39,"",null,null,{"$f":"IF(CJ180=\"\", 0, CJ180 - IF(CJ179=\"\", LOOKUP(2, 1/(CJ$17:CJ178<>\"\"), CJ$17:CJ178), CJ179))","v":0},null,null,null,null,39,"",null,null,{"$f":"IF(CS180=\"\", 0, CS180 - IF(CS179=\"\", LOOKUP(2, 1/(CS$17:CS178<>\"\"), CS$17:CS178), CS179))","v":0},null,null,null,null,39,"",null,null,{"$f":"IF(DB180=\"\", 0, DB180 - IF(DB179=\"\", LOOKUP(2, 1/(DB$17:DB178<>\"\"), DB$17:DB178), DB179))","v":0},null,null,null,null,39,"",null,null,{"$f":"IF(DK180=\"\", 0, DK180 - IF(DK179=\"\", LOOKUP(2, 1/(DK$17:DK178<>\"\"), DK$17:DK178), DK179))","v":0},null,null,null,null,39,"",null,null,{"$f":"IF(DT180=\"\", 0, DT180 - IF(DT179=\"\", LOOKUP(2, 1/(DT$17:DT178<>\"\"), DT$17:DT178), DT179))","v":0},null,null,null,null,39,"",null,null,{"$f":"IF(EC180=\"\", 0, EC180 - IF(EC179=\"\", LOOKUP(2, 1/(EC$17:EC178<>\"\"), EC$17:EC178), EC179))","v":0},null,null,null,null,39,"",null,null,{"$f":"IF(EL180=\"\", 0, EL180 - IF(EL179=\"\", LOOKUP(2, 1/(EL$17:EL178<>\"\"), EL$17:EL178), EL179))","v":0},null,null,null,null,39,"",null,null,{"$f":"IF(EU180=\"\", 0, EU180 - IF(EU179=\"\", LOOKUP(2, 1/(EU$17:EU178<>\"\"), EU$17:EU178), EU179))","v":0},null,null,null,null,39,"",null,null,{"$f":"IF(FD180=\"\", 0, FD180 - IF(FD179=\"\", LOOKUP(2, 1/(FD$17:FD178<>\"\"), FD$17:FD178), FD179))","v":0},null,null,null,null,39,"",null,null,{"$f":"IF(FM180=\"\", 0, FM180 - IF(FM179=\"\", LOOKUP(2, 1/(FM$17:FM178<>\"\"), FM$17:FM178), FM179))","v":0},null,null,null,null,39,"",null,null,{"$f":"IF(FV180=\"\", 0, FV180 - IF(FV179=\"\", LOOKUP(2, 1/(FV$17:FV178<>\"\"), FV$17:FV178), FV179))","v":0},null,null,null,null,39,"",null,null,{"$f":"IF(GE180=\"\", 0, GE180 - IF(GE179=\"\", LOOKUP(2, 1/(GE$17:GE178<>\"\"), GE$17:GE178), GE179))","v":0},null,null,null,null,39,"",null,null,{"$f":"IF(GN180=\"\", 0, GN180 - IF(GN179=\"\", LOOKUP(2, 1/(GN$17:GN178<>\"\"), GN$17:GN178), GN179))","v":0},null,null,null,null,39,"",null,null,{"$f":"IF(GW180=\"\", 0, GW180 - IF(GW179=\"\", LOOKUP(2, 1/(GW$17:GW178<>\"\"), GW$17:GW178), GW179))","v":0},null,null,null,null,39,"",null,null,{"$f":"IF(HF180=\"\", 0, HF180 - IF(HF179=\"\", LOOKUP(2, 1/(HF$17:HF178<>\"\"), HF$17:HF178), HF179))","v":0},null,null,null,null,39,"",null,null,{"$f":"IF(HO180=\"\", 0, HO180 - IF(HO179=\"\", LOOKUP(2, 1/(HO$17:HO178<>\"\"), HO$17:HO178), HO179))","v":0},null,null,null,null,39,"",null,null,{"$f":"IF(HX180=\"\", 0, HX180 - IF(HX179=\"\", LOOKUP(2, 1/(HX$17:HX178<>\"\"), HX$17:HX178), HX179))","v":0},null,null,null,null,39,"",null,null,{"$f":"IF(IG180=\"\", 0, IG180 - IF(IG179=\"\", LOOKUP(2, 1/(IG$17:IG178<>\"\"), IG$17:IG178), IG179))","v":0},null,null,null,null,39,"",null,null,{"$f":"IF(IP180=\"\", 0, IP180 - IF(IP179=\"\", LOOKUP(2, 1/(IP$17:IP178<>\"\"), IP$17:IP178), IP179))","v":0},null,null,null,null,39,"",null,null,{"$f":"IF(IY180=\"\", 0, IY180 - IF(IY179=\"\", LOOKUP(2, 1/(IY$17:IY178<>\"\"), IY$17:IY178), IY179))","v":0},null,null,null,null,39,"",null,null,{"$f":"IF(JH180=\"\", 0, JH180 - IF(JH179=\"\", LOOKUP(2, 1/(JH$17:JH178<>\"\"), JH$17:JH178), JH179))","v":0},null,null,null,null,39,"",null,null,{"$f":"IF(JQ180=\"\", 0, JQ180 - IF(JQ179=\"\", LOOKUP(2, 1/(JQ$17:JQ178<>\"\"), JQ$17:JQ178), JQ179))","v":0},null,null,null,null,39,"",null,null,{"$f":"IF(JZ180=\"\", 0, JZ180 - IF(JZ179=\"\", LOOKUP(2, 1/(JZ$17:JZ178<>\"\"), JZ$17:JZ178), JZ179))","v":0},null,null,null,null,39,"",null,null,{"$f":"IF(KI180=\"\", 0, KI180 - IF(KI179=\"\", LOOKUP(2, 1/(KI$17:KI178<>\"\"), KI$17:KI178), KI179))","v":0},null,null,null,null,39,"",null,null,{"$f":"IF(KR180=\"\", 0, KR180 - IF(KR179=\"\", LOOKUP(2, 1/(KR$17:KR178<>\"\"), KR$17:KR178), KR179))","v":0},null,null,null,null,39,"",null,null,{"$f":"IF(LA180=\"\", 0, LA180 - IF(LA179=\"\", LOOKUP(2, 1/(LA$17:LA178<>\"\"), LA$17:LA178), LA179))","v":0},null,null,null,null,39,"",null,null,{"$f":"IF(LJ180=\"\", 0, LJ180 - IF(LJ179=\"\", LOOKUP(2, 1/(LJ$17:LJ178<>\"\"), LJ$17:LJ178), LJ179))","v":0},null,null,null,null,39,"",null,null,{"$f":"IF(LS180=\"\", 0, LS180 - IF(LS179=\"\", LOOKUP(2, 1/(LS$17:LS178<>\"\"), LS$17:LS178), LS179))","v":0},null,null,null,null,39,"",null,null,{"$f":"IF(MB180=\"\", 0, MB180 - IF(MB179=\"\", LOOKUP(2, 1/(MB$17:MB178<>\"\"), MB$17:MB178), MB179))","v":0},null,null,null,null,39,"",null,null,{"$f":"IF(MK180=\"\", 0, MK180 - IF(MK179=\"\", LOOKUP(2, 1/(MK$17:MK178<>\"\"), MK$17:MK178), MK179))","v":0},null,null,null,null,39,"",null,null,{"$f":"IF(MT180=\"\", 0, MT180 - IF(MT179=\"\", LOOKUP(2, 1/(MT$17:MT178<>\"\"), MT$17:MT178), MT179))","v":0},null,null,39,"",null,null,{"$f":"IF(NA180=\"\", 0, NA180 - IF(NA179=\"\", LOOKUP(2, 1/(NA$17:NA178<>\"\"), NA$17:NA178), NA179))","v":0},null,null,null,null,39,"",null,null,{"$f":"IF(NJ180=\"\", 0, NJ180 - IF(NJ179=\"\", LOOKUP(2, 1/(NJ$17:NJ178<>\"\"), NJ$17:NJ178), NJ179))","v":0},null,null,null,null,39,"",null,null,{"$f":"IF(NS180=\"\", 0, NS180 - IF(NS179=\"\", LOOKUP(2, 1/(NS$17:NS178<>\"\"), NS$17:NS178), NS179))","v":0},null,null,null,null,39,"",null,null,{"$f":"IF(OB180=\"\", 0, OB180 - IF(OB179=\"\", LOOKUP(2, 1/(OB$17:OB178<>\"\"), OB$17:OB178), OB179))","v":0},null,null,null,null,39,"",null,null,{"$f":"IF(OK180=\"\", 0, OK180 - IF(OK179=\"\", LOOKUP(2, 1/(OK$17:OK178<>\"\"), OK$17:OK178), OK179))","v":0},null,null,null,null,39,"",null,null,{"$f":"IF(OT180=\"\", 0, OT180 - IF(OT179=\"\", LOOKUP(2, 1/(OT$17:OT178<>\"\"), OT$17:OT178), OT179))","v":0},null,null,null,null,39,"",null,null,{"$f":"IF(PC180=\"\", 0, PC180 - IF(PC179=\"\", LOOKUP(2, 1/(PC$17:PC178<>\"\"), PC$17:PC178), PC179))","v":0},null,null,null,null,39,"",null,null,{"$f":"IF(PL180=\"\", 0, PL180 - IF(PL179=\"\", LOOKUP(2, 1/(PL$17:PL178<>\"\"), PL$17:PL178), PL179))","v":0},null,null,null,null,39,"",null,null,{"$f":"IF(PU180=\"\", 0, PU180 - IF(PU179=\"\", LOOKUP(2, 1/(PU$17:PU178<>\"\"), PU$17:PU178), PU179))","v":0},null,null,null,null,39,"",null,null,{"$f":"IF(QD180=\"\", 0, QD180 - IF(QD179=\"\", LOOKUP(2, 1/(QD$17:QD178<>\"\"), QD$17:QD178), QD179))","v":0}]
[null,null,null,38,"",null,null,{"$f":"IF(G181=\"\", 0, G181 - IF(G180=\"\", LOOKUP(2, 1/(G$17:G179<>\"\"), G$17:G179), G180))","v":0},null,null,null,null,38,"",null,null,{"$f":"IF(P181=\"\", 0, P181 - IF(P180=\"\", LOOKUP(2, 1/(P$17:P179<>\"\"), P$17:P179), P180))","v":0},null,null,null,null,38,"",null,null,{"$f":"IF(Y181=\"\", 0, Y181 - IF(Y180=\"\", LOOKUP(2, 1/(Y$17:Y179<>\"\"), Y$17:Y179), Y180))","v":0},null,null,null,null,38,"",null,null,{"$f":"IF(AH181=\"\", 0, AH181 - IF(AH180=\"\", LOOKUP(2, 1/(AH$17:AH179<>\"\"), AH$17:AH179), AH180))","v":0},null,null,null,null,38,"",null,null,{"$f":"IF(AQ181=\"\", 0, AQ181 - IF(AQ180=\"\", LOOKUP(2, 1/(AQ$17:AQ179<>\"\"), AQ$17:AQ179), AQ180))","v":0},null,null,null,null,38,"",null,null,{"$f":"IF(AZ181=\"\", 0, AZ181 - IF(AZ180=\"\", LOOKUP(2, 1/(AZ$17:AZ179<>\"\"), AZ$17:AZ179), AZ180))","v":0},null,null,null,null,38,"",null,null,{"$f":"IF(BI181=\"\", 0, BI181 - IF(BI180=\"\", LOOKUP(2, 1/(BI$17:BI179<>\"\"), BI$17:BI179), BI180))","v":0},null,null,null,null,38,"",null,null,{"$f":"IF(BR181=\"\", 0, BR181 - IF(BR180=\"\", LOOKUP(2, 1/(BR$17:BR179<>\"\"), BR$17:BR179), BR180))","v":0},null,null,null,null,38,"",null,null,{"$f":"IF(CA181=\"\", 0, CA181 - IF(CA180=\"\", LOOKUP(2, 1/(CA$17:CA179<>\"\"), CA$17:CA179), CA180))","v":0},null,null,null,null,38,"",null,null,{"$f":"IF(CJ181=\"\", 0, CJ181 - IF(CJ180=\"\", LOOKUP(2, 1/(CJ$17:CJ179<>\"\"), CJ$17:CJ179), CJ180))","v":0},null,null,null,null,38,"",null,null,{"$f":"IF(CS181=\"\", 0, CS181 - IF(CS180=\"\", LOOKUP(2, 1/(CS$17:CS179<>\"\"), CS$17:CS179), CS180))","v":0},null,null,null,null,38,"",null,null,{"$f":"IF(DB181=\"\", 0, DB181 - IF(DB180=\"\", LOOKUP(2, 1/(DB$17:DB179<>\"\"), DB$17:DB179), DB180))","v":0},null,null,null,null,38,"",null,null,{"$f":"IF(DK181=\"\", 0, DK181 - IF(DK180=\"\", LOOKUP(2, 1/(DK$17:DK179<>\"\"), DK$17:DK179), DK180))","v":0},null,null,null,null,38,"",null,null,{"$f":"IF(DT181=\"\", 0, DT181 - IF(DT180=\"\", LOOKUP(2, 1/(DT$17:DT179<>\"\"), DT$17:DT179), DT180))","v":0},null,null,null,null,38,"",null,null,{"$f":"IF(EC181=\"\", 0, EC181 - IF(EC180=\"\", LOOKUP(2, 1/(EC$17:EC179<>\"\"), EC$17:EC179), EC180))","v":0},null,null,null,null,38,"",null,null,{"$f":"IF(EL181=\"\", 0, EL181 - IF(EL180=\"\", LOOKUP(2, 1/(EL$17:EL179<>\"\"), EL$17:EL179), EL180))","v":0},null,null,null,null,38,"",null,null,{"$f":"IF(EU181=\"\", 0, EU181 - IF(EU180=\"\", LOOKUP(2, 1/(EU$17:EU179<>\"\"), EU$17:EU179), EU180))","v":0},null,null,null,null,38,"",null,null,{"$f":"IF(FD181=\"\", 0, FD181 - IF(FD180=\"\", LOOKUP(2, 1/(FD$17:FD179<>\"\"), FD$17:FD179), FD180))","v":0},null,null,null,null,38,"",null,null,{"$f":"IF(FM181=\"\", 0, FM181 - IF(FM180=\"\", LOOKUP(2, 1/(FM$17:FM179<>\"\"), FM$17:FM179), FM180))","v":0},null,null,null,null,38,"",null,null,{"$f":"IF(FV181=\"\", 0, FV181 - IF(FV180=\"\", LOOKUP(2, 1/(FV$17:FV179<>\"\"), FV$17:FV179), FV180))","v":0},null,null,null,null,38,"",null,null,{"$f":"IF(GE181=\"\", 0, GE181 - IF(GE180=\"\", LOOKUP(2, 1/(GE$17:GE179<>\"\"), GE$17:GE179), GE180))","v":0},null,null,null,null,38,"",null,null,{"$f":"IF(GN181=\"\", 0, GN181 - IF(GN180=\"\", LOOKUP(2, 1/(GN$17:GN179<>\"\"), GN$17:GN179), GN180))","v":0},null,null,null,null,38,"",null,null,{"$f":"IF(GW181=\"\", 0, GW181 - IF(GW180=\"\", LOOKUP(2, 1/(GW$17:GW179<>\"\"), GW$17:GW179), GW180))","v":0},null,null,null,null,38,"",null,null,{"$f":"IF(HF181=\"\", 0, HF181 - IF(HF180=\"\", LOOKUP(2, 1/(HF$17:HF179<>\"\"), HF$17:HF179), HF180))","v":0},null,null,null,null,38,"",null,null,{"$f":"IF(HO181=\"\", 0, HO181 - IF(HO180=\"\", LOOKUP(2, 1/(HO$17:HO179<>\"\"), HO$17:HO179), HO180))","v":0},null,null,null,null,38,"",null,null,{"$f":"IF(HX181=\"\", 0, HX181 - IF(HX180=\"\", LOOKUP(2, 1/(HX$17:HX179<>\"\"), HX$17:HX179), HX180))","v":0},null,null,null,null,38,"",null,null,{"$f":"IF(IG181=\"\", 0, IG181 - IF(IG180=\"\", LOOKUP(2, 1/(IG$17:IG179<>\"\"), IG$17:IG179), IG180))","v":0},null,null,null,null,38,"",null,null,{"$f":"IF(IP181=\"\", 0, IP181 - IF(IP180=\"\", LOOKUP(2, 1/(IP$17:IP179<>\"\"), IP$17:IP179), IP180))","v":0},null,null,null,null,38,"",null,null,{"$f":"IF(IY181=\"\", 0, IY181 - IF(IY180=\"\", LOOKUP(2, 1/(IY$17:IY179<>\"\"), IY$17:IY179), IY180))","v":0},null,null,null,null,38,"",null,null,{"$f":"IF(JH181=\"\", 0, JH181 - IF(JH180=\"\", LOOKUP(2, 1/(JH$17:JH179<>\"\"), JH$17:JH179), JH180))","v":0},null,null,null,null,38,"",null,null,{"$f":"IF(JQ181=\"\", 0, JQ181 - IF(JQ180=\"\", LOOKUP(2, 1/(JQ$17:JQ179<>\"\"), JQ$17:JQ179), JQ180))","v":0},null,null,null,null,38,"",null,null,{"$f":"IF(JZ181=\"\", 0, JZ181 - IF(JZ180=\"\", LOOKUP(2, 1/(JZ$17:JZ179<>\"\"), JZ$17:JZ179), JZ180))","v":0},null,null,null,null,38,"",null,null,{"$f":"IF(KI181=\"\", 0, KI181 - IF(KI180=\"\", LOOKUP(2, 1/(KI$17:KI179<>\"\"), KI$17:KI179), KI180))","v":0},null,null,null,null,38,"",null,null,{"$f":"IF(KR181=\"\", 0, KR181 - IF(KR180=\"\", LOOKUP(2, 1/(KR$17:KR179<>\"\"), KR$17:KR179), KR180))","v":0},null,null,null,null,38,"",null,null,{"$f":"IF(LA181=\"\", 0, LA181 - IF(LA180=\"\", LOOKUP(2, 1/(LA$17:LA179<>\"\"), LA$17:LA179), LA180))","v":0},null,null,null,null,38,"",null,null,{"$f":"IF(LJ181=\"\", 0, LJ181 - IF(LJ180=\"\", LOOKUP(2, 1/(LJ$17:LJ179<>\"\"), LJ$17:LJ179), LJ180))","v":0},null,null,null,null,38,"",null,null,{"$f":"IF(LS181=\"\", 0, LS181 - IF(LS180=\"\", LOOKUP(2, 1/(LS$17:LS179<>\"\"), LS$17:LS179), LS180))","v":0},null,null,null,null,38,"",null,null,{"$f":"IF(MB181=\"\", 0, MB181 - IF(MB180=\"\", LOOKUP(2, 1/(MB$17:MB179<>\"\"), MB$17:MB179), MB180))","v":0},null,null,null,null,38,"",null,null,{"$f":"IF(MK181=\"\", 0, MK181 - IF(MK180=\"\", LOOKUP(2, 1/(MK$17:MK179<>\"\"), MK$17:MK179), MK180))","v":0},null,null,null,null,38,"",null,null,{"$f":"IF(MT181=\"\", 0, MT181 - IF(MT180=\"\", LOOKUP(2, 1/(MT$17:MT179<>\"\"), MT$17:MT179), MT180))","v":0},null,null,38,"",null,null,{"$f":"IF(NA181=\"\", 0, NA181 - IF(NA180=\"\", LOOKUP(2, 1/(NA$17:NA179<>\"\"), NA$17:NA179), NA180))","v":0},null,null,null,null,38,"",null,null,{"$f":"IF(NJ181=\"\", 0, NJ181 - IF(NJ180=\"\", LOOKUP(2, 1/(NJ$17:NJ179<>\"\"), NJ$17:NJ179), NJ180))","v":0},null,null,null,null,38,"",null,null,{"$f":"IF(NS181=\"\", 0, NS181 - IF(NS180=\"\", LOOKUP(2, 1/(NS$17:NS179<>\"\"), NS$17:NS179), NS180))","v":0},null,null,null,null,38,"",null,null,{"$f":"IF(OB181=\"\", 0, OB181 - IF(OB180=\"\", LOOKUP(2, 1/(OB$17:OB179<>\"\"), OB$17:OB179), OB180))","v":0},null,null,null,null,38,"",null,null,{"$f":"IF(OK181=\"\", 0, OK181 - IF(OK180=\"\", LOOKUP(2, 1/(OK$17:OK179<>\"\"), OK$17:OK179), OK180))","v":0},null,null,null,null,38,"",null,null,{"$f":"IF(OT181=\"\", 0, OT181 - IF(OT180=\"\", LOOKUP(2, 1/(OT$17:OT179<>\"\"), OT$17:OT179), OT180))","v":0},null,null,null,null,38,"",null,null,{"$f":"IF(PC181=\"\", 0, PC181 - IF(PC180=\"\", LOOKUP(2, 1/(PC$17:PC179<>\"\"), PC$17:PC179), PC180))","v":0},null,null,null,null,38,"",null,null,{"$f":"IF(PL181=\"\", 0, PL181 - IF(PL180=\"\", LOOKUP(2, 1/(PL$17:PL179<>\"\"), PL$17:PL179), PL180))","v":0},null,null,null,null,38,"",null,null,{"$f":"IF(PU181=\"\", 0, PU181 - IF(PU180=\"\", LOOKUP(2, 1/(PU$17:PU179<>\"\"), PU$17:PU179), PU180))","v":0},null,null,null,null,38,"",null,null,{"$f":"IF(QD181=\"\", 0, QD181 - IF(QD180=\"\", LOOKUP(2, 1/(QD$17:QD179<>\"\"), QD$17:QD179), QD180))","v":0}]
[null,null,null,37,"",null,null,{"$f":"IF(G182=\"\", 0, G182 - IF(G181=\"\", LOOKUP(2, 1/(G$17:G180<>\"\"), G$17:G180), G181))","v":0},null,null,null,null,37,"",null,null,{"$f":"IF(P182=\"\", 0, P182 - IF(P181=\"\", LOOKUP(2, 1/(P$17:P180<>\"\"), P$17:P180), P181))","v":0},null,null,null,null,37,"",null,null,{"$f":"IF(Y182=\"\", 0, Y182 - IF(Y181=\"\", LOOKUP(2, 1/(Y$17:Y180<>\"\"), Y$17:Y180), Y181))","v":0},null,null,null,null,37,"",null,null,{"$f":"IF(AH182=\"\", 0, AH182 - IF(AH181=\"\", LOOKUP(2, 1/(AH$17:AH180<>\"\"), AH$17:AH180), AH181))","v":0},null,null,null,null,37,"",null,null,{"$f":"IF(AQ182=\"\", 0, AQ182 - IF(AQ181=\"\", LOOKUP(2, 1/(AQ$17:AQ180<>\"\"), AQ$17:AQ180), AQ181))","v":0},null,null,null,null,37,"",null,null,{"$f":"IF(AZ182=\"\", 0, AZ182 - IF(AZ181=\"\", LOOKUP(2, 1/(AZ$17:AZ180<>\"\"), AZ$17:AZ180), AZ181))","v":0},null,null,null,null,37,"",null,null,{"$f":"IF(BI182=\"\", 0, BI182 - IF(BI181=\"\", LOOKUP(2, 1/(BI$17:BI180<>\"\"), BI$17:BI180), BI181))","v":0},null,null,null,null,37,"",null,null,{"$f":"IF(BR182=\"\", 0, BR182 - IF(BR181=\"\", LOOKUP(2, 1/(BR$17:BR180<>\"\"), BR$17:BR180), BR181))","v":0},null,null,null,null,37,"",null,null,{"$f":"IF(CA182=\"\", 0, CA182 - IF(CA181=\"\", LOOKUP(2, 1/(CA$17:CA180<>\"\"), CA$17:CA180), CA181))","v":0},null,null,null,null,37,"",null,null,{"$f":"IF(CJ182=\"\", 0, CJ182 - IF(CJ181=\"\", LOOKUP(2, 1/(CJ$17:CJ180<>\"\"), CJ$17:CJ180), CJ181))","v":0},null,null,null,null,37,"",null,null,{"$f":"IF(CS182=\"\", 0, CS182 - IF(CS181=\"\", LOOKUP(2, 1/(CS$17:CS180<>\"\"), CS$17:CS180), CS181))","v":0},null,null,null,null,37,"",null,null,{"$f":"IF(DB182=\"\", 0, DB182 - IF(DB181=\"\", LOOKUP(2, 1/(DB$17:DB180<>\"\"), DB$17:DB180), DB181))","v":0},null,null,null,null,37,"",null,null,{"$f":"IF(DK182=\"\", 0, DK182 - IF(DK181=\"\", LOOKUP(2, 1/(DK$17:DK180<>\"\"), DK$17:DK180), DK181))","v":0},null,null,null,null,37,"",null,null,{"$f":"IF(DT182=\"\", 0, DT182 - IF(DT181=\"\", LOOKUP(2, 1/(DT$17:DT180<>\"\"), DT$17:DT180), DT181))","v":0},null,null,null,null,37,"",null,null,{"$f":"IF(EC182=\"\", 0, EC182 - IF(EC181=\"\", LOOKUP(2, 1/(EC$17:EC180<>\"\"), EC$17:EC180), EC181))","v":0},null,null,null,null,37,"",null,null,{"$f":"IF(EL182=\"\", 0, EL182 - IF(EL181=\"\", LOOKUP(2, 1/(EL$17:EL180<>\"\"), EL$17:EL180), EL181))","v":0},null,null,null,null,37,"",null,null,{"$f":"IF(EU182=\"\", 0, EU182 - IF(EU181=\"\", LOOKUP(2, 1/(EU$17:EU180<>\"\"), EU$17:EU180), EU181))","v":0},null,null,null,null,37,"",null,null,{"$f":"IF(FD182=\"\", 0, FD182 - IF(FD181=\"\", LOOKUP(2, 1/(FD$17:FD180<>\"\"), FD$17:FD180), FD181))","v":0},null,null,null,null,37,"",null,null,{"$f":"IF(FM182=\"\", 0, FM182 - IF(FM181=\"\", LOOKUP(2, 1/(FM$17:FM180<>\"\"), FM$17:FM180), FM181))","v":0},null,null,null,null,37,"",null,null,{"$f":"IF(FV182=\"\", 0, FV182 - IF(FV181=\"\", LOOKUP(2, 1/(FV$17:FV180<>\"\"), FV$17:FV180), FV181))","v":0},null,null,null,null,37,"",null,null,{"$f":"IF(GE182=\"\", 0, GE182 - IF(GE181=\"\", LOOKUP(2, 1/(GE$17:GE180<>\"\"), GE$17:GE180), GE181))","v":0},null,null,null,null,37,"",null,null,{"$f":"IF(GN182=\"\", 0, GN182 - IF(GN181=\"\", LOOKUP(2, 1/(GN$17:GN180<>\"\"), GN$17:GN180), GN181))","v":0},null,null,null,null,37,"",null,null,{"$f":"IF(GW182=\"\", 0, GW182 - IF(GW181=\"\", LOOKUP(2, 1/(GW$17:GW180<>\"\"), GW$17:GW180), GW181))","v":0},null,null,null,null,37,"",null,null,{"$f":"IF(HF182=\"\", 0, HF182 - IF(HF181=\"\", LOOKUP(2, 1/(HF$17:HF180<>\"\"), HF$17:HF180), HF181))","v":0},null,null,null,null,37,"",null,null,{"$f":"IF(HO182=\"\", 0, HO182 - IF(HO181=\"\", LOOKUP(2, 1/(HO$17:HO180<>\"\"), HO$17:HO180), HO181))","v":0},null,null,null,null,37,"",null,null,{"$f":"IF(HX182=\"\", 0, HX182 - IF(HX181=\"\", LOOKUP(2, 1/(HX$17:HX180<>\"\"), HX$17:HX180), HX181))","v":0},null,null,null,null,37,"",null,null,{"$f":"IF(IG182=\"\", 0, IG182 - IF(IG181=\"\", LOOKUP(2, 1/(IG$17:IG180<>\"\"), IG$17:IG180), IG181))","v":0},null,null,null,null,37,"",null,null,{"$f":"IF(IP182=\"\", 0, IP182 - IF(IP181=\"\", LOOKUP(2, 1/(IP$17:IP180<>\"\"), IP$17:IP180), IP181))","v":0},null,null,null,null,37,"",null,null,{"$f":"IF(IY182=\"\", 0, IY182 - IF(IY181=\"\", LOOKUP(2, 1/(IY$17:IY180<>\"\"), IY$17:IY180), IY181))","v":0},null,null,null,null,37,"",null,null,{"$f":"IF(JH182=\"\", 0, JH182 - IF(JH181=\"\", LOOKUP(2, 1/(JH$17:JH180<>\"\"), JH$17:JH180), JH181))","v":0},null,null,null,null,37,"",null,null,{"$f":"IF(JQ182=\"\", 0, JQ182 - IF(JQ181=\"\", LOOKUP(2, 1/(JQ$17:JQ180<>\"\"), JQ$17:JQ180), JQ181))","v":0},null,null,null,null,37,"",null,null,{"$f":"IF(JZ182=\"\", 0, JZ182 - IF(JZ181=\"\", LOOKUP(2, 1/(JZ$17:JZ180<>\"\"), JZ$17:JZ180), JZ181))","v":0},null,null,null,null,37,"",null,null,{"$f":"IF(KI182=\"\", 0, KI182 - IF(KI181=\"\", LOOKUP(2, 1/(KI$17:KI180<>\"\"), KI$17:KI180), KI181))","v":0},null,null,null,null,37,"",null,null,{"$f":"IF(KR182=\"\", 0, KR182 - IF(KR181=\"\", LOOKUP(2, 1/(KR$17:KR180<>\"\"), KR$17:KR180), KR181))","v":0},null,null,null,null,37,"",null,null,{"$f":"IF(LA182=\"\", 0, LA182 - IF(LA181=\"\", LOOKUP(2, 1/(LA$17:LA180<>\"\"), LA$17:LA180), LA181))","v":0},null,null,null,null,37,"",null,null,{"$f":"IF(LJ182=\"\", 0, LJ182 - IF(LJ181=\"\", LOOKUP(2, 1/(LJ$17:LJ180<>\"\"), LJ$17:LJ180), LJ181))","v":0},null,null,null,null,37,"",null,null,{"$f":"IF(LS182=\"\", 0, LS182 - IF(LS181=\"\", LOOKUP(2, 1/(LS$17:LS180<>\"\"), LS$17:LS180), LS181))","v":0},null,null,null,null,37,"",null,null,{"$f":"IF(MB182=\"\", 0, MB182 - IF(MB181=\"\", LOOKUP(2, 1/(MB$17:MB180<>\"\"), MB$17:MB180), MB181))","v":0},null,null,null,null,37,"",null,null,{"$f":"IF(MK182=\"\", 0, MK182 - IF(MK181=\"\", LOOKUP(2, 1/(MK$17:MK180<>\"\"), MK$17:MK180), MK181))","v":0},null,null,null,null,37,"",null,null,{"$f":"IF(MT182=\"\", 0, MT182 - IF(MT181=\"\", LOOKUP(2, 1/(MT$17:MT180<>\"\"), MT$17:MT180), MT181))","v":0},null,null,37,"",null,null,{"$f":"IF(NA182=\"\", 0, NA182 - IF(NA181=\"\", LOOKUP(2, 1/(NA$17:NA180<>\"\"), NA$17:NA180), NA181))","v":0},null,null,null,null,37,"",null,null,{"$f":"IF(NJ182=\"\", 0, NJ182 - IF(NJ181=\"\", LOOKUP(2, 1/(NJ$17:NJ180<>\"\"), NJ$17:NJ180), NJ181))","v":0},null,null,null,null,37,"",null,null,{"$f":"IF(NS182=\"\", 0, NS182 - IF(NS181=\"\", LOOKUP(2, 1/(NS$17:NS180<>\"\"), NS$17:NS180), NS181))","v":0},null,null,null,null,37,"",null,null,{"$f":"IF(OB182=\"\", 0, OB182 - IF(OB181=\"\", LOOKUP(2, 1/(OB$17:OB180<>\"\"), OB$17:OB180), OB181))","v":0},null,null,null,null,37,"",null,null,{"$f":"IF(OK182=\"\", 0, OK182 - IF(OK181=\"\", LOOKUP(2, 1/(OK$17:OK180<>\"\"), OK$17:OK180), OK181))","v":0},null,null,null,null,37,"",null,null,{"$f":"IF(OT182=\"\", 0, OT182 - IF(OT181=\"\", LOOKUP(2, 1/(OT$17:OT180<>\"\"), OT$17:OT180), OT181))","v":0},null,null,null,null,37,"",null,null,{"$f":"IF(PC182=\"\", 0, PC182 - IF(PC181=\"\", LOOKUP(2, 1/(PC$17:PC180<>\"\"), PC$17:PC180), PC181))","v":0},null,null,null,null,37,"",null,null,{"$f":"IF(PL182=\"\", 0, PL182 - IF(PL181=\"\", LOOKUP(2, 1/(PL$17:PL180<>\"\"), PL$17:PL180), PL181))","v":0},null,null,null,null,37,"",null,null,{"$f":"IF(PU182=\"\", 0, PU182 - IF(PU181=\"\", LOOKUP(2, 1/(PU$17:PU180<>\"\"), PU$17:PU180), PU181))","v":0},null,null,null,null,37,"",null,null,{"$f":"IF(QD182=\"\", 0, QD182 - IF(QD181=\"\", LOOKUP(2, 1/(QD$17:QD180<>\"\"), QD$17:QD180), QD181))","v":0}]
[null,null,null,36,"",null,null,{"$f":"IF(G183=\"\", 0, G183 - IF(G182=\"\", LOOKUP(2, 1/(G$17:G181<>\"\"), G$17:G181), G182))","v":0},null,null,null,null,36,"",null,null,{"$f":"IF(P183=\"\", 0, P183 - IF(P182=\"\", LOOKUP(2, 1/(P$17:P181<>\"\"), P$17:P181), P182))","v":0},null,null,null,null,36,"",null,null,{"$f":"IF(Y183=\"\", 0, Y183 - IF(Y182=\"\", LOOKUP(2, 1/(Y$17:Y181<>\"\"), Y$17:Y181), Y182))","v":0},null,null,null,null,36,"",null,null,{"$f":"IF(AH183=\"\", 0, AH183 - IF(AH182=\"\", LOOKUP(2, 1/(AH$17:AH181<>\"\"), AH$17:AH181), AH182))","v":0},null,null,null,null,36,"",null,null,{"$f":"IF(AQ183=\"\", 0, AQ183 - IF(AQ182=\"\", LOOKUP(2, 1/(AQ$17:AQ181<>\"\"), AQ$17:AQ181), AQ182))","v":0},null,null,null,null,36,"",null,null,{"$f":"IF(AZ183=\"\", 0, AZ183 - IF(AZ182=\"\", LOOKUP(2, 1/(AZ$17:AZ181<>\"\"), AZ$17:AZ181), AZ182))","v":0},null,null,null,null,36,"",null,null,{"$f":"IF(BI183=\"\", 0, BI183 - IF(BI182=\"\", LOOKUP(2, 1/(BI$17:BI181<>\"\"), BI$17:BI181), BI182))","v":0},null,null,null,null,36,"",null,null,{"$f":"IF(BR183=\"\", 0, BR183 - IF(BR182=\"\", LOOKUP(2, 1/(BR$17:BR181<>\"\"), BR$17:BR181), BR182))","v":0},null,null,null,null,36,"",null,null,{"$f":"IF(CA183=\"\", 0, CA183 - IF(CA182=\"\", LOOKUP(2, 1/(CA$17:CA181<>\"\"), CA$17:CA181), CA182))","v":0},null,null,null,null,36,"",null,null,{"$f":"IF(CJ183=\"\", 0, CJ183 - IF(CJ182=\"\", LOOKUP(2, 1/(CJ$17:CJ181<>\"\"), CJ$17:CJ181), CJ182))","v":0},null,null,null,null,36,"",null,null,{"$f":"IF(CS183=\"\", 0, CS183 - IF(CS182=\"\", LOOKUP(2, 1/(CS$17:CS181<>\"\"), CS$17:CS181), CS182))","v":0},null,null,null,null,36,"",null,null,{"$f":"IF(DB183=\"\", 0, DB183 - IF(DB182=\"\", LOOKUP(2, 1/(DB$17:DB181<>\"\"), DB$17:DB181), DB182))","v":0},null,null,null,null,36,"",null,null,{"$f":"IF(DK183=\"\", 0, DK183 - IF(DK182=\"\", LOOKUP(2, 1/(DK$17:DK181<>\"\"), DK$17:DK181), DK182))","v":0},null,null,null,null,36,"",null,null,{"$f":"IF(DT183=\"\", 0, DT183 - IF(DT182=\"\", LOOKUP(2, 1/(DT$17:DT181<>\"\"), DT$17:DT181), DT182))","v":0},null,null,null,null,36,"",null,null,{"$f":"IF(EC183=\"\", 0, EC183 - IF(EC182=\"\", LOOKUP(2, 1/(EC$17:EC181<>\"\"), EC$17:EC181), EC182))","v":0},null,null,null,null,36,"",null,null,{"$f":"IF(EL183=\"\", 0, EL183 - IF(EL182=\"\", LOOKUP(2, 1/(EL$17:EL181<>\"\"), EL$17:EL181), EL182))","v":0},null,null,null,null,36,"",null,null,{"$f":"IF(EU183=\"\", 0, EU183 - IF(EU182=\"\", LOOKUP(2, 1/(EU$17:EU181<>\"\"), EU$17:EU181), EU182))","v":0},null,null,null,null,36,"",null,null,{"$f":"IF(FD183=\"\", 0, FD183 - IF(FD182=\"\", LOOKUP(2, 1/(FD$17:FD181<>\"\"), FD$17:FD181), FD182))","v":0},null,null,null,null,36,"",null,null,{"$f":"IF(FM183=\"\", 0, FM183 - IF(FM182=\"\", LOOKUP(2, 1/(FM$17:FM181<>\"\"), FM$17:FM181), FM182))","v":0},null,null,null,null,36,"",null,null,{"$f":"IF(FV183=\"\", 0, FV183 - IF(FV182=\"\", LOOKUP(2, 1/(FV$17:FV181<>\"\"), FV$17:FV181), FV182))","v":0},null,null,null,null,36,"",null,null,{"$f":"IF(GE183=\"\", 0, GE183 - IF(GE182=\"\", LOOKUP(2, 1/(GE$17:GE181<>\"\"), GE$17:GE181), GE182))","v":0},null,null,null,null,36,"",null,null,{"$f":"IF(GN183=\"\", 0, GN183 - IF(GN182=\"\", LOOKUP(2, 1/(GN$17:GN181<>\"\"), GN$17:GN181), GN182))","v":0},null,null,null,null,36,"",null,null,{"$f":"IF(GW183=\"\", 0, GW183 - IF(GW182=\"\", LOOKUP(2, 1/(GW$17:GW181<>\"\"), GW$17:GW181), GW182))","v":0},null,null,null,null,36,"",null,null,{"$f":"IF(HF183=\"\", 0, HF183 - IF(HF182=\"\", LOOKUP(2, 1/(HF$17:HF181<>\"\"), HF$17:HF181), HF182))","v":0},null,null,null,null,36,"",null,null,{"$f":"IF(HO183=\"\", 0, HO183 - IF(HO182=\"\", LOOKUP(2, 1/(HO$17:HO181<>\"\"), HO$17:HO181), HO182))","v":0},null,null,null,null,36,"",null,null,{"$f":"IF(HX183=\"\", 0, HX183 - IF(HX182=\"\", LOOKUP(2, 1/(HX$17:HX181<>\"\"), HX$17:HX181), HX182))","v":0},null,null,null,null,36,"",null,null,{"$f":"IF(IG183=\"\", 0, IG183 - IF(IG182=\"\", LOOKUP(2, 1/(IG$17:IG181<>\"\"), IG$17:IG181), IG182))","v":0},null,null,null,null,36,"",null,null,{"$f":"IF(IP183=\"\", 0, IP183 - IF(IP182=\"\", LOOKUP(2, 1/(IP$17:IP181<>\"\"), IP$17:IP181), IP182))","v":0},null,null,null,null,36,"",null,null,{"$f":"IF(IY183=\"\", 0, IY183 - IF(IY182=\"\", LOOKUP(2, 1/(IY$17:IY181<>\"\"), IY$17:IY181), IY182))","v":0},null,null,null,null,36,"",null,null,{"$f":"IF(JH183=\"\", 0, JH183 - IF(JH182=\"\", LOOKUP(2, 1/(JH$17:JH181<>\"\"), JH$17:JH181), JH182))","v":0},null,null,null,null,36,"",null,null,{"$f":"IF(JQ183=\"\", 0, JQ183 - IF(JQ182=\"\", LOOKUP(2, 1/(JQ$17:JQ181<>\"\"), JQ$17:JQ181), JQ182))","v":0},null,null,null,null,36,"",null,null,{"$f":"IF(JZ183=\"\", 0, JZ183 - IF(JZ182=\"\", LOOKUP(2, 1/(JZ$17:JZ181<>\"\"), JZ$17:JZ181), JZ182))","v":0},null,null,null,null,36,"",null,null,{"$f":"IF(KI183=\"\", 0, KI183 - IF(KI182=\"\", LOOKUP(2, 1/(KI$17:KI181<>\"\"), KI$17:KI181), KI182))","v":0},null,null,null,null,36,"",null,null,{"$f":"IF(KR183=\"\", 0, KR183 - IF(KR182=\"\", LOOKUP(2, 1/(KR$17:KR181<>\"\"), KR$17:KR181), KR182))","v":0},null,null,null,null,36,"",null,null,{"$f":"IF(LA183=\"\", 0, LA183 - IF(LA182=\"\", LOOKUP(2, 1/(LA$17:LA181<>\"\"), LA$17:LA181), LA182))","v":0},null,null,null,null,36,"",null,null,{"$f":"IF(LJ183=\"\", 0, LJ183 - IF(LJ182=\"\", LOOKUP(2, 1/(LJ$17:LJ181<>\"\"), LJ$17:LJ181), LJ182))","v":0},null,null,null,null,36,"",null,null,{"$f":"IF(LS183=\"\", 0, LS183 - IF(LS182=\"\", LOOKUP(2, 1/(LS$17:LS181<>\"\"), LS$17:LS181), LS182))","v":0},null,null,null,null,36,"",null,null,{"$f":"IF(MB183=\"\", 0, MB183 - IF(MB182=\"\", LOOKUP(2, 1/(MB$17:MB181<>\"\"), MB$17:MB181), MB182))","v":0},null,null,null,null,36,"",null,null,{"$f":"IF(MK183=\"\", 0, MK183 - IF(MK182=\"\", LOOKUP(2, 1/(MK$17:MK181<>\"\"), MK$17:MK181), MK182))","v":0},null,null,null,null,36,"",null,null,{"$f":"IF(MT183=\"\", 0, MT183 - IF(MT182=\"\", LOOKUP(2, 1/(MT$17:MT181<>\"\"), MT$17:MT181), MT182))","v":0},null,null,36,"",null,null,{"$f":"IF(NA183=\"\", 0, NA183 - IF(NA182=\"\", LOOKUP(2, 1/(NA$17:NA181<>\"\"), NA$17:NA181), NA182))","v":0},null,null,null,null,36,"",null,null,{"$f":"IF(NJ183=\"\", 0, NJ183 - IF(NJ182=\"\", LOOKUP(2, 1/(NJ$17:NJ181<>\"\"), NJ$17:NJ181), NJ182))","v":0},null,null,null,null,36,"",null,null,{"$f":"IF(NS183=\"\", 0, NS183 - IF(NS182=\"\", LOOKUP(2, 1/(NS$17:NS181<>\"\"), NS$17:NS181), NS182))","v":0},null,null,null,null,36,"",null,null,{"$f":"IF(OB183=\"\", 0, OB183 - IF(OB182=\"\", LOOKUP(2, 1/(OB$17:OB181<>\"\"), OB$17:OB181), OB182))","v":0},null,null,null,null,36,"",null,null,{"$f":"IF(OK183=\"\", 0, OK183 - IF(OK182=\"\", LOOKUP(2, 1/(OK$17:OK181<>\"\"), OK$17:OK181), OK182))","v":0},null,null,null,null,36,"",null,null,{"$f":"IF(OT183=\"\", 0, OT183 - IF(OT182=\"\", LOOKUP(2, 1/(OT$17:OT181<>\"\"), OT$17:OT181), OT182))","v":0},null,null,null,null,36,"",null,null,{"$f":"IF(PC183=\"\", 0, PC183 - IF(PC182=\"\", LOOKUP(2, 1/(PC$17:PC181<>\"\"), PC$17:PC181), PC182))","v":0},null,null,null,null,36,"",null,null,{"$f":"IF(PL183=\"\", 0, PL183 - IF(PL182=\"\", LOOKUP(2, 1/(PL$17:PL181<>\"\"), PL$17:PL181), PL182))","v":0},null,null,null,null,36,"",null,null,{"$f":"IF(PU183=\"\", 0, PU183 - IF(PU182=\"\", LOOKUP(2, 1/(PU$17:PU181<>\"\"), PU$17:PU181), PU182))","v":0},null,null,null,null,36,"",null,null,{"$f":"IF(QD183=\"\", 0, QD183 - IF(QD182=\"\", LOOKUP(2, 1/(QD$17:QD181<>\"\"), QD$17:QD181), QD182))","v":0}]
[null,null,null,35,"",null,null,{"$f":"IF(G184=\"\", 0, G184 - IF(G183=\"\", LOOKUP(2, 1/(G$17:G182<>\"\"), G$17:G182), G183))","v":0},null,null,null,null,35,"",null,null,{"$f":"IF(P184=\"\", 0, P184 - IF(P183=\"\", LOOKUP(2, 1/(P$17:P182<>\"\"), P$17:P182), P183))","v":0},null,null,null,null,35,"",null,null,{"$f":"IF(Y184=\"\", 0, Y184 - IF(Y183=\"\", LOOKUP(2, 1/(Y$17:Y182<>\"\"), Y$17:Y182), Y183))","v":0},null,null,null,null,35,"",null,null,{"$f":"IF(AH184=\"\", 0, AH184 - IF(AH183=\"\", LOOKUP(2, 1/(AH$17:AH182<>\"\"), AH$17:AH182), AH183))","v":0},null,null,null,null,35,"",null,null,{"$f":"IF(AQ184=\"\", 0, AQ184 - IF(AQ183=\"\", LOOKUP(2, 1/(AQ$17:AQ182<>\"\"), AQ$17:AQ182), AQ183))","v":0},null,null,null,null,35,"",null,null,{"$f":"IF(AZ184=\"\", 0, AZ184 - IF(AZ183=\"\", LOOKUP(2, 1/(AZ$17:AZ182<>\"\"), AZ$17:AZ182), AZ183))","v":0},null,null,null,null,35,"",null,null,{"$f":"IF(BI184=\"\", 0, BI184 - IF(BI183=\"\", LOOKUP(2, 1/(BI$17:BI182<>\"\"), BI$17:BI182), BI183))","v":0},null,null,null,null,35,"",null,null,{"$f":"IF(BR184=\"\", 0, BR184 - IF(BR183=\"\", LOOKUP(2, 1/(BR$17:BR182<>\"\"), BR$17:BR182), BR183))","v":0},null,null,null,null,35,"",null,null,{"$f":"IF(CA184=\"\", 0, CA184 - IF(CA183=\"\", LOOKUP(2, 1/(CA$17:CA182<>\"\"), CA$17:CA182), CA183))","v":0},null,null,null,null,35,"",null,null,{"$f":"IF(CJ184=\"\", 0, CJ184 - IF(CJ183=\"\", LOOKUP(2, 1/(CJ$17:CJ182<>\"\"), CJ$17:CJ182), CJ183))","v":0},null,null,null,null,35,"",null,null,{"$f":"IF(CS184=\"\", 0, CS184 - IF(CS183=\"\", LOOKUP(2, 1/(CS$17:CS182<>\"\"), CS$17:CS182), CS183))","v":0},null,null,null,null,35,"",null,null,{"$f":"IF(DB184=\"\", 0, DB184 - IF(DB183=\"\", LOOKUP(2, 1/(DB$17:DB182<>\"\"), DB$17:DB182), DB183))","v":0},null,null,null,null,35,"",null,null,{"$f":"IF(DK184=\"\", 0, DK184 - IF(DK183=\"\", LOOKUP(2, 1/(DK$17:DK182<>\"\"), DK$17:DK182), DK183))","v":0},null,null,null,null,35,"",null,null,{"$f":"IF(DT184=\"\", 0, DT184 - IF(DT183=\"\", LOOKUP(2, 1/(DT$17:DT182<>\"\"), DT$17:DT182), DT183))","v":0},null,null,null,null,35,"",null,null,{"$f":"IF(EC184=\"\", 0, EC184 - IF(EC183=\"\", LOOKUP(2, 1/(EC$17:EC182<>\"\"), EC$17:EC182), EC183))","v":0},null,null,null,null,35,"",null,null,{"$f":"IF(EL184=\"\", 0, EL184 - IF(EL183=\"\", LOOKUP(2, 1/(EL$17:EL182<>\"\"), EL$17:EL182), EL183))","v":0},null,null,null,null,35,"",null,null,{"$f":"IF(EU184=\"\", 0, EU184 - IF(EU183=\"\", LOOKUP(2, 1/(EU$17:EU182<>\"\"), EU$17:EU182), EU183))","v":0},null,null,null,null,35,"",null,null,{"$f":"IF(FD184=\"\", 0, FD184 - IF(FD183=\"\", LOOKUP(2, 1/(FD$17:FD182<>\"\"), FD$17:FD182), FD183))","v":0},null,null,null,null,35,"",null,null,{"$f":"IF(FM184=\"\", 0, FM184 - IF(FM183=\"\", LOOKUP(2, 1/(FM$17:FM182<>\"\"), FM$17:FM182), FM183))","v":0},null,null,null,null,35,"",null,null,{"$f":"IF(FV184=\"\", 0, FV184 - IF(FV183=\"\", LOOKUP(2, 1/(FV$17:FV182<>\"\"), FV$17:FV182), FV183))","v":0},null,null,null,null,35,"",null,null,{"$f":"IF(GE184=\"\", 0, GE184 - IF(GE183=\"\", LOOKUP(2, 1/(GE$17:GE182<>\"\"), GE$17:GE182), GE183))","v":0},null,null,null,null,35,"",null,null,{"$f":"IF(GN184=\"\", 0, GN184 - IF(GN183=\"\", LOOKUP(2, 1/(GN$17:GN182<>\"\"), GN$17:GN182), GN183))","v":0},null,null,null,null,35,"",null,null,{"$f":"IF(GW184=\"\", 0, GW184 - IF(GW183=\"\", LOOKUP(2, 1/(GW$17:GW182<>\"\"), GW$17:GW182), GW183))","v":0},null,null,null,null,35,"",null,null,{"$f":"IF(HF184=\"\", 0, HF184 - IF(HF183=\"\", LOOKUP(2, 1/(HF$17:HF182<>\"\"), HF$17:HF182), HF183))","v":0},null,null,null,null,35,"",null,null,{"$f":"IF(HO184=\"\", 0, HO184 - IF(HO183=\"\", LOOKUP(2, 1/(HO$17:HO182<>\"\"), HO$17:HO182), HO183))","v":0},null,null,null,null,35,"",null,null,{"$f":"IF(HX184=\"\", 0, HX184 - IF(HX183=\"\", LOOKUP(2, 1/(HX$17:HX182<>\"\"), HX$17:HX182), HX183))","v":0},null,null,null,null,35,"",null,null,{"$f":"IF(IG184=\"\", 0, IG184 - IF(IG183=\"\", LOOKUP(2, 1/(IG$17:IG182<>\"\"), IG$17:IG182), IG183))","v":0},null,null,null,null,35,"",null,null,{"$f":"IF(IP184=\"\", 0, IP184 - IF(IP183=\"\", LOOKUP(2, 1/(IP$17:IP182<>\"\"), IP$17:IP182), IP183))","v":0},null,null,null,null,35,"",null,null,{"$f":"IF(IY184=\"\", 0, IY184 - IF(IY183=\"\", LOOKUP(2, 1/(IY$17:IY182<>\"\"), IY$17:IY182), IY183))","v":0},null,null,null,null,35,"",null,null,{"$f":"IF(JH184=\"\", 0, JH184 - IF(JH183=\"\", LOOKUP(2, 1/(JH$17:JH182<>\"\"), JH$17:JH182), JH183))","v":0},null,null,null,null,35,"",null,null,{"$f":"IF(JQ184=\"\", 0, JQ184 - IF(JQ183=\"\", LOOKUP(2, 1/(JQ$17:JQ182<>\"\"), JQ$17:JQ182), JQ183))","v":0},null,null,null,null,35,"",null,null,{"$f":"IF(JZ184=\"\", 0, JZ184 - IF(JZ183=\"\", LOOKUP(2, 1/(JZ$17:JZ182<>\"\"), JZ$17:JZ182), JZ183))","v":0},null,null,null,null,35,"",null,null,{"$f":"IF(KI184=\"\", 0, KI184 - IF(KI183=\"\", LOOKUP(2, 1/(KI$17:KI182<>\"\"), KI$17:KI182), KI183))","v":0},null,null,null,null,35,"",null,null,{"$f":"IF(KR184=\"\", 0, KR184 - IF(KR183=\"\", LOOKUP(2, 1/(KR$17:KR182<>\"\"), KR$17:KR182), KR183))","v":0},null,null,null,null,35,"",null,null,{"$f":"IF(LA184=\"\", 0, LA184 - IF(LA183=\"\", LOOKUP(2, 1/(LA$17:LA182<>\"\"), LA$17:LA182), LA183))","v":0},null,null,null,null,35,"",null,null,{"$f":"IF(LJ184=\"\", 0, LJ184 - IF(LJ183=\"\", LOOKUP(2, 1/(LJ$17:LJ182<>\"\"), LJ$17:LJ182), LJ183))","v":0},null,null,null,null,35,"",null,null,{"$f":"IF(LS184=\"\", 0, LS184 - IF(LS183=\"\", LOOKUP(2, 1/(LS$17:LS182<>\"\"), LS$17:LS182), LS183))","v":0},null,null,null,null,35,"",null,null,{"$f":"IF(MB184=\"\", 0, MB184 - IF(MB183=\"\", LOOKUP(2, 1/(MB$17:MB182<>\"\"), MB$17:MB182), MB183))","v":0},null,null,null,null,35,"",null,null,{"$f":"IF(MK184=\"\", 0, MK184 - IF(MK183=\"\", LOOKUP(2, 1/(MK$17:MK182<>\"\"), MK$17:MK182), MK183))","v":0},null,null,null,null,35,"",null,null,{"$f":"IF(MT184=\"\", 0, MT184 - IF(MT183=\"\", LOOKUP(2, 1/(MT$17:MT182<>\"\"), MT$17:MT182), MT183))","v":0},null,null,35,"",null,null,{"$f":"IF(NA184=\"\", 0, NA184 - IF(NA183=\"\", LOOKUP(2, 1/(NA$17:NA182<>\"\"), NA$17:NA182), NA183))","v":0},null,null,null,null,35,"",null,null,{"$f":"IF(NJ184=\"\", 0, NJ184 - IF(NJ183=\"\", LOOKUP(2, 1/(NJ$17:NJ182<>\"\"), NJ$17:NJ182), NJ183))","v":0},null,null,null,null,35,"",null,null,{"$f":"IF(NS184=\"\", 0, NS184 - IF(NS183=\"\", LOOKUP(2, 1/(NS$17:NS182<>\"\"), NS$17:NS182), NS183))","v":0},null,null,null,null,35,"",null,null,{"$f":"IF(OB184=\"\", 0, OB184 - IF(OB183=\"\", LOOKUP(2, 1/(OB$17:OB182<>\"\"), OB$17:OB182), OB183))","v":0},null,null,null,null,35,"",null,null,{"$f":"IF(OK184=\"\", 0, OK184 - IF(OK183=\"\", LOOKUP(2, 1/(OK$17:OK182<>\"\"), OK$17:OK182), OK183))","v":0},null,null,null,null,35,"",null,null,{"$f":"IF(OT184=\"\", 0, OT184 - IF(OT183=\"\", LOOKUP(2, 1/(OT$17:OT182<>\"\"), OT$17:OT182), OT183))","v":0},null,null,null,null,35,"",null,null,{"$f":"IF(PC184=\"\", 0, PC184 - IF(PC183=\"\", LOOKUP(2, 1/(PC$17:PC182<>\"\"), PC$17:PC182), PC183))","v":0},null,null,null,null,35,"",null,null,{"$f":"IF(PL184=\"\", 0, PL184 - IF(PL183=\"\", LOOKUP(2, 1/(PL$17:PL182<>\"\"), PL$17:PL182), PL183))","v":0},null,null,null,null,35,"",null,null,{"$f":"IF(PU184=\"\", 0, PU184 - IF(PU183=\"\", LOOKUP(2, 1/(PU$17:PU182<>\"\"), PU$17:PU182), PU183))","v":0},null,null,null,null,35,"",null,null,{"$f":"IF(QD184=\"\", 0, QD184 - IF(QD183=\"\", LOOKUP(2, 1/(QD$17:QD182<>\"\"), QD$17:QD182), QD183))","v":0}]
[null,null,null,34,"",null,null,{"$f":"IF(G185=\"\", 0, G185 - IF(G184=\"\", LOOKUP(2, 1/(G$17:G183<>\"\"), G$17:G183), G184))","v":0},null,null,null,null,34,"",null,null,{"$f":"IF(P185=\"\", 0, P185 - IF(P184=\"\", LOOKUP(2, 1/(P$17:P183<>\"\"), P$17:P183), P184))","v":0},null,null,null,null,34,"",null,null,{"$f":"IF(Y185=\"\", 0, Y185 - IF(Y184=\"\", LOOKUP(2, 1/(Y$17:Y183<>\"\"), Y$17:Y183), Y184))","v":0},null,null,null,null,34,"",null,null,{"$f":"IF(AH185=\"\", 0, AH185 - IF(AH184=\"\", LOOKUP(2, 1/(AH$17:AH183<>\"\"), AH$17:AH183), AH184))","v":0},null,null,null,null,34,"",null,null,{"$f":"IF(AQ185=\"\", 0, AQ185 - IF(AQ184=\"\", LOOKUP(2, 1/(AQ$17:AQ183<>\"\"), AQ$17:AQ183), AQ184))","v":0},null,null,null,null,34,"",null,null,{"$f":"IF(AZ185=\"\", 0, AZ185 - IF(AZ184=\"\", LOOKUP(2, 1/(AZ$17:AZ183<>\"\"), AZ$17:AZ183), AZ184))","v":0},null,null,null,null,34,"",null,null,{"$f":"IF(BI185=\"\", 0, BI185 - IF(BI184=\"\", LOOKUP(2, 1/(BI$17:BI183<>\"\"), BI$17:BI183), BI184))","v":0},null,null,null,null,34,"",null,null,{"$f":"IF(BR185=\"\", 0, BR185 - IF(BR184=\"\", LOOKUP(2, 1/(BR$17:BR183<>\"\"), BR$17:BR183), BR184))","v":0},null,null,null,null,34,"",null,null,{"$f":"IF(CA185=\"\", 0, CA185 - IF(CA184=\"\", LOOKUP(2, 1/(CA$17:CA183<>\"\"), CA$17:CA183), CA184))","v":0},null,null,null,null,34,"",null,null,{"$f":"IF(CJ185=\"\", 0, CJ185 - IF(CJ184=\"\", LOOKUP(2, 1/(CJ$17:CJ183<>\"\"), CJ$17:CJ183), CJ184))","v":0},null,null,null,null,34,"",null,null,{"$f":"IF(CS185=\"\", 0, CS185 - IF(CS184=\"\", LOOKUP(2, 1/(CS$17:CS183<>\"\"), CS$17:CS183), CS184))","v":0},null,null,null,null,34,"",null,null,{"$f":"IF(DB185=\"\", 0, DB185 - IF(DB184=\"\", LOOKUP(2, 1/(DB$17:DB183<>\"\"), DB$17:DB183), DB184))","v":0},null,null,null,null,34,"",null,null,{"$f":"IF(DK185=\"\", 0, DK185 - IF(DK184=\"\", LOOKUP(2, 1/(DK$17:DK183<>\"\"), DK$17:DK183), DK184))","v":0},null,null,null,null,34,"",null,null,{"$f":"IF(DT185=\"\", 0, DT185 - IF(DT184=\"\", LOOKUP(2, 1/(DT$17:DT183<>\"\"), DT$17:DT183), DT184))","v":0},null,null,null,null,34,"",null,null,{"$f":"IF(EC185=\"\", 0, EC185 - IF(EC184=\"\", LOOKUP(2, 1/(EC$17:EC183<>\"\"), EC$17:EC183), EC184))","v":0},null,null,null,null,34,"",null,null,{"$f":"IF(EL185=\"\", 0, EL185 - IF(EL184=\"\", LOOKUP(2, 1/(EL$17:EL183<>\"\"), EL$17:EL183), EL184))","v":0},null,null,null,null,34,"",null,null,{"$f":"IF(EU185=\"\", 0, EU185 - IF(EU184=\"\", LOOKUP(2, 1/(EU$17:EU183<>\"\"), EU$17:EU183), EU184))","v":0},null,null,null,null,34,"",null,null,{"$f":"IF(FD185=\"\", 0, FD185 - IF(FD184=\"\", LOOKUP(2, 1/(FD$17:FD183<>\"\"), FD$17:FD183), FD184))","v":0},null,null,null,null,34,"",null,null,{"$f":"IF(FM185=\"\", 0, FM185 - IF(FM184=\"\", LOOKUP(2, 1/(FM$17:FM183<>\"\"), FM$17:FM183), FM184))","v":0},null,null,null,null,34,"",null,null,{"$f":"IF(FV185=\"\", 0, FV185 - IF(FV184=\"\", LOOKUP(2, 1/(FV$17:FV183<>\"\"), FV$17:FV183), FV184))","v":0},null,null,null,null,34,"",null,null,{"$f":"IF(GE185=\"\", 0, GE185 - IF(GE184=\"\", LOOKUP(2, 1/(GE$17:GE183<>\"\"), GE$17:GE183), GE184))","v":0},null,null,null,null,34,"",null,null,{"$f":"IF(GN185=\"\", 0, GN185 - IF(GN184=\"\", LOOKUP(2, 1/(GN$17:GN183<>\"\"), GN$17:GN183), GN184))","v":0},null,null,null,null,34,"",null,null,{"$f":"IF(GW185=\"\", 0, GW185 - IF(GW184=\"\", LOOKUP(2, 1/(GW$17:GW183<>\"\"), GW$17:GW183), GW184))","v":0},null,null,null,null,34,"",null,null,{"$f":"IF(HF185=\"\", 0, HF185 - IF(HF184=\"\", LOOKUP(2, 1/(HF$17:HF183<>\"\"), HF$17:HF183), HF184))","v":0},null,null,null,null,34,"",null,null,{"$f":"IF(HO185=\"\", 0, HO185 - IF(HO184=\"\", LOOKUP(2, 1/(HO$17:HO183<>\"\"), HO$17:HO183), HO184))","v":0},null,null,null,null,34,"",null,null,{"$f":"IF(HX185=\"\", 0, HX185 - IF(HX184=\"\", LOOKUP(2, 1/(HX$17:HX183<>\"\"), HX$17:HX183), HX184))","v":0},null,null,null,null,34,"",null,null,{"$f":"IF(IG185=\"\", 0, IG185 - IF(IG184=\"\", LOOKUP(2, 1/(IG$17:IG183<>\"\"), IG$17:IG183), IG184))","v":0},null,null,null,null,34,"",null,null,{"$f":"IF(IP185=\"\", 0, IP185 - IF(IP184=\"\", LOOKUP(2, 1/(IP$17:IP183<>\"\"), IP$17:IP183), IP184))","v":0},null,null,null,null,34,"",null,null,{"$f":"IF(IY185=\"\", 0, IY185 - IF(IY184=\"\", LOOKUP(2, 1/(IY$17:IY183<>\"\"), IY$17:IY183), IY184))","v":0},null,null,null,null,34,"",null,null,{"$f":"IF(JH185=\"\", 0, JH185 - IF(JH184=\"\", LOOKUP(2, 1/(JH$17:JH183<>\"\"), JH$17:JH183), JH184))","v":0},null,null,null,null,34,"",null,null,{"$f":"IF(JQ185=\"\", 0, JQ185 - IF(JQ184=\"\", LOOKUP(2, 1/(JQ$17:JQ183<>\"\"), JQ$17:JQ183), JQ184))","v":0},null,null,null,null,34,"",null,null,{"$f":"IF(JZ185=\"\", 0, JZ185 - IF(JZ184=\"\", LOOKUP(2, 1/(JZ$17:JZ183<>\"\"), JZ$17:JZ183), JZ184))","v":0},null,null,null,null,34,"",null,null,{"$f":"IF(KI185=\"\", 0, KI185 - IF(KI184=\"\", LOOKUP(2, 1/(KI$17:KI183<>\"\"), KI$17:KI183), KI184))","v":0},null,null,null,null,34,"",null,null,{"$f":"IF(KR185=\"\", 0, KR185 - IF(KR184=\"\", LOOKUP(2, 1/(KR$17:KR183<>\"\"), KR$17:KR183), KR184))","v":0},null,null,null,null,34,"",null,null,{"$f":"IF(LA185=\"\", 0, LA185 - IF(LA184=\"\", LOOKUP(2, 1/(LA$17:LA183<>\"\"), LA$17:LA183), LA184))","v":0},null,null,null,null,34,"",null,null,{"$f":"IF(LJ185=\"\", 0, LJ185 - IF(LJ184=\"\", LOOKUP(2, 1/(LJ$17:LJ183<>\"\"), LJ$17:LJ183), LJ184))","v":0},null,null,null,null,34,"",null,null,{"$f":"IF(LS185=\"\", 0, LS185 - IF(LS184=\"\", LOOKUP(2, 1/(LS$17:LS183<>\"\"), LS$17:LS183), LS184))","v":0},null,null,null,null,34,"",null,null,{"$f":"IF(MB185=\"\", 0, MB185 - IF(MB184=\"\", LOOKUP(2, 1/(MB$17:MB183<>\"\"), MB$17:MB183), MB184))","v":0},null,null,null,null,34,"",null,null,{"$f":"IF(MK185=\"\", 0, MK185 - IF(MK184=\"\", LOOKUP(2, 1/(MK$17:MK183<>\"\"), MK$17:MK183), MK184))","v":0},null,null,null,null,34,"",null,null,{"$f":"IF(MT185=\"\", 0, MT185 - IF(MT184=\"\", LOOKUP(2, 1/(MT$17:MT183<>\"\"), MT$17:MT183), MT184))","v":0},null,null,34,"",null,null,{"$f":"IF(NA185=\"\", 0, NA185 - IF(NA184=\"\", LOOKUP(2, 1/(NA$17:NA183<>\"\"), NA$17:NA183), NA184))","v":0},null,null,null,null,34,"",null,null,{"$f":"IF(NJ185=\"\", 0, NJ185 - IF(NJ184=\"\", LOOKUP(2, 1/(NJ$17:NJ183<>\"\"), NJ$17:NJ183), NJ184))","v":0},null,null,null,null,34,"",null,null,{"$f":"IF(NS185=\"\", 0, NS185 - IF(NS184=\"\", LOOKUP(2, 1/(NS$17:NS183<>\"\"), NS$17:NS183), NS184))","v":0},null,null,null,null,34,"",null,null,{"$f":"IF(OB185=\"\", 0, OB185 - IF(OB184=\"\", LOOKUP(2, 1/(OB$17:OB183<>\"\"), OB$17:OB183), OB184))","v":0},null,null,null,null,34,"",null,null,{"$f":"IF(OK185=\"\", 0, OK185 - IF(OK184=\"\", LOOKUP(2, 1/(OK$17:OK183<>\"\"), OK$17:OK183), OK184))","v":0},null,null,null,null,34,"",null,null,{"$f":"IF(OT185=\"\", 0, OT185 - IF(OT184=\"\", LOOKUP(2, 1/(OT$17:OT183<>\"\"), OT$17:OT183), OT184))","v":0},null,null,null,null,34,"",null,null,{"$f":"IF(PC185=\"\", 0, PC185 - IF(PC184=\"\", LOOKUP(2, 1/(PC$17:PC183<>\"\"), PC$17:PC183), PC184))","v":0},null,null,null,null,34,"",null,null,{"$f":"IF(PL185=\"\", 0, PL185 - IF(PL184=\"\", LOOKUP(2, 1/(PL$17:PL183<>\"\"), PL$17:PL183), PL184))","v":0},null,null,null,null,34,"",null,null,{"$f":"IF(PU185=\"\", 0, PU185 - IF(PU184=\"\", LOOKUP(2, 1/(PU$17:PU183<>\"\"), PU$17:PU183), PU184))","v":0},null,null,null,null,34,"",null,null,{"$f":"IF(QD185=\"\", 0, QD185 - IF(QD184=\"\", LOOKUP(2, 1/(QD$17:QD183<>\"\"), QD$17:QD183), QD184))","v":0}]
[null,null,null,33,"",null,null,{"$f":"IF(G186=\"\", 0, G186 - IF(G185=\"\", LOOKUP(2, 1/(G$17:G184<>\"\"), G$17:G184), G185))","v":0},null,null,null,null,33,"",null,null,{"$f":"IF(P186=\"\", 0, P186 - IF(P185=\"\", LOOKUP(2, 1/(P$17:P184<>\"\"), P$17:P184), P185))","v":0},null,null,null,null,33,"",null,null,{"$f":"IF(Y186=\"\", 0, Y186 - IF(Y185=\"\", LOOKUP(2, 1/(Y$17:Y184<>\"\"), Y$17:Y184), Y185))","v":0},null,null,null,null,33,"",null,null,{"$f":"IF(AH186=\"\", 0, AH186 - IF(AH185=\"\", LOOKUP(2, 1/(AH$17:AH184<>\"\"), AH$17:AH184), AH185))","v":0},null,null,null,null,33,"",null,null,{"$f":"IF(AQ186=\"\", 0, AQ186 - IF(AQ185=\"\", LOOKUP(2, 1/(AQ$17:AQ184<>\"\"), AQ$17:AQ184), AQ185))","v":0},null,null,null,null,33,"",null,null,{"$f":"IF(AZ186=\"\", 0, AZ186 - IF(AZ185=\"\", LOOKUP(2, 1/(AZ$17:AZ184<>\"\"), AZ$17:AZ184), AZ185))","v":0},null,null,null,null,33,"",null,null,{"$f":"IF(BI186=\"\", 0, BI186 - IF(BI185=\"\", LOOKUP(2, 1/(BI$17:BI184<>\"\"), BI$17:BI184), BI185))","v":0},null,null,null,null,33,"",null,null,{"$f":"IF(BR186=\"\", 0, BR186 - IF(BR185=\"\", LOOKUP(2, 1/(BR$17:BR184<>\"\"), BR$17:BR184), BR185))","v":0},null,null,null,null,33,"",null,null,{"$f":"IF(CA186=\"\", 0, CA186 - IF(CA185=\"\", LOOKUP(2, 1/(CA$17:CA184<>\"\"), CA$17:CA184), CA185))","v":0},null,null,null,null,33,"",null,null,{"$f":"IF(CJ186=\"\", 0, CJ186 - IF(CJ185=\"\", LOOKUP(2, 1/(CJ$17:CJ184<>\"\"), CJ$17:CJ184), CJ185))","v":0},null,null,null,null,33,"",null,null,{"$f":"IF(CS186=\"\", 0, CS186 - IF(CS185=\"\", LOOKUP(2, 1/(CS$17:CS184<>\"\"), CS$17:CS184), CS185))","v":0},null,null,null,null,33,"",null,null,{"$f":"IF(DB186=\"\", 0, DB186 - IF(DB185=\"\", LOOKUP(2, 1/(DB$17:DB184<>\"\"), DB$17:DB184), DB185))","v":0},null,null,null,null,33,"",null,null,{"$f":"IF(DK186=\"\", 0, DK186 - IF(DK185=\"\", LOOKUP(2, 1/(DK$17:DK184<>\"\"), DK$17:DK184), DK185))","v":0},null,null,null,null,33,"",null,null,{"$f":"IF(DT186=\"\", 0, DT186 - IF(DT185=\"\", LOOKUP(2, 1/(DT$17:DT184<>\"\"), DT$17:DT184), DT185))","v":0},null,null,null,null,33,"",null,null,{"$f":"IF(EC186=\"\", 0, EC186 - IF(EC185=\"\", LOOKUP(2, 1/(EC$17:EC184<>\"\"), EC$17:EC184), EC185))","v":0},null,null,null,null,33,"",null,null,{"$f":"IF(EL186=\"\", 0, EL186 - IF(EL185=\"\", LOOKUP(2, 1/(EL$17:EL184<>\"\"), EL$17:EL184), EL185))","v":0},null,null,null,null,33,"",null,null,{"$f":"IF(EU186=\"\", 0, EU186 - IF(EU185=\"\", LOOKUP(2, 1/(EU$17:EU184<>\"\"), EU$17:EU184), EU185))","v":0},null,null,null,null,33,"",null,null,{"$f":"IF(FD186=\"\", 0, FD186 - IF(FD185=\"\", LOOKUP(2, 1/(FD$17:FD184<>\"\"), FD$17:FD184), FD185))","v":0},null,null,null,null,33,"",null,null,{"$f":"IF(FM186=\"\", 0, FM186 - IF(FM185=\"\", LOOKUP(2, 1/(FM$17:FM184<>\"\"), FM$17:FM184), FM185))","v":0},null,null,null,null,33,"",null,null,{"$f":"IF(FV186=\"\", 0, FV186 - IF(FV185=\"\", LOOKUP(2, 1/(FV$17:FV184<>\"\"), FV$17:FV184), FV185))","v":0},null,null,null,null,33,"",null,null,{"$f":"IF(GE186=\"\", 0, GE186 - IF(GE185=\"\", LOOKUP(2, 1/(GE$17:GE184<>\"\"), GE$17:GE184), GE185))","v":0},null,null,null,null,33,"",null,null,{"$f":"IF(GN186=\"\", 0, GN186 - IF(GN185=\"\", LOOKUP(2, 1/(GN$17:GN184<>\"\"), GN$17:GN184), GN185))","v":0},null,null,null,null,33,"",null,null,{"$f":"IF(GW186=\"\", 0, GW186 - IF(GW185=\"\", LOOKUP(2, 1/(GW$17:GW184<>\"\"), GW$17:GW184), GW185))","v":0},null,null,null,null,33,"",null,null,{"$f":"IF(HF186=\"\", 0, HF186 - IF(HF185=\"\", LOOKUP(2, 1/(HF$17:HF184<>\"\"), HF$17:HF184), HF185))","v":0},null,null,null,null,33,"",null,null,{"$f":"IF(HO186=\"\", 0, HO186 - IF(HO185=\"\", LOOKUP(2, 1/(HO$17:HO184<>\"\"), HO$17:HO184), HO185))","v":0},null,null,null,null,33,"",null,null,{"$f":"IF(HX186=\"\", 0, HX186 - IF(HX185=\"\", LOOKUP(2, 1/(HX$17:HX184<>\"\"), HX$17:HX184), HX185))","v":0},null,null,null,null,33,"",null,null,{"$f":"IF(IG186=\"\", 0, IG186 - IF(IG185=\"\", LOOKUP(2, 1/(IG$17:IG184<>\"\"), IG$17:IG184), IG185))","v":0},null,null,null,null,33,"",null,null,{"$f":"IF(IP186=\"\", 0, IP186 - IF(IP185=\"\", LOOKUP(2, 1/(IP$17:IP184<>\"\"), IP$17:IP184), IP185))","v":0},null,null,null,null,33,"",null,null,{"$f":"IF(IY186=\"\", 0, IY186 - IF(IY185=\"\", LOOKUP(2, 1/(IY$17:IY184<>\"\"), IY$17:IY184), IY185))","v":0},null,null,null,null,33,"",null,null,{"$f":"IF(JH186=\"\", 0, JH186 - IF(JH185=\"\", LOOKUP(2, 1/(JH$17:JH184<>\"\"), JH$17:JH184), JH185))","v":0},null,null,null,null,33,"",null,null,{"$f":"IF(JQ186=\"\", 0, JQ186 - IF(JQ185=\"\", LOOKUP(2, 1/(JQ$17:JQ184<>\"\"), JQ$17:JQ184), JQ185))","v":0},null,null,null,null,33,"",null,null,{"$f":"IF(JZ186=\"\", 0, JZ186 - IF(JZ185=\"\", LOOKUP(2, 1/(JZ$17:JZ184<>\"\"), JZ$17:JZ184), JZ185))","v":0},null,null,null,null,33,"",null,null,{"$f":"IF(KI186=\"\", 0, KI186 - IF(KI185=\"\", LOOKUP(2, 1/(KI$17:KI184<>\"\"), KI$17:KI184), KI185))","v":0},null,null,null,null,33,"",null,null,{"$f":"IF(KR186=\"\", 0, KR186 - IF(KR185=\"\", LOOKUP(2, 1/(KR$17:KR184<>\"\"), KR$17:KR184), KR185))","v":0},null,null,null,null,33,"",null,null,{"$f":"IF(LA186=\"\", 0, LA186 - IF(LA185=\"\", LOOKUP(2, 1/(LA$17:LA184<>\"\"), LA$17:LA184), LA185))","v":0},null,null,null,null,33,"",null,null,{"$f":"IF(LJ186=\"\", 0, LJ186 - IF(LJ185=\"\", LOOKUP(2, 1/(LJ$17:LJ184<>\"\"), LJ$17:LJ184), LJ185))","v":0},null,null,null,null,33,"",null,null,{"$f":"IF(LS186=\"\", 0, LS186 - IF(LS185=\"\", LOOKUP(2, 1/(LS$17:LS184<>\"\"), LS$17:LS184), LS185))","v":0},null,null,null,null,33,"",null,null,{"$f":"IF(MB186=\"\", 0, MB186 - IF(MB185=\"\", LOOKUP(2, 1/(MB$17:MB184<>\"\"), MB$17:MB184), MB185))","v":0},null,null,null,null,33,"",null,null,{"$f":"IF(MK186=\"\", 0, MK186 - IF(MK185=\"\", LOOKUP(2, 1/(MK$17:MK184<>\"\"), MK$17:MK184), MK185))","v":0},null,null,null,null,33,"",null,null,{"$f":"IF(MT186=\"\", 0, MT186 - IF(MT185=\"\", LOOKUP(2, 1/(MT$17:MT184<>\"\"), MT$17:MT184), MT185))","v":0},null,null,33,"",null,null,{"$f":"IF(NA186=\"\", 0, NA186 - IF(NA185=\"\", LOOKUP(2, 1/(NA$17:NA184<>\"\"), NA$17:NA184), NA185))","v":0},null,null,null,null,33,"",null,null,{"$f":"IF(NJ186=\"\", 0, NJ186 - IF(NJ185=\"\", LOOKUP(2, 1/(NJ$17:NJ184<>\"\"), NJ$17:NJ184), NJ185))","v":0},null,null,null,null,33,"",null,null,{"$f":"IF(NS186=\"\", 0, NS186 - IF(NS185=\"\", LOOKUP(2, 1/(NS$17:NS184<>\"\"), NS$17:NS184), NS185))","v":0},null,null,null,null,33,"",null,null,{"$f":"IF(OB186=\"\", 0, OB186 - IF(OB185=\"\", LOOKUP(2, 1/(OB$17:OB184<>\"\"), OB$17:OB184), OB185))","v":0},null,null,null,null,33,"",null,null,{"$f":"IF(OK186=\"\", 0, OK186 - IF(OK185=\"\", LOOKUP(2, 1/(OK$17:OK184<>\"\"), OK$17:OK184), OK185))","v":0},null,null,null,null,33,"",null,null,{"$f":"IF(OT186=\"\", 0, OT186 - IF(OT185=\"\", LOOKUP(2, 1/(OT$17:OT184<>\"\"), OT$17:OT184), OT185))","v":0},null,null,null,null,33,"",null,null,{"$f":"IF(PC186=\"\", 0, PC186 - IF(PC185=\"\", LOOKUP(2, 1/(PC$17:PC184<>\"\"), PC$17:PC184), PC185))","v":0},null,null,null,null,33,"",null,null,{"$f":"IF(PL186=\"\", 0, PL186 - IF(PL185=\"\", LOOKUP(2, 1/(PL$17:PL184<>\"\"), PL$17:PL184), PL185))","v":0},null,null,null,null,33,"",null,null,{"$f":"IF(PU186=\"\", 0, PU186 - IF(PU185=\"\", LOOKUP(2, 1/(PU$17:PU184<>\"\"), PU$17:PU184), PU185))","v":0},null,null,null,null,33,"",null,null,{"$f":"IF(QD186=\"\", 0, QD186 - IF(QD185=\"\", LOOKUP(2, 1/(QD$17:QD184<>\"\"), QD$17:QD184), QD185))","v":0}]
[null,null,null,32,"",null,null,{"$f":"IF(G187=\"\", 0, G187 - IF(G186=\"\", LOOKUP(2, 1/(G$17:G185<>\"\"), G$17:G185), G186))","v":0},null,null,null,null,32,"",null,null,{"$f":"IF(P187=\"\", 0, P187 - IF(P186=\"\", LOOKUP(2, 1/(P$17:P185<>\"\"), P$17:P185), P186))","v":0},null,null,null,null,32,"",null,null,{"$f":"IF(Y187=\"\", 0, Y187 - IF(Y186=\"\", LOOKUP(2, 1/(Y$17:Y185<>\"\"), Y$17:Y185), Y186))","v":0},null,null,null,null,32,"",null,null,{"$f":"IF(AH187=\"\", 0, AH187 - IF(AH186=\"\", LOOKUP(2, 1/(AH$17:AH185<>\"\"), AH$17:AH185), AH186))","v":0},null,null,null,null,32,"",null,null,{"$f":"IF(AQ187=\"\", 0, AQ187 - IF(AQ186=\"\", LOOKUP(2, 1/(AQ$17:AQ185<>\"\"), AQ$17:AQ185), AQ186))","v":0},null,null,null,null,32,"",null,null,{"$f":"IF(AZ187=\"\", 0, AZ187 - IF(AZ186=\"\", LOOKUP(2, 1/(AZ$17:AZ185<>\"\"), AZ$17:AZ185), AZ186))","v":0},null,null,null,null,32,"",null,null,{"$f":"IF(BI187=\"\", 0, BI187 - IF(BI186=\"\", LOOKUP(2, 1/(BI$17:BI185<>\"\"), BI$17:BI185), BI186))","v":0},null,null,null,null,32,"",null,null,{"$f":"IF(BR187=\"\", 0, BR187 - IF(BR186=\"\", LOOKUP(2, 1/(BR$17:BR185<>\"\"), BR$17:BR185), BR186))","v":0},null,null,null,null,32,"",null,null,{"$f":"IF(CA187=\"\", 0, CA187 - IF(CA186=\"\", LOOKUP(2, 1/(CA$17:CA185<>\"\"), CA$17:CA185), CA186))","v":0},null,null,null,null,32,"",null,null,{"$f":"IF(CJ187=\"\", 0, CJ187 - IF(CJ186=\"\", LOOKUP(2, 1/(CJ$17:CJ185<>\"\"), CJ$17:CJ185), CJ186))","v":0},null,null,null,null,32,"",null,null,{"$f":"IF(CS187=\"\", 0, CS187 - IF(CS186=\"\", LOOKUP(2, 1/(CS$17:CS185<>\"\"), CS$17:CS185), CS186))","v":0},null,null,null,null,32,"",null,null,{"$f":"IF(DB187=\"\", 0, DB187 - IF(DB186=\"\", LOOKUP(2, 1/(DB$17:DB185<>\"\"), DB$17:DB185), DB186))","v":0},null,null,null,null,32,"",null,null,{"$f":"IF(DK187=\"\", 0, DK187 - IF(DK186=\"\", LOOKUP(2, 1/(DK$17:DK185<>\"\"), DK$17:DK185), DK186))","v":0},null,null,null,null,32,"",null,null,{"$f":"IF(DT187=\"\", 0, DT187 - IF(DT186=\"\", LOOKUP(2, 1/(DT$17:DT185<>\"\"), DT$17:DT185), DT186))","v":0},null,null,null,null,32,"",null,null,{"$f":"IF(EC187=\"\", 0, EC187 - IF(EC186=\"\", LOOKUP(2, 1/(EC$17:EC185<>\"\"), EC$17:EC185), EC186))","v":0},null,null,null,null,32,"",null,null,{"$f":"IF(EL187=\"\", 0, EL187 - IF(EL186=\"\", LOOKUP(2, 1/(EL$17:EL185<>\"\"), EL$17:EL185), EL186))","v":0},null,null,null,null,32,"",null,null,{"$f":"IF(EU187=\"\", 0, EU187 - IF(EU186=\"\", LOOKUP(2, 1/(EU$17:EU185<>\"\"), EU$17:EU185), EU186))","v":0},null,null,null,null,32,"",null,null,{"$f":"IF(FD187=\"\", 0, FD187 - IF(FD186=\"\", LOOKUP(2, 1/(FD$17:FD185<>\"\"), FD$17:FD185), FD186))","v":0},null,null,null,null,32,"",null,null,{"$f":"IF(FM187=\"\", 0, FM187 - IF(FM186=\"\", LOOKUP(2, 1/(FM$17:FM185<>\"\"), FM$17:FM185), FM186))","v":0},null,null,null,null,32,"",null,null,{"$f":"IF(FV187=\"\", 0, FV187 - IF(FV186=\"\", LOOKUP(2, 1/(FV$17:FV185<>\"\"), FV$17:FV185), FV186))","v":0},null,null,null,null,32,"",null,null,{"$f":"IF(GE187=\"\", 0, GE187 - IF(GE186=\"\", LOOKUP(2, 1/(GE$17:GE185<>\"\"), GE$17:GE185), GE186))","v":0},null,null,null,null,32,"",null,null,{"$f":"IF(GN187=\"\", 0, GN187 - IF(GN186=\"\", LOOKUP(2, 1/(GN$17:GN185<>\"\"), GN$17:GN185), GN186))","v":0},null,null,null,null,32,"",null,null,{"$f":"IF(GW187=\"\", 0, GW187 - IF(GW186=\"\", LOOKUP(2, 1/(GW$17:GW185<>\"\"), GW$17:GW185), GW186))","v":0},null,null,null,null,32,"",null,null,{"$f":"IF(HF187=\"\", 0, HF187 - IF(HF186=\"\", LOOKUP(2, 1/(HF$17:HF185<>\"\"), HF$17:HF185), HF186))","v":0},null,null,null,null,32,"",null,null,{"$f":"IF(HO187=\"\", 0, HO187 - IF(HO186=\"\", LOOKUP(2, 1/(HO$17:HO185<>\"\"), HO$17:HO185), HO186))","v":0},null,null,null,null,32,"",null,null,{"$f":"IF(HX187=\"\", 0, HX187 - IF(HX186=\"\", LOOKUP(2, 1/(HX$17:HX185<>\"\"), HX$17:HX185), HX186))","v":0},null,null,null,null,32,"",null,null,{"$f":"IF(IG187=\"\", 0, IG187 - IF(IG186=\"\", LOOKUP(2, 1/(IG$17:IG185<>\"\"), IG$17:IG185), IG186))","v":0},null,null,null,null,32,"",null,null,{"$f":"IF(IP187=\"\", 0, IP187 - IF(IP186=\"\", LOOKUP(2, 1/(IP$17:IP185<>\"\"), IP$17:IP185), IP186))","v":0},null,null,null,null,32,"",null,null,{"$f":"IF(IY187=\"\", 0, IY187 - IF(IY186=\"\", LOOKUP(2, 1/(IY$17:IY185<>\"\"), IY$17:IY185), IY186))","v":0},null,null,null,null,32,"",null,null,{"$f":"IF(JH187=\"\", 0, JH187 - IF(JH186=\"\", LOOKUP(2, 1/(JH$17:JH185<>\"\"), JH$17:JH185), JH186))","v":0},null,null,null,null,32,"",null,null,{"$f":"IF(JQ187=\"\", 0, JQ187 - IF(JQ186=\"\", LOOKUP(2, 1/(JQ$17:JQ185<>\"\"), JQ$17:JQ185), JQ186))","v":0},null,null,null,null,32,"",null,null,{"$f":"IF(JZ187=\"\", 0, JZ187 - IF(JZ186=\"\", LOOKUP(2, 1/(JZ$17:JZ185<>\"\"), JZ$17:JZ185), JZ186))","v":0},null,null,null,null,32,"",null,null,{"$f":"IF(KI187=\"\", 0, KI187 - IF(KI186=\"\", LOOKUP(2, 1/(KI$17:KI185<>\"\"), KI$17:KI185), KI186))","v":0},null,null,null,null,32,"",null,null,{"$f":"IF(KR187=\"\", 0, KR187 - IF(KR186=\"\", LOOKUP(2, 1/(KR$17:KR185<>\"\"), KR$17:KR185), KR186))","v":0},null,null,null,null,32,"",null,null,{"$f":"IF(LA187=\"\", 0, LA187 - IF(LA186=\"\", LOOKUP(2, 1/(LA$17:LA185<>\"\"), LA$17:LA185), LA186))","v":0},null,null,null,null,32,"",null,null,{"$f":"IF(LJ187=\"\", 0, LJ187 - IF(LJ186=\"\", LOOKUP(2, 1/(LJ$17:LJ185<>\"\"), LJ$17:LJ185), LJ186))","v":0},null,null,null,null,32,"",null,null,{"$f":"IF(LS187=\"\", 0, LS187 - IF(LS186=\"\", LOOKUP(2, 1/(LS$17:LS185<>\"\"), LS$17:LS185), LS186))","v":0},null,null,null,null,32,"",null,null,{"$f":"IF(MB187=\"\", 0, MB187 - IF(MB186=\"\", LOOKUP(2, 1/(MB$17:MB185<>\"\"), MB$17:MB185), MB186))","v":0},null,null,null,null,32,"",null,null,{"$f":"IF(MK187=\"\", 0, MK187 - IF(MK186=\"\", LOOKUP(2, 1/(MK$17:MK185<>\"\"), MK$17:MK185), MK186))","v":0},null,null,null,null,32,"",null,null,{"$f":"IF(MT187=\"\", 0, MT187 - IF(MT186=\"\", LOOKUP(2, 1/(MT$17:MT185<>\"\"), MT$17:MT185), MT186))","v":0},null,null,32,"",null,null,{"$f":"IF(NA187=\"\", 0, NA187 - IF(NA186=\"\", LOOKUP(2, 1/(NA$17:NA185<>\"\"), NA$17:NA185), NA186))","v":0},null,null,null,null,32,"",null,null,{"$f":"IF(NJ187=\"\", 0, NJ187 - IF(NJ186=\"\", LOOKUP(2, 1/(NJ$17:NJ185<>\"\"), NJ$17:NJ185), NJ186))","v":0},null,null,null,null,32,"",null,null,{"$f":"IF(NS187=\"\", 0, NS187 - IF(NS186=\"\", LOOKUP(2, 1/(NS$17:NS185<>\"\"), NS$17:NS185), NS186))","v":0},null,null,null,null,32,"",null,null,{"$f":"IF(OB187=\"\", 0, OB187 - IF(OB186=\"\", LOOKUP(2, 1/(OB$17:OB185<>\"\"), OB$17:OB185), OB186))","v":0},null,null,null,null,32,"",null,null,{"$f":"IF(OK187=\"\", 0, OK187 - IF(OK186=\"\", LOOKUP(2, 1/(OK$17:OK185<>\"\"), OK$17:OK185), OK186))","v":0},null,null,null,null,32,"",null,null,{"$f":"IF(OT187=\"\", 0, OT187 - IF(OT186=\"\", LOOKUP(2, 1/(OT$17:OT185<>\"\"), OT$17:OT185), OT186))","v":0},null,null,null,null,32,"",null,null,{"$f":"IF(PC187=\"\", 0, PC187 - IF(PC186=\"\", LOOKUP(2, 1/(PC$17:PC185<>\"\"), PC$17:PC185), PC186))","v":0},null,null,null,null,32,"",null,null,{"$f":"IF(PL187=\"\", 0, PL187 - IF(PL186=\"\", LOOKUP(2, 1/(PL$17:PL185<>\"\"), PL$17:PL185), PL186))","v":0},null,null,null,null,32,"",null,null,{"$f":"IF(PU187=\"\", 0, PU187 - IF(PU186=\"\", LOOKUP(2, 1/(PU$17:PU185<>\"\"), PU$17:PU185), PU186))","v":0},null,null,null,null,32,"",null,null,{"$f":"IF(QD187=\"\", 0, QD187 - IF(QD186=\"\", LOOKUP(2, 1/(QD$17:QD185<>\"\"), QD$17:QD185), QD186))","v":0}]
[null,null,null,31,"",null,null,{"$f":"IF(G188=\"\", 0, G188 - IF(G187=\"\", LOOKUP(2, 1/(G$17:G186<>\"\"), G$17:G186), G187))","v":0},null,null,null,null,31,"",null,null,{"$f":"IF(P188=\"\", 0, P188 - IF(P187=\"\", LOOKUP(2, 1/(P$17:P186<>\"\"), P$17:P186), P187))","v":0},null,null,null,null,31,"",null,null,{"$f":"IF(Y188=\"\", 0, Y188 - IF(Y187=\"\", LOOKUP(2, 1/(Y$17:Y186<>\"\"), Y$17:Y186), Y187))","v":0},null,null,null,null,31,"",null,null,{"$f":"IF(AH188=\"\", 0, AH188 - IF(AH187=\"\", LOOKUP(2, 1/(AH$17:AH186<>\"\"), AH$17:AH186), AH187))","v":0},null,null,null,null,31,"",null,null,{"$f":"IF(AQ188=\"\", 0, AQ188 - IF(AQ187=\"\", LOOKUP(2, 1/(AQ$17:AQ186<>\"\"), AQ$17:AQ186), AQ187))","v":0},null,null,null,null,31,"",null,null,{"$f":"IF(AZ188=\"\", 0, AZ188 - IF(AZ187=\"\", LOOKUP(2, 1/(AZ$17:AZ186<>\"\"), AZ$17:AZ186), AZ187))","v":0},null,null,null,null,31,"",null,null,{"$f":"IF(BI188=\"\", 0, BI188 - IF(BI187=\"\", LOOKUP(2, 1/(BI$17:BI186<>\"\"), BI$17:BI186), BI187))","v":0},null,null,null,null,31,"",null,null,{"$f":"IF(BR188=\"\", 0, BR188 - IF(BR187=\"\", LOOKUP(2, 1/(BR$17:BR186<>\"\"), BR$17:BR186), BR187))","v":0},null,null,null,null,31,"",null,null,{"$f":"IF(CA188=\"\", 0, CA188 - IF(CA187=\"\", LOOKUP(2, 1/(CA$17:CA186<>\"\"), CA$17:CA186), CA187))","v":0},null,null,null,null,31,"",null,null,{"$f":"IF(CJ188=\"\", 0, CJ188 - IF(CJ187=\"\", LOOKUP(2, 1/(CJ$17:CJ186<>\"\"), CJ$17:CJ186), CJ187))","v":0},null,null,null,null,31,"",null,null,{"$f":"IF(CS188=\"\", 0, CS188 - IF(CS187=\"\", LOOKUP(2, 1/(CS$17:CS186<>\"\"), CS$17:CS186), CS187))","v":0},null,null,null,null,31,"",null,null,{"$f":"IF(DB188=\"\", 0, DB188 - IF(DB187=\"\", LOOKUP(2, 1/(DB$17:DB186<>\"\"), DB$17:DB186), DB187))","v":0},null,null,null,null,31,"",null,null,{"$f":"IF(DK188=\"\", 0, DK188 - IF(DK187=\"\", LOOKUP(2, 1/(DK$17:DK186<>\"\"), DK$17:DK186), DK187))","v":0},null,null,null,null,31,"",null,null,{"$f":"IF(DT188=\"\", 0, DT188 - IF(DT187=\"\", LOOKUP(2, 1/(DT$17:DT186<>\"\"), DT$17:DT186), DT187))","v":0},null,null,null,null,31,"",null,null,{"$f":"IF(EC188=\"\", 0, EC188 - IF(EC187=\"\", LOOKUP(2, 1/(EC$17:EC186<>\"\"), EC$17:EC186), EC187))","v":0},null,null,null,null,31,"",null,null,{"$f":"IF(EL188=\"\", 0, EL188 - IF(EL187=\"\", LOOKUP(2, 1/(EL$17:EL186<>\"\"), EL$17:EL186), EL187))","v":0},null,null,null,null,31,"",null,null,{"$f":"IF(EU188=\"\", 0, EU188 - IF(EU187=\"\", LOOKUP(2, 1/(EU$17:EU186<>\"\"), EU$17:EU186), EU187))","v":0},null,null,null,null,31,"",null,null,{"$f":"IF(FD188=\"\", 0, FD188 - IF(FD187=\"\", LOOKUP(2, 1/(FD$17:FD186<>\"\"), FD$17:FD186), FD187))","v":0},null,null,null,null,31,"",null,null,{"$f":"IF(FM188=\"\", 0, FM188 - IF(FM187=\"\", LOOKUP(2, 1/(FM$17:FM186<>\"\"), FM$17:FM186), FM187))","v":0},null,null,null,null,31,"",null,null,{"$f":"IF(FV188=\"\", 0, FV188 - IF(FV187=\"\", LOOKUP(2, 1/(FV$17:FV186<>\"\"), FV$17:FV186), FV187))","v":0},null,null,null,null,31,"",null,null,{"$f":"IF(GE188=\"\", 0, GE188 - IF(GE187=\"\", LOOKUP(2, 1/(GE$17:GE186<>\"\"), GE$17:GE186), GE187))","v":0},null,null,null,null,31,"",null,null,{"$f":"IF(GN188=\"\", 0, GN188 - IF(GN187=\"\", LOOKUP(2, 1/(GN$17:GN186<>\"\"), GN$17:GN186), GN187))","v":0},null,null,null,null,31,"",null,null,{"$f":"IF(GW188=\"\", 0, GW188 - IF(GW187=\"\", LOOKUP(2, 1/(GW$17:GW186<>\"\"), GW$17:GW186), GW187))","v":0},null,null,null,null,31,"",null,null,{"$f":"IF(HF188=\"\", 0, HF188 - IF(HF187=\"\", LOOKUP(2, 1/(HF$17:HF186<>\"\"), HF$17:HF186), HF187))","v":0},null,null,null,null,31,"",null,null,{"$f":"IF(HO188=\"\", 0, HO188 - IF(HO187=\"\", LOOKUP(2, 1/(HO$17:HO186<>\"\"), HO$17:HO186), HO187))","v":0},null,null,null,null,31,"",null,null,{"$f":"IF(HX188=\"\", 0, HX188 - IF(HX187=\"\", LOOKUP(2, 1/(HX$17:HX186<>\"\"), HX$17:HX186), HX187))","v":0},null,null,null,null,31,"",null,null,{"$f":"IF(IG188=\"\", 0, IG188 - IF(IG187=\"\", LOOKUP(2, 1/(IG$17:IG186<>\"\"), IG$17:IG186), IG187))","v":0},null,null,null,null,31,"",null,null,{"$f":"IF(IP188=\"\", 0, IP188 - IF(IP187=\"\", LOOKUP(2, 1/(IP$17:IP186<>\"\"), IP$17:IP186), IP187))","v":0},null,null,null,null,31,"",null,null,{"$f":"IF(IY188=\"\", 0, IY188 - IF(IY187=\"\", LOOKUP(2, 1/(IY$17:IY186<>\"\"), IY$17:IY186), IY187))","v":0},null,null,null,null,31,"",null,null,{"$f":"IF(JH188=\"\", 0, JH188 - IF(JH187=\"\", LOOKUP(2, 1/(JH$17:JH186<>\"\"), JH$17:JH186), JH187))","v":0},null,null,null,null,31,"",null,null,{"$f":"IF(JQ188=\"\", 0, JQ188 - IF(JQ187=\"\", LOOKUP(2, 1/(JQ$17:JQ186<>\"\"), JQ$17:JQ186), JQ187))","v":0},null,null,null,null,31,"",null,null,{"$f":"IF(JZ188=\"\", 0, JZ188 - IF(JZ187=\"\", LOOKUP(2, 1/(JZ$17:JZ186<>\"\"), JZ$17:JZ186), JZ187))","v":0},null,null,null,null,31,"",null,null,{"$f":"IF(KI188=\"\", 0, KI188 - IF(KI187=\"\", LOOKUP(2, 1/(KI$17:KI186<>\"\"), KI$17:KI186), KI187))","v":0},null,null,null,null,31,"",null,null,{"$f":"IF(KR188=\"\", 0, KR188 - IF(KR187=\"\", LOOKUP(2, 1/(KR$17:KR186<>\"\"), KR$17:KR186), KR187))","v":0},null,null,null,null,31,"",null,null,{"$f":"IF(LA188=\"\", 0, LA188 - IF(LA187=\"\", LOOKUP(2, 1/(LA$17:LA186<>\"\"), LA$17:LA186), LA187))","v":0},null,null,null,null,31,"",null,null,{"$f":"IF(LJ188=\"\", 0, LJ188 - IF(LJ187=\"\", LOOKUP(2, 1/(LJ$17:LJ186<>\"\"), LJ$17:LJ186), LJ187))","v":0},null,null,null,null,31,"",null,null,{"$f":"IF(LS188=\"\", 0, LS188 - IF(LS187=\"\", LOOKUP(2, 1/(LS$17:LS186<>\"\"), LS$17:LS186), LS187))","v":0},null,null,null,null,31,"",null,null,{"$f":"IF(MB188=\"\", 0, MB188 - IF(MB187=\"\", LOOKUP(2, 1/(MB$17:MB186<>\"\"), MB$17:MB186), MB187))","v":0},null,null,null,null,31,"",null,null,{"$f":"IF(MK188=\"\", 0, MK188 - IF(MK187=\"\", LOOKUP(2, 1/(MK$17:MK186<>\"\"), MK$17:MK186), MK187))","v":0},null,null,null,null,31,"",null,null,{"$f":"IF(MT188=\"\", 0, MT188 - IF(MT187=\"\", LOOKUP(2, 1/(MT$17:MT186<>\"\"), MT$17:MT186), MT187))","v":0},null,null,31,"",null,null,{"$f":"IF(NA188=\"\", 0, NA188 - IF(NA187=\"\", LOOKUP(2, 1/(NA$17:NA186<>\"\"), NA$17:NA186), NA187))","v":0},null,null,null,null,31,"",null,null,{"$f":"IF(NJ188=\"\", 0, NJ188 - IF(NJ187=\"\", LOOKUP(2, 1/(NJ$17:NJ186<>\"\"), NJ$17:NJ186), NJ187))","v":0},null,null,null,null,31,"",null,null,{"$f":"IF(NS188=\"\", 0, NS188 - IF(NS187=\"\", LOOKUP(2, 1/(NS$17:NS186<>\"\"), NS$17:NS186), NS187))","v":0},null,null,null,null,31,"",null,null,{"$f":"IF(OB188=\"\", 0, OB188 - IF(OB187=\"\", LOOKUP(2, 1/(OB$17:OB186<>\"\"), OB$17:OB186), OB187))","v":0},null,null,null,null,31,"",null,null,{"$f":"IF(OK188=\"\", 0, OK188 - IF(OK187=\"\", LOOKUP(2, 1/(OK$17:OK186<>\"\"), OK$17:OK186), OK187))","v":0},null,null,null,null,31,"",null,null,{"$f":"IF(OT188=\"\", 0, OT188 - IF(OT187=\"\", LOOKUP(2, 1/(OT$17:OT186<>\"\"), OT$17:OT186), OT187))","v":0},null,null,null,null,31,"",null,null,{"$f":"IF(PC188=\"\", 0, PC188 - IF(PC187=\"\", LOOKUP(2, 1/(PC$17:PC186<>\"\"), PC$17:PC186), PC187))","v":0},null,null,null,null,31,"",null,null,{"$f":"IF(PL188=\"\", 0, PL188 - IF(PL187=\"\", LOOKUP(2, 1/(PL$17:PL186<>\"\"), PL$17:PL186), PL187))","v":0},null,null,null,null,31,"",null,null,{"$f":"IF(PU188=\"\", 0, PU188 - IF(PU187=\"\", LOOKUP(2, 1/(PU$17:PU186<>\"\"), PU$17:PU186), PU187))","v":0},null,null,null,null,31,"",null,null,{"$f":"IF(QD188=\"\", 0, QD188 - IF(QD187=\"\", LOOKUP(2, 1/(QD$17:QD186<>\"\"), QD$17:QD186), QD187))","v":0}]
[null,null,null,30,"",null,null,{"$f":"IF(G189=\"\", 0, G189 - IF(G188=\"\", LOOKUP(2, 1/(G$17:G187<>\"\"), G$17:G187), G188))","v":0},null,null,null,null,30,"",null,null,{"$f":"IF(P189=\"\", 0, P189 - IF(P188=\"\", LOOKUP(2, 1/(P$17:P187<>\"\"), P$17:P187), P188))","v":0},null,null,null,null,30,"",null,null,{"$f":"IF(Y189=\"\", 0, Y189 - IF(Y188=\"\", LOOKUP(2, 1/(Y$17:Y187<>\"\"), Y$17:Y187), Y188))","v":0},null,null,null,null,30,"",null,null,{"$f":"IF(AH189=\"\", 0, AH189 - IF(AH188=\"\", LOOKUP(2, 1/(AH$17:AH187<>\"\"), AH$17:AH187), AH188))","v":0},null,null,null,null,30,"",null,null,{"$f":"IF(AQ189=\"\", 0, AQ189 - IF(AQ188=\"\", LOOKUP(2, 1/(AQ$17:AQ187<>\"\"), AQ$17:AQ187), AQ188))","v":0},null,null,null,null,30,"",null,null,{"$f":"IF(AZ189=\"\", 0, AZ189 - IF(AZ188=\"\", LOOKUP(2, 1/(AZ$17:AZ187<>\"\"), AZ$17:AZ187), AZ188))","v":0},null,null,null,null,30,"",null,null,{"$f":"IF(BI189=\"\", 0, BI189 - IF(BI188=\"\", LOOKUP(2, 1/(BI$17:BI187<>\"\"), BI$17:BI187), BI188))","v":0},null,null,null,null,30,"",null,null,{"$f":"IF(BR189=\"\", 0, BR189 - IF(BR188=\"\", LOOKUP(2, 1/(BR$17:BR187<>\"\"), BR$17:BR187), BR188))","v":0},null,null,null,null,30,"",null,null,{"$f":"IF(CA189=\"\", 0, CA189 - IF(CA188=\"\", LOOKUP(2, 1/(CA$17:CA187<>\"\"), CA$17:CA187), CA188))","v":0},null,null,null,null,30,"",null,null,{"$f":"IF(CJ189=\"\", 0, CJ189 - IF(CJ188=\"\", LOOKUP(2, 1/(CJ$17:CJ187<>\"\"), CJ$17:CJ187), CJ188))","v":0},null,null,null,null,30,"",null,null,{"$f":"IF(CS189=\"\", 0, CS189 - IF(CS188=\"\", LOOKUP(2, 1/(CS$17:CS187<>\"\"), CS$17:CS187), CS188))","v":0},null,null,null,null,30,"",null,null,{"$f":"IF(DB189=\"\", 0, DB189 - IF(DB188=\"\", LOOKUP(2, 1/(DB$17:DB187<>\"\"), DB$17:DB187), DB188))","v":0},null,null,null,null,30,"",null,null,{"$f":"IF(DK189=\"\", 0, DK189 - IF(DK188=\"\", LOOKUP(2, 1/(DK$17:DK187<>\"\"), DK$17:DK187), DK188))","v":0},null,null,null,null,30,"",null,null,{"$f":"IF(DT189=\"\", 0, DT189 - IF(DT188=\"\", LOOKUP(2, 1/(DT$17:DT187<>\"\"), DT$17:DT187), DT188))","v":0},null,null,null,null,30,"",null,null,{"$f":"IF(EC189=\"\", 0, EC189 - IF(EC188=\"\", LOOKUP(2, 1/(EC$17:EC187<>\"\"), EC$17:EC187), EC188))","v":0},null,null,null,null,30,"",null,null,{"$f":"IF(EL189=\"\", 0, EL189 - IF(EL188=\"\", LOOKUP(2, 1/(EL$17:EL187<>\"\"), EL$17:EL187), EL188))","v":0},null,null,null,null,30,"",null,null,{"$f":"IF(EU189=\"\", 0, EU189 - IF(EU188=\"\", LOOKUP(2, 1/(EU$17:EU187<>\"\"), EU$17:EU187), EU188))","v":0},null,null,null,null,30,"",null,null,{"$f":"IF(FD189=\"\", 0, FD189 - IF(FD188=\"\", LOOKUP(2, 1/(FD$17:FD187<>\"\"), FD$17:FD187), FD188))","v":0},null,null,null,null,30,"",null,null,{"$f":"IF(FM189=\"\", 0, FM189 - IF(FM188=\"\", LOOKUP(2, 1/(FM$17:FM187<>\"\"), FM$17:FM187), FM188))","v":0},null,null,null,null,30,"",null,null,{"$f":"IF(FV189=\"\", 0, FV189 - IF(FV188=\"\", LOOKUP(2, 1/(FV$17:FV187<>\"\"), FV$17:FV187), FV188))","v":0},null,null,null,null,30,"",null,null,null,null,null,null,null,30,"",null,null,null,null,null,null,null,30,"",null,null,null,null,null,null,null,30,"",null,null,null,null,null,null,null,30,"",null,null,null,null,null,null,null,30,"",null,null,null,null,null,null,null,30,"",null,null,null,null,null,null,null,30,"",null,null,{"$f":"IF(IP189=\"\", 0, IP189 - IF(IP188=\"\", LOOKUP(2, 1/(IP$17:IP187<>\"\"), IP$17:IP187), IP188))","v":0},null,null,null,null,30,"",null,null,{"$f":"IF(IY189=\"\", 0, IY189 - IF(IY188=\"\", LOOKUP(2, 1/(IY$17:IY187<>\"\"), IY$17:IY187), IY188))","v":0},null,null,null,null,30,"",null,null,{"$f":"IF(JH189=\"\", 0, JH189 - IF(JH188=\"\", LOOKUP(2, 1/(JH$17:JH187<>\"\"), JH$17:JH187), JH188))","v":0},null,null,null,null,30,"",null,null,{"$f":"IF(JQ189=\"\", 0, JQ189 - IF(JQ188=\"\", LOOKUP(2, 1/(JQ$17:JQ187<>\"\"), JQ$17:JQ187), JQ188))","v":0},null,null,null,null,30,"",null,null,{"$f":"IF(JZ189=\"\", 0, JZ189 - IF(JZ188=\"\", LOOKUP(2, 1/(JZ$17:JZ187<>\"\"), JZ$17:JZ187), JZ188))","v":0},null,null,null,null,30,"",null,null,{"$f":"IF(KI189=\"\", 0, KI189 - IF(KI188=\"\", LOOKUP(2, 1/(KI$17:KI187<>\"\"), KI$17:KI187), KI188))","v":0},null,null,null,null,30,"",null,null,{"$f":"IF(KR189=\"\", 0, KR189 - IF(KR188=\"\", LOOKUP(2, 1/(KR$17:KR187<>\"\"), KR$17:KR187), KR188))","v":0},null,null,null,null,30,"",null,null,{"$f":"IF(LA189=\"\", 0, LA189 - IF(LA188=\"\", LOOKUP(2, 1/(LA$17:LA187<>\"\"), LA$17:LA187), LA188))","v":0},null,null,null,null,30,"",null,null,{"$f":"IF(LJ189=\"\", 0, LJ189 - IF(LJ188=\"\", LOOKUP(2, 1/(LJ$17:LJ187<>\"\"), LJ$17:LJ187), LJ188))","v":0},null,null,null,null,30,"",null,null,{"$f":"IF(LS189=\"\", 0, LS189 - IF(LS188=\"\", LOOKUP(2, 1/(LS$17:LS187<>\"\"), LS$17:LS187), LS188))","v":0},null,null,null,null,30,"",null,null,{"$f":"IF(MB189=\"\", 0, MB189 - IF(MB188=\"\", LOOKUP(2, 1/(MB$17:MB187<>\"\"), MB$17:MB187), MB188))","v":0},null,null,null,null,30,"",null,null,{"$f":"IF(MK189=\"\", 0, MK189 - IF(MK188=\"\", LOOKUP(2, 1/(MK$17:MK187<>\"\"), MK$17:MK187), MK188))","v":0},null,null,null,null,30,"",null,null,{"$f":"IF(MT189=\"\", 0, MT189 - IF(MT188=\"\", LOOKUP(2, 1/(MT$17:MT187<>\"\"), MT$17:MT187), MT188))","v":0},null,null,30,"",null,null,{"$f":"IF(NA189=\"\", 0, NA189 - IF(NA188=\"\", LOOKUP(2, 1/(NA$17:NA187<>\"\"), NA$17:NA187), NA188))","v":0},null,null,null,null,30,"",null,null,{"$f":"IF(NJ189=\"\", 0, NJ189 - IF(NJ188=\"\", LOOKUP(2, 1/(NJ$17:NJ187<>\"\"), NJ$17:NJ187), NJ188))","v":0},null,null,null,null,30,"",null,null,{"$f":"IF(NS189=\"\", 0, NS189 - IF(NS188=\"\", LOOKUP(2, 1/(NS$17:NS187<>\"\"), NS$17:NS187), NS188))","v":0},null,null,null,null,30,"",null,null,{"$f":"IF(OB189=\"\", 0, OB189 - IF(OB188=\"\", LOOKUP(2, 1/(OB$17:OB187<>\"\"), OB$17:OB187), OB188))","v":0},null,null,null,null,30,"",null,null,{"$f":"IF(OK189=\"\", 0, OK189 - IF(OK188=\"\", LOOKUP(2, 1/(OK$17:OK187<>\"\"), OK$17:OK187), OK188))","v":0},null,null,null,null,30,"",null,null,{"$f":"IF(OT189=\"\", 0, OT189 - IF(OT188=\"\", LOOKUP(2, 1/(OT$17:OT187<>\"\"), OT$17:OT187), OT188))","v":0},null,null,null,null,30,"",null,null,{"$f":"IF(PC189=\"\", 0, PC189 - IF(PC188=\"\", LOOKUP(2, 1/(PC$17:PC187<>\"\"), PC$17:PC187), PC188))","v":0},null,null,null,null,30,"",null,null,{"$f":"IF(PL189=\"\", 0, PL189 - IF(PL188=\"\", LOOKUP(2, 1/(PL$17:PL187<>\"\"), PL$17:PL187), PL188))","v":0},null,null,null,null,30,"",null,null,{"$f":"IF(PU189=\"\", 0, PU189 - IF(PU188=\"\", LOOKUP(2, 1/(PU$17:PU187<>\"\"), PU$17:PU187), PU188))","v":0},null,null,null,null,30,"",null,null,{"$f":"IF(QD189=\"\", 0, QD189 - IF(QD188=\"\", LOOKUP(2, 1/(QD$17:QD187<>\"\"), QD$17:QD187), QD188))","v":0}]
[null,null,null,29,"",null,null,{"$f":"IF(G190=\"\", 0, G190 - IF(G189=\"\", LOOKUP(2, 1/(G$17:G188<>\"\"), G$17:G188), G189))","v":0},null,null,null,null,29,"",null,null,{"$f":"IF(P190=\"\", 0, P190 - IF(P189=\"\", LOOKUP(2, 1/(P$17:P188<>\"\"), P$17:P188), P189))","v":0},null,null,null,null,29,"",null,null,{"$f":"IF(Y190=\"\", 0, Y190 - IF(Y189=\"\", LOOKUP(2, 1/(Y$17:Y188<>\"\"), Y$17:Y188), Y189))","v":0},null,null,null,null,29,"",null,null,{"$f":"IF(AH190=\"\", 0, AH190 - IF(AH189=\"\", LOOKUP(2, 1/(AH$17:AH188<>\"\"), AH$17:AH188), AH189))","v":0},null,null,null,null,29,"",null,null,{"$f":"IF(AQ190=\"\", 0, AQ190 - IF(AQ189=\"\", LOOKUP(2, 1/(AQ$17:AQ188<>\"\"), AQ$17:AQ188), AQ189))","v":0},null,null,null,null,29,"",null,null,{"$f":"IF(AZ190=\"\", 0, AZ190 - IF(AZ189=\"\", LOOKUP(2, 1/(AZ$17:AZ188<>\"\"), AZ$17:AZ188), AZ189))","v":0},null,null,null,null,29,"",null,null,{"$f":"IF(BI190=\"\", 0, BI190 - IF(BI189=\"\", LOOKUP(2, 1/(BI$17:BI188<>\"\"), BI$17:BI188), BI189))","v":0},null,null,null,null,29,"",null,null,{"$f":"IF(BR190=\"\", 0, BR190 - IF(BR189=\"\", LOOKUP(2, 1/(BR$17:BR188<>\"\"), BR$17:BR188), BR189))","v":0},null,null,null,null,29,"",null,null,{"$f":"IF(CA190=\"\", 0, CA190 - IF(CA189=\"\", LOOKUP(2, 1/(CA$17:CA188<>\"\"), CA$17:CA188), CA189))","v":0},null,null,null,null,29,"",null,null,{"$f":"IF(CJ190=\"\", 0, CJ190 - IF(CJ189=\"\", LOOKUP(2, 1/(CJ$17:CJ188<>\"\"), CJ$17:CJ188), CJ189))","v":0},null,null,null,null,29,"",null,null,{"$f":"IF(CS190=\"\", 0, CS190 - IF(CS189=\"\", LOOKUP(2, 1/(CS$17:CS188<>\"\"), CS$17:CS188), CS189))","v":0},null,null,null,null,29,"",null,null,{"$f":"IF(DB190=\"\", 0, DB190 - IF(DB189=\"\", LOOKUP(2, 1/(DB$17:DB188<>\"\"), DB$17:DB188), DB189))","v":0},null,null,null,null,29,"",null,null,{"$f":"IF(DK190=\"\", 0, DK190 - IF(DK189=\"\", LOOKUP(2, 1/(DK$17:DK188<>\"\"), DK$17:DK188), DK189))","v":0},null,null,null,null,29,"",null,null,{"$f":"IF(DT190=\"\", 0, DT190 - IF(DT189=\"\", LOOKUP(2, 1/(DT$17:DT188<>\"\"), DT$17:DT188), DT189))","v":0},null,null,null,null,29,"",null,null,{"$f":"IF(EC190=\"\", 0, EC190 - IF(EC189=\"\", LOOKUP(2, 1/(EC$17:EC188<>\"\"), EC$17:EC188), EC189))","v":0},null,null,null,null,29,"",null,null,{"$f":"IF(EL190=\"\", 0, EL190 - IF(EL189=\"\", LOOKUP(2, 1/(EL$17:EL188<>\"\"), EL$17:EL188), EL189))","v":0},null,null,null,null,29,"",null,null,{"$f":"IF(EU190=\"\", 0, EU190 - IF(EU189=\"\", LOOKUP(2, 1/(EU$17:EU188<>\"\"), EU$17:EU188), EU189))","v":0},null,null,null,null,29,"",null,null,{"$f":"IF(FD190=\"\", 0, FD190 - IF(FD189=\"\", LOOKUP(2, 1/(FD$17:FD188<>\"\"), FD$17:FD188), FD189))","v":0},null,null,null,null,29,"",null,null,{"$f":"IF(FM190=\"\", 0, FM190 - IF(FM189=\"\", LOOKUP(2, 1/(FM$17:FM188<>\"\"), FM$17:FM188), FM189))","v":0},null,null,null,null,29,"",null,null,{"$f":"IF(FV190=\"\", 0, FV190 - IF(FV189=\"\", LOOKUP(2, 1/(FV$17:FV188<>\"\"), FV$17:FV188), FV189))","v":0},null,null,null,null,29,"",null,null,null,null,null,null,null,29,"",null,null,null,null,null,null,null,29,"",null,null,null,null,null,null,null,29,"",null,null,null,null,null,null,null,29,"",null,null,null,null,null,null,null,29,"",null,null,null,null,null,null,null,29,"",null,null,null,null,null,null,null,29,"",null,null,{"$f":"IF(IP190=\"\", 0, IP190 - IF(IP189=\"\", LOOKUP(2, 1/(IP$17:IP188<>\"\"), IP$17:IP188), IP189))","v":0},null,null,null,null,29,"",null,null,{"$f":"IF(IY190=\"\", 0, IY190 - IF(IY189=\"\", LOOKUP(2, 1/(IY$17:IY188<>\"\"), IY$17:IY188), IY189))","v":0},null,null,null,null,29,"",null,null,{"$f":"IF(JH190=\"\", 0, JH190 - IF(JH189=\"\", LOOKUP(2, 1/(JH$17:JH188<>\"\"), JH$17:JH188), JH189))","v":0},null,null,null,null,29,"",null,null,{"$f":"IF(JQ190=\"\", 0, JQ190 - IF(JQ189=\"\", LOOKUP(2, 1/(JQ$17:JQ188<>\"\"), JQ$17:JQ188), JQ189))","v":0},null,null,null,null,29,"",null,null,{"$f":"IF(JZ190=\"\", 0, JZ190 - IF(JZ189=\"\", LOOKUP(2, 1/(JZ$17:JZ188<>\"\"), JZ$17:JZ188), JZ189))","v":0},null,null,null,null,29,"",null,null,{"$f":"IF(KI190=\"\", 0, KI190 - IF(KI189=\"\", LOOKUP(2, 1/(KI$17:KI188<>\"\"), KI$17:KI188), KI189))","v":0},null,null,null,null,29,"",null,null,{"$f":"IF(KR190=\"\", 0, KR190 - IF(KR189=\"\", LOOKUP(2, 1/(KR$17:KR188<>\"\"), KR$17:KR188), KR189))","v":0},null,null,null,null,29,"",null,null,{"$f":"IF(LA190=\"\", 0, LA190 - IF(LA189=\"\", LOOKUP(2, 1/(LA$17:LA188<>\"\"), LA$17:LA188), LA189))","v":0},null,null,null,null,29,"",null,null,{"$f":"IF(LJ190=\"\", 0, LJ190 - IF(LJ189=\"\", LOOKUP(2, 1/(LJ$17:LJ188<>\"\"), LJ$17:LJ188), LJ189))","v":0},null,null,null,null,29,"",null,null,{"$f":"IF(LS190=\"\", 0, LS190 - IF(LS189=\"\", LOOKUP(2, 1/(LS$17:LS188<>\"\"), LS$17:LS188), LS189))","v":0},null,null,null,null,29,"",null,null,{"$f":"IF(MB190=\"\", 0, MB190 - IF(MB189=\"\", LOOKUP(2, 1/(MB$17:MB188<>\"\"), MB$17:MB188), MB189))","v":0},null,null,null,null,29,"",null,null,{"$f":"IF(MK190=\"\", 0, MK190 - IF(MK189=\"\", LOOKUP(2, 1/(MK$17:MK188<>\"\"), MK$17:MK188), MK189))","v":0},null,null,null,null,29,"",null,null,{"$f":"IF(MT190=\"\", 0, MT190 - IF(MT189=\"\", LOOKUP(2, 1/(MT$17:MT188<>\"\"), MT$17:MT188), MT189))","v":0},null,null,29,"",null,null,{"$f":"IF(NA190=\"\", 0, NA190 - IF(NA189=\"\", LOOKUP(2, 1/(NA$17:NA188<>\"\"), NA$17:NA188), NA189))","v":0},null,null,null,null,29,"",null,null,{"$f":"IF(NJ190=\"\", 0, NJ190 - IF(NJ189=\"\", LOOKUP(2, 1/(NJ$17:NJ188<>\"\"), NJ$17:NJ188), NJ189))","v":0},null,null,null,null,29,"",null,null,{"$f":"IF(NS190=\"\", 0, NS190 - IF(NS189=\"\", LOOKUP(2, 1/(NS$17:NS188<>\"\"), NS$17:NS188), NS189))","v":0},null,null,null,null,29,"",null,null,{"$f":"IF(OB190=\"\", 0, OB190 - IF(OB189=\"\", LOOKUP(2, 1/(OB$17:OB188<>\"\"), OB$17:OB188), OB189))","v":0},null,null,null,null,29,"",null,null,{"$f":"IF(OK190=\"\", 0, OK190 - IF(OK189=\"\", LOOKUP(2, 1/(OK$17:OK188<>\"\"), OK$17:OK188), OK189))","v":0},null,null,null,null,29,"",null,null,{"$f":"IF(OT190=\"\", 0, OT190 - IF(OT189=\"\", LOOKUP(2, 1/(OT$17:OT188<>\"\"), OT$17:OT188), OT189))","v":0},null,null,null,null,29,"",null,null,{"$f":"IF(PC190=\"\", 0, PC190 - IF(PC189=\"\", LOOKUP(2, 1/(PC$17:PC188<>\"\"), PC$17:PC188), PC189))","v":0},null,null,null,null,29,"",null,null,{"$f":"IF(PL190=\"\", 0, PL190 - IF(PL189=\"\", LOOKUP(2, 1/(PL$17:PL188<>\"\"), PL$17:PL188), PL189))","v":0},null,null,null,null,29,"",null,null,{"$f":"IF(PU190=\"\", 0, PU190 - IF(PU189=\"\", LOOKUP(2, 1/(PU$17:PU188<>\"\"), PU$17:PU188), PU189))","v":0},null,null,null,null,29,"",null,null,{"$f":"IF(QD190=\"\", 0, QD190 - IF(QD189=\"\", LOOKUP(2, 1/(QD$17:QD188<>\"\"), QD$17:QD188), QD189))","v":0}]
[null,null,null,28,"",null,null,{"$f":"IF(G191=\"\", 0, G191 - IF(G190=\"\", LOOKUP(2, 1/(G$17:G189<>\"\"), G$17:G189), G190))","v":0},null,null,null,null,28,"",null,null,{"$f":"IF(P191=\"\", 0, P191 - IF(P190=\"\", LOOKUP(2, 1/(P$17:P189<>\"\"), P$17:P189), P190))","v":0},null,null,null,null,28,"",null,null,{"$f":"IF(Y191=\"\", 0, Y191 - IF(Y190=\"\", LOOKUP(2, 1/(Y$17:Y189<>\"\"), Y$17:Y189), Y190))","v":0},null,null,null,null,28,"",null,null,{"$f":"IF(AH191=\"\", 0, AH191 - IF(AH190=\"\", LOOKUP(2, 1/(AH$17:AH189<>\"\"), AH$17:AH189), AH190))","v":0},null,null,null,null,28,"",null,null,{"$f":"IF(AQ191=\"\", 0, AQ191 - IF(AQ190=\"\", LOOKUP(2, 1/(AQ$17:AQ189<>\"\"), AQ$17:AQ189), AQ190))","v":0},null,null,null,null,28,"",null,null,{"$f":"IF(AZ191=\"\", 0, AZ191 - IF(AZ190=\"\", LOOKUP(2, 1/(AZ$17:AZ189<>\"\"), AZ$17:AZ189), AZ190))","v":0},null,null,null,null,28,"",null,null,{"$f":"IF(BI191=\"\", 0, BI191 - IF(BI190=\"\", LOOKUP(2, 1/(BI$17:BI189<>\"\"), BI$17:BI189), BI190))","v":0},null,null,null,null,28,"",null,null,{"$f":"IF(BR191=\"\", 0, BR191 - IF(BR190=\"\", LOOKUP(2, 1/(BR$17:BR189<>\"\"), BR$17:BR189), BR190))","v":0},null,null,null,null,28,"",null,null,{"$f":"IF(CA191=\"\", 0, CA191 - IF(CA190=\"\", LOOKUP(2, 1/(CA$17:CA189<>\"\"), CA$17:CA189), CA190))","v":0},null,null,null,null,28,"",null,null,{"$f":"IF(CJ191=\"\", 0, CJ191 - IF(CJ190=\"\", LOOKUP(2, 1/(CJ$17:CJ189<>\"\"), CJ$17:CJ189), CJ190))","v":0},null,null,null,null,28,"",null,null,{"$f":"IF(CS191=\"\", 0, CS191 - IF(CS190=\"\", LOOKUP(2, 1/(CS$17:CS189<>\"\"), CS$17:CS189), CS190))","v":0},null,null,null,null,28,"",null,null,{"$f":"IF(DB191=\"\", 0, DB191 - IF(DB190=\"\", LOOKUP(2, 1/(DB$17:DB189<>\"\"), DB$17:DB189), DB190))","v":0},null,null,null,null,28,"",null,null,{"$f":"IF(DK191=\"\", 0, DK191 - IF(DK190=\"\", LOOKUP(2, 1/(DK$17:DK189<>\"\"), DK$17:DK189), DK190))","v":0},null,null,null,null,28,"",null,null,{"$f":"IF(DT191=\"\", 0, DT191 - IF(DT190=\"\", LOOKUP(2, 1/(DT$17:DT189<>\"\"), DT$17:DT189), DT190))","v":0},null,null,null,null,28,"",null,null,{"$f":"IF(EC191=\"\", 0, EC191 - IF(EC190=\"\", LOOKUP(2, 1/(EC$17:EC189<>\"\"), EC$17:EC189), EC190))","v":0},null,null,null,null,28,"",null,null,{"$f":"IF(EL191=\"\", 0, EL191 - IF(EL190=\"\", LOOKUP(2, 1/(EL$17:EL189<>\"\"), EL$17:EL189), EL190))","v":0},null,null,null,null,28,"",null,null,{"$f":"IF(EU191=\"\", 0, EU191 - IF(EU190=\"\", LOOKUP(2, 1/(EU$17:EU189<>\"\"), EU$17:EU189), EU190))","v":0},null,null,null,null,28,"",null,null,{"$f":"IF(FD191=\"\", 0, FD191 - IF(FD190=\"\", LOOKUP(2, 1/(FD$17:FD189<>\"\"), FD$17:FD189), FD190))","v":0},null,null,null,null,28,"",null,null,{"$f":"IF(FM191=\"\", 0, FM191 - IF(FM190=\"\", LOOKUP(2, 1/(FM$17:FM189<>\"\"), FM$17:FM189), FM190))","v":0},null,null,null,null,28,"",null,null,{"$f":"IF(FV191=\"\", 0, FV191 - IF(FV190=\"\", LOOKUP(2, 1/(FV$17:FV189<>\"\"), FV$17:FV189), FV190))","v":0},null,null,null,null,28,"",null,null,null,null,null,null,null,28,"",null,null,null,null,null,null,null,28,"",null,null,null,null,null,null,null,28,"",null,null,null,null,null,null,null,28,"",null,null,null,null,null,null,null,28,"",null,null,null,null,null,null,null,28,"",null,null,null,null,null,null,null,28,"",null,null,{"$f":"IF(IP191=\"\", 0, IP191 - IF(IP190=\"\", LOOKUP(2, 1/(IP$17:IP189<>\"\"), IP$17:IP189), IP190))","v":0},null,null,null,null,28,"",null,null,{"$f":"IF(IY191=\"\", 0, IY191 - IF(IY190=\"\", LOOKUP(2, 1/(IY$17:IY189<>\"\"), IY$17:IY189), IY190))","v":0},null,null,null,null,28,"",null,null,{"$f":"IF(JH191=\"\", 0, JH191 - IF(JH190=\"\", LOOKUP(2, 1/(JH$17:JH189<>\"\"), JH$17:JH189), JH190))","v":0},null,null,null,null,28,"",null,null,{"$f":"IF(JQ191=\"\", 0, JQ191 - IF(JQ190=\"\", LOOKUP(2, 1/(JQ$17:JQ189<>\"\"), JQ$17:JQ189), JQ190))","v":0},null,null,null,null,28,"",null,null,{"$f":"IF(JZ191=\"\", 0, JZ191 - IF(JZ190=\"\", LOOKUP(2, 1/(JZ$17:JZ189<>\"\"), JZ$17:JZ189), JZ190))","v":0},null,null,null,null,28,"",null,null,{"$f":"IF(KI191=\"\", 0, KI191 - IF(KI190=\"\", LOOKUP(2, 1/(KI$17:KI189<>\"\"), KI$17:KI189), KI190))","v":0},null,null,null,null,28,"",null,null,{"$f":"IF(KR191=\"\", 0, KR191 - IF(KR190=\"\", LOOKUP(2, 1/(KR$17:KR189<>\"\"), KR$17:KR189), KR190))","v":0},null,null,null,null,28,"",null,null,{"$f":"IF(LA191=\"\", 0, LA191 - IF(LA190=\"\", LOOKUP(2, 1/(LA$17:LA189<>\"\"), LA$17:LA189), LA190))","v":0},null,null,null,null,28,"",null,null,{"$f":"IF(LJ191=\"\", 0, LJ191 - IF(LJ190=\"\", LOOKUP(2, 1/(LJ$17:LJ189<>\"\"), LJ$17:LJ189), LJ190))","v":0},null,null,null,null,28,"",null,null,{"$f":"IF(LS191=\"\", 0, LS191 - IF(LS190=\"\", LOOKUP(2, 1/(LS$17:LS189<>\"\"), LS$17:LS189), LS190))","v":0},null,null,null,null,28,"",null,null,{"$f":"IF(MB191=\"\", 0, MB191 - IF(MB190=\"\", LOOKUP(2, 1/(MB$17:MB189<>\"\"), MB$17:MB189), MB190))","v":0},null,null,null,null,28,"",null,null,{"$f":"IF(MK191=\"\", 0, MK191 - IF(MK190=\"\", LOOKUP(2, 1/(MK$17:MK189<>\"\"), MK$17:MK189), MK190))","v":0},null,null,null,null,28,"",null,null,{"$f":"IF(MT191=\"\", 0, MT191 - IF(MT190=\"\", LOOKUP(2, 1/(MT$17:MT189<>\"\"), MT$17:MT189), MT190))","v":0},null,null,28,"",null,null,{"$f":"IF(NA191=\"\", 0, NA191 - IF(NA190=\"\", LOOKUP(2, 1/(NA$17:NA189<>\"\"), NA$17:NA189), NA190))","v":0},null,null,null,null,28,"",null,null,{"$f":"IF(NJ191=\"\", 0, NJ191 - IF(NJ190=\"\", LOOKUP(2, 1/(NJ$17:NJ189<>\"\"), NJ$17:NJ189), NJ190))","v":0},null,null,null,null,28,"",null,null,{"$f":"IF(NS191=\"\", 0, NS191 - IF(NS190=\"\", LOOKUP(2, 1/(NS$17:NS189<>\"\"), NS$17:NS189), NS190))","v":0},null,null,null,null,28,"",null,null,{"$f":"IF(OB191=\"\", 0, OB191 - IF(OB190=\"\", LOOKUP(2, 1/(OB$17:OB189<>\"\"), OB$17:OB189), OB190))","v":0},null,null,null,null,28,"",null,null,{"$f":"IF(OK191=\"\", 0, OK191 - IF(OK190=\"\", LOOKUP(2, 1/(OK$17:OK189<>\"\"), OK$17:OK189), OK190))","v":0},null,null,null,null,28,"",null,null,{"$f":"IF(OT191=\"\", 0, OT191 - IF(OT190=\"\", LOOKUP(2, 1/(OT$17:OT189<>\"\"), OT$17:OT189), OT190))","v":0},null,null,null,null,28,"",null,null,{"$f":"IF(PC191=\"\", 0, PC191 - IF(PC190=\"\", LOOKUP(2, 1/(PC$17:PC189<>\"\"), PC$17:PC189), PC190))","v":0},null,null,null,null,28,"",null,null,{"$f":"IF(PL191=\"\", 0, PL191 - IF(PL190=\"\", LOOKUP(2, 1/(PL$17:PL189<>\"\"), PL$17:PL189), PL190))","v":0},null,null,null,null,28,"",null,null,{"$f":"IF(PU191=\"\", 0, PU191 - IF(PU190=\"\", LOOKUP(2, 1/(PU$17:PU189<>\"\"), PU$17:PU189), PU190))","v":0},null,null,null,null,28,"",null,null,{"$f":"IF(QD191=\"\", 0, QD191 - IF(QD190=\"\", LOOKUP(2, 1/(QD$17:QD189<>\"\"), QD$17:QD189), QD190))","v":0}]
[null,null,null,27,"",null,null,{"$f":"IF(G192=\"\", 0, G192 - IF(G191=\"\", LOOKUP(2, 1/(G$17:G190<>\"\"), G$17:G190), G191))","v":0},null,null,null,null,27,"",null,null,{"$f":"IF(P192=\"\", 0, P192 - IF(P191=\"\", LOOKUP(2, 1/(P$17:P190<>\"\"), P$17:P190), P191))","v":0},null,null,null,null,27,"",null,null,{"$f":"IF(Y192=\"\", 0, Y192 - IF(Y191=\"\", LOOKUP(2, 1/(Y$17:Y190<>\"\"), Y$17:Y190), Y191))","v":0},null,null,null,null,27,"",null,null,{"$f":"IF(AH192=\"\", 0, AH192 - IF(AH191=\"\", LOOKUP(2, 1/(AH$17:AH190<>\"\"), AH$17:AH190), AH191))","v":0},null,null,null,null,27,"",null,null,{"$f":"IF(AQ192=\"\", 0, AQ192 - IF(AQ191=\"\", LOOKUP(2, 1/(AQ$17:AQ190<>\"\"), AQ$17:AQ190), AQ191))","v":0},null,null,null,null,27,"",null,null,{"$f":"IF(AZ192=\"\", 0, AZ192 - IF(AZ191=\"\", LOOKUP(2, 1/(AZ$17:AZ190<>\"\"), AZ$17:AZ190), AZ191))","v":0},null,null,null,null,27,"",null,null,{"$f":"IF(BI192=\"\", 0, BI192 - IF(BI191=\"\", LOOKUP(2, 1/(BI$17:BI190<>\"\"), BI$17:BI190), BI191))","v":0},null,null,null,null,27,"",null,null,{"$f":"IF(BR192=\"\", 0, BR192 - IF(BR191=\"\", LOOKUP(2, 1/(BR$17:BR190<>\"\"), BR$17:BR190), BR191))","v":0},null,null,null,null,27,"",null,null,{"$f":"IF(CA192=\"\", 0, CA192 - IF(CA191=\"\", LOOKUP(2, 1/(CA$17:CA190<>\"\"), CA$17:CA190), CA191))","v":0},null,null,null,null,27,"",null,null,{"$f":"IF(CJ192=\"\", 0, CJ192 - IF(CJ191=\"\", LOOKUP(2, 1/(CJ$17:CJ190<>\"\"), CJ$17:CJ190), CJ191))","v":0},null,null,null,null,27,"",null,null,{"$f":"IF(CS192=\"\", 0, CS192 - IF(CS191=\"\", LOOKUP(2, 1/(CS$17:CS190<>\"\"), CS$17:CS190), CS191))","v":0},null,null,null,null,27,"",null,null,{"$f":"IF(DB192=\"\", 0, DB192 - IF(DB191=\"\", LOOKUP(2, 1/(DB$17:DB190<>\"\"), DB$17:DB190), DB191))","v":0},null,null,null,null,27,"",null,null,{"$f":"IF(DK192=\"\", 0, DK192 - IF(DK191=\"\", LOOKUP(2, 1/(DK$17:DK190<>\"\"), DK$17:DK190), DK191))","v":0},null,null,null,null,27,"",null,null,{"$f":"IF(DT192=\"\", 0, DT192 - IF(DT191=\"\", LOOKUP(2, 1/(DT$17:DT190<>\"\"), DT$17:DT190), DT191))","v":0},null,null,null,null,27,"",null,null,{"$f":"IF(EC192=\"\", 0, EC192 - IF(EC191=\"\", LOOKUP(2, 1/(EC$17:EC190<>\"\"), EC$17:EC190), EC191))","v":0},null,null,null,null,27,"",null,null,{"$f":"IF(EL192=\"\", 0, EL192 - IF(EL191=\"\", LOOKUP(2, 1/(EL$17:EL190<>\"\"), EL$17:EL190), EL191))","v":0},null,null,null,null,27,"",null,null,{"$f":"IF(EU192=\"\", 0, EU192 - IF(EU191=\"\", LOOKUP(2, 1/(EU$17:EU190<>\"\"), EU$17:EU190), EU191))","v":0},null,null,null,null,27,"",null,null,{"$f":"IF(FD192=\"\", 0, FD192 - IF(FD191=\"\", LOOKUP(2, 1/(FD$17:FD190<>\"\"), FD$17:FD190), FD191))","v":0},null,null,null,null,27,"",null,null,{"$f":"IF(FM192=\"\", 0, FM192 - IF(FM191=\"\", LOOKUP(2, 1/(FM$17:FM190<>\"\"), FM$17:FM190), FM191))","v":0},null,null,null,null,27,"",null,null,{"$f":"IF(FV192=\"\", 0, FV192 - IF(FV191=\"\", LOOKUP(2, 1/(FV$17:FV190<>\"\"), FV$17:FV190), FV191))","v":0},null,null,null,null,27,"",null,null,null,null,null,null,null,27,"",null,null,null,null,null,null,null,27,"",null,null,null,null,null,null,null,27,"",null,null,null,null,null,null,null,27,"",null,null,null,null,null,null,null,27,"",null,null,null,null,null,null,null,27,"",null,null,null,null,null,null,null,27,"",null,null,{"$f":"IF(IP192=\"\", 0, IP192 - IF(IP191=\"\", LOOKUP(2, 1/(IP$17:IP190<>\"\"), IP$17:IP190), IP191))","v":0},null,null,null,null,27,"",null,null,{"$f":"IF(IY192=\"\", 0, IY192 - IF(IY191=\"\", LOOKUP(2, 1/(IY$17:IY190<>\"\"), IY$17:IY190), IY191))","v":0},null,null,null,null,27,"",null,null,{"$f":"IF(JH192=\"\", 0, JH192 - IF(JH191=\"\", LOOKUP(2, 1/(JH$17:JH190<>\"\"), JH$17:JH190), JH191))","v":0},null,null,null,null,27,"",null,null,{"$f":"IF(JQ192=\"\", 0, JQ192 - IF(JQ191=\"\", LOOKUP(2, 1/(JQ$17:JQ190<>\"\"), JQ$17:JQ190), JQ191))","v":0},null,null,null,null,27,"",null,null,{"$f":"IF(JZ192=\"\", 0, JZ192 - IF(JZ191=\"\", LOOKUP(2, 1/(JZ$17:JZ190<>\"\"), JZ$17:JZ190), JZ191))","v":0},null,null,null,null,27,"",null,null,{"$f":"IF(KI192=\"\", 0, KI192 - IF(KI191=\"\", LOOKUP(2, 1/(KI$17:KI190<>\"\"), KI$17:KI190), KI191))","v":0},null,null,null,null,27,"",null,null,{"$f":"IF(KR192=\"\", 0, KR192 - IF(KR191=\"\", LOOKUP(2, 1/(KR$17:KR190<>\"\"), KR$17:KR190), KR191))","v":0},null,null,null,null,27,"",null,null,{"$f":"IF(LA192=\"\", 0, LA192 - IF(LA191=\"\", LOOKUP(2, 1/(LA$17:LA190<>\"\"), LA$17:LA190), LA191))","v":0},null,null,null,null,27,"",null,null,{"$f":"IF(LJ192=\"\", 0, LJ192 - IF(LJ191=\"\", LOOKUP(2, 1/(LJ$17:LJ190<>\"\"), LJ$17:LJ190), LJ191))","v":0},null,null,null,null,27,"",null,null,{"$f":"IF(LS192=\"\", 0, LS192 - IF(LS191=\"\", LOOKUP(2, 1/(LS$17:LS190<>\"\"), LS$17:LS190), LS191))","v":0},null,null,null,null,27,"",null,null,{"$f":"IF(MB192=\"\", 0, MB192 - IF(MB191=\"\", LOOKUP(2, 1/(MB$17:MB190<>\"\"), MB$17:MB190), MB191))","v":0},null,null,null,null,27,"",null,null,{"$f":"IF(MK192=\"\", 0, MK192 - IF(MK191=\"\", LOOKUP(2, 1/(MK$17:MK190<>\"\"), MK$17:MK190), MK191))","v":0},null,null,null,null,27,"",null,null,{"$f":"IF(MT192=\"\", 0, MT192 - IF(MT191=\"\", LOOKUP(2, 1/(MT$17:MT190<>\"\"), MT$17:MT190), MT191))","v":0},null,null,27,"",null,null,{"$f":"IF(NA192=\"\", 0, NA192 - IF(NA191=\"\", LOOKUP(2, 1/(NA$17:NA190<>\"\"), NA$17:NA190), NA191))","v":0},null,null,null,null,27,"",null,null,{"$f":"IF(NJ192=\"\", 0, NJ192 - IF(NJ191=\"\", LOOKUP(2, 1/(NJ$17:NJ190<>\"\"), NJ$17:NJ190), NJ191))","v":0},null,null,null,null,27,"",null,null,{"$f":"IF(NS192=\"\", 0, NS192 - IF(NS191=\"\", LOOKUP(2, 1/(NS$17:NS190<>\"\"), NS$17:NS190), NS191))","v":0},null,null,null,null,27,"",null,null,{"$f":"IF(OB192=\"\", 0, OB192 - IF(OB191=\"\", LOOKUP(2, 1/(OB$17:OB190<>\"\"), OB$17:OB190), OB191))","v":0},null,null,null,null,27,"",null,null,{"$f":"IF(OK192=\"\", 0, OK192 - IF(OK191=\"\", LOOKUP(2, 1/(OK$17:OK190<>\"\"), OK$17:OK190), OK191))","v":0},null,null,null,null,27,"",null,null,{"$f":"IF(OT192=\"\", 0, OT192 - IF(OT191=\"\", LOOKUP(2, 1/(OT$17:OT190<>\"\"), OT$17:OT190), OT191))","v":0},null,null,null,null,27,"",null,null,{"$f":"IF(PC192=\"\", 0, PC192 - IF(PC191=\"\", LOOKUP(2, 1/(PC$17:PC190<>\"\"), PC$17:PC190), PC191))","v":0},null,null,null,null,27,"",null,null,{"$f":"IF(PL192=\"\", 0, PL192 - IF(PL191=\"\", LOOKUP(2, 1/(PL$17:PL190<>\"\"), PL$17:PL190), PL191))","v":0},null,null,null,null,27,"",null,null,{"$f":"IF(PU192=\"\", 0, PU192 - IF(PU191=\"\", LOOKUP(2, 1/(PU$17:PU190<>\"\"), PU$17:PU190), PU191))","v":0},null,null,null,null,27,"",null,null,{"$f":"IF(QD192=\"\", 0, QD192 - IF(QD191=\"\", LOOKUP(2, 1/(QD$17:QD190<>\"\"), QD$17:QD190), QD191))","v":0}]
[null,null,null,26,"",null,null,{"$f":"IF(G193=\"\", 0, G193 - IF(G192=\"\", LOOKUP(2, 1/(G$17:G191<>\"\"), G$17:G191), G192))","v":0},null,null,null,null,26,"",null,null,{"$f":"IF(P193=\"\", 0, P193 - IF(P192=\"\", LOOKUP(2, 1/(P$17:P191<>\"\"), P$17:P191), P192))","v":0},null,null,null,null,26,"",null,null,{"$f":"IF(Y193=\"\", 0, Y193 - IF(Y192=\"\", LOOKUP(2, 1/(Y$17:Y191<>\"\"), Y$17:Y191), Y192))","v":0},null,null,null,null,26,"",null,null,{"$f":"IF(AH193=\"\", 0, AH193 - IF(AH192=\"\", LOOKUP(2, 1/(AH$17:AH191<>\"\"), AH$17:AH191), AH192))","v":0},null,null,null,null,26,"",null,null,{"$f":"IF(AQ193=\"\", 0, AQ193 - IF(AQ192=\"\", LOOKUP(2, 1/(AQ$17:AQ191<>\"\"), AQ$17:AQ191), AQ192))","v":0},null,null,null,null,26,"",null,null,{"$f":"IF(AZ193=\"\", 0, AZ193 - IF(AZ192=\"\", LOOKUP(2, 1/(AZ$17:AZ191<>\"\"), AZ$17:AZ191), AZ192))","v":0},null,null,null,null,26,"",null,null,{"$f":"IF(BI193=\"\", 0, BI193 - IF(BI192=\"\", LOOKUP(2, 1/(BI$17:BI191<>\"\"), BI$17:BI191), BI192))","v":0},null,null,null,null,26,"",null,null,{"$f":"IF(BR193=\"\", 0, BR193 - IF(BR192=\"\", LOOKUP(2, 1/(BR$17:BR191<>\"\"), BR$17:BR191), BR192))","v":0},null,null,null,null,26,"",null,null,{"$f":"IF(CA193=\"\", 0, CA193 - IF(CA192=\"\", LOOKUP(2, 1/(CA$17:CA191<>\"\"), CA$17:CA191), CA192))","v":0},null,null,null,null,26,"",null,null,{"$f":"IF(CJ193=\"\", 0, CJ193 - IF(CJ192=\"\", LOOKUP(2, 1/(CJ$17:CJ191<>\"\"), CJ$17:CJ191), CJ192))","v":0},null,null,null,null,26,"",null,null,{"$f":"IF(CS193=\"\", 0, CS193 - IF(CS192=\"\", LOOKUP(2, 1/(CS$17:CS191<>\"\"), CS$17:CS191), CS192))","v":0},null,null,null,null,26,"",null,null,{"$f":"IF(DB193=\"\", 0, DB193 - IF(DB192=\"\", LOOKUP(2, 1/(DB$17:DB191<>\"\"), DB$17:DB191), DB192))","v":0},null,null,null,null,26,"",null,null,{"$f":"IF(DK193=\"\", 0, DK193 - IF(DK192=\"\", LOOKUP(2, 1/(DK$17:DK191<>\"\"), DK$17:DK191), DK192))","v":0},null,null,null,null,26,"",null,null,{"$f":"IF(DT193=\"\", 0, DT193 - IF(DT192=\"\", LOOKUP(2, 1/(DT$17:DT191<>\"\"), DT$17:DT191), DT192))","v":0},null,null,null,null,26,"",null,null,{"$f":"IF(EC193=\"\", 0, EC193 - IF(EC192=\"\", LOOKUP(2, 1/(EC$17:EC191<>\"\"), EC$17:EC191), EC192))","v":0},null,null,null,null,26,"",null,null,{"$f":"IF(EL193=\"\", 0, EL193 - IF(EL192=\"\", LOOKUP(2, 1/(EL$17:EL191<>\"\"), EL$17:EL191), EL192))","v":0},null,null,null,null,26,"",null,null,{"$f":"IF(EU193=\"\", 0, EU193 - IF(EU192=\"\", LOOKUP(2, 1/(EU$17:EU191<>\"\"), EU$17:EU191), EU192))","v":0},null,null,null,null,26,"",null,null,{"$f":"IF(FD193=\"\", 0, FD193 - IF(FD192=\"\", LOOKUP(2, 1/(FD$17:FD191<>\"\"), FD$17:FD191), FD192))","v":0},null,null,null,null,26,"",null,null,{"$f":"IF(FM193=\"\", 0, FM193 - IF(FM192=\"\", LOOKUP(2, 1/(FM$17:FM191<>\"\"), FM$17:FM191), FM192))","v":0},null,null,null,null,26,"",null,null,{"$f":"IF(FV193=\"\", 0, FV193 - IF(FV192=\"\", LOOKUP(2, 1/(FV$17:FV191<>\"\"), FV$17:FV191), FV192))","v":0},null,null,null,null,26,"",null,null,null,null,null,null,null,26,"",null,null,null,null,null,null,null,26,"",null,null,null,null,null,null,null,26,"",null,null,null,null,null,null,null,26,"",null,null,null,null,null,null,null,26,"",null,null,null,null,null,null,null,26,"",null,null,null,null,null,null,null,26,"",null,null,{"$f":"IF(IP193=\"\", 0, IP193 - IF(IP192=\"\", LOOKUP(2, 1/(IP$17:IP191<>\"\"), IP$17:IP191), IP192))","v":0},null,null,null,null,26,"",null,null,{"$f":"IF(IY193=\"\", 0, IY193 - IF(IY192=\"\", LOOKUP(2, 1/(IY$17:IY191<>\"\"), IY$17:IY191), IY192))","v":0},null,null,null,null,26,"",null,null,{"$f":"IF(JH193=\"\", 0, JH193 - IF(JH192=\"\", LOOKUP(2, 1/(JH$17:JH191<>\"\"), JH$17:JH191), JH192))","v":0},null,null,null,null,26,"",null,null,{"$f":"IF(JQ193=\"\", 0, JQ193 - IF(JQ192=\"\", LOOKUP(2, 1/(JQ$17:JQ191<>\"\"), JQ$17:JQ191), JQ192))","v":0},null,null,null,null,26,"",null,null,{"$f":"IF(JZ193=\"\", 0, JZ193 - IF(JZ192=\"\", LOOKUP(2, 1/(JZ$17:JZ191<>\"\"), JZ$17:JZ191), JZ192))","v":0},null,null,null,null,26,"",null,null,{"$f":"IF(KI193=\"\", 0, KI193 - IF(KI192=\"\", LOOKUP(2, 1/(KI$17:KI191<>\"\"), KI$17:KI191), KI192))","v":0},null,null,null,null,26,"",null,null,{"$f":"IF(KR193=\"\", 0, KR193 - IF(KR192=\"\", LOOKUP(2, 1/(KR$17:KR191<>\"\"), KR$17:KR191), KR192))","v":0},null,null,null,null,26,"",null,null,{"$f":"IF(LA193=\"\", 0, LA193 - IF(LA192=\"\", LOOKUP(2, 1/(LA$17:LA191<>\"\"), LA$17:LA191), LA192))","v":0},null,null,null,null,26,"",null,null,{"$f":"IF(LJ193=\"\", 0, LJ193 - IF(LJ192=\"\", LOOKUP(2, 1/(LJ$17:LJ191<>\"\"), LJ$17:LJ191), LJ192))","v":0},null,null,null,null,26,"",null,null,{"$f":"IF(LS193=\"\", 0, LS193 - IF(LS192=\"\", LOOKUP(2, 1/(LS$17:LS191<>\"\"), LS$17:LS191), LS192))","v":0},null,null,null,null,26,"",null,null,{"$f":"IF(MB193=\"\", 0, MB193 - IF(MB192=\"\", LOOKUP(2, 1/(MB$17:MB191<>\"\"), MB$17:MB191), MB192))","v":0},null,null,null,null,26,"",null,null,{"$f":"IF(MK193=\"\", 0, MK193 - IF(MK192=\"\", LOOKUP(2, 1/(MK$17:MK191<>\"\"), MK$17:MK191), MK192))","v":0},null,null,null,null,26,"",null,null,{"$f":"IF(MT193=\"\", 0, MT193 - IF(MT192=\"\", LOOKUP(2, 1/(MT$17:MT191<>\"\"), MT$17:MT191), MT192))","v":0},null,null,26,"",null,null,{"$f":"IF(NA193=\"\", 0, NA193 - IF(NA192=\"\", LOOKUP(2, 1/(NA$17:NA191<>\"\"), NA$17:NA191), NA192))","v":0},null,null,null,null,26,"",null,null,{"$f":"IF(NJ193=\"\", 0, NJ193 - IF(NJ192=\"\", LOOKUP(2, 1/(NJ$17:NJ191<>\"\"), NJ$17:NJ191), NJ192))","v":0},null,null,null,null,26,"",null,null,{"$f":"IF(NS193=\"\", 0, NS193 - IF(NS192=\"\", LOOKUP(2, 1/(NS$17:NS191<>\"\"), NS$17:NS191), NS192))","v":0},null,null,null,null,26,"",null,null,{"$f":"IF(OB193=\"\", 0, OB193 - IF(OB192=\"\", LOOKUP(2, 1/(OB$17:OB191<>\"\"), OB$17:OB191), OB192))","v":0},null,null,null,null,26,"",null,null,{"$f":"IF(OK193=\"\", 0, OK193 - IF(OK192=\"\", LOOKUP(2, 1/(OK$17:OK191<>\"\"), OK$17:OK191), OK192))","v":0},null,null,null,null,26,"",null,null,{"$f":"IF(OT193=\"\", 0, OT193 - IF(OT192=\"\", LOOKUP(2, 1/(OT$17:OT191<>\"\"), OT$17:OT191), OT192))","v":0},null,null,null,null,26,"",null,null,{"$f":"IF(PC193=\"\", 0, PC193 - IF(PC192=\"\", LOOKUP(2, 1/(PC$17:PC191<>\"\"), PC$17:PC191), PC192))","v":0},null,null,null,null,26,"",null,null,{"$f":"IF(PL193=\"\", 0, PL193 - IF(PL192=\"\", LOOKUP(2, 1/(PL$17:PL191<>\"\"), PL$17:PL191), PL192))","v":0},null,null,null,null,26,"",null,null,{"$f":"IF(PU193=\"\", 0, PU193 - IF(PU192=\"\", LOOKUP(2, 1/(PU$17:PU191<>\"\"), PU$17:PU191), PU192))","v":0},null,null,null,null,26,"",null,null,{"$f":"IF(QD193=\"\", 0, QD193 - IF(QD192=\"\", LOOKUP(2, 1/(QD$17:QD191<>\"\"), QD$17:QD191), QD192))","v":0}]
[null,null,25,25,"",null,null,{"$f":"IF(G194=\"\", 0, G194 - IF(G193=\"\", LOOKUP(2, 1/(G$17:G192<>\"\"), G$17:G192), G193))","v":0},null,null,null,25,25,"",null,null,{"$f":"IF(P194=\"\", 0, P194 - IF(P193=\"\", LOOKUP(2, 1/(P$17:P192<>\"\"), P$17:P192), P193))","v":0},null,null,null,25,25,"",null,null,{"$f":"IF(Y194=\"\", 0, Y194 - IF(Y193=\"\", LOOKUP(2, 1/(Y$17:Y192<>\"\"), Y$17:Y192), Y193))","v":0},null,null,null,25,25,"",null,null,{"$f":"IF(AH194=\"\", 0, AH194 - IF(AH193=\"\", LOOKUP(2, 1/(AH$17:AH192<>\"\"), AH$17:AH192), AH193))","v":0},null,null,null,25,25,"",null,null,{"$f":"IF(AQ194=\"\", 0, AQ194 - IF(AQ193=\"\", LOOKUP(2, 1/(AQ$17:AQ192<>\"\"), AQ$17:AQ192), AQ193))","v":0},null,null,null,25,25,"",null,null,{"$f":"IF(AZ194=\"\", 0, AZ194 - IF(AZ193=\"\", LOOKUP(2, 1/(AZ$17:AZ192<>\"\"), AZ$17:AZ192), AZ193))","v":0},null,null,null,25,25,"",null,null,{"$f":"IF(BI194=\"\", 0, BI194 - IF(BI193=\"\", LOOKUP(2, 1/(BI$17:BI192<>\"\"), BI$17:BI192), BI193))","v":0},null,null,null,25,25,"",null,null,{"$f":"IF(BR194=\"\", 0, BR194 - IF(BR193=\"\", LOOKUP(2, 1/(BR$17:BR192<>\"\"), BR$17:BR192), BR193))","v":0},null,null,null,25,25,"",null,null,{"$f":"IF(CA194=\"\", 0, CA194 - IF(CA193=\"\", LOOKUP(2, 1/(CA$17:CA192<>\"\"), CA$17:CA192), CA193))","v":0},null,null,null,25,25,"",null,null,{"$f":"IF(CJ194=\"\", 0, CJ194 - IF(CJ193=\"\", LOOKUP(2, 1/(CJ$17:CJ192<>\"\"), CJ$17:CJ192), CJ193))","v":0},null,null,null,25,25,"",null,null,{"$f":"IF(CS194=\"\", 0, CS194 - IF(CS193=\"\", LOOKUP(2, 1/(CS$17:CS192<>\"\"), CS$17:CS192), CS193))","v":0},null,null,null,25,25,"",null,null,{"$f":"IF(DB194=\"\", 0, DB194 - IF(DB193=\"\", LOOKUP(2, 1/(DB$17:DB192<>\"\"), DB$17:DB192), DB193))","v":0},null,null,null,25,25,"",null,null,{"$f":"IF(DK194=\"\", 0, DK194 - IF(DK193=\"\", LOOKUP(2, 1/(DK$17:DK192<>\"\"), DK$17:DK192), DK193))","v":0},null,null,null,25,25,"",null,null,{"$f":"IF(DT194=\"\", 0, DT194 - IF(DT193=\"\", LOOKUP(2, 1/(DT$17:DT192<>\"\"), DT$17:DT192), DT193))","v":0},null,null,null,25,25,"",null,null,{"$f":"IF(EC194=\"\", 0, EC194 - IF(EC193=\"\", LOOKUP(2, 1/(EC$17:EC192<>\"\"), EC$17:EC192), EC193))","v":0},null,null,null,25,25,"",null,null,{"$f":"IF(EL194=\"\", 0, EL194 - IF(EL193=\"\", LOOKUP(2, 1/(EL$17:EL192<>\"\"), EL$17:EL192), EL193))","v":0},null,null,null,25,25,"",null,null,{"$f":"IF(EU194=\"\", 0, EU194 - IF(EU193=\"\", LOOKUP(2, 1/(EU$17:EU192<>\"\"), EU$17:EU192), EU193))","v":0},null,null,null,25,25,"",null,null,{"$f":"IF(FD194=\"\", 0, FD194 - IF(FD193=\"\", LOOKUP(2, 1/(FD$17:FD192<>\"\"), FD$17:FD192), FD193))","v":0},null,null,null,25,25,"",null,null,{"$f":"IF(FM194=\"\", 0, FM194 - IF(FM193=\"\", LOOKUP(2, 1/(FM$17:FM192<>\"\"), FM$17:FM192), FM193))","v":0},null,null,null,25,25,"",null,null,{"$f":"IF(FV194=\"\", 0, FV194 - IF(FV193=\"\", LOOKUP(2, 1/(FV$17:FV192<>\"\"), FV$17:FV192), FV193))","v":0},null,null,null,25,25,"",null,null,null,null,null,null,25,25,"",null,null,null,null,null,null,25,25,"",null,null,null,null,null,null,25,25,"",null,null,null,null,null,null,25,25,"",null,null,null,null,null,null,25,25,"",null,null,null,null,null,null,25,25,"",null,null,null,null,null,null,25,25,"",null,null,{"$f":"IF(IP194=\"\", 0, IP194 - IF(IP193=\"\", LOOKUP(2, 1/(IP$17:IP192<>\"\"), IP$17:IP192), IP193))","v":0},null,null,null,25,25,"",null,null,{"$f":"IF(IY194=\"\", 0, IY194 - IF(IY193=\"\", LOOKUP(2, 1/(IY$17:IY192<>\"\"), IY$17:IY192), IY193))","v":0},null,null,null,25,25,"",null,null,{"$f":"IF(JH194=\"\", 0, JH194 - IF(JH193=\"\", LOOKUP(2, 1/(JH$17:JH192<>\"\"), JH$17:JH192), JH193))","v":0},null,null,null,25,25,"",null,null,{"$f":"IF(JQ194=\"\", 0, JQ194 - IF(JQ193=\"\", LOOKUP(2, 1/(JQ$17:JQ192<>\"\"), JQ$17:JQ192), JQ193))","v":0},null,null,null,25,25,"",null,null,{"$f":"IF(JZ194=\"\", 0, JZ194 - IF(JZ193=\"\", LOOKUP(2, 1/(JZ$17:JZ192<>\"\"), JZ$17:JZ192), JZ193))","v":0},null,null,null,25,25,"",null,null,{"$f":"IF(KI194=\"\", 0, KI194 - IF(KI193=\"\", LOOKUP(2, 1/(KI$17:KI192<>\"\"), KI$17:KI192), KI193))","v":0},null,null,null,25,25,"",null,null,{"$f":"IF(KR194=\"\", 0, KR194 - IF(KR193=\"\", LOOKUP(2, 1/(KR$17:KR192<>\"\"), KR$17:KR192), KR193))","v":0},null,null,null,25,25,"",null,null,{"$f":"IF(LA194=\"\", 0, LA194 - IF(LA193=\"\", LOOKUP(2, 1/(LA$17:LA192<>\"\"), LA$17:LA192), LA193))","v":0},null,null,null,25,25,"",null,null,{"$f":"IF(LJ194=\"\", 0, LJ194 - IF(LJ193=\"\", LOOKUP(2, 1/(LJ$17:LJ192<>\"\"), LJ$17:LJ192), LJ193))","v":0},null,null,null,25,25,"",null,null,{"$f":"IF(LS194=\"\", 0, LS194 - IF(LS193=\"\", LOOKUP(2, 1/(LS$17:LS192<>\"\"), LS$17:LS192), LS193))","v":0},null,null,null,25,25,"",null,null,{"$f":"IF(MB194=\"\", 0, MB194 - IF(MB193=\"\", LOOKUP(2, 1/(MB$17:MB192<>\"\"), MB$17:MB192), MB193))","v":0},null,null,null,25,25,"",null,null,{"$f":"IF(MK194=\"\", 0, MK194 - IF(MK193=\"\", LOOKUP(2, 1/(MK$17:MK192<>\"\"), MK$17:MK192), MK193))","v":0},null,null,null,25,25,"",null,null,{"$f":"IF(MT194=\"\", 0, MT194 - IF(MT193=\"\", LOOKUP(2, 1/(MT$17:MT192<>\"\"), MT$17:MT192), MT193))","v":0},null,null,25,"",null,null,{"$f":"IF(NA194=\"\", 0, NA194 - IF(NA193=\"\", LOOKUP(2, 1/(NA$17:NA192<>\"\"), NA$17:NA192), NA193))","v":0},null,null,null,25,25,"",null,null,{"$f":"IF(NJ194=\"\", 0, NJ194 - IF(NJ193=\"\", LOOKUP(2, 1/(NJ$17:NJ192<>\"\"), NJ$17:NJ192), NJ193))","v":0},null,null,null,25,25,"",null,null,{"$f":"IF(NS194=\"\", 0, NS194 - IF(NS193=\"\", LOOKUP(2, 1/(NS$17:NS192<>\"\"), NS$17:NS192), NS193))","v":0},null,null,null,25,25,"",null,null,{"$f":"IF(OB194=\"\", 0, OB194 - IF(OB193=\"\", LOOKUP(2, 1/(OB$17:OB192<>\"\"), OB$17:OB192), OB193))","v":0},null,null,null,25,25,"",null,null,{"$f":"IF(OK194=\"\", 0, OK194 - IF(OK193=\"\", LOOKUP(2, 1/(OK$17:OK192<>\"\"), OK$17:OK192), OK193))","v":0},null,null,null,25,25,"",null,null,{"$f":"IF(OT194=\"\", 0, OT194 - IF(OT193=\"\", LOOKUP(2, 1/(OT$17:OT192<>\"\"), OT$17:OT192), OT193))","v":0},null,null,null,25,25,"",null,null,{"$f":"IF(PC194=\"\", 0, PC194 - IF(PC193=\"\", LOOKUP(2, 1/(PC$17:PC192<>\"\"), PC$17:PC192), PC193))","v":0},null,null,null,25,25,"",null,null,{"$f":"IF(PL194=\"\", 0, PL194 - IF(PL193=\"\", LOOKUP(2, 1/(PL$17:PL192<>\"\"), PL$17:PL192), PL193))","v":0},null,null,null,25,25,"",null,null,{"$f":"IF(PU194=\"\", 0, PU194 - IF(PU193=\"\", LOOKUP(2, 1/(PU$17:PU192<>\"\"), PU$17:PU192), PU193))","v":0},null,null,null,25,25,"",null,null,{"$f":"IF(QD194=\"\", 0, QD194 - IF(QD193=\"\", LOOKUP(2, 1/(QD$17:QD192<>\"\"), QD$17:QD192), QD193))","v":0}]
[null,null,24,24,"",null,null,{"$f":"IF(G195=\"\", 0, G195 - IF(G194=\"\", LOOKUP(2, 1/(G$17:G193<>\"\"), G$17:G193), G194))","v":0},null,null,null,24,24,"",null,null,{"$f":"IF(P195=\"\", 0, P195 - IF(P194=\"\", LOOKUP(2, 1/(P$17:P193<>\"\"), P$17:P193), P194))","v":0},null,null,null,24,24,"",null,null,{"$f":"IF(Y195=\"\", 0, Y195 - IF(Y194=\"\", LOOKUP(2, 1/(Y$17:Y193<>\"\"), Y$17:Y193), Y194))","v":0},null,null,null,24,24,"",null,null,{"$f":"IF(AH195=\"\", 0, AH195 - IF(AH194=\"\", LOOKUP(2, 1/(AH$17:AH193<>\"\"), AH$17:AH193), AH194))","v":0},null,null,null,24,24,"",null,null,{"$f":"IF(AQ195=\"\", 0, AQ195 - IF(AQ194=\"\", LOOKUP(2, 1/(AQ$17:AQ193<>\"\"), AQ$17:AQ193), AQ194))","v":0},null,null,null,24,24,"",null,null,{"$f":"IF(AZ195=\"\", 0, AZ195 - IF(AZ194=\"\", LOOKUP(2, 1/(AZ$17:AZ193<>\"\"), AZ$17:AZ193), AZ194))","v":0},null,null,null,24,24,"",null,null,{"$f":"IF(BI195=\"\", 0, BI195 - IF(BI194=\"\", LOOKUP(2, 1/(BI$17:BI193<>\"\"), BI$17:BI193), BI194))","v":0},null,null,null,24,24,"",null,null,{"$f":"IF(BR195=\"\", 0, BR195 - IF(BR194=\"\", LOOKUP(2, 1/(BR$17:BR193<>\"\"), BR$17:BR193), BR194))","v":0},null,null,null,24,24,"",null,null,{"$f":"IF(CA195=\"\", 0, CA195 - IF(CA194=\"\", LOOKUP(2, 1/(CA$17:CA193<>\"\"), CA$17:CA193), CA194))","v":0},null,null,null,24,24,"",null,null,{"$f":"IF(CJ195=\"\", 0, CJ195 - IF(CJ194=\"\", LOOKUP(2, 1/(CJ$17:CJ193<>\"\"), CJ$17:CJ193), CJ194))","v":0},null,null,null,24,24,"",null,null,{"$f":"IF(CS195=\"\", 0, CS195 - IF(CS194=\"\", LOOKUP(2, 1/(CS$17:CS193<>\"\"), CS$17:CS193), CS194))","v":0},null,null,null,24,24,"",null,null,{"$f":"IF(DB195=\"\", 0, DB195 - IF(DB194=\"\", LOOKUP(2, 1/(DB$17:DB193<>\"\"), DB$17:DB193), DB194))","v":0},null,null,null,24,24,"",null,null,{"$f":"IF(DK195=\"\", 0, DK195 - IF(DK194=\"\", LOOKUP(2, 1/(DK$17:DK193<>\"\"), DK$17:DK193), DK194))","v":0},null,null,null,24,24,"",null,null,{"$f":"IF(DT195=\"\", 0, DT195 - IF(DT194=\"\", LOOKUP(2, 1/(DT$17:DT193<>\"\"), DT$17:DT193), DT194))","v":0},null,null,null,24,24,"",null,null,{"$f":"IF(EC195=\"\", 0, EC195 - IF(EC194=\"\", LOOKUP(2, 1/(EC$17:EC193<>\"\"), EC$17:EC193), EC194))","v":0},null,null,null,24,24,"",null,null,{"$f":"IF(EL195=\"\", 0, EL195 - IF(EL194=\"\", LOOKUP(2, 1/(EL$17:EL193<>\"\"), EL$17:EL193), EL194))","v":0},null,null,null,24,24,"",null,null,{"$f":"IF(EU195=\"\", 0, EU195 - IF(EU194=\"\", LOOKUP(2, 1/(EU$17:EU193<>\"\"), EU$17:EU193), EU194))","v":0},null,null,null,24,24,"",null,null,{"$f":"IF(FD195=\"\", 0, FD195 - IF(FD194=\"\", LOOKUP(2, 1/(FD$17:FD193<>\"\"), FD$17:FD193), FD194))","v":0},null,null,null,24,24,"",null,null,{"$f":"IF(FM195=\"\", 0, FM195 - IF(FM194=\"\", LOOKUP(2, 1/(FM$17:FM193<>\"\"), FM$17:FM193), FM194))","v":0},null,null,null,24,24,"",null,null,{"$f":"IF(FV195=\"\", 0, FV195 - IF(FV194=\"\", LOOKUP(2, 1/(FV$17:FV193<>\"\"), FV$17:FV193), FV194))","v":0},null,null,null,24,24,"",null,null,null,null,null,null,24,24,"",null,null,null,null,null,null,24,24,"",null,null,null,null,null,null,24,24,"",null,null,null,null,null,null,24,24,"",null,null,null,null,null,null,24,24,"",null,null,null,null,null,null,24,24,"",null,null,null,null,null,null,24,24,"",null,null,{"$f":"IF(IP195=\"\", 0, IP195 - IF(IP194=\"\", LOOKUP(2, 1/(IP$17:IP193<>\"\"), IP$17:IP193), IP194))","v":0},null,null,null,24,24,"",null,null,{"$f":"IF(IY195=\"\", 0, IY195 - IF(IY194=\"\", LOOKUP(2, 1/(IY$17:IY193<>\"\"), IY$17:IY193), IY194))","v":0},null,null,null,24,24,"",null,null,{"$f":"IF(JH195=\"\", 0, JH195 - IF(JH194=\"\", LOOKUP(2, 1/(JH$17:JH193<>\"\"), JH$17:JH193), JH194))","v":0},null,null,null,24,24,"",null,null,{"$f":"IF(JQ195=\"\", 0, JQ195 - IF(JQ194=\"\", LOOKUP(2, 1/(JQ$17:JQ193<>\"\"), JQ$17:JQ193), JQ194))","v":0},null,null,null,24,24,"",null,null,{"$f":"IF(JZ195=\"\", 0, JZ195 - IF(JZ194=\"\", LOOKUP(2, 1/(JZ$17:JZ193<>\"\"), JZ$17:JZ193), JZ194))","v":0},null,null,null,24,24,"",null,null,{"$f":"IF(KI195=\"\", 0, KI195 - IF(KI194=\"\", LOOKUP(2, 1/(KI$17:KI193<>\"\"), KI$17:KI193), KI194))","v":0},null,null,null,24,24,"",null,null,{"$f":"IF(KR195=\"\", 0, KR195 - IF(KR194=\"\", LOOKUP(2, 1/(KR$17:KR193<>\"\"), KR$17:KR193), KR194))","v":0},null,null,null,24,24,"",null,null,{"$f":"IF(LA195=\"\", 0, LA195 - IF(LA194=\"\", LOOKUP(2, 1/(LA$17:LA193<>\"\"), LA$17:LA193), LA194))","v":0},null,null,null,24,24,"",null,null,{"$f":"IF(LJ195=\"\", 0, LJ195 - IF(LJ194=\"\", LOOKUP(2, 1/(LJ$17:LJ193<>\"\"), LJ$17:LJ193), LJ194))","v":0},null,null,null,24,24,"",null,null,{"$f":"IF(LS195=\"\", 0, LS195 - IF(LS194=\"\", LOOKUP(2, 1/(LS$17:LS193<>\"\"), LS$17:LS193), LS194))","v":0},null,null,null,24,24,"",null,null,{"$f":"IF(MB195=\"\", 0, MB195 - IF(MB194=\"\", LOOKUP(2, 1/(MB$17:MB193<>\"\"), MB$17:MB193), MB194))","v":0},null,null,null,24,24,"",null,null,{"$f":"IF(MK195=\"\", 0, MK195 - IF(MK194=\"\", LOOKUP(2, 1/(MK$17:MK193<>\"\"), MK$17:MK193), MK194))","v":0},null,null,null,24,24,"",null,null,{"$f":"IF(MT195=\"\", 0, MT195 - IF(MT194=\"\", LOOKUP(2, 1/(MT$17:MT193<>\"\"), MT$17:MT193), MT194))","v":0},null,null,24,"",null,null,{"$f":"IF(NA195=\"\", 0, NA195 - IF(NA194=\"\", LOOKUP(2, 1/(NA$17:NA193<>\"\"), NA$17:NA193), NA194))","v":0},null,null,null,24,24,"",null,null,{"$f":"IF(NJ195=\"\", 0, NJ195 - IF(NJ194=\"\", LOOKUP(2, 1/(NJ$17:NJ193<>\"\"), NJ$17:NJ193), NJ194))","v":0},null,null,null,24,24,"",null,null,{"$f":"IF(NS195=\"\", 0, NS195 - IF(NS194=\"\", LOOKUP(2, 1/(NS$17:NS193<>\"\"), NS$17:NS193), NS194))","v":0},null,null,null,24,24,"",null,null,{"$f":"IF(OB195=\"\", 0, OB195 - IF(OB194=\"\", LOOKUP(2, 1/(OB$17:OB193<>\"\"), OB$17:OB193), OB194))","v":0},null,null,null,24,24,"",null,null,{"$f":"IF(OK195=\"\", 0, OK195 - IF(OK194=\"\", LOOKUP(2, 1/(OK$17:OK193<>\"\"), OK$17:OK193), OK194))","v":0},null,null,null,24,24,"",null,null,{"$f":"IF(OT195=\"\", 0, OT195 - IF(OT194=\"\", LOOKUP(2, 1/(OT$17:OT193<>\"\"), OT$17:OT193), OT194))","v":0},null,null,null,24,24,"",null,null,{"$f":"IF(PC195=\"\", 0, PC195 - IF(PC194=\"\", LOOKUP(2, 1/(PC$17:PC193<>\"\"), PC$17:PC193), PC194))","v":0},null,null,null,24,24,"",null,null,{"$f":"IF(PL195=\"\", 0, PL195 - IF(PL194=\"\", LOOKUP(2, 1/(PL$17:PL193<>\"\"), PL$17:PL193), PL194))","v":0},null,null,null,24,24,"",null,null,{"$f":"IF(PU195=\"\", 0, PU195 - IF(PU194=\"\", LOOKUP(2, 1/(PU$17:PU193<>\"\"), PU$17:PU193), PU194))","v":0},null,null,null,24,24,"",null,null,{"$f":"IF(QD195=\"\", 0, QD195 - IF(QD194=\"\", LOOKUP(2, 1/(QD$17:QD193<>\"\"), QD$17:QD193), QD194))","v":0}]
[null,null,23,23,"",null,null,{"$f":"IF(G196=\"\", 0, G196 - IF(G195=\"\", LOOKUP(2, 1/(G$17:G194<>\"\"), G$17:G194), G195))","v":0},null,null,null,23,23,"",null,null,{"$f":"IF(P196=\"\", 0, P196 - IF(P195=\"\", LOOKUP(2, 1/(P$17:P194<>\"\"), P$17:P194), P195))","v":0},null,null,null,23,23,"",null,null,{"$f":"IF(Y196=\"\", 0, Y196 - IF(Y195=\"\", LOOKUP(2, 1/(Y$17:Y194<>\"\"), Y$17:Y194), Y195))","v":0},null,null,null,23,23,"",null,null,{"$f":"IF(AH196=\"\", 0, AH196 - IF(AH195=\"\", LOOKUP(2, 1/(AH$17:AH194<>\"\"), AH$17:AH194), AH195))","v":0},null,null,null,23,23,"",null,null,{"$f":"IF(AQ196=\"\", 0, AQ196 - IF(AQ195=\"\", LOOKUP(2, 1/(AQ$17:AQ194<>\"\"), AQ$17:AQ194), AQ195))","v":0},null,null,null,23,23,"",null,null,{"$f":"IF(AZ196=\"\", 0, AZ196 - IF(AZ195=\"\", LOOKUP(2, 1/(AZ$17:AZ194<>\"\"), AZ$17:AZ194), AZ195))","v":0},null,null,null,23,23,"",null,null,{"$f":"IF(BI196=\"\", 0, BI196 - IF(BI195=\"\", LOOKUP(2, 1/(BI$17:BI194<>\"\"), BI$17:BI194), BI195))","v":0},null,null,null,23,23,"",null,null,{"$f":"IF(BR196=\"\", 0, BR196 - IF(BR195=\"\", LOOKUP(2, 1/(BR$17:BR194<>\"\"), BR$17:BR194), BR195))","v":0},null,null,null,23,23,"",null,null,{"$f":"IF(CA196=\"\", 0, CA196 - IF(CA195=\"\", LOOKUP(2, 1/(CA$17:CA194<>\"\"), CA$17:CA194), CA195))","v":0},null,null,null,23,23,"",null,null,{"$f":"IF(CJ196=\"\", 0, CJ196 - IF(CJ195=\"\", LOOKUP(2, 1/(CJ$17:CJ194<>\"\"), CJ$17:CJ194), CJ195))","v":0},null,null,null,23,23,"",null,null,{"$f":"IF(CS196=\"\", 0, CS196 - IF(CS195=\"\", LOOKUP(2, 1/(CS$17:CS194<>\"\"), CS$17:CS194), CS195))","v":0},null,null,null,23,23,"",null,null,{"$f":"IF(DB196=\"\", 0, DB196 - IF(DB195=\"\", LOOKUP(2, 1/(DB$17:DB194<>\"\"), DB$17:DB194), DB195))","v":0},null,null,null,23,23,"",null,null,{"$f":"IF(DK196=\"\", 0, DK196 - IF(DK195=\"\", LOOKUP(2, 1/(DK$17:DK194<>\"\"), DK$17:DK194), DK195))","v":0},null,null,null,23,23,"",null,null,{"$f":"IF(DT196=\"\", 0, DT196 - IF(DT195=\"\", LOOKUP(2, 1/(DT$17:DT194<>\"\"), DT$17:DT194), DT195))","v":0},null,null,null,23,23,"",null,null,{"$f":"IF(EC196=\"\", 0, EC196 - IF(EC195=\"\", LOOKUP(2, 1/(EC$17:EC194<>\"\"), EC$17:EC194), EC195))","v":0},null,null,null,23,23,"",null,null,{"$f":"IF(EL196=\"\", 0, EL196 - IF(EL195=\"\", LOOKUP(2, 1/(EL$17:EL194<>\"\"), EL$17:EL194), EL195))","v":0},null,null,null,23,23,"",null,null,{"$f":"IF(EU196=\"\", 0, EU196 - IF(EU195=\"\", LOOKUP(2, 1/(EU$17:EU194<>\"\"), EU$17:EU194), EU195))","v":0},null,null,null,23,23,"",null,null,{"$f":"IF(FD196=\"\", 0, FD196 - IF(FD195=\"\", LOOKUP(2, 1/(FD$17:FD194<>\"\"), FD$17:FD194), FD195))","v":0},null,null,null,23,23,"",null,null,{"$f":"IF(FM196=\"\", 0, FM196 - IF(FM195=\"\", LOOKUP(2, 1/(FM$17:FM194<>\"\"), FM$17:FM194), FM195))","v":0},null,null,null,23,23,"",null,null,{"$f":"IF(FV196=\"\", 0, FV196 - IF(FV195=\"\", LOOKUP(2, 1/(FV$17:FV194<>\"\"), FV$17:FV194), FV195))","v":0},null,null,null,23,23,"",null,null,null,null,null,null,23,23,"",null,null,null,null,null,null,23,23,"",null,null,null,null,null,null,23,23,"",null,null,null,null,null,null,23,23,"",null,null,null,null,null,null,23,23,"",null,null,null,null,null,null,23,23,"",null,null,null,null,null,null,23,23,"",null,null,{"$f":"IF(IP196=\"\", 0, IP196 - IF(IP195=\"\", LOOKUP(2, 1/(IP$17:IP194<>\"\"), IP$17:IP194), IP195))","v":0},null,null,null,23,23,"",null,null,{"$f":"IF(IY196=\"\", 0, IY196 - IF(IY195=\"\", LOOKUP(2, 1/(IY$17:IY194<>\"\"), IY$17:IY194), IY195))","v":0},null,null,null,23,23,"",null,null,{"$f":"IF(JH196=\"\", 0, JH196 - IF(JH195=\"\", LOOKUP(2, 1/(JH$17:JH194<>\"\"), JH$17:JH194), JH195))","v":0},null,null,null,23,23,"",null,null,{"$f":"IF(JQ196=\"\", 0, JQ196 - IF(JQ195=\"\", LOOKUP(2, 1/(JQ$17:JQ194<>\"\"), JQ$17:JQ194), JQ195))","v":0},null,null,null,23,23,"",null,null,{"$f":"IF(JZ196=\"\", 0, JZ196 - IF(JZ195=\"\", LOOKUP(2, 1/(JZ$17:JZ194<>\"\"), JZ$17:JZ194), JZ195))","v":0},null,null,null,23,23,"",null,null,{"$f":"IF(KI196=\"\", 0, KI196 - IF(KI195=\"\", LOOKUP(2, 1/(KI$17:KI194<>\"\"), KI$17:KI194), KI195))","v":0},null,null,null,23,23,"",null,null,{"$f":"IF(KR196=\"\", 0, KR196 - IF(KR195=\"\", LOOKUP(2, 1/(KR$17:KR194<>\"\"), KR$17:KR194), KR195))","v":0},null,null,null,23,23,"",null,null,{"$f":"IF(LA196=\"\", 0, LA196 - IF(LA195=\"\", LOOKUP(2, 1/(LA$17:LA194<>\"\"), LA$17:LA194), LA195))","v":0},null,null,null,23,23,"",null,null,{"$f":"IF(LJ196=\"\", 0, LJ196 - IF(LJ195=\"\", LOOKUP(2, 1/(LJ$17:LJ194<>\"\"), LJ$17:LJ194), LJ195))","v":0},null,null,null,23,23,"",null,null,{"$f":"IF(LS196=\"\", 0, LS196 - IF(LS195=\"\", LOOKUP(2, 1/(LS$17:LS194<>\"\"), LS$17:LS194), LS195))","v":0},null,null,null,23,23,"",null,null,{"$f":"IF(MB196=\"\", 0, MB196 - IF(MB195=\"\", LOOKUP(2, 1/(MB$17:MB194<>\"\"), MB$17:MB194), MB195))","v":0},null,null,null,23,23,"",null,null,{"$f":"IF(MK196=\"\", 0, MK196 - IF(MK195=\"\", LOOKUP(2, 1/(MK$17:MK194<>\"\"), MK$17:MK194), MK195))","v":0},null,null,null,23,23,"",null,null,{"$f":"IF(MT196=\"\", 0, MT196 - IF(MT195=\"\", LOOKUP(2, 1/(MT$17:MT194<>\"\"), MT$17:MT194), MT195))","v":0},null,null,23,"",null,null,{"$f":"IF(NA196=\"\", 0, NA196 - IF(NA195=\"\", LOOKUP(2, 1/(NA$17:NA194<>\"\"), NA$17:NA194), NA195))","v":0},null,null,null,23,23,"",null,null,{"$f":"IF(NJ196=\"\", 0, NJ196 - IF(NJ195=\"\", LOOKUP(2, 1/(NJ$17:NJ194<>\"\"), NJ$17:NJ194), NJ195))","v":0},null,null,null,23,23,"",null,null,{"$f":"IF(NS196=\"\", 0, NS196 - IF(NS195=\"\", LOOKUP(2, 1/(NS$17:NS194<>\"\"), NS$17:NS194), NS195))","v":0},null,null,null,23,23,"",null,null,{"$f":"IF(OB196=\"\", 0, OB196 - IF(OB195=\"\", LOOKUP(2, 1/(OB$17:OB194<>\"\"), OB$17:OB194), OB195))","v":0},null,null,null,23,23,"",null,null,{"$f":"IF(OK196=\"\", 0, OK196 - IF(OK195=\"\", LOOKUP(2, 1/(OK$17:OK194<>\"\"), OK$17:OK194), OK195))","v":0},null,null,null,23,23,"",null,null,{"$f":"IF(OT196=\"\", 0, OT196 - IF(OT195=\"\", LOOKUP(2, 1/(OT$17:OT194<>\"\"), OT$17:OT194), OT195))","v":0},null,null,null,23,23,"",null,null,{"$f":"IF(PC196=\"\", 0, PC196 - IF(PC195=\"\", LOOKUP(2, 1/(PC$17:PC194<>\"\"), PC$17:PC194), PC195))","v":0},null,null,null,23,23,"",null,null,{"$f":"IF(PL196=\"\", 0, PL196 - IF(PL195=\"\", LOOKUP(2, 1/(PL$17:PL194<>\"\"), PL$17:PL194), PL195))","v":0},null,null,null,23,23,"",null,null,{"$f":"IF(PU196=\"\", 0, PU196 - IF(PU195=\"\", LOOKUP(2, 1/(PU$17:PU194<>\"\"), PU$17:PU194), PU195))","v":0},null,null,null,23,23,"",null,null,{"$f":"IF(QD196=\"\", 0, QD196 - IF(QD195=\"\", LOOKUP(2, 1/(QD$17:QD194<>\"\"), QD$17:QD194), QD195))","v":0}]
[null,null,22,22,"",null,null,{"$f":"IF(G197=\"\", 0, G197 - IF(G196=\"\", LOOKUP(2, 1/(G$17:G195<>\"\"), G$17:G195), G196))","v":0},null,null,null,22,22,"",null,null,{"$f":"IF(P197=\"\", 0, P197 - IF(P196=\"\", LOOKUP(2, 1/(P$17:P195<>\"\"), P$17:P195), P196))","v":0},null,null,null,22,22,"",null,null,{"$f":"IF(Y197=\"\", 0, Y197 - IF(Y196=\"\", LOOKUP(2, 1/(Y$17:Y195<>\"\"), Y$17:Y195), Y196))","v":0},null,null,null,22,22,"",null,null,{"$f":"IF(AH197=\"\", 0, AH197 - IF(AH196=\"\", LOOKUP(2, 1/(AH$17:AH195<>\"\"), AH$17:AH195), AH196))","v":0},null,null,null,22,22,"",null,null,{"$f":"IF(AQ197=\"\", 0, AQ197 - IF(AQ196=\"\", LOOKUP(2, 1/(AQ$17:AQ195<>\"\"), AQ$17:AQ195), AQ196))","v":0},null,null,null,22,22,"",null,null,{"$f":"IF(AZ197=\"\", 0, AZ197 - IF(AZ196=\"\", LOOKUP(2, 1/(AZ$17:AZ195<>\"\"), AZ$17:AZ195), AZ196))","v":0},null,null,null,22,22,"",null,null,{"$f":"IF(BI197=\"\", 0, BI197 - IF(BI196=\"\", LOOKUP(2, 1/(BI$17:BI195<>\"\"), BI$17:BI195), BI196))","v":0},null,null,null,22,22,"",null,null,{"$f":"IF(BR197=\"\", 0, BR197 - IF(BR196=\"\", LOOKUP(2, 1/(BR$17:BR195<>\"\"), BR$17:BR195), BR196))","v":0},null,null,null,22,22,"",null,null,{"$f":"IF(CA197=\"\", 0, CA197 - IF(CA196=\"\", LOOKUP(2, 1/(CA$17:CA195<>\"\"), CA$17:CA195), CA196))","v":0},null,null,null,22,22,"",null,null,{"$f":"IF(CJ197=\"\", 0, CJ197 - IF(CJ196=\"\", LOOKUP(2, 1/(CJ$17:CJ195<>\"\"), CJ$17:CJ195), CJ196))","v":0},null,null,null,22,22,"",null,null,{"$f":"IF(CS197=\"\", 0, CS197 - IF(CS196=\"\", LOOKUP(2, 1/(CS$17:CS195<>\"\"), CS$17:CS195), CS196))","v":0},null,null,null,22,22,"",null,null,{"$f":"IF(DB197=\"\", 0, DB197 - IF(DB196=\"\", LOOKUP(2, 1/(DB$17:DB195<>\"\"), DB$17:DB195), DB196))","v":0},null,null,null,22,22,"",null,null,{"$f":"IF(DK197=\"\", 0, DK197 - IF(DK196=\"\", LOOKUP(2, 1/(DK$17:DK195<>\"\"), DK$17:DK195), DK196))","v":0},null,null,null,22,22,"",null,null,{"$f":"IF(DT197=\"\", 0, DT197 - IF(DT196=\"\", LOOKUP(2, 1/(DT$17:DT195<>\"\"), DT$17:DT195), DT196))","v":0},null,null,null,22,22,"",null,null,{"$f":"IF(EC197=\"\", 0, EC197 - IF(EC196=\"\", LOOKUP(2, 1/(EC$17:EC195<>\"\"), EC$17:EC195), EC196))","v":0},null,null,null,22,22,"",null,null,{"$f":"IF(EL197=\"\", 0, EL197 - IF(EL196=\"\", LOOKUP(2, 1/(EL$17:EL195<>\"\"), EL$17:EL195), EL196))","v":0},null,null,null,22,22,"",null,null,{"$f":"IF(EU197=\"\", 0, EU197 - IF(EU196=\"\", LOOKUP(2, 1/(EU$17:EU195<>\"\"), EU$17:EU195), EU196))","v":0},null,null,null,22,22,"",null,null,{"$f":"IF(FD197=\"\", 0, FD197 - IF(FD196=\"\", LOOKUP(2, 1/(FD$17:FD195<>\"\"), FD$17:FD195), FD196))","v":0},null,null,null,22,22,"",null,null,{"$f":"IF(FM197=\"\", 0, FM197 - IF(FM196=\"\", LOOKUP(2, 1/(FM$17:FM195<>\"\"), FM$17:FM195), FM196))","v":0},null,null,null,22,22,"",null,null,{"$f":"IF(FV197=\"\", 0, FV197 - IF(FV196=\"\", LOOKUP(2, 1/(FV$17:FV195<>\"\"), FV$17:FV195), FV196))","v":0},null,null,null,22,22,"",null,null,null,null,null,null,22,22,"",null,null,null,null,null,null,22,22,"",null,null,null,null,null,null,22,22,"",null,null,null,null,null,null,22,22,"",null,null,null,null,null,null,22,22,"",null,null,null,null,null,null,22,22,"",null,null,null,null,null,null,22,22,"",null,null,{"$f":"IF(IP197=\"\", 0, IP197 - IF(IP196=\"\", LOOKUP(2, 1/(IP$17:IP195<>\"\"), IP$17:IP195), IP196))","v":0},null,null,null,22,22,"",null,null,{"$f":"IF(IY197=\"\", 0, IY197 - IF(IY196=\"\", LOOKUP(2, 1/(IY$17:IY195<>\"\"), IY$17:IY195), IY196))","v":0},null,null,null,22,22,"",null,null,{"$f":"IF(JH197=\"\", 0, JH197 - IF(JH196=\"\", LOOKUP(2, 1/(JH$17:JH195<>\"\"), JH$17:JH195), JH196))","v":0},null,null,null,22,22,"",null,null,{"$f":"IF(JQ197=\"\", 0, JQ197 - IF(JQ196=\"\", LOOKUP(2, 1/(JQ$17:JQ195<>\"\"), JQ$17:JQ195), JQ196))","v":0},null,null,null,22,22,"",null,null,{"$f":"IF(JZ197=\"\", 0, JZ197 - IF(JZ196=\"\", LOOKUP(2, 1/(JZ$17:JZ195<>\"\"), JZ$17:JZ195), JZ196))","v":0},null,null,null,22,22,"",null,null,{"$f":"IF(KI197=\"\", 0, KI197 - IF(KI196=\"\", LOOKUP(2, 1/(KI$17:KI195<>\"\"), KI$17:KI195), KI196))","v":0},null,null,null,22,22,"",null,null,{"$f":"IF(KR197=\"\", 0, KR197 - IF(KR196=\"\", LOOKUP(2, 1/(KR$17:KR195<>\"\"), KR$17:KR195), KR196))","v":0},null,null,null,22,22,"",null,null,{"$f":"IF(LA197=\"\", 0, LA197 - IF(LA196=\"\", LOOKUP(2, 1/(LA$17:LA195<>\"\"), LA$17:LA195), LA196))","v":0},null,null,null,22,22,"",null,null,{"$f":"IF(LJ197=\"\", 0, LJ197 - IF(LJ196=\"\", LOOKUP(2, 1/(LJ$17:LJ195<>\"\"), LJ$17:LJ195), LJ196))","v":0},null,null,null,22,22,"",null,null,{"$f":"IF(LS197=\"\", 0, LS197 - IF(LS196=\"\", LOOKUP(2, 1/(LS$17:LS195<>\"\"), LS$17:LS195), LS196))","v":0},null,null,null,22,22,"",null,null,{"$f":"IF(MB197=\"\", 0, MB197 - IF(MB196=\"\", LOOKUP(2, 1/(MB$17:MB195<>\"\"), MB$17:MB195), MB196))","v":0},null,null,null,22,22,"",null,null,{"$f":"IF(MK197=\"\", 0, MK197 - IF(MK196=\"\", LOOKUP(2, 1/(MK$17:MK195<>\"\"), MK$17:MK195), MK196))","v":0},null,null,null,22,22,"",null,null,{"$f":"IF(MT197=\"\", 0, MT197 - IF(MT196=\"\", LOOKUP(2, 1/(MT$17:MT195<>\"\"), MT$17:MT195), MT196))","v":0},null,null,22,"",null,null,{"$f":"IF(NA197=\"\", 0, NA197 - IF(NA196=\"\", LOOKUP(2, 1/(NA$17:NA195<>\"\"), NA$17:NA195), NA196))","v":0},null,null,null,22,22,"",null,null,{"$f":"IF(NJ197=\"\", 0, NJ197 - IF(NJ196=\"\", LOOKUP(2, 1/(NJ$17:NJ195<>\"\"), NJ$17:NJ195), NJ196))","v":0},null,null,null,22,22,"",null,null,{"$f":"IF(NS197=\"\", 0, NS197 - IF(NS196=\"\", LOOKUP(2, 1/(NS$17:NS195<>\"\"), NS$17:NS195), NS196))","v":0},null,null,null,22,22,"",null,null,{"$f":"IF(OB197=\"\", 0, OB197 - IF(OB196=\"\", LOOKUP(2, 1/(OB$17:OB195<>\"\"), OB$17:OB195), OB196))","v":0},null,null,null,22,22,"",null,null,{"$f":"IF(OK197=\"\", 0, OK197 - IF(OK196=\"\", LOOKUP(2, 1/(OK$17:OK195<>\"\"), OK$17:OK195), OK196))","v":0},null,null,null,22,22,"",null,null,{"$f":"IF(OT197=\"\", 0, OT197 - IF(OT196=\"\", LOOKUP(2, 1/(OT$17:OT195<>\"\"), OT$17:OT195), OT196))","v":0},null,null,null,22,22,"",null,null,{"$f":"IF(PC197=\"\", 0, PC197 - IF(PC196=\"\", LOOKUP(2, 1/(PC$17:PC195<>\"\"), PC$17:PC195), PC196))","v":0},null,null,null,22,22,"",null,null,{"$f":"IF(PL197=\"\", 0, PL197 - IF(PL196=\"\", LOOKUP(2, 1/(PL$17:PL195<>\"\"), PL$17:PL195), PL196))","v":0},null,null,null,22,22,"",null,null,{"$f":"IF(PU197=\"\", 0, PU197 - IF(PU196=\"\", LOOKUP(2, 1/(PU$17:PU195<>\"\"), PU$17:PU195), PU196))","v":0},null,null,null,22,22,"",null,null,{"$f":"IF(QD197=\"\", 0, QD197 - IF(QD196=\"\", LOOKUP(2, 1/(QD$17:QD195<>\"\"), QD$17:QD195), QD196))","v":0}]
[null,null,21,21,"",null,null,{"$f":"IF(G198=\"\", 0, G198 - IF(G197=\"\", LOOKUP(2, 1/(G$17:G196<>\"\"), G$17:G196), G197))","v":0},null,null,null,21,21,"",null,null,{"$f":"IF(P198=\"\", 0, P198 - IF(P197=\"\", LOOKUP(2, 1/(P$17:P196<>\"\"), P$17:P196), P197))","v":0},null,null,null,21,21,"",null,null,{"$f":"IF(Y198=\"\", 0, Y198 - IF(Y197=\"\", LOOKUP(2, 1/(Y$17:Y196<>\"\"), Y$17:Y196), Y197))","v":0},null,null,null,21,21,"",null,null,{"$f":"IF(AH198=\"\", 0, AH198 - IF(AH197=\"\", LOOKUP(2, 1/(AH$17:AH196<>\"\"), AH$17:AH196), AH197))","v":0},null,null,null,21,21,"",null,null,{"$f":"IF(AQ198=\"\", 0, AQ198 - IF(AQ197=\"\", LOOKUP(2, 1/(AQ$17:AQ196<>\"\"), AQ$17:AQ196), AQ197))","v":0},null,null,null,21,21,"",null,null,{"$f":"IF(AZ198=\"\", 0, AZ198 - IF(AZ197=\"\", LOOKUP(2, 1/(AZ$17:AZ196<>\"\"), AZ$17:AZ196), AZ197))","v":0},null,null,null,21,21,"",null,null,{"$f":"IF(BI198=\"\", 0, BI198 - IF(BI197=\"\", LOOKUP(2, 1/(BI$17:BI196<>\"\"), BI$17:BI196), BI197))","v":0},null,null,null,21,21,"",null,null,{"$f":"IF(BR198=\"\", 0, BR198 - IF(BR197=\"\", LOOKUP(2, 1/(BR$17:BR196<>\"\"), BR$17:BR196), BR197))","v":0},null,null,null,21,21,"",null,null,{"$f":"IF(CA198=\"\", 0, CA198 - IF(CA197=\"\", LOOKUP(2, 1/(CA$17:CA196<>\"\"), CA$17:CA196), CA197))","v":0},null,null,null,21,21,"",null,null,{"$f":"IF(CJ198=\"\", 0, CJ198 - IF(CJ197=\"\", LOOKUP(2, 1/(CJ$17:CJ196<>\"\"), CJ$17:CJ196), CJ197))","v":0},null,null,null,21,21,"",null,null,{"$f":"IF(CS198=\"\", 0, CS198 - IF(CS197=\"\", LOOKUP(2, 1/(CS$17:CS196<>\"\"), CS$17:CS196), CS197))","v":0},null,null,null,21,21,"",null,null,{"$f":"IF(DB198=\"\", 0, DB198 - IF(DB197=\"\", LOOKUP(2, 1/(DB$17:DB196<>\"\"), DB$17:DB196), DB197))","v":0},null,null,null,21,21,"",null,null,{"$f":"IF(DK198=\"\", 0, DK198 - IF(DK197=\"\", LOOKUP(2, 1/(DK$17:DK196<>\"\"), DK$17:DK196), DK197))","v":0},null,null,null,21,21,"",null,null,{"$f":"IF(DT198=\"\", 0, DT198 - IF(DT197=\"\", LOOKUP(2, 1/(DT$17:DT196<>\"\"), DT$17:DT196), DT197))","v":0},null,null,null,21,21,"",null,null,{"$f":"IF(EC198=\"\", 0, EC198 - IF(EC197=\"\", LOOKUP(2, 1/(EC$17:EC196<>\"\"), EC$17:EC196), EC197))","v":0},null,null,null,21,21,"",null,null,{"$f":"IF(EL198=\"\", 0, EL198 - IF(EL197=\"\", LOOKUP(2, 1/(EL$17:EL196<>\"\"), EL$17:EL196), EL197))","v":0},null,null,null,21,21,"",null,null,{"$f":"IF(EU198=\"\", 0, EU198 - IF(EU197=\"\", LOOKUP(2, 1/(EU$17:EU196<>\"\"), EU$17:EU196), EU197))","v":0},null,null,null,21,21,"",null,null,{"$f":"IF(FD198=\"\", 0, FD198 - IF(FD197=\"\", LOOKUP(2, 1/(FD$17:FD196<>\"\"), FD$17:FD196), FD197))","v":0},null,null,null,21,21,"",null,null,{"$f":"IF(FM198=\"\", 0, FM198 - IF(FM197=\"\", LOOKUP(2, 1/(FM$17:FM196<>\"\"), FM$17:FM196), FM197))","v":0},null,null,null,21,21,"",null,null,{"$f":"IF(FV198=\"\", 0, FV198 - IF(FV197=\"\", LOOKUP(2, 1/(FV$17:FV196<>\"\"), FV$17:FV196), FV197))","v":0},null,null,null,21,21,"",null,null,null,null,null,null,21,21,"",null,null,null,null,null,null,21,21,"",null,null,null,null,null,null,21,21,"",null,null,null,null,null,null,21,21,"",null,null,null,null,null,null,21,21,"",null,null,null,null,null,null,21,21,"",null,null,null,null,null,null,21,21,"",null,null,{"$f":"IF(IP198=\"\", 0, IP198 - IF(IP197=\"\", LOOKUP(2, 1/(IP$17:IP196<>\"\"), IP$17:IP196), IP197))","v":0},null,null,null,21,21,"",null,null,{"$f":"IF(IY198=\"\", 0, IY198 - IF(IY197=\"\", LOOKUP(2, 1/(IY$17:IY196<>\"\"), IY$17:IY196), IY197))","v":0},null,null,null,21,21,"",null,null,{"$f":"IF(JH198=\"\", 0, JH198 - IF(JH197=\"\", LOOKUP(2, 1/(JH$17:JH196<>\"\"), JH$17:JH196), JH197))","v":0},null,null,null,21,21,"",null,null,{"$f":"IF(JQ198=\"\", 0, JQ198 - IF(JQ197=\"\", LOOKUP(2, 1/(JQ$17:JQ196<>\"\"), JQ$17:JQ196), JQ197))","v":0},null,null,null,21,21,"",null,null,{"$f":"IF(JZ198=\"\", 0, JZ198 - IF(JZ197=\"\", LOOKUP(2, 1/(JZ$17:JZ196<>\"\"), JZ$17:JZ196), JZ197))","v":0},null,null,null,21,21,"",null,null,{"$f":"IF(KI198=\"\", 0, KI198 - IF(KI197=\"\", LOOKUP(2, 1/(KI$17:KI196<>\"\"), KI$17:KI196), KI197))","v":0},null,null,null,21,21,"",null,null,{"$f":"IF(KR198=\"\", 0, KR198 - IF(KR197=\"\", LOOKUP(2, 1/(KR$17:KR196<>\"\"), KR$17:KR196), KR197))","v":0},null,null,null,21,21,"",null,null,{"$f":"IF(LA198=\"\", 0, LA198 - IF(LA197=\"\", LOOKUP(2, 1/(LA$17:LA196<>\"\"), LA$17:LA196), LA197))","v":0},null,null,null,21,21,"",null,null,{"$f":"IF(LJ198=\"\", 0, LJ198 - IF(LJ197=\"\", LOOKUP(2, 1/(LJ$17:LJ196<>\"\"), LJ$17:LJ196), LJ197))","v":0},null,null,null,21,21,"",null,null,{"$f":"IF(LS198=\"\", 0, LS198 - IF(LS197=\"\", LOOKUP(2, 1/(LS$17:LS196<>\"\"), LS$17:LS196), LS197))","v":0},null,null,null,21,21,"",null,null,{"$f":"IF(MB198=\"\", 0, MB198 - IF(MB197=\"\", LOOKUP(2, 1/(MB$17:MB196<>\"\"), MB$17:MB196), MB197))","v":0},null,null,null,21,21,"",null,null,{"$f":"IF(MK198=\"\", 0, MK198 - IF(MK197=\"\", LOOKUP(2, 1/(MK$17:MK196<>\"\"), MK$17:MK196), MK197))","v":0},null,null,null,21,21,"",null,null,{"$f":"IF(MT198=\"\", 0, MT198 - IF(MT197=\"\", LOOKUP(2, 1/(MT$17:MT196<>\"\"), MT$17:MT196), MT197))","v":0},null,null,21,"",null,null,{"$f":"IF(NA198=\"\", 0, NA198 - IF(NA197=\"\", LOOKUP(2, 1/(NA$17:NA196<>\"\"), NA$17:NA196), NA197))","v":0},null,null,null,21,21,"",null,null,{"$f":"IF(NJ198=\"\", 0, NJ198 - IF(NJ197=\"\", LOOKUP(2, 1/(NJ$17:NJ196<>\"\"), NJ$17:NJ196), NJ197))","v":0},null,null,null,21,21,"",null,null,{"$f":"IF(NS198=\"\", 0, NS198 - IF(NS197=\"\", LOOKUP(2, 1/(NS$17:NS196<>\"\"), NS$17:NS196), NS197))","v":0},null,null,null,21,21,"",null,null,{"$f":"IF(OB198=\"\", 0, OB198 - IF(OB197=\"\", LOOKUP(2, 1/(OB$17:OB196<>\"\"), OB$17:OB196), OB197))","v":0},null,null,null,21,21,"",null,null,{"$f":"IF(OK198=\"\", 0, OK198 - IF(OK197=\"\", LOOKUP(2, 1/(OK$17:OK196<>\"\"), OK$17:OK196), OK197))","v":0},null,null,null,21,21,"",null,null,{"$f":"IF(OT198=\"\", 0, OT198 - IF(OT197=\"\", LOOKUP(2, 1/(OT$17:OT196<>\"\"), OT$17:OT196), OT197))","v":0},null,null,null,21,21,"",null,null,{"$f":"IF(PC198=\"\", 0, PC198 - IF(PC197=\"\", LOOKUP(2, 1/(PC$17:PC196<>\"\"), PC$17:PC196), PC197))","v":0},null,null,null,21,21,"",null,null,{"$f":"IF(PL198=\"\", 0, PL198 - IF(PL197=\"\", LOOKUP(2, 1/(PL$17:PL196<>\"\"), PL$17:PL196), PL197))","v":0},null,null,null,21,21,"",null,null,{"$f":"IF(PU198=\"\", 0, PU198 - IF(PU197=\"\", LOOKUP(2, 1/(PU$17:PU196<>\"\"), PU$17:PU196), PU197))","v":0},null,null,null,21,21,"",null,null,{"$f":"IF(QD198=\"\", 0, QD198 - IF(QD197=\"\", LOOKUP(2, 1/(QD$17:QD196<>\"\"), QD$17:QD196), QD197))","v":0}]
[null,null,20,20,"",null,null,{"$f":"IF(G199=\"\", 0, G199 - IF(G198=\"\", LOOKUP(2, 1/(G$17:G197<>\"\"), G$17:G197), G198))","v":0},null,null,null,20,20,"",null,null,{"$f":"IF(P199=\"\", 0, P199 - IF(P198=\"\", LOOKUP(2, 1/(P$17:P197<>\"\"), P$17:P197), P198))","v":0},null,null,null,20,20,"",null,null,{"$f":"IF(Y199=\"\", 0, Y199 - IF(Y198=\"\", LOOKUP(2, 1/(Y$17:Y197<>\"\"), Y$17:Y197), Y198))","v":0},null,null,null,20,20,"",null,null,{"$f":"IF(AH199=\"\", 0, AH199 - IF(AH198=\"\", LOOKUP(2, 1/(AH$17:AH197<>\"\"), AH$17:AH197), AH198))","v":0},null,null,null,20,20,"",null,null,{"$f":"IF(AQ199=\"\", 0, AQ199 - IF(AQ198=\"\", LOOKUP(2, 1/(AQ$17:AQ197<>\"\"), AQ$17:AQ197), AQ198))","v":0},null,null,null,20,20,"",null,null,{"$f":"IF(AZ199=\"\", 0, AZ199 - IF(AZ198=\"\", LOOKUP(2, 1/(AZ$17:AZ197<>\"\"), AZ$17:AZ197), AZ198))","v":0},null,null,null,20,20,"",null,null,{"$f":"IF(BI199=\"\", 0, BI199 - IF(BI198=\"\", LOOKUP(2, 1/(BI$17:BI197<>\"\"), BI$17:BI197), BI198))","v":0},null,null,null,20,20,"",null,null,{"$f":"IF(BR199=\"\", 0, BR199 - IF(BR198=\"\", LOOKUP(2, 1/(BR$17:BR197<>\"\"), BR$17:BR197), BR198))","v":0},null,null,null,20,20,"",null,null,{"$f":"IF(CA199=\"\", 0, CA199 - IF(CA198=\"\", LOOKUP(2, 1/(CA$17:CA197<>\"\"), CA$17:CA197), CA198))","v":0},null,null,null,20,20,"",null,null,{"$f":"IF(CJ199=\"\", 0, CJ199 - IF(CJ198=\"\", LOOKUP(2, 1/(CJ$17:CJ197<>\"\"), CJ$17:CJ197), CJ198))","v":0},null,null,null,20,20,"",null,null,{"$f":"IF(CS199=\"\", 0, CS199 - IF(CS198=\"\", LOOKUP(2, 1/(CS$17:CS197<>\"\"), CS$17:CS197), CS198))","v":0},null,null,null,20,20,"",null,null,{"$f":"IF(DB199=\"\", 0, DB199 - IF(DB198=\"\", LOOKUP(2, 1/(DB$17:DB197<>\"\"), DB$17:DB197), DB198))","v":0},null,null,null,20,20,"",null,null,{"$f":"IF(DK199=\"\", 0, DK199 - IF(DK198=\"\", LOOKUP(2, 1/(DK$17:DK197<>\"\"), DK$17:DK197), DK198))","v":0},null,null,null,20,20,"",null,null,{"$f":"IF(DT199=\"\", 0, DT199 - IF(DT198=\"\", LOOKUP(2, 1/(DT$17:DT197<>\"\"), DT$17:DT197), DT198))","v":0},null,null,null,20,20,"",null,null,{"$f":"IF(EC199=\"\", 0, EC199 - IF(EC198=\"\", LOOKUP(2, 1/(EC$17:EC197<>\"\"), EC$17:EC197), EC198))","v":0},null,null,null,20,20,"",null,null,{"$f":"IF(EL199=\"\", 0, EL199 - IF(EL198=\"\", LOOKUP(2, 1/(EL$17:EL197<>\"\"), EL$17:EL197), EL198))","v":0},null,null,null,20,20,"",null,null,{"$f":"IF(EU199=\"\", 0, EU199 - IF(EU198=\"\", LOOKUP(2, 1/(EU$17:EU197<>\"\"), EU$17:EU197), EU198))","v":0},null,null,null,20,20,"",null,null,{"$f":"IF(FD199=\"\", 0, FD199 - IF(FD198=\"\", LOOKUP(2, 1/(FD$17:FD197<>\"\"), FD$17:FD197), FD198))","v":0},null,null,null,20,20,"",null,null,{"$f":"IF(FM199=\"\", 0, FM199 - IF(FM198=\"\", LOOKUP(2, 1/(FM$17:FM197<>\"\"), FM$17:FM197), FM198))","v":0},null,null,null,20,20,"",null,null,{"$f":"IF(FV199=\"\", 0, FV199 - IF(FV198=\"\", LOOKUP(2, 1/(FV$17:FV197<>\"\"), FV$17:FV197), FV198))","v":0},null,null,null,20,20,"",null,null,null,null,null,null,20,20,"",null,null,null,null,null,null,20,20,"",null,null,null,null,null,null,20,20,"",null,null,null,null,null,null,20,20,"",null,null,null,null,null,null,20,20,"",null,null,null,null,null,null,20,20,"",null,null,null,null,null,null,20,20,"",null,null,{"$f":"IF(IP199=\"\", 0, IP199 - IF(IP198=\"\", LOOKUP(2, 1/(IP$17:IP197<>\"\"), IP$17:IP197), IP198))","v":0},null,null,null,20,20,"",null,null,{"$f":"IF(IY199=\"\", 0, IY199 - IF(IY198=\"\", LOOKUP(2, 1/(IY$17:IY197<>\"\"), IY$17:IY197), IY198))","v":0},null,null,null,20,20,"",null,null,{"$f":"IF(JH199=\"\", 0, JH199 - IF(JH198=\"\", LOOKUP(2, 1/(JH$17:JH197<>\"\"), JH$17:JH197), JH198))","v":0},null,null,null,20,20,"",null,null,{"$f":"IF(JQ199=\"\", 0, JQ199 - IF(JQ198=\"\", LOOKUP(2, 1/(JQ$17:JQ197<>\"\"), JQ$17:JQ197), JQ198))","v":0},null,null,null,20,20,"",null,null,{"$f":"IF(JZ199=\"\", 0, JZ199 - IF(JZ198=\"\", LOOKUP(2, 1/(JZ$17:JZ197<>\"\"), JZ$17:JZ197), JZ198))","v":0},null,null,null,20,20,"",null,null,{"$f":"IF(KI199=\"\", 0, KI199 - IF(KI198=\"\", LOOKUP(2, 1/(KI$17:KI197<>\"\"), KI$17:KI197), KI198))","v":0},null,null,null,20,20,"",null,null,{"$f":"IF(KR199=\"\", 0, KR199 - IF(KR198=\"\", LOOKUP(2, 1/(KR$17:KR197<>\"\"), KR$17:KR197), KR198))","v":0},null,null,null,20,20,"",null,null,{"$f":"IF(LA199=\"\", 0, LA199 - IF(LA198=\"\", LOOKUP(2, 1/(LA$17:LA197<>\"\"), LA$17:LA197), LA198))","v":0},null,null,null,20,20,"",null,null,{"$f":"IF(LJ199=\"\", 0, LJ199 - IF(LJ198=\"\", LOOKUP(2, 1/(LJ$17:LJ197<>\"\"), LJ$17:LJ197), LJ198))","v":0},null,null,null,20,20,"",null,null,{"$f":"IF(LS199=\"\", 0, LS199 - IF(LS198=\"\", LOOKUP(2, 1/(LS$17:LS197<>\"\"), LS$17:LS197), LS198))","v":0},null,null,null,20,20,"",null,null,{"$f":"IF(MB199=\"\", 0, MB199 - IF(MB198=\"\", LOOKUP(2, 1/(MB$17:MB197<>\"\"), MB$17:MB197), MB198))","v":0},null,null,null,20,20,"",null,null,{"$f":"IF(MK199=\"\", 0, MK199 - IF(MK198=\"\", LOOKUP(2, 1/(MK$17:MK197<>\"\"), MK$17:MK197), MK198))","v":0},null,null,null,20,20,"",null,null,{"$f":"IF(MT199=\"\", 0, MT199 - IF(MT198=\"\", LOOKUP(2, 1/(MT$17:MT197<>\"\"), MT$17:MT197), MT198))","v":0},null,null,20,"",null,null,{"$f":"IF(NA199=\"\", 0, NA199 - IF(NA198=\"\", LOOKUP(2, 1/(NA$17:NA197<>\"\"), NA$17:NA197), NA198))","v":0},null,null,null,20,20,"",null,null,{"$f":"IF(NJ199=\"\", 0, NJ199 - IF(NJ198=\"\", LOOKUP(2, 1/(NJ$17:NJ197<>\"\"), NJ$17:NJ197), NJ198))","v":0},null,null,null,20,20,"",null,null,{"$f":"IF(NS199=\"\", 0, NS199 - IF(NS198=\"\", LOOKUP(2, 1/(NS$17:NS197<>\"\"), NS$17:NS197), NS198))","v":0},null,null,null,20,20,"",null,null,{"$f":"IF(OB199=\"\", 0, OB199 - IF(OB198=\"\", LOOKUP(2, 1/(OB$17:OB197<>\"\"), OB$17:OB197), OB198))","v":0},null,null,null,20,20,"",null,null,{"$f":"IF(OK199=\"\", 0, OK199 - IF(OK198=\"\", LOOKUP(2, 1/(OK$17:OK197<>\"\"), OK$17:OK197), OK198))","v":0},null,null,null,20,20,"",null,null,{"$f":"IF(OT199=\"\", 0, OT199 - IF(OT198=\"\", LOOKUP(2, 1/(OT$17:OT197<>\"\"), OT$17:OT197), OT198))","v":0},null,null,null,20,20,"",null,null,{"$f":"IF(PC199=\"\", 0, PC199 - IF(PC198=\"\", LOOKUP(2, 1/(PC$17:PC197<>\"\"), PC$17:PC197), PC198))","v":0},null,null,null,20,20,"",null,null,{"$f":"IF(PL199=\"\", 0, PL199 - IF(PL198=\"\", LOOKUP(2, 1/(PL$17:PL197<>\"\"), PL$17:PL197), PL198))","v":0},null,null,null,20,20,"",null,null,{"$f":"IF(PU199=\"\", 0, PU199 - IF(PU198=\"\", LOOKUP(2, 1/(PU$17:PU197<>\"\"), PU$17:PU197), PU198))","v":0},null,null,null,20,20,"",null,null,{"$f":"IF(QD199=\"\", 0, QD199 - IF(QD198=\"\", LOOKUP(2, 1/(QD$17:QD197<>\"\"), QD$17:QD197), QD198))","v":0}]
[null,null,19,19,"",null,null,{"$f":"IF(G200=\"\", 0, G200 - IF(G199=\"\", LOOKUP(2, 1/(G$17:G198<>\"\"), G$17:G198), G199))","v":0},null,null,null,19,19,"",null,null,{"$f":"IF(P200=\"\", 0, P200 - IF(P199=\"\", LOOKUP(2, 1/(P$17:P198<>\"\"), P$17:P198), P199))","v":0},null,null,null,19,19,"",null,null,{"$f":"IF(Y200=\"\", 0, Y200 - IF(Y199=\"\", LOOKUP(2, 1/(Y$17:Y198<>\"\"), Y$17:Y198), Y199))","v":0},null,null,null,19,19,"",null,null,{"$f":"IF(AH200=\"\", 0, AH200 - IF(AH199=\"\", LOOKUP(2, 1/(AH$17:AH198<>\"\"), AH$17:AH198), AH199))","v":0},null,null,null,19,19,"",null,null,{"$f":"IF(AQ200=\"\", 0, AQ200 - IF(AQ199=\"\", LOOKUP(2, 1/(AQ$17:AQ198<>\"\"), AQ$17:AQ198), AQ199))","v":0},null,null,null,19,19,"",null,null,{"$f":"IF(AZ200=\"\", 0, AZ200 - IF(AZ199=\"\", LOOKUP(2, 1/(AZ$17:AZ198<>\"\"), AZ$17:AZ198), AZ199))","v":0},null,null,null,19,19,"",null,null,{"$f":"IF(BI200=\"\", 0, BI200 - IF(BI199=\"\", LOOKUP(2, 1/(BI$17:BI198<>\"\"), BI$17:BI198), BI199))","v":0},null,null,null,19,19,"",null,null,{"$f":"IF(BR200=\"\", 0, BR200 - IF(BR199=\"\", LOOKUP(2, 1/(BR$17:BR198<>\"\"), BR$17:BR198), BR199))","v":0},null,null,null,19,19,"",null,null,{"$f":"IF(CA200=\"\", 0, CA200 - IF(CA199=\"\", LOOKUP(2, 1/(CA$17:CA198<>\"\"), CA$17:CA198), CA199))","v":0},null,null,null,19,19,"",null,null,{"$f":"IF(CJ200=\"\", 0, CJ200 - IF(CJ199=\"\", LOOKUP(2, 1/(CJ$17:CJ198<>\"\"), CJ$17:CJ198), CJ199))","v":0},null,null,null,19,19,"",null,null,{"$f":"IF(CS200=\"\", 0, CS200 - IF(CS199=\"\", LOOKUP(2, 1/(CS$17:CS198<>\"\"), CS$17:CS198), CS199))","v":0},null,null,null,19,19,"",null,null,{"$f":"IF(DB200=\"\", 0, DB200 - IF(DB199=\"\", LOOKUP(2, 1/(DB$17:DB198<>\"\"), DB$17:DB198), DB199))","v":0},null,null,null,19,19,"",null,null,{"$f":"IF(DK200=\"\", 0, DK200 - IF(DK199=\"\", LOOKUP(2, 1/(DK$17:DK198<>\"\"), DK$17:DK198), DK199))","v":0},null,null,null,19,19,"",null,null,{"$f":"IF(DT200=\"\", 0, DT200 - IF(DT199=\"\", LOOKUP(2, 1/(DT$17:DT198<>\"\"), DT$17:DT198), DT199))","v":0},null,null,null,19,19,"",null,null,{"$f":"IF(EC200=\"\", 0, EC200 - IF(EC199=\"\", LOOKUP(2, 1/(EC$17:EC198<>\"\"), EC$17:EC198), EC199))","v":0},null,null,null,19,19,"",null,null,{"$f":"IF(EL200=\"\", 0, EL200 - IF(EL199=\"\", LOOKUP(2, 1/(EL$17:EL198<>\"\"), EL$17:EL198), EL199))","v":0},null,null,null,19,19,"",null,null,{"$f":"IF(EU200=\"\", 0, EU200 - IF(EU199=\"\", LOOKUP(2, 1/(EU$17:EU198<>\"\"), EU$17:EU198), EU199))","v":0},null,null,null,19,19,"",null,null,{"$f":"IF(FD200=\"\", 0, FD200 - IF(FD199=\"\", LOOKUP(2, 1/(FD$17:FD198<>\"\"), FD$17:FD198), FD199))","v":0},null,null,null,19,19,"",null,null,{"$f":"IF(FM200=\"\", 0, FM200 - IF(FM199=\"\", LOOKUP(2, 1/(FM$17:FM198<>\"\"), FM$17:FM198), FM199))","v":0},null,null,null,19,19,"",null,null,{"$f":"IF(FV200=\"\", 0, FV200 - IF(FV199=\"\", LOOKUP(2, 1/(FV$17:FV198<>\"\"), FV$17:FV198), FV199))","v":0},null,null,null,19,19,"",null,null,null,null,null,null,19,19,"",null,null,null,null,null,null,19,19,"",null,null,null,null,null,null,19,19,"",null,null,null,null,null,null,19,19,"",null,null,null,null,null,null,19,19,"",null,null,null,null,null,null,19,19,"",null,null,null,null,null,null,19,19,"",null,null,{"$f":"IF(IP200=\"\", 0, IP200 - IF(IP199=\"\", LOOKUP(2, 1/(IP$17:IP198<>\"\"), IP$17:IP198), IP199))","v":0},null,null,null,19,19,"",null,null,{"$f":"IF(IY200=\"\", 0, IY200 - IF(IY199=\"\", LOOKUP(2, 1/(IY$17:IY198<>\"\"), IY$17:IY198), IY199))","v":0},null,null,null,19,19,"",null,null,{"$f":"IF(JH200=\"\", 0, JH200 - IF(JH199=\"\", LOOKUP(2, 1/(JH$17:JH198<>\"\"), JH$17:JH198), JH199))","v":0},null,null,null,19,19,"",null,null,{"$f":"IF(JQ200=\"\", 0, JQ200 - IF(JQ199=\"\", LOOKUP(2, 1/(JQ$17:JQ198<>\"\"), JQ$17:JQ198), JQ199))","v":0},null,null,null,19,19,"",null,null,{"$f":"IF(JZ200=\"\", 0, JZ200 - IF(JZ199=\"\", LOOKUP(2, 1/(JZ$17:JZ198<>\"\"), JZ$17:JZ198), JZ199))","v":0},null,null,null,19,19,"",null,null,{"$f":"IF(KI200=\"\", 0, KI200 - IF(KI199=\"\", LOOKUP(2, 1/(KI$17:KI198<>\"\"), KI$17:KI198), KI199))","v":0},null,null,null,19,19,"",null,null,{"$f":"IF(KR200=\"\", 0, KR200 - IF(KR199=\"\", LOOKUP(2, 1/(KR$17:KR198<>\"\"), KR$17:KR198), KR199))","v":0},null,null,null,19,19,"",null,null,{"$f":"IF(LA200=\"\", 0, LA200 - IF(LA199=\"\", LOOKUP(2, 1/(LA$17:LA198<>\"\"), LA$17:LA198), LA199))","v":0},null,null,null,19,19,"",null,null,{"$f":"IF(LJ200=\"\", 0, LJ200 - IF(LJ199=\"\", LOOKUP(2, 1/(LJ$17:LJ198<>\"\"), LJ$17:LJ198), LJ199))","v":0},null,null,null,19,19,"",null,null,{"$f":"IF(LS200=\"\", 0, LS200 - IF(LS199=\"\", LOOKUP(2, 1/(LS$17:LS198<>\"\"), LS$17:LS198), LS199))","v":0},null,null,null,19,19,"",null,null,{"$f":"IF(MB200=\"\", 0, MB200 - IF(MB199=\"\", LOOKUP(2, 1/(MB$17:MB198<>\"\"), MB$17:MB198), MB199))","v":0},null,null,null,19,19,"",null,null,{"$f":"IF(MK200=\"\", 0, MK200 - IF(MK199=\"\", LOOKUP(2, 1/(MK$17:MK198<>\"\"), MK$17:MK198), MK199))","v":0},null,null,null,19,19,"",null,null,{"$f":"IF(MT200=\"\", 0, MT200 - IF(MT199=\"\", LOOKUP(2, 1/(MT$17:MT198<>\"\"), MT$17:MT198), MT199))","v":0},null,null,19,"",null,null,{"$f":"IF(NA200=\"\", 0, NA200 - IF(NA199=\"\", LOOKUP(2, 1/(NA$17:NA198<>\"\"), NA$17:NA198), NA199))","v":0},null,null,null,19,19,"",null,null,{"$f":"IF(NJ200=\"\", 0, NJ200 - IF(NJ199=\"\", LOOKUP(2, 1/(NJ$17:NJ198<>\"\"), NJ$17:NJ198), NJ199))","v":0},null,null,null,19,19,"",null,null,{"$f":"IF(NS200=\"\", 0, NS200 - IF(NS199=\"\", LOOKUP(2, 1/(NS$17:NS198<>\"\"), NS$17:NS198), NS199))","v":0},null,null,null,19,19,"",null,null,{"$f":"IF(OB200=\"\", 0, OB200 - IF(OB199=\"\", LOOKUP(2, 1/(OB$17:OB198<>\"\"), OB$17:OB198), OB199))","v":0},null,null,null,19,19,"",null,null,{"$f":"IF(OK200=\"\", 0, OK200 - IF(OK199=\"\", LOOKUP(2, 1/(OK$17:OK198<>\"\"), OK$17:OK198), OK199))","v":0},null,null,null,19,19,"",null,null,{"$f":"IF(OT200=\"\", 0, OT200 - IF(OT199=\"\", LOOKUP(2, 1/(OT$17:OT198<>\"\"), OT$17:OT198), OT199))","v":0},null,null,null,19,19,"",null,null,{"$f":"IF(PC200=\"\", 0, PC200 - IF(PC199=\"\", LOOKUP(2, 1/(PC$17:PC198<>\"\"), PC$17:PC198), PC199))","v":0},null,null,null,19,19,"",null,null,{"$f":"IF(PL200=\"\", 0, PL200 - IF(PL199=\"\", LOOKUP(2, 1/(PL$17:PL198<>\"\"), PL$17:PL198), PL199))","v":0},null,null,null,19,19,"",null,null,{"$f":"IF(PU200=\"\", 0, PU200 - IF(PU199=\"\", LOOKUP(2, 1/(PU$17:PU198<>\"\"), PU$17:PU198), PU199))","v":0},null,null,null,19,19,"",null,null,{"$f":"IF(QD200=\"\", 0, QD200 - IF(QD199=\"\", LOOKUP(2, 1/(QD$17:QD198<>\"\"), QD$17:QD198), QD199))","v":0}]
[null,null,18,18,"",null,null,{"$f":"IF(G201=\"\", 0, G201 - IF(G200=\"\", LOOKUP(2, 1/(G$17:G199<>\"\"), G$17:G199), G200))","v":0},null,null,null,18,18,"",null,null,{"$f":"IF(P201=\"\", 0, P201 - IF(P200=\"\", LOOKUP(2, 1/(P$17:P199<>\"\"), P$17:P199), P200))","v":0},null,null,null,18,18,"",null,null,{"$f":"IF(Y201=\"\", 0, Y201 - IF(Y200=\"\", LOOKUP(2, 1/(Y$17:Y199<>\"\"), Y$17:Y199), Y200))","v":0},null,null,null,18,18,"",null,null,{"$f":"IF(AH201=\"\", 0, AH201 - IF(AH200=\"\", LOOKUP(2, 1/(AH$17:AH199<>\"\"), AH$17:AH199), AH200))","v":0},null,null,null,18,18,"",null,null,{"$f":"IF(AQ201=\"\", 0, AQ201 - IF(AQ200=\"\", LOOKUP(2, 1/(AQ$17:AQ199<>\"\"), AQ$17:AQ199), AQ200))","v":0},null,null,null,18,18,"",null,null,{"$f":"IF(AZ201=\"\", 0, AZ201 - IF(AZ200=\"\", LOOKUP(2, 1/(AZ$17:AZ199<>\"\"), AZ$17:AZ199), AZ200))","v":0},null,null,null,18,18,"",null,null,{"$f":"IF(BI201=\"\", 0, BI201 - IF(BI200=\"\", LOOKUP(2, 1/(BI$17:BI199<>\"\"), BI$17:BI199), BI200))","v":0},null,null,null,18,18,"",null,null,{"$f":"IF(BR201=\"\", 0, BR201 - IF(BR200=\"\", LOOKUP(2, 1/(BR$17:BR199<>\"\"), BR$17:BR199), BR200))","v":0},null,null,null,18,18,"",null,null,{"$f":"IF(CA201=\"\", 0, CA201 - IF(CA200=\"\", LOOKUP(2, 1/(CA$17:CA199<>\"\"), CA$17:CA199), CA200))","v":0},null,null,null,18,18,"",null,null,{"$f":"IF(CJ201=\"\", 0, CJ201 - IF(CJ200=\"\", LOOKUP(2, 1/(CJ$17:CJ199<>\"\"), CJ$17:CJ199), CJ200))","v":0},null,null,null,18,18,"",null,null,{"$f":"IF(CS201=\"\", 0, CS201 - IF(CS200=\"\", LOOKUP(2, 1/(CS$17:CS199<>\"\"), CS$17:CS199), CS200))","v":0},null,null,null,18,18,"",null,null,{"$f":"IF(DB201=\"\", 0, DB201 - IF(DB200=\"\", LOOKUP(2, 1/(DB$17:DB199<>\"\"), DB$17:DB199), DB200))","v":0},null,null,null,18,18,"",null,null,{"$f":"IF(DK201=\"\", 0, DK201 - IF(DK200=\"\", LOOKUP(2, 1/(DK$17:DK199<>\"\"), DK$17:DK199), DK200))","v":0},null,null,null,18,18,"",null,null,{"$f":"IF(DT201=\"\", 0, DT201 - IF(DT200=\"\", LOOKUP(2, 1/(DT$17:DT199<>\"\"), DT$17:DT199), DT200))","v":0},null,null,null,18,18,"",null,null,{"$f":"IF(EC201=\"\", 0, EC201 - IF(EC200=\"\", LOOKUP(2, 1/(EC$17:EC199<>\"\"), EC$17:EC199), EC200))","v":0},null,null,null,18,18,"",null,null,{"$f":"IF(EL201=\"\", 0, EL201 - IF(EL200=\"\", LOOKUP(2, 1/(EL$17:EL199<>\"\"), EL$17:EL199), EL200))","v":0},null,null,null,18,18,"",null,null,{"$f":"IF(EU201=\"\", 0, EU201 - IF(EU200=\"\", LOOKUP(2, 1/(EU$17:EU199<>\"\"), EU$17:EU199), EU200))","v":0},null,null,null,18,18,"",null,null,{"$f":"IF(FD201=\"\", 0, FD201 - IF(FD200=\"\", LOOKUP(2, 1/(FD$17:FD199<>\"\"), FD$17:FD199), FD200))","v":0},null,null,null,18,18,"",null,null,{"$f":"IF(FM201=\"\", 0, FM201 - IF(FM200=\"\", LOOKUP(2, 1/(FM$17:FM199<>\"\"), FM$17:FM199), FM200))","v":0},null,null,null,18,18,"",null,null,{"$f":"IF(FV201=\"\", 0, FV201 - IF(FV200=\"\", LOOKUP(2, 1/(FV$17:FV199<>\"\"), FV$17:FV199), FV200))","v":0},null,null,null,18,18,"",null,null,null,null,null,null,18,18,"",null,null,null,null,null,null,18,18,"",null,null,null,null,null,null,18,18,"",null,null,null,null,null,null,18,18,"",null,null,null,null,null,null,18,18,"",null,null,null,null,null,null,18,18,"",null,null,null,null,null,null,18,18,"",null,null,{"$f":"IF(IP201=\"\", 0, IP201 - IF(IP200=\"\", LOOKUP(2, 1/(IP$17:IP199<>\"\"), IP$17:IP199), IP200))","v":0},null,null,null,18,18,"",null,null,{"$f":"IF(IY201=\"\", 0, IY201 - IF(IY200=\"\", LOOKUP(2, 1/(IY$17:IY199<>\"\"), IY$17:IY199), IY200))","v":0},null,null,null,18,18,"",null,null,{"$f":"IF(JH201=\"\", 0, JH201 - IF(JH200=\"\", LOOKUP(2, 1/(JH$17:JH199<>\"\"), JH$17:JH199), JH200))","v":0},null,null,null,18,18,"",null,null,{"$f":"IF(JQ201=\"\", 0, JQ201 - IF(JQ200=\"\", LOOKUP(2, 1/(JQ$17:JQ199<>\"\"), JQ$17:JQ199), JQ200))","v":0},null,null,null,18,18,"",null,null,{"$f":"IF(JZ201=\"\", 0, JZ201 - IF(JZ200=\"\", LOOKUP(2, 1/(JZ$17:JZ199<>\"\"), JZ$17:JZ199), JZ200))","v":0},null,null,null,18,18,"",null,null,{"$f":"IF(KI201=\"\", 0, KI201 - IF(KI200=\"\", LOOKUP(2, 1/(KI$17:KI199<>\"\"), KI$17:KI199), KI200))","v":0},null,null,null,18,18,"",null,null,{"$f":"IF(KR201=\"\", 0, KR201 - IF(KR200=\"\", LOOKUP(2, 1/(KR$17:KR199<>\"\"), KR$17:KR199), KR200))","v":0},null,null,null,18,18,"",null,null,{"$f":"IF(LA201=\"\", 0, LA201 - IF(LA200=\"\", LOOKUP(2, 1/(LA$17:LA199<>\"\"), LA$17:LA199), LA200))","v":0},null,null,null,18,18,"",null,null,{"$f":"IF(LJ201=\"\", 0, LJ201 - IF(LJ200=\"\", LOOKUP(2, 1/(LJ$17:LJ199<>\"\"), LJ$17:LJ199), LJ200))","v":0},null,null,null,18,18,"",null,null,{"$f":"IF(LS201=\"\", 0, LS201 - IF(LS200=\"\", LOOKUP(2, 1/(LS$17:LS199<>\"\"), LS$17:LS199), LS200))","v":0},null,null,null,18,18,"",null,null,{"$f":"IF(MB201=\"\", 0, MB201 - IF(MB200=\"\", LOOKUP(2, 1/(MB$17:MB199<>\"\"), MB$17:MB199), MB200))","v":0},null,null,null,18,18,"",null,null,{"$f":"IF(MK201=\"\", 0, MK201 - IF(MK200=\"\", LOOKUP(2, 1/(MK$17:MK199<>\"\"), MK$17:MK199), MK200))","v":0},null,null,null,18,18,"",null,null,{"$f":"IF(MT201=\"\", 0, MT201 - IF(MT200=\"\", LOOKUP(2, 1/(MT$17:MT199<>\"\"), MT$17:MT199), MT200))","v":0},null,null,18,"",null,null,{"$f":"IF(NA201=\"\", 0, NA201 - IF(NA200=\"\", LOOKUP(2, 1/(NA$17:NA199<>\"\"), NA$17:NA199), NA200))","v":0},null,null,null,18,18,"",null,null,{"$f":"IF(NJ201=\"\", 0, NJ201 - IF(NJ200=\"\", LOOKUP(2, 1/(NJ$17:NJ199<>\"\"), NJ$17:NJ199), NJ200))","v":0},null,null,null,18,18,"",null,null,{"$f":"IF(NS201=\"\", 0, NS201 - IF(NS200=\"\", LOOKUP(2, 1/(NS$17:NS199<>\"\"), NS$17:NS199), NS200))","v":0},null,null,null,18,18,"",null,null,{"$f":"IF(OB201=\"\", 0, OB201 - IF(OB200=\"\", LOOKUP(2, 1/(OB$17:OB199<>\"\"), OB$17:OB199), OB200))","v":0},null,null,null,18,18,"",null,null,{"$f":"IF(OK201=\"\", 0, OK201 - IF(OK200=\"\", LOOKUP(2, 1/(OK$17:OK199<>\"\"), OK$17:OK199), OK200))","v":0},null,null,null,18,18,"",null,null,{"$f":"IF(OT201=\"\", 0, OT201 - IF(OT200=\"\", LOOKUP(2, 1/(OT$17:OT199<>\"\"), OT$17:OT199), OT200))","v":0},null,null,null,18,18,"",null,null,{"$f":"IF(PC201=\"\", 0, PC201 - IF(PC200=\"\", LOOKUP(2, 1/(PC$17:PC199<>\"\"), PC$17:PC199), PC200))","v":0},null,null,null,18,18,"",null,null,{"$f":"IF(PL201=\"\", 0, PL201 - IF(PL200=\"\", LOOKUP(2, 1/(PL$17:PL199<>\"\"), PL$17:PL199), PL200))","v":0},null,null,null,18,18,"",null,null,{"$f":"IF(PU201=\"\", 0, PU201 - IF(PU200=\"\", LOOKUP(2, 1/(PU$17:PU199<>\"\"), PU$17:PU199), PU200))","v":0},null,null,null,18,18,"",null,null,{"$f":"IF(QD201=\"\", 0, QD201 - IF(QD200=\"\", LOOKUP(2, 1/(QD$17:QD199<>\"\"), QD$17:QD199), QD200))","v":0}]
[null,null,17,17,"",null,null,{"$f":"IF(G202=\"\", 0, G202 - IF(G201=\"\", LOOKUP(2, 1/(G$17:G200<>\"\"), G$17:G200), G201))","v":0},null,null,null,17,17,"",null,null,{"$f":"IF(P202=\"\", 0, P202 - IF(P201=\"\", LOOKUP(2, 1/(P$17:P200<>\"\"), P$17:P200), P201))","v":0},null,null,null,17,17,"",null,null,{"$f":"IF(Y202=\"\", 0, Y202 - IF(Y201=\"\", LOOKUP(2, 1/(Y$17:Y200<>\"\"), Y$17:Y200), Y201))","v":0},null,null,null,17,17,"",null,null,{"$f":"IF(AH202=\"\", 0, AH202 - IF(AH201=\"\", LOOKUP(2, 1/(AH$17:AH200<>\"\"), AH$17:AH200), AH201))","v":0},null,null,null,17,17,"",null,null,{"$f":"IF(AQ202=\"\", 0, AQ202 - IF(AQ201=\"\", LOOKUP(2, 1/(AQ$17:AQ200<>\"\"), AQ$17:AQ200), AQ201))","v":0},null,null,null,17,17,"",null,null,{"$f":"IF(AZ202=\"\", 0, AZ202 - IF(AZ201=\"\", LOOKUP(2, 1/(AZ$17:AZ200<>\"\"), AZ$17:AZ200), AZ201))","v":0},null,null,null,17,17,"",null,null,{"$f":"IF(BI202=\"\", 0, BI202 - IF(BI201=\"\", LOOKUP(2, 1/(BI$17:BI200<>\"\"), BI$17:BI200), BI201))","v":0},null,null,null,17,17,"",null,null,{"$f":"IF(BR202=\"\", 0, BR202 - IF(BR201=\"\", LOOKUP(2, 1/(BR$17:BR200<>\"\"), BR$17:BR200), BR201))","v":0},null,null,null,17,17,"",null,null,{"$f":"IF(CA202=\"\", 0, CA202 - IF(CA201=\"\", LOOKUP(2, 1/(CA$17:CA200<>\"\"), CA$17:CA200), CA201))","v":0},null,null,null,17,17,"",null,null,{"$f":"IF(CJ202=\"\", 0, CJ202 - IF(CJ201=\"\", LOOKUP(2, 1/(CJ$17:CJ200<>\"\"), CJ$17:CJ200), CJ201))","v":0},null,null,null,17,17,"",null,null,{"$f":"IF(CS202=\"\", 0, CS202 - IF(CS201=\"\", LOOKUP(2, 1/(CS$17:CS200<>\"\"), CS$17:CS200), CS201))","v":0},null,null,null,17,17,"",null,null,{"$f":"IF(DB202=\"\", 0, DB202 - IF(DB201=\"\", LOOKUP(2, 1/(DB$17:DB200<>\"\"), DB$17:DB200), DB201))","v":0},null,null,null,17,17,"",null,null,{"$f":"IF(DK202=\"\", 0, DK202 - IF(DK201=\"\", LOOKUP(2, 1/(DK$17:DK200<>\"\"), DK$17:DK200), DK201))","v":0},null,null,null,17,17,"",null,null,{"$f":"IF(DT202=\"\", 0, DT202 - IF(DT201=\"\", LOOKUP(2, 1/(DT$17:DT200<>\"\"), DT$17:DT200), DT201))","v":0},null,null,null,17,17,"",null,null,{"$f":"IF(EC202=\"\", 0, EC202 - IF(EC201=\"\", LOOKUP(2, 1/(EC$17:EC200<>\"\"), EC$17:EC200), EC201))","v":0},null,null,null,17,17,"",null,null,{"$f":"IF(EL202=\"\", 0, EL202 - IF(EL201=\"\", LOOKUP(2, 1/(EL$17:EL200<>\"\"), EL$17:EL200), EL201))","v":0},null,null,null,17,17,"",null,null,{"$f":"IF(EU202=\"\", 0, EU202 - IF(EU201=\"\", LOOKUP(2, 1/(EU$17:EU200<>\"\"), EU$17:EU200), EU201))","v":0},null,null,null,17,17,"",null,null,{"$f":"IF(FD202=\"\", 0, FD202 - IF(FD201=\"\", LOOKUP(2, 1/(FD$17:FD200<>\"\"), FD$17:FD200), FD201))","v":0},null,null,null,17,17,"",null,null,{"$f":"IF(FM202=\"\", 0, FM202 - IF(FM201=\"\", LOOKUP(2, 1/(FM$17:FM200<>\"\"), FM$17:FM200), FM201))","v":0},null,null,null,17,17,"",null,null,{"$f":"IF(FV202=\"\", 0, FV202 - IF(FV201=\"\", LOOKUP(2, 1/(FV$17:FV200<>\"\"), FV$17:FV200), FV201))","v":0},null,null,null,17,17,"",null,null,null,null,null,null,17,17,"",null,null,null,null,null,null,17,17,"",null,null,null,null,null,null,17,17,"",null,null,null,null,null,null,17,17,"",null,null,null,null,null,null,17,17,"",null,null,null,null,null,null,17,17,"",null,null,null,null,null,null,17,17,"",null,null,{"$f":"IF(IP202=\"\", 0, IP202 - IF(IP201=\"\", LOOKUP(2, 1/(IP$17:IP200<>\"\"), IP$17:IP200), IP201))","v":0},null,null,null,17,17,"",null,null,{"$f":"IF(IY202=\"\", 0, IY202 - IF(IY201=\"\", LOOKUP(2, 1/(IY$17:IY200<>\"\"), IY$17:IY200), IY201))","v":0},null,null,null,17,17,"",null,null,{"$f":"IF(JH202=\"\", 0, JH202 - IF(JH201=\"\", LOOKUP(2, 1/(JH$17:JH200<>\"\"), JH$17:JH200), JH201))","v":0},null,null,null,17,17,"",null,null,{"$f":"IF(JQ202=\"\", 0, JQ202 - IF(JQ201=\"\", LOOKUP(2, 1/(JQ$17:JQ200<>\"\"), JQ$17:JQ200), JQ201))","v":0},null,null,null,17,17,"",null,null,{"$f":"IF(JZ202=\"\", 0, JZ202 - IF(JZ201=\"\", LOOKUP(2, 1/(JZ$17:JZ200<>\"\"), JZ$17:JZ200), JZ201))","v":0},null,null,null,17,17,"",null,null,{"$f":"IF(KI202=\"\", 0, KI202 - IF(KI201=\"\", LOOKUP(2, 1/(KI$17:KI200<>\"\"), KI$17:KI200), KI201))","v":0},null,null,null,17,17,"",null,null,{"$f":"IF(KR202=\"\", 0, KR202 - IF(KR201=\"\", LOOKUP(2, 1/(KR$17:KR200<>\"\"), KR$17:KR200), KR201))","v":0},null,null,null,17,17,"",null,null,{"$f":"IF(LA202=\"\", 0, LA202 - IF(LA201=\"\", LOOKUP(2, 1/(LA$17:LA200<>\"\"), LA$17:LA200), LA201))","v":0},null,null,null,17,17,"",null,null,{"$f":"IF(LJ202=\"\", 0, LJ202 - IF(LJ201=\"\", LOOKUP(2, 1/(LJ$17:LJ200<>\"\"), LJ$17:LJ200), LJ201))","v":0},null,null,null,17,17,"",null,null,{"$f":"IF(LS202=\"\", 0, LS202 - IF(LS201=\"\", LOOKUP(2, 1/(LS$17:LS200<>\"\"), LS$17:LS200), LS201))","v":0},null,null,null,17,17,"",null,null,{"$f":"IF(MB202=\"\", 0, MB202 - IF(MB201=\"\", LOOKUP(2, 1/(MB$17:MB200<>\"\"), MB$17:MB200), MB201))","v":0},null,null,null,17,17,"",null,null,{"$f":"IF(MK202=\"\", 0, MK202 - IF(MK201=\"\", LOOKUP(2, 1/(MK$17:MK200<>\"\"), MK$17:MK200), MK201))","v":0},null,null,null,17,17,"",null,null,{"$f":"IF(MT202=\"\", 0, MT202 - IF(MT201=\"\", LOOKUP(2, 1/(MT$17:MT200<>\"\"), MT$17:MT200), MT201))","v":0},null,null,17,"",null,null,{"$f":"IF(NA202=\"\", 0, NA202 - IF(NA201=\"\", LOOKUP(2, 1/(NA$17:NA200<>\"\"), NA$17:NA200), NA201))","v":0},null,null,null,17,17,"",null,null,{"$f":"IF(NJ202=\"\", 0, NJ202 - IF(NJ201=\"\", LOOKUP(2, 1/(NJ$17:NJ200<>\"\"), NJ$17:NJ200), NJ201))","v":0},null,null,null,17,17,"",null,null,{"$f":"IF(NS202=\"\", 0, NS202 - IF(NS201=\"\", LOOKUP(2, 1/(NS$17:NS200<>\"\"), NS$17:NS200), NS201))","v":0},null,null,null,17,17,"",null,null,{"$f":"IF(OB202=\"\", 0, OB202 - IF(OB201=\"\", LOOKUP(2, 1/(OB$17:OB200<>\"\"), OB$17:OB200), OB201))","v":0},null,null,null,17,17,"",null,null,{"$f":"IF(OK202=\"\", 0, OK202 - IF(OK201=\"\", LOOKUP(2, 1/(OK$17:OK200<>\"\"), OK$17:OK200), OK201))","v":0},null,null,null,17,17,"",null,null,{"$f":"IF(OT202=\"\", 0, OT202 - IF(OT201=\"\", LOOKUP(2, 1/(OT$17:OT200<>\"\"), OT$17:OT200), OT201))","v":0},null,null,null,17,17,"",null,null,{"$f":"IF(PC202=\"\", 0, PC202 - IF(PC201=\"\", LOOKUP(2, 1/(PC$17:PC200<>\"\"), PC$17:PC200), PC201))","v":0},null,null,null,17,17,"",null,null,{"$f":"IF(PL202=\"\", 0, PL202 - IF(PL201=\"\", LOOKUP(2, 1/(PL$17:PL200<>\"\"), PL$17:PL200), PL201))","v":0},null,null,null,17,17,"",null,null,{"$f":"IF(PU202=\"\", 0, PU202 - IF(PU201=\"\", LOOKUP(2, 1/(PU$17:PU200<>\"\"), PU$17:PU200), PU201))","v":0},null,null,null,17,17,"",null,null,{"$f":"IF(QD202=\"\", 0, QD202 - IF(QD201=\"\", LOOKUP(2, 1/(QD$17:QD200<>\"\"), QD$17:QD200), QD201))","v":0}]
[null,null,16,16,"",null,null,{"$f":"IF(G203=\"\", 0, G203 - IF(G202=\"\", LOOKUP(2, 1/(G$17:G201<>\"\"), G$17:G201), G202))","v":0},null,null,null,16,16,"",null,null,{"$f":"IF(P203=\"\", 0, P203 - IF(P202=\"\", LOOKUP(2, 1/(P$17:P201<>\"\"), P$17:P201), P202))","v":0},null,null,null,16,16,"",null,null,{"$f":"IF(Y203=\"\", 0, Y203 - IF(Y202=\"\", LOOKUP(2, 1/(Y$17:Y201<>\"\"), Y$17:Y201), Y202))","v":0},null,null,null,16,16,"",null,null,{"$f":"IF(AH203=\"\", 0, AH203 - IF(AH202=\"\", LOOKUP(2, 1/(AH$17:AH201<>\"\"), AH$17:AH201), AH202))","v":0},null,null,null,16,16,"",null,null,{"$f":"IF(AQ203=\"\", 0, AQ203 - IF(AQ202=\"\", LOOKUP(2, 1/(AQ$17:AQ201<>\"\"), AQ$17:AQ201), AQ202))","v":0},null,null,null,16,16,"",null,null,{"$f":"IF(AZ203=\"\", 0, AZ203 - IF(AZ202=\"\", LOOKUP(2, 1/(AZ$17:AZ201<>\"\"), AZ$17:AZ201), AZ202))","v":0},null,null,null,16,16,"",null,null,{"$f":"IF(BI203=\"\", 0, BI203 - IF(BI202=\"\", LOOKUP(2, 1/(BI$17:BI201<>\"\"), BI$17:BI201), BI202))","v":0},null,null,null,16,16,"",null,null,{"$f":"IF(BR203=\"\", 0, BR203 - IF(BR202=\"\", LOOKUP(2, 1/(BR$17:BR201<>\"\"), BR$17:BR201), BR202))","v":0},null,null,null,16,16,"",null,null,{"$f":"IF(CA203=\"\", 0, CA203 - IF(CA202=\"\", LOOKUP(2, 1/(CA$17:CA201<>\"\"), CA$17:CA201), CA202))","v":0},null,null,null,16,16,"",null,null,{"$f":"IF(CJ203=\"\", 0, CJ203 - IF(CJ202=\"\", LOOKUP(2, 1/(CJ$17:CJ201<>\"\"), CJ$17:CJ201), CJ202))","v":0},null,null,null,16,16,"",null,null,{"$f":"IF(CS203=\"\", 0, CS203 - IF(CS202=\"\", LOOKUP(2, 1/(CS$17:CS201<>\"\"), CS$17:CS201), CS202))","v":0},null,null,null,16,16,"",null,null,{"$f":"IF(DB203=\"\", 0, DB203 - IF(DB202=\"\", LOOKUP(2, 1/(DB$17:DB201<>\"\"), DB$17:DB201), DB202))","v":0},null,null,null,16,16,"",null,null,{"$f":"IF(DK203=\"\", 0, DK203 - IF(DK202=\"\", LOOKUP(2, 1/(DK$17:DK201<>\"\"), DK$17:DK201), DK202))","v":0},null,null,null,16,16,"",null,null,{"$f":"IF(DT203=\"\", 0, DT203 - IF(DT202=\"\", LOOKUP(2, 1/(DT$17:DT201<>\"\"), DT$17:DT201), DT202))","v":0},null,null,null,16,16,"",null,null,{"$f":"IF(EC203=\"\", 0, EC203 - IF(EC202=\"\", LOOKUP(2, 1/(EC$17:EC201<>\"\"), EC$17:EC201), EC202))","v":0},null,null,null,16,16,"",null,null,{"$f":"IF(EL203=\"\", 0, EL203 - IF(EL202=\"\", LOOKUP(2, 1/(EL$17:EL201<>\"\"), EL$17:EL201), EL202))","v":0},null,null,null,16,16,"",null,null,{"$f":"IF(EU203=\"\", 0, EU203 - IF(EU202=\"\", LOOKUP(2, 1/(EU$17:EU201<>\"\"), EU$17:EU201), EU202))","v":0},null,null,null,16,16,"",null,null,{"$f":"IF(FD203=\"\", 0, FD203 - IF(FD202=\"\", LOOKUP(2, 1/(FD$17:FD201<>\"\"), FD$17:FD201), FD202))","v":0},null,null,null,16,16,"",null,null,{"$f":"IF(FM203=\"\", 0, FM203 - IF(FM202=\"\", LOOKUP(2, 1/(FM$17:FM201<>\"\"), FM$17:FM201), FM202))","v":0},null,null,null,16,16,"",null,null,{"$f":"IF(FV203=\"\", 0, FV203 - IF(FV202=\"\", LOOKUP(2, 1/(FV$17:FV201<>\"\"), FV$17:FV201), FV202))","v":0},null,null,null,16,16,"",null,null,null,null,null,null,16,16,"",null,null,null,null,null,null,16,16,"",null,null,null,null,null,null,16,16,"",null,null,null,null,null,null,16,16,"",null,null,null,null,null,null,16,16,"",null,null,null,null,null,null,16,16,"",null,null,null,null,null,null,16,16,"",null,null,{"$f":"IF(IP203=\"\", 0, IP203 - IF(IP202=\"\", LOOKUP(2, 1/(IP$17:IP201<>\"\"), IP$17:IP201), IP202))","v":0},null,null,null,16,16,"",null,null,{"$f":"IF(IY203=\"\", 0, IY203 - IF(IY202=\"\", LOOKUP(2, 1/(IY$17:IY201<>\"\"), IY$17:IY201), IY202))","v":0},null,null,null,16,16,"",null,null,{"$f":"IF(JH203=\"\", 0, JH203 - IF(JH202=\"\", LOOKUP(2, 1/(JH$17:JH201<>\"\"), JH$17:JH201), JH202))","v":0},null,null,null,16,16,"",null,null,{"$f":"IF(JQ203=\"\", 0, JQ203 - IF(JQ202=\"\", LOOKUP(2, 1/(JQ$17:JQ201<>\"\"), JQ$17:JQ201), JQ202))","v":0},null,null,null,16,16,"",null,null,{"$f":"IF(JZ203=\"\", 0, JZ203 - IF(JZ202=\"\", LOOKUP(2, 1/(JZ$17:JZ201<>\"\"), JZ$17:JZ201), JZ202))","v":0},null,null,null,16,16,"",null,null,{"$f":"IF(KI203=\"\", 0, KI203 - IF(KI202=\"\", LOOKUP(2, 1/(KI$17:KI201<>\"\"), KI$17:KI201), KI202))","v":0},null,null,null,16,16,"",null,null,{"$f":"IF(KR203=\"\", 0, KR203 - IF(KR202=\"\", LOOKUP(2, 1/(KR$17:KR201<>\"\"), KR$17:KR201), KR202))","v":0},null,null,null,16,16,"",null,null,{"$f":"IF(LA203=\"\", 0, LA203 - IF(LA202=\"\", LOOKUP(2, 1/(LA$17:LA201<>\"\"), LA$17:LA201), LA202))","v":0},null,null,null,16,16,"",null,null,{"$f":"IF(LJ203=\"\", 0, LJ203 - IF(LJ202=\"\", LOOKUP(2, 1/(LJ$17:LJ201<>\"\"), LJ$17:LJ201), LJ202))","v":0},null,null,null,16,16,"",null,null,{"$f":"IF(LS203=\"\", 0, LS203 - IF(LS202=\"\", LOOKUP(2, 1/(LS$17:LS201<>\"\"), LS$17:LS201), LS202))","v":0},null,null,null,16,16,"",null,null,{"$f":"IF(MB203=\"\", 0, MB203 - IF(MB202=\"\", LOOKUP(2, 1/(MB$17:MB201<>\"\"), MB$17:MB201), MB202))","v":0},null,null,null,16,16,"",null,null,{"$f":"IF(MK203=\"\", 0, MK203 - IF(MK202=\"\", LOOKUP(2, 1/(MK$17:MK201<>\"\"), MK$17:MK201), MK202))","v":0},null,null,null,16,16,"",null,null,{"$f":"IF(MT203=\"\", 0, MT203 - IF(MT202=\"\", LOOKUP(2, 1/(MT$17:MT201<>\"\"), MT$17:MT201), MT202))","v":0},null,null,16,"",null,null,{"$f":"IF(NA203=\"\", 0, NA203 - IF(NA202=\"\", LOOKUP(2, 1/(NA$17:NA201<>\"\"), NA$17:NA201), NA202))","v":0},null,null,null,16,16,"",null,null,{"$f":"IF(NJ203=\"\", 0, NJ203 - IF(NJ202=\"\", LOOKUP(2, 1/(NJ$17:NJ201<>\"\"), NJ$17:NJ201), NJ202))","v":0},null,null,null,16,16,"",null,null,{"$f":"IF(NS203=\"\", 0, NS203 - IF(NS202=\"\", LOOKUP(2, 1/(NS$17:NS201<>\"\"), NS$17:NS201), NS202))","v":0},null,null,null,16,16,"",null,null,{"$f":"IF(OB203=\"\", 0, OB203 - IF(OB202=\"\", LOOKUP(2, 1/(OB$17:OB201<>\"\"), OB$17:OB201), OB202))","v":0},null,null,null,16,16,"",null,null,{"$f":"IF(OK203=\"\", 0, OK203 - IF(OK202=\"\", LOOKUP(2, 1/(OK$17:OK201<>\"\"), OK$17:OK201), OK202))","v":0},null,null,null,16,16,"",null,null,{"$f":"IF(OT203=\"\", 0, OT203 - IF(OT202=\"\", LOOKUP(2, 1/(OT$17:OT201<>\"\"), OT$17:OT201), OT202))","v":0},null,null,null,16,16,"",null,null,{"$f":"IF(PC203=\"\", 0, PC203 - IF(PC202=\"\", LOOKUP(2, 1/(PC$17:PC201<>\"\"), PC$17:PC201), PC202))","v":0},null,null,null,16,16,"",null,null,{"$f":"IF(PL203=\"\", 0, PL203 - IF(PL202=\"\", LOOKUP(2, 1/(PL$17:PL201<>\"\"), PL$17:PL201), PL202))","v":0},null,null,null,16,16,"",null,null,{"$f":"IF(PU203=\"\", 0, PU203 - IF(PU202=\"\", LOOKUP(2, 1/(PU$17:PU201<>\"\"), PU$17:PU201), PU202))","v":0},null,null,null,16,16,"",null,null,{"$f":"IF(QD203=\"\", 0, QD203 - IF(QD202=\"\", LOOKUP(2, 1/(QD$17:QD201<>\"\"), QD$17:QD201), QD202))","v":0}]
[null,null,15,15,"",null,null,{"$f":"IF(G204=\"\", 0, G204 - IF(G203=\"\", LOOKUP(2, 1/(G$17:G202<>\"\"), G$17:G202), G203))","v":0},null,null,null,15,15,"",null,null,{"$f":"IF(P204=\"\", 0, P204 - IF(P203=\"\", LOOKUP(2, 1/(P$17:P202<>\"\"), P$17:P202), P203))","v":0},null,null,null,15,15,"",null,null,{"$f":"IF(Y204=\"\", 0, Y204 - IF(Y203=\"\", LOOKUP(2, 1/(Y$17:Y202<>\"\"), Y$17:Y202), Y203))","v":0},null,null,null,15,15,"",null,null,{"$f":"IF(AH204=\"\", 0, AH204 - IF(AH203=\"\", LOOKUP(2, 1/(AH$17:AH202<>\"\"), AH$17:AH202), AH203))","v":0},null,null,null,15,15,"",null,null,{"$f":"IF(AQ204=\"\", 0, AQ204 - IF(AQ203=\"\", LOOKUP(2, 1/(AQ$17:AQ202<>\"\"), AQ$17:AQ202), AQ203))","v":0},null,null,null,15,15,"",null,null,{"$f":"IF(AZ204=\"\", 0, AZ204 - IF(AZ203=\"\", LOOKUP(2, 1/(AZ$17:AZ202<>\"\"), AZ$17:AZ202), AZ203))","v":0},null,null,null,15,15,"",null,null,{"$f":"IF(BI204=\"\", 0, BI204 - IF(BI203=\"\", LOOKUP(2, 1/(BI$17:BI202<>\"\"), BI$17:BI202), BI203))","v":0},null,null,null,15,15,"",null,null,{"$f":"IF(BR204=\"\", 0, BR204 - IF(BR203=\"\", LOOKUP(2, 1/(BR$17:BR202<>\"\"), BR$17:BR202), BR203))","v":0},null,null,null,15,15,"",null,null,{"$f":"IF(CA204=\"\", 0, CA204 - IF(CA203=\"\", LOOKUP(2, 1/(CA$17:CA202<>\"\"), CA$17:CA202), CA203))","v":0},null,null,null,15,15,"",null,null,{"$f":"IF(CJ204=\"\", 0, CJ204 - IF(CJ203=\"\", LOOKUP(2, 1/(CJ$17:CJ202<>\"\"), CJ$17:CJ202), CJ203))","v":0},null,null,null,15,15,"",null,null,{"$f":"IF(CS204=\"\", 0, CS204 - IF(CS203=\"\", LOOKUP(2, 1/(CS$17:CS202<>\"\"), CS$17:CS202), CS203))","v":0},null,null,null,15,15,"",null,null,{"$f":"IF(DB204=\"\", 0, DB204 - IF(DB203=\"\", LOOKUP(2, 1/(DB$17:DB202<>\"\"), DB$17:DB202), DB203))","v":0},null,null,null,15,15,"",null,null,{"$f":"IF(DK204=\"\", 0, DK204 - IF(DK203=\"\", LOOKUP(2, 1/(DK$17:DK202<>\"\"), DK$17:DK202), DK203))","v":0},null,null,null,15,15,"",null,null,{"$f":"IF(DT204=\"\", 0, DT204 - IF(DT203=\"\", LOOKUP(2, 1/(DT$17:DT202<>\"\"), DT$17:DT202), DT203))","v":0},null,null,null,15,15,"",null,null,{"$f":"IF(EC204=\"\", 0, EC204 - IF(EC203=\"\", LOOKUP(2, 1/(EC$17:EC202<>\"\"), EC$17:EC202), EC203))","v":0},null,null,null,15,15,"",null,null,{"$f":"IF(EL204=\"\", 0, EL204 - IF(EL203=\"\", LOOKUP(2, 1/(EL$17:EL202<>\"\"), EL$17:EL202), EL203))","v":0},null,null,null,15,15,"",null,null,{"$f":"IF(EU204=\"\", 0, EU204 - IF(EU203=\"\", LOOKUP(2, 1/(EU$17:EU202<>\"\"), EU$17:EU202), EU203))","v":0},null,null,null,15,15,"",null,null,{"$f":"IF(FD204=\"\", 0, FD204 - IF(FD203=\"\", LOOKUP(2, 1/(FD$17:FD202<>\"\"), FD$17:FD202), FD203))","v":0},null,null,null,15,15,"",null,null,{"$f":"IF(FM204=\"\", 0, FM204 - IF(FM203=\"\", LOOKUP(2, 1/(FM$17:FM202<>\"\"), FM$17:FM202), FM203))","v":0},null,null,null,15,15,"",null,null,{"$f":"IF(FV204=\"\", 0, FV204 - IF(FV203=\"\", LOOKUP(2, 1/(FV$17:FV202<>\"\"), FV$17:FV202), FV203))","v":0},null,null,null,15,15,"",null,null,null,null,null,null,15,15,"",null,null,null,null,null,null,15,15,"",null,null,null,null,null,null,15,15,"",null,null,null,null,null,null,15,15,"",null,null,null,null,null,null,15,15,"",null,null,null,null,null,null,15,15,"",null,null,null,null,null,null,15,15,"",null,null,{"$f":"IF(IP204=\"\", 0, IP204 - IF(IP203=\"\", LOOKUP(2, 1/(IP$17:IP202<>\"\"), IP$17:IP202), IP203))","v":0},null,null,null,15,15,"",null,null,{"$f":"IF(IY204=\"\", 0, IY204 - IF(IY203=\"\", LOOKUP(2, 1/(IY$17:IY202<>\"\"), IY$17:IY202), IY203))","v":0},null,null,null,15,15,"",null,null,{"$f":"IF(JH204=\"\", 0, JH204 - IF(JH203=\"\", LOOKUP(2, 1/(JH$17:JH202<>\"\"), JH$17:JH202), JH203))","v":0},null,null,null,15,15,"",null,null,{"$f":"IF(JQ204=\"\", 0, JQ204 - IF(JQ203=\"\", LOOKUP(2, 1/(JQ$17:JQ202<>\"\"), JQ$17:JQ202), JQ203))","v":0},null,null,null,15,15,"",null,null,{"$f":"IF(JZ204=\"\", 0, JZ204 - IF(JZ203=\"\", LOOKUP(2, 1/(JZ$17:JZ202<>\"\"), JZ$17:JZ202), JZ203))","v":0},null,null,null,15,15,"",null,null,{"$f":"IF(KI204=\"\", 0, KI204 - IF(KI203=\"\", LOOKUP(2, 1/(KI$17:KI202<>\"\"), KI$17:KI202), KI203))","v":0},null,null,null,15,15,"",null,null,{"$f":"IF(KR204=\"\", 0, KR204 - IF(KR203=\"\", LOOKUP(2, 1/(KR$17:KR202<>\"\"), KR$17:KR202), KR203))","v":0},null,null,null,15,15,"",null,null,{"$f":"IF(LA204=\"\", 0, LA204 - IF(LA203=\"\", LOOKUP(2, 1/(LA$17:LA202<>\"\"), LA$17:LA202), LA203))","v":0},null,null,null,15,15,"",null,null,{"$f":"IF(LJ204=\"\", 0, LJ204 - IF(LJ203=\"\", LOOKUP(2, 1/(LJ$17:LJ202<>\"\"), LJ$17:LJ202), LJ203))","v":0},null,null,null,15,15,"",null,null,{"$f":"IF(LS204=\"\", 0, LS204 - IF(LS203=\"\", LOOKUP(2, 1/(LS$17:LS202<>\"\"), LS$17:LS202), LS203))","v":0},null,null,null,15,15,"",null,null,{"$f":"IF(MB204=\"\", 0, MB204 - IF(MB203=\"\", LOOKUP(2, 1/(MB$17:MB202<>\"\"), MB$17:MB202), MB203))","v":0},null,null,null,15,15,"",null,null,{"$f":"IF(MK204=\"\", 0, MK204 - IF(MK203=\"\", LOOKUP(2, 1/(MK$17:MK202<>\"\"), MK$17:MK202), MK203))","v":0},null,null,null,15,15,"",null,null,{"$f":"IF(MT204=\"\", 0, MT204 - IF(MT203=\"\", LOOKUP(2, 1/(MT$17:MT202<>\"\"), MT$17:MT202), MT203))","v":0},null,null,15,"",null,null,{"$f":"IF(NA204=\"\", 0, NA204 - IF(NA203=\"\", LOOKUP(2, 1/(NA$17:NA202<>\"\"), NA$17:NA202), NA203))","v":0},null,null,null,15,15,"",null,null,{"$f":"IF(NJ204=\"\", 0, NJ204 - IF(NJ203=\"\", LOOKUP(2, 1/(NJ$17:NJ202<>\"\"), NJ$17:NJ202), NJ203))","v":0},null,null,null,15,15,"",null,null,{"$f":"IF(NS204=\"\", 0, NS204 - IF(NS203=\"\", LOOKUP(2, 1/(NS$17:NS202<>\"\"), NS$17:NS202), NS203))","v":0},null,null,null,15,15,"",null,null,{"$f":"IF(OB204=\"\", 0, OB204 - IF(OB203=\"\", LOOKUP(2, 1/(OB$17:OB202<>\"\"), OB$17:OB202), OB203))","v":0},null,null,null,15,15,"",null,null,{"$f":"IF(OK204=\"\", 0, OK204 - IF(OK203=\"\", LOOKUP(2, 1/(OK$17:OK202<>\"\"), OK$17:OK202), OK203))","v":0},null,null,null,15,15,"",null,null,{"$f":"IF(OT204=\"\", 0, OT204 - IF(OT203=\"\", LOOKUP(2, 1/(OT$17:OT202<>\"\"), OT$17:OT202), OT203))","v":0},null,null,null,15,15,"",null,null,{"$f":"IF(PC204=\"\", 0, PC204 - IF(PC203=\"\", LOOKUP(2, 1/(PC$17:PC202<>\"\"), PC$17:PC202), PC203))","v":0},null,null,null,15,15,"",null,null,{"$f":"IF(PL204=\"\", 0, PL204 - IF(PL203=\"\", LOOKUP(2, 1/(PL$17:PL202<>\"\"), PL$17:PL202), PL203))","v":0},null,null,null,15,15,"",null,null,{"$f":"IF(PU204=\"\", 0, PU204 - IF(PU203=\"\", LOOKUP(2, 1/(PU$17:PU202<>\"\"), PU$17:PU202), PU203))","v":0},null,null,null,15,15,"",null,null,{"$f":"IF(QD204=\"\", 0, QD204 - IF(QD203=\"\", LOOKUP(2, 1/(QD$17:QD202<>\"\"), QD$17:QD202), QD203))","v":0}]
[null,null,14,14,"",null,null,{"$f":"IF(G205=\"\", 0, G205 - IF(G204=\"\", LOOKUP(2, 1/(G$17:G203<>\"\"), G$17:G203), G204))","v":0},null,null,null,14,14,"",null,null,{"$f":"IF(P205=\"\", 0, P205 - IF(P204=\"\", LOOKUP(2, 1/(P$17:P203<>\"\"), P$17:P203), P204))","v":0},null,null,null,14,14,"",null,null,{"$f":"IF(Y205=\"\", 0, Y205 - IF(Y204=\"\", LOOKUP(2, 1/(Y$17:Y203<>\"\"), Y$17:Y203), Y204))","v":0},null,null,null,14,14,"",null,null,{"$f":"IF(AH205=\"\", 0, AH205 - IF(AH204=\"\", LOOKUP(2, 1/(AH$17:AH203<>\"\"), AH$17:AH203), AH204))","v":0},null,null,null,14,14,"",null,null,{"$f":"IF(AQ205=\"\", 0, AQ205 - IF(AQ204=\"\", LOOKUP(2, 1/(AQ$17:AQ203<>\"\"), AQ$17:AQ203), AQ204))","v":0},null,null,null,14,14,"",null,null,{"$f":"IF(AZ205=\"\", 0, AZ205 - IF(AZ204=\"\", LOOKUP(2, 1/(AZ$17:AZ203<>\"\"), AZ$17:AZ203), AZ204))","v":0},null,null,null,14,14,"",null,null,{"$f":"IF(BI205=\"\", 0, BI205 - IF(BI204=\"\", LOOKUP(2, 1/(BI$17:BI203<>\"\"), BI$17:BI203), BI204))","v":0},null,null,null,14,14,"",null,null,{"$f":"IF(BR205=\"\", 0, BR205 - IF(BR204=\"\", LOOKUP(2, 1/(BR$17:BR203<>\"\"), BR$17:BR203), BR204))","v":0},null,null,null,14,14,"",null,null,{"$f":"IF(CA205=\"\", 0, CA205 - IF(CA204=\"\", LOOKUP(2, 1/(CA$17:CA203<>\"\"), CA$17:CA203), CA204))","v":0},null,null,null,14,14,"",null,null,{"$f":"IF(CJ205=\"\", 0, CJ205 - IF(CJ204=\"\", LOOKUP(2, 1/(CJ$17:CJ203<>\"\"), CJ$17:CJ203), CJ204))","v":0},null,null,null,14,14,"",null,null,{"$f":"IF(CS205=\"\", 0, CS205 - IF(CS204=\"\", LOOKUP(2, 1/(CS$17:CS203<>\"\"), CS$17:CS203), CS204))","v":0},null,null,null,14,14,"",null,null,{"$f":"IF(DB205=\"\", 0, DB205 - IF(DB204=\"\", LOOKUP(2, 1/(DB$17:DB203<>\"\"), DB$17:DB203), DB204))","v":0},null,null,null,14,14,"",null,null,{"$f":"IF(DK205=\"\", 0, DK205 - IF(DK204=\"\", LOOKUP(2, 1/(DK$17:DK203<>\"\"), DK$17:DK203), DK204))","v":0},null,null,null,14,14,"",null,null,{"$f":"IF(DT205=\"\", 0, DT205 - IF(DT204=\"\", LOOKUP(2, 1/(DT$17:DT203<>\"\"), DT$17:DT203), DT204))","v":0},null,null,null,14,14,"",null,null,{"$f":"IF(EC205=\"\", 0, EC205 - IF(EC204=\"\", LOOKUP(2, 1/(EC$17:EC203<>\"\"), EC$17:EC203), EC204))","v":0},null,null,null,14,14,"",null,null,{"$f":"IF(EL205=\"\", 0, EL205 - IF(EL204=\"\", LOOKUP(2, 1/(EL$17:EL203<>\"\"), EL$17:EL203), EL204))","v":0},null,null,null,14,14,"",null,null,{"$f":"IF(EU205=\"\", 0, EU205 - IF(EU204=\"\", LOOKUP(2, 1/(EU$17:EU203<>\"\"), EU$17:EU203), EU204))","v":0},null,null,null,14,14,"",null,null,{"$f":"IF(FD205=\"\", 0, FD205 - IF(FD204=\"\", LOOKUP(2, 1/(FD$17:FD203<>\"\"), FD$17:FD203), FD204))","v":0},null,null,null,14,14,"",null,null,{"$f":"IF(FM205=\"\", 0, FM205 - IF(FM204=\"\", LOOKUP(2, 1/(FM$17:FM203<>\"\"), FM$17:FM203), FM204))","v":0},null,null,null,14,14,"",null,null,{"$f":"IF(FV205=\"\", 0, FV205 - IF(FV204=\"\", LOOKUP(2, 1/(FV$17:FV203<>\"\"), FV$17:FV203), FV204))","v":0},null,null,null,14,14,"",null,null,null,null,null,null,14,14,"",null,null,null,null,null,null,14,14,"",null,null,null,null,null,null,14,14,"",null,null,null,null,null,null,14,14,"",null,null,null,null,null,null,14,14,"",null,null,null,null,null,null,14,14,"",null,null,null,null,null,null,14,14,"",null,null,{"$f":"IF(IP205=\"\", 0, IP205 - IF(IP204=\"\", LOOKUP(2, 1/(IP$17:IP203<>\"\"), IP$17:IP203), IP204))","v":0},null,null,null,14,14,"",null,null,{"$f":"IF(IY205=\"\", 0, IY205 - IF(IY204=\"\", LOOKUP(2, 1/(IY$17:IY203<>\"\"), IY$17:IY203), IY204))","v":0},null,null,null,14,14,"",null,null,{"$f":"IF(JH205=\"\", 0, JH205 - IF(JH204=\"\", LOOKUP(2, 1/(JH$17:JH203<>\"\"), JH$17:JH203), JH204))","v":0},null,null,null,14,14,"",null,null,{"$f":"IF(JQ205=\"\", 0, JQ205 - IF(JQ204=\"\", LOOKUP(2, 1/(JQ$17:JQ203<>\"\"), JQ$17:JQ203), JQ204))","v":0},null,null,null,14,14,"",null,null,{"$f":"IF(JZ205=\"\", 0, JZ205 - IF(JZ204=\"\", LOOKUP(2, 1/(JZ$17:JZ203<>\"\"), JZ$17:JZ203), JZ204))","v":0},null,null,null,14,14,"",null,null,{"$f":"IF(KI205=\"\", 0, KI205 - IF(KI204=\"\", LOOKUP(2, 1/(KI$17:KI203<>\"\"), KI$17:KI203), KI204))","v":0},null,null,null,14,14,"",null,null,{"$f":"IF(KR205=\"\", 0, KR205 - IF(KR204=\"\", LOOKUP(2, 1/(KR$17:KR203<>\"\"), KR$17:KR203), KR204))","v":0},null,null,null,14,14,"",null,null,{"$f":"IF(LA205=\"\", 0, LA205 - IF(LA204=\"\", LOOKUP(2, 1/(LA$17:LA203<>\"\"), LA$17:LA203), LA204))","v":0},null,null,null,14,14,"",null,null,{"$f":"IF(LJ205=\"\", 0, LJ205 - IF(LJ204=\"\", LOOKUP(2, 1/(LJ$17:LJ203<>\"\"), LJ$17:LJ203), LJ204))","v":0},null,null,null,14,14,"",null,null,{"$f":"IF(LS205=\"\", 0, LS205 - IF(LS204=\"\", LOOKUP(2, 1/(LS$17:LS203<>\"\"), LS$17:LS203), LS204))","v":0},null,null,null,14,14,"",null,null,{"$f":"IF(MB205=\"\", 0, MB205 - IF(MB204=\"\", LOOKUP(2, 1/(MB$17:MB203<>\"\"), MB$17:MB203), MB204))","v":0},null,null,null,14,14,"",null,null,{"$f":"IF(MK205=\"\", 0, MK205 - IF(MK204=\"\", LOOKUP(2, 1/(MK$17:MK203<>\"\"), MK$17:MK203), MK204))","v":0},null,null,null,14,14,"",null,null,{"$f":"IF(MT205=\"\", 0, MT205 - IF(MT204=\"\", LOOKUP(2, 1/(MT$17:MT203<>\"\"), MT$17:MT203), MT204))","v":0},null,null,14,"",null,null,{"$f":"IF(NA205=\"\", 0, NA205 - IF(NA204=\"\", LOOKUP(2, 1/(NA$17:NA203<>\"\"), NA$17:NA203), NA204))","v":0},null,null,null,14,14,"",null,null,{"$f":"IF(NJ205=\"\", 0, NJ205 - IF(NJ204=\"\", LOOKUP(2, 1/(NJ$17:NJ203<>\"\"), NJ$17:NJ203), NJ204))","v":0},null,null,null,14,14,"",null,null,{"$f":"IF(NS205=\"\", 0, NS205 - IF(NS204=\"\", LOOKUP(2, 1/(NS$17:NS203<>\"\"), NS$17:NS203), NS204))","v":0},null,null,null,14,14,"",null,null,{"$f":"IF(OB205=\"\", 0, OB205 - IF(OB204=\"\", LOOKUP(2, 1/(OB$17:OB203<>\"\"), OB$17:OB203), OB204))","v":0},null,null,null,14,14,"",null,null,{"$f":"IF(OK205=\"\", 0, OK205 - IF(OK204=\"\", LOOKUP(2, 1/(OK$17:OK203<>\"\"), OK$17:OK203), OK204))","v":0},null,null,null,14,14,"",null,null,{"$f":"IF(OT205=\"\", 0, OT205 - IF(OT204=\"\", LOOKUP(2, 1/(OT$17:OT203<>\"\"), OT$17:OT203), OT204))","v":0},null,null,null,14,14,"",null,null,{"$f":"IF(PC205=\"\", 0, PC205 - IF(PC204=\"\", LOOKUP(2, 1/(PC$17:PC203<>\"\"), PC$17:PC203), PC204))","v":0},null,null,null,14,14,"",null,null,{"$f":"IF(PL205=\"\", 0, PL205 - IF(PL204=\"\", LOOKUP(2, 1/(PL$17:PL203<>\"\"), PL$17:PL203), PL204))","v":0},null,null,null,14,14,"",null,null,{"$f":"IF(PU205=\"\", 0, PU205 - IF(PU204=\"\", LOOKUP(2, 1/(PU$17:PU203<>\"\"), PU$17:PU203), PU204))","v":0},null,null,null,14,14,"",null,null,{"$f":"IF(QD205=\"\", 0, QD205 - IF(QD204=\"\", LOOKUP(2, 1/(QD$17:QD203<>\"\"), QD$17:QD203), QD204))","v":0}]
[null,null,13,13,"",null,null,{"$f":"IF(G206=\"\", 0, G206 - IF(G205=\"\", LOOKUP(2, 1/(G$17:G204<>\"\"), G$17:G204), G205))","v":0},null,null,null,13,13,"",null,null,{"$f":"IF(P206=\"\", 0, P206 - IF(P205=\"\", LOOKUP(2, 1/(P$17:P204<>\"\"), P$17:P204), P205))","v":0},null,null,null,13,13,"",null,null,{"$f":"IF(Y206=\"\", 0, Y206 - IF(Y205=\"\", LOOKUP(2, 1/(Y$17:Y204<>\"\"), Y$17:Y204), Y205))","v":0},null,null,null,13,13,"",null,null,{"$f":"IF(AH206=\"\", 0, AH206 - IF(AH205=\"\", LOOKUP(2, 1/(AH$17:AH204<>\"\"), AH$17:AH204), AH205))","v":0},null,null,null,13,13,"",null,null,{"$f":"IF(AQ206=\"\", 0, AQ206 - IF(AQ205=\"\", LOOKUP(2, 1/(AQ$17:AQ204<>\"\"), AQ$17:AQ204), AQ205))","v":0},null,null,null,13,13,"",null,null,{"$f":"IF(AZ206=\"\", 0, AZ206 - IF(AZ205=\"\", LOOKUP(2, 1/(AZ$17:AZ204<>\"\"), AZ$17:AZ204), AZ205))","v":0},null,null,null,13,13,"",null,null,{"$f":"IF(BI206=\"\", 0, BI206 - IF(BI205=\"\", LOOKUP(2, 1/(BI$17:BI204<>\"\"), BI$17:BI204), BI205))","v":0},null,null,null,13,13,"",null,null,{"$f":"IF(BR206=\"\", 0, BR206 - IF(BR205=\"\", LOOKUP(2, 1/(BR$17:BR204<>\"\"), BR$17:BR204), BR205))","v":0},null,null,null,13,13,"",null,null,{"$f":"IF(CA206=\"\", 0, CA206 - IF(CA205=\"\", LOOKUP(2, 1/(CA$17:CA204<>\"\"), CA$17:CA204), CA205))","v":0},null,null,null,13,13,"",null,null,{"$f":"IF(CJ206=\"\", 0, CJ206 - IF(CJ205=\"\", LOOKUP(2, 1/(CJ$17:CJ204<>\"\"), CJ$17:CJ204), CJ205))","v":0},null,null,null,13,13,"",null,null,{"$f":"IF(CS206=\"\", 0, CS206 - IF(CS205=\"\", LOOKUP(2, 1/(CS$17:CS204<>\"\"), CS$17:CS204), CS205))","v":0},null,null,null,13,13,"",null,null,{"$f":"IF(DB206=\"\", 0, DB206 - IF(DB205=\"\", LOOKUP(2, 1/(DB$17:DB204<>\"\"), DB$17:DB204), DB205))","v":0},null,null,null,13,13,"",null,null,{"$f":"IF(DK206=\"\", 0, DK206 - IF(DK205=\"\", LOOKUP(2, 1/(DK$17:DK204<>\"\"), DK$17:DK204), DK205))","v":0},null,null,null,13,13,"",null,null,{"$f":"IF(DT206=\"\", 0, DT206 - IF(DT205=\"\", LOOKUP(2, 1/(DT$17:DT204<>\"\"), DT$17:DT204), DT205))","v":0},null,null,null,13,13,"",null,null,{"$f":"IF(EC206=\"\", 0, EC206 - IF(EC205=\"\", LOOKUP(2, 1/(EC$17:EC204<>\"\"), EC$17:EC204), EC205))","v":0},null,null,null,13,13,"",null,null,{"$f":"IF(EL206=\"\", 0, EL206 - IF(EL205=\"\", LOOKUP(2, 1/(EL$17:EL204<>\"\"), EL$17:EL204), EL205))","v":0},null,null,null,13,13,"",null,null,{"$f":"IF(EU206=\"\", 0, EU206 - IF(EU205=\"\", LOOKUP(2, 1/(EU$17:EU204<>\"\"), EU$17:EU204), EU205))","v":0},null,null,null,13,13,"",null,null,{"$f":"IF(FD206=\"\", 0, FD206 - IF(FD205=\"\", LOOKUP(2, 1/(FD$17:FD204<>\"\"), FD$17:FD204), FD205))","v":0},null,null,null,13,13,"",null,null,{"$f":"IF(FM206=\"\", 0, FM206 - IF(FM205=\"\", LOOKUP(2, 1/(FM$17:FM204<>\"\"), FM$17:FM204), FM205))","v":0},null,null,null,13,13,"",null,null,{"$f":"IF(FV206=\"\", 0, FV206 - IF(FV205=\"\", LOOKUP(2, 1/(FV$17:FV204<>\"\"), FV$17:FV204), FV205))","v":0},null,null,null,13,13,"",null,null,null,null,null,null,13,13,"",null,null,null,null,null,null,13,13,"",null,null,null,null,null,null,13,13,"",null,null,null,null,null,null,13,13,"",null,null,null,null,null,null,13,13,"",null,null,null,null,null,null,13,13,"",null,null,null,null,null,null,13,13,"",null,null,{"$f":"IF(IP206=\"\", 0, IP206 - IF(IP205=\"\", LOOKUP(2, 1/(IP$17:IP204<>\"\"), IP$17:IP204), IP205))","v":0},null,null,null,13,13,"",null,null,{"$f":"IF(IY206=\"\", 0, IY206 - IF(IY205=\"\", LOOKUP(2, 1/(IY$17:IY204<>\"\"), IY$17:IY204), IY205))","v":0},null,null,null,13,13,"",null,null,{"$f":"IF(JH206=\"\", 0, JH206 - IF(JH205=\"\", LOOKUP(2, 1/(JH$17:JH204<>\"\"), JH$17:JH204), JH205))","v":0},null,null,null,13,13,"",null,null,{"$f":"IF(JQ206=\"\", 0, JQ206 - IF(JQ205=\"\", LOOKUP(2, 1/(JQ$17:JQ204<>\"\"), JQ$17:JQ204), JQ205))","v":0},null,null,null,13,13,"",null,null,{"$f":"IF(JZ206=\"\", 0, JZ206 - IF(JZ205=\"\", LOOKUP(2, 1/(JZ$17:JZ204<>\"\"), JZ$17:JZ204), JZ205))","v":0},null,null,null,13,13,"",null,null,{"$f":"IF(KI206=\"\", 0, KI206 - IF(KI205=\"\", LOOKUP(2, 1/(KI$17:KI204<>\"\"), KI$17:KI204), KI205))","v":0},null,null,null,13,13,"",null,null,{"$f":"IF(KR206=\"\", 0, KR206 - IF(KR205=\"\", LOOKUP(2, 1/(KR$17:KR204<>\"\"), KR$17:KR204), KR205))","v":0},null,null,null,13,13,"",null,null,{"$f":"IF(LA206=\"\", 0, LA206 - IF(LA205=\"\", LOOKUP(2, 1/(LA$17:LA204<>\"\"), LA$17:LA204), LA205))","v":0},null,null,null,13,13,"",null,null,{"$f":"IF(LJ206=\"\", 0, LJ206 - IF(LJ205=\"\", LOOKUP(2, 1/(LJ$17:LJ204<>\"\"), LJ$17:LJ204), LJ205))","v":0},null,null,null,13,13,"",null,null,{"$f":"IF(LS206=\"\", 0, LS206 - IF(LS205=\"\", LOOKUP(2, 1/(LS$17:LS204<>\"\"), LS$17:LS204), LS205))","v":0},null,null,null,13,13,"",null,null,{"$f":"IF(MB206=\"\", 0, MB206 - IF(MB205=\"\", LOOKUP(2, 1/(MB$17:MB204<>\"\"), MB$17:MB204), MB205))","v":0},null,null,null,13,13,"",null,null,{"$f":"IF(MK206=\"\", 0, MK206 - IF(MK205=\"\", LOOKUP(2, 1/(MK$17:MK204<>\"\"), MK$17:MK204), MK205))","v":0},null,null,null,13,13,"",null,null,{"$f":"IF(MT206=\"\", 0, MT206 - IF(MT205=\"\", LOOKUP(2, 1/(MT$17:MT204<>\"\"), MT$17:MT204), MT205))","v":0},null,null,13,"",null,null,{"$f":"IF(NA206=\"\", 0, NA206 - IF(NA205=\"\", LOOKUP(2, 1/(NA$17:NA204<>\"\"), NA$17:NA204), NA205))","v":0},null,null,null,13,13,"",null,null,{"$f":"IF(NJ206=\"\", 0, NJ206 - IF(NJ205=\"\", LOOKUP(2, 1/(NJ$17:NJ204<>\"\"), NJ$17:NJ204), NJ205))","v":0},null,null,null,13,13,"",null,null,{"$f":"IF(NS206=\"\", 0, NS206 - IF(NS205=\"\", LOOKUP(2, 1/(NS$17:NS204<>\"\"), NS$17:NS204), NS205))","v":0},null,null,null,13,13,"",null,null,{"$f":"IF(OB206=\"\", 0, OB206 - IF(OB205=\"\", LOOKUP(2, 1/(OB$17:OB204<>\"\"), OB$17:OB204), OB205))","v":0},null,null,null,13,13,"",null,null,{"$f":"IF(OK206=\"\", 0, OK206 - IF(OK205=\"\", LOOKUP(2, 1/(OK$17:OK204<>\"\"), OK$17:OK204), OK205))","v":0},null,null,null,13,13,"",null,null,{"$f":"IF(OT206=\"\", 0, OT206 - IF(OT205=\"\", LOOKUP(2, 1/(OT$17:OT204<>\"\"), OT$17:OT204), OT205))","v":0},null,null,null,13,13,"",null,null,{"$f":"IF(PC206=\"\", 0, PC206 - IF(PC205=\"\", LOOKUP(2, 1/(PC$17:PC204<>\"\"), PC$17:PC204), PC205))","v":0},null,null,null,13,13,"",null,null,{"$f":"IF(PL206=\"\", 0, PL206 - IF(PL205=\"\", LOOKUP(2, 1/(PL$17:PL204<>\"\"), PL$17:PL204), PL205))","v":0},null,null,null,13,13,"",null,null,{"$f":"IF(PU206=\"\", 0, PU206 - IF(PU205=\"\", LOOKUP(2, 1/(PU$17:PU204<>\"\"), PU$17:PU204), PU205))","v":0},null,null,null,13,13,"",null,null,{"$f":"IF(QD206=\"\", 0, QD206 - IF(QD205=\"\", LOOKUP(2, 1/(QD$17:QD204<>\"\"), QD$17:QD204), QD205))","v":0}]
[null,null,12,12,"",null,null,{"$f":"IF(G207=\"\", 0, G207 - IF(G206=\"\", LOOKUP(2, 1/(G$17:G205<>\"\"), G$17:G205), G206))","v":0},null,null,null,12,12,"",null,null,{"$f":"IF(P207=\"\", 0, P207 - IF(P206=\"\", LOOKUP(2, 1/(P$17:P205<>\"\"), P$17:P205), P206))","v":0},null,null,null,12,12,"",null,null,{"$f":"IF(Y207=\"\", 0, Y207 - IF(Y206=\"\", LOOKUP(2, 1/(Y$17:Y205<>\"\"), Y$17:Y205), Y206))","v":0},null,null,null,12,12,"",null,null,{"$f":"IF(AH207=\"\", 0, AH207 - IF(AH206=\"\", LOOKUP(2, 1/(AH$17:AH205<>\"\"), AH$17:AH205), AH206))","v":0},null,null,null,12,12,"",null,null,{"$f":"IF(AQ207=\"\", 0, AQ207 - IF(AQ206=\"\", LOOKUP(2, 1/(AQ$17:AQ205<>\"\"), AQ$17:AQ205), AQ206))","v":0},null,null,null,12,12,"",null,null,{"$f":"IF(AZ207=\"\", 0, AZ207 - IF(AZ206=\"\", LOOKUP(2, 1/(AZ$17:AZ205<>\"\"), AZ$17:AZ205), AZ206))","v":0},null,null,null,12,12,"",null,null,{"$f":"IF(BI207=\"\", 0, BI207 - IF(BI206=\"\", LOOKUP(2, 1/(BI$17:BI205<>\"\"), BI$17:BI205), BI206))","v":0},null,null,null,12,12,"",null,null,{"$f":"IF(BR207=\"\", 0, BR207 - IF(BR206=\"\", LOOKUP(2, 1/(BR$17:BR205<>\"\"), BR$17:BR205), BR206))","v":0},null,null,null,12,12,"",null,null,{"$f":"IF(CA207=\"\", 0, CA207 - IF(CA206=\"\", LOOKUP(2, 1/(CA$17:CA205<>\"\"), CA$17:CA205), CA206))","v":0},null,null,null,12,12,"",null,null,{"$f":"IF(CJ207=\"\", 0, CJ207 - IF(CJ206=\"\", LOOKUP(2, 1/(CJ$17:CJ205<>\"\"), CJ$17:CJ205), CJ206))","v":0},null,null,null,12,12,"",null,null,{"$f":"IF(CS207=\"\", 0, CS207 - IF(CS206=\"\", LOOKUP(2, 1/(CS$17:CS205<>\"\"), CS$17:CS205), CS206))","v":0},null,null,null,12,12,"",null,null,{"$f":"IF(DB207=\"\", 0, DB207 - IF(DB206=\"\", LOOKUP(2, 1/(DB$17:DB205<>\"\"), DB$17:DB205), DB206))","v":0},null,null,null,12,12,"",null,null,{"$f":"IF(DK207=\"\", 0, DK207 - IF(DK206=\"\", LOOKUP(2, 1/(DK$17:DK205<>\"\"), DK$17:DK205), DK206))","v":0},null,null,null,12,12,"",null,null,{"$f":"IF(DT207=\"\", 0, DT207 - IF(DT206=\"\", LOOKUP(2, 1/(DT$17:DT205<>\"\"), DT$17:DT205), DT206))","v":0},null,null,null,12,12,"",null,null,{"$f":"IF(EC207=\"\", 0, EC207 - IF(EC206=\"\", LOOKUP(2, 1/(EC$17:EC205<>\"\"), EC$17:EC205), EC206))","v":0},null,null,null,12,12,"",null,null,{"$f":"IF(EL207=\"\", 0, EL207 - IF(EL206=\"\", LOOKUP(2, 1/(EL$17:EL205<>\"\"), EL$17:EL205), EL206))","v":0},null,null,null,12,12,"",null,null,{"$f":"IF(EU207=\"\", 0, EU207 - IF(EU206=\"\", LOOKUP(2, 1/(EU$17:EU205<>\"\"), EU$17:EU205), EU206))","v":0},null,null,null,12,12,"",null,null,{"$f":"IF(FD207=\"\", 0, FD207 - IF(FD206=\"\", LOOKUP(2, 1/(FD$17:FD205<>\"\"), FD$17:FD205), FD206))","v":0},null,null,null,12,12,"",null,null,{"$f":"IF(FM207=\"\", 0, FM207 - IF(FM206=\"\", LOOKUP(2, 1/(FM$17:FM205<>\"\"), FM$17:FM205), FM206))","v":0},null,null,null,12,12,"",null,null,{"$f":"IF(FV207=\"\", 0, FV207 - IF(FV206=\"\", LOOKUP(2, 1/(FV$17:FV205<>\"\"), FV$17:FV205), FV206))","v":0},null,null,null,12,12,"",null,null,null,null,null,null,12,12,"",null,null,null,null,null,null,12,12,"",null,null,null,null,null,null,12,12,"",null,null,null,null,null,null,12,12,"",null,null,null,null,null,null,12,12,"",null,null,null,null,null,null,12,12,"",null,null,null,null,null,null,12,12,"",null,null,{"$f":"IF(IP207=\"\", 0, IP207 - IF(IP206=\"\", LOOKUP(2, 1/(IP$17:IP205<>\"\"), IP$17:IP205), IP206))","v":0},null,null,null,12,12,"",null,null,{"$f":"IF(IY207=\"\", 0, IY207 - IF(IY206=\"\", LOOKUP(2, 1/(IY$17:IY205<>\"\"), IY$17:IY205), IY206))","v":0},null,null,null,12,12,"",null,null,{"$f":"IF(JH207=\"\", 0, JH207 - IF(JH206=\"\", LOOKUP(2, 1/(JH$17:JH205<>\"\"), JH$17:JH205), JH206))","v":0},null,null,null,12,12,"",null,null,{"$f":"IF(JQ207=\"\", 0, JQ207 - IF(JQ206=\"\", LOOKUP(2, 1/(JQ$17:JQ205<>\"\"), JQ$17:JQ205), JQ206))","v":0},null,null,null,12,12,"",null,null,{"$f":"IF(JZ207=\"\", 0, JZ207 - IF(JZ206=\"\", LOOKUP(2, 1/(JZ$17:JZ205<>\"\"), JZ$17:JZ205), JZ206))","v":0},null,null,null,12,12,"",null,null,{"$f":"IF(KI207=\"\", 0, KI207 - IF(KI206=\"\", LOOKUP(2, 1/(KI$17:KI205<>\"\"), KI$17:KI205), KI206))","v":0},null,null,null,12,12,"",null,null,{"$f":"IF(KR207=\"\", 0, KR207 - IF(KR206=\"\", LOOKUP(2, 1/(KR$17:KR205<>\"\"), KR$17:KR205), KR206))","v":0},null,null,null,12,12,"",null,null,{"$f":"IF(LA207=\"\", 0, LA207 - IF(LA206=\"\", LOOKUP(2, 1/(LA$17:LA205<>\"\"), LA$17:LA205), LA206))","v":0},null,null,null,12,12,"",null,null,{"$f":"IF(LJ207=\"\", 0, LJ207 - IF(LJ206=\"\", LOOKUP(2, 1/(LJ$17:LJ205<>\"\"), LJ$17:LJ205), LJ206))","v":0},null,null,null,12,12,"",null,null,{"$f":"IF(LS207=\"\", 0, LS207 - IF(LS206=\"\", LOOKUP(2, 1/(LS$17:LS205<>\"\"), LS$17:LS205), LS206))","v":0},null,null,null,12,12,"",null,null,{"$f":"IF(MB207=\"\", 0, MB207 - IF(MB206=\"\", LOOKUP(2, 1/(MB$17:MB205<>\"\"), MB$17:MB205), MB206))","v":0},null,null,null,12,12,"",null,null,{"$f":"IF(MK207=\"\", 0, MK207 - IF(MK206=\"\", LOOKUP(2, 1/(MK$17:MK205<>\"\"), MK$17:MK205), MK206))","v":0},null,null,null,12,12,"",null,null,{"$f":"IF(MT207=\"\", 0, MT207 - IF(MT206=\"\", LOOKUP(2, 1/(MT$17:MT205<>\"\"), MT$17:MT205), MT206))","v":0},null,null,12,"",null,null,{"$f":"IF(NA207=\"\", 0, NA207 - IF(NA206=\"\", LOOKUP(2, 1/(NA$17:NA205<>\"\"), NA$17:NA205), NA206))","v":0},null,null,null,12,12,"",null,null,{"$f":"IF(NJ207=\"\", 0, NJ207 - IF(NJ206=\"\", LOOKUP(2, 1/(NJ$17:NJ205<>\"\"), NJ$17:NJ205), NJ206))","v":0},null,null,null,12,12,"",null,null,{"$f":"IF(NS207=\"\", 0, NS207 - IF(NS206=\"\", LOOKUP(2, 1/(NS$17:NS205<>\"\"), NS$17:NS205), NS206))","v":0},null,null,null,12,12,"",null,null,{"$f":"IF(OB207=\"\", 0, OB207 - IF(OB206=\"\", LOOKUP(2, 1/(OB$17:OB205<>\"\"), OB$17:OB205), OB206))","v":0},null,null,null,12,12,"",null,null,{"$f":"IF(OK207=\"\", 0, OK207 - IF(OK206=\"\", LOOKUP(2, 1/(OK$17:OK205<>\"\"), OK$17:OK205), OK206))","v":0},null,null,null,12,12,"",null,null,{"$f":"IF(OT207=\"\", 0, OT207 - IF(OT206=\"\", LOOKUP(2, 1/(OT$17:OT205<>\"\"), OT$17:OT205), OT206))","v":0},null,null,null,12,12,"",null,null,{"$f":"IF(PC207=\"\", 0, PC207 - IF(PC206=\"\", LOOKUP(2, 1/(PC$17:PC205<>\"\"), PC$17:PC205), PC206))","v":0},null,null,null,12,12,"",null,null,{"$f":"IF(PL207=\"\", 0, PL207 - IF(PL206=\"\", LOOKUP(2, 1/(PL$17:PL205<>\"\"), PL$17:PL205), PL206))","v":0},null,null,null,12,12,"",null,null,{"$f":"IF(PU207=\"\", 0, PU207 - IF(PU206=\"\", LOOKUP(2, 1/(PU$17:PU205<>\"\"), PU$17:PU205), PU206))","v":0},null,null,null,12,12,"",null,null,{"$f":"IF(QD207=\"\", 0, QD207 - IF(QD206=\"\", LOOKUP(2, 1/(QD$17:QD205<>\"\"), QD$17:QD205), QD206))","v":0}]
[null,null,11,11,"",null,null,{"$f":"IF(G208=\"\", 0, G208 - IF(G207=\"\", LOOKUP(2, 1/(G$17:G206<>\"\"), G$17:G206), G207))","v":0},null,null,null,11,11,"",null,null,{"$f":"IF(P208=\"\", 0, P208 - IF(P207=\"\", LOOKUP(2, 1/(P$17:P206<>\"\"), P$17:P206), P207))","v":0},null,null,null,11,11,"",null,null,{"$f":"IF(Y208=\"\", 0, Y208 - IF(Y207=\"\", LOOKUP(2, 1/(Y$17:Y206<>\"\"), Y$17:Y206), Y207))","v":0},null,null,null,11,11,"",null,null,{"$f":"IF(AH208=\"\", 0, AH208 - IF(AH207=\"\", LOOKUP(2, 1/(AH$17:AH206<>\"\"), AH$17:AH206), AH207))","v":0},null,null,null,11,11,"",null,null,{"$f":"IF(AQ208=\"\", 0, AQ208 - IF(AQ207=\"\", LOOKUP(2, 1/(AQ$17:AQ206<>\"\"), AQ$17:AQ206), AQ207))","v":0},null,null,null,11,11,"",null,null,{"$f":"IF(AZ208=\"\", 0, AZ208 - IF(AZ207=\"\", LOOKUP(2, 1/(AZ$17:AZ206<>\"\"), AZ$17:AZ206), AZ207))","v":0},null,null,null,11,11,"",null,null,{"$f":"IF(BI208=\"\", 0, BI208 - IF(BI207=\"\", LOOKUP(2, 1/(BI$17:BI206<>\"\"), BI$17:BI206), BI207))","v":0},null,null,null,11,11,"",null,null,{"$f":"IF(BR208=\"\", 0, BR208 - IF(BR207=\"\", LOOKUP(2, 1/(BR$17:BR206<>\"\"), BR$17:BR206), BR207))","v":0},null,null,null,11,11,"",null,null,{"$f":"IF(CA208=\"\", 0, CA208 - IF(CA207=\"\", LOOKUP(2, 1/(CA$17:CA206<>\"\"), CA$17:CA206), CA207))","v":0},null,null,null,11,11,"",null,null,{"$f":"IF(CJ208=\"\", 0, CJ208 - IF(CJ207=\"\", LOOKUP(2, 1/(CJ$17:CJ206<>\"\"), CJ$17:CJ206), CJ207))","v":0},null,null,null,11,11,"",null,null,{"$f":"IF(CS208=\"\", 0, CS208 - IF(CS207=\"\", LOOKUP(2, 1/(CS$17:CS206<>\"\"), CS$17:CS206), CS207))","v":0},null,null,null,11,11,"",null,null,{"$f":"IF(DB208=\"\", 0, DB208 - IF(DB207=\"\", LOOKUP(2, 1/(DB$17:DB206<>\"\"), DB$17:DB206), DB207))","v":0},null,null,null,11,11,"",null,null,{"$f":"IF(DK208=\"\", 0, DK208 - IF(DK207=\"\", LOOKUP(2, 1/(DK$17:DK206<>\"\"), DK$17:DK206), DK207))","v":0},null,null,null,11,11,"",null,null,{"$f":"IF(DT208=\"\", 0, DT208 - IF(DT207=\"\", LOOKUP(2, 1/(DT$17:DT206<>\"\"), DT$17:DT206), DT207))","v":0},null,null,null,11,11,"",null,null,{"$f":"IF(EC208=\"\", 0, EC208 - IF(EC207=\"\", LOOKUP(2, 1/(EC$17:EC206<>\"\"), EC$17:EC206), EC207))","v":0},null,null,null,11,11,"",null,null,{"$f":"IF(EL208=\"\", 0, EL208 - IF(EL207=\"\", LOOKUP(2, 1/(EL$17:EL206<>\"\"), EL$17:EL206), EL207))","v":0},null,null,null,11,11,"",null,null,{"$f":"IF(EU208=\"\", 0, EU208 - IF(EU207=\"\", LOOKUP(2, 1/(EU$17:EU206<>\"\"), EU$17:EU206), EU207))","v":0},null,null,null,11,11,"",null,null,{"$f":"IF(FD208=\"\", 0, FD208 - IF(FD207=\"\", LOOKUP(2, 1/(FD$17:FD206<>\"\"), FD$17:FD206), FD207))","v":0},null,null,null,11,11,"",null,null,{"$f":"IF(FM208=\"\", 0, FM208 - IF(FM207=\"\", LOOKUP(2, 1/(FM$17:FM206<>\"\"), FM$17:FM206), FM207))","v":0},null,null,null,11,11,"",null,null,{"$f":"IF(FV208=\"\", 0, FV208 - IF(FV207=\"\", LOOKUP(2, 1/(FV$17:FV206<>\"\"), FV$17:FV206), FV207))","v":0},null,null,null,11,11,"",null,null,null,null,null,null,11,11,"",null,null,null,null,null,null,11,11,"",null,null,null,null,null,null,11,11,"",null,null,null,null,null,null,11,11,"",null,null,null,null,null,null,11,11,"",null,null,null,null,null,null,11,11,"",null,null,null,null,null,null,11,11,"",null,null,{"$f":"IF(IP208=\"\", 0, IP208 - IF(IP207=\"\", LOOKUP(2, 1/(IP$17:IP206<>\"\"), IP$17:IP206), IP207))","v":0},null,null,null,11,11,"",null,null,{"$f":"IF(IY208=\"\", 0, IY208 - IF(IY207=\"\", LOOKUP(2, 1/(IY$17:IY206<>\"\"), IY$17:IY206), IY207))","v":0},null,null,null,11,11,"",null,null,{"$f":"IF(JH208=\"\", 0, JH208 - IF(JH207=\"\", LOOKUP(2, 1/(JH$17:JH206<>\"\"), JH$17:JH206), JH207))","v":0},null,null,null,11,11,"",null,null,{"$f":"IF(JQ208=\"\", 0, JQ208 - IF(JQ207=\"\", LOOKUP(2, 1/(JQ$17:JQ206<>\"\"), JQ$17:JQ206), JQ207))","v":0},null,null,null,11,11,"",null,null,{"$f":"IF(JZ208=\"\", 0, JZ208 - IF(JZ207=\"\", LOOKUP(2, 1/(JZ$17:JZ206<>\"\"), JZ$17:JZ206), JZ207))","v":0},null,null,null,11,11,"",null,null,{"$f":"IF(KI208=\"\", 0, KI208 - IF(KI207=\"\", LOOKUP(2, 1/(KI$17:KI206<>\"\"), KI$17:KI206), KI207))","v":0},null,null,null,11,11,"",null,null,{"$f":"IF(KR208=\"\", 0, KR208 - IF(KR207=\"\", LOOKUP(2, 1/(KR$17:KR206<>\"\"), KR$17:KR206), KR207))","v":0},null,null,null,11,11,"",null,null,{"$f":"IF(LA208=\"\", 0, LA208 - IF(LA207=\"\", LOOKUP(2, 1/(LA$17:LA206<>\"\"), LA$17:LA206), LA207))","v":0},null,null,null,11,11,"",null,null,{"$f":"IF(LJ208=\"\", 0, LJ208 - IF(LJ207=\"\", LOOKUP(2, 1/(LJ$17:LJ206<>\"\"), LJ$17:LJ206), LJ207))","v":0},null,null,null,11,11,"",null,null,{"$f":"IF(LS208=\"\", 0, LS208 - IF(LS207=\"\", LOOKUP(2, 1/(LS$17:LS206<>\"\"), LS$17:LS206), LS207))","v":0},null,null,null,11,11,"",null,null,{"$f":"IF(MB208=\"\", 0, MB208 - IF(MB207=\"\", LOOKUP(2, 1/(MB$17:MB206<>\"\"), MB$17:MB206), MB207))","v":0},null,null,null,11,11,"",null,null,{"$f":"IF(MK208=\"\", 0, MK208 - IF(MK207=\"\", LOOKUP(2, 1/(MK$17:MK206<>\"\"), MK$17:MK206), MK207))","v":0},null,null,null,11,11,"",null,null,{"$f":"IF(MT208=\"\", 0, MT208 - IF(MT207=\"\", LOOKUP(2, 1/(MT$17:MT206<>\"\"), MT$17:MT206), MT207))","v":0},null,null,11,"",null,null,{"$f":"IF(NA208=\"\", 0, NA208 - IF(NA207=\"\", LOOKUP(2, 1/(NA$17:NA206<>\"\"), NA$17:NA206), NA207))","v":0},null,null,null,11,11,"",null,null,{"$f":"IF(NJ208=\"\", 0, NJ208 - IF(NJ207=\"\", LOOKUP(2, 1/(NJ$17:NJ206<>\"\"), NJ$17:NJ206), NJ207))","v":0},null,null,null,11,11,"",null,null,{"$f":"IF(NS208=\"\", 0, NS208 - IF(NS207=\"\", LOOKUP(2, 1/(NS$17:NS206<>\"\"), NS$17:NS206), NS207))","v":0},null,null,null,11,11,"",null,null,{"$f":"IF(OB208=\"\", 0, OB208 - IF(OB207=\"\", LOOKUP(2, 1/(OB$17:OB206<>\"\"), OB$17:OB206), OB207))","v":0},null,null,null,11,11,"",null,null,{"$f":"IF(OK208=\"\", 0, OK208 - IF(OK207=\"\", LOOKUP(2, 1/(OK$17:OK206<>\"\"), OK$17:OK206), OK207))","v":0},null,null,null,11,11,"",null,null,{"$f":"IF(OT208=\"\", 0, OT208 - IF(OT207=\"\", LOOKUP(2, 1/(OT$17:OT206<>\"\"), OT$17:OT206), OT207))","v":0},null,null,null,11,11,"",null,null,{"$f":"IF(PC208=\"\", 0, PC208 - IF(PC207=\"\", LOOKUP(2, 1/(PC$17:PC206<>\"\"), PC$17:PC206), PC207))","v":0},null,null,null,11,11,"",null,null,{"$f":"IF(PL208=\"\", 0, PL208 - IF(PL207=\"\", LOOKUP(2, 1/(PL$17:PL206<>\"\"), PL$17:PL206), PL207))","v":0},null,null,null,11,11,"",null,null,{"$f":"IF(PU208=\"\", 0, PU208 - IF(PU207=\"\", LOOKUP(2, 1/(PU$17:PU206<>\"\"), PU$17:PU206), PU207))","v":0},null,null,null,11,11,"",null,null,{"$f":"IF(QD208=\"\", 0, QD208 - IF(QD207=\"\", LOOKUP(2, 1/(QD$17:QD206<>\"\"), QD$17:QD206), QD207))","v":0}]
[null,10,10,10,"",null,null,{"$f":"IF(G209=\"\", 0, G209 - IF(G208=\"\", LOOKUP(2, 1/(G$17:G207<>\"\"), G$17:G207), G208))","v":0},null,null,10,10,10,"",null,null,{"$f":"IF(P209=\"\", 0, P209 - IF(P208=\"\", LOOKUP(2, 1/(P$17:P207<>\"\"), P$17:P207), P208))","v":0},null,null,10,10,10,"",null,null,{"$f":"IF(Y209=\"\", 0, Y209 - IF(Y208=\"\", LOOKUP(2, 1/(Y$17:Y207<>\"\"), Y$17:Y207), Y208))","v":0},null,null,10,10,10,"",null,null,{"$f":"IF(AH209=\"\", 0, AH209 - IF(AH208=\"\", LOOKUP(2, 1/(AH$17:AH207<>\"\"), AH$17:AH207), AH208))","v":0},null,null,10,10,10,"",null,null,{"$f":"IF(AQ209=\"\", 0, AQ209 - IF(AQ208=\"\", LOOKUP(2, 1/(AQ$17:AQ207<>\"\"), AQ$17:AQ207), AQ208))","v":0},null,null,10,10,10,"",null,null,{"$f":"IF(AZ209=\"\", 0, AZ209 - IF(AZ208=\"\", LOOKUP(2, 1/(AZ$17:AZ207<>\"\"), AZ$17:AZ207), AZ208))","v":0},null,null,10,10,10,"",null,null,{"$f":"IF(BI209=\"\", 0, BI209 - IF(BI208=\"\", LOOKUP(2, 1/(BI$17:BI207<>\"\"), BI$17:BI207), BI208))","v":0},null,null,10,10,10,"",null,null,{"$f":"IF(BR209=\"\", 0, BR209 - IF(BR208=\"\", LOOKUP(2, 1/(BR$17:BR207<>\"\"), BR$17:BR207), BR208))","v":0},null,null,10,10,10,"",null,null,{"$f":"IF(CA209=\"\", 0, CA209 - IF(CA208=\"\", LOOKUP(2, 1/(CA$17:CA207<>\"\"), CA$17:CA207), CA208))","v":0},null,null,10,10,10,"",null,null,{"$f":"IF(CJ209=\"\", 0, CJ209 - IF(CJ208=\"\", LOOKUP(2, 1/(CJ$17:CJ207<>\"\"), CJ$17:CJ207), CJ208))","v":0},null,null,10,10,10,"",null,null,{"$f":"IF(CS209=\"\", 0, CS209 - IF(CS208=\"\", LOOKUP(2, 1/(CS$17:CS207<>\"\"), CS$17:CS207), CS208))","v":0},null,null,10,10,10,"",null,null,{"$f":"IF(DB209=\"\", 0, DB209 - IF(DB208=\"\", LOOKUP(2, 1/(DB$17:DB207<>\"\"), DB$17:DB207), DB208))","v":0},null,null,10,10,10,"",null,null,{"$f":"IF(DK209=\"\", 0, DK209 - IF(DK208=\"\", LOOKUP(2, 1/(DK$17:DK207<>\"\"), DK$17:DK207), DK208))","v":0},null,null,10,10,10,"",null,null,{"$f":"IF(DT209=\"\", 0, DT209 - IF(DT208=\"\", LOOKUP(2, 1/(DT$17:DT207<>\"\"), DT$17:DT207), DT208))","v":0},null,null,10,10,10,"",null,null,{"$f":"IF(EC209=\"\", 0, EC209 - IF(EC208=\"\", LOOKUP(2, 1/(EC$17:EC207<>\"\"), EC$17:EC207), EC208))","v":0},null,null,10,10,10,"",null,null,{"$f":"IF(EL209=\"\", 0, EL209 - IF(EL208=\"\", LOOKUP(2, 1/(EL$17:EL207<>\"\"), EL$17:EL207), EL208))","v":0},null,null,10,10,10,"",null,null,{"$f":"IF(EU209=\"\", 0, EU209 - IF(EU208=\"\", LOOKUP(2, 1/(EU$17:EU207<>\"\"), EU$17:EU207), EU208))","v":0},null,null,10,10,10,"",null,null,{"$f":"IF(FD209=\"\", 0, FD209 - IF(FD208=\"\", LOOKUP(2, 1/(FD$17:FD207<>\"\"), FD$17:FD207), FD208))","v":0},null,null,10,10,10,"",null,null,{"$f":"IF(FM209=\"\", 0, FM209 - IF(FM208=\"\", LOOKUP(2, 1/(FM$17:FM207<>\"\"), FM$17:FM207), FM208))","v":0},null,null,10,10,10,"",null,null,{"$f":"IF(FV209=\"\", 0, FV209 - IF(FV208=\"\", LOOKUP(2, 1/(FV$17:FV207<>\"\"), FV$17:FV207), FV208))","v":0},null,null,10,10,10,"",null,null,null,null,null,10,10,10,"",null,null,null,null,null,10,10,10,"",null,null,null,null,null,10,10,10,"",null,null,null,null,null,10,10,10,"",null,null,null,null,null,10,10,10,"",null,null,null,null,null,10,10,10,"",null,null,null,null,null,10,10,10,"",null,null,{"$f":"IF(IP209=\"\", 0, IP209 - IF(IP208=\"\", LOOKUP(2, 1/(IP$17:IP207<>\"\"), IP$17:IP207), IP208))","v":0},null,null,10,10,10,"",null,null,{"$f":"IF(IY209=\"\", 0, IY209 - IF(IY208=\"\", LOOKUP(2, 1/(IY$17:IY207<>\"\"), IY$17:IY207), IY208))","v":0},null,null,10,10,10,"",null,null,{"$f":"IF(JH209=\"\", 0, JH209 - IF(JH208=\"\", LOOKUP(2, 1/(JH$17:JH207<>\"\"), JH$17:JH207), JH208))","v":0},null,null,10,10,10,"",null,null,{"$f":"IF(JQ209=\"\", 0, JQ209 - IF(JQ208=\"\", LOOKUP(2, 1/(JQ$17:JQ207<>\"\"), JQ$17:JQ207), JQ208))","v":0},null,null,10,10,10,"",null,null,{"$f":"IF(JZ209=\"\", 0, JZ209 - IF(JZ208=\"\", LOOKUP(2, 1/(JZ$17:JZ207<>\"\"), JZ$17:JZ207), JZ208))","v":0},null,null,10,10,10,"",null,null,{"$f":"IF(KI209=\"\", 0, KI209 - IF(KI208=\"\", LOOKUP(2, 1/(KI$17:KI207<>\"\"), KI$17:KI207), KI208))","v":0},null,null,10,10,10,"",null,null,{"$f":"IF(KR209=\"\", 0, KR209 - IF(KR208=\"\", LOOKUP(2, 1/(KR$17:KR207<>\"\"), KR$17:KR207), KR208))","v":0},null,null,10,10,10,"",null,null,{"$f":"IF(LA209=\"\", 0, LA209 - IF(LA208=\"\", LOOKUP(2, 1/(LA$17:LA207<>\"\"), LA$17:LA207), LA208))","v":0},null,null,10,10,10,"",null,null,{"$f":"IF(LJ209=\"\", 0, LJ209 - IF(LJ208=\"\", LOOKUP(2, 1/(LJ$17:LJ207<>\"\"), LJ$17:LJ207), LJ208))","v":0},null,null,10,10,10,"",null,null,{"$f":"IF(LS209=\"\", 0, LS209 - IF(LS208=\"\", LOOKUP(2, 1/(LS$17:LS207<>\"\"), LS$17:LS207), LS208))","v":0},null,null,10,10,10,"",null,null,{"$f":"IF(MB209=\"\", 0, MB209 - IF(MB208=\"\", LOOKUP(2, 1/(MB$17:MB207<>\"\"), MB$17:MB207), MB208))","v":0},null,null,10,10,10,"",null,null,{"$f":"IF(MK209=\"\", 0, MK209 - IF(MK208=\"\", LOOKUP(2, 1/(MK$17:MK207<>\"\"), MK$17:MK207), MK208))","v":0},null,null,10,10,10,"",null,null,{"$f":"IF(MT209=\"\", 0, MT209 - IF(MT208=\"\", LOOKUP(2, 1/(MT$17:MT207<>\"\"), MT$17:MT207), MT208))","v":0},null,null,10,"",null,null,{"$f":"IF(NA209=\"\", 0, NA209 - IF(NA208=\"\", LOOKUP(2, 1/(NA$17:NA207<>\"\"), NA$17:NA207), NA208))","v":0},null,null,10,10,10,"",null,null,{"$f":"IF(NJ209=\"\", 0, NJ209 - IF(NJ208=\"\", LOOKUP(2, 1/(NJ$17:NJ207<>\"\"), NJ$17:NJ207), NJ208))","v":0},null,null,10,10,10,"",null,null,{"$f":"IF(NS209=\"\", 0, NS209 - IF(NS208=\"\", LOOKUP(2, 1/(NS$17:NS207<>\"\"), NS$17:NS207), NS208))","v":0},null,null,10,10,10,"",null,null,{"$f":"IF(OB209=\"\", 0, OB209 - IF(OB208=\"\", LOOKUP(2, 1/(OB$17:OB207<>\"\"), OB$17:OB207), OB208))","v":0},null,null,10,10,10,"",null,null,{"$f":"IF(OK209=\"\", 0, OK209 - IF(OK208=\"\", LOOKUP(2, 1/(OK$17:OK207<>\"\"), OK$17:OK207), OK208))","v":0},null,null,10,10,10,"",null,null,{"$f":"IF(OT209=\"\", 0, OT209 - IF(OT208=\"\", LOOKUP(2, 1/(OT$17:OT207<>\"\"), OT$17:OT207), OT208))","v":0},null,null,10,10,10,"",null,null,{"$f":"IF(PC209=\"\", 0, PC209 - IF(PC208=\"\", LOOKUP(2, 1/(PC$17:PC207<>\"\"), PC$17:PC207), PC208))","v":0},null,null,10,10,10,"",null,null,{"$f":"IF(PL209=\"\", 0, PL209 - IF(PL208=\"\", LOOKUP(2, 1/(PL$17:PL207<>\"\"), PL$17:PL207), PL208))","v":0},null,null,10,10,10,"",null,null,{"$f":"IF(PU209=\"\", 0, PU209 - IF(PU208=\"\", LOOKUP(2, 1/(PU$17:PU207<>\"\"), PU$17:PU207), PU208))","v":0},null,null,10,10,10,"",null,null,{"$f":"IF(QD209=\"\", 0, QD209 - IF(QD208=\"\", LOOKUP(2, 1/(QD$17:QD207<>\"\"), QD$17:QD207), QD208))","v":0}]
[null,9,9,9,{"$f":"MID(F210,6,5)","v":""},null,null,{"$f":"IF(G210=\"\", 0, G210 - IF(G209=\"\", LOOKUP(2, 1/(G$17:G208<>\"\"), G$17:G208), G209))","v":0},null,null,9,9,9,{"$f":"MID(O210,6,5)","v":""},null,null,{"$f":"IF(P210=\"\", 0, P210 - IF(P209=\"\", LOOKUP(2, 1/(P$17:P208<>\"\"), P$17:P208), P209))","v":0},null,null,9,9,9,{"$f":"MID(X210,6,5)","v":""},null,null,{"$f":"IF(Y210=\"\", 0, Y210 - IF(Y209=\"\", LOOKUP(2, 1/(Y$17:Y208<>\"\"), Y$17:Y208), Y209))","v":0},null,null,9,9,9,{"$f":"MID(AG210,6,5)","v":""},null,null,{"$f":"IF(AH210=\"\", 0, AH210 - IF(AH209=\"\", LOOKUP(2, 1/(AH$17:AH208<>\"\"), AH$17:AH208), AH209))","v":0},null,null,9,9,9,{"$f":"MID(AP210,6,5)","v":""},null,null,{"$f":"IF(AQ210=\"\", 0, AQ210 - IF(AQ209=\"\", LOOKUP(2, 1/(AQ$17:AQ208<>\"\"), AQ$17:AQ208), AQ209))","v":0},null,null,9,9,9,{"$f":"MID(AY210,6,5)","v":""},null,null,{"$f":"IF(AZ210=\"\", 0, AZ210 - IF(AZ209=\"\", LOOKUP(2, 1/(AZ$17:AZ208<>\"\"), AZ$17:AZ208), AZ209))","v":0},null,null,9,9,9,{"$f":"MID(BH210,6,5)","v":""},null,null,{"$f":"IF(BI210=\"\", 0, BI210 - IF(BI209=\"\", LOOKUP(2, 1/(BI$17:BI208<>\"\"), BI$17:BI208), BI209))","v":0},null,null,9,9,9,{"$f":"MID(BQ210,6,5)","v":""},null,null,{"$f":"IF(BR210=\"\", 0, BR210 - IF(BR209=\"\", LOOKUP(2, 1/(BR$17:BR208<>\"\"), BR$17:BR208), BR209))","v":0},null,null,9,9,9,{"$f":"MID(BZ210,6,5)","v":""},null,null,{"$f":"IF(CA210=\"\", 0, CA210 - IF(CA209=\"\", LOOKUP(2, 1/(CA$17:CA208<>\"\"), CA$17:CA208), CA209))","v":0},null,null,9,9,9,{"$f":"MID(CI210,6,5)","v":""},null,null,{"$f":"IF(CJ210=\"\", 0, CJ210 - IF(CJ209=\"\", LOOKUP(2, 1/(CJ$17:CJ208<>\"\"), CJ$17:CJ208), CJ209))","v":0},null,null,9,9,9,{"$f":"MID(CR210,6,5)","v":""},null,null,{"$f":"IF(CS210=\"\", 0, CS210 - IF(CS209=\"\", LOOKUP(2, 1/(CS$17:CS208<>\"\"), CS$17:CS208), CS209))","v":0},null,null,9,9,9,{"$f":"MID(DA210,6,5)","v":""},null,null,{"$f":"IF(DB210=\"\", 0, DB210 - IF(DB209=\"\", LOOKUP(2, 1/(DB$17:DB208<>\"\"), DB$17:DB208), DB209))","v":0},null,null,9,9,9,{"$f":"MID(DJ210,6,5)","v":""},null,null,{"$f":"IF(DK210=\"\", 0, DK210 - IF(DK209=\"\", LOOKUP(2, 1/(DK$17:DK208<>\"\"), DK$17:DK208), DK209))","v":0},null,null,9,9,9,{"$f":"MID(DS210,6,5)","v":""},null,null,{"$f":"IF(DT210=\"\", 0, DT210 - IF(DT209=\"\", LOOKUP(2, 1/(DT$17:DT208<>\"\"), DT$17:DT208), DT209))","v":0},null,null,9,9,9,{"$f":"MID(EB210,6,5)","v":""},null,null,{"$f":"IF(EC210=\"\", 0, EC210 - IF(EC209=\"\", LOOKUP(2, 1/(EC$17:EC208<>\"\"), EC$17:EC208), EC209))","v":0},null,null,9,9,9,{"$f":"MID(EK210,6,5)","v":""},null,null,{"$f":"IF(EL210=\"\", 0, EL210 - IF(EL209=\"\", LOOKUP(2, 1/(EL$17:EL208<>\"\"), EL$17:EL208), EL209))","v":0},null,null,9,9,9,{"$f":"MID(ET210,6,5)","v":""},null,null,{"$f":"IF(EU210=\"\", 0, EU210 - IF(EU209=\"\", LOOKUP(2, 1/(EU$17:EU208<>\"\"), EU$17:EU208), EU209))","v":0},null,null,9,9,9,{"$f":"MID(FC210,6,5)","v":""},null,null,{"$f":"IF(FD210=\"\", 0, FD210 - IF(FD209=\"\", LOOKUP(2, 1/(FD$17:FD208<>\"\"), FD$17:FD208), FD209))","v":0},null,null,9,9,9,{"$f":"MID(FL210,6,5)","v":""},null,null,{"$f":"IF(FM210=\"\", 0, FM210 - IF(FM209=\"\", LOOKUP(2, 1/(FM$17:FM208<>\"\"), FM$17:FM208), FM209))","v":0},null,null,9,9,9,{"$f":"MID(FU210,6,5)","v":""},null,null,{"$f":"IF(FV210=\"\", 0, FV210 - IF(FV209=\"\", LOOKUP(2, 1/(FV$17:FV208<>\"\"), FV$17:FV208), FV209))","v":0},null,null,9,9,9,{"$f":"MID(GD210,6,5)","v":""},null,null,null,null,null,9,9,9,{"$f":"MID(GM210,6,5)","v":""},null,null,null,null,null,9,9,9,{"$f":"MID(GV210,6,5)","v":""},null,null,null,null,null,9,9,9,{"$f":"MID(HE210,6,5)","v":""},null,null,null,null,null,9,9,9,{"$f":"MID(HN210,6,5)","v":""},null,null,null,null,null,9,9,9,{"$f":"MID(HW210,6,5)","v":""},null,null,null,null,null,9,9,9,{"$f":"MID(IF210,6,5)","v":""},null,null,null,null,null,9,9,9,{"$f":"MID(IO210,6,5)","v":""},null,null,{"$f":"IF(IP210=\"\", 0, IP210 - IF(IP209=\"\", LOOKUP(2, 1/(IP$17:IP208<>\"\"), IP$17:IP208), IP209))","v":0},null,null,9,9,9,{"$f":"MID(IX210,6,5)","v":""},null,null,{"$f":"IF(IY210=\"\", 0, IY210 - IF(IY209=\"\", LOOKUP(2, 1/(IY$17:IY208<>\"\"), IY$17:IY208), IY209))","v":0},null,null,9,9,9,{"$f":"MID(JG210,6,5)","v":""},null,null,{"$f":"IF(JH210=\"\", 0, JH210 - IF(JH209=\"\", LOOKUP(2, 1/(JH$17:JH208<>\"\"), JH$17:JH208), JH209))","v":0},null,null,9,9,9,{"$f":"MID(JP210,6,5)","v":""},null,null,{"$f":"IF(JQ210=\"\", 0, JQ210 - IF(JQ209=\"\", LOOKUP(2, 1/(JQ$17:JQ208<>\"\"), JQ$17:JQ208), JQ209))","v":0},null,null,9,9,9,{"$f":"MID(JY210,6,5)","v":""},null,null,{"$f":"IF(JZ210=\"\", 0, JZ210 - IF(JZ209=\"\", LOOKUP(2, 1/(JZ$17:JZ208<>\"\"), JZ$17:JZ208), JZ209))","v":0},null,null,9,9,9,{"$f":"MID(KH210,6,5)","v":""},null,null,{"$f":"IF(KI210=\"\", 0, KI210 - IF(KI209=\"\", LOOKUP(2, 1/(KI$17:KI208<>\"\"), KI$17:KI208), KI209))","v":0},null,null,9,9,9,{"$f":"MID(KQ210,6,5)","v":""},null,null,{"$f":"IF(KR210=\"\", 0, KR210 - IF(KR209=\"\", LOOKUP(2, 1/(KR$17:KR208<>\"\"), KR$17:KR208), KR209))","v":0},null,null,9,9,9,{"$f":"MID(KZ210,6,5)","v":""},null,null,{"$f":"IF(LA210=\"\", 0, LA210 - IF(LA209=\"\", LOOKUP(2, 1/(LA$17:LA208<>\"\"), LA$17:LA208), LA209))","v":0},null,null,9,9,9,{"$f":"MID(LI210,6,5)","v":""},null,null,{"$f":"IF(LJ210=\"\", 0, LJ210 - IF(LJ209=\"\", LOOKUP(2, 1/(LJ$17:LJ208<>\"\"), LJ$17:LJ208), LJ209))","v":0},null,null,9,9,9,{"$f":"MID(LR210,6,5)","v":""},null,null,{"$f":"IF(LS210=\"\", 0, LS210 - IF(LS209=\"\", LOOKUP(2, 1/(LS$17:LS208<>\"\"), LS$17:LS208), LS209))","v":0},null,null,9,9,9,{"$f":"MID(MA210,6,5)","v":""},null,null,{"$f":"IF(MB210=\"\", 0, MB210 - IF(MB209=\"\", LOOKUP(2, 1/(MB$17:MB208<>\"\"), MB$17:MB208), MB209))","v":0},null,null,9,9,9,{"$f":"MID(MJ210,6,5)","v":""},null,null,{"$f":"IF(MK210=\"\", 0, MK210 - IF(MK209=\"\", LOOKUP(2, 1/(MK$17:MK208<>\"\"), MK$17:MK208), MK209))","v":0},null,null,9,9,9,{"$f":"MID(MS210,6,5)","v":""},null,null,{"$f":"IF(MT210=\"\", 0, MT210 - IF(MT209=\"\", LOOKUP(2, 1/(MT$17:MT208<>\"\"), MT$17:MT208), MT209))","v":0},null,null,9,{"$f":"MID(MZ210,6,5)","v":""},null,null,{"$f":"IF(NA210=\"\", 0, NA210 - IF(NA209=\"\", LOOKUP(2, 1/(NA$17:NA208<>\"\"), NA$17:NA208), NA209))","v":0},null,null,9,9,9,{"$f":"MID(NI210,6,5)","v":""},null,null,{"$f":"IF(NJ210=\"\", 0, NJ210 - IF(NJ209=\"\", LOOKUP(2, 1/(NJ$17:NJ208<>\"\"), NJ$17:NJ208), NJ209))","v":0},null,null,9,9,9,{"$f":"MID(NR210,6,5)","v":""},null,null,{"$f":"IF(NS210=\"\", 0, NS210 - IF(NS209=\"\", LOOKUP(2, 1/(NS$17:NS208<>\"\"), NS$17:NS208), NS209))","v":0},null,null,9,9,9,{"$f":"MID(OA210,6,5)","v":""},null,null,{"$f":"IF(OB210=\"\", 0, OB210 - IF(OB209=\"\", LOOKUP(2, 1/(OB$17:OB208<>\"\"), OB$17:OB208), OB209))","v":0},null,null,9,9,9,{"$f":"MID(OJ210,6,5)","v":""},null,null,{"$f":"IF(OK210=\"\", 0, OK210 - IF(OK209=\"\", LOOKUP(2, 1/(OK$17:OK208<>\"\"), OK$17:OK208), OK209))","v":0},null,null,9,9,9,{"$f":"MID(OS210,6,5)","v":""},null,null,{"$f":"IF(OT210=\"\", 0, OT210 - IF(OT209=\"\", LOOKUP(2, 1/(OT$17:OT208<>\"\"), OT$17:OT208), OT209))","v":0},null,null,9,9,9,{"$f":"MID(PB210,6,5)","v":""},null,null,{"$f":"IF(PC210=\"\", 0, PC210 - IF(PC209=\"\", LOOKUP(2, 1/(PC$17:PC208<>\"\"), PC$17:PC208), PC209))","v":0},null,null,9,9,9,{"$f":"MID(PK210,6,5)","v":""},null,null,{"$f":"IF(PL210=\"\", 0, PL210 - IF(PL209=\"\", LOOKUP(2, 1/(PL$17:PL208<>\"\"), PL$17:PL208), PL209))","v":0},null,null,9,9,9,{"$f":"MID(PT210,6,5)","v":""},null,null,{"$f":"IF(PU210=\"\", 0, PU210 - IF(PU209=\"\", LOOKUP(2, 1/(PU$17:PU208<>\"\"), PU$17:PU208), PU209))","v":0},null,null,9,9,9,{"$f":"MID(QC210,6,5)","v":""},null,null,{"$f":"IF(QD210=\"\", 0, QD210 - IF(QD209=\"\", LOOKUP(2, 1/(QD$17:QD208<>\"\"), QD$17:QD208), QD209))","v":0}]
[null,8,8,8,"",null,null,{"$f":"IF(G211=\"\", 0, G211 - IF(G210=\"\", LOOKUP(2, 1/(G$17:G209<>\"\"), G$17:G209), G210))","v":0},null,null,8,8,8,"",null,null,{"$f":"IF(P211=\"\", 0, P211 - IF(P210=\"\", LOOKUP(2, 1/(P$17:P209<>\"\"), P$17:P209), P210))","v":0},null,null,8,8,8,"",null,null,{"$f":"IF(Y211=\"\", 0, Y211 - IF(Y210=\"\", LOOKUP(2, 1/(Y$17:Y209<>\"\"), Y$17:Y209), Y210))","v":0},null,null,8,8,8,"",null,null,{"$f":"IF(AH211=\"\", 0, AH211 - IF(AH210=\"\", LOOKUP(2, 1/(AH$17:AH209<>\"\"), AH$17:AH209), AH210))","v":0},null,null,8,8,8,"",null,null,{"$f":"IF(AQ211=\"\", 0, AQ211 - IF(AQ210=\"\", LOOKUP(2, 1/(AQ$17:AQ209<>\"\"), AQ$17:AQ209), AQ210))","v":0},null,null,8,8,8,"",null,null,{"$f":"IF(AZ211=\"\", 0, AZ211 - IF(AZ210=\"\", LOOKUP(2, 1/(AZ$17:AZ209<>\"\"), AZ$17:AZ209), AZ210))","v":0},null,null,8,8,8,"",null,null,{"$f":"IF(BI211=\"\", 0, BI211 - IF(BI210=\"\", LOOKUP(2, 1/(BI$17:BI209<>\"\"), BI$17:BI209), BI210))","v":0},null,null,8,8,8,"",null,null,{"$f":"IF(BR211=\"\", 0, BR211 - IF(BR210=\"\", LOOKUP(2, 1/(BR$17:BR209<>\"\"), BR$17:BR209), BR210))","v":0},null,null,8,8,8,"",null,null,{"$f":"IF(CA211=\"\", 0, CA211 - IF(CA210=\"\", LOOKUP(2, 1/(CA$17:CA209<>\"\"), CA$17:CA209), CA210))","v":0},null,null,8,8,8,"",null,null,{"$f":"IF(CJ211=\"\", 0, CJ211 - IF(CJ210=\"\", LOOKUP(2, 1/(CJ$17:CJ209<>\"\"), CJ$17:CJ209), CJ210))","v":0},null,null,8,8,8,"",null,null,{"$f":"IF(CS211=\"\", 0, CS211 - IF(CS210=\"\", LOOKUP(2, 1/(CS$17:CS209<>\"\"), CS$17:CS209), CS210))","v":0},null,null,8,8,8,"",null,null,{"$f":"IF(DB211=\"\", 0, DB211 - IF(DB210=\"\", LOOKUP(2, 1/(DB$17:DB209<>\"\"), DB$17:DB209), DB210))","v":0},null,null,8,8,8,"",null,null,{"$f":"IF(DK211=\"\", 0, DK211 - IF(DK210=\"\", LOOKUP(2, 1/(DK$17:DK209<>\"\"), DK$17:DK209), DK210))","v":0},null,null,8,8,8,"",null,null,{"$f":"IF(DT211=\"\", 0, DT211 - IF(DT210=\"\", LOOKUP(2, 1/(DT$17:DT209<>\"\"), DT$17:DT209), DT210))","v":0},null,null,8,8,8,"",null,null,{"$f":"IF(EC211=\"\", 0, EC211 - IF(EC210=\"\", LOOKUP(2, 1/(EC$17:EC209<>\"\"), EC$17:EC209), EC210))","v":0},null,null,8,8,8,"",null,null,{"$f":"IF(EL211=\"\", 0, EL211 - IF(EL210=\"\", LOOKUP(2, 1/(EL$17:EL209<>\"\"), EL$17:EL209), EL210))","v":0},null,null,8,8,8,"",null,null,{"$f":"IF(EU211=\"\", 0, EU211 - IF(EU210=\"\", LOOKUP(2, 1/(EU$17:EU209<>\"\"), EU$17:EU209), EU210))","v":0},null,null,8,8,8,"",null,null,{"$f":"IF(FD211=\"\", 0, FD211 - IF(FD210=\"\", LOOKUP(2, 1/(FD$17:FD209<>\"\"), FD$17:FD209), FD210))","v":0},null,null,8,8,8,"",null,null,{"$f":"IF(FM211=\"\", 0, FM211 - IF(FM210=\"\", LOOKUP(2, 1/(FM$17:FM209<>\"\"), FM$17:FM209), FM210))","v":0},null,null,8,8,8,"",null,null,{"$f":"IF(FV211=\"\", 0, FV211 - IF(FV210=\"\", LOOKUP(2, 1/(FV$17:FV209<>\"\"), FV$17:FV209), FV210))","v":0},null,null,8,8,8,"",null,null,null,null,null,8,8,8,"",null,null,null,null,null,8,8,8,"",null,null,null,null,null,8,8,8,"",null,null,null,null,null,8,8,8,"",null,null,null,null,null,8,8,8,"",null,null,null,null,null,8,8,8,"",null,null,null,null,null,8,8,8,"",null,null,{"$f":"IF(IP211=\"\", 0, IP211 - IF(IP210=\"\", LOOKUP(2, 1/(IP$17:IP209<>\"\"), IP$17:IP209), IP210))","v":0},null,null,8,8,8,"",null,null,{"$f":"IF(IY211=\"\", 0, IY211 - IF(IY210=\"\", LOOKUP(2, 1/(IY$17:IY209<>\"\"), IY$17:IY209), IY210))","v":0},null,null,8,8,8,"",null,null,{"$f":"IF(JH211=\"\", 0, JH211 - IF(JH210=\"\", LOOKUP(2, 1/(JH$17:JH209<>\"\"), JH$17:JH209), JH210))","v":0},null,null,8,8,8,"",null,null,{"$f":"IF(JQ211=\"\", 0, JQ211 - IF(JQ210=\"\", LOOKUP(2, 1/(JQ$17:JQ209<>\"\"), JQ$17:JQ209), JQ210))","v":0},null,null,8,8,8,"",null,null,{"$f":"IF(JZ211=\"\", 0, JZ211 - IF(JZ210=\"\", LOOKUP(2, 1/(JZ$17:JZ209<>\"\"), JZ$17:JZ209), JZ210))","v":0},null,null,8,8,8,"",null,null,{"$f":"IF(KI211=\"\", 0, KI211 - IF(KI210=\"\", LOOKUP(2, 1/(KI$17:KI209<>\"\"), KI$17:KI209), KI210))","v":0},null,null,8,8,8,"",null,null,{"$f":"IF(KR211=\"\", 0, KR211 - IF(KR210=\"\", LOOKUP(2, 1/(KR$17:KR209<>\"\"), KR$17:KR209), KR210))","v":0},null,null,8,8,8,"",null,null,{"$f":"IF(LA211=\"\", 0, LA211 - IF(LA210=\"\", LOOKUP(2, 1/(LA$17:LA209<>\"\"), LA$17:LA209), LA210))","v":0},null,null,8,8,8,"",null,null,{"$f":"IF(LJ211=\"\", 0, LJ211 - IF(LJ210=\"\", LOOKUP(2, 1/(LJ$17:LJ209<>\"\"), LJ$17:LJ209), LJ210))","v":0},null,null,8,8,8,"",null,null,{"$f":"IF(LS211=\"\", 0, LS211 - IF(LS210=\"\", LOOKUP(2, 1/(LS$17:LS209<>\"\"), LS$17:LS209), LS210))","v":0},null,null,8,8,8,"",null,null,{"$f":"IF(MB211=\"\", 0, MB211 - IF(MB210=\"\", LOOKUP(2, 1/(MB$17:MB209<>\"\"), MB$17:MB209), MB210))","v":0},null,null,8,8,8,"",null,null,{"$f":"IF(MK211=\"\", 0, MK211 - IF(MK210=\"\", LOOKUP(2, 1/(MK$17:MK209<>\"\"), MK$17:MK209), MK210))","v":0},null,null,8,8,8,"",null,null,{"$f":"IF(MT211=\"\", 0, MT211 - IF(MT210=\"\", LOOKUP(2, 1/(MT$17:MT209<>\"\"), MT$17:MT209), MT210))","v":0},null,null,8,"",null,null,{"$f":"IF(NA211=\"\", 0, NA211 - IF(NA210=\"\", LOOKUP(2, 1/(NA$17:NA209<>\"\"), NA$17:NA209), NA210))","v":0},null,null,8,8,8,"",null,null,{"$f":"IF(NJ211=\"\", 0, NJ211 - IF(NJ210=\"\", LOOKUP(2, 1/(NJ$17:NJ209<>\"\"), NJ$17:NJ209), NJ210))","v":0},null,null,8,8,8,"",null,null,{"$f":"IF(NS211=\"\", 0, NS211 - IF(NS210=\"\", LOOKUP(2, 1/(NS$17:NS209<>\"\"), NS$17:NS209), NS210))","v":0},null,null,8,8,8,"",null,null,{"$f":"IF(OB211=\"\", 0, OB211 - IF(OB210=\"\", LOOKUP(2, 1/(OB$17:OB209<>\"\"), OB$17:OB209), OB210))","v":0},null,null,8,8,8,"",null,null,{"$f":"IF(OK211=\"\", 0, OK211 - IF(OK210=\"\", LOOKUP(2, 1/(OK$17:OK209<>\"\"), OK$17:OK209), OK210))","v":0},null,null,8,8,8,"",null,null,{"$f":"IF(OT211=\"\", 0, OT211 - IF(OT210=\"\", LOOKUP(2, 1/(OT$17:OT209<>\"\"), OT$17:OT209), OT210))","v":0},null,null,8,8,8,"",null,null,{"$f":"IF(PC211=\"\", 0, PC211 - IF(PC210=\"\", LOOKUP(2, 1/(PC$17:PC209<>\"\"), PC$17:PC209), PC210))","v":0},null,null,8,8,8,"",null,null,{"$f":"IF(PL211=\"\", 0, PL211 - IF(PL210=\"\", LOOKUP(2, 1/(PL$17:PL209<>\"\"), PL$17:PL209), PL210))","v":0},null,null,8,8,8,"",null,null,{"$f":"IF(PU211=\"\", 0, PU211 - IF(PU210=\"\", LOOKUP(2, 1/(PU$17:PU209<>\"\"), PU$17:PU209), PU210))","v":0},null,null,8,8,8,"",null,null,{"$f":"IF(QD211=\"\", 0, QD211 - IF(QD210=\"\", LOOKUP(2, 1/(QD$17:QD209<>\"\"), QD$17:QD209), QD210))","v":0}]
[null,7,7,7,"",null,null,{"$f":"IF(G212=\"\", 0, G212 - IF(G211=\"\", LOOKUP(2, 1/(G$17:G210<>\"\"), G$17:G210), G211))","v":0},null,null,7,7,7,"",null,null,{"$f":"IF(P212=\"\", 0, P212 - IF(P211=\"\", LOOKUP(2, 1/(P$17:P210<>\"\"), P$17:P210), P211))","v":0},null,null,7,7,7,"",null,null,{"$f":"IF(Y212=\"\", 0, Y212 - IF(Y211=\"\", LOOKUP(2, 1/(Y$17:Y210<>\"\"), Y$17:Y210), Y211))","v":0},null,null,7,7,7,"",null,null,{"$f":"IF(AH212=\"\", 0, AH212 - IF(AH211=\"\", LOOKUP(2, 1/(AH$17:AH210<>\"\"), AH$17:AH210), AH211))","v":0},null,null,7,7,7,"",null,null,{"$f":"IF(AQ212=\"\", 0, AQ212 - IF(AQ211=\"\", LOOKUP(2, 1/(AQ$17:AQ210<>\"\"), AQ$17:AQ210), AQ211))","v":0},null,null,7,7,7,"",null,null,{"$f":"IF(AZ212=\"\", 0, AZ212 - IF(AZ211=\"\", LOOKUP(2, 1/(AZ$17:AZ210<>\"\"), AZ$17:AZ210), AZ211))","v":0},null,null,7,7,7,"",null,null,{"$f":"IF(BI212=\"\", 0, BI212 - IF(BI211=\"\", LOOKUP(2, 1/(BI$17:BI210<>\"\"), BI$17:BI210), BI211))","v":0},null,null,7,7,7,"",null,null,{"$f":"IF(BR212=\"\", 0, BR212 - IF(BR211=\"\", LOOKUP(2, 1/(BR$17:BR210<>\"\"), BR$17:BR210), BR211))","v":0},null,null,7,7,7,"",null,null,{"$f":"IF(CA212=\"\", 0, CA212 - IF(CA211=\"\", LOOKUP(2, 1/(CA$17:CA210<>\"\"), CA$17:CA210), CA211))","v":0},null,null,7,7,7,"",null,null,{"$f":"IF(CJ212=\"\", 0, CJ212 - IF(CJ211=\"\", LOOKUP(2, 1/(CJ$17:CJ210<>\"\"), CJ$17:CJ210), CJ211))","v":0},null,null,7,7,7,"",null,null,{"$f":"IF(CS212=\"\", 0, CS212 - IF(CS211=\"\", LOOKUP(2, 1/(CS$17:CS210<>\"\"), CS$17:CS210), CS211))","v":0},null,null,7,7,7,"",null,null,{"$f":"IF(DB212=\"\", 0, DB212 - IF(DB211=\"\", LOOKUP(2, 1/(DB$17:DB210<>\"\"), DB$17:DB210), DB211))","v":0},null,null,7,7,7,"",null,null,{"$f":"IF(DK212=\"\", 0, DK212 - IF(DK211=\"\", LOOKUP(2, 1/(DK$17:DK210<>\"\"), DK$17:DK210), DK211))","v":0},null,null,7,7,7,"",null,null,{"$f":"IF(DT212=\"\", 0, DT212 - IF(DT211=\"\", LOOKUP(2, 1/(DT$17:DT210<>\"\"), DT$17:DT210), DT211))","v":0},null,null,7,7,7,"",null,null,{"$f":"IF(EC212=\"\", 0, EC212 - IF(EC211=\"\", LOOKUP(2, 1/(EC$17:EC210<>\"\"), EC$17:EC210), EC211))","v":0},null,null,7,7,7,"",null,null,{"$f":"IF(EL212=\"\", 0, EL212 - IF(EL211=\"\", LOOKUP(2, 1/(EL$17:EL210<>\"\"), EL$17:EL210), EL211))","v":0},null,null,7,7,7,"",null,null,{"$f":"IF(EU212=\"\", 0, EU212 - IF(EU211=\"\", LOOKUP(2, 1/(EU$17:EU210<>\"\"), EU$17:EU210), EU211))","v":0},null,null,7,7,7,"",null,null,{"$f":"IF(FD212=\"\", 0, FD212 - IF(FD211=\"\", LOOKUP(2, 1/(FD$17:FD210<>\"\"), FD$17:FD210), FD211))","v":0},null,null,7,7,7,"",null,null,{"$f":"IF(FM212=\"\", 0, FM212 - IF(FM211=\"\", LOOKUP(2, 1/(FM$17:FM210<>\"\"), FM$17:FM210), FM211))","v":0},null,null,7,7,7,"",null,null,{"$f":"IF(FV212=\"\", 0, FV212 - IF(FV211=\"\", LOOKUP(2, 1/(FV$17:FV210<>\"\"), FV$17:FV210), FV211))","v":0},null,null,7,7,7,"",null,null,null,null,null,7,7,7,"",null,null,null,null,null,7,7,7,"",null,null,null,null,null,7,7,7,"",null,null,null,null,null,7,7,7,"",null,null,null,null,null,7,7,7,"",null,null,null,null,null,7,7,7,"",null,null,null,null,null,7,7,7,"",null,null,{"$f":"IF(IP212=\"\", 0, IP212 - IF(IP211=\"\", LOOKUP(2, 1/(IP$17:IP210<>\"\"), IP$17:IP210), IP211))","v":0},null,null,7,7,7,"",null,null,{"$f":"IF(IY212=\"\", 0, IY212 - IF(IY211=\"\", LOOKUP(2, 1/(IY$17:IY210<>\"\"), IY$17:IY210), IY211))","v":0},null,null,7,7,7,"",null,null,{"$f":"IF(JH212=\"\", 0, JH212 - IF(JH211=\"\", LOOKUP(2, 1/(JH$17:JH210<>\"\"), JH$17:JH210), JH211))","v":0},null,null,7,7,7,"",null,null,{"$f":"IF(JQ212=\"\", 0, JQ212 - IF(JQ211=\"\", LOOKUP(2, 1/(JQ$17:JQ210<>\"\"), JQ$17:JQ210), JQ211))","v":0},null,null,7,7,7,"",null,null,{"$f":"IF(JZ212=\"\", 0, JZ212 - IF(JZ211=\"\", LOOKUP(2, 1/(JZ$17:JZ210<>\"\"), JZ$17:JZ210), JZ211))","v":0},null,null,7,7,7,"",null,null,{"$f":"IF(KI212=\"\", 0, KI212 - IF(KI211=\"\", LOOKUP(2, 1/(KI$17:KI210<>\"\"), KI$17:KI210), KI211))","v":0},null,null,7,7,7,"",null,null,{"$f":"IF(KR212=\"\", 0, KR212 - IF(KR211=\"\", LOOKUP(2, 1/(KR$17:KR210<>\"\"), KR$17:KR210), KR211))","v":0},null,null,7,7,7,"",null,null,{"$f":"IF(LA212=\"\", 0, LA212 - IF(LA211=\"\", LOOKUP(2, 1/(LA$17:LA210<>\"\"), LA$17:LA210), LA211))","v":0},null,null,7,7,7,"",null,null,{"$f":"IF(LJ212=\"\", 0, LJ212 - IF(LJ211=\"\", LOOKUP(2, 1/(LJ$17:LJ210<>\"\"), LJ$17:LJ210), LJ211))","v":0},null,null,7,7,7,"",null,null,{"$f":"IF(LS212=\"\", 0, LS212 - IF(LS211=\"\", LOOKUP(2, 1/(LS$17:LS210<>\"\"), LS$17:LS210), LS211))","v":0},null,null,7,7,7,"",null,null,{"$f":"IF(MB212=\"\", 0, MB212 - IF(MB211=\"\", LOOKUP(2, 1/(MB$17:MB210<>\"\"), MB$17:MB210), MB211))","v":0},null,null,7,7,7,"",null,null,{"$f":"IF(MK212=\"\", 0, MK212 - IF(MK211=\"\", LOOKUP(2, 1/(MK$17:MK210<>\"\"), MK$17:MK210), MK211))","v":0},null,null,7,7,7,"",null,null,{"$f":"IF(MT212=\"\", 0, MT212 - IF(MT211=\"\", LOOKUP(2, 1/(MT$17:MT210<>\"\"), MT$17:MT210), MT211))","v":0},null,null,7,"",null,null,{"$f":"IF(NA212=\"\", 0, NA212 - IF(NA211=\"\", LOOKUP(2, 1/(NA$17:NA210<>\"\"), NA$17:NA210), NA211))","v":0},null,null,7,7,7,"",null,null,{"$f":"IF(NJ212=\"\", 0, NJ212 - IF(NJ211=\"\", LOOKUP(2, 1/(NJ$17:NJ210<>\"\"), NJ$17:NJ210), NJ211))","v":0},null,null,7,7,7,"",null,null,{"$f":"IF(NS212=\"\", 0, NS212 - IF(NS211=\"\", LOOKUP(2, 1/(NS$17:NS210<>\"\"), NS$17:NS210), NS211))","v":0},null,null,7,7,7,"",null,null,{"$f":"IF(OB212=\"\", 0, OB212 - IF(OB211=\"\", LOOKUP(2, 1/(OB$17:OB210<>\"\"), OB$17:OB210), OB211))","v":0},null,null,7,7,7,"",null,null,{"$f":"IF(OK212=\"\", 0, OK212 - IF(OK211=\"\", LOOKUP(2, 1/(OK$17:OK210<>\"\"), OK$17:OK210), OK211))","v":0},null,null,7,7,7,"",null,null,{"$f":"IF(OT212=\"\", 0, OT212 - IF(OT211=\"\", LOOKUP(2, 1/(OT$17:OT210<>\"\"), OT$17:OT210), OT211))","v":0},null,null,7,7,7,"",null,null,{"$f":"IF(PC212=\"\", 0, PC212 - IF(PC211=\"\", LOOKUP(2, 1/(PC$17:PC210<>\"\"), PC$17:PC210), PC211))","v":0},null,null,7,7,7,"",null,null,{"$f":"IF(PL212=\"\", 0, PL212 - IF(PL211=\"\", LOOKUP(2, 1/(PL$17:PL210<>\"\"), PL$17:PL210), PL211))","v":0},null,null,7,7,7,"",null,null,{"$f":"IF(PU212=\"\", 0, PU212 - IF(PU211=\"\", LOOKUP(2, 1/(PU$17:PU210<>\"\"), PU$17:PU210), PU211))","v":0},null,null,7,7,7,"",null,null,{"$f":"IF(QD212=\"\", 0, QD212 - IF(QD211=\"\", LOOKUP(2, 1/(QD$17:QD210<>\"\"), QD$17:QD210), QD211))","v":0}]
[null,6,6,6,"",null,null,{"$f":"IF(G213=\"\", 0, G213 - IF(G212=\"\", LOOKUP(2, 1/(G$17:G211<>\"\"), G$17:G211), G212))","v":0},null,null,6,6,6,"",null,null,{"$f":"IF(P213=\"\", 0, P213 - IF(P212=\"\", LOOKUP(2, 1/(P$17:P211<>\"\"), P$17:P211), P212))","v":0},null,null,6,6,6,"",null,null,{"$f":"IF(Y213=\"\", 0, Y213 - IF(Y212=\"\", LOOKUP(2, 1/(Y$17:Y211<>\"\"), Y$17:Y211), Y212))","v":0},null,null,6,6,6,"",null,null,{"$f":"IF(AH213=\"\", 0, AH213 - IF(AH212=\"\", LOOKUP(2, 1/(AH$17:AH211<>\"\"), AH$17:AH211), AH212))","v":0},null,null,6,6,6,"",null,null,{"$f":"IF(AQ213=\"\", 0, AQ213 - IF(AQ212=\"\", LOOKUP(2, 1/(AQ$17:AQ211<>\"\"), AQ$17:AQ211), AQ212))","v":0},null,null,6,6,6,"",null,null,{"$f":"IF(AZ213=\"\", 0, AZ213 - IF(AZ212=\"\", LOOKUP(2, 1/(AZ$17:AZ211<>\"\"), AZ$17:AZ211), AZ212))","v":0},null,null,6,6,6,"",null,null,{"$f":"IF(BI213=\"\", 0, BI213 - IF(BI212=\"\", LOOKUP(2, 1/(BI$17:BI211<>\"\"), BI$17:BI211), BI212))","v":0},null,null,6,6,6,"",null,null,{"$f":"IF(BR213=\"\", 0, BR213 - IF(BR212=\"\", LOOKUP(2, 1/(BR$17:BR211<>\"\"), BR$17:BR211), BR212))","v":0},null,null,6,6,6,"",null,null,{"$f":"IF(CA213=\"\", 0, CA213 - IF(CA212=\"\", LOOKUP(2, 1/(CA$17:CA211<>\"\"), CA$17:CA211), CA212))","v":0},null,null,6,6,6,"",null,null,{"$f":"IF(CJ213=\"\", 0, CJ213 - IF(CJ212=\"\", LOOKUP(2, 1/(CJ$17:CJ211<>\"\"), CJ$17:CJ211), CJ212))","v":0},null,null,6,6,6,"",null,null,{"$f":"IF(CS213=\"\", 0, CS213 - IF(CS212=\"\", LOOKUP(2, 1/(CS$17:CS211<>\"\"), CS$17:CS211), CS212))","v":0},null,null,6,6,6,"",null,null,{"$f":"IF(DB213=\"\", 0, DB213 - IF(DB212=\"\", LOOKUP(2, 1/(DB$17:DB211<>\"\"), DB$17:DB211), DB212))","v":0},null,null,6,6,6,"",null,null,{"$f":"IF(DK213=\"\", 0, DK213 - IF(DK212=\"\", LOOKUP(2, 1/(DK$17:DK211<>\"\"), DK$17:DK211), DK212))","v":0},null,null,6,6,6,"",null,null,{"$f":"IF(DT213=\"\", 0, DT213 - IF(DT212=\"\", LOOKUP(2, 1/(DT$17:DT211<>\"\"), DT$17:DT211), DT212))","v":0},null,null,6,6,6,"",null,null,{"$f":"IF(EC213=\"\", 0, EC213 - IF(EC212=\"\", LOOKUP(2, 1/(EC$17:EC211<>\"\"), EC$17:EC211), EC212))","v":0},null,null,6,6,6,"",null,null,{"$f":"IF(EL213=\"\", 0, EL213 - IF(EL212=\"\", LOOKUP(2, 1/(EL$17:EL211<>\"\"), EL$17:EL211), EL212))","v":0},null,null,6,6,6,"",null,null,{"$f":"IF(EU213=\"\", 0, EU213 - IF(EU212=\"\", LOOKUP(2, 1/(EU$17:EU211<>\"\"), EU$17:EU211), EU212))","v":0},null,null,6,6,6,"",null,null,{"$f":"IF(FD213=\"\", 0, FD213 - IF(FD212=\"\", LOOKUP(2, 1/(FD$17:FD211<>\"\"), FD$17:FD211), FD212))","v":0},null,null,6,6,6,"",null,null,{"$f":"IF(FM213=\"\", 0, FM213 - IF(FM212=\"\", LOOKUP(2, 1/(FM$17:FM211<>\"\"), FM$17:FM211), FM212))","v":0},null,null,6,6,6,"",null,null,{"$f":"IF(FV213=\"\", 0, FV213 - IF(FV212=\"\", LOOKUP(2, 1/(FV$17:FV211<>\"\"), FV$17:FV211), FV212))","v":0},null,null,6,6,6,"",null,null,null,null,null,6,6,6,"",null,null,null,null,null,6,6,6,"",null,null,null,null,null,6,6,6,"",null,null,null,null,null,6,6,6,"",null,null,null,null,null,6,6,6,"",null,null,null,null,null,6,6,6,"",null,null,null,null,null,6,6,6,"",null,null,{"$f":"IF(IP213=\"\", 0, IP213 - IF(IP212=\"\", LOOKUP(2, 1/(IP$17:IP211<>\"\"), IP$17:IP211), IP212))","v":0},null,null,6,6,6,"",null,null,{"$f":"IF(IY213=\"\", 0, IY213 - IF(IY212=\"\", LOOKUP(2, 1/(IY$17:IY211<>\"\"), IY$17:IY211), IY212))","v":0},null,null,6,6,6,"",null,null,{"$f":"IF(JH213=\"\", 0, JH213 - IF(JH212=\"\", LOOKUP(2, 1/(JH$17:JH211<>\"\"), JH$17:JH211), JH212))","v":0},null,null,6,6,6,"",null,null,{"$f":"IF(JQ213=\"\", 0, JQ213 - IF(JQ212=\"\", LOOKUP(2, 1/(JQ$17:JQ211<>\"\"), JQ$17:JQ211), JQ212))","v":0},null,null,6,6,6,"",null,null,{"$f":"IF(JZ213=\"\", 0, JZ213 - IF(JZ212=\"\", LOOKUP(2, 1/(JZ$17:JZ211<>\"\"), JZ$17:JZ211), JZ212))","v":0},null,null,6,6,6,"",null,null,{"$f":"IF(KI213=\"\", 0, KI213 - IF(KI212=\"\", LOOKUP(2, 1/(KI$17:KI211<>\"\"), KI$17:KI211), KI212))","v":0},null,null,6,6,6,"",null,null,{"$f":"IF(KR213=\"\", 0, KR213 - IF(KR212=\"\", LOOKUP(2, 1/(KR$17:KR211<>\"\"), KR$17:KR211), KR212))","v":0},null,null,6,6,6,"",null,null,{"$f":"IF(LA213=\"\", 0, LA213 - IF(LA212=\"\", LOOKUP(2, 1/(LA$17:LA211<>\"\"), LA$17:LA211), LA212))","v":0},null,null,6,6,6,"",null,null,{"$f":"IF(LJ213=\"\", 0, LJ213 - IF(LJ212=\"\", LOOKUP(2, 1/(LJ$17:LJ211<>\"\"), LJ$17:LJ211), LJ212))","v":0},null,null,6,6,6,"",null,null,{"$f":"IF(LS213=\"\", 0, LS213 - IF(LS212=\"\", LOOKUP(2, 1/(LS$17:LS211<>\"\"), LS$17:LS211), LS212))","v":0},null,null,6,6,6,"",null,null,{"$f":"IF(MB213=\"\", 0, MB213 - IF(MB212=\"\", LOOKUP(2, 1/(MB$17:MB211<>\"\"), MB$17:MB211), MB212))","v":0},null,null,6,6,6,"",null,null,{"$f":"IF(MK213=\"\", 0, MK213 - IF(MK212=\"\", LOOKUP(2, 1/(MK$17:MK211<>\"\"), MK$17:MK211), MK212))","v":0},null,null,6,6,6,"",null,null,{"$f":"IF(MT213=\"\", 0, MT213 - IF(MT212=\"\", LOOKUP(2, 1/(MT$17:MT211<>\"\"), MT$17:MT211), MT212))","v":0},null,null,6,"",null,null,{"$f":"IF(NA213=\"\", 0, NA213 - IF(NA212=\"\", LOOKUP(2, 1/(NA$17:NA211<>\"\"), NA$17:NA211), NA212))","v":0},null,null,6,6,6,"",null,null,{"$f":"IF(NJ213=\"\", 0, NJ213 - IF(NJ212=\"\", LOOKUP(2, 1/(NJ$17:NJ211<>\"\"), NJ$17:NJ211), NJ212))","v":0},null,null,6,6,6,"",null,null,{"$f":"IF(NS213=\"\", 0, NS213 - IF(NS212=\"\", LOOKUP(2, 1/(NS$17:NS211<>\"\"), NS$17:NS211), NS212))","v":0},null,null,6,6,6,"",null,null,{"$f":"IF(OB213=\"\", 0, OB213 - IF(OB212=\"\", LOOKUP(2, 1/(OB$17:OB211<>\"\"), OB$17:OB211), OB212))","v":0},null,null,6,6,6,"",null,null,{"$f":"IF(OK213=\"\", 0, OK213 - IF(OK212=\"\", LOOKUP(2, 1/(OK$17:OK211<>\"\"), OK$17:OK211), OK212))","v":0},null,null,6,6,6,"",null,null,{"$f":"IF(OT213=\"\", 0, OT213 - IF(OT212=\"\", LOOKUP(2, 1/(OT$17:OT211<>\"\"), OT$17:OT211), OT212))","v":0},null,null,6,6,6,"",null,null,{"$f":"IF(PC213=\"\", 0, PC213 - IF(PC212=\"\", LOOKUP(2, 1/(PC$17:PC211<>\"\"), PC$17:PC211), PC212))","v":0},null,null,6,6,6,"",null,null,{"$f":"IF(PL213=\"\", 0, PL213 - IF(PL212=\"\", LOOKUP(2, 1/(PL$17:PL211<>\"\"), PL$17:PL211), PL212))","v":0},null,null,6,6,6,"",null,null,{"$f":"IF(PU213=\"\", 0, PU213 - IF(PU212=\"\", LOOKUP(2, 1/(PU$17:PU211<>\"\"), PU$17:PU211), PU212))","v":0},null,null,6,6,6,"",null,null,{"$f":"IF(QD213=\"\", 0, QD213 - IF(QD212=\"\", LOOKUP(2, 1/(QD$17:QD211<>\"\"), QD$17:QD211), QD212))","v":0}]
[null,5,5,5,"",null,null,{"$f":"IF(G214=\"\", 0, G214 - IF(G213=\"\", LOOKUP(2, 1/(G$17:G212<>\"\"), G$17:G212), G213))","v":0},null,null,5,5,5,"",null,null,{"$f":"IF(P214=\"\", 0, P214 - IF(P213=\"\", LOOKUP(2, 1/(P$17:P212<>\"\"), P$17:P212), P213))","v":0},null,null,5,5,5,"",null,null,{"$f":"IF(Y214=\"\", 0, Y214 - IF(Y213=\"\", LOOKUP(2, 1/(Y$17:Y212<>\"\"), Y$17:Y212), Y213))","v":0},null,null,5,5,5,"",null,null,{"$f":"IF(AH214=\"\", 0, AH214 - IF(AH213=\"\", LOOKUP(2, 1/(AH$17:AH212<>\"\"), AH$17:AH212), AH213))","v":0},null,null,5,5,5,"",null,null,{"$f":"IF(AQ214=\"\", 0, AQ214 - IF(AQ213=\"\", LOOKUP(2, 1/(AQ$17:AQ212<>\"\"), AQ$17:AQ212), AQ213))","v":0},null,null,5,5,5,"",null,null,{"$f":"IF(AZ214=\"\", 0, AZ214 - IF(AZ213=\"\", LOOKUP(2, 1/(AZ$17:AZ212<>\"\"), AZ$17:AZ212), AZ213))","v":0},null,null,5,5,5,"",null,null,{"$f":"IF(BI214=\"\", 0, BI214 - IF(BI213=\"\", LOOKUP(2, 1/(BI$17:BI212<>\"\"), BI$17:BI212), BI213))","v":0},null,null,5,5,5,"",null,null,{"$f":"IF(BR214=\"\", 0, BR214 - IF(BR213=\"\", LOOKUP(2, 1/(BR$17:BR212<>\"\"), BR$17:BR212), BR213))","v":0},null,null,5,5,5,"",null,null,{"$f":"IF(CA214=\"\", 0, CA214 - IF(CA213=\"\", LOOKUP(2, 1/(CA$17:CA212<>\"\"), CA$17:CA212), CA213))","v":0},null,null,5,5,5,"",null,null,{"$f":"IF(CJ214=\"\", 0, CJ214 - IF(CJ213=\"\", LOOKUP(2, 1/(CJ$17:CJ212<>\"\"), CJ$17:CJ212), CJ213))","v":0},null,null,5,5,5,"",null,null,{"$f":"IF(CS214=\"\", 0, CS214 - IF(CS213=\"\", LOOKUP(2, 1/(CS$17:CS212<>\"\"), CS$17:CS212), CS213))","v":0},null,null,5,5,5,"",null,null,{"$f":"IF(DB214=\"\", 0, DB214 - IF(DB213=\"\", LOOKUP(2, 1/(DB$17:DB212<>\"\"), DB$17:DB212), DB213))","v":0},null,null,5,5,5,"",null,null,{"$f":"IF(DK214=\"\", 0, DK214 - IF(DK213=\"\", LOOKUP(2, 1/(DK$17:DK212<>\"\"), DK$17:DK212), DK213))","v":0},null,null,5,5,5,"",null,null,{"$f":"IF(DT214=\"\", 0, DT214 - IF(DT213=\"\", LOOKUP(2, 1/(DT$17:DT212<>\"\"), DT$17:DT212), DT213))","v":0},null,null,5,5,5,"",null,null,{"$f":"IF(EC214=\"\", 0, EC214 - IF(EC213=\"\", LOOKUP(2, 1/(EC$17:EC212<>\"\"), EC$17:EC212), EC213))","v":0},null,null,5,5,5,"",null,null,{"$f":"IF(EL214=\"\", 0, EL214 - IF(EL213=\"\", LOOKUP(2, 1/(EL$17:EL212<>\"\"), EL$17:EL212), EL213))","v":0},null,null,5,5,5,"",null,null,{"$f":"IF(EU214=\"\", 0, EU214 - IF(EU213=\"\", LOOKUP(2, 1/(EU$17:EU212<>\"\"), EU$17:EU212), EU213))","v":0},null,null,5,5,5,"",null,null,{"$f":"IF(FD214=\"\", 0, FD214 - IF(FD213=\"\", LOOKUP(2, 1/(FD$17:FD212<>\"\"), FD$17:FD212), FD213))","v":0},null,null,5,5,5,"",null,null,{"$f":"IF(FM214=\"\", 0, FM214 - IF(FM213=\"\", LOOKUP(2, 1/(FM$17:FM212<>\"\"), FM$17:FM212), FM213))","v":0},null,null,5,5,5,"",null,null,{"$f":"IF(FV214=\"\", 0, FV214 - IF(FV213=\"\", LOOKUP(2, 1/(FV$17:FV212<>\"\"), FV$17:FV212), FV213))","v":0},null,null,5,5,5,"",null,null,null,null,null,5,5,5,"",null,null,null,null,null,5,5,5,"",null,null,null,null,null,5,5,5,"",null,null,null,null,null,5,5,5,"",null,null,null,null,null,5,5,5,"",null,null,null,null,null,5,5,5,"",null,null,null,null,null,5,5,5,"",null,null,{"$f":"IF(IP214=\"\", 0, IP214 - IF(IP213=\"\", LOOKUP(2, 1/(IP$17:IP212<>\"\"), IP$17:IP212), IP213))","v":0},null,null,5,5,5,"",null,null,{"$f":"IF(IY214=\"\", 0, IY214 - IF(IY213=\"\", LOOKUP(2, 1/(IY$17:IY212<>\"\"), IY$17:IY212), IY213))","v":0},null,null,5,5,5,"",null,null,{"$f":"IF(JH214=\"\", 0, JH214 - IF(JH213=\"\", LOOKUP(2, 1/(JH$17:JH212<>\"\"), JH$17:JH212), JH213))","v":0},null,null,5,5,5,"",null,null,{"$f":"IF(JQ214=\"\", 0, JQ214 - IF(JQ213=\"\", LOOKUP(2, 1/(JQ$17:JQ212<>\"\"), JQ$17:JQ212), JQ213))","v":0},null,null,5,5,5,"",null,null,{"$f":"IF(JZ214=\"\", 0, JZ214 - IF(JZ213=\"\", LOOKUP(2, 1/(JZ$17:JZ212<>\"\"), JZ$17:JZ212), JZ213))","v":0},null,null,5,5,5,"",null,null,{"$f":"IF(KI214=\"\", 0, KI214 - IF(KI213=\"\", LOOKUP(2, 1/(KI$17:KI212<>\"\"), KI$17:KI212), KI213))","v":0},null,null,5,5,5,"",null,null,{"$f":"IF(KR214=\"\", 0, KR214 - IF(KR213=\"\", LOOKUP(2, 1/(KR$17:KR212<>\"\"), KR$17:KR212), KR213))","v":0},null,null,5,5,5,"",null,null,{"$f":"IF(LA214=\"\", 0, LA214 - IF(LA213=\"\", LOOKUP(2, 1/(LA$17:LA212<>\"\"), LA$17:LA212), LA213))","v":0},null,null,5,5,5,"",null,null,{"$f":"IF(LJ214=\"\", 0, LJ214 - IF(LJ213=\"\", LOOKUP(2, 1/(LJ$17:LJ212<>\"\"), LJ$17:LJ212), LJ213))","v":0},null,null,5,5,5,"",null,null,{"$f":"IF(LS214=\"\", 0, LS214 - IF(LS213=\"\", LOOKUP(2, 1/(LS$17:LS212<>\"\"), LS$17:LS212), LS213))","v":0},null,null,5,5,5,"",null,null,{"$f":"IF(MB214=\"\", 0, MB214 - IF(MB213=\"\", LOOKUP(2, 1/(MB$17:MB212<>\"\"), MB$17:MB212), MB213))","v":0},null,null,5,5,5,"",null,null,{"$f":"IF(MK214=\"\", 0, MK214 - IF(MK213=\"\", LOOKUP(2, 1/(MK$17:MK212<>\"\"), MK$17:MK212), MK213))","v":0},null,null,5,5,5,"",null,null,{"$f":"IF(MT214=\"\", 0, MT214 - IF(MT213=\"\", LOOKUP(2, 1/(MT$17:MT212<>\"\"), MT$17:MT212), MT213))","v":0},null,null,5,"",null,null,{"$f":"IF(NA214=\"\", 0, NA214 - IF(NA213=\"\", LOOKUP(2, 1/(NA$17:NA212<>\"\"), NA$17:NA212), NA213))","v":0},null,null,5,5,5,"",null,null,{"$f":"IF(NJ214=\"\", 0, NJ214 - IF(NJ213=\"\", LOOKUP(2, 1/(NJ$17:NJ212<>\"\"), NJ$17:NJ212), NJ213))","v":0},null,null,5,5,5,"",null,null,{"$f":"IF(NS214=\"\", 0, NS214 - IF(NS213=\"\", LOOKUP(2, 1/(NS$17:NS212<>\"\"), NS$17:NS212), NS213))","v":0},null,null,5,5,5,"",null,null,{"$f":"IF(OB214=\"\", 0, OB214 - IF(OB213=\"\", LOOKUP(2, 1/(OB$17:OB212<>\"\"), OB$17:OB212), OB213))","v":0},null,null,5,5,5,"",null,null,{"$f":"IF(OK214=\"\", 0, OK214 - IF(OK213=\"\", LOOKUP(2, 1/(OK$17:OK212<>\"\"), OK$17:OK212), OK213))","v":0},null,null,5,5,5,"",null,null,{"$f":"IF(OT214=\"\", 0, OT214 - IF(OT213=\"\", LOOKUP(2, 1/(OT$17:OT212<>\"\"), OT$17:OT212), OT213))","v":0},null,null,5,5,5,"",null,null,{"$f":"IF(PC214=\"\", 0, PC214 - IF(PC213=\"\", LOOKUP(2, 1/(PC$17:PC212<>\"\"), PC$17:PC212), PC213))","v":0},null,null,5,5,5,"",null,null,{"$f":"IF(PL214=\"\", 0, PL214 - IF(PL213=\"\", LOOKUP(2, 1/(PL$17:PL212<>\"\"), PL$17:PL212), PL213))","v":0},null,null,5,5,5,"",null,null,{"$f":"IF(PU214=\"\", 0, PU214 - IF(PU213=\"\", LOOKUP(2, 1/(PU$17:PU212<>\"\"), PU$17:PU212), PU213))","v":0},null,null,5,5,5,"",null,null,{"$f":"IF(QD214=\"\", 0, QD214 - IF(QD213=\"\", LOOKUP(2, 1/(QD$17:QD212<>\"\"), QD$17:QD212), QD213))","v":0}]
[null,4,4,4,"",null,null,{"$f":"IF(G215=\"\", 0, G215 - IF(G214=\"\", LOOKUP(2, 1/(G$17:G213<>\"\"), G$17:G213), G214))","v":0},null,null,4,4,4,"",null,null,{"$f":"IF(P215=\"\", 0, P215 - IF(P214=\"\", LOOKUP(2, 1/(P$17:P213<>\"\"), P$17:P213), P214))","v":0},null,null,4,4,4,"",null,null,{"$f":"IF(Y215=\"\", 0, Y215 - IF(Y214=\"\", LOOKUP(2, 1/(Y$17:Y213<>\"\"), Y$17:Y213), Y214))","v":0},null,null,4,4,4,"",null,null,{"$f":"IF(AH215=\"\", 0, AH215 - IF(AH214=\"\", LOOKUP(2, 1/(AH$17:AH213<>\"\"), AH$17:AH213), AH214))","v":0},null,null,4,4,4,"",null,null,{"$f":"IF(AQ215=\"\", 0, AQ215 - IF(AQ214=\"\", LOOKUP(2, 1/(AQ$17:AQ213<>\"\"), AQ$17:AQ213), AQ214))","v":0},null,null,4,4,4,"",null,null,{"$f":"IF(AZ215=\"\", 0, AZ215 - IF(AZ214=\"\", LOOKUP(2, 1/(AZ$17:AZ213<>\"\"), AZ$17:AZ213), AZ214))","v":0},null,null,4,4,4,"",null,null,{"$f":"IF(BI215=\"\", 0, BI215 - IF(BI214=\"\", LOOKUP(2, 1/(BI$17:BI213<>\"\"), BI$17:BI213), BI214))","v":0},null,null,4,4,4,"",null,null,{"$f":"IF(BR215=\"\", 0, BR215 - IF(BR214=\"\", LOOKUP(2, 1/(BR$17:BR213<>\"\"), BR$17:BR213), BR214))","v":0},null,null,4,4,4,"",null,null,{"$f":"IF(CA215=\"\", 0, CA215 - IF(CA214=\"\", LOOKUP(2, 1/(CA$17:CA213<>\"\"), CA$17:CA213), CA214))","v":0},null,null,4,4,4,"",null,null,{"$f":"IF(CJ215=\"\", 0, CJ215 - IF(CJ214=\"\", LOOKUP(2, 1/(CJ$17:CJ213<>\"\"), CJ$17:CJ213), CJ214))","v":0},null,null,4,4,4,"",null,null,{"$f":"IF(CS215=\"\", 0, CS215 - IF(CS214=\"\", LOOKUP(2, 1/(CS$17:CS213<>\"\"), CS$17:CS213), CS214))","v":0},null,null,4,4,4,"",null,null,{"$f":"IF(DB215=\"\", 0, DB215 - IF(DB214=\"\", LOOKUP(2, 1/(DB$17:DB213<>\"\"), DB$17:DB213), DB214))","v":0},null,null,4,4,4,"",null,null,{"$f":"IF(DK215=\"\", 0, DK215 - IF(DK214=\"\", LOOKUP(2, 1/(DK$17:DK213<>\"\"), DK$17:DK213), DK214))","v":0},null,null,4,4,4,"",null,null,{"$f":"IF(DT215=\"\", 0, DT215 - IF(DT214=\"\", LOOKUP(2, 1/(DT$17:DT213<>\"\"), DT$17:DT213), DT214))","v":0},null,null,4,4,4,"",null,null,{"$f":"IF(EC215=\"\", 0, EC215 - IF(EC214=\"\", LOOKUP(2, 1/(EC$17:EC213<>\"\"), EC$17:EC213), EC214))","v":0},null,null,4,4,4,"",null,null,{"$f":"IF(EL215=\"\", 0, EL215 - IF(EL214=\"\", LOOKUP(2, 1/(EL$17:EL213<>\"\"), EL$17:EL213), EL214))","v":0},null,null,4,4,4,"",null,null,{"$f":"IF(EU215=\"\", 0, EU215 - IF(EU214=\"\", LOOKUP(2, 1/(EU$17:EU213<>\"\"), EU$17:EU213), EU214))","v":0},null,null,4,4,4,"",null,null,{"$f":"IF(FD215=\"\", 0, FD215 - IF(FD214=\"\", LOOKUP(2, 1/(FD$17:FD213<>\"\"), FD$17:FD213), FD214))","v":0},null,null,4,4,4,"",null,null,{"$f":"IF(FM215=\"\", 0, FM215 - IF(FM214=\"\", LOOKUP(2, 1/(FM$17:FM213<>\"\"), FM$17:FM213), FM214))","v":0},null,null,4,4,4,"",null,null,{"$f":"IF(FV215=\"\", 0, FV215 - IF(FV214=\"\", LOOKUP(2, 1/(FV$17:FV213<>\"\"), FV$17:FV213), FV214))","v":0},null,null,4,4,4,"",null,null,null,null,null,4,4,4,"",null,null,null,null,null,4,4,4,"",null,null,null,null,null,4,4,4,"",null,null,null,null,null,4,4,4,"",null,null,null,null,null,4,4,4,"",null,null,null,null,null,4,4,4,"",null,null,null,null,null,4,4,4,"",null,null,{"$f":"IF(IP215=\"\", 0, IP215 - IF(IP214=\"\", LOOKUP(2, 1/(IP$17:IP213<>\"\"), IP$17:IP213), IP214))","v":0},null,null,4,4,4,"",null,null,{"$f":"IF(IY215=\"\", 0, IY215 - IF(IY214=\"\", LOOKUP(2, 1/(IY$17:IY213<>\"\"), IY$17:IY213), IY214))","v":0},null,null,4,4,4,"",null,null,{"$f":"IF(JH215=\"\", 0, JH215 - IF(JH214=\"\", LOOKUP(2, 1/(JH$17:JH213<>\"\"), JH$17:JH213), JH214))","v":0},null,null,4,4,4,"",null,null,{"$f":"IF(JQ215=\"\", 0, JQ215 - IF(JQ214=\"\", LOOKUP(2, 1/(JQ$17:JQ213<>\"\"), JQ$17:JQ213), JQ214))","v":0},null,null,4,4,4,"",null,null,{"$f":"IF(JZ215=\"\", 0, JZ215 - IF(JZ214=\"\", LOOKUP(2, 1/(JZ$17:JZ213<>\"\"), JZ$17:JZ213), JZ214))","v":0},null,null,4,4,4,"",null,null,{"$f":"IF(KI215=\"\", 0, KI215 - IF(KI214=\"\", LOOKUP(2, 1/(KI$17:KI213<>\"\"), KI$17:KI213), KI214))","v":0},null,null,4,4,4,"",null,null,{"$f":"IF(KR215=\"\", 0, KR215 - IF(KR214=\"\", LOOKUP(2, 1/(KR$17:KR213<>\"\"), KR$17:KR213), KR214))","v":0},null,null,4,4,4,"",null,null,{"$f":"IF(LA215=\"\", 0, LA215 - IF(LA214=\"\", LOOKUP(2, 1/(LA$17:LA213<>\"\"), LA$17:LA213), LA214))","v":0},null,null,4,4,4,"",null,null,{"$f":"IF(LJ215=\"\", 0, LJ215 - IF(LJ214=\"\", LOOKUP(2, 1/(LJ$17:LJ213<>\"\"), LJ$17:LJ213), LJ214))","v":0},null,null,4,4,4,"",null,null,{"$f":"IF(LS215=\"\", 0, LS215 - IF(LS214=\"\", LOOKUP(2, 1/(LS$17:LS213<>\"\"), LS$17:LS213), LS214))","v":0},null,null,4,4,4,"",null,null,{"$f":"IF(MB215=\"\", 0, MB215 - IF(MB214=\"\", LOOKUP(2, 1/(MB$17:MB213<>\"\"), MB$17:MB213), MB214))","v":0},null,null,4,4,4,"",null,null,{"$f":"IF(MK215=\"\", 0, MK215 - IF(MK214=\"\", LOOKUP(2, 1/(MK$17:MK213<>\"\"), MK$17:MK213), MK214))","v":0},null,null,4,4,4,"",null,null,{"$f":"IF(MT215=\"\", 0, MT215 - IF(MT214=\"\", LOOKUP(2, 1/(MT$17:MT213<>\"\"), MT$17:MT213), MT214))","v":0},null,null,4,"",null,null,{"$f":"IF(NA215=\"\", 0, NA215 - IF(NA214=\"\", LOOKUP(2, 1/(NA$17:NA213<>\"\"), NA$17:NA213), NA214))","v":0},null,null,4,4,4,"",null,null,{"$f":"IF(NJ215=\"\", 0, NJ215 - IF(NJ214=\"\", LOOKUP(2, 1/(NJ$17:NJ213<>\"\"), NJ$17:NJ213), NJ214))","v":0},null,null,4,4,4,"",null,null,{"$f":"IF(NS215=\"\", 0, NS215 - IF(NS214=\"\", LOOKUP(2, 1/(NS$17:NS213<>\"\"), NS$17:NS213), NS214))","v":0},null,null,4,4,4,"",null,null,{"$f":"IF(OB215=\"\", 0, OB215 - IF(OB214=\"\", LOOKUP(2, 1/(OB$17:OB213<>\"\"), OB$17:OB213), OB214))","v":0},null,null,4,4,4,"",null,null,{"$f":"IF(OK215=\"\", 0, OK215 - IF(OK214=\"\", LOOKUP(2, 1/(OK$17:OK213<>\"\"), OK$17:OK213), OK214))","v":0},null,null,4,4,4,"",null,null,{"$f":"IF(OT215=\"\", 0, OT215 - IF(OT214=\"\", LOOKUP(2, 1/(OT$17:OT213<>\"\"), OT$17:OT213), OT214))","v":0},null,null,4,4,4,"",null,null,{"$f":"IF(PC215=\"\", 0, PC215 - IF(PC214=\"\", LOOKUP(2, 1/(PC$17:PC213<>\"\"), PC$17:PC213), PC214))","v":0},null,null,4,4,4,"",null,null,{"$f":"IF(PL215=\"\", 0, PL215 - IF(PL214=\"\", LOOKUP(2, 1/(PL$17:PL213<>\"\"), PL$17:PL213), PL214))","v":0},null,null,4,4,4,"",null,null,{"$f":"IF(PU215=\"\", 0, PU215 - IF(PU214=\"\", LOOKUP(2, 1/(PU$17:PU213<>\"\"), PU$17:PU213), PU214))","v":0},null,null,4,4,4,"",null,null,{"$f":"IF(QD215=\"\", 0, QD215 - IF(QD214=\"\", LOOKUP(2, 1/(QD$17:QD213<>\"\"), QD$17:QD213), QD214))","v":0}]
[null,3,3,3,"",null,null,{"$f":"IF(G216=\"\", 0, G216 - IF(G215=\"\", LOOKUP(2, 1/(G$17:G214<>\"\"), G$17:G214), G215))","v":0},null,null,3,3,3,"",null,null,{"$f":"IF(P216=\"\", 0, P216 - IF(P215=\"\", LOOKUP(2, 1/(P$17:P214<>\"\"), P$17:P214), P215))","v":0},null,null,3,3,3,"",null,null,{"$f":"IF(Y216=\"\", 0, Y216 - IF(Y215=\"\", LOOKUP(2, 1/(Y$17:Y214<>\"\"), Y$17:Y214), Y215))","v":0},null,null,3,3,3,"",null,null,{"$f":"IF(AH216=\"\", 0, AH216 - IF(AH215=\"\", LOOKUP(2, 1/(AH$17:AH214<>\"\"), AH$17:AH214), AH215))","v":0},null,null,3,3,3,"",null,null,{"$f":"IF(AQ216=\"\", 0, AQ216 - IF(AQ215=\"\", LOOKUP(2, 1/(AQ$17:AQ214<>\"\"), AQ$17:AQ214), AQ215))","v":0},null,null,3,3,3,"",null,null,{"$f":"IF(AZ216=\"\", 0, AZ216 - IF(AZ215=\"\", LOOKUP(2, 1/(AZ$17:AZ214<>\"\"), AZ$17:AZ214), AZ215))","v":0},null,null,3,3,3,"",null,null,{"$f":"IF(BI216=\"\", 0, BI216 - IF(BI215=\"\", LOOKUP(2, 1/(BI$17:BI214<>\"\"), BI$17:BI214), BI215))","v":0},null,null,3,3,3,"",null,null,{"$f":"IF(BR216=\"\", 0, BR216 - IF(BR215=\"\", LOOKUP(2, 1/(BR$17:BR214<>\"\"), BR$17:BR214), BR215))","v":0},null,null,3,3,3,"",null,null,{"$f":"IF(CA216=\"\", 0, CA216 - IF(CA215=\"\", LOOKUP(2, 1/(CA$17:CA214<>\"\"), CA$17:CA214), CA215))","v":0},null,null,3,3,3,"",null,null,{"$f":"IF(CJ216=\"\", 0, CJ216 - IF(CJ215=\"\", LOOKUP(2, 1/(CJ$17:CJ214<>\"\"), CJ$17:CJ214), CJ215))","v":0},null,null,3,3,3,"",null,null,{"$f":"IF(CS216=\"\", 0, CS216 - IF(CS215=\"\", LOOKUP(2, 1/(CS$17:CS214<>\"\"), CS$17:CS214), CS215))","v":0},null,null,3,3,3,"",null,null,{"$f":"IF(DB216=\"\", 0, DB216 - IF(DB215=\"\", LOOKUP(2, 1/(DB$17:DB214<>\"\"), DB$17:DB214), DB215))","v":0},null,null,3,3,3,"",null,null,{"$f":"IF(DK216=\"\", 0, DK216 - IF(DK215=\"\", LOOKUP(2, 1/(DK$17:DK214<>\"\"), DK$17:DK214), DK215))","v":0},null,null,3,3,3,"",null,null,{"$f":"IF(DT216=\"\", 0, DT216 - IF(DT215=\"\", LOOKUP(2, 1/(DT$17:DT214<>\"\"), DT$17:DT214), DT215))","v":0},null,null,3,3,3,"",null,null,{"$f":"IF(EC216=\"\", 0, EC216 - IF(EC215=\"\", LOOKUP(2, 1/(EC$17:EC214<>\"\"), EC$17:EC214), EC215))","v":0},null,null,3,3,3,"",null,null,{"$f":"IF(EL216=\"\", 0, EL216 - IF(EL215=\"\", LOOKUP(2, 1/(EL$17:EL214<>\"\"), EL$17:EL214), EL215))","v":0},null,null,3,3,3,"",null,null,{"$f":"IF(EU216=\"\", 0, EU216 - IF(EU215=\"\", LOOKUP(2, 1/(EU$17:EU214<>\"\"), EU$17:EU214), EU215))","v":0},null,null,3,3,3,"",null,null,{"$f":"IF(FD216=\"\", 0, FD216 - IF(FD215=\"\", LOOKUP(2, 1/(FD$17:FD214<>\"\"), FD$17:FD214), FD215))","v":0},null,null,3,3,3,"",null,null,{"$f":"IF(FM216=\"\", 0, FM216 - IF(FM215=\"\", LOOKUP(2, 1/(FM$17:FM214<>\"\"), FM$17:FM214), FM215))","v":0},null,null,3,3,3,"",null,null,{"$f":"IF(FV216=\"\", 0, FV216 - IF(FV215=\"\", LOOKUP(2, 1/(FV$17:FV214<>\"\"), FV$17:FV214), FV215))","v":0},null,null,3,3,3,"",null,null,null,null,null,3,3,3,"",null,null,null,null,null,3,3,3,"",null,null,null,null,null,3,3,3,"",null,null,null,null,null,3,3,3,"",null,null,null,null,null,3,3,3,"",null,null,null,null,null,3,3,3,"",null,null,null,null,null,3,3,3,"",null,null,{"$f":"IF(IP216=\"\", 0, IP216 - IF(IP215=\"\", LOOKUP(2, 1/(IP$17:IP214<>\"\"), IP$17:IP214), IP215))","v":0},null,null,3,3,3,"",null,null,{"$f":"IF(IY216=\"\", 0, IY216 - IF(IY215=\"\", LOOKUP(2, 1/(IY$17:IY214<>\"\"), IY$17:IY214), IY215))","v":0},null,null,3,3,3,"",null,null,{"$f":"IF(JH216=\"\", 0, JH216 - IF(JH215=\"\", LOOKUP(2, 1/(JH$17:JH214<>\"\"), JH$17:JH214), JH215))","v":0},null,null,3,3,3,"",null,null,{"$f":"IF(JQ216=\"\", 0, JQ216 - IF(JQ215=\"\", LOOKUP(2, 1/(JQ$17:JQ214<>\"\"), JQ$17:JQ214), JQ215))","v":0},null,null,3,3,3,"",null,null,{"$f":"IF(JZ216=\"\", 0, JZ216 - IF(JZ215=\"\", LOOKUP(2, 1/(JZ$17:JZ214<>\"\"), JZ$17:JZ214), JZ215))","v":0},null,null,3,3,3,"",null,null,{"$f":"IF(KI216=\"\", 0, KI216 - IF(KI215=\"\", LOOKUP(2, 1/(KI$17:KI214<>\"\"), KI$17:KI214), KI215))","v":0},null,null,3,3,3,"",null,null,{"$f":"IF(KR216=\"\", 0, KR216 - IF(KR215=\"\", LOOKUP(2, 1/(KR$17:KR214<>\"\"), KR$17:KR214), KR215))","v":0},null,null,3,3,3,"",null,null,{"$f":"IF(LA216=\"\", 0, LA216 - IF(LA215=\"\", LOOKUP(2, 1/(LA$17:LA214<>\"\"), LA$17:LA214), LA215))","v":0},null,null,3,3,3,"",null,null,{"$f":"IF(LJ216=\"\", 0, LJ216 - IF(LJ215=\"\", LOOKUP(2, 1/(LJ$17:LJ214<>\"\"), LJ$17:LJ214), LJ215))","v":0},null,null,3,3,3,"",null,null,{"$f":"IF(LS216=\"\", 0, LS216 - IF(LS215=\"\", LOOKUP(2, 1/(LS$17:LS214<>\"\"), LS$17:LS214), LS215))","v":0},null,null,3,3,3,"",null,null,{"$f":"IF(MB216=\"\", 0, MB216 - IF(MB215=\"\", LOOKUP(2, 1/(MB$17:MB214<>\"\"), MB$17:MB214), MB215))","v":0},null,null,3,3,3,"",null,null,{"$f":"IF(MK216=\"\", 0, MK216 - IF(MK215=\"\", LOOKUP(2, 1/(MK$17:MK214<>\"\"), MK$17:MK214), MK215))","v":0},null,null,3,3,3,"",null,null,{"$f":"IF(MT216=\"\", 0, MT216 - IF(MT215=\"\", LOOKUP(2, 1/(MT$17:MT214<>\"\"), MT$17:MT214), MT215))","v":0},null,null,3,"",null,null,{"$f":"IF(NA216=\"\", 0, NA216 - IF(NA215=\"\", LOOKUP(2, 1/(NA$17:NA214<>\"\"), NA$17:NA214), NA215))","v":0},null,null,3,3,3,"",null,null,{"$f":"IF(NJ216=\"\", 0, NJ216 - IF(NJ215=\"\", LOOKUP(2, 1/(NJ$17:NJ214<>\"\"), NJ$17:NJ214), NJ215))","v":0},null,null,3,3,3,"",null,null,{"$f":"IF(NS216=\"\", 0, NS216 - IF(NS215=\"\", LOOKUP(2, 1/(NS$17:NS214<>\"\"), NS$17:NS214), NS215))","v":0},null,null,3,3,3,"",null,null,{"$f":"IF(OB216=\"\", 0, OB216 - IF(OB215=\"\", LOOKUP(2, 1/(OB$17:OB214<>\"\"), OB$17:OB214), OB215))","v":0},null,null,3,3,3,"",null,null,{"$f":"IF(OK216=\"\", 0, OK216 - IF(OK215=\"\", LOOKUP(2, 1/(OK$17:OK214<>\"\"), OK$17:OK214), OK215))","v":0},null,null,3,3,3,"",null,null,{"$f":"IF(OT216=\"\", 0, OT216 - IF(OT215=\"\", LOOKUP(2, 1/(OT$17:OT214<>\"\"), OT$17:OT214), OT215))","v":0},null,null,3,3,3,"",null,null,{"$f":"IF(PC216=\"\", 0, PC216 - IF(PC215=\"\", LOOKUP(2, 1/(PC$17:PC214<>\"\"), PC$17:PC214), PC215))","v":0},null,null,3,3,3,"",null,null,{"$f":"IF(PL216=\"\", 0, PL216 - IF(PL215=\"\", LOOKUP(2, 1/(PL$17:PL214<>\"\"), PL$17:PL214), PL215))","v":0},null,null,3,3,3,"",null,null,{"$f":"IF(PU216=\"\", 0, PU216 - IF(PU215=\"\", LOOKUP(2, 1/(PU$17:PU214<>\"\"), PU$17:PU214), PU215))","v":0},null,null,3,3,3,"",null,null,{"$f":"IF(QD216=\"\", 0, QD216 - IF(QD215=\"\", LOOKUP(2, 1/(QD$17:QD214<>\"\"), QD$17:QD214), QD215))","v":0}]
[null,2,2,2,"",null,null,{"$f":"IF(G217=\"\", 0, G217 - IF(G216=\"\", LOOKUP(2, 1/(G$17:G215<>\"\"), G$17:G215), G216))","v":0},null,null,2,2,2,"",null,null,{"$f":"IF(P217=\"\", 0, P217 - IF(P216=\"\", LOOKUP(2, 1/(P$17:P215<>\"\"), P$17:P215), P216))","v":0},null,null,2,2,2,"",null,null,{"$f":"IF(Y217=\"\", 0, Y217 - IF(Y216=\"\", LOOKUP(2, 1/(Y$17:Y215<>\"\"), Y$17:Y215), Y216))","v":0},null,null,2,2,2,"",null,null,{"$f":"IF(AH217=\"\", 0, AH217 - IF(AH216=\"\", LOOKUP(2, 1/(AH$17:AH215<>\"\"), AH$17:AH215), AH216))","v":0},null,null,2,2,2,"",null,null,{"$f":"IF(AQ217=\"\", 0, AQ217 - IF(AQ216=\"\", LOOKUP(2, 1/(AQ$17:AQ215<>\"\"), AQ$17:AQ215), AQ216))","v":0},null,null,2,2,2,"",null,null,{"$f":"IF(AZ217=\"\", 0, AZ217 - IF(AZ216=\"\", LOOKUP(2, 1/(AZ$17:AZ215<>\"\"), AZ$17:AZ215), AZ216))","v":0},null,null,2,2,2,"",null,null,{"$f":"IF(BI217=\"\", 0, BI217 - IF(BI216=\"\", LOOKUP(2, 1/(BI$17:BI215<>\"\"), BI$17:BI215), BI216))","v":0},null,null,2,2,2,"",null,null,{"$f":"IF(BR217=\"\", 0, BR217 - IF(BR216=\"\", LOOKUP(2, 1/(BR$17:BR215<>\"\"), BR$17:BR215), BR216))","v":0},null,null,2,2,2,"",null,null,{"$f":"IF(CA217=\"\", 0, CA217 - IF(CA216=\"\", LOOKUP(2, 1/(CA$17:CA215<>\"\"), CA$17:CA215), CA216))","v":0},null,null,2,2,2,"",null,null,{"$f":"IF(CJ217=\"\", 0, CJ217 - IF(CJ216=\"\", LOOKUP(2, 1/(CJ$17:CJ215<>\"\"), CJ$17:CJ215), CJ216))","v":0},null,null,2,2,2,"",null,null,{"$f":"IF(CS217=\"\", 0, CS217 - IF(CS216=\"\", LOOKUP(2, 1/(CS$17:CS215<>\"\"), CS$17:CS215), CS216))","v":0},null,null,2,2,2,"",null,null,{"$f":"IF(DB217=\"\", 0, DB217 - IF(DB216=\"\", LOOKUP(2, 1/(DB$17:DB215<>\"\"), DB$17:DB215), DB216))","v":0},null,null,2,2,2,"",null,null,{"$f":"IF(DK217=\"\", 0, DK217 - IF(DK216=\"\", LOOKUP(2, 1/(DK$17:DK215<>\"\"), DK$17:DK215), DK216))","v":0},null,null,2,2,2,"",null,null,{"$f":"IF(DT217=\"\", 0, DT217 - IF(DT216=\"\", LOOKUP(2, 1/(DT$17:DT215<>\"\"), DT$17:DT215), DT216))","v":0},null,null,2,2,2,"",null,null,{"$f":"IF(EC217=\"\", 0, EC217 - IF(EC216=\"\", LOOKUP(2, 1/(EC$17:EC215<>\"\"), EC$17:EC215), EC216))","v":0},null,null,2,2,2,"",null,null,{"$f":"IF(EL217=\"\", 0, EL217 - IF(EL216=\"\", LOOKUP(2, 1/(EL$17:EL215<>\"\"), EL$17:EL215), EL216))","v":0},null,null,2,2,2,"",null,null,{"$f":"IF(EU217=\"\", 0, EU217 - IF(EU216=\"\", LOOKUP(2, 1/(EU$17:EU215<>\"\"), EU$17:EU215), EU216))","v":0},null,null,2,2,2,"",null,null,{"$f":"IF(FD217=\"\", 0, FD217 - IF(FD216=\"\", LOOKUP(2, 1/(FD$17:FD215<>\"\"), FD$17:FD215), FD216))","v":0},null,null,2,2,2,"",null,null,{"$f":"IF(FM217=\"\", 0, FM217 - IF(FM216=\"\", LOOKUP(2, 1/(FM$17:FM215<>\"\"), FM$17:FM215), FM216))","v":0},null,null,2,2,2,"",null,null,{"$f":"IF(FV217=\"\", 0, FV217 - IF(FV216=\"\", LOOKUP(2, 1/(FV$17:FV215<>\"\"), FV$17:FV215), FV216))","v":0},null,null,2,2,2,"",null,null,null,null,null,2,2,2,"",null,null,null,null,null,2,2,2,"",null,null,null,null,null,2,2,2,"",null,null,null,null,null,2,2,2,"",null,null,null,null,null,2,2,2,"",null,null,null,null,null,2,2,2,"",null,null,null,null,null,2,2,2,"",null,null,{"$f":"IF(IP217=\"\", 0, IP217 - IF(IP216=\"\", LOOKUP(2, 1/(IP$17:IP215<>\"\"), IP$17:IP215), IP216))","v":0},null,null,2,2,2,"",null,null,{"$f":"IF(IY217=\"\", 0, IY217 - IF(IY216=\"\", LOOKUP(2, 1/(IY$17:IY215<>\"\"), IY$17:IY215), IY216))","v":0},null,null,2,2,2,"",null,null,{"$f":"IF(JH217=\"\", 0, JH217 - IF(JH216=\"\", LOOKUP(2, 1/(JH$17:JH215<>\"\"), JH$17:JH215), JH216))","v":0},null,null,2,2,2,"",null,null,{"$f":"IF(JQ217=\"\", 0, JQ217 - IF(JQ216=\"\", LOOKUP(2, 1/(JQ$17:JQ215<>\"\"), JQ$17:JQ215), JQ216))","v":0},null,null,2,2,2,"",null,null,{"$f":"IF(JZ217=\"\", 0, JZ217 - IF(JZ216=\"\", LOOKUP(2, 1/(JZ$17:JZ215<>\"\"), JZ$17:JZ215), JZ216))","v":0},null,null,2,2,2,"",null,null,{"$f":"IF(KI217=\"\", 0, KI217 - IF(KI216=\"\", LOOKUP(2, 1/(KI$17:KI215<>\"\"), KI$17:KI215), KI216))","v":0},null,null,2,2,2,"",null,null,{"$f":"IF(KR217=\"\", 0, KR217 - IF(KR216=\"\", LOOKUP(2, 1/(KR$17:KR215<>\"\"), KR$17:KR215), KR216))","v":0},null,null,2,2,2,"",null,null,{"$f":"IF(LA217=\"\", 0, LA217 - IF(LA216=\"\", LOOKUP(2, 1/(LA$17:LA215<>\"\"), LA$17:LA215), LA216))","v":0},null,null,2,2,2,"",null,null,{"$f":"IF(LJ217=\"\", 0, LJ217 - IF(LJ216=\"\", LOOKUP(2, 1/(LJ$17:LJ215<>\"\"), LJ$17:LJ215), LJ216))","v":0},null,null,2,2,2,"",null,null,{"$f":"IF(LS217=\"\", 0, LS217 - IF(LS216=\"\", LOOKUP(2, 1/(LS$17:LS215<>\"\"), LS$17:LS215), LS216))","v":0},null,null,2,2,2,"",null,null,{"$f":"IF(MB217=\"\", 0, MB217 - IF(MB216=\"\", LOOKUP(2, 1/(MB$17:MB215<>\"\"), MB$17:MB215), MB216))","v":0},null,null,2,2,2,"",null,null,{"$f":"IF(MK217=\"\", 0, MK217 - IF(MK216=\"\", LOOKUP(2, 1/(MK$17:MK215<>\"\"), MK$17:MK215), MK216))","v":0},null,null,2,2,2,"",null,null,{"$f":"IF(MT217=\"\", 0, MT217 - IF(MT216=\"\", LOOKUP(2, 1/(MT$17:MT215<>\"\"), MT$17:MT215), MT216))","v":0},null,null,2,"",null,null,{"$f":"IF(NA217=\"\", 0, NA217 - IF(NA216=\"\", LOOKUP(2, 1/(NA$17:NA215<>\"\"), NA$17:NA215), NA216))","v":0},null,null,2,2,2,"",null,null,{"$f":"IF(NJ217=\"\", 0, NJ217 - IF(NJ216=\"\", LOOKUP(2, 1/(NJ$17:NJ215<>\"\"), NJ$17:NJ215), NJ216))","v":0},null,null,2,2,2,"",null,null,{"$f":"IF(NS217=\"\", 0, NS217 - IF(NS216=\"\", LOOKUP(2, 1/(NS$17:NS215<>\"\"), NS$17:NS215), NS216))","v":0},null,null,2,2,2,"",null,null,{"$f":"IF(OB217=\"\", 0, OB217 - IF(OB216=\"\", LOOKUP(2, 1/(OB$17:OB215<>\"\"), OB$17:OB215), OB216))","v":0},null,null,2,2,2,"",null,null,{"$f":"IF(OK217=\"\", 0, OK217 - IF(OK216=\"\", LOOKUP(2, 1/(OK$17:OK215<>\"\"), OK$17:OK215), OK216))","v":0},null,null,2,2,2,"",null,null,{"$f":"IF(OT217=\"\", 0, OT217 - IF(OT216=\"\", LOOKUP(2, 1/(OT$17:OT215<>\"\"), OT$17:OT215), OT216))","v":0},null,null,2,2,2,"",null,null,{"$f":"IF(PC217=\"\", 0, PC217 - IF(PC216=\"\", LOOKUP(2, 1/(PC$17:PC215<>\"\"), PC$17:PC215), PC216))","v":0},null,null,2,2,2,"",null,null,{"$f":"IF(PL217=\"\", 0, PL217 - IF(PL216=\"\", LOOKUP(2, 1/(PL$17:PL215<>\"\"), PL$17:PL215), PL216))","v":0},null,null,2,2,2,"",null,null,{"$f":"IF(PU217=\"\", 0, PU217 - IF(PU216=\"\", LOOKUP(2, 1/(PU$17:PU215<>\"\"), PU$17:PU215), PU216))","v":0},null,null,2,2,2,"",null,null,{"$f":"IF(QD217=\"\", 0, QD217 - IF(QD216=\"\", LOOKUP(2, 1/(QD$17:QD215<>\"\"), QD$17:QD215), QD216))","v":0}]
[null,1,1,1,"",null,null,{"$f":"IF(G218=\"\", 0, G218 - IF(G217=\"\", LOOKUP(2, 1/(G$17:G216<>\"\"), G$17:G216), G217))","v":0},null,null,1,1,1,"",null,null,{"$f":"IF(P218=\"\", 0, P218 - IF(P217=\"\", LOOKUP(2, 1/(P$17:P216<>\"\"), P$17:P216), P217))","v":0},null,null,1,1,1,"",null,null,{"$f":"IF(Y218=\"\", 0, Y218 - IF(Y217=\"\", LOOKUP(2, 1/(Y$17:Y216<>\"\"), Y$17:Y216), Y217))","v":0},null,null,1,1,1,"",null,null,{"$f":"IF(AH218=\"\", 0, AH218 - IF(AH217=\"\", LOOKUP(2, 1/(AH$17:AH216<>\"\"), AH$17:AH216), AH217))","v":0},null,null,1,1,1,"",null,null,{"$f":"IF(AQ218=\"\", 0, AQ218 - IF(AQ217=\"\", LOOKUP(2, 1/(AQ$17:AQ216<>\"\"), AQ$17:AQ216), AQ217))","v":0},null,null,1,1,1,"",null,null,{"$f":"IF(AZ218=\"\", 0, AZ218 - IF(AZ217=\"\", LOOKUP(2, 1/(AZ$17:AZ216<>\"\"), AZ$17:AZ216), AZ217))","v":0},null,null,1,1,1,"",null,null,{"$f":"IF(BI218=\"\", 0, BI218 - IF(BI217=\"\", LOOKUP(2, 1/(BI$17:BI216<>\"\"), BI$17:BI216), BI217))","v":0},null,null,1,1,1,"",null,null,{"$f":"IF(BR218=\"\", 0, BR218 - IF(BR217=\"\", LOOKUP(2, 1/(BR$17:BR216<>\"\"), BR$17:BR216), BR217))","v":0},null,null,1,1,1,"",null,null,{"$f":"IF(CA218=\"\", 0, CA218 - IF(CA217=\"\", LOOKUP(2, 1/(CA$17:CA216<>\"\"), CA$17:CA216), CA217))","v":0},null,null,1,1,1,"",null,null,{"$f":"IF(CJ218=\"\", 0, CJ218 - IF(CJ217=\"\", LOOKUP(2, 1/(CJ$17:CJ216<>\"\"), CJ$17:CJ216), CJ217))","v":0},null,null,1,1,1,"",null,null,{"$f":"IF(CS218=\"\", 0, CS218 - IF(CS217=\"\", LOOKUP(2, 1/(CS$17:CS216<>\"\"), CS$17:CS216), CS217))","v":0},null,null,1,1,1,"",null,null,{"$f":"IF(DB218=\"\", 0, DB218 - IF(DB217=\"\", LOOKUP(2, 1/(DB$17:DB216<>\"\"), DB$17:DB216), DB217))","v":0},null,null,1,1,1,"",null,null,{"$f":"IF(DK218=\"\", 0, DK218 - IF(DK217=\"\", LOOKUP(2, 1/(DK$17:DK216<>\"\"), DK$17:DK216), DK217))","v":0},null,null,1,1,1,"",null,null,{"$f":"IF(DT218=\"\", 0, DT218 - IF(DT217=\"\", LOOKUP(2, 1/(DT$17:DT216<>\"\"), DT$17:DT216), DT217))","v":0},null,null,1,1,1,"",null,null,{"$f":"IF(EC218=\"\", 0, EC218 - IF(EC217=\"\", LOOKUP(2, 1/(EC$17:EC216<>\"\"), EC$17:EC216), EC217))","v":0},null,null,1,1,1,"",null,null,{"$f":"IF(EL218=\"\", 0, EL218 - IF(EL217=\"\", LOOKUP(2, 1/(EL$17:EL216<>\"\"), EL$17:EL216), EL217))","v":0},null,null,1,1,1,"",null,null,{"$f":"IF(EU218=\"\", 0, EU218 - IF(EU217=\"\", LOOKUP(2, 1/(EU$17:EU216<>\"\"), EU$17:EU216), EU217))","v":0},null,null,1,1,1,"",null,null,{"$f":"IF(FD218=\"\", 0, FD218 - IF(FD217=\"\", LOOKUP(2, 1/(FD$17:FD216<>\"\"), FD$17:FD216), FD217))","v":0},null,null,1,1,1,"",null,null,{"$f":"IF(FM218=\"\", 0, FM218 - IF(FM217=\"\", LOOKUP(2, 1/(FM$17:FM216<>\"\"), FM$17:FM216), FM217))","v":0},null,null,1,1,1,"",null,null,{"$f":"IF(FV218=\"\", 0, FV218 - IF(FV217=\"\", LOOKUP(2, 1/(FV$17:FV216<>\"\"), FV$17:FV216), FV217))","v":0},null,null,1,1,1,"",null,null,null,null,null,1,1,1,"",null,null,null,null,null,1,1,1,"",null,null,null,null,null,1,1,1,"",null,null,null,null,null,1,1,1,"",null,null,null,null,null,1,1,1,"",null,null,null,null,null,1,1,1,"",null,null,null,null,null,1,1,1,"",null,null,{"$f":"IF(IP218=\"\", 0, IP218 - IF(IP217=\"\", LOOKUP(2, 1/(IP$17:IP216<>\"\"), IP$17:IP216), IP217))","v":0},null,null,1,1,1,"",null,null,{"$f":"IF(IY218=\"\", 0, IY218 - IF(IY217=\"\", LOOKUP(2, 1/(IY$17:IY216<>\"\"), IY$17:IY216), IY217))","v":0},null,null,1,1,1,"",null,null,{"$f":"IF(JH218=\"\", 0, JH218 - IF(JH217=\"\", LOOKUP(2, 1/(JH$17:JH216<>\"\"), JH$17:JH216), JH217))","v":0},null,null,1,1,1,"",null,null,{"$f":"IF(JQ218=\"\", 0, JQ218 - IF(JQ217=\"\", LOOKUP(2, 1/(JQ$17:JQ216<>\"\"), JQ$17:JQ216), JQ217))","v":0},null,null,1,1,1,"",null,null,{"$f":"IF(JZ218=\"\", 0, JZ218 - IF(JZ217=\"\", LOOKUP(2, 1/(JZ$17:JZ216<>\"\"), JZ$17:JZ216), JZ217))","v":0},null,null,1,1,1,"",null,null,{"$f":"IF(KI218=\"\", 0, KI218 - IF(KI217=\"\", LOOKUP(2, 1/(KI$17:KI216<>\"\"), KI$17:KI216), KI217))","v":0},null,null,1,1,1,"",null,null,{"$f":"IF(KR218=\"\", 0, KR218 - IF(KR217=\"\", LOOKUP(2, 1/(KR$17:KR216<>\"\"), KR$17:KR216), KR217))","v":0},null,null,1,1,1,"",null,null,{"$f":"IF(LA218=\"\", 0, LA218 - IF(LA217=\"\", LOOKUP(2, 1/(LA$17:LA216<>\"\"), LA$17:LA216), LA217))","v":0},null,null,1,1,1,"",null,null,{"$f":"IF(LJ218=\"\", 0, LJ218 - IF(LJ217=\"\", LOOKUP(2, 1/(LJ$17:LJ216<>\"\"), LJ$17:LJ216), LJ217))","v":0},null,null,1,1,1,"",null,null,{"$f":"IF(LS218=\"\", 0, LS218 - IF(LS217=\"\", LOOKUP(2, 1/(LS$17:LS216<>\"\"), LS$17:LS216), LS217))","v":0},null,null,1,1,1,"",null,null,{"$f":"IF(MB218=\"\", 0, MB218 - IF(MB217=\"\", LOOKUP(2, 1/(MB$17:MB216<>\"\"), MB$17:MB216), MB217))","v":0},null,null,1,1,1,"",null,null,{"$f":"IF(MK218=\"\", 0, MK218 - IF(MK217=\"\", LOOKUP(2, 1/(MK$17:MK216<>\"\"), MK$17:MK216), MK217))","v":0},null,null,1,1,1,"",null,null,{"$f":"IF(MT218=\"\", 0, MT218 - IF(MT217=\"\", LOOKUP(2, 1/(MT$17:MT216<>\"\"), MT$17:MT216), MT217))","v":0},null,null,1,"",null,null,{"$f":"IF(NA218=\"\", 0, NA218 - IF(NA217=\"\", LOOKUP(2, 1/(NA$17:NA216<>\"\"), NA$17:NA216), NA217))","v":0},null,null,1,1,1,"",null,null,{"$f":"IF(NJ218=\"\", 0, NJ218 - IF(NJ217=\"\", LOOKUP(2, 1/(NJ$17:NJ216<>\"\"), NJ$17:NJ216), NJ217))","v":0},null,null,1,1,1,"",null,null,{"$f":"IF(NS218=\"\", 0, NS218 - IF(NS217=\"\", LOOKUP(2, 1/(NS$17:NS216<>\"\"), NS$17:NS216), NS217))","v":0},null,null,1,1,1,"",null,null,{"$f":"IF(OB218=\"\", 0, OB218 - IF(OB217=\"\", LOOKUP(2, 1/(OB$17:OB216<>\"\"), OB$17:OB216), OB217))","v":0},null,null,1,1,1,"",null,null,{"$f":"IF(OK218=\"\", 0, OK218 - IF(OK217=\"\", LOOKUP(2, 1/(OK$17:OK216<>\"\"), OK$17:OK216), OK217))","v":0},null,null,1,1,1,"",null,null,{"$f":"IF(OT218=\"\", 0, OT218 - IF(OT217=\"\", LOOKUP(2, 1/(OT$17:OT216<>\"\"), OT$17:OT216), OT217))","v":0},null,null,1,1,1,"",null,null,{"$f":"IF(PC218=\"\", 0, PC218 - IF(PC217=\"\", LOOKUP(2, 1/(PC$17:PC216<>\"\"), PC$17:PC216), PC217))","v":0},null,null,1,1,1,"",null,null,{"$f":"IF(PL218=\"\", 0, PL218 - IF(PL217=\"\", LOOKUP(2, 1/(PL$17:PL216<>\"\"), PL$17:PL216), PL217))","v":0},null,null,1,1,1,"",null,null,{"$f":"IF(PU218=\"\", 0, PU218 - IF(PU217=\"\", LOOKUP(2, 1/(PU$17:PU216<>\"\"), PU$17:PU216), PU217))","v":0},null,null,1,1,1,"",null,null,{"$f":"IF(QD218=\"\", 0, QD218 - IF(QD217=\"\", LOOKUP(2, 1/(QD$17:QD216<>\"\"), QD$17:QD216), QD217))","v":0}]
[null,null,null,null,null,"---","---",null,null,null,null,null,null,null,"---","---",null,null,null,null,null,null,null,"---","---",null,null,null,null,null,null,null,"---","---",null,null,null,null,null,null,null,"---","---",null,null,null,null,null,null,null,"---","---",null,null,null,null,null,null,null,"---","---",null,null,null,null,null,null,null,"---","---",null,null,null,null,null,null,null,"---","---",null,null,null,null,null,null,null,"---","---",null,null,null,null,null,null,null,"---","---",null,null,null,null,null,null,null,"---","---",null,null,null,null,null,null,null,"---","---",null,null,null,null,null,null,null,"---","---",null,null,null,null,null,null,null,"---","---",null,null,null,null,null,null,null,"---","---",null,null,null,null,null,null,null,"---","---",null,null,null,null,null,null,null,"---","---",null,null,null,null,null,null,null,"---","---",null,null,null,null,null,null,null,"---","---",null,null,null,null,null,null,null,"---","---",null,null,null,null,null,null,null,"---","---",null,null,null,null,null,null,null,"---","---",null,null,null,null,null,null,null,"---","---",null,null,null,null,null,null,null,"---","---",null,null,null,null,null,null,null,"---","---",null,null,null,null,null,null,null,"---","---",null,null,null,null,null,null,null,"---","---",null,null,null,null,null,null,null,"---","---",null,null,null,null,null,null,null,"---","---",null,null,null,null,null,null,null,"---","---",null,null,null,null,null,null,null,"---","---",null,null,null,null,null,null,null,"---","---",null,null,null,null,null,null,null,"---","---",null,null,null,null,null,null,null,"---","---",null,null,null,null,null,null,null,"---","---",null,null,null,null,null,null,null,"---","---",null,null,null,null,null,null,null,"---","---",null,null,null,null,null,null,null,"---","---",null,null,null,null,null,null,null,"---","---",null,null,null,null,null,"---","---",null,null,null,null,null,null,null,"---","---",null,null,null,null,null,null,null,"---","---",null,null,null,null,null,null,null,"---","---",null,null,null,null,null,null,null,"---","---",null,null,null,null,null,null,null,"---","---",null,null,null,null,null,null,null,"---","---",null,null,null,null,null,null,null,"---","---",null,null,null,null,null,null,null,"---","---",null,null,null,null,null,null,null,"---","---"]
[]
[]
[]
[]
[]
[]
[]
[]
[]
[]
[]
[]
[]
[]
[]
[]
[]
[]
[]
[]
["選択範囲のアドレス: $QC$18:$QD$218"]

{"sheet":"計算ロジック説明","index":3,"n_rows":25,"n_cols":34,"rows_kept":25,"cut":false,"hidden":false,"merged":[]}
[]
[null,"計算ロジック　説明"]
[]
[null,null,1,null,"VWAP",null,null,"売買高加重平均価格",null,null,null,null,null,null,null,null,null,"取引価格と売買高数量をベースに算出されています。"]
[null,null,null,null,"（Volume Weighted Average Price）",null,null,null,null,null,null,null,null,null,null,null,null,"※","こちらはExcelで計算しておらず時価レート同様にシステム会社から"]
[null,null,null,null,null,null,null,null,null,null,null,null,null,null,null,null,null,null,"配信される値がリアルタイムで更新します。"]
[]
[null,null,2,null,"ボリンジャーバンド",null,null,null,null,null,null,null,null,null,null,null,null,"このエクセルシートでは、50日間の終値の平均値に、同じ範囲の終値の標準偏差の2倍を加えることで、"]
[null,null,null,null,"（Bollinger Bands）",null,null,null,null,null,null,null,null,null,null,null,null,"ボリンジャーバンドの上限（+2σ）下限（－2σ）を求めています。"]
[null,null,null,null,null,null,null,null,null,null,null,null,null,null,null,null,null,null,"エクセル関数式　上限例）　AVERAGE(A1:A50)+2*STDEV.S(A1:A50))"]
[null,null,null,null,null,null,null,null,null,null,null,null,null,null,null,null,null,null,"※　下限の場合は　＋２を－２にする"]
[]
[null,null,3,null,"ＳＭＡ",null,null,"単純移動平均",null,null,null,null,null,null,null,null,null,"日足のヒストリカルデータ終値から、短期・中期・長期と設定した日数の平均値を算出します。"]
[null,null,null,null,"（Simple Moving Average）",null,null,null,null,null,null,null,null,null,null,null,null,null,"短期",null,"10日分",null,null,"エクセル関数式例）　AVERAGE(A1:A10)"]
[null,null,null,null,null,null,null,null,null,null,null,null,null,null,null,null,null,null,"中期",null,"25日分",null,null,"エクセル関数式例）　AVERAGE(A1:A25)"]
[null,null,null,null,null,null,null,null,null,null,null,null,null,null,null,null,null,null,"長期",null,"200日分",null,null,"エクセル関数式例）　AVERAGE(A1:A200)"]
[null,null,null,null,null,null,null,null,null,null,null,null,null,null,null,null,null,"一般的に算出した値が"]
[null,null,null,null,null,null,null,null,null,null,null,null,null,null,null,null,null,null,null,"短期 ＞ 中期 ＞ 長期　となる場合を「上昇トレンド」"]
[null,null,null,null,null,null,null,null,null,null,null,null,null,null,null,null,null,null,null,"長期 > 中期 > 短期　となる場合を「下降トレンド」",null,null,null,null,null,null,null,null,null,null,null,null,null,"と表現します。"]
[]
[null,null,4,null,"ＲＳＩ",null,null,"相対力指数",null,null,null,null,null,null,null,null,null,"日足のヒストリカルデータ終値から、指定期間の上昇幅の平均と下落幅の平均を計算します。"]
[null,null,null,null,"（Relative Strength Index）",null,null,null,null,null,null,null,null,null,null,null,null,"対象期間を６０日としています。そして相対力を算出します。"]
[null,null,null,null,null,null,null,null,null,null,null,null,null,null,null,null,null,null,null,"RS（相対力） = 上昇幅平均 / 下落幅平均"]
[null,null,null,null,null,null,null,null,null,null,null,null,null,null,null,null,null,"最期に指数を算出します。"]
[null,null,null,null,null,null,null,null,null,null,null,null,null,null,null,null,null,null,null,"RSI（相対力指数） = 100 - (100 / (1 + RS))"]